Workbook

Sheet fichier souhaité
A1: référence | B1: date de début | C1: date de fin | D1: Paris | E1: date de début | F1: date de fin | G1: Lyon | H1: date de début | I1: date de fin | J1: Aix en Provence | K1: date de début | L1: date de fin | M1: Toulouse | N1: date de début | O1: date de fin | P1: Bordeaux | Q1: date de début | R1: date de fin | S1: Nantes | T1: date de début | U1: date de fin | V1: Rennes | W1: date de début | X1: date de fin | Y1: Lille | Z1: date de début | AA1: date de fin | AB1: Strasbourg
A2: A1 | B2: =IF(ROW()-1>COUNTIF('fichier actuel'!$B$2:$B$78,D$1),"",SMALL(IF(('fichier actuel'!$B$2:$B$78=D$1)*('fichier actuel'!$C$2:$C$78<>""),'fichier actuel'!$C$2:$C$78),ROW()-1)) -> 0 | C2: =IF(B2="","",INDEX('fichier actuel'!$D$2:$D$78,MATCH(1,('fichier actuel'!$A$2:$A$78=$A2)*('fichier actuel'!$B$2:$B$78=D$1)*('fichier actuel'!$C$2:$C$78=B2),0))) -> #N/A | D2: 92 | E2: =IF(ROW()-1>COUNTIF('fichier actuel'!$B$2:$B$78,G$1),"",SMALL(IF(('fichier actuel'!$B$2:$B$78=G$1)*('fichier actuel'!$C$2:$C$78<>""),'fichier actuel'!$C$2:$C$78),ROW()-1)) -> 0 | F2: =IF(E2="","",INDEX('fichier actuel'!$D$2:$D$78,MATCH(1,('fichier actuel'!$A$2:$A$78=$A2)*('fichier actuel'!$B$2:$B$78=G$1)*('fichier actuel'!$C$2:$C$78=E2),0))) -> #N/A | G2: 69 | H2: {=IF(ROW()-1>COUNTIF('fichier actuel'!$B$2:$B$77,J$1),"",SMALL(IF(('fichier actuel'!$B$2:$B$77=J$1)*('fichier actuel'!$C$2:$C$77<>""),'fichier actuel'!$C$2:$C$77),ROW()-1))} -> 41547 | I2: {=IF(H2="","",INDEX('fichier actuel'!$D$2:$D$77,MATCH(1,('fichier actuel'!$A$2:$A$77=$A2)*('fichier actuel'!$B$2:$B$77=J$1)*('fichier actuel'!$C$2:$C$77=H2),0)))} -> 41551 | J2: 13 | K2: {=IF(ROW()-1>COUNTIF('fichier actuel'!$B$2:$B$77,M$1),"",SMALL(IF(('fichier actuel'!$B$2:$B$77=M$1)*('fichier actuel'!$C$2:$C$77<>""),'fichier actuel'!$C$2:$C$77),ROW()-1))} | L2: {=IF(K2="","",INDEX('fichier actuel'!$D$2:$D$77,MATCH(1,('fichier actuel'!$A$2:$A$77=$A2)*('fichier actuel'!$B$2:$B$77=M$1)*('fichier actuel'!$C$2:$C$77=K2),0)))} | M2: 31 | N2: {=IF(ROW()-1>COUNTIF('fichier actuel'!$B$2:$B$77,P$1),"",SMALL(IF(('fichier actuel'!$B$2:$B$77=P$1)*('fichier actuel'!$C$2:$C$77<>""),'fichier actuel'!$C$2:$C$77),ROW()-1))} -> 41554 | O2: {=IF(N2="","",INDEX('fichier actuel'!$D$2:$D$77,MATCH(1,('fichier actuel'!$A$2:$A$77=$A2)*('fichier actuel'!$B$2:$B$77=P$1)*('fichier actuel'!$C$2:$C$77=N2),0)))} -> 41558 | P2: 33 | Q2: {=IF(ROW()-1>COUNTIF('fichier actuel'!$B$2:$B$77,S$1),"",SMALL(IF(('fichier actuel'!$B$2:$B$77=S$1)*('fichier actuel'!$C$2:$C$77<>""),'fichier actuel'!$C$2:$C$77),ROW()-1))} -> 41547 | R2: {=IF(Q2="","",INDEX('fichier actuel'!$D$2:$D$77,MATCH(1,('fichier actuel'!$A$2:$A$77=$A2)*('fichier actuel'!$B$2:$B$77=S$1)*('fichier actuel'!$C$2:$C$77=Q2),0)))} -> 41551 | S2: 44 | T2: {=IF(ROW()-1>COUNTIF('fichier actuel'!$B$2:$B$77,V$1),"",SMALL(IF(('fichier actuel'!$B$2:$B$77=V$1)*('fichier actuel'!$C$2:$C$77<>""),'fichier actuel'!$C$2:$C$77),ROW()-1))} -> 41547 | U2: {=IF(T2="","",INDEX('fichier actuel'!$D$2:$D$77,MATCH(1,('fichier actuel'!$A$2:$A$77=$A2)*('fichier actuel'!$B$2:$B$77=V$1)*('fichier actuel'!$C$2:$C$77=T2),0)))} -> 41551 | V2: 35 | W2: {=IF(ROW()-1>COUNTIF('fichier actuel'!$B$2:$B$77,Y$1),"",SMALL(IF(('fichier actuel'!$B$2:$B$77=Y$1)*('fichier actuel'!$C$2:$C$77<>""),'fichier actuel'!$C$2:$C$77),ROW()-1))} -> 41596 | X2: {=IF(W2="","",INDEX('fichier actuel'!$D$2:$D$77,MATCH(1,('fichier actuel'!$A$2:$A$77=$A2)*('fichier actuel'!$B$2:$B$77=Y$1)*('fichier actuel'!$C$2:$C$77=W2),0)))} -> 41600 | Y2: 59 | Z2: {=IF(ROW()-1>COUNTIF('fichier actuel'!$B$2:$B$77,AB$1),"",SMALL(IF(('fichier actuel'!$B$2:$B$77=AB$1)*('fichier actuel'!$C$2:$C$77<>""),'fichier actuel'!$C$2:$C$77),ROW()-1))} -> 41596 | AA2: {=IF(Z2="","",INDEX('fichier actuel'!$D$2:$D$77,MATCH(1,('fichier actuel'!$A$2:$A$77=$A2)*('fichier actuel'!$B$2:$B$77=AB$1)*('fichier actuel'!$C$2:$C$77=Z2),0)))} -> 41600 | AB2: 67
A3: A1 | B3: =IF(ROW()-1>COUNTIF('fichier actuel'!$B$2:$B$78,D$1),"",SMALL(IF(('fichier actuel'!$B$2:$B$78=D$1)*('fichier actuel'!$C$2:$C$78<>""),'fichier actuel'!$C$2:$C$78),ROW()-1)) -> #NUM! | C3: {=IF(B3="","",INDEX('fichier actuel'!$D$2:$D$77,MATCH(1,('fichier actuel'!$A$2:$A$77=$A3)*('fichier actuel'!$B$2:$B$77=D$1)*('fichier actuel'!$C$2:$C$77=B3),0)))} -> #NUM! | D3: 92 | E3: =IF(ROW()-1>COUNTIF('fichier actuel'!$B$2:$B$78,G$1),"",SMALL(IF(('fichier actuel'!$B$2:$B$78=G$1)*('fichier actuel'!$C$2:$C$78<>""),'fichier actuel'!$C$2:$C$78),ROW()-1)) -> #NUM! | F3: =IF(E3="","",INDEX('fichier actuel'!$D$2:$D$78,MATCH(1,('fichier actuel'!$A$2:$A$78=$A3)*('fichier actuel'!$B$2:$B$78=G$1)*('fichier actuel'!$C$2:$C$78=E3),0))) -> #NUM! | G3: 69 | H3: {=IF(ROW()-1>COUNTIF('fichier actuel'!$B$2:$B$77,J$1),"",SMALL(IF(('fichier actuel'!$B$2:$B$77=J$1)*('fichier actuel'!$C$2:$C$77<>""),'fichier actuel'!$C$2:$C$77),ROW()-1))} -> 41617 | I3: {=IF(H3="","",INDEX('fichier actuel'!$D$2:$D$77,MATCH(1,('fichier actuel'!$A$2:$A$77=$A3)*('fichier actuel'!$B$2:$B$77=J$1)*('fichier actuel'!$C$2:$C$77=H3),0)))} -> 41621 | J3: 13 | K3: {=IF(ROW()-1>COUNTIF('fichier actuel'!$B$2:$B$77,M$1),"",SMALL(IF(('fichier actuel'!$B$2:$B$77=M$1)*('fichier actuel'!$C$2:$C$77<>""),'fichier actuel'!$C$2:$C$77),ROW()-1))} | L3: {=IF(K3="","",INDEX('fichier actuel'!$D$2:$D$77,MATCH(1,('fichier actuel'!$A$2:$A$77=$A3)*('fichier actuel'!$B$2:$B$77=M$1)*('fichier actuel'!$C$2:$C$77=K3),0)))} | M3: 31 | N3: {=IF(ROW()-1>COUNTIF('fichier actuel'!$B$2:$B$77,P$1),"",SMALL(IF(('fichier actuel'!$B$2:$B$77=P$1)*('fichier actuel'!$C$2:$C$77<>""),'fichier actuel'!$C$2:$C$77),ROW()-1))} -> 41610 | O3: {=IF(N3="","",INDEX('fichier actuel'!$D$2:$D$77,MATCH(1,('fichier actuel'!$A$2:$A$77=$A3)*('fichier actuel'!$B$2:$B$77=P$1)*('fichier actuel'!$C$2:$C$77=N3),0)))} -> 41614 | P3: 33 | Q3: {=IF(ROW()-1>COUNTIF('fichier actuel'!$B$2:$B$77,S$1),"",SMALL(IF(('fichier actuel'!$B$2:$B$77=S$1)*('fichier actuel'!$C$2:$C$77<>""),'fichier actuel'!$C$2:$C$77),ROW()-1))} -> 41603 | R3: {=IF(Q3="","",INDEX('fichier actuel'!$D$2:$D$77,MATCH(1,('fichier actuel'!$A$2:$A$77=$A3)*('fichier actuel'!$B$2:$B$77=S$1)*('fichier actuel'!$C$2:$C$77=Q3),0)))} -> 41607 | S3: 44 | T3: {=IF(ROW()-1>COUNTIF('fichier actuel'!$B$2:$B$77,V$1),"",SMALL(IF(('fichier actuel'!$B$2:$B$77=V$1)*('fichier actuel'!$C$2:$C$77<>""),'fichier actuel'!$C$2:$C$77),ROW()-1))} -> 41603 | U3: {=IF(T3="","",INDEX('fichier actuel'!$D$2:$D$77,MATCH(1,('fichier actuel'!$A$2:$A$77=$A3)*('fichier actuel'!$B$2:$B$77=V$1)*('fichier actuel'!$C$2:$C$77=T3),0)))} -> 41607 | V3: 35 | W3: {=IF(ROW()-1>COUNTIF('fichier actuel'!$B$2:$B$77,Y$1),"",SMALL(IF(('fichier actuel'!$B$2:$B$77=Y$1)*('fichier actuel'!$C$2:$C$77<>""),'fichier actuel'!$C$2:$C$77),ROW()-1))} -> 41666 | X3: {=IF(W3="","",INDEX('fichier actuel'!$D$2:$D$77,MATCH(1,('fichier actuel'!$A$2:$A$77=$A3)*('fichier actuel'!$B$2:$B$77=Y$1)*('fichier actuel'!$C$2:$C$77=W3),0)))} -> 41670 | Y3: 59 | Z3: {=IF(ROW()-1>COUNTIF('fichier actuel'!$B$2:$B$77,AB$1),"",SMALL(IF(('fichier actuel'!$B$2:$B$77=AB$1)*('fichier actuel'!$C$2:$C$77<>""),'fichier actuel'!$C$2:$C$77),ROW()-1))} -> 41680 | AA3: {=IF(Z3="","",INDEX('fichier actuel'!$D$2:$D$77,MATCH(1,('fichier actuel'!$A$2:$A$77=$A3)*('fichier actuel'!$B$2:$B$77=AB$1)*('fichier actuel'!$C$2:$C$77=Z3),0)))} -> 41684 | AB3: 67
A4: A1 | B4: =IF(ROW()-1>COUNTIF('fichier actuel'!$B$2:$B$78,D$1),"",SMALL(IF(('fichier actuel'!$B$2:$B$78=D$1)*('fichier actuel'!$C$2:$C$78<>""),'fichier actuel'!$C$2:$C$78),ROW()-1)) -> #NUM! | C4: {=IF(B4="","",INDEX('fichier actuel'!$D$2:$D$77,MATCH(1,('fichier actuel'!$A$2:$A$77=$A4)*('fichier actuel'!$B$2:$B$77=D$1)*('fichier actuel'!$C$2:$C$77=B4),0)))} -> #NUM! | D4: 92 | E4: =IF(ROW()-1>COUNTIF('fichier actuel'!$B$2:$B$78,G$1),"",SMALL(IF(('fichier actuel'!$B$2:$B$78=G$1)*('fichier actuel'!$C$2:$C$78<>""),'fichier actuel'!$C$2:$C$78),ROW()-1)) -> #NUM! | F4: =IF(E4="","",INDEX('fichier actuel'!$D$2:$D$78,MATCH(1,('fichier actuel'!$A$2:$A$78=$A4)*('fichier actuel'!$B$2:$B$78=G$1)*('fichier actuel'!$C$2:$C$78=E4),0))) -> #NUM! | G4: 69 | H4: {=IF(ROW()-1>COUNTIF('fichier actuel'!$B$2:$B$77,J$1),"",SMALL(IF(('fichier actuel'!$B$2:$B$77=J$1)*('fichier actuel'!$C$2:$C$77<>""),'fichier actuel'!$C$2:$C$77),ROW()-1))} -> 41666 | I4: {=IF(H4="","",INDEX('fichier actuel'!$D$2:$D$77,MATCH(1,('fichier actuel'!$A$2:$A$77=$A4)*('fichier actuel'!$B$2:$B$77=J$1)*('fichier actuel'!$C$2:$C$77=H4),0)))} -> 41670 | J4: 13 | K4: {=IF(ROW()-1>COUNTIF('fichier actuel'!$B$2:$B$77,M$1),"",SMALL(IF(('fichier actuel'!$B$2:$B$77=M$1)*('fichier actuel'!$C$2:$C$77<>""),'fichier actuel'!$C$2:$C$77),ROW()-1))} | L4: {=IF(K4="","",INDEX('fichier actuel'!$D$2:$D$77,MATCH(1,('fichier actuel'!$A$2:$A$77=$A4)*('fichier actuel'!$B$2:$B$77=M$1)*('fichier actuel'!$C$2:$C$77=K4),0)))} | M4: 31 | N4: {=IF(ROW()-1>COUNTIF('fichier actuel'!$B$2:$B$77,P$1),"",SMALL(IF(('fichier actuel'!$B$2:$B$77=P$1)*('fichier actuel'!$C$2:$C$77<>""),'fichier actuel'!$C$2:$C$77),ROW()-1))} -> 41687 | O4: {=IF(N4="","",INDEX('fichier actuel'!$D$2:$D$77,MATCH(1,('fichier actuel'!$A$2:$A$77=$A4)*('fichier actuel'!$B$2:$B$77=P$1)*('fichier actuel'!$C$2:$C$77=N4),0)))} -> 41691 | P4: 33 | Q4: {=IF(ROW()-1>COUNTIF('fichier actuel'!$B$2:$B$77,S$1),"",SMALL(IF(('fichier actuel'!$B$2:$B$77=S$1)*('fichier actuel'!$C$2:$C$77<>""),'fichier actuel'!$C$2:$C$77),ROW()-1))} -> 41659 | R4: {=IF(Q4="","",INDEX('fichier actuel'!$D$2:$D$77,MATCH(1,('fichier actuel'!$A$2:$A$77=$A4)*('fichier actuel'!$B$2:$B$77=S$1)*('fichier actuel'!$C$2:$C$77=Q4),0)))} -> 41663 | S4: 44 | T4: {=IF(ROW()-1>COUNTIF('fichier actuel'!$B$2:$B$77,V$1),"",SMALL(IF(('fichier actuel'!$B$2:$B$77=V$1)*('fichier actuel'!$C$2:$C$77<>""),'fichier actuel'!$C$2:$C$77),ROW()-1))} -> 41659 | U4: {=IF(T4="","",INDEX('fichier actuel'!$D$2:$D$77,MATCH(1,('fichier actuel'!$A$2:$A$77=$A4)*('fichier actuel'!$B$2:$B$77=V$1)*('fichier actuel'!$C$2:$C$77=T4),0)))} -> 41663 | V4: 35 | W4: {=IF(ROW()-1>COUNTIF('fichier actuel'!$B$2:$B$77,Y$1),"",SMALL(IF(('fichier actuel'!$B$2:$B$77=Y$1)*('fichier actuel'!$C$2:$C$77<>""),'fichier actuel'!$C$2:$C$77),ROW()-1))} -> 41722 | X4: {=IF(W4="","",INDEX('fichier actuel'!$D$2:$D$77,MATCH(1,('fichier actuel'!$A$2:$A$77=$A4)*('fichier actuel'!$B$2:$B$77=Y$1)*('fichier actuel'!$C$2:$C$77=W4),0)))} -> 41726 | Y4: 59 | Z4: {=IF(ROW()-1>COUNTIF('fichier actuel'!$B$2:$B$77,AB$1),"",SMALL(IF(('fichier actuel'!$B$2:$B$77=AB$1)*('fichier actuel'!$C$2:$C$77<>""),'fichier actuel'!$C$2:$C$77),ROW()-1))} -> 41736 | AA4: {=IF(Z4="","",INDEX('fichier actuel'!$D$2:$D$77,MATCH(1,('fichier actuel'!$A$2:$A$77=$A4)*('fichier actuel'!$B$2:$B$77=AB$1)*('fichier actuel'!$C$2:$C$77=Z4),0)))} -> 41740 | AB4: 67
A5: A1 | B5: =IF(ROW()-1>COUNTIF('fichier actuel'!$B$2:$B$78,D$1),"",SMALL(IF(('fichier actuel'!$B$2:$B$78=D$1)*('fichier actuel'!$C$2:$C$78<>""),'fichier actuel'!$C$2:$C$78),ROW()-1)) -> #NUM! | C5: {=IF(B5="","",INDEX('fichier actuel'!$D$2:$D$77,MATCH(1,('fichier actuel'!$A$2:$A$77=$A5)*('fichier actuel'!$B$2:$B$77=D$1)*('fichier actuel'!$C$2:$C$77=B5),0)))} -> #NUM! | D5: 92 | E5: =IF(ROW()-1>COUNTIF('fichier actuel'!$B$2:$B$78,G$1),"",SMALL(IF(('fichier actuel'!$B$2:$B$78=G$1)*('fichier actuel'!$C$2:$C$78<>""),'fichier actuel'!$C$2:$C$78),ROW()-1)) -> #NUM! | F5: =IF(E5="","",INDEX('fichier actuel'!$D$2:$D$78,MATCH(1,('fichier actuel'!$A$2:$A$78=$A5)*('fichier actuel'!$B$2:$B$78=G$1)*('fichier actuel'!$C$2:$C$78=E5),0))) -> #NUM! | G5: 69 | H5: {=IF(ROW()-1>COUNTIF('fichier actuel'!$B$2:$B$77,J$1),"",SMALL(IF(('fichier actuel'!$B$2:$B$77=J$1)*('fichier actuel'!$C$2:$C$77<>""),'fichier actuel'!$C$2:$C$77),ROW()-1))} -> 41729 | I5: {=IF(H5="","",INDEX('fichier actuel'!$D$2:$D$77,MATCH(1,('fichier actuel'!$A$2:$A$77=$A5)*('fichier actuel'!$B$2:$B$77=J$1)*('fichier actuel'!$C$2:$C$77=H5),0)))} -> 41733 | J5: 13 | K5: {=IF(ROW()-1>COUNTIF('fichier actuel'!$B$2:$B$77,M$1),"",SMALL(IF(('fichier actuel'!$B$2:$B$77=M$1)*('fichier actuel'!$C$2:$C$77<>""),'fichier actuel'!$C$2:$C$77),ROW()-1))} | L5: {=IF(K5="","",INDEX('fichier actuel'!$D$2:$D$77,MATCH(1,('fichier actuel'!$A$2:$A$77=$A5)*('fichier actuel'!$B$2:$B$77=M$1)*('fichier actuel'!$C$2:$C$77=K5),0)))} | M5: 31 | N5: {=IF(ROW()-1>COUNTIF('fichier actuel'!$B$2:$B$77,P$1),"",SMALL(IF(('fichier actuel'!$B$2:$B$77=P$1)*('fichier actuel'!$C$2:$C$77<>""),'fichier actuel'!$C$2:$C$77),ROW()-1))} -> 41743 | O5: {=IF(N5="","",INDEX('fichier actuel'!$D$2:$D$77,MATCH(1,('fichier actuel'!$A$2:$A$77=$A5)*('fichier actuel'!$B$2:$B$77=P$1)*('fichier actuel'!$C$2:$C$77=N5),0)))} -> 41747 | P5: 33 | Q5: {=IF(ROW()-1>COUNTIF('fichier actuel'!$B$2:$B$77,S$1),"",SMALL(IF(('fichier actuel'!$B$2:$B$77=S$1)*('fichier actuel'!$C$2:$C$77<>""),'fichier actuel'!$C$2:$C$77),ROW()-1))} -> 41736 | R5: {=IF(Q5="","",INDEX('fichier actuel'!$D$2:$D$77,MATCH(1,('fichier actuel'!$A$2:$A$77=$A5)*('fichier actuel'!$B$2:$B$77=S$1)*('fichier actuel'!$C$2:$C$77=Q5),0)))} -> 41740 | S5: 44 | T5: {=IF(ROW()-1>COUNTIF('fichier actuel'!$B$2:$B$77,V$1),"",SMALL(IF(('fichier actuel'!$B$2:$B$77=V$1)*('fichier actuel'!$C$2:$C$77<>""),'fichier actuel'!$C$2:$C$77),ROW()-1))} -> 41736 | U5: {=IF(T5="","",INDEX('fichier actuel'!$D$2:$D$77,MATCH(1,('fichier actuel'!$A$2:$A$77=$A5)*('fichier actuel'!$B$2:$B$77=V$1)*('fichier actuel'!$C$2:$C$77=T5),0)))} -> 41740 | V5: 35 | W5: {=IF(ROW()-1>COUNTIF('fichier actuel'!$B$2:$B$77,Y$1),"",SMALL(IF(('fichier actuel'!$B$2:$B$77=Y$1)*('fichier actuel'!$C$2:$C$77<>""),'fichier actuel'!$C$2:$C$77),ROW()-1))} -> 41792 | X5: {=IF(W5="","",INDEX('fichier actuel'!$D$2:$D$77,MATCH(1,('fichier actuel'!$A$2:$A$77=$A5)*('fichier actuel'!$B$2:$B$77=Y$1)*('fichier actuel'!$C$2:$C$77=W5),0)))} -> 41796 | Y5: 59 | Z5: {=IF(ROW()-1>COUNTIF('fichier actuel'!$B$2:$B$77,AB$1),"",SMALL(IF(('fichier actuel'!$B$2:$B$77=AB$1)*('fichier actuel'!$C$2:$C$77<>""),'fichier actuel'!$C$2:$C$77),ROW()-1))} -> 41806 | AA5: {=IF(Z5="","",INDEX('fichier actuel'!$D$2:$D$77,MATCH(1,('fichier actuel'!$A$2:$A$77=$A5)*('fichier actuel'!$B$2:$B$77=AB$1)*('fichier actuel'!$C$2:$C$77=Z5),0)))} -> 41810 | AB5: 67
A6: A1 | B6: =IF(ROW()-1>COUNTIF('fichier actuel'!$B$2:$B$78,D$1),"",SMALL(IF(('fichier actuel'!$B$2:$B$78=D$1)*('fichier actuel'!$C$2:$C$78<>""),'fichier actuel'!$C$2:$C$78),ROW()-1)) -> #NUM! | C6: {=IF(B6="","",INDEX('fichier actuel'!$D$2:$D$77,MATCH(1,('fichier actuel'!$A$2:$A$77=$A6)*('fichier actuel'!$B$2:$B$77=D$1)*('fichier actuel'!$C$2:$C$77=B6),0)))} -> #NUM! | D6: 92 | E6: =IF(ROW()-1>COUNTIF('fichier actuel'!$B$2:$B$78,G$1),"",SMALL(IF(('fichier actuel'!$B$2:$B$78=G$1)*('fichier actuel'!$C$2:$C$78<>""),'fichier actuel'!$C$2:$C$78),ROW()-1)) -> #NUM! | F6: =IF(E6="","",INDEX('fichier actuel'!$D$2:$D$78,MATCH(1,('fichier actuel'!$A$2:$A$78=$A6)*('fichier actuel'!$B$2:$B$78=G$1)*('fichier actuel'!$C$2:$C$78=E6),0))) -> #NUM! | G6: 69 | H6: {=IF(ROW()-1>COUNTIF('fichier actuel'!$B$2:$B$77,J$1),"",SMALL(IF(('fichier actuel'!$B$2:$B$77=J$1)*('fichier actuel'!$C$2:$C$77<>""),'fichier actuel'!$C$2:$C$77),ROW()-1))} -> 41806 | I6: {=IF(H6="","",INDEX('fichier actuel'!$D$2:$D$77,MATCH(1,('fichier actuel'!$A$2:$A$77=$A6)*('fichier actuel'!$B$2:$B$77=J$1)*('fichier actuel'!$C$2:$C$77=H6),0)))} -> 41810 | J6: 13 | K6: {=IF(ROW()-1>COUNTIF('fichier actuel'!$B$2:$B$77,M$1),"",SMALL(IF(('fichier actuel'!$B$2:$B$77=M$1)*('fichier actuel'!$C$2:$C$77<>""),'fichier actuel'!$C$2:$C$77),ROW()-1))} | L6: {=IF(K6="","",INDEX('fichier actuel'!$D$2:$D$77,MATCH(1,('fichier actuel'!$A$2:$A$77=$A6)*('fichier actuel'!$B$2:$B$77=M$1)*('fichier actuel'!$C$2:$C$77=K6),0)))} | M6: 31 | N6: {=IF(ROW()-1>COUNTIF('fichier actuel'!$B$2:$B$77,P$1),"",SMALL(IF(('fichier actuel'!$B$2:$B$77=P$1)*('fichier actuel'!$C$2:$C$77<>""),'fichier actuel'!$C$2:$C$77),ROW()-1))} -> 41806 | O6: {=IF(N6="","",INDEX('fichier actuel'!$D$2:$D$77,MATCH(1,('fichier actuel'!$A$2:$A$77=$A6)*('fichier actuel'!$B$2:$B$77=P$1)*('fichier actuel'!$C$2:$C$77=N6),0)))} -> 41810 | P6: 33 | Q6: {=IF(ROW()-1>COUNTIF('fichier actuel'!$B$2:$B$77,S$1),"",SMALL(IF(('fichier actuel'!$B$2:$B$77=S$1)*('fichier actuel'!$C$2:$C$77<>""),'fichier actuel'!$C$2:$C$77),ROW()-1))} -> 41806 | R6: {=IF(Q6="","",INDEX('fichier actuel'!$D$2:$D$77,MATCH(1,('fichier actuel'!$A$2:$A$77=$A6)*('fichier actuel'!$B$2:$B$77=S$1)*('fichier actuel'!$C$2:$C$77=Q6),0)))} -> 41810 | S6: 44 | T6: {=IF(ROW()-1>COUNTIF('fichier actuel'!$B$2:$B$77,V$1),"",SMALL(IF(('fichier actuel'!$B$2:$B$77=V$1)*('fichier actuel'!$C$2:$C$77<>""),'fichier actuel'!$C$2:$C$77),ROW()-1))} -> 41806 | U6: {=IF(T6="","",INDEX('fichier actuel'!$D$2:$D$77,MATCH(1,('fichier actuel'!$A$2:$A$77=$A6)*('fichier actuel'!$B$2:$B$77=V$1)*('fichier actuel'!$C$2:$C$77=T6),0)))} -> 41810 | V6: 35 | W6: {=IF(ROW()-1>COUNTIF('fichier actuel'!$B$2:$B$77,Y$1),"",SMALL(IF(('fichier actuel'!$B$2:$B$77=Y$1)*('fichier actuel'!$C$2:$C$77<>""),'fichier actuel'!$C$2:$C$77),ROW()-1))} -> 41904 | X6: {=IF(W6="","",INDEX('fichier actuel'!$D$2:$D$77,MATCH(1,('fichier actuel'!$A$2:$A$77=$A6)*('fichier actuel'!$B$2:$B$77=Y$1)*('fichier actuel'!$C$2:$C$77=W6),0)))} -> 41908 | Y6: 59 | Z6: {=IF(ROW()-1>COUNTIF('fichier actuel'!$B$2:$B$77,AB$1),"",SMALL(IF(('fichier actuel'!$B$2:$B$77=AB$1)*('fichier actuel'!$C$2:$C$77<>""),'fichier actuel'!$C$2:$C$77),ROW()-1))} -> 41918 | AA6: {=IF(Z6="","",INDEX('fichier actuel'!$D$2:$D$77,MATCH(1,('fichier actuel'!$A$2:$A$77=$A6)*('fichier actuel'!$B$2:$B$77=AB$1)*('fichier actuel'!$C$2:$C$77=Z6),0)))} -> 41922 | AB6: 67
A7: A1 | B7: =IF(ROW()-1>COUNTIF('fichier actuel'!$B$2:$B$78,D$1),"",SMALL(IF(('fichier actuel'!$B$2:$B$78=D$1)*('fichier actuel'!$C$2:$C$78<>""),'fichier actuel'!$C$2:$C$78),ROW()-1)) -> #NUM! | C7: {=IF(B7="","",INDEX('fichier actuel'!$D$2:$D$77,MATCH(1,('fichier actuel'!$A$2:$A$77=$A7)*('fichier actuel'!$B$2:$B$77=D$1)*('fichier actuel'!$C$2:$C$77=B7),0)))} -> #NUM! | D7: 92 | E7: =IF(ROW()-1>COUNTIF('fichier actuel'!$B$2:$B$78,G$1),"",SMALL(IF(('fichier actuel'!$B$2:$B$78=G$1)*('fichier actuel'!$C$2:$C$78<>""),'fichier actuel'!$C$2:$C$78),ROW()-1)) -> #NUM! | F7: =IF(E7="","",INDEX('fichier actuel'!$D$2:$D$78,MATCH(1,('fichier actuel'!$A$2:$A$78=$A7)*('fichier actuel'!$B$2:$B$78=G$1)*('fichier actuel'!$C$2:$C$78=E7),0))) -> #NUM! | G7: 69 | H7: {=IF(ROW()-1>COUNTIF('fichier actuel'!$B$2:$B$77,J$1),"",SMALL(IF(('fichier actuel'!$B$2:$B$77=J$1)*('fichier actuel'!$C$2:$C$77<>""),'fichier actuel'!$C$2:$C$77),ROW()-1))} -> 41890 | I7: {=IF(H7="","",INDEX('fichier actuel'!$D$2:$D$77,MATCH(1,('fichier actuel'!$A$2:$A$77=$A7)*('fichier actuel'!$B$2:$B$77=J$1)*('fichier actuel'!$C$2:$C$77=H7),0)))} -> 41894 | J7: 13 | K7: {=IF(ROW()-1>COUNTIF('fichier actuel'!$B$2:$B$77,M$1),"",SMALL(IF(('fichier actuel'!$B$2:$B$77=M$1)*('fichier actuel'!$C$2:$C$77<>""),'fichier actuel'!$C$2:$C$77),ROW()-1))} | L7: {=IF(K7="","",INDEX('fichier actuel'!$D$2:$D$77,MATCH(1,('fichier actuel'!$A$2:$A$77=$A7)*('fichier actuel'!$B$2:$B$77=M$1)*('fichier actuel'!$C$2:$C$77=K7),0)))} | M7: 31 | N7: {=IF(ROW()-1>COUNTIF('fichier actuel'!$B$2:$B$77,P$1),"",SMALL(IF(('fichier actuel'!$B$2:$B$77=P$1)*('fichier actuel'!$C$2:$C$77<>""),'fichier actuel'!$C$2:$C$77),ROW()-1))} -> 41904 | O7: {=IF(N7="","",INDEX('fichier actuel'!$D$2:$D$77,MATCH(1,('fichier actuel'!$A$2:$A$77=$A7)*('fichier actuel'!$B$2:$B$77=P$1)*('fichier actuel'!$C$2:$C$77=N7),0)))} -> 41908 | P7: 33 | Q7: {=IF(ROW()-1>COUNTIF('fichier actuel'!$B$2:$B$77,S$1),"",SMALL(IF(('fichier actuel'!$B$2:$B$77=S$1)*('fichier actuel'!$C$2:$C$77<>""),'fichier actuel'!$C$2:$C$77),ROW()-1))} -> 41925 | R7: {=IF(Q7="","",INDEX('fichier actuel'!$D$2:$D$77,MATCH(1,('fichier actuel'!$A$2:$A$77=$A7)*('fichier actuel'!$B$2:$B$77=S$1)*('fichier actuel'!$C$2:$C$77=Q7),0)))} -> 41929 | S7: 44 | T7: {=IF(ROW()-1>COUNTIF('fichier actuel'!$B$2:$B$77,V$1),"",SMALL(IF(('fichier actuel'!$B$2:$B$77=V$1)*('fichier actuel'!$C$2:$C$77<>""),'fichier actuel'!$C$2:$C$77),ROW()-1))} -> 41925 | U7: {=IF(T7="","",INDEX('fichier actuel'!$D$2:$D$77,MATCH(1,('fichier actuel'!$A$2:$A$77=$A7)*('fichier actuel'!$B$2:$B$77=V$1)*('fichier actuel'!$C$2:$C$77=T7),0)))} -> 41929 | V7: 35 | W7: {=IF(ROW()-1>COUNTIF('fichier actuel'!$B$2:$B$77,Y$1),"",SMALL(IF(('fichier actuel'!$B$2:$B$77=Y$1)*('fichier actuel'!$C$2:$C$77<>""),'fichier actuel'!$C$2:$C$77),ROW()-1))} -> 41967 | X7: {=IF(W7="","",INDEX('fichier actuel'!$D$2:$D$77,MATCH(1,('fichier actuel'!$A$2:$A$77=$A7)*('fichier actuel'!$B$2:$B$77=Y$1)*('fichier actuel'!$C$2:$C$77=W7),0)))} -> 41971 | Y7: 59 | Z7: {=IF(ROW()-1>COUNTIF('fichier actuel'!$B$2:$B$77,AB$1),"",SMALL(IF(('fichier actuel'!$B$2:$B$77=AB$1)*('fichier actuel'!$C$2:$C$77<>""),'fichier actuel'!$C$2:$C$77),ROW()-1))} -> 41981 | AA7: {=IF(Z7="","",INDEX('fichier actuel'!$D$2:$D$77,MATCH(1,('fichier actuel'!$A$2:$A$77=$A7)*('fichier actuel'!$B$2:$B$77=AB$1)*('fichier actuel'!$C$2:$C$77=Z7),0)))} -> 41985 | AB7: 67
A8: A1 | B8: =IF(ROW()-1>COUNTIF('fichier actuel'!$B$2:$B$78,D$1),"",SMALL(IF(('fichier actuel'!$B$2:$B$78=D$1)*('fichier actuel'!$C$2:$C$78<>""),'fichier actuel'!$C$2:$C$78),ROW()-1)) -> #NUM! | C8: {=IF(B8="","",INDEX('fichier actuel'!$D$2:$D$77,MATCH(1,('fichier actuel'!$A$2:$A$77=$A8)*('fichier actuel'!$B$2:$B$77=D$1)*('fichier actuel'!$C$2:$C$77=B8),0)))} -> #NUM! | D8: 92 | E8: =IF(ROW()-1>COUNTIF('fichier actuel'!$B$2:$B$78,G$1),"",SMALL(IF(('fichier actuel'!$B$2:$B$78=G$1)*('fichier actuel'!$C$2:$C$78<>""),'fichier actuel'!$C$2:$C$78),ROW()-1)) -> #NUM! | F8: =IF(E8="","",INDEX('fichier actuel'!$D$2:$D$78,MATCH(1,('fichier actuel'!$A$2:$A$78=$A8)*('fichier actuel'!$B$2:$B$78=G$1)*('fichier actuel'!$C$2:$C$78=E8),0))) -> #NUM! | G8: 69 | H8: {=IF(ROW()-1>COUNTIF('fichier actuel'!$B$2:$B$77,J$1),"",SMALL(IF(('fichier actuel'!$B$2:$B$77=J$1)*('fichier actuel'!$C$2:$C$77<>""),'fichier actuel'!$C$2:$C$77),ROW()-1))} -> 41939 | I8: {=IF(H8="","",INDEX('fichier actuel'!$D$2:$D$77,MATCH(1,('fichier actuel'!$A$2:$A$77=$A8)*('fichier actuel'!$B$2:$B$77=J$1)*('fichier actuel'!$C$2:$C$77=H8),0)))} -> 41943 | J8: 13 | K8: {=IF(ROW()-1>COUNTIF('fichier actuel'!$B$2:$B$77,M$1),"",SMALL(IF(('fichier actuel'!$B$2:$B$77=M$1)*('fichier actuel'!$C$2:$C$77<>""),'fichier actuel'!$C$2:$C$77),ROW()-1))} | L8: {=IF(K8="","",INDEX('fichier actuel'!$D$2:$D$77,MATCH(1,('fichier actuel'!$A$2:$A$77=$A8)*('fichier actuel'!$B$2:$B$77=M$1)*('fichier actuel'!$C$2:$C$77=K8),0)))} | M8: 31 | N8: {=IF(ROW()-1>COUNTIF('fichier actuel'!$B$2:$B$77,P$1),"",SMALL(IF(('fichier actuel'!$B$2:$B$77=P$1)*('fichier actuel'!$C$2:$C$77<>""),'fichier actuel'!$C$2:$C$77),ROW()-1))} -> 41960 | O8: {=IF(N8="","",INDEX('fichier actuel'!$D$2:$D$77,MATCH(1,('fichier actuel'!$A$2:$A$77=$A8)*('fichier actuel'!$B$2:$B$77=P$1)*('fichier actuel'!$C$2:$C$77=N8),0)))} -> 41964 | P8: 33 | Q8: {=IF(ROW()-1>COUNTIF('fichier actuel'!$B$2:$B$77,S$1),"",SMALL(IF(('fichier actuel'!$B$2:$B$77=S$1)*('fichier actuel'!$C$2:$C$77<>""),'fichier actuel'!$C$2:$C$77),ROW()-1))} -> 41974 | R8: {=IF(Q8="","",INDEX('fichier actuel'!$D$2:$D$77,MATCH(1,('fichier actuel'!$A$2:$A$77=$A8)*('fichier actuel'!$B$2:$B$77=S$1)*('fichier actuel'!$C$2:$C$77=Q8),0)))} -> 41978 | S8: 44 | T8: {=IF(ROW()-1>COUNTIF('fichier actuel'!$B$2:$B$77,V$1),"",SMALL(IF(('fichier actuel'!$B$2:$B$77=V$1)*('fichier actuel'!$C$2:$C$77<>""),'fichier actuel'!$C$2:$C$77),ROW()-1))} -> 41974 | U8: {=IF(T8="","",INDEX('fichier actuel'!$D$2:$D$77,MATCH(1,('fichier actuel'!$A$2:$A$77=$A8)*('fichier actuel'!$B$2:$B$77=V$1)*('fichier actuel'!$C$2:$C$77=T8),0)))} -> 41978 | V8: 35 | W8: {=IF(ROW()-1>COUNTIF('fichier actuel'!$B$2:$B$77,Y$1),"",SMALL(IF(('fichier actuel'!$B$2:$B$77=Y$1)*('fichier actuel'!$C$2:$C$77<>""),'fichier actuel'!$C$2:$C$77),ROW()-1))} | X8: {=IF(W8="","",INDEX('fichier actuel'!$D$2:$D$77,MATCH(1,('fichier actuel'!$A$2:$A$77=$A8)*('fichier actuel'!$B$2:$B$77=Y$1)*('fichier actuel'!$C$2:$C$77=W8),0)))} | Y8: 59 | Z8: {=IF(ROW()-1>COUNTIF('fichier actuel'!$B$2:$B$77,AB$1),"",SMALL(IF(('fichier actuel'!$B$2:$B$77=AB$1)*('fichier actuel'!$C$2:$C$77<>""),'fichier actuel'!$C$2:$C$77),ROW()-1))} | AA8: {=IF(Z8="","",INDEX('fichier actuel'!$D$2:$D$77,MATCH(1,('fichier actuel'!$A$2:$A$77=$A8)*('fichier actuel'!$B$2:$B$77=AB$1)*('fichier actuel'!$C$2:$C$77=Z8),0)))} | AB8: 67
A9: A1 | B9: =IF(ROW()-1>COUNTIF('fichier actuel'!$B$2:$B$78,D$1),"",SMALL(IF(('fichier actuel'!$B$2:$B$78=D$1)*('fichier actuel'!$C$2:$C$78<>""),'fichier actuel'!$C$2:$C$78),ROW()-1)) -> #NUM! | C9: {=IF(B9="","",INDEX('fichier actuel'!$D$2:$D$77,MATCH(1,('fichier actuel'!$A$2:$A$77=$A9)*('fichier actuel'!$B$2:$B$77=D$1)*('fichier actuel'!$C$2:$C$77=B9),0)))} -> #NUM! | D9: 92 | E9: =IF(ROW()-1>COUNTIF('fichier actuel'!$B$2:$B$78,G$1),"",SMALL(IF(('fichier actuel'!$B$2:$B$78=G$1)*('fichier actuel'!$C$2:$C$78<>""),'fichier actuel'!$C$2:$C$78),ROW()-1)) -> #NUM! | F9: =IF(E9="","",INDEX('fichier actuel'!$D$2:$D$78,MATCH(1,('fichier actuel'!$A$2:$A$78=$A9)*('fichier actuel'!$B$2:$B$78=G$1)*('fichier actuel'!$C$2:$C$78=E9),0))) -> #NUM! | G9: 69 | H9: {=IF(ROW()-1>COUNTIF('fichier actuel'!$B$2:$B$77,J$1),"",SMALL(IF(('fichier actuel'!$B$2:$B$77=J$1)*('fichier actuel'!$C$2:$C$77<>""),'fichier actuel'!$C$2:$C$77),ROW()-1))} | I9: {=IF(H9="","",INDEX('fichier actuel'!$D$2:$D$77,MATCH(1,('fichier actuel'!$A$2:$A$77=$A9)*('fichier actuel'!$B$2:$B$77=J$1)*('fichier actuel'!$C$2:$C$77=H9),0)))} | J9: 13 | K9: {=IF(ROW()-1>COUNTIF('fichier actuel'!$B$2:$B$77,M$1),"",SMALL(IF(('fichier actuel'!$B$2:$B$77=M$1)*('fichier actuel'!$C$2:$C$77<>""),'fichier actuel'!$C$2:$C$77),ROW()-1))} | L9: {=IF(K9="","",INDEX('fichier actuel'!$D$2:$D$77,MATCH(1,('fichier actuel'!$A$2:$A$77=$A9)*('fichier actuel'!$B$2:$B$77=M$1)*('fichier actuel'!$C$2:$C$77=K9),0)))} | M9: 31 | N9: {=IF(ROW()-1>COUNTIF('fichier actuel'!$B$2:$B$77,P$1),"",SMALL(IF(('fichier actuel'!$B$2:$B$77=P$1)*('fichier actuel'!$C$2:$C$77<>""),'fichier actuel'!$C$2:$C$77),ROW()-1))} | O9: {=IF(N9="","",INDEX('fichier actuel'!$D$2:$D$77,MATCH(1,('fichier actuel'!$A$2:$A$77=$A9)*('fichier actuel'!$B$2:$B$77=P$1)*('fichier actuel'!$C$2:$C$77=N9),0)))} | P9: 33 | Q9: {=IF(ROW()-1>COUNTIF('fichier actuel'!$B$2:$B$77,S$1),"",SMALL(IF(('fichier actuel'!$B$2:$B$77=S$1)*('fichier actuel'!$C$2:$C$77<>""),'fichier actuel'!$C$2:$C$77),ROW()-1))} | R9: {=IF(Q9="","",INDEX('fichier actuel'!$D$2:$D$77,MATCH(1,('fichier actuel'!$A$2:$A$77=$A9)*('fichier actuel'!$B$2:$B$77=S$1)*('fichier actuel'!$C$2:$C$77=Q9),0)))} | S9: 44 | T9: {=IF(ROW()-1>COUNTIF('fichier actuel'!$B$2:$B$77,V$1),"",SMALL(IF(('fichier actuel'!$B$2:$B$77=V$1)*('fichier actuel'!$C$2:$C$77<>""),'fichier actuel'!$C$2:$C$77),ROW()-1))} | U9: {=IF(T9="","",INDEX('fichier actuel'!$D$2:$D$77,MATCH(1,('fichier actuel'!$A$2:$A$77=$A9)*('fichier actuel'!$B$2:$B$77=V$1)*('fichier actuel'!$C$2:$C$77=T9),0)))} | V9: 35 | W9: {=IF(ROW()-1>COUNTIF('fichier actuel'!$B$2:$B$77,Y$1),"",SMALL(IF(('fichier actuel'!$B$2:$B$77=Y$1)*('fichier actuel'!$C$2:$C$77<>""),'fichier actuel'!$C$2:$C$77),ROW()-1))} | X9: {=IF(W9="","",INDEX('fichier actuel'!$D$2:$D$77,MATCH(1,('fichier actuel'!$A$2:$A$77=$A9)*('fichier actuel'!$B$2:$B$77=Y$1)*('fichier actuel'!$C$2:$C$77=W9),0)))} | Y9: 59 | Z9: {=IF(ROW()-1>COUNTIF('fichier actuel'!$B$2:$B$77,AB$1),"",SMALL(IF(('fichier actuel'!$B$2:$B$77=AB$1)*('fichier actuel'!$C$2:$C$77<>""),'fichier actuel'!$C$2:$C$77),ROW()-1))} | AA9: {=IF(Z9="","",INDEX('fichier actuel'!$D$2:$D$77,MATCH(1,('fichier actuel'!$A$2:$A$77=$A9)*('fichier actuel'!$B$2:$B$77=AB$1)*('fichier actuel'!$C$2:$C$77=Z9),0)))} | AB9: 67
A10: A1 | B10: =IF(ROW()-1>COUNTIF('fichier actuel'!$B$2:$B$78,D$1),"",SMALL(IF(('fichier actuel'!$B$2:$B$78=D$1)*('fichier actuel'!$C$2:$C$78<>""),'fichier actuel'!$C$2:$C$78),ROW()-1)) -> #NUM! | C10: {=IF(B10="","",INDEX('fichier actuel'!$D$2:$D$77,MATCH(1,('fichier actuel'!$A$2:$A$77=$A10)*('fichier actuel'!$B$2:$B$77=D$1)*('fichier actuel'!$C$2:$C$77=B10),0)))} -> #NUM! | D10: 92 | E10: =IF(ROW()-1>COUNTIF('fichier actuel'!$B$2:$B$78,G$1),"",SMALL(IF(('fichier actuel'!$B$2:$B$78=G$1)*('fichier actuel'!$C$2:$C$78<>""),'fichier actuel'!$C$2:$C$78),ROW()-1)) -> #NUM! | F10: =IF(E10="","",INDEX('fichier actuel'!$D$2:$D$78,MATCH(1,('fichier actuel'!$A$2:$A$78=$A10)*('fichier actuel'!$B$2:$B$78=G$1)*('fichier actuel'!$C$2:$C$78=E10),0))) -> #NUM! | G10: 69 | H10: {=IF(ROW()-1>COUNTIF('fichier actuel'!$B$2:$B$77,J$1),"",SMALL(IF(('fichier actuel'!$B$2:$B$77=J$1)*('fichier actuel'!$C$2:$C$77<>""),'fichier actuel'!$C$2:$C$77),ROW()-1))} | I10: {=IF(H10="","",INDEX('fichier actuel'!$D$2:$D$77,MATCH(1,('fichier actuel'!$A$2:$A$77=$A10)*('fichier actuel'!$B$2:$B$77=J$1)*('fichier actuel'!$C$2:$C$77=H10),0)))} | J10: 13 | K10: {=IF(ROW()-1>COUNTIF('fichier actuel'!$B$2:$B$77,M$1),"",SMALL(IF(('fichier actuel'!$B$2:$B$77=M$1)*('fichier actuel'!$C$2:$C$77<>""),'fichier actuel'!$C$2:$C$77),ROW()-1))} | L10: {=IF(K10="","",INDEX('fichier actuel'!$D$2:$D$77,MATCH(1,('fichier actuel'!$A$2:$A$77=$A10)*('fichier actuel'!$B$2:$B$77=M$1)*('fichier actuel'!$C$2:$C$77=K10),0)))} | M10: 31 | N10: {=IF(ROW()-1>COUNTIF('fichier actuel'!$B$2:$B$77,P$1),"",SMALL(IF(('fichier actuel'!$B$2:$B$77=P$1)*('fichier actuel'!$C$2:$C$77<>""),'fichier actuel'!$C$2:$C$77),ROW()-1))} | O10: {=IF(N10="","",INDEX('fichier actuel'!$D$2:$D$77,MATCH(1,('fichier actuel'!$A$2:$A$77=$A10)*('fichier actuel'!$B$2:$B$77=P$1)*('fichier actuel'!$C$2:$C$77=N10),0)))} | P10: 33 | Q10: {=IF(ROW()-1>COUNTIF('fichier actuel'!$B$2:$B$77,S$1),"",SMALL(IF(('fichier actuel'!$B$2:$B$77=S$1)*('fichier actuel'!$C$2:$C$77<>""),'fichier actuel'!$C$2:$C$77),ROW()-1))} | R10: {=IF(Q10="","",INDEX('fichier actuel'!$D$2:$D$77,MATCH(1,('fichier actuel'!$A$2:$A$77=$A10)*('fichier actuel'!$B$2:$B$77=S$1)*('fichier actuel'!$C$2:$C$77=Q10),0)))} | S10: 44 | T10: {=IF(ROW()-1>COUNTIF('fichier actuel'!$B$2:$B$77,V$1),"",SMALL(IF(('fichier actuel'!$B$2:$B$77=V$1)*('fichier actuel'!$C$2:$C$77<>""),'fichier actuel'!$C$2:$C$77),ROW()-1))} | U10: {=IF(T10="","",INDEX('fichier actuel'!$D$2:$D$77,MATCH(1,('fichier actuel'!$A$2:$A$77=$A10)*('fichier actuel'!$B$2:$B$77=V$1)*('fichier actuel'!$C$2:$C$77=T10),0)))} | V10: 35 | W10: {=IF(ROW()-1>COUNTIF('fichier actuel'!$B$2:$B$77,Y$1),"",SMALL(IF(('fichier actuel'!$B$2:$B$77=Y$1)*('fichier actuel'!$C$2:$C$77<>""),'fichier actuel'!$C$2:$C$77),ROW()-1))} | X10: {=IF(W10="","",INDEX('fichier actuel'!$D$2:$D$77,MATCH(1,('fichier actuel'!$A$2:$A$77=$A10)*('fichier actuel'!$B$2:$B$77=Y$1)*('fichier actuel'!$C$2:$C$77=W10),0)))} | Y10: 59 | Z10: {=IF(ROW()-1>COUNTIF('fichier actuel'!$B$2:$B$77,AB$1),"",SMALL(IF(('fichier actuel'!$B$2:$B$77=AB$1)*('fichier actuel'!$C$2:$C$77<>""),'fichier actuel'!$C$2:$C$77),ROW()-1))} | AA10: {=IF(Z10="","",INDEX('fichier actuel'!$D$2:$D$77,MATCH(1,('fichier actuel'!$A$2:$A$77=$A10)*('fichier actuel'!$B$2:$B$77=AB$1)*('fichier actuel'!$C$2:$C$77=Z10),0)))} | AB10: 67
A11: A1 | B11: =IF(ROW()-1>COUNTIF('fichier actuel'!$B$2:$B$78,D$1),"",SMALL(IF(('fichier actuel'!$B$2:$B$78=D$1)*('fichier actuel'!$C$2:$C$78<>""),'fichier actuel'!$C$2:$C$78),ROW()-1)) -> #NUM! | C11: {=IF(B11="","",INDEX('fichier actuel'!$D$2:$D$77,MATCH(1,('fichier actuel'!$A$2:$A$77=$A11)*('fichier actuel'!$B$2:$B$77=D$1)*('fichier actuel'!$C$2:$C$77=B11),0)))} -> #NUM! | D11: 92 | E11: =IF(ROW()-1>COUNTIF('fichier actuel'!$B$2:$B$78,G$1),"",SMALL(IF(('fichier actuel'!$B$2:$B$78=G$1)*('fichier actuel'!$C$2:$C$78<>""),'fichier actuel'!$C$2:$C$78),ROW()-1)) | F11: =IF(E11="","",INDEX('fichier actuel'!$D$2:$D$78,MATCH(1,('fichier actuel'!$A$2:$A$78=$A11)*('fichier actuel'!$B$2:$B$78=G$1)*('fichier actuel'!$C$2:$C$78=E11),0))) | G11: 69 | H11: {=IF(ROW()-1>COUNTIF('fichier actuel'!$B$2:$B$77,J$1),"",SMALL(IF(('fichier actuel'!$B$2:$B$77=J$1)*('fichier actuel'!$C$2:$C$77<>""),'fichier actuel'!$C$2:$C$77),ROW()-1))} | I11: {=IF(H11="","",INDEX('fichier actuel'!$D$2:$D$77,MATCH(1,('fichier actuel'!$A$2:$A$77=$A11)*('fichier actuel'!$B$2:$B$77=J$1)*('fichier actuel'!$C$2:$C$77=H11),0)))} | J11: 13 | K11: {=IF(ROW()-1>COUNTIF('fichier actuel'!$B$2:$B$77,M$1),"",SMALL(IF(('fichier actuel'!$B$2:$B$77=M$1)*('fichier actuel'!$C$2:$C$77<>""),'fichier actuel'!$C$2:$C$77),ROW()-1))} | L11: {=IF(K11="","",INDEX('fichier actuel'!$D$2:$D$77,MATCH(1,('fichier actuel'!$A$2:$A$77=$A11)*('fichier actuel'!$B$2:$B$77=M$1)*('fichier actuel'!$C$2:$C$77=K11),0)))} | M11: 31 | N11: {=IF(ROW()-1>COUNTIF('fichier actuel'!$B$2:$B$77,P$1),"",SMALL(IF(('fichier actuel'!$B$2:$B$77=P$1)*('fichier actuel'!$C$2:$C$77<>""),'fichier actuel'!$C$2:$C$77),ROW()-1))} | O11: {=IF(N11="","",INDEX('fichier actuel'!$D$2:$D$77,MATCH(1,('fichier actuel'!$A$2:$A$77=$A11)*('fichier actuel'!$B$2:$B$77=P$1)*('fichier actuel'!$C$2:$C$77=N11),0)))} | P11: 33 | Q11: {=IF(ROW()-1>COUNTIF('fichier actuel'!$B$2:$B$77,S$1),"",SMALL(IF(('fichier actuel'!$B$2:$B$77=S$1)*('fichier actuel'!$C$2:$C$77<>""),'fichier actuel'!$C$2:$C$77),ROW()-1))} | R11: {=IF(Q11="","",INDEX('fichier actuel'!$D$2:$D$77,MATCH(1,('fichier actuel'!$A$2:$A$77=$A11)*('fichier actuel'!$B$2:$B$77=S$1)*('fichier actuel'!$C$2:$C$77=Q11),0)))} | S11: 44 | T11: {=IF(ROW()-1>COUNTIF('fichier actuel'!$B$2:$B$77,V$1),"",SMALL(IF(('fichier actuel'!$B$2:$B$77=V$1)*('fichier actuel'!$C$2:$C$77<>""),'fichier actuel'!$C$2:$C$77),ROW()-1))} | U11: {=IF(T11="","",INDEX('fichier actuel'!$D$2:$D$77,MATCH(1,('fichier actuel'!$A$2:$A$77=$A11)*('fichier actuel'!$B$2:$B$77=V$1)*('fichier actuel'!$C$2:$C$77=T11),0)))} | V11: 35 | W11: {=IF(ROW()-1>COUNTIF('fichier actuel'!$B$2:$B$77,Y$1),"",SMALL(IF(('fichier actuel'!$B$2:$B$77=Y$1)*('fichier actuel'!$C$2:$C$77<>""),'fichier actuel'!$C$2:$C$77),ROW()-1))} | X11: {=IF(W11="","",INDEX('fichier actuel'!$D$2:$D$77,MATCH(1,('fichier actuel'!$A$2:$A$77=$A11)*('fichier actuel'!$B$2:$B$77=Y$1)*('fichier actuel'!$C$2:$C$77=W11),0)))} | Y11: 59 | Z11: {=IF(ROW()-1>COUNTIF('fichier actuel'!$B$2:$B$77,AB$1),"",SMALL(IF(('fichier actuel'!$B$2:$B$77=AB$1)*('fichier actuel'!$C$2:$C$77<>""),'fichier actuel'!$C$2:$C$77),ROW()-1))} | AA11: {=IF(Z11="","",INDEX('fichier actuel'!$D$2:$D$77,MATCH(1,('fichier actuel'!$A$2:$A$77=$A11)*('fichier actuel'!$B$2:$B$77=AB$1)*('fichier actuel'!$C$2:$C$77=Z11),0)))} | AB11: 67
A12: A1 | B12: =IF(ROW()-1>COUNTIF('fichier actuel'!$B$2:$B$78,D$1),"",SMALL(IF(('fichier actuel'!$B$2:$B$78=D$1)*('fichier actuel'!$C$2:$C$78<>""),'fichier actuel'!$C$2:$C$78),ROW()-1)) -> #NUM! | C12: {=IF(B12="","",INDEX('fichier actuel'!$D$2:$D$77,MATCH(1,('fichier actuel'!$A$2:$A$77=$A12)*('fichier actuel'!$B$2:$B$77=D$1)*('fichier actuel'!$C$2:$C$77=B12),0)))} -> #NUM! | D12: 92 | E12: =IF(ROW()-1>COUNTIF('fichier actuel'!$B$2:$B$78,G$1),"",SMALL(IF(('fichier actuel'!$B$2:$B$78=G$1)*('fichier actuel'!$C$2:$C$78<>""),'fichier actuel'!$C$2:$C$78),ROW()-1)) | F12: =IF(E12="","",INDEX('fichier actuel'!$D$2:$D$78,MATCH(1,('fichier actuel'!$A$2:$A$78=$A12)*('fichier actuel'!$B$2:$B$78=G$1)*('fichier actuel'!$C$2:$C$78=E12),0))) | G12: 69 | H12: {=IF(ROW()-1>COUNTIF('fichier actuel'!$B$2:$B$77,J$1),"",SMALL(IF(('fichier actuel'!$B$2:$B$77=J$1)*('fichier actuel'!$C$2:$C$77<>""),'fichier actuel'!$C$2:$C$77),ROW()-1))} | I12: {=IF(H12="","",INDEX('fichier actuel'!$D$2:$D$77,MATCH(1,('fichier actuel'!$A$2:$A$77=$A12)*('fichier actuel'!$B$2:$B$77=J$1)*('fichier actuel'!$C$2:$C$77=H12),0)))} | J12: 13 | K12: {=IF(ROW()-1>COUNTIF('fichier actuel'!$B$2:$B$77,M$1),"",SMALL(IF(('fichier actuel'!$B$2:$B$77=M$1)*('fichier actuel'!$C$2:$C$77<>""),'fichier actuel'!$C$2:$C$77),ROW()-1))} | L12: {=IF(K12="","",INDEX('fichier actuel'!$D$2:$D$77,MATCH(1,('fichier actuel'!$A$2:$A$77=$A12)*('fichier actuel'!$B$2:$B$77=M$1)*('fichier actuel'!$C$2:$C$77=K12),0)))} | M12: 31 | N12: {=IF(ROW()-1>COUNTIF('fichier actuel'!$B$2:$B$77,P$1),"",SMALL(IF(('fichier actuel'!$B$2:$B$77=P$1)*('fichier actuel'!$C$2:$C$77<>""),'fichier actuel'!$C$2:$C$77),ROW()-1))} | O12: {=IF(N12="","",INDEX('fichier actuel'!$D$2:$D$77,MATCH(1,('fichier actuel'!$A$2:$A$77=$A12)*('fichier actuel'!$B$2:$B$77=P$1)*('fichier actuel'!$C$2:$C$77=N12),0)))} | P12: 33 | Q12: {=IF(ROW()-1>COUNTIF('fichier actuel'!$B$2:$B$77,S$1),"",SMALL(IF(('fichier actuel'!$B$2:$B$77=S$1)*('fichier actuel'!$C$2:$C$77<>""),'fichier actuel'!$C$2:$C$77),ROW()-1))} | R12: {=IF(Q12="","",INDEX('fichier actuel'!$D$2:$D$77,MATCH(1,('fichier actuel'!$A$2:$A$77=$A12)*('fichier actuel'!$B$2:$B$77=S$1)*('fichier actuel'!$C$2:$C$77=Q12),0)))} | S12: 44 | T12: {=IF(ROW()-1>COUNTIF('fichier actuel'!$B$2:$B$77,V$1),"",SMALL(IF(('fichier actuel'!$B$2:$B$77=V$1)*('fichier actuel'!$C$2:$C$77<>""),'fichier actuel'!$C$2:$C$77),ROW()-1))} | U12: {=IF(T12="","",INDEX('fichier actuel'!$D$2:$D$77,MATCH(1,('fichier actuel'!$A$2:$A$77=$A12)*('fichier actuel'!$B$2:$B$77=V$1)*('fichier actuel'!$C$2:$C$77=T12),0)))} | V12: 35 | W12: {=IF(ROW()-1>COUNTIF('fichier actuel'!$B$2:$B$77,Y$1),"",SMALL(IF(('fichier actuel'!$B$2:$B$77=Y$1)*('fichier actuel'!$C$2:$C$77<>""),'fichier actuel'!$C$2:$C$77),ROW()-1))} | X12: {=IF(W12="","",INDEX('fichier actuel'!$D$2:$D$77,MATCH(1,('fichier actuel'!$A$2:$A$77=$A12)*('fichier actuel'!$B$2:$B$77=Y$1)*('fichier actuel'!$C$2:$C$77=W12),0)))} | Y12: 59 | Z12: {=IF(ROW()-1>COUNTIF('fichier actuel'!$B$2:$B$77,AB$1),"",SMALL(IF(('fichier actuel'!$B$2:$B$77=AB$1)*('fichier actuel'!$C$2:$C$77<>""),'fichier actuel'!$C$2:$C$77),ROW()-1))} | AA12: {=IF(Z12="","",INDEX('fichier actuel'!$D$2:$D$77,MATCH(1,('fichier actuel'!$A$2:$A$77=$A12)*('fichier actuel'!$B$2:$B$77=AB$1)*('fichier actuel'!$C$2:$C$77=Z12),0)))} | AB12: 67
A13: A1 | B13: =IF(ROW()-1>COUNTIF('fichier actuel'!$B$2:$B$78,D$1),"",SMALL(IF(('fichier actuel'!$B$2:$B$78=D$1)*('fichier actuel'!$C$2:$C$78<>""),'fichier actuel'!$C$2:$C$78),ROW()-1)) -> #NUM! | C13: {=IF(B13="","",INDEX('fichier actuel'!$D$2:$D$77,MATCH(1,('fichier actuel'!$A$2:$A$77=$A13)*('fichier actuel'!$B$2:$B$77=D$1)*('fichier actuel'!$C$2:$C$77=B13),0)))} -> #NUM! | D13: 92 | E13: =IF(ROW()-1>COUNTIF('fichier actuel'!$B$2:$B$78,G$1),"",SMALL(IF(('fichier actuel'!$B$2:$B$78=G$1)*('fichier actuel'!$C$2:$C$78<>""),'fichier actuel'!$C$2:$C$78),ROW()-1)) | F13: =IF(E13="","",INDEX('fichier actuel'!$D$2:$D$78,MATCH(1,('fichier actuel'!$A$2:$A$78=$A13)*('fichier actuel'!$B$2:$B$78=G$1)*('fichier actuel'!$C$2:$C$78=E13),0))) | G13: 69 | H13: {=IF(ROW()-1>COUNTIF('fichier actuel'!$B$2:$B$77,J$1),"",SMALL(IF(('fichier actuel'!$B$2:$B$77=J$1)*('fichier actuel'!$C$2:$C$77<>""),'fichier actuel'!$C$2:$C$77),ROW()-1))} | I13: {=IF(H13="","",INDEX('fichier actuel'!$D$2:$D$77,MATCH(1,('fichier actuel'!$A$2:$A$77=$A13)*('fichier actuel'!$B$2:$B$77=J$1)*('fichier actuel'!$C$2:$C$77=H13),0)))} | J13: 13 | K13: {=IF(ROW()-1>COUNTIF('fichier actuel'!$B$2:$B$77,M$1),"",SMALL(IF(('fichier actuel'!$B$2:$B$77=M$1)*('fichier actuel'!$C$2:$C$77<>""),'fichier actuel'!$C$2:$C$77),ROW()-1))} | L13: {=IF(K13="","",INDEX('fichier actuel'!$D$2:$D$77,MATCH(1,('fichier actuel'!$A$2:$A$77=$A13)*('fichier actuel'!$B$2:$B$77=M$1)*('fichier actuel'!$C$2:$C$77=K13),0)))} | M13: 31 | N13: {=IF(ROW()-1>COUNTIF('fichier actuel'!$B$2:$B$77,P$1),"",SMALL(IF(('fichier actuel'!$B$2:$B$77=P$1)*('fichier actuel'!$C$2:$C$77<>""),'fichier actuel'!$C$2:$C$77),ROW()-1))} | O13: {=IF(N13="","",INDEX('fichier actuel'!$D$2:$D$77,MATCH(1,('fichier actuel'!$A$2:$A$77=$A13)*('fichier actuel'!$B$2:$B$77=P$1)*('fichier actuel'!$C$2:$C$77=N13),0)))} | P13: 33 | Q13: {=IF(ROW()-1>COUNTIF('fichier actuel'!$B$2:$B$77,S$1),"",SMALL(IF(('fichier actuel'!$B$2:$B$77=S$1)*('fichier actuel'!$C$2:$C$77<>""),'fichier actuel'!$C$2:$C$77),ROW()-1))} | R13: {=IF(Q13="","",INDEX('fichier actuel'!$D$2:$D$77,MATCH(1,('fichier actuel'!$A$2:$A$77=$A13)*('fichier actuel'!$B$2:$B$77=S$1)*('fichier actuel'!$C$2:$C$77=Q13),0)))} | S13: 44 | T13: {=IF(ROW()-1>COUNTIF('fichier actuel'!$B$2:$B$77,V$1),"",SMALL(IF(('fichier actuel'!$B$2:$B$77=V$1)*('fichier actuel'!$C$2:$C$77<>""),'fichier actuel'!$C$2:$C$77),ROW()-1))} | U13: {=IF(T13="","",INDEX('fichier actuel'!$D$2:$D$77,MATCH(1,('fichier actuel'!$A$2:$A$77=$A13)*('fichier actuel'!$B$2:$B$77=V$1)*('fichier actuel'!$C$2:$C$77=T13),0)))} | V13: 35 | W13: {=IF(ROW()-1>COUNTIF('fichier actuel'!$B$2:$B$77,Y$1),"",SMALL(IF(('fichier actuel'!$B$2:$B$77=Y$1)*('fichier actuel'!$C$2:$C$77<>""),'fichier actuel'!$C$2:$C$77),ROW()-1))} | X13: {=IF(W13="","",INDEX('fichier actuel'!$D$2:$D$77,MATCH(1,('fichier actuel'!$A$2:$A$77=$A13)*('fichier actuel'!$B$2:$B$77=Y$1)*('fichier actuel'!$C$2:$C$77=W13),0)))} | Y13: 59 | Z13: {=IF(ROW()-1>COUNTIF('fichier actuel'!$B$2:$B$77,AB$1),"",SMALL(IF(('fichier actuel'!$B$2:$B$77=AB$1)*('fichier actuel'!$C$2:$C$77<>""),'fichier actuel'!$C$2:$C$77),ROW()-1))} | AA13: {=IF(Z13="","",INDEX('fichier actuel'!$D$2:$D$77,MATCH(1,('fichier actuel'!$A$2:$A$77=$A13)*('fichier actuel'!$B$2:$B$77=AB$1)*('fichier actuel'!$C$2:$C$77=Z13),0)))} | AB13: 67
A14: A1 | B14: =IF(ROW()-1>COUNTIF('fichier actuel'!$B$2:$B$78,D$1),"",SMALL(IF(('fichier actuel'!$B$2:$B$78=D$1)*('fichier actuel'!$C$2:$C$78<>""),'fichier actuel'!$C$2:$C$78),ROW()-1)) -> #NUM! | C14: {=IF(B14="","",INDEX('fichier actuel'!$D$2:$D$77,MATCH(1,('fichier actuel'!$A$2:$A$77=$A14)*('fichier actuel'!$B$2:$B$77=D$1)*('fichier actuel'!$C$2:$C$77=B14),0)))} -> #NUM! | D14: 92 | E14: =IF(ROW()-1>COUNTIF('fichier actuel'!$B$2:$B$78,G$1),"",SMALL(IF(('fichier actuel'!$B$2:$B$78=G$1)*('fichier actuel'!$C$2:$C$78<>""),'fichier actuel'!$C$2:$C$78),ROW()-1)) | F14: =IF(E14="","",INDEX('fichier actuel'!$D$2:$D$78,MATCH(1,('fichier actuel'!$A$2:$A$78=$A14)*('fichier actuel'!$B$2:$B$78=G$1)*('fichier actuel'!$C$2:$C$78=E14),0))) | G14: 69 | H14: {=IF(ROW()-1>COUNTIF('fichier actuel'!$B$2:$B$77,J$1),"",SMALL(IF(('fichier actuel'!$B$2:$B$77=J$1)*('fichier actuel'!$C$2:$C$77<>""),'fichier actuel'!$C$2:$C$77),ROW()-1))} | I14: {=IF(H14="","",INDEX('fichier actuel'!$D$2:$D$77,MATCH(1,('fichier actuel'!$A$2:$A$77=$A14)*('fichier actuel'!$B$2:$B$77=J$1)*('fichier actuel'!$C$2:$C$77=H14),0)))} | J14: 13 | K14: {=IF(ROW()-1>COUNTIF('fichier actuel'!$B$2:$B$77,M$1),"",SMALL(IF(('fichier actuel'!$B$2:$B$77=M$1)*('fichier actuel'!$C$2:$C$77<>""),'fichier actuel'!$C$2:$C$77),ROW()-1))} | L14: {=IF(K14="","",INDEX('fichier actuel'!$D$2:$D$77,MATCH(1,('fichier actuel'!$A$2:$A$77=$A14)*('fichier actuel'!$B$2:$B$77=M$1)*('fichier actuel'!$C$2:$C$77=K14),0)))} | M14: 31 | N14: {=IF(ROW()-1>COUNTIF('fichier actuel'!$B$2:$B$77,P$1),"",SMALL(IF(('fichier actuel'!$B$2:$B$77=P$1)*('fichier actuel'!$C$2:$C$77<>""),'fichier actuel'!$C$2:$C$77),ROW()-1))} | O14: {=IF(N14="","",INDEX('fichier actuel'!$D$2:$D$77,MATCH(1,('fichier actuel'!$A$2:$A$77=$A14)*('fichier actuel'!$B$2:$B$77=P$1)*('fichier actuel'!$C$2:$C$77=N14),0)))} | P14: 33 | Q14: {=IF(ROW()-1>COUNTIF('fichier actuel'!$B$2:$B$77,S$1),"",SMALL(IF(('fichier actuel'!$B$2:$B$77=S$1)*('fichier actuel'!$C$2:$C$77<>""),'fichier actuel'!$C$2:$C$77),ROW()-1))} | R14: {=IF(Q14="","",INDEX('fichier actuel'!$D$2:$D$77,MATCH(1,('fichier actuel'!$A$2:$A$77=$A14)*('fichier actuel'!$B$2:$B$77=S$1)*('fichier actuel'!$C$2:$C$77=Q14),0)))} | S14: 44 | T14: {=IF(ROW()-1>COUNTIF('fichier actuel'!$B$2:$B$77,V$1),"",SMALL(IF(('fichier actuel'!$B$2:$B$77=V$1)*('fichier actuel'!$C$2:$C$77<>""),'fichier actuel'!$C$2:$C$77),ROW()-1))} | U14: {=IF(T14="","",INDEX('fichier actuel'!$D$2:$D$77,MATCH(1,('fichier actuel'!$A$2:$A$77=$A14)*('fichier actuel'!$B$2:$B$77=V$1)*('fichier actuel'!$C$2:$C$77=T14),0)))} | V14: 35 | W14: {=IF(ROW()-1>COUNTIF('fichier actuel'!$B$2:$B$77,Y$1),"",SMALL(IF(('fichier actuel'!$B$2:$B$77=Y$1)*('fichier actuel'!$C$2:$C$77<>""),'fichier actuel'!$C$2:$C$77),ROW()-1))} | X14: {=IF(W14="","",INDEX('fichier actuel'!$D$2:$D$77,MATCH(1,('fichier actuel'!$A$2:$A$77=$A14)*('fichier actuel'!$B$2:$B$77=Y$1)*('fichier actuel'!$C$2:$C$77=W14),0)))} | Y14: 59 | Z14: {=IF(ROW()-1>COUNTIF('fichier actuel'!$B$2:$B$77,AB$1),"",SMALL(IF(('fichier actuel'!$B$2:$B$77=AB$1)*('fichier actuel'!$C$2:$C$77<>""),'fichier actuel'!$C$2:$C$77),ROW()-1))} | AA14: {=IF(Z14="","",INDEX('fichier actuel'!$D$2:$D$77,MATCH(1,('fichier actuel'!$A$2:$A$77=$A14)*('fichier actuel'!$B$2:$B$77=AB$1)*('fichier actuel'!$C$2:$C$77=Z14),0)))} | AB14: 67
... A16: A1 | B16: =IF(ROW()-1>COUNTIF('fichier actuel'!$B$2:$B$78,D$1),"",SMALL(IF(('fichier actuel'!$B$2:$B$78=D$1)*('fichier actuel'!$C$2:$C$78<>""),'fichier actuel'!$C$2:$C$78),ROW()-1)) -> #NUM! | C16: {=IF(B16="","",INDEX('fichier actuel'!$D$2:$D$77,MATCH(1,('fichier actuel'!$A$2:$A$77=$A16)*('fichier actuel'!$B$2:$B$77=D$1)*('fichier actuel'!$C$2:$C$77=B16),0)))} -> #NUM! | D16: 92 | E16: =IF(ROW()-1>COUNTIF('fichier actuel'!$B$2:$B$78,G$1),"",SMALL(IF(('fichier actuel'!$B$2:$B$78=G$1)*('fichier actuel'!$C$2:$C$78<>""),'fichier actuel'!$C$2:$C$78),ROW()-1)) | F16: =IF(E16="","",INDEX('fichier actuel'!$D$2:$D$78,MATCH(1,('fichier actuel'!$A$2:$A$78=$A16)*('fichier actuel'!$B$2:$B$78=G$1)*('fichier actuel'!$C$2:$C$78=E16),0))) | G16: 69 | H16: {=IF(ROW()-1>COUNTIF('fichier actuel'!$B$2:$B$77,J$1),"",SMALL(IF(('fichier actuel'!$B$2:$B$77=J$1)*('fichier actuel'!$C$2:$C$77<>""),'fichier actuel'!$C$2:$C$77),ROW()-1))} | I16: {=IF(H16="","",INDEX('fichier actuel'!$D$2:$D$77,MATCH(1,('fichier actuel'!$A$2:$A$77=$A16)*('fichier actuel'!$B$2:$B$77=J$1)*('fichier actuel'!$C$2:$C$77=H16),0)))} | J16: 13 | K16: {=IF(ROW()-1>COUNTIF('fichier actuel'!$B$2:$B$77,M$1),"",SMALL(IF(('fichier actuel'!$B$2:$B$77=M$1)*('fichier actuel'!$C$2:$C$77<>""),'fichier actuel'!$C$2:$C$77),ROW()-1))} | L16: {=IF(K16="","",INDEX('fichier actuel'!$D$2:$D$77,MATCH(1,('fichier actuel'!$A$2:$A$77=$A16)*('fichier actuel'!$B$2:$B$77=M$1)*('fichier actuel'!$C$2:$C$77=K16),0)))} | M16: 31 | N16: {=IF(ROW()-1>COUNTIF('fichier actuel'!$B$2:$B$77,P$1),"",SMALL(IF(('fichier actuel'!$B$2:$B$77=P$1)*('fichier actuel'!$C$2:$C$77<>""),'fichier actuel'!$C$2:$C$77),ROW()-1))} | O16: {=IF(N16="","",INDEX('fichier actuel'!$D$2:$D$77,MATCH(1,('fichier actuel'!$A$2:$A$77=$A16)*('fichier actuel'!$B$2:$B$77=P$1)*('fichier actuel'!$C$2:$C$77=N16),0)))} | P16: 33 | Q16: {=IF(ROW()-1>COUNTIF('fichier actuel'!$B$2:$B$77,S$1),"",SMALL(IF(('fichier actuel'!$B$2:$B$77=S$1)*('fichier actuel'!$C$2:$C$77<>""),'fichier actuel'!$C$2:$C$77),ROW()-1))} | R16: {=IF(Q16="","",INDEX('fichier actuel'!$D$2:$D$77,MATCH(1,('fichier actuel'!$A$2:$A$77=$A16)*('fichier actuel'!$B$2:$B$77=S$1)*('fichier actuel'!$C$2:$C$77=Q16),0)))} | S16: 44 | T16: {=IF(ROW()-1>COUNTIF('fichier actuel'!$B$2:$B$77,V$1),"",SMALL(IF(('fichier actuel'!$B$2:$B$77=V$1)*('fichier actuel'!$C$2:$C$77<>""),'fichier actuel'!$C$2:$C$77),ROW()-1))} | U16: {=IF(T16="","",INDEX('fichier actuel'!$D$2:$D$77,MATCH(1,('fichier actuel'!$A$2:$A$77=$A16)*('fichier actuel'!$B$2:$B$77=V$1)*('fichier actuel'!$C$2:$C$77=T16),0)))} | V16: 35 | W16: {=IF(ROW()-1>COUNTIF('fichier actuel'!$B$2:$B$77,Y$1),"",SMALL(IF(('fichier actuel'!$B$2:$B$77=Y$1)*('fichier actuel'!$C$2:$C$77<>""),'fichier actuel'!$C$2:$C$77),ROW()-1))} | X16: {=IF(W16="","",INDEX('fichier actuel'!$D$2:$D$77,MATCH(1,('fichier actuel'!$A$2:$A$77=$A16)*('fichier actuel'!$B$2:$B$77=Y$1)*('fichier actuel'!$C$2:$C$77=W16),0)))} | Y16: 59 | Z16: {=IF(ROW()-1>COUNTIF('fichier actuel'!$B$2:$B$77,AB$1),"",SMALL(IF(('fichier actuel'!$B$2:$B$77=AB$1)*('fichier actuel'!$C$2:$C$77<>""),'fichier actuel'!$C$2:$C$77),ROW()-1))} | AA16: {=IF(Z16="","",INDEX('fichier actuel'!$D$2:$D$77,MATCH(1,('fichier actuel'!$A$2:$A$77=$A16)*('fichier actuel'!$B$2:$B$77=AB$1)*('fichier actuel'!$C$2:$C$77=Z16),0)))} | AB16: 67
A17: A1 | B17: =IF(ROW()-1>COUNTIF('fichier actuel'!$B$2:$B$78,D$1),"",SMALL(IF(('fichier actuel'!$B$2:$B$78=D$1)*('fichier actuel'!$C$2:$C$78<>""),'fichier actuel'!$C$2:$C$78),ROW()-1)) -> #NUM! | C17: {=IF(B17="","",INDEX('fichier actuel'!$D$2:$D$77,MATCH(1,('fichier actuel'!$A$2:$A$77=$A17)*('fichier actuel'!$B$2:$B$77=D$1)*('fichier actuel'!$C$2:$C$77=B17),0)))} -> #NUM! | D17: 92 | E17: =IF(ROW()-1>COUNTIF('fichier actuel'!$B$2:$B$78,G$1),"",SMALL(IF(('fichier actuel'!$B$2:$B$78=G$1)*('fichier actuel'!$C$2:$C$78<>""),'fichier actuel'!$C$2:$C$78),ROW()-1)) | F17: {=IF(E17="","",INDEX('fichier actuel'!$D$2:$D$77,MATCH(1,('fichier actuel'!$A$2:$A$77=$A17)*('fichier actuel'!$B$2:$B$77=G$1)*('fichier actuel'!$C$2:$C$77=E17),0)))} | G17: 69 | H17: {=IF(ROW()-1>COUNTIF('fichier actuel'!$B$2:$B$77,J$1),"",SMALL(IF(('fichier actuel'!$B$2:$B$77=J$1)*('fichier actuel'!$C$2:$C$77<>""),'fichier actuel'!$C$2:$C$77),ROW()-1))} | I17: {=IF(H17="","",INDEX('fichier actuel'!$D$2:$D$77,MATCH(1,('fichier actuel'!$A$2:$A$77=$A17)*('fichier actuel'!$B$2:$B$77=J$1)*('fichier actuel'!$C$2:$C$77=H17),0)))} | J17: 13 | K17: {=IF(ROW()-1>COUNTIF('fichier actuel'!$B$2:$B$77,M$1),"",SMALL(IF(('fichier actuel'!$B$2:$B$77=M$1)*('fichier actuel'!$C$2:$C$77<>""),'fichier actuel'!$C$2:$C$77),ROW()-1))} | L17: {=IF(K17="","",INDEX('fichier actuel'!$D$2:$D$77,MATCH(1,('fichier actuel'!$A$2:$A$77=$A17)*('fichier actuel'!$B$2:$B$77=M$1)*('fichier actuel'!$C$2:$C$77=K17),0)))} | M17: 31 | N17: {=IF(ROW()-1>COUNTIF('fichier actuel'!$B$2:$B$77,P$1),"",SMALL(IF(('fichier actuel'!$B$2:$B$77=P$1)*('fichier actuel'!$C$2:$C$77<>""),'fichier actuel'!$C$2:$C$77),ROW()-1))} | O17: {=IF(N17="","",INDEX('fichier actuel'!$D$2:$D$77,MATCH(1,('fichier actuel'!$A$2:$A$77=$A17)*('fichier actuel'!$B$2:$B$77=P$1)*('fichier actuel'!$C$2:$C$77=N17),0)))} | P17: 33 | Q17: {=IF(ROW()-1>COUNTIF('fichier actuel'!$B$2:$B$77,S$1),"",SMALL(IF(('fichier actuel'!$B$2:$B$77=S$1)*('fichier actuel'!$C$2:$C$77<>""),'fichier actuel'!$C$2:$C$77),ROW()-1))} | R17: {=IF(Q17="","",INDEX('fichier actuel'!$D$2:$D$77,MATCH(1,('fichier actuel'!$A$2:$A$77=$A17)*('fichier actuel'!$B$2:$B$77=S$1)*('fichier actuel'!$C$2:$C$77=Q17),0)))} | S17: 44 | T17: {=IF(ROW()-1>COUNTIF('fichier actuel'!$B$2:$B$77,V$1),"",SMALL(IF(('fichier actuel'!$B$2:$B$77=V$1)*('fichier actuel'!$C$2:$C$77<>""),'fichier actuel'!$C$2:$C$77),ROW()-1))} | U17: {=IF(T17="","",INDEX('fichier actuel'!$D$2:$D$77,MATCH(1,('fichier actuel'!$A$2:$A$77=$A17)*('fichier actuel'!$B$2:$B$77=V$1)*('fichier actuel'!$C$2:$C$77=T17),0)))} | V17: 35 | W17: {=IF(ROW()-1>COUNTIF('fichier actuel'!$B$2:$B$77,Y$1),"",SMALL(IF(('fichier actuel'!$B$2:$B$77=Y$1)*('fichier actuel'!$C$2:$C$77<>""),'fichier actuel'!$C$2:$C$77),ROW()-1))} | X17: {=IF(W17="","",INDEX('fichier actuel'!$D$2:$D$77,MATCH(1,('fichier actuel'!$A$2:$A$77=$A17)*('fichier actuel'!$B$2:$B$77=Y$1)*('fichier actuel'!$C$2:$C$77=W17),0)))} | Y17: 59 | Z17: {=IF(ROW()-1>COUNTIF('fichier actuel'!$B$2:$B$77,AB$1),"",SMALL(IF(('fichier actuel'!$B$2:$B$77=AB$1)*('fichier actuel'!$C$2:$C$77<>""),'fichier actuel'!$C$2:$C$77),ROW()-1))} | AA17: {=IF(Z17="","",INDEX('fichier actuel'!$D$2:$D$77,MATCH(1,('fichier actuel'!$A$2:$A$77=$A17)*('fichier actuel'!$B$2:$B$77=AB$1)*('fichier actuel'!$C$2:$C$77=Z17),0)))} | AB17: 67
A18: A1 | B18: =IF(ROW()-1>COUNTIF('fichier actuel'!$B$2:$B$78,D$1),"",SMALL(IF(('fichier actuel'!$B$2:$B$78=D$1)*('fichier actuel'!$C$2:$C$78<>""),'fichier actuel'!$C$2:$C$78),ROW()-1)) -> #NUM! | C18: {=IF(B18="","",INDEX('fichier actuel'!$D$2:$D$77,MATCH(1,('fichier actuel'!$A$2:$A$77=$A18)*('fichier actuel'!$B$2:$B$77=D$1)*('fichier actuel'!$C$2:$C$77=B18),0)))} -> #NUM! | D18: 92 | E18: =IF(ROW()-1>COUNTIF('fichier actuel'!$B$2:$B$78,G$1),"",SMALL(IF(('fichier actuel'!$B$2:$B$78=G$1)*('fichier actuel'!$C$2:$C$78<>""),'fichier actuel'!$C$2:$C$78),ROW()-1)) | F18: {=IF(E18="","",INDEX('fichier actuel'!$D$2:$D$77,MATCH(1,('fichier actuel'!$A$2:$A$77=$A18)*('fichier actuel'!$B$2:$B$77=G$1)*('fichier actuel'!$C$2:$C$77=E18),0)))} | G18: 69 | H18: {=IF(ROW()-1>COUNTIF('fichier actuel'!$B$2:$B$77,J$1),"",SMALL(IF(('fichier actuel'!$B$2:$B$77=J$1)*('fichier actuel'!$C$2:$C$77<>""),'fichier actuel'!$C$2:$C$77),ROW()-1))} | I18: {=IF(H18="","",INDEX('fichier actuel'!$D$2:$D$77,MATCH(1,('fichier actuel'!$A$2:$A$77=$A18)*('fichier actuel'!$B$2:$B$77=J$1)*('fichier actuel'!$C$2:$C$77=H18),0)))} | J18: 13 | K18: {=IF(ROW()-1>COUNTIF('fichier actuel'!$B$2:$B$77,M$1),"",SMALL(IF(('fichier actuel'!$B$2:$B$77=M$1)*('fichier actuel'!$C$2:$C$77<>""),'fichier actuel'!$C$2:$C$77),ROW()-1))} | L18: {=IF(K18="","",INDEX('fichier actuel'!$D$2:$D$77,MATCH(1,('fichier actuel'!$A$2:$A$77=$A18)*('fichier actuel'!$B$2:$B$77=M$1)*('fichier actuel'!$C$2:$C$77=K18),0)))} | M18: 31 | N18: {=IF(ROW()-1>COUNTIF('fichier actuel'!$B$2:$B$77,P$1),"",SMALL(IF(('fichier actuel'!$B$2:$B$77=P$1)*('fichier actuel'!$C$2:$C$77<>""),'fichier actuel'!$C$2:$C$77),ROW()-1))} | O18: {=IF(N18="","",INDEX('fichier actuel'!$D$2:$D$77,MATCH(1,('fichier actuel'!$A$2:$A$77=$A18)*('fichier actuel'!$B$2:$B$77=P$1)*('fichier actuel'!$C$2:$C$77=N18),0)))} | P18: 33 | Q18: {=IF(ROW()-1>COUNTIF('fichier actuel'!$B$2:$B$77,S$1),"",SMALL(IF(('fichier actuel'!$B$2:$B$77=S$1)*('fichier actuel'!$C$2:$C$77<>""),'fichier actuel'!$C$2:$C$77),ROW()-1))} | R18: {=IF(Q18="","",INDEX('fichier actuel'!$D$2:$D$77,MATCH(1,('fichier actuel'!$A$2:$A$77=$A18)*('fichier actuel'!$B$2:$B$77=S$1)*('fichier actuel'!$C$2:$C$77=Q18),0)))} | S18: 44 | T18: {=IF(ROW()-1>COUNTIF('fichier actuel'!$B$2:$B$77,V$1),"",SMALL(IF(('fichier actuel'!$B$2:$B$77=V$1)*('fichier actuel'!$C$2:$C$77<>""),'fichier actuel'!$C$2:$C$77),ROW()-1))} | U18: {=IF(T18="","",INDEX('fichier actuel'!$D$2:$D$77,MATCH(1,('fichier actuel'!$A$2:$A$77=$A18)*('fichier actuel'!$B$2:$B$77=V$1)*('fichier actuel'!$C$2:$C$77=T18),0)))} | V18: 35 | W18: {=IF(ROW()-1>COUNTIF('fichier actuel'!$B$2:$B$77,Y$1),"",SMALL(IF(('fichier actuel'!$B$2:$B$77=Y$1)*('fichier actuel'!$C$2:$C$77<>""),'fichier actuel'!$C$2:$C$77),ROW()-1))} | X18: {=IF(W18="","",INDEX('fichier actuel'!$D$2:$D$77,MATCH(1,('fichier actuel'!$A$2:$A$77=$A18)*('fichier actuel'!$B$2:$B$77=Y$1)*('fichier actuel'!$C$2:$C$77=W18),0)))} | Y18: 59 | Z18: {=IF(ROW()-1>COUNTIF('fichier actuel'!$B$2:$B$77,AB$1),"",SMALL(IF(('fichier actuel'!$B$2:$B$77=AB$1)*('fichier actuel'!$C$2:$C$77<>""),'fichier actuel'!$C$2:$C$77),ROW()-1))} | AA18: {=IF(Z18="","",INDEX('fichier actuel'!$D$2:$D$77,MATCH(1,('fichier actuel'!$A$2:$A$77=$A18)*('fichier actuel'!$B$2:$B$77=AB$1)*('fichier actuel'!$C$2:$C$77=Z18),0)))} | AB18: 67
A19: A1 | B19: =IF(ROW()-1>COUNTIF('fichier actuel'!$B$2:$B$78,D$1),"",SMALL(IF(('fichier actuel'!$B$2:$B$78=D$1)*('fichier actuel'!$C$2:$C$78<>""),'fichier actuel'!$C$2:$C$78),ROW()-1)) -> #NUM! | C19: {=IF(B19="","",INDEX('fichier actuel'!$D$2:$D$77,MATCH(1,('fichier actuel'!$A$2:$A$77=$A19)*('fichier actuel'!$B$2:$B$77=D$1)*('fichier actuel'!$C$2:$C$77=B19),0)))} -> #NUM! | D19: 92 | E19: {=IF(ROW()-1>COUNTIF('fichier actuel'!$B$2:$B$77,G$1),"",SMALL(IF(('fichier actuel'!$B$2:$B$77=G$1)*('fichier actuel'!$C$2:$C$77<>""),'fichier actuel'!$C$2:$C$77),ROW()-1))} | F19: {=IF(E19="","",INDEX('fichier actuel'!$D$2:$D$77,MATCH(1,('fichier actuel'!$A$2:$A$77=$A19)*('fichier actuel'!$B$2:$B$77=G$1)*('fichier actuel'!$C$2:$C$77=E19),0)))} | G19: 69 | H19: {=IF(ROW()-1>COUNTIF('fichier actuel'!$B$2:$B$77,J$1),"",SMALL(IF(('fichier actuel'!$B$2:$B$77=J$1)*('fichier actuel'!$C$2:$C$77<>""),'fichier actuel'!$C$2:$C$77),ROW()-1))} | I19: {=IF(H19="","",INDEX('fichier actuel'!$D$2:$D$77,MATCH(1,('fichier actuel'!$A$2:$A$77=$A19)*('fichier actuel'!$B$2:$B$77=J$1)*('fichier actuel'!$C$2:$C$77=H19),0)))} | J19: 13 | K19: {=IF(ROW()-1>COUNTIF('fichier actuel'!$B$2:$B$77,M$1),"",SMALL(IF(('fichier actuel'!$B$2:$B$77=M$1)*('fichier actuel'!$C$2:$C$77<>""),'fichier actuel'!$C$2:$C$77),ROW()-1))} | L19: {=IF(K19="","",INDEX('fichier actuel'!$D$2:$D$77,MATCH(1,('fichier actuel'!$A$2:$A$77=$A19)*('fichier actuel'!$B$2:$B$77=M$1)*('fichier actuel'!$C$2:$C$77=K19),0)))} | M19: 31 | N19: {=IF(ROW()-1>COUNTIF('fichier actuel'!$B$2:$B$77,P$1),"",SMALL(IF(('fichier actuel'!$B$2:$B$77=P$1)*('fichier actuel'!$C$2:$C$77<>""),'fichier actuel'!$C$2:$C$77),ROW()-1))} | O19: {=IF(N19="","",INDEX('fichier actuel'!$D$2:$D$77,MATCH(1,('fichier actuel'!$A$2:$A$77=$A19)*('fichier actuel'!$B$2:$B$77=P$1)*('fichier actuel'!$C$2:$C$77=N19),0)))} | P19: 33 | Q19: {=IF(ROW()-1>COUNTIF('fichier actuel'!$B$2:$B$77,S$1),"",SMALL(IF(('fichier actuel'!$B$2:$B$77=S$1)*('fichier actuel'!$C$2:$C$77<>""),'fichier actuel'!$C$2:$C$77),ROW()-1))} | R19: {=IF(Q19="","",INDEX('fichier actuel'!$D$2:$D$77,MATCH(1,('fichier actuel'!$A$2:$A$77=$A19)*('fichier actuel'!$B$2:$B$77=S$1)*('fichier actuel'!$C$2:$C$77=Q19),0)))} | S19: 44 | T19: {=IF(ROW()-1>COUNTIF('fichier actuel'!$B$2:$B$77,V$1),"",SMALL(IF(('fichier actuel'!$B$2:$B$77=V$1)*('fichier actuel'!$C$2:$C$77<>""),'fichier actuel'!$C$2:$C$77),ROW()-1))} | U19: {=IF(T19="","",INDEX('fichier actuel'!$D$2:$D$77,MATCH(1,('fichier actuel'!$A$2:$A$77=$A19)*('fichier actuel'!$B$2:$B$77=V$1)*('fichier actuel'!$C$2:$C$77=T19),0)))} | V19: 35 | W19: {=IF(ROW()-1>COUNTIF('fichier actuel'!$B$2:$B$77,Y$1),"",SMALL(IF(('fichier actuel'!$B$2:$B$77=Y$1)*('fichier actuel'!$C$2:$C$77<>""),'fichier actuel'!$C$2:$C$77),ROW()-1))} | X19: {=IF(W19="","",INDEX('fichier actuel'!$D$2:$D$77,MATCH(1,('fichier actuel'!$A$2:$A$77=$A19)*('fichier actuel'!$B$2:$B$77=Y$1)*('fichier actuel'!$C$2:$C$77=W19),0)))} | Y19: 59 | Z19: {=IF(ROW()-1>COUNTIF('fichier actuel'!$B$2:$B$77,AB$1),"",SMALL(IF(('fichier actuel'!$B$2:$B$77=AB$1)*('fichier actuel'!$C$2:$C$77<>""),'fichier actuel'!$C$2:$C$77),ROW()-1))} | AA19: {=IF(Z19="","",INDEX('fichier actuel'!$D$2:$D$77,MATCH(1,('fichier actuel'!$A$2:$A$77=$A19)*('fichier actuel'!$B$2:$B$77=AB$1)*('fichier actuel'!$C$2:$C$77=Z19),0)))} | AB19: 67
A20: A1 | B20: =IF(ROW()-1>COUNTIF('fichier actuel'!$B$2:$B$78,D$1),"",SMALL(IF(('fichier actuel'!$B$2:$B$78=D$1)*('fichier actuel'!$C$2:$C$78<>""),'fichier actuel'!$C$2:$C$78),ROW()-1)) -> #NUM! | C20: {=IF(B20="","",INDEX('fichier actuel'!$D$2:$D$77,MATCH(1,('fichier actuel'!$A$2:$A$77=$A20)*('fichier actuel'!$B$2:$B$77=D$1)*('fichier actuel'!$C$2:$C$77=B20),0)))} -> #NUM! | D20: 92 | E20: {=IF(ROW()-1>COUNTIF('fichier actuel'!$B$2:$B$77,G$1),"",SMALL(IF(('fichier actuel'!$B$2:$B$77=G$1)*('fichier actuel'!$C$2:$C$77<>""),'fichier actuel'!$C$2:$C$77),ROW()-1))} | F20: {=IF(E20="","",INDEX('fichier actuel'!$D$2:$D$77,MATCH(1,('fichier actuel'!$A$2:$A$77=$A20)*('fichier actuel'!$B$2:$B$77=G$1)*('fichier actuel'!$C$2:$C$77=E20),0)))} | G20: 69 | H20: {=IF(ROW()-1>COUNTIF('fichier actuel'!$B$2:$B$77,J$1),"",SMALL(IF(('fichier actuel'!$B$2:$B$77=J$1)*('fichier actuel'!$C$2:$C$77<>""),'fichier actuel'!$C$2:$C$77),ROW()-1))} | I20: {=IF(H20="","",INDEX('fichier actuel'!$D$2:$D$77,MATCH(1,('fichier actuel'!$A$2:$A$77=$A20)*('fichier actuel'!$B$2:$B$77=J$1)*('fichier actuel'!$C$2:$C$77=H20),0)))} | J20: 13 | K20: {=IF(ROW()-1>COUNTIF('fichier actuel'!$B$2:$B$77,M$1),"",SMALL(IF(('fichier actuel'!$B$2:$B$77=M$1)*('fichier actuel'!$C$2:$C$77<>""),'fichier actuel'!$C$2:$C$77),ROW()-1))} | L20: {=IF(K20="","",INDEX('fichier actuel'!$D$2:$D$77,MATCH(1,('fichier actuel'!$A$2:$A$77=$A20)*('fichier actuel'!$B$2:$B$77=M$1)*('fichier actuel'!$C$2:$C$77=K20),0)))} | M20: 31 | N20: {=IF(ROW()-1>COUNTIF('fichier actuel'!$B$2:$B$77,P$1),"",SMALL(IF(('fichier actuel'!$B$2:$B$77=P$1)*('fichier actuel'!$C$2:$C$77<>""),'fichier actuel'!$C$2:$C$77),ROW()-1))} | O20: {=IF(N20="","",INDEX('fichier actuel'!$D$2:$D$77,MATCH(1,('fichier actuel'!$A$2:$A$77=$A20)*('fichier actuel'!$B$2:$B$77=P$1)*('fichier actuel'!$C$2:$C$77=N20),0)))} | P20: 33 | Q20: {=IF(ROW()-1>COUNTIF('fichier actuel'!$B$2:$B$77,S$1),"",SMALL(IF(('fichier actuel'!$B$2:$B$77=S$1)*('fichier actuel'!$C$2:$C$77<>""),'fichier actuel'!$C$2:$C$77),ROW()-1))} | R20: {=IF(Q20="","",INDEX('fichier actuel'!$D$2:$D$77,MATCH(1,('fichier actuel'!$A$2:$A$77=$A20)*('fichier actuel'!$B$2:$B$77=S$1)*('fichier actuel'!$C$2:$C$77=Q20),0)))} | S20: 44 | T20: {=IF(ROW()-1>COUNTIF('fichier actuel'!$B$2:$B$77,V$1),"",SMALL(IF(('fichier actuel'!$B$2:$B$77=V$1)*('fichier actuel'!$C$2:$C$77<>""),'fichier actuel'!$C$2:$C$77),ROW()-1))} | U20: {=IF(T20="","",INDEX('fichier actuel'!$D$2:$D$77,MATCH(1,('fichier actuel'!$A$2:$A$77=$A20)*('fichier actuel'!$B$2:$B$77=V$1)*('fichier actuel'!$C$2:$C$77=T20),0)))} | V20: 35 | W20: {=IF(ROW()-1>COUNTIF('fichier actuel'!$B$2:$B$77,Y$1),"",SMALL(IF(('fichier actuel'!$B$2:$B$77=Y$1)*('fichier actuel'!$C$2:$C$77<>""),'fichier actuel'!$C$2:$C$77),ROW()-1))} | X20: {=IF(W20="","",INDEX('fichier actuel'!$D$2:$D$77,MATCH(1,('fichier actuel'!$A$2:$A$77=$A20)*('fichier actuel'!$B$2:$B$77=Y$1)*('fichier actuel'!$C$2:$C$77=W20),0)))} | Y20: 59 | Z20: {=IF(ROW()-1>COUNTIF('fichier actuel'!$B$2:$B$77,AB$1),"",SMALL(IF(('fichier actuel'!$B$2:$B$77=AB$1)*('fichier actuel'!$C$2:$C$77<>""),'fichier actuel'!$C$2:$C$77),ROW()-1))} | AA20: {=IF(Z20="","",INDEX('fichier actuel'!$D$2:$D$77,MATCH(1,('fichier actuel'!$A$2:$A$77=$A20)*('fichier actuel'!$B$2:$B$77=AB$1)*('fichier actuel'!$C$2:$C$77=Z20),0)))} | AB20: 67
A21: A1 | B21: =IF(ROW()-1>COUNTIF('fichier actuel'!$B$2:$B$78,D$1),"",SMALL(IF(('fichier actuel'!$B$2:$B$78=D$1)*('fichier actuel'!$C$2:$C$78<>""),'fichier actuel'!$C$2:$C$78),ROW()-1)) -> #NUM! | C21: {=IF(B21="","",INDEX('fichier actuel'!$D$2:$D$77,MATCH(1,('fichier actuel'!$A$2:$A$77=$A21)*('fichier actuel'!$B$2:$B$77=D$1)*('fichier actuel'!$C$2:$C$77=B21),0)))} -> #NUM! | D21: 92 | E21: {=IF(ROW()-1>COUNTIF('fichier actuel'!$B$2:$B$77,G$1),"",SMALL(IF(('fichier actuel'!$B$2:$B$77=G$1)*('fichier actuel'!$C$2:$C$77<>""),'fichier actuel'!$C$2:$C$77),ROW()-1))} | F21: {=IF(E21="","",INDEX('fichier actuel'!$D$2:$D$77,MATCH(1,('fichier actuel'!$A$2:$A$77=$A21)*('fichier actuel'!$B$2:$B$77=G$1)*('fichier actuel'!$C$2:$C$77=E21),0)))} | G21: 69 | H21: {=IF(ROW()-1>COUNTIF('fichier actuel'!$B$2:$B$77,J$1),"",SMALL(IF(('fichier actuel'!$B$2:$B$77=J$1)*('fichier actuel'!$C$2:$C$77<>""),'fichier actuel'!$C$2:$C$77),ROW()-1))} | I21: {=IF(H21="","",INDEX('fichier actuel'!$D$2:$D$77,MATCH(1,('fichier actuel'!$A$2:$A$77=$A21)*('fichier actuel'!$B$2:$B$77=J$1)*('fichier actuel'!$C$2:$C$77=H21),0)))} | J21: 13 | K21: {=IF(ROW()-1>COUNTIF('fichier actuel'!$B$2:$B$77,M$1),"",SMALL(IF(('fichier actuel'!$B$2:$B$77=M$1)*('fichier actuel'!$C$2:$C$77<>""),'fichier actuel'!$C$2:$C$77),ROW()-1))} | L21: {=IF(K21="","",INDEX('fichier actuel'!$D$2:$D$77,MATCH(1,('fichier actuel'!$A$2:$A$77=$A21)*('fichier actuel'!$B$2:$B$77=M$1)*('fichier actuel'!$C$2:$C$77=K21),0)))} | M21: 31 | N21: {=IF(ROW()-1>COUNTIF('fichier actuel'!$B$2:$B$77,P$1),"",SMALL(IF(('fichier actuel'!$B$2:$B$77=P$1)*('fichier actuel'!$C$2:$C$77<>""),'fichier actuel'!$C$2:$C$77),ROW()-1))} | O21: {=IF(N21="","",INDEX('fichier actuel'!$D$2:$D$77,MATCH(1,('fichier actuel'!$A$2:$A$77=$A21)*('fichier actuel'!$B$2:$B$77=P$1)*('fichier actuel'!$C$2:$C$77=N21),0)))} | P21: 33 | Q21: {=IF(ROW()-1>COUNTIF('fichier actuel'!$B$2:$B$77,S$1),"",SMALL(IF(('fichier actuel'!$B$2:$B$77=S$1)*('fichier actuel'!$C$2:$C$77<>""),'fichier actuel'!$C$2:$C$77),ROW()-1))} | R21: {=IF(Q21="","",INDEX('fichier actuel'!$D$2:$D$77,MATCH(1,('fichier actuel'!$A$2:$A$77=$A21)*('fichier actuel'!$B$2:$B$77=S$1)*('fichier actuel'!$C$2:$C$77=Q21),0)))} | S21: 44 | T21: {=IF(ROW()-1>COUNTIF('fichier actuel'!$B$2:$B$77,V$1),"",SMALL(IF(('fichier actuel'!$B$2:$B$77=V$1)*('fichier actuel'!$C$2:$C$77<>""),'fichier actuel'!$C$2:$C$77),ROW()-1))} | U21: {=IF(T21="","",INDEX('fichier actuel'!$D$2:$D$77,MATCH(1,('fichier actuel'!$A$2:$A$77=$A21)*('fichier actuel'!$B$2:$B$77=V$1)*('fichier actuel'!$C$2:$C$77=T21),0)))} | V21: 35 | W21: {=IF(ROW()-1>COUNTIF('fichier actuel'!$B$2:$B$77,Y$1),"",SMALL(IF(('fichier actuel'!$B$2:$B$77=Y$1)*('fichier actuel'!$C$2:$C$77<>""),'fichier actuel'!$C$2:$C$77),ROW()-1))} | X21: {=IF(W21="","",INDEX('fichier actuel'!$D$2:$D$77,MATCH(1,('fichier actuel'!$A$2:$A$77=$A21)*('fichier actuel'!$B$2:$B$77=Y$1)*('fichier actuel'!$C$2:$C$77=W21),0)))} | Y21: 59 | Z21: {=IF(ROW()-1>COUNTIF('fichier actuel'!$B$2:$B$77,AB$1),"",SMALL(IF(('fichier actuel'!$B$2:$B$77=AB$1)*('fichier actuel'!$C$2:$C$77<>""),'fichier actuel'!$C$2:$C$77),ROW()-1))} | AA21: {=IF(Z21="","",INDEX('fichier actuel'!$D$2:$D$77,MATCH(1,('fichier actuel'!$A$2:$A$77=$A21)*('fichier actuel'!$B$2:$B$77=AB$1)*('fichier actuel'!$C$2:$C$77=Z21),0)))} | AB21: 67
A22: A1 | B22: =IF(ROW()-1>COUNTIF('fichier actuel'!$B$2:$B$78,D$1),"",SMALL(IF(('fichier actuel'!$B$2:$B$78=D$1)*('fichier actuel'!$C$2:$C$78<>""),'fichier actuel'!$C$2:$C$78),ROW()-1)) -> #NUM! | C22: {=IF(B22="","",INDEX('fichier actuel'!$D$2:$D$77,MATCH(1,('fichier actuel'!$A$2:$A$77=$A22)*('fichier actuel'!$B$2:$B$77=D$1)*('fichier actuel'!$C$2:$C$77=B22),0)))} -> #NUM! | D22: 92 | E22: {=IF(ROW()-1>COUNTIF('fichier actuel'!$B$2:$B$77,G$1),"",SMALL(IF(('fichier actuel'!$B$2:$B$77=G$1)*('fichier actuel'!$C$2:$C$77<>""),'fichier actuel'!$C$2:$C$77),ROW()-1))} | F22: {=IF(E22="","",INDEX('fichier actuel'!$D$2:$D$77,MATCH(1,('fichier actuel'!$A$2:$A$77=$A22)*('fichier actuel'!$B$2:$B$77=G$1)*('fichier actuel'!$C$2:$C$77=E22),0)))} | G22: 69 | H22: {=IF(ROW()-1>COUNTIF('fichier actuel'!$B$2:$B$77,J$1),"",SMALL(IF(('fichier actuel'!$B$2:$B$77=J$1)*('fichier actuel'!$C$2:$C$77<>""),'fichier actuel'!$C$2:$C$77),ROW()-1))} | I22: {=IF(H22="","",INDEX('fichier actuel'!$D$2:$D$77,MATCH(1,('fichier actuel'!$A$2:$A$77=$A22)*('fichier actuel'!$B$2:$B$77=J$1)*('fichier actuel'!$C$2:$C$77=H22),0)))} | J22: 13 | K22: {=IF(ROW()-1>COUNTIF('fichier actuel'!$B$2:$B$77,M$1),"",SMALL(IF(('fichier actuel'!$B$2:$B$77=M$1)*('fichier actuel'!$C$2:$C$77<>""),'fichier actuel'!$C$2:$C$77),ROW()-1))} | L22: {=IF(K22="","",INDEX('fichier actuel'!$D$2:$D$77,MATCH(1,('fichier actuel'!$A$2:$A$77=$A22)*('fichier actuel'!$B$2:$B$77=M$1)*('fichier actuel'!$C$2:$C$77=K22),0)))} | M22: 31 | N22: {=IF(ROW()-1>COUNTIF('fichier actuel'!$B$2:$B$77,P$1),"",SMALL(IF(('fichier actuel'!$B$2:$B$77=P$1)*('fichier actuel'!$C$2:$C$77<>""),'fichier actuel'!$C$2:$C$77),ROW()-1))} | O22: {=IF(N22="","",INDEX('fichier actuel'!$D$2:$D$77,MATCH(1,('fichier actuel'!$A$2:$A$77=$A22)*('fichier actuel'!$B$2:$B$77=P$1)*('fichier actuel'!$C$2:$C$77=N22),0)))} | P22: 33 | Q22: {=IF(ROW()-1>COUNTIF('fichier actuel'!$B$2:$B$77,S$1),"",SMALL(IF(('fichier actuel'!$B$2:$B$77=S$1)*('fichier actuel'!$C$2:$C$77<>""),'fichier actuel'!$C$2:$C$77),ROW()-1))} | R22: {=IF(Q22="","",INDEX('fichier actuel'!$D$2:$D$77,MATCH(1,('fichier actuel'!$A$2:$A$77=$A22)*('fichier actuel'!$B$2:$B$77=S$1)*('fichier actuel'!$C$2:$C$77=Q22),0)))} | S22: 44 | T22: {=IF(ROW()-1>COUNTIF('fichier actuel'!$B$2:$B$77,V$1),"",SMALL(IF(('fichier actuel'!$B$2:$B$77=V$1)*('fichier actuel'!$C$2:$C$77<>""),'fichier actuel'!$C$2:$C$77),ROW()-1))} | U22: {=IF(T22="","",INDEX('fichier actuel'!$D$2:$D$77,MATCH(1,('fichier actuel'!$A$2:$A$77=$A22)*('fichier actuel'!$B$2:$B$77=V$1)*('fichier actuel'!$C$2:$C$77=T22),0)))} | V22: 35 | W22: {=IF(ROW()-1>COUNTIF('fichier actuel'!$B$2:$B$77,Y$1),"",SMALL(IF(('fichier actuel'!$B$2:$B$77=Y$1)*('fichier actuel'!$C$2:$C$77<>""),'fichier actuel'!$C$2:$C$77),ROW()-1))} | X22: {=IF(W22="","",INDEX('fichier actuel'!$D$2:$D$77,MATCH(1,('fichier actuel'!$A$2:$A$77=$A22)*('fichier actuel'!$B$2:$B$77=Y$1)*('fichier actuel'!$C$2:$C$77=W22),0)))} | Y22: 59 | Z22: {=IF(ROW()-1>COUNTIF('fichier actuel'!$B$2:$B$77,AB$1),"",SMALL(IF(('fichier actuel'!$B$2:$B$77=AB$1)*('fichier actuel'!$C$2:$C$77<>""),'fichier actuel'!$C$2:$C$77),ROW()-1))} | AA22: {=IF(Z22="","",INDEX('fichier actuel'!$D$2:$D$77,MATCH(1,('fichier actuel'!$A$2:$A$77=$A22)*('fichier actuel'!$B$2:$B$77=AB$1)*('fichier actuel'!$C$2:$C$77=Z22),0)))} | AB22: 67
A23: A1 | B23: =IF(ROW()-1>COUNTIF('fichier actuel'!$B$2:$B$78,D$1),"",SMALL(IF(('fichier actuel'!$B$2:$B$78=D$1)*('fichier actuel'!$C$2:$C$78<>""),'fichier actuel'!$C$2:$C$78),ROW()-1)) -> #NUM! | C23: {=IF(B23="","",INDEX('fichier actuel'!$D$2:$D$77,MATCH(1,('fichier actuel'!$A$2:$A$77=$A23)*('fichier actuel'!$B$2:$B$77=D$1)*('fichier actuel'!$C$2:$C$77=B23),0)))} -> #NUM! | D23: 92 | E23: {=IF(ROW()-1>COUNTIF('fichier actuel'!$B$2:$B$77,G$1),"",SMALL(IF(('fichier actuel'!$B$2:$B$77=G$1)*('fichier actuel'!$C$2:$C$77<>""),'fichier actuel'!$C$2:$C$77),ROW()-1))} | F23: {=IF(E23="","",INDEX('fichier actuel'!$D$2:$D$77,MATCH(1,('fichier actuel'!$A$2:$A$77=$A23)*('fichier actuel'!$B$2:$B$77=G$1)*('fichier actuel'!$C$2:$C$77=E23),0)))} | G23: 69 | H23: {=IF(ROW()-1>COUNTIF('fichier actuel'!$B$2:$B$77,J$1),"",SMALL(IF(('fichier actuel'!$B$2:$B$77=J$1)*('fichier actuel'!$C$2:$C$77<>""),'fichier actuel'!$C$2:$C$77),ROW()-1))} | I23: {=IF(H23="","",INDEX('fichier actuel'!$D$2:$D$77,MATCH(1,('fichier actuel'!$A$2:$A$77=$A23)*('fichier actuel'!$B$2:$B$77=J$1)*('fichier actuel'!$C$2:$C$77=H23),0)))} | J23: 13 | K23: {=IF(ROW()-1>COUNTIF('fichier actuel'!$B$2:$B$77,M$1),"",SMALL(IF(('fichier actuel'!$B$2:$B$77=M$1)*('fichier actuel'!$C$2:$C$77<>""),'fichier actuel'!$C$2:$C$77),ROW()-1))} | L23: {=IF(K23="","",INDEX('fichier actuel'!$D$2:$D$77,MATCH(1,('fichier actuel'!$A$2:$A$77=$A23)*('fichier actuel'!$B$2:$B$77=M$1)*('fichier actuel'!$C$2:$C$77=K23),0)))} | M23: 31 | N23: {=IF(ROW()-1>COUNTIF('fichier actuel'!$B$2:$B$77,P$1),"",SMALL(IF(('fichier actuel'!$B$2:$B$77=P$1)*('fichier actuel'!$C$2:$C$77<>""),'fichier actuel'!$C$2:$C$77),ROW()-1))} | O23: {=IF(N23="","",INDEX('fichier actuel'!$D$2:$D$77,MATCH(1,('fichier actuel'!$A$2:$A$77=$A23)*('fichier actuel'!$B$2:$B$77=P$1)*('fichier actuel'!$C$2:$C$77=N23),0)))} | P23: 33 | Q23: {=IF(ROW()-1>COUNTIF('fichier actuel'!$B$2:$B$77,S$1),"",SMALL(IF(('fichier actuel'!$B$2:$B$77=S$1)*('fichier actuel'!$C$2:$C$77<>""),'fichier actuel'!$C$2:$C$77),ROW()-1))} | R23: {=IF(Q23="","",INDEX('fichier actuel'!$D$2:$D$77,MATCH(1,('fichier actuel'!$A$2:$A$77=$A23)*('fichier actuel'!$B$2:$B$77=S$1)*('fichier actuel'!$C$2:$C$77=Q23),0)))} | S23: 44 | T23: {=IF(ROW()-1>COUNTIF('fichier actuel'!$B$2:$B$77,V$1),"",SMALL(IF(('fichier actuel'!$B$2:$B$77=V$1)*('fichier actuel'!$C$2:$C$77<>""),'fichier actuel'!$C$2:$C$77),ROW()-1))} | U23: {=IF(T23="","",INDEX('fichier actuel'!$D$2:$D$77,MATCH(1,('fichier actuel'!$A$2:$A$77=$A23)*('fichier actuel'!$B$2:$B$77=V$1)*('fichier actuel'!$C$2:$C$77=T23),0)))} | V23: 35 | W23: {=IF(ROW()-1>COUNTIF('fichier actuel'!$B$2:$B$77,Y$1),"",SMALL(IF(('fichier actuel'!$B$2:$B$77=Y$1)*('fichier actuel'!$C$2:$C$77<>""),'fichier actuel'!$C$2:$C$77),ROW()-1))} | X23: {=IF(W23="","",INDEX('fichier actuel'!$D$2:$D$77,MATCH(1,('fichier actuel'!$A$2:$A$77=$A23)*('fichier actuel'!$B$2:$B$77=Y$1)*('fichier actuel'!$C$2:$C$77=W23),0)))} | Y23: 59 | Z23: {=IF(ROW()-1>COUNTIF('fichier actuel'!$B$2:$B$77,AB$1),"",SMALL(IF(('fichier actuel'!$B$2:$B$77=AB$1)*('fichier actuel'!$C$2:$C$77<>""),'fichier actuel'!$C$2:$C$77),ROW()-1))} | AA23: {=IF(Z23="","",INDEX('fichier actuel'!$D$2:$D$77,MATCH(1,('fichier actuel'!$A$2:$A$77=$A23)*('fichier actuel'!$B$2:$B$77=AB$1)*('fichier actuel'!$C$2:$C$77=Z23),0)))} | AB23: 67
A24: A1 | B24: =IF(ROW()-1>COUNTIF('fichier actuel'!$B$2:$B$78,D$1),"",SMALL(IF(('fichier actuel'!$B$2:$B$78=D$1)*('fichier actuel'!$C$2:$C$78<>""),'fichier actuel'!$C$2:$C$78),ROW()-1)) -> #NUM! | C24: {=IF(B24="","",INDEX('fichier actuel'!$D$2:$D$77,MATCH(1,('fichier actuel'!$A$2:$A$77=$A24)*('fichier actuel'!$B$2:$B$77=D$1)*('fichier actuel'!$C$2:$C$77=B24),0)))} -> #NUM! | D24: 92 | E24: {=IF(ROW()-1>COUNTIF('fichier actuel'!$B$2:$B$77,G$1),"",SMALL(IF(('fichier actuel'!$B$2:$B$77=G$1)*('fichier actuel'!$C$2:$C$77<>""),'fichier actuel'!$C$2:$C$77),ROW()-1))} | F24: {=IF(E24="","",INDEX('fichier actuel'!$D$2:$D$77,MATCH(1,('fichier actuel'!$A$2:$A$77=$A24)*('fichier actuel'!$B$2:$B$77=G$1)*('fichier actuel'!$C$2:$C$77=E24),0)))} | G24: 69 | H24: {=IF(ROW()-1>COUNTIF('fichier actuel'!$B$2:$B$77,J$1),"",SMALL(IF(('fichier actuel'!$B$2:$B$77=J$1)*('fichier actuel'!$C$2:$C$77<>""),'fichier actuel'!$C$2:$C$77),ROW()-1))} | I24: {=IF(H24="","",INDEX('fichier actuel'!$D$2:$D$77,MATCH(1,('fichier actuel'!$A$2:$A$77=$A24)*('fichier actuel'!$B$2:$B$77=J$1)*('fichier actuel'!$C$2:$C$77=H24),0)))} | J24: 13 | K24: {=IF(ROW()-1>COUNTIF('fichier actuel'!$B$2:$B$77,M$1),"",SMALL(IF(('fichier actuel'!$B$2:$B$77=M$1)*('fichier actuel'!$C$2:$C$77<>""),'fichier actuel'!$C$2:$C$77),ROW()-1))} | L24: {=IF(K24="","",INDEX('fichier actuel'!$D$2:$D$77,MATCH(1,('fichier actuel'!$A$2:$A$77=$A24)*('fichier actuel'!$B$2:$B$77=M$1)*('fichier actuel'!$C$2:$C$77=K24),0)))} | M24: 31 | N24: {=IF(ROW()-1>COUNTIF('fichier actuel'!$B$2:$B$77,P$1),"",SMALL(IF(('fichier actuel'!$B$2:$B$77=P$1)*('fichier actuel'!$C$2:$C$77<>""),'fichier actuel'!$C$2:$C$77),ROW()-1))} | O24: {=IF(N24="","",INDEX('fichier actuel'!$D$2:$D$77,MATCH(1,('fichier actuel'!$A$2:$A$77=$A24)*('fichier actuel'!$B$2:$B$77=P$1)*('fichier actuel'!$C$2:$C$77=N24),0)))} | P24: 33 | Q24: {=IF(ROW()-1>COUNTIF('fichier actuel'!$B$2:$B$77,S$1),"",SMALL(IF(('fichier actuel'!$B$2:$B$77=S$1)*('fichier actuel'!$C$2:$C$77<>""),'fichier actuel'!$C$2:$C$77),ROW()-1))} | R24: {=IF(Q24="","",INDEX('fichier actuel'!$D$2:$D$77,MATCH(1,('fichier actuel'!$A$2:$A$77=$A24)*('fichier actuel'!$B$2:$B$77=S$1)*('fichier actuel'!$C$2:$C$77=Q24),0)))} | S24: 44 | T24: {=IF(ROW()-1>COUNTIF('fichier actuel'!$B$2:$B$77,V$1),"",SMALL(IF(('fichier actuel'!$B$2:$B$77=V$1)*('fichier actuel'!$C$2:$C$77<>""),'fichier actuel'!$C$2:$C$77),ROW()-1))} | U24: {=IF(T24="","",INDEX('fichier actuel'!$D$2:$D$77,MATCH(1,('fichier actuel'!$A$2:$A$77=$A24)*('fichier actuel'!$B$2:$B$77=V$1)*('fichier actuel'!$C$2:$C$77=T24),0)))} | V24: 35 | W24: {=IF(ROW()-1>COUNTIF('fichier actuel'!$B$2:$B$77,Y$1),"",SMALL(IF(('fichier actuel'!$B$2:$B$77=Y$1)*('fichier actuel'!$C$2:$C$77<>""),'fichier actuel'!$C$2:$C$77),ROW()-1))} | X24: {=IF(W24="","",INDEX('fichier actuel'!$D$2:$D$77,MATCH(1,('fichier actuel'!$A$2:$A$77=$A24)*('fichier actuel'!$B$2:$B$77=Y$1)*('fichier actuel'!$C$2:$C$77=W24),0)))} | Y24: 59 | Z24: {=IF(ROW()-1>COUNTIF('fichier actuel'!$B$2:$B$77,AB$1),"",SMALL(IF(('fichier actuel'!$B$2:$B$77=AB$1)*('fichier actuel'!$C$2:$C$77<>""),'fichier actuel'!$C$2:$C$77),ROW()-1))} | AA24: {=IF(Z24="","",INDEX('fichier actuel'!$D$2:$D$77,MATCH(1,('fichier actuel'!$A$2:$A$77=$A24)*('fichier actuel'!$B$2:$B$77=AB$1)*('fichier actuel'!$C$2:$C$77=Z24),0)))} | AB24: 67
A25: A1 | B25: =IF(ROW()-1>COUNTIF('fichier actuel'!$B$2:$B$78,D$1),"",SMALL(IF(('fichier actuel'!$B$2:$B$78=D$1)*('fichier actuel'!$C$2:$C$78<>""),'fichier actuel'!$C$2:$C$78),ROW()-1)) -> #NUM! | C25: {=IF(B25="","",INDEX('fichier actuel'!$D$2:$D$77,MATCH(1,('fichier actuel'!$A$2:$A$77=$A25)*('fichier actuel'!$B$2:$B$77=D$1)*('fichier actuel'!$C$2:$C$77=B25),0)))} -> #NUM! | D25: 92 | E25: {=IF(ROW()-1>COUNTIF('fichier actuel'!$B$2:$B$77,G$1),"",SMALL(IF(('fichier actuel'!$B$2:$B$77=G$1)*('fichier actuel'!$C$2:$C$77<>""),'fichier actuel'!$C$2:$C$77),ROW()-1))} | F25: {=IF(E25="","",INDEX('fichier actuel'!$D$2:$D$77,MATCH(1,('fichier actuel'!$A$2:$A$77=$A25)*('fichier actuel'!$B$2:$B$77=G$1)*('fichier actuel'!$C$2:$C$77=E25),0)))} | G25: 69 | H25: {=IF(ROW()-1>COUNTIF('fichier actuel'!$B$2:$B$77,J$1),"",SMALL(IF(('fichier actuel'!$B$2:$B$77=J$1)*('fichier actuel'!$C$2:$C$77<>""),'fichier actuel'!$C$2:$C$77),ROW()-1))} | I25: {=IF(H25="","",INDEX('fichier actuel'!$D$2:$D$77,MATCH(1,('fichier actuel'!$A$2:$A$77=$A25)*('fichier actuel'!$B$2:$B$77=J$1)*('fichier actuel'!$C$2:$C$77=H25),0)))} | J25: 13 | K25: {=IF(ROW()-1>COUNTIF('fichier actuel'!$B$2:$B$77,M$1),"",SMALL(IF(('fichier actuel'!$B$2:$B$77=M$1)*('fichier actuel'!$C$2:$C$77<>""),'fichier actuel'!$C$2:$C$77),ROW()-1))} | L25: {=IF(K25="","",INDEX('fichier actuel'!$D$2:$D$77,MATCH(1,('fichier actuel'!$A$2:$A$77=$A25)*('fichier actuel'!$B$2:$B$77=M$1)*('fichier actuel'!$C$2:$C$77=K25),0)))} | M25: 31 | N25: {=IF(ROW()-1>COUNTIF('fichier actuel'!$B$2:$B$77,P$1),"",SMALL(IF(('fichier actuel'!$B$2:$B$77=P$1)*('fichier actuel'!$C$2:$C$77<>""),'fichier actuel'!$C$2:$C$77),ROW()-1))} | O25: {=IF(N25="","",INDEX('fichier actuel'!$D$2:$D$77,MATCH(1,('fichier actuel'!$A$2:$A$77=$A25)*('fichier actuel'!$B$2:$B$77=P$1)*('fichier actuel'!$C$2:$C$77=N25),0)))} | P25: 33 | Q25: {=IF(ROW()-1>COUNTIF('fichier actuel'!$B$2:$B$77,S$1),"",SMALL(IF(('fichier actuel'!$B$2:$B$77=S$1)*('fichier actuel'!$C$2:$C$77<>""),'fichier actuel'!$C$2:$C$77),ROW()-1))} | R25: {=IF(Q25="","",INDEX('fichier actuel'!$D$2:$D$77,MATCH(1,('fichier actuel'!$A$2:$A$77=$A25)*('fichier actuel'!$B$2:$B$77=S$1)*('fichier actuel'!$C$2:$C$77=Q25),0)))} | S25: 44 | T25: {=IF(ROW()-1>COUNTIF('fichier actuel'!$B$2:$B$77,V$1),"",SMALL(IF(('fichier actuel'!$B$2:$B$77=V$1)*('fichier actuel'!$C$2:$C$77<>""),'fichier actuel'!$C$2:$C$77),ROW()-1))} | U25: {=IF(T25="","",INDEX('fichier actuel'!$D$2:$D$77,MATCH(1,('fichier actuel'!$A$2:$A$77=$A25)*('fichier actuel'!$B$2:$B$77=V$1)*('fichier actuel'!$C$2:$C$77=T25),0)))} | V25: 35 | W25: {=IF(ROW()-1>COUNTIF('fichier actuel'!$B$2:$B$77,Y$1),"",SMALL(IF(('fichier actuel'!$B$2:$B$77=Y$1)*('fichier actuel'!$C$2:$C$77<>""),'fichier actuel'!$C$2:$C$77),ROW()-1))} | X25: {=IF(W25="","",INDEX('fichier actuel'!$D$2:$D$77,MATCH(1,('fichier actuel'!$A$2:$A$77=$A25)*('fichier actuel'!$B$2:$B$77=Y$1)*('fichier actuel'!$C$2:$C$77=W25),0)))} | Y25: 59 | Z25: {=IF(ROW()-1>COUNTIF('fichier actuel'!$B$2:$B$77,AB$1),"",SMALL(IF(('fichier actuel'!$B$2:$B$77=AB$1)*('fichier actuel'!$C$2:$C$77<>""),'fichier actuel'!$C$2:$C$77),ROW()-1))} | AA25: {=IF(Z25="","",INDEX('fichier actuel'!$D$2:$D$77,MATCH(1,('fichier actuel'!$A$2:$A$77=$A25)*('fichier actuel'!$B$2:$B$77=AB$1)*('fichier actuel'!$C$2:$C$77=Z25),0)))} | AB25: 67
A26: A1 | B26: =IF(ROW()-1>COUNTIF('fichier actuel'!$B$2:$B$78,D$1),"",SMALL(IF(('fichier actuel'!$B$2:$B$78=D$1)*('fichier actuel'!$C$2:$C$78<>""),'fichier actuel'!$C$2:$C$78),ROW()-1)) -> #NUM! | C26: {=IF(B26="","",INDEX('fichier actuel'!$D$2:$D$77,MATCH(1,('fichier actuel'!$A$2:$A$77=$A26)*('fichier actuel'!$B$2:$B$77=D$1)*('fichier actuel'!$C$2:$C$77=B26),0)))} -> #NUM! | D26: 92 | E26: {=IF(ROW()-1>COUNTIF('fichier actuel'!$B$2:$B$77,G$1),"",SMALL(IF(('fichier actuel'!$B$2:$B$77=G$1)*('fichier actuel'!$C$2:$C$77<>""),'fichier actuel'!$C$2:$C$77),ROW()-1))} | F26: {=IF(E26="","",INDEX('fichier actuel'!$D$2:$D$77,MATCH(1,('fichier actuel'!$A$2:$A$77=$A26)*('fichier actuel'!$B$2:$B$77=G$1)*('fichier actuel'!$C$2:$C$77=E26),0)))} | G26: 69 | H26: {=IF(ROW()-1>COUNTIF('fichier actuel'!$B$2:$B$77,J$1),"",SMALL(IF(('fichier actuel'!$B$2:$B$77=J$1)*('fichier actuel'!$C$2:$C$77<>""),'fichier actuel'!$C$2:$C$77),ROW()-1))} | I26: {=IF(H26="","",INDEX('fichier actuel'!$D$2:$D$77,MATCH(1,('fichier actuel'!$A$2:$A$77=$A26)*('fichier actuel'!$B$2:$B$77=J$1)*('fichier actuel'!$C$2:$C$77=H26),0)))} | J26: 13 | K26: {=IF(ROW()-1>COUNTIF('fichier actuel'!$B$2:$B$77,M$1),"",SMALL(IF(('fichier actuel'!$B$2:$B$77=M$1)*('fichier actuel'!$C$2:$C$77<>""),'fichier actuel'!$C$2:$C$77),ROW()-1))} | L26: {=IF(K26="","",INDEX('fichier actuel'!$D$2:$D$77,MATCH(1,('fichier actuel'!$A$2:$A$77=$A26)*('fichier actuel'!$B$2:$B$77=M$1)*('fichier actuel'!$C$2:$C$77=K26),0)))} | M26: 31 | N26: {=IF(ROW()-1>COUNTIF('fichier actuel'!$B$2:$B$77,P$1),"",SMALL(IF(('fichier actuel'!$B$2:$B$77=P$1)*('fichier actuel'!$C$2:$C$77<>""),'fichier actuel'!$C$2:$C$77),ROW()-1))} | O26: {=IF(N26="","",INDEX('fichier actuel'!$D$2:$D$77,MATCH(1,('fichier actuel'!$A$2:$A$77=$A26)*('fichier actuel'!$B$2:$B$77=P$1)*('fichier actuel'!$C$2:$C$77=N26),0)))} | P26: 33 | Q26: {=IF(ROW()-1>COUNTIF('fichier actuel'!$B$2:$B$77,S$1),"",SMALL(IF(('fichier actuel'!$B$2:$B$77=S$1)*('fichier actuel'!$C$2:$C$77<>""),'fichier actuel'!$C$2:$C$77),ROW()-1))} | R26: {=IF(Q26="","",INDEX('fichier actuel'!$D$2:$D$77,MATCH(1,('fichier actuel'!$A$2:$A$77=$A26)*('fichier actuel'!$B$2:$B$77=S$1)*('fichier actuel'!$C$2:$C$77=Q26),0)))} | S26: 44 | T26: {=IF(ROW()-1>COUNTIF('fichier actuel'!$B$2:$B$77,V$1),"",SMALL(IF(('fichier actuel'!$B$2:$B$77=V$1)*('fichier actuel'!$C$2:$C$77<>""),'fichier actuel'!$C$2:$C$77),ROW()-1))} | U26: {=IF(T26="","",INDEX('fichier actuel'!$D$2:$D$77,MATCH(1,('fichier actuel'!$A$2:$A$77=$A26)*('fichier actuel'!$B$2:$B$77=V$1)*('fichier actuel'!$C$2:$C$77=T26),0)))} | V26: 35 | W26: {=IF(ROW()-1>COUNTIF('fichier actuel'!$B$2:$B$77,Y$1),"",SMALL(IF(('fichier actuel'!$B$2:$B$77=Y$1)*('fichier actuel'!$C$2:$C$77<>""),'fichier actuel'!$C$2:$C$77),ROW()-1))} | X26: {=IF(W26="","",INDEX('fichier actuel'!$D$2:$D$77,MATCH(1,('fichier actuel'!$A$2:$A$77=$A26)*('fichier actuel'!$B$2:$B$77=Y$1)*('fichier actuel'!$C$2:$C$77=W26),0)))} | Y26: 59 | Z26: {=IF(ROW()-1>COUNTIF('fichier actuel'!$B$2:$B$77,AB$1),"",SMALL(IF(('fichier actuel'!$B$2:$B$77=AB$1)*('fichier actuel'!$C$2:$C$77<>""),'fichier actuel'!$C$2:$C$77),ROW()-1))} | AA26: {=IF(Z26="","",INDEX('fichier actuel'!$D$2:$D$77,MATCH(1,('fichier actuel'!$A$2:$A$77=$A26)*('fichier actuel'!$B$2:$B$77=AB$1)*('fichier actuel'!$C$2:$C$77=Z26),0)))} | AB26: 67
A27: A1 | B27: =IF(ROW()-1>COUNTIF('fichier actuel'!$B$2:$B$78,D$1),"",SMALL(IF(('fichier actuel'!$B$2:$B$78=D$1)*('fichier actuel'!$C$2:$C$78<>""),'fichier actuel'!$C$2:$C$78),ROW()-1)) -> #NUM! | C27: {=IF(B27="","",INDEX('fichier actuel'!$D$2:$D$77,MATCH(1,('fichier actuel'!$A$2:$A$77=$A27)*('fichier actuel'!$B$2:$B$77=D$1)*('fichier actuel'!$C$2:$C$77=B27),0)))} -> #NUM! | D27: 92 | E27: {=IF(ROW()-1>COUNTIF('fichier actuel'!$B$2:$B$77,G$1),"",SMALL(IF(('fichier actuel'!$B$2:$B$77=G$1)*('fichier actuel'!$C$2:$C$77<>""),'fichier actuel'!$C$2:$C$77),ROW()-1))} | F27: {=IF(E27="","",INDEX('fichier actuel'!$D$2:$D$77,MATCH(1,('fichier actuel'!$A$2:$A$77=$A27)*('fichier actuel'!$B$2:$B$77=G$1)*('fichier actuel'!$C$2:$C$77=E27),0)))} | G27: 69 | H27: {=IF(ROW()-1>COUNTIF('fichier actuel'!$B$2:$B$77,J$1),"",SMALL(IF(('fichier actuel'!$B$2:$B$77=J$1)*('fichier actuel'!$C$2:$C$77<>""),'fichier actuel'!$C$2:$C$77),ROW()-1))} | I27: {=IF(H27="","",INDEX('fichier actuel'!$D$2:$D$77,MATCH(1,('fichier actuel'!$A$2:$A$77=$A27)*('fichier actuel'!$B$2:$B$77=J$1)*('fichier actuel'!$C$2:$C$77=H27),0)))} | J27: 13 | K27: {=IF(ROW()-1>COUNTIF('fichier actuel'!$B$2:$B$77,M$1),"",SMALL(IF(('fichier actuel'!$B$2:$B$77=M$1)*('fichier actuel'!$C$2:$C$77<>""),'fichier actuel'!$C$2:$C$77),ROW()-1))} | L27: {=IF(K27="","",INDEX('fichier actuel'!$D$2:$D$77,MATCH(1,('fichier actuel'!$A$2:$A$77=$A27)*('fichier actuel'!$B$2:$B$77=M$1)*('fichier actuel'!$C$2:$C$77=K27),0)))} | M27: 31 | N27: {=IF(ROW()-1>COUNTIF('fichier actuel'!$B$2:$B$77,P$1),"",SMALL(IF(('fichier actuel'!$B$2:$B$77=P$1)*('fichier actuel'!$C$2:$C$77<>""),'fichier actuel'!$C$2:$C$77),ROW()-1))} | O27: {=IF(N27="","",INDEX('fichier actuel'!$D$2:$D$77,MATCH(1,('fichier actuel'!$A$2:$A$77=$A27)*('fichier actuel'!$B$2:$B$77=P$1)*('fichier actuel'!$C$2:$C$77=N27),0)))} | P27: 33 | Q27: {=IF(ROW()-1>COUNTIF('fichier actuel'!$B$2:$B$77,S$1),"",SMALL(IF(('fichier actuel'!$B$2:$B$77=S$1)*('fichier actuel'!$C$2:$C$77<>""),'fichier actuel'!$C$2:$C$77),ROW()-1))} | R27: {=IF(Q27="","",INDEX('fichier actuel'!$D$2:$D$77,MATCH(1,('fichier actuel'!$A$2:$A$77=$A27)*('fichier actuel'!$B$2:$B$77=S$1)*('fichier actuel'!$C$2:$C$77=Q27),0)))} | S27: 44 | T27: {=IF(ROW()-1>COUNTIF('fichier actuel'!$B$2:$B$77,V$1),"",SMALL(IF(('fichier actuel'!$B$2:$B$77=V$1)*('fichier actuel'!$C$2:$C$77<>""),'fichier actuel'!$C$2:$C$77),ROW()-1))} | U27: {=IF(T27="","",INDEX('fichier actuel'!$D$2:$D$77,MATCH(1,('fichier actuel'!$A$2:$A$77=$A27)*('fichier actuel'!$B$2:$B$77=V$1)*('fichier actuel'!$C$2:$C$77=T27),0)))} | V27: 35 | W27: {=IF(ROW()-1>COUNTIF('fichier actuel'!$B$2:$B$77,Y$1),"",SMALL(IF(('fichier actuel'!$B$2:$B$77=Y$1)*('fichier actuel'!$C$2:$C$77<>""),'fichier actuel'!$C$2:$C$77),ROW()-1))} | X27: {=IF(W27="","",INDEX('fichier actuel'!$D$2:$D$77,MATCH(1,('fichier actuel'!$A$2:$A$77=$A27)*('fichier actuel'!$B$2:$B$77=Y$1)*('fichier actuel'!$C$2:$C$77=W27),0)))} | Y27: 59 | Z27: {=IF(ROW()-1>COUNTIF('fichier actuel'!$B$2:$B$77,AB$1),"",SMALL(IF(('fichier actuel'!$B$2:$B$77=AB$1)*('fichier actuel'!$C$2:$C$77<>""),'fichier actuel'!$C$2:$C$77),ROW()-1))} | AA27: {=IF(Z27="","",INDEX('fichier actuel'!$D$2:$D$77,MATCH(1,('fichier actuel'!$A$2:$A$77=$A27)*('fichier actuel'!$B$2:$B$77=AB$1)*('fichier actuel'!$C$2:$C$77=Z27),0)))} | AB27: 67
A28: A1 | B28: =IF(ROW()-1>COUNTIF('fichier actuel'!$B$2:$B$78,D$1),"",SMALL(IF(('fichier actuel'!$B$2:$B$78=D$1)*('fichier actuel'!$C$2:$C$78<>""),'fichier actuel'!$C$2:$C$78),ROW()-1)) -> #NUM! | C28: {=IF(B28="","",INDEX('fichier actuel'!$D$2:$D$77,MATCH(1,('fichier actuel'!$A$2:$A$77=$A28)*('fichier actuel'!$B$2:$B$77=D$1)*('fichier actuel'!$C$2:$C$77=B28),0)))} -> #NUM! | D28: 92 | E28: {=IF(ROW()-1>COUNTIF('fichier actuel'!$B$2:$B$77,G$1),"",SMALL(IF(('fichier actuel'!$B$2:$B$77=G$1)*('fichier actuel'!$C$2:$C$77<>""),'fichier actuel'!$C$2:$C$77),ROW()-1))} | F28: {=IF(E28="","",INDEX('fichier actuel'!$D$2:$D$77,MATCH(1,('fichier actuel'!$A$2:$A$77=$A28)*('fichier actuel'!$B$2:$B$77=G$1)*('fichier actuel'!$C$2:$C$77=E28),0)))} | G28: 69 | H28: {=IF(ROW()-1>COUNTIF('fichier actuel'!$B$2:$B$77,J$1),"",SMALL(IF(('fichier actuel'!$B$2:$B$77=J$1)*('fichier actuel'!$C$2:$C$77<>""),'fichier actuel'!$C$2:$C$77),ROW()-1))} | I28: {=IF(H28="","",INDEX('fichier actuel'!$D$2:$D$77,MATCH(1,('fichier actuel'!$A$2:$A$77=$A28)*('fichier actuel'!$B$2:$B$77=J$1)*('fichier actuel'!$C$2:$C$77=H28),0)))} | J28: 13 | K28: {=IF(ROW()-1>COUNTIF('fichier actuel'!$B$2:$B$77,M$1),"",SMALL(IF(('fichier actuel'!$B$2:$B$77=M$1)*('fichier actuel'!$C$2:$C$77<>""),'fichier actuel'!$C$2:$C$77),ROW()-1))} | L28: {=IF(K28="","",INDEX('fichier actuel'!$D$2:$D$77,MATCH(1,('fichier actuel'!$A$2:$A$77=$A28)*('fichier actuel'!$B$2:$B$77=M$1)*('fichier actuel'!$C$2:$C$77=K28),0)))} | M28: 31 | N28: {=IF(ROW()-1>COUNTIF('fichier actuel'!$B$2:$B$77,P$1),"",SMALL(IF(('fichier actuel'!$B$2:$B$77=P$1)*('fichier actuel'!$C$2:$C$77<>""),'fichier actuel'!$C$2:$C$77),ROW()-1))} | O28: {=IF(N28="","",INDEX('fichier actuel'!$D$2:$D$77,MATCH(1,('fichier actuel'!$A$2:$A$77=$A28)*('fichier actuel'!$B$2:$B$77=P$1)*('fichier actuel'!$C$2:$C$77=N28),0)))} | P28: 33 | Q28: {=IF(ROW()-1>COUNTIF('fichier actuel'!$B$2:$B$77,S$1),"",SMALL(IF(('fichier actuel'!$B$2:$B$77=S$1)*('fichier actuel'!$C$2:$C$77<>""),'fichier actuel'!$C$2:$C$77),ROW()-1))} | R28: {=IF(Q28="","",INDEX('fichier actuel'!$D$2:$D$77,MATCH(1,('fichier actuel'!$A$2:$A$77=$A28)*('fichier actuel'!$B$2:$B$77=S$1)*('fichier actuel'!$C$2:$C$77=Q28),0)))} | S28: 44 | T28: {=IF(ROW()-1>COUNTIF('fichier actuel'!$B$2:$B$77,V$1),"",SMALL(IF(('fichier actuel'!$B$2:$B$77=V$1)*('fichier actuel'!$C$2:$C$77<>""),'fichier actuel'!$C$2:$C$77),ROW()-1))} | U28: {=IF(T28="","",INDEX('fichier actuel'!$D$2:$D$77,MATCH(1,('fichier actuel'!$A$2:$A$77=$A28)*('fichier actuel'!$B$2:$B$77=V$1)*('fichier actuel'!$C$2:$C$77=T28),0)))} | V28: 35 | W28: {=IF(ROW()-1>COUNTIF('fichier actuel'!$B$2:$B$77,Y$1),"",SMALL(IF(('fichier actuel'!$B$2:$B$77=Y$1)*('fichier actuel'!$C$2:$C$77<>""),'fichier actuel'!$C$2:$C$77),ROW()-1))} | X28: {=IF(W28="","",INDEX('fichier actuel'!$D$2:$D$77,MATCH(1,('fichier actuel'!$A$2:$A$77=$A28)*('fichier actuel'!$B$2:$B$77=Y$1)*('fichier actuel'!$C$2:$C$77=W28),0)))} | Y28: 59 | Z28: {=IF(ROW()-1>COUNTIF('fichier actuel'!$B$2:$B$77,AB$1),"",SMALL(IF(('fichier actuel'!$B$2:$B$77=AB$1)*('fichier actuel'!$C$2:$C$77<>""),'fichier actuel'!$C$2:$C$77),ROW()-1))} | AA28: {=IF(Z28="","",INDEX('fichier actuel'!$D$2:$D$77,MATCH(1,('fichier actuel'!$A$2:$A$77=$A28)*('fichier actuel'!$B$2:$B$77=AB$1)*('fichier actuel'!$C$2:$C$77=Z28),0)))} | AB28: 67
A29: sr329 | B29: =IF(ROW()-1>COUNTIF('fichier actuel'!$B$2:$B$78,D$1),"",SMALL(IF(('fichier actuel'!$B$2:$B$78=D$1)*('fichier actuel'!$C$2:$C$78<>""),'fichier actuel'!$C$2:$C$78),ROW()-1)) -> #NUM! | C29: {=IF(B29="","",INDEX('fichier actuel'!$D$2:$D$77,MATCH(1,('fichier actuel'!$A$2:$A$77=$A29)*('fichier actuel'!$B$2:$B$77=D$1)*('fichier actuel'!$C$2:$C$77=B29),0)))} -> #NUM!
B30: =IF(ROW()-1>COUNTIF('fichier actuel'!$B$2:$B$78,D$1),"",SMALL(IF(('fichier actuel'!$B$2:$B$78=D$1)*('fichier actuel'!$C$2:$C$78<>""),'fichier actuel'!$C$2:$C$78),ROW()-1)) | C30: {=IF(B30="","",INDEX('fichier actuel'!$D$2:$D$77,MATCH(1,('fichier actuel'!$A$2:$A$77=$A30)*('fichier actuel'!$B$2:$B$77=D$1)*('fichier actuel'!$C$2:$C$77=B30),0)))}

Sheet fichier actuel
A1: Référence | B1: Ville | C1: date de début | D1: date de fin
A2: A1 | B2: Aix en Provence | C2: 41547 | D2: 41551
A3: A1 | B3: Aix en Provence | C3: 41617 | D3: 41621
A4: A1 | B4: Aix en Provence | C4: 41666 | D4: 41670
A5: A1 | B5: Aix en Provence | C5: 41729 | D5: 41733
A6: A1 | B6: Aix en Provence | C6: 41806 | D6: 41810
A7: A1 | B7: Aix en Provence | C7: 41890 | D7: 41894
A8: A1 | B8: Aix en Provence | C8: 41939 | D8: 41943
A9: A1 | B9: Bordeaux | C9: 41554 | D9: 41558
A10: A1 | B10: Bordeaux | C10: 41610 | D10: 41614
A11: A1 | B11: Bordeaux | C11: 41687 | D11: 41691
A12: A1 | B12: Bordeaux | C12: 41743 | D12: 41747
A13: A1 | B13: Bordeaux | C13: 41806 | D13: 41810
... A78: A2 | B78: Paris | C78: 41434 | D78: 41437
