Workbook

Sheet Achat 1 et unique habitation
B2: Simulateur de l'achat de la 1 et unique habitation
B4: Veuillez d'abord préciser la nature de votre projet ? | K4: Le budget nécessaire
B6: Région d'achat | E6: Bruxelles | G6: Flandre | I6: Wallonie | M6: Bruxelles | O6: Flandre | Q6: Wallonie
B8: Prix d'achat du logement | E8: 200000 | K8: Moyens propres
B10: Le % des frais d'acte à appliquer ? | E10: 0.125 | G10: 0.1 | I10: 0.125 | K10: Mensualité pour financer le projet
B12: En Flandre vous pouvez bénéficier d’un abattement (= diminution de la base imposable) de € 15.000 à l’achat | K12: Total des besoins | M12: =E40-M8 -> 226267.75 | O12: =G40-M8 -> 225267.75 | Q12: =I40-M8 -> 223367.75
B13: de votre première résidence principale. Un abattement complémentaire de 10.000 € est prévu si le taux des droits
B14: d'enregistrement s'élève à 10 %. Si le taux s'élève à 5 % l'abattement complémentaire sera de 20.000 € | K14: Formule | M14: 10/5/5
B16: A Bruxelles lors de l'achat de l'unique et seule habitation, l'abattement s'élève à 60.000 € | K16: Augmentation maximale en % | M16: 0.02
B18: Un bien se trouvant, en Wallonie, dans une zone de pression immobilière peut bénéficier d'un taux réduit sur 160.000 €. | K18: Durée en années | M18: 15
B19: Le taux réduit s’élève à 6%. En dehors de cette zone, le taux réduit s'appliquera sur 150.000 €.
B20: Le solde du prix d'achat sera taxé à 12,5%. | K20: Durée en mois | M20: =M18*12 -> 180
B22: Liste des zones de pression immobilère | K22: Taux annuel | M22: 0.02
B24: Les coûts liés au projet | K24: Taux mensuel | M24: =NOMINAL(M22,12)/12 -> 0.0016515813
K26: Mensualité à payer | M26: =-PMT((1+M22)^(1/12)-1,M18*12,M12) -> 1454.1673 | O26: =-PMT((1+M22)^(1/12)-1,M18*12,O12) -> 1447.7406 | Q26: =-PMT((1+M22)^(1/12)-1,M18*12,Q12) -> 1435.5297
B28: Montant abattement si achat seule et unique habitation | E28: 60000 | G28: 35000 | K28: Taux maximum après révision | M28: =M22+M16 -> 0.04
B30: Frais liés à l'acte d'achat du logement | E30: ='Données simulateur'!B9 -> 21328.032 | G30: ='Données simulateur'!B77 -> 20328.032 | I30: ='Données simulateur'!B146 -> 18428.032 | K30: Mensualité maximum | M30: =-PMT((1+M28)^(1/12)-1,M18*12,M12) -> 1665.5781 | O30: =-PMT((1+M28)^(1/12)-1,M18*12,O12) -> 1658.2171 | Q30: =-PMT((1+M28)^(1/12)-1,M18*12,Q12) -> 1644.231
B32: Coût des transformations Tva comprise
B34: Honoraires d'architecte Tva comprise
B36: Autre dépenses
B38: Frais liés à l'acte de crédit de l'achat | E38: ='Données simulateur'!B18 -> 4939.7152 | G38: ='Données simulateur'!B86 -> 4939.7152 | I38: ='Données simulateur'!B155 -> 4939.7152
B40: Coût total de votre projet | E40: =SUM(E8,E30,E32,E34,E36,E38) -> 226267.75 | G40: =SUM(E8,G30,G32,G34,G36,G38) -> 225267.75 | I40: =SUM(E8,I30,I32,I34,I36,I38) -> 223367.75

Sheet Données simulateur
A1: Simulateur Achat Logement Bruxelles | H1: Simulateur Achat Logement Bruxelles | U1: Simulateur Rachat crédit | AB1: Frais de main levée | AN1: Frais d'acte | AO1: Frais d'acte | AP1: Frais d'acte | AQ1: Variabilité | AR1: Oui - Non | AS1: Région | AT1: Abattement | AU1: Abattement | AV1: Années | AW1: CAP | AX1: Pression immo | AZ1: Zone A
A2: Calcul des frais de notaire | B2: ='Achat 1 et unique habitation'!E10 -> 0.125 | H2: Calcul des frais de notaire | I2: ='Achat 1 et unique habitation'!L10 -> 0 | U2: Calcul des frais de notaire | V2: ='Achat 1 et unique habitation'!U8 -> 0 | AB2: Montant initial du prêt | AF2: =#REF! -> #REF! | AI2: 25000 | AJ2: 391.1 | AL2: 25000 | AM2: 391.1
A3: Prix d'achat | B3: ='Achat 1 et unique habitation'!E8 -> 200000 | H3: Prix d'achat | I3: ='Achat 1 et unique habitation'!L8 -> 0 | U3: Prix d'achat | V3: =#REF! -> #REF! | AI3: 30000 | AJ3: 423.98 | AL3: 30000 | AM3: 423.98 | AN3: 0.125 | AO3: 0.1 | AP3: 0.125 | AQ3: 5/5/5 | AR3: Oui | AS3: Bruxelles | AT3: 60000 | AU3: 25000 | AV3: 10 | AW3: 0.02 | AX3: Arlon | AY3: Montant | AZ3: ='Achat 1 et unique habitation'!E8 -> 200000
A4: Abattement | B4: ='Achat 1 et unique habitation'!E28 -> 60000 | H4: Frais d'enregistrement | I4: =(I3-#REF!)*I2 -> #REF! | U4: Abattement | V4: ='Achat 1 et unique habitation'!V18 -> 0 | AB4: HONORAIRE NOTAIRE - Frais de main levéeActe d'achat | AI4: 40000 | AJ4: 431.08 | AL4: 40000 | AM4: 431.08 | AN4: 0.06 | AO4: 0.05 | AQ4: 10/5/5 | AR4: Non | AS4: Wallonie | AU4: 35000 | AV4: 11 | AW4: 0.03 | AX4: Assesse
A5: Frais d'enregistrement | B5: =(B3-B4)*B2 -> 17500 | H5: honoraire | I5: =L41 -> 0 | U5: Frais d'enregistrement | V5: =(V3-V4)*V2 -> #REF! | AB5: Pallier | AD5: Différence | AE5: Taux | AF5: Total | AI5: 50000 | AJ5: 453.29 | AL5: 50000 | AM5: 453.29 | AQ5: 10 ans fixe | AS5: Flandre | AV5: 12 | AW5: 0.04 | AX5: Aubel | AY5: Plafond | AZ5: 160000
A6: honoraire | B6: =E42 -> 2163.663 | H6: Frais divers | I6: 1000 | U6: honoraire | V6: =Y42 -> #REF! | AB6: 0 | AC6: 7500 | AD6: =AC6-AB6 -> 7500 | AE6: 0.0399 | AF6: =IF(AF2<=AC6,AF2*AE6) -> #REF! | AI6: 60000 | AJ6: 464.69 | AL6: 60000 | AM6: 464.69 | AQ6: 15 ans fixe | AV6: 13 | AW6: 0.05 | AX6: Beauvechain
A7: Frais divers | B7: 1000 | H7: Tva 21% | I7: =(I5+I6)*21% -> 210 | U7: Frais divers | V7: 0 | AC7: Srdu | AD7: =AC3-AD6 -> -7500 | AF7: =IF(AF2>AC6,AD6*AE6) -> #REF! | AI7: 70000 | AJ7: 472.58 | AL7: 70000 | AM7: 472.58 | AQ7: 20 ans fixe | AV7: 14 | AX7: Braine-l’Alleud | AY7: Taux réduit | AZ7: 0.06
A8: Tva 21% | B8: =(B6+B7)*21% -> 664.36923 | H8: Total acte d'achat | I8: =I4+I5+I6+I7 -> #REF! | U8: Tva 21% | V8: 0 | AI8: 80000 | AJ8: 496.1 | AL8: 80000 | AM8: 496.1 | AQ8: 25 ans fixe | AV8: 15 | AX8: Braine-le-Château
A9: Total acte d'achat | B9: =B5+B6+B7+B8 -> 21328.032 | U9: Total acte d'achat | V9: =V5+V6+V7+V8 -> #REF! | AB9: 7500 | AC9: 17500 | AD9: =AC9-AB9 -> 10000 | AE9: 0.0342 | AF9: =IF(AND(AF2>AB9,AF2<=AC9),AD7*AE9) -> #REF! | AI9: 90000 | AJ9: 501.8 | AL9: 90000 | AM9: 501.8 | AQ9: 30 ans fixe | AV9: 16 | AX9: Chastre | AY9: Taux Normal | AZ9: 0.125
H10: Montant hors acte hypothécaire | I10: ='Achat 1 et unique habitation'!L8 -> 0 | AC10: Srdu | AD10: =AD7-AD9 -> -17500 | AF10: =IF(AF2>AC9,AD9*AE9) -> #REF! | AI10: 100000 | AJ10: 525.33 | AL10: 100000 | AM10: 525.33 | AV10: 17 | AX10: Chaumont-Gistoux
A11: Montant hors acte hypothécaire | B11: ='Achat 1 et unique habitation'!E8 -> 200000 | H11: Frais enregistrement + 10 % | I11: =(I10*0.01)*1.1 -> 0 | U11: Montant hors acte hypothécaire | V11: =#REF!+#REF! -> #REF! | AI11: 125000 | AJ11: 557.97 | AL11: 125000 | AM11: 557.97 | AV11: 18 | AX11: Court-Saint-Etienne | AY11: Droits | AZ11: =IF(AZ3<=AZ5,AZ3*AZ7,(AZ5*AZ7)+(AZ3-AZ5)*AZ9) -> 14600
A12: Frais enregistrement + 10 % | B12: =(B11*0.01)*1.1 -> 2200 | H12: Honoraire | I12: =L65 -> 0 | U12: Frais enregistrement + 10 % | V12: =(V11*0.01)*1.1 -> #REF! | AB12: 17500 | AC12: 30000 | AD12: =AC12-AB12 -> 12500 | AE12: 0.0228 | AF12: =IF(AND(AF2>AB12,AF2<=AC12),AD10*AE12) -> #REF! | AI12: 150000 | AJ12: 589.47 | AL12: 150000 | AM12: 589.47 | AV12: 19 | AX12: Donceel
A13: Honoraire | B13: =E66 -> 879.7152 | H13: Frais divers | I13: 1000 | U13: Honoraire | V13: =Y66 -> #REF! | AC13: Srdu | AD13: =AD10-AD12 -> -30000 | AF13: =IF(AF2>AC12,AD12*AE12) -> #REF! | AI13: 175000 | AJ13: 623.26 | AL13: 175000 | AM13: 623.26 | AV13: 20 | AX13: Eghezée
A14: Frais divers | B14: 1000 | H14: Inscripition | I14: =I11*0.003*100 -> 0 | U14: Frais divers | V14: 1000 | AI14: 200000 | AJ14: 654.67 | AL14: 200000 | AM14: 654.67 | AV14: 21 | AX14: Erezée
A15: Inscripition | B15: =B12*0.003*100 -> 660 | H15: Salaire conservateur | I15: =I10*0.001 -> 0 | U15: Inscripition | V15: =V12*0.003*100 -> #REF! | AB15: 30000 | AC15: 45495 | AD15: =AC15-AB15 -> 15495 | AE15: 0.0171 | AF15: =IF(AND(AF2>AB15,AF2<=AC15),AD13*AE15) -> #REF! | AI15: 250000 | AJ15: 697.66 | AL15: 250000 | AM15: 697.66 | AV15: 22 | AX15: Gembloux
A16: Salaire conservateur | B16: =B11*0.001 -> 200 | H16: Tva 21% | I16: =(I12+I13)*21% -> 210 | U16: Salaire conservateur | V16: =V11*0.001 -> #REF! | AC16: Srdu | AD16: =AD13-AD15 -> -45495 | AF16: =IF(AF2>AC15,AD15*AE15) -> #REF! | AI16: 500000 | AJ16: 952.92 | AL16: 500000 | AM16: 952.92 | AV16: 23 | AX16: Genappe
A17: Tva 21% | B17: =(B13+B14)*21% -> 394.74019 | H17: Total acte hypothécaire | I17: =SUM(I11:I15) -> 1000 | U17: Tva 21% | V17: =(V13+V14)*21% -> #REF! | AV17: 24 | AX17: Grez-Doiceau
A18: Total acte hypothécaire | B18: =SUM(B12:B16) -> 4939.7152 | U18: Total acte hypothécaire | V18: =SUM(V12:V16) -> #REF! | AB18: 45495 | AC18: 64095 | AD18: =AC18-AB18 -> 18600 | AE18: 0.0114 | AF18: =IF(AND(AF2>AB18,AF2<=AC18),AD16*AE18) -> #REF! | AV18: 25 | AX18: Hélécine
H19: HONORAIRE NOTAIRE - Acte d'achat - tableau J | AC19: Srdu | AD19: =AD16-AD18 -> -64095 | AF19: =IF(AF2>AC18,AD18*AE18) -> #REF! | AV19: 26 | AX19: Incourt
A20: HONORAIRE NOTAIRE - Acte d'achat - tableau J | H20: Pallier | J20: Différence | K20: Taux | L20: Total | U20: HONORAIRE NOTAIRE - Acte d'achat | AV20: 27 | AX20: Ittre
A21: Pallier | C21: Différence | D21: Taux | E21: Total | H21: 0 | I21: 7500 | J21: =I21-H21 -> 7500 | K21: 0.0456 | L21: =IF(I3<=I21,I3*K21) -> 0 | U21: Pallier | W21: Différence | X21: Taux | Y21: Total | AB21: 64095 | AC21: 250095 | AD21: =AC21-AB21 -> 186000 | AE21: 0.0057 | AF21: =IF(AND(AF2>AB21,AF2<=AC21),AD19*AE21) -> #REF! | AV21: 28 | AX21: Jalhay
A22: 0 | B22: 7500 | C22: =B22-A22 -> 7500 | D22: 0.0456 | E22: =IF(B3<=B22,B3*D22) -> FALSE | I22: Srdu | J22: =I3-J21 -> -7500 | L22: =IF(I3>I21,J21*K21) -> FALSE | U22: 0 | V22: 7500 | W22: =V22-U22 -> 7500 | X22: 0.0456 | Y22: =IF(V3<=V22,V3*X22) -> #REF! | AC22: Srdu | AD22: =AD19-AD21 -> -250095 | AF22: =IF(AF2>AC21,AD21*AE21) -> #REF! | AV22: 29 | AX22: Jodoigne
B23: Srdu | C23: =B3-C22 -> 192500 | E23: =IF(B3>B22,C22*D22) -> 342 | V23: Srdu | W23: =V3-W22 -> #REF! | Y23: =IF(V3>V22,W22*X22) -> #REF! | AV23: 30 | AX23: La Hulpe
H24: 7500 | I24: 17500 | J24: =I24-H24 -> 10000 | K24: 0.0285 | L24: =IF(AND(I3>H24,I3<=I24),J22*K24) -> FALSE | AB24: 250095 | AC24: - | AE24: 0.0228 | AF24: =IF(AND(AF2>AB24),AD22*AE24) -> #REF! | AX24: Lasne
A25: 7500 | B25: 17500 | C25: =B25-A25 -> 10000 | D25: 0.0285 | E25: =IF(AND(B3>A25,B3<=B25),C23*D25) -> FALSE | I25: Srdu | J25: =J22-J24 -> -17500 | L25: =IF(I3>I24,J24*K24) -> FALSE | U25: 7500 | V25: 17500 | W25: =V25-U25 -> 10000 | X25: 0.0285 | Y25: =IF(AND(V3>U25,V3<=V25),W23*X25) -> #REF! | AC25: Srdu | AX25: Mont-Saint-Guibert
B26: Srdu | C26: =C23-C25 -> 182500 | E26: =IF(B3>B25,C25*D25) -> 285 | V26: Srdu | W26: =W23-W25 -> #REF! | Y26: =IF(V3>V25,W25*X25) -> #REF! | AB26: Total | AF26: =SUM(AF6:AF25) -> #REF! | AX26: Namur
H27: 17500 | I27: 30000 | J27: =I27-H27 -> 12500 | K27: 0.0228 | L27: =IF(AND(I3>H27,I3<=I27),J25*K27) -> FALSE | AX27: Nivelles
A28: 17500 | B28: 30000 | C28: =B28-A28 -> 12500 | D28: 0.0228 | E28: =IF(AND(B3>A28,B3<=B28),C26*D28) -> FALSE | I28: Srdu | J28: =J25-J27 -> -30000 | L28: =IF(I3>I27,J27*K27) -> FALSE | U28: 17500 | V28: 30000 | W28: =V28-U28 -> 12500 | X28: 0.0228 | Y28: =IF(AND(V3>U28,V3<=V28),W26*X28) -> #REF! | AX28: Orp-Jauche
B29: Srdu | C29: =C26-C28 -> 170000 | E29: =IF(B3>B28,C28*D28) -> 285 | V29: Srdu | W29: =W26-W28 -> #REF! | Y29: =IF(V3>V28,W28*X28) -> #REF! | AX29: Ottignies-Louvain-la-Neuve
H30: 30000 | I30: 45495 | J30: =I30-H30 -> 15495 | K30: 0.0171 | L30: =IF(AND(I3>H30,I3<=I30),J28*K30) -> FALSE | AX30: Perwez
A31: 30000 | B31: 45495 | C31: =B31-A31 -> 15495 | D31: 0.0171 | E31: =IF(AND(B3>A31,B3<=B31),C29*D31) -> FALSE | I31: Srdu | J31: =J28-J30 -> -45495 | L31: =IF(I3>I30,J30*K30) -> FALSE | U31: 30000 | V31: 45495 | W31: =V31-U31 -> 15495 | X31: 0.0171 | Y31: =IF(AND(V3>U31,V3<=V31),W29*X31) -> #REF! | AX31: Profondville
B32: Srdu | C32: =C29-C31 -> 154505 | E32: =IF(B3>B31,C31*D31) -> 264.9645 | V32: Srdu | W32: =W29-W31 -> #REF! | Y32: =IF(V3>V31,W31*X31) -> #REF! | AX32: Ramillies
H33: 45495 | I33: 64095 | J33: =I33-H33 -> 18600 | K33: 0.0114 | L33: =IF(AND(I3>H33,I3<=I33),J31*K33) -> FALSE | AX33: Rixensart
A34: 45495 | B34: 64095 | C34: =B34-A34 -> 18600 | D34: 0.0114 | E34: =IF(AND(B3>A34,B3<=B34),C32*D34) -> FALSE | I34: Srdu | J34: =J31-J33 -> -64095 | L34: =IF(I3>I33,J33*K33) -> FALSE | U34: 45495 | V34: 64095 | W34: =V34-U34 -> 18600 | X34: 0.0114 | Y34: =IF(AND(V3>U34,V3<=V34),W32*X34) -> #REF! | AX34: Sainte-Ode
B35: Srdu | C35: =C32-C34 -> 135905 | E35: =IF(B3>B34,C34*D34) -> 212.04 | V35: Srdu | W35: =W32-W34 -> #REF! | Y35: =IF(V3>V34,W34*X34) -> #REF! | AX35: Silly
H36: 64095 | I36: 250095 | J36: =I36-H36 -> 186000 | K36: 0.0057 | L36: =IF(AND(I3>H36,I3<=I36),J34*K36) -> FALSE | AX36: Thimister-Clermont
A37: 64095 | B37: 250095 | C37: =B37-A37 -> 186000 | D37: 0.0057 | E37: =IF(AND(B3>A37,B3<=B37),C35*D37) -> 774.6585 | I37: Srdu | J37: =J34-J36 -> -250095 | L37: =IF(I3>I36,J36*K36) -> FALSE | U37: 64095 | V37: 250095 | W37: =V37-U37 -> 186000 | X37: 0.0057 | Y37: =IF(AND(V3>U37,V3<=V37),W35*X37) -> #REF! | AX37: Villers-la-Ville
B38: Srdu | C38: =C35-C37 -> -50095 | E38: =IF(B3>B37,C37*D37) -> FALSE | V38: Srdu | W38: =W35-W37 -> #REF! | Y38: =IF(V3>V37,W37*X37) -> #REF! | AX38: Walhain
H39: 250095 | I39: - | K39: 0.00057 | L39: =IF(AND(I3>H39),J37*K39) -> FALSE | AX39: Waterloo
A40: 250095 | B40: - | D40: 0.00057 | E40: =IF(AND(B3>A40),C38*D40) -> FALSE | I40: Srdu | U40: 250095 | V40: - | X40: 0.00057 | Y40: =IF(AND(V3>U40),W38*X40) -> #REF! | AX40: Wavre
...

Sheet Calcul Sharney
B1: Les cellules en bleu, sont des cellules à calcul automatique, merci de ne pas y toucher !
B3: Données manuelles | J3: Calculs frais liés à l'acte d'achat du logement
C5: Région concernée : | D5: Flandres | F5: Prix d'acquisition : | G5: 200000 | K5: Montant droits d'enregistrement : | M5: =IF($D$18<>"",IF($G$5>$E$19,$E$19*0.06+($G$5-$E$19)*0.125,$G$5*0.06),($G$5-$G$16)*$D$16) -> 17500
C7: Revenus cadastrals : | D7: 2000 | F7: Nombre d'enfants à charge : | G7: 5 | K7: Frais de notaire : | M7: =IF($G$5<=7500,$G$5*0.0456,IF($G$5<=17500,7500*0.0456+($G$5-7500)*0.0285,IF($G$5<=30000,7500*0.0456+(17500-7500)*0.0285+($G$5-17500)*0.0228,IF($G$5<=45495,7500*0.0456+(17500-7500)*0.0285+(30000-17500)*0.0228+($G$5-30000)*0.0171,IF($G$5<=64095,7500*0.0456+(17500-7500)*0.0285+(30000-17500)*0.0228+(45495-30000)*0.0171+($G$5-45495)*0.0114,IF($G$5<=250095,7500*0.0456+(17500-7500)*0.0285+(30000-17500)*0.0228+(45495-30000)*0.0171+(64095-45495)*0.0114+($G$5-64095)*0.0057,IF($G$5>250095,7500*0.0456+(17500-7500)*0.0285+(30000-17500)*0.0228+(45495-30000)*0.0171+(64095-45495)*0.0114+(250095-64095)*0.0057+($G$5-250095)*0.00057,""))))))) -> 2163.663
F9: =IF(D5="Bruxelles","Logement situé en EDRLR ? ",IF(D5="Wallonie","Logement dans une zone à pression immobilière ? ","Non concerné ")) -> Non concerné | G9: NON | K9: Frais divers : | M9: 1000
F11: Est-ce la seule et unique habitation ? | G11: OUI | K11: TVA : | M11: =(M7+M9)*0.21 -> 664.36923
B14: Calcul du taux et des abattements pour droits d'enreg. | L14: Total des frais d'acte d'achat du logement : | M14: =M5+M7+M9+M11 -> 21328.032
C16: Taux calculé : | D16: =IF(D5="Bruxelles",0.125,IF(OR(D7<745,AND(D7<845,G7>=3,G7<=4),AND(D7<945,G7>=5,G7<=6),AND(D7<1045,G7>=7)),IF(D5="Flandres",0.05,"Taux spécial"),IF(D5="Flandres",0.1,0.125))) -> 0.1 | F16: Abattement calculé : | G16: =IF(AND(D5="Bruxelles",G11="OUI"),IF(G9="OUI",75000,60000),IF(AND(D5="Flandres",G11="OUI"),IF(D16=0.1,25000,35000),0)) -> 25000
J17: Calculs frais d'acte de crédit
C18: Taux spécial calculé : | D18: =IF(AND(D5="Wallonie",OR(D7<745,AND(D7<845,G7>=3,G7<=4),AND(D7<945,G7>=5,G7<=6),AND(D7<1045,G7>=7))),0.06,"") | E18: =IF(D18="",""," pour les premiers "&E19&" € de l'acquisition, puis 12,5%")
E19: =IF(D18="","",IF(G9="OUI",160431.53,150404.55)) | K19: Frais d'enregistrement : | M19: =0.011*$G$5 -> 2200
K21: Honoraires : | M21: =IF($G$5<=7500,$G$5*0.0171,IF($G$5<=17500,7500*0.0171+($G$5-7500)*0.01368,IF($G$5<=30000,7500*0.0171+(17500-7500)*0.01368+($G$5-17500)*0.00912,IF($G$5<=45495,7500*0.0171+(17500-7500)*0.01368+(30000-17500)*0.00912+($G$5-30000)*0.00684,IF($G$5<=64095,7500*0.0171+(17500-7500)*0.01368+(30000-17500)*0.00912+(45495-30000)*0.00684+($G$5-45495)*0.00456,IF($G$5<=250095,7500*0.0171+(17500-7500)*0.01368+(30000-17500)*0.00912+(45495-30000)*0.00684+(64095-45495)*0.00456+($G$5-64095)*0.00228,IF($G$5>250095,7500*0.0171+(17500-7500)*0.01368+(30000-17500)*0.00912+(45495-30000)*0.00684+(64095-45495)*0.00456+(250095-64095)*0.00228+($G$5-250095)*0.000456))))))) -> 879.7152
K23: Frais divers : | M23: 1000
K25: Inscription : | M25: =0.003*$G$5 -> 600
K27: Salaire conservateur : | M27: =0.001*$G$5 -> 200
K29: TVA : | M29: =(M25+M27)*0.21 -> 168
L32: Total des frais d'acte d'achat du logement : | M32: =M19+M21+M23+M25+M27+M29 -> 5047.7152
