Workbook

Sheet BDD
A1: N°Article | B1: Libellé | C1: Prix HT | F1: Mois | G1: N° Mois
A2: 1234 | B2: SERVIETTES 8/8 | C2: 1 | F2: Janvier | G2: 1
A3: 2345 | B3: NAPPES 9/15 | C3: 2 | F3: Février | G3: 2
F4: Mars | G4: 3
F5: Avril | G5: 4
F6: Mai | G6: 5
F7: Juin | G7: 6
F8: Juillet | G8: 7
F9: Août | G9: 8
F10: Septembre | G10: 9
F11: Octobre | G11: 10
F12: Novembre | G12: 11
F13: Décembre | G13: 12

Sheet Réception
B1: Bons de réception | D1: Janvier 2015
A3: N°Article | B3: Article | C3: 42005 | D3: 42006 | E3: 42007 | F3: 42008 | G3: 42009 | H3: 42010 | I3: 42011 | J3: 42012 | K3: 42013 | L3: 42014 | N3: 1ère Décade | P3: 42015 | Q3: 42016 | R3: 42017 | S3: 42018 | T3: 42019 | U3: 42020 | V3: 42021 | W3: 42022 | X3: 42023 | Z3: 2e Décade | AB3: 42024 | AC3: 42025 | AD3: 42026 | AE3: 42027 | AF3: 42028 | AG3: 42029 | AH3: 42030 | AI3: 42031 | AJ3: 42032 | AK3: 42033 | AL3: 42034 | AM3: 42035 | AO3: 3e Décade | AS3: TOTAL MOIS
A4: 1234 | B4: =IFERROR(VLOOKUP(A4,Tableau1[[#All],[N°Article]:[Libellé]],2,FALSE),"") -> SERVIETTES 8/8 | N4: =SUM(C4:L4) -> 0 | T4: 4 | Z4: =SUM(O4:X4) -> 4 | AI4: 10 | AO4: =SUM(AD4:AM4) -> 10 | AR4: =B4 -> SERVIETTES 8/8 | AS4: =SUM(N4,Z4,AO4) -> 14
A5: 2345 | B5: =IFERROR(VLOOKUP(A5,Tableau1[[#All],[N°Article]:[Libellé]],2,FALSE),"") -> NAPPES 9/15 | E5: 5 | N5: =SUM(C5:L5) -> 5 | Z5: =SUM(O5:X5) -> 0 | AI5: 2 | AO5: =SUM(AD5:AM5) -> 2 | AR5: =B5 -> NAPPES 9/15 | AS5: =SUM(N5,Z5,AO5) -> 7
B6: =IFERROR(VLOOKUP(A6,Tableau1[[#All],[N°Article]:[Libellé]],2,FALSE),"") | N6: =SUM(C6:L6) -> 0 | Z6: =SUM(O6:X6) -> 0 | AO6: =SUM(AD6:AM6) -> 0 | AR6: =B6 | AS6: =SUM(N6,Z6,AO6) -> 0
B7: =IFERROR(VLOOKUP(A7,Tableau1[[#All],[N°Article]:[Libellé]],2,FALSE),"") | N7: =SUM(C7:L7) -> 0 | Z7: =SUM(O7:X7) -> 0 | AO7: =SUM(AD7:AM7) -> 0 | AR7: =B7 | AS7: =SUM(N7,Z7,AO7) -> 0
B8: =IFERROR(VLOOKUP(A8,Tableau1[[#All],[N°Article]:[Libellé]],2,FALSE),"") | N8: =SUM(C8:L8) -> 0 | Z8: =SUM(O8:X8) -> 0 | AO8: =SUM(AD8:AM8) -> 0 | AR8: =B8 | AS8: =SUM(N8,Z8,AO8) -> 0
B9: =IFERROR(VLOOKUP(A9,Tableau1[[#All],[N°Article]:[Libellé]],2,FALSE),"") | N9: =SUM(C9:L9) -> 0 | Z9: =SUM(O9:X9) -> 0 | AO9: =SUM(AD9:AM9) -> 0 | AR9: =B9 | AS9: =SUM(N9,Z9,AO9) -> 0
B10: =IFERROR(VLOOKUP(A10,Tableau1[[#All],[N°Article]:[Libellé]],2,FALSE),"") | N10: =SUM(C10:L10) -> 0 | Z10: =SUM(O10:X10) -> 0 | AO10: =SUM(AD10:AM10) -> 0 | AR10: =B10 | AS10: =SUM(N10,Z10,AO10) -> 0
B11: =IFERROR(VLOOKUP(A11,Tableau1[[#All],[N°Article]:[Libellé]],2,FALSE),"") | N11: =SUM(C11:L11) -> 0 | Z11: =SUM(O11:X11) -> 0 | AO11: =SUM(AD11:AM11) -> 0 | AR11: =B11 | AS11: =SUM(N11,Z11,AO11) -> 0
B12: =IFERROR(VLOOKUP(A12,Tableau1[[#All],[N°Article]:[Libellé]],2,FALSE),"") | N12: =SUM(C12:L12) -> 0 | Z12: =SUM(O12:X12) -> 0 | AO12: =SUM(AD12:AM12) -> 0 | AR12: =B12 | AS12: =SUM(N12,Z12,AO12) -> 0
B14: Bons de réception | D14: Février 2015
A16: N°Article | B16: Article | C16: 42036 | D16: 42037 | E16: 42038 | F16: 42039 | G16: 42040 | H16: 42041 | I16: 42042 | J16: 42043 | K16: 42044 | L16: 42045 | N16: 1ère Décade | P16: 42046 | Q16: 42047 | R16: 42048 | S16: 42049 | T16: 42050 | U16: 42051 | V16: 42052 | W16: 42053 | X16: 42054 | Z16: 2e Décade | AB16: 42055 | AC16: 42056 | AD16: 42057 | AE16: 42058 | AF16: 42059 | AG16: 42060 | AH16: 42061 | AI16: 42062 | AJ16: 42063 | AO16: 3e Décade | AS16: TOTAL MOIS
A17: 1234 | B17: =IFERROR(VLOOKUP(A17,Tableau1[[#All],[N°Article]:[Libellé]],2,FALSE),"") -> SERVIETTES 8/8 | N17: =SUM(C17:L17) -> 0 | Z17: =SUM(O17:X17) -> 0 | AO17: =SUM(AD17:AM17) -> 0 | AR17: =B17 -> SERVIETTES 8/8 | AS17: =SUM(N17,Z17,AO17) -> 0
A18: 2345 | B18: =IFERROR(VLOOKUP(A18,Tableau1[[#All],[N°Article]:[Libellé]],2,FALSE),"") -> NAPPES 9/15 | N18: =SUM(C18:L18) -> 0 | Z18: =SUM(O18:X18) -> 0 | AO18: =SUM(AD18:AM18) -> 0 | AR18: =B18 -> NAPPES 9/15 | AS18: =SUM(N18,Z18,AO18) -> 0
B19: =IFERROR(VLOOKUP(A19,Tableau1[[#All],[N°Article]:[Libellé]],2,FALSE),"") | N19: =SUM(C19:L19) -> 0 | Z19: =SUM(O19:X19) -> 0 | AO19: =SUM(AD19:AM19) -> 0 | AR19: =B19 | AS19: =SUM(N19,Z19,AO19) -> 0
B20: =IFERROR(VLOOKUP(A20,Tableau1[[#All],[N°Article]:[Libellé]],2,FALSE),"") | N20: =SUM(C20:L20) -> 0 | Z20: =SUM(O20:X20) -> 0 | AO20: =SUM(AD20:AM20) -> 0 | AR20: =B20 | AS20: =SUM(N20,Z20,AO20) -> 0
B21: =IFERROR(VLOOKUP(A21,Tableau1[[#All],[N°Article]:[Libellé]],2,FALSE),"") | N21: =SUM(C21:L21) -> 0 | Z21: =SUM(O21:X21) -> 0 | AO21: =SUM(AD21:AM21) -> 0 | AR21: =B21 | AS21: =SUM(N21,Z21,AO21) -> 0
B22: =IFERROR(VLOOKUP(A22,Tableau1[[#All],[N°Article]:[Libellé]],2,FALSE),"") | N22: =SUM(C22:L22) -> 0 | Z22: =SUM(O22:X22) -> 0 | AO22: =SUM(AD22:AM22) -> 0 | AR22: =B22 | AS22: =SUM(N22,Z22,AO22) -> 0
B23: =IFERROR(VLOOKUP(A23,Tableau1[[#All],[N°Article]:[Libellé]],2,FALSE),"") | N23: =SUM(C23:L23) -> 0 | Z23: =SUM(O23:X23) -> 0 | AO23: =SUM(AD23:AM23) -> 0 | AR23: =B23 | AS23: =SUM(N23,Z23,AO23) -> 0
B24: =IFERROR(VLOOKUP(A24,Tableau1[[#All],[N°Article]:[Libellé]],2,FALSE),"") | N24: =SUM(C24:L24) -> 0 | Z24: =SUM(O24:X24) -> 0 | AO24: =SUM(AD24:AM24) -> 0 | AR24: =B24 | AS24: =SUM(N24,Z24,AO24) -> 0
B25: =IFERROR(VLOOKUP(A25,Tableau1[[#All],[N°Article]:[Libellé]],2,FALSE),"") | N25: =SUM(C25:L25) -> 0 | Z25: =SUM(O25:X25) -> 0 | AO25: =SUM(AD25:AM25) -> 0 | AR25: =B25 | AS25: =SUM(N25,Z25,AO25) -> 0
B27: Bons de réception | D27: Mars 2015
A29: N°Article | B29: Article | C29: 42064 | D29: 42065 | E29: 42066 | F29: 42067 | G29: 42068 | H29: 42069 | I29: 42070 | J29: 42071 | K29: 42072 | L29: 42073 | N29: 1ère Décade | P29: 42074 | Q29: 42075 | R29: 42076 | S29: 42077 | T29: 42078 | U29: 42079 | V29: 42080 | W29: 42081 | X29: 42082 | Z29: 2e Décade | AB29: 42083 | AC29: 42084 | AD29: 42085 | AE29: 42086 | AF29: 42087 | AG29: 42088 | AH29: 42089 | AI29: 42090 | AJ29: 42091 | AK29: 42092 | AL29: 42093 | AM29: 42094 | AO29: 3e Décade | AS29: TOTAL MOIS
A30: 1234 | B30: =IFERROR(VLOOKUP(A30,Tableau1[[#All],[N°Article]:[Libellé]],2,FALSE),"") -> SERVIETTES 8/8 | N30: =SUM(C30:L30) -> 0 | Z30: =SUM(O30:X30) -> 0 | AO30: =SUM(AD30:AM30) -> 0 | AR30: =B30 -> SERVIETTES 8/8 | AS30: =SUM(N30,Z30,AO30) -> 0
A31: 2345 | B31: =IFERROR(VLOOKUP(A31,Tableau1[[#All],[N°Article]:[Libellé]],2,FALSE),"") -> NAPPES 9/15 | N31: =SUM(C31:L31) -> 0 | Z31: =SUM(O31:X31) -> 0 | AO31: =SUM(AD31:AM31) -> 0 | AR31: =B31 -> NAPPES 9/15 | AS31: =SUM(N31,Z31,AO31) -> 0
B32: =IFERROR(VLOOKUP(A32,Tableau1[[#All],[N°Article]:[Libellé]],2,FALSE),"") | N32: =SUM(C32:L32) -> 0 | Z32: =SUM(O32:X32) -> 0 | AO32: =SUM(AD32:AM32) -> 0 | AR32: =B32 | AS32: =SUM(N32,Z32,AO32) -> 0
B33: =IFERROR(VLOOKUP(A33,Tableau1[[#All],[N°Article]:[Libellé]],2,FALSE),"") | N33: =SUM(C33:L33) -> 0 | Z33: =SUM(O33:X33) -> 0 | AO33: =SUM(AD33:AM33) -> 0 | AR33: =B33 | AS33: =SUM(N33,Z33,AO33) -> 0
B34: =IFERROR(VLOOKUP(A34,Tableau1[[#All],[N°Article]:[Libellé]],2,FALSE),"") | N34: =SUM(C34:L34) -> 0 | Z34: =SUM(O34:X34) -> 0 | AO34: =SUM(AD34:AM34) -> 0 | AR34: =B34 | AS34: =SUM(N34,Z34,AO34) -> 0
B35: =IFERROR(VLOOKUP(A35,Tableau1[[#All],[N°Article]:[Libellé]],2,FALSE),"") | N35: =SUM(C35:L35) -> 0 | Z35: =SUM(O35:X35) -> 0 | AO35: =SUM(AD35:AM35) -> 0 | AR35: =B35 | AS35: =SUM(N35,Z35,AO35) -> 0
B36: =IFERROR(VLOOKUP(A36,Tableau1[[#All],[N°Article]:[Libellé]],2,FALSE),"") | N36: =SUM(C36:L36) -> 0 | Z36: =SUM(O36:X36) -> 0 | AO36: =SUM(AD36:AM36) -> 0 | AR36: =B36 | AS36: =SUM(N36,Z36,AO36) -> 0
B37: =IFERROR(VLOOKUP(A37,Tableau1[[#All],[N°Article]:[Libellé]],2,FALSE),"") | N37: =SUM(C37:L37) -> 0 | Z37: =SUM(O37:X37) -> 0 | AO37: =SUM(AD37:AM37) -> 0 | AR37: =B37 | AS37: =SUM(N37,Z37,AO37) -> 0
B38: =IFERROR(VLOOKUP(A38,Tableau1[[#All],[N°Article]:[Libellé]],2,FALSE),"") | N38: =SUM(C38:L38) -> 0 | Z38: =SUM(O38:X38) -> 0 | AO38: =SUM(AD38:AM38) -> 0 | AR38: =B38 | AS38: =SUM(N38,Z38,AO38) -> 0
B40: Bons de réception | D40: Avril 2015
A42: N°Article | B42: Article | C42: 42095 | D42: 42096 | E42: 42097 | F42: 42098 | G42: 42099 | H42: 42100 | I42: 42101 | J42: 42102 | K42: 42103 | L42: 42104 | N42: 1ère Décade | P42: 42105 | Q42: 42106 | R42: 42107 | S42: 42108 | T42: 42109 | U42: 42110 | V42: 42111 | W42: 42112 | X42: 42113 | Z42: 2e Décade | AB42: 42114 | AC42: 42115 | AD42: 42116 | AE42: 42117 | AF42: 42118 | AG42: 42119 | AH42: 42120 | AI42: 42121 | AJ42: 42122 | AK42: 42123 | AL42: 42124 | AO42: 3e Décade | AS42: TOTAL MOIS
A43: 1234 | B43: =IFERROR(VLOOKUP(A43,Tableau1[[#All],[N°Article]:[Libellé]],2,FALSE),"") -> SERVIETTES 8/8 | N43: =SUM(C43:L43) -> 0 | Z43: =SUM(O43:X43) -> 0 | AO43: =SUM(AD43:AM43) -> 0 | AR43: =B43 -> SERVIETTES 8/8 | AS43: =SUM(N43,Z43,AO43) -> 0
A44: 2345 | B44: =IFERROR(VLOOKUP(A44,Tableau1[[#All],[N°Article]:[Libellé]],2,FALSE),"") -> NAPPES 9/15 | N44: =SUM(C44:L44) -> 0 | Z44: =SUM(O44:X44) -> 0 | AO44: =SUM(AD44:AM44) -> 0 | AR44: =B44 -> NAPPES 9/15 | AS44: =SUM(N44,Z44,AO44) -> 0
B45: =IFERROR(VLOOKUP(A45,Tableau1[[#All],[N°Article]:[Libellé]],2,FALSE),"") | N45: =SUM(C45:L45) -> 0 | Z45: =SUM(O45:X45) -> 0 | AO45: =SUM(AD45:AM45) -> 0 | AR45: =B45 | AS45: =SUM(N45,Z45,AO45) -> 0
B46: =IFERROR(VLOOKUP(A46,Tableau1[[#All],[N°Article]:[Libellé]],2,FALSE),"") | N46: =SUM(C46:L46) -> 0 | Z46: =SUM(O46:X46) -> 0 | AO46: =SUM(AD46:AM46) -> 0 | AR46: =B46 | AS46: =SUM(N46,Z46,AO46) -> 0
B47: =IFERROR(VLOOKUP(A47,Tableau1[[#All],[N°Article]:[Libellé]],2,FALSE),"") | N47: =SUM(C47:L47) -> 0 | Z47: =SUM(O47:X47) -> 0 | AO47: =SUM(AD47:AM47) -> 0 | AR47: =B47 | AS47: =SUM(N47,Z47,AO47) -> 0
...

Sheet Livraison
B1: Bons de réception | D1: Janvier 2015
A3: N°Article | B3: Article | C3: 42005 | D3: 42006 | E3: 42007 | F3: 42008 | G3: 42009 | H3: 42010 | I3: 42011 | J3: 42012 | K3: 42013 | L3: 42014 | N3: 1ère Décade | P3: 42015 | Q3: 42016 | R3: 42017 | S3: 42018 | T3: 42019 | U3: 42020 | V3: 42021 | W3: 42022 | X3: 42023 | Z3: 2e Décade | AB3: 42024 | AC3: 42025 | AD3: 42026 | AE3: 42027 | AF3: 42028 | AG3: 42029 | AH3: 42030 | AI3: 42031 | AJ3: 42032 | AK3: 42033 | AL3: 42034 | AM3: 42035 | AO3: 3e Décade | AS3: TOTAL MOIS
A4: 1234 | B4: =IFERROR(VLOOKUP(A4,Tableau1[[#All],[N°Article]:[Libellé]],2,FALSE),"") -> SERVIETTES 8/8 | N4: =SUM(C4:L4) -> 0 | Q4: 1 | R4: 1 | S4: 5 | T4: 1 | U4: 1 | V4: 1 | W4: 5 | Z4: =SUM(O4:X4) -> 15 | AC4: 1 | AD4: 1 | AE4: 5 | AF4: 1 | AG4: 1 | AH4: 5 | AI4: 1 | AJ4: 1 | AK4: 5 | AO4: =SUM(AD4:AM4) -> 20 | AR4: =B4 -> SERVIETTES 8/8 | AS4: =SUM(N4,Z4,AO4) -> 35
A5: 2345 | B5: =IFERROR(VLOOKUP(A5,Tableau1[[#All],[N°Article]:[Libellé]],2,FALSE),"") -> NAPPES 9/15 | D5: 2 | E5: 2 | F5: 2 | G5: 2 | N5: =SUM(C5:L5) -> 8 | Z5: =SUM(O5:X5) -> 0 | AE5: 2 | AF5: 2 | AG5: 2 | AH5: 2 | AI5: 2 | AJ5: 2 | AO5: =SUM(AD5:AM5) -> 12 | AR5: =B5 -> NAPPES 9/15 | AS5: =SUM(N5,Z5,AO5) -> 20
B6: =IFERROR(VLOOKUP(A6,Tableau1[[#All],[N°Article]:[Libellé]],2,FALSE),"") | N6: =SUM(C6:L6) -> 0 | Z6: =SUM(O6:X6) -> 0 | AO6: =SUM(AD6:AM6) -> 0 | AR6: =B6 | AS6: =SUM(N6,Z6,AO6) -> 0
B7: =IFERROR(VLOOKUP(A7,Tableau1[[#All],[N°Article]:[Libellé]],2,FALSE),"") | N7: =SUM(C7:L7) -> 0 | Z7: =SUM(O7:X7) -> 0 | AO7: =SUM(AD7:AM7) -> 0 | AR7: =B7 | AS7: =SUM(N7,Z7,AO7) -> 0
B8: =IFERROR(VLOOKUP(A8,Tableau1[[#All],[N°Article]:[Libellé]],2,FALSE),"") | N8: =SUM(C8:L8) -> 0 | Z8: =SUM(O8:X8) -> 0 | AO8: =SUM(AD8:AM8) -> 0 | AR8: =B8 | AS8: =SUM(N8,Z8,AO8) -> 0
B9: =IFERROR(VLOOKUP(A9,Tableau1[[#All],[N°Article]:[Libellé]],2,FALSE),"") | N9: =SUM(C9:L9) -> 0 | Z9: =SUM(O9:X9) -> 0 | AO9: =SUM(AD9:AM9) -> 0 | AR9: =B9 | AS9: =SUM(N9,Z9,AO9) -> 0
B10: =IFERROR(VLOOKUP(A10,Tableau1[[#All],[N°Article]:[Libellé]],2,FALSE),"") | N10: =SUM(C10:L10) -> 0 | Z10: =SUM(O10:X10) -> 0 | AO10: =SUM(AD10:AM10) -> 0 | AR10: =B10 | AS10: =SUM(N10,Z10,AO10) -> 0
B11: =IFERROR(VLOOKUP(A11,Tableau1[[#All],[N°Article]:[Libellé]],2,FALSE),"") | N11: =SUM(C11:L11) -> 0 | Z11: =SUM(O11:X11) -> 0 | AO11: =SUM(AD11:AM11) -> 0 | AR11: =B11 | AS11: =SUM(N11,Z11,AO11) -> 0
B12: =IFERROR(VLOOKUP(A12,Tableau1[[#All],[N°Article]:[Libellé]],2,FALSE),"") | N12: =SUM(C12:L12) -> 0 | Z12: =SUM(O12:X12) -> 0 | AO12: =SUM(AD12:AM12) -> 0 | AR12: =B12 | AS12: =SUM(N12,Z12,AO12) -> 0
B14: Bons de réception | D14: Février 2015
A16: N°Article | B16: Article | C16: 42036 | D16: 42037 | E16: 42038 | F16: 42039 | G16: 42040 | H16: 42041 | I16: 42042 | J16: 42043 | K16: 42044 | L16: 42045 | N16: 1ère Décade | P16: 42046 | Q16: 42047 | R16: 42048 | S16: 42049 | T16: 42050 | U16: 42051 | V16: 42052 | W16: 42053 | X16: 42054 | Z16: 2e Décade | AB16: 42055 | AC16: 42056 | AD16: 42057 | AE16: 42058 | AF16: 42059 | AG16: 42060 | AH16: 42061 | AI16: 42062 | AJ16: 42063 | AO16: 3e Décade | AS16: TOTAL MOIS
A17: 1234 | B17: =IFERROR(VLOOKUP(A17,Tableau1[[#All],[N°Article]:[Libellé]],2,FALSE),"") -> SERVIETTES 8/8 | N17: =SUM(C17:L17) -> 0 | Z17: =SUM(O17:X17) -> 0 | AO17: =SUM(AD17:AM17) -> 0 | AR17: =B17 -> SERVIETTES 8/8 | AS17: =SUM(N17,Z17,AO17) -> 0
A18: 2345 | B18: =IFERROR(VLOOKUP(A18,Tableau1[[#All],[N°Article]:[Libellé]],2,FALSE),"") -> NAPPES 9/15 | N18: =SUM(C18:L18) -> 0 | Z18: =SUM(O18:X18) -> 0 | AO18: =SUM(AD18:AM18) -> 0 | AR18: =B18 -> NAPPES 9/15 | AS18: =SUM(N18,Z18,AO18) -> 0
B19: =IFERROR(VLOOKUP(A19,Tableau1[[#All],[N°Article]:[Libellé]],2,FALSE),"") | N19: =SUM(C19:L19) -> 0 | Z19: =SUM(O19:X19) -> 0 | AO19: =SUM(AD19:AM19) -> 0 | AR19: =B19 | AS19: =SUM(N19,Z19,AO19) -> 0
B20: =IFERROR(VLOOKUP(A20,Tableau1[[#All],[N°Article]:[Libellé]],2,FALSE),"") | N20: =SUM(C20:L20) -> 0 | Z20: =SUM(O20:X20) -> 0 | AO20: =SUM(AD20:AM20) -> 0 | AR20: =B20 | AS20: =SUM(N20,Z20,AO20) -> 0
B21: =IFERROR(VLOOKUP(A21,Tableau1[[#All],[N°Article]:[Libellé]],2,FALSE),"") | N21: =SUM(C21:L21) -> 0 | Z21: =SUM(O21:X21) -> 0 | AO21: =SUM(AD21:AM21) -> 0 | AR21: =B21 | AS21: =SUM(N21,Z21,AO21) -> 0
B22: =IFERROR(VLOOKUP(A22,Tableau1[[#All],[N°Article]:[Libellé]],2,FALSE),"") | N22: =SUM(C22:L22) -> 0 | Z22: =SUM(O22:X22) -> 0 | AO22: =SUM(AD22:AM22) -> 0 | AR22: =B22 | AS22: =SUM(N22,Z22,AO22) -> 0
B23: =IFERROR(VLOOKUP(A23,Tableau1[[#All],[N°Article]:[Libellé]],2,FALSE),"") | N23: =SUM(C23:L23) -> 0 | Z23: =SUM(O23:X23) -> 0 | AO23: =SUM(AD23:AM23) -> 0 | AR23: =B23 | AS23: =SUM(N23,Z23,AO23) -> 0
B24: =IFERROR(VLOOKUP(A24,Tableau1[[#All],[N°Article]:[Libellé]],2,FALSE),"") | N24: =SUM(C24:L24) -> 0 | Z24: =SUM(O24:X24) -> 0 | AO24: =SUM(AD24:AM24) -> 0 | AR24: =B24 | AS24: =SUM(N24,Z24,AO24) -> 0
B25: =IFERROR(VLOOKUP(A25,Tableau1[[#All],[N°Article]:[Libellé]],2,FALSE),"") | N25: =SUM(C25:L25) -> 0 | Z25: =SUM(O25:X25) -> 0 | AO25: =SUM(AD25:AM25) -> 0 | AR25: =B25 | AS25: =SUM(N25,Z25,AO25) -> 0
B27: Bons de réception | D27: Mars 2015
A29: N°Article | B29: Article | C29: 42064 | D29: 42065 | E29: 42066 | F29: 42067 | G29: 42068 | H29: 42069 | I29: 42070 | J29: 42071 | K29: 42072 | L29: 42073 | N29: 1ère Décade | P29: 42074 | Q29: 42075 | R29: 42076 | S29: 42077 | T29: 42078 | U29: 42079 | V29: 42080 | W29: 42081 | X29: 42082 | Z29: 2e Décade | AB29: 42083 | AC29: 42084 | AD29: 42085 | AE29: 42086 | AF29: 42087 | AG29: 42088 | AH29: 42089 | AI29: 42090 | AJ29: 42091 | AK29: 42092 | AL29: 42093 | AM29: 42094 | AO29: 3e Décade | AS29: TOTAL MOIS
A30: 1234 | B30: =IFERROR(VLOOKUP(A30,Tableau1[[#All],[N°Article]:[Libellé]],2,FALSE),"") -> SERVIETTES 8/8 | N30: =SUM(C30:L30) -> 0 | Z30: =SUM(O30:X30) -> 0 | AO30: =SUM(AD30:AM30) -> 0 | AR30: =B30 -> SERVIETTES 8/8 | AS30: =SUM(N30,Z30,AO30) -> 0
A31: 2345 | B31: =IFERROR(VLOOKUP(A31,Tableau1[[#All],[N°Article]:[Libellé]],2,FALSE),"") -> NAPPES 9/15 | N31: =SUM(C31:L31) -> 0 | Z31: =SUM(O31:X31) -> 0 | AO31: =SUM(AD31:AM31) -> 0 | AR31: =B31 -> NAPPES 9/15 | AS31: =SUM(N31,Z31,AO31) -> 0
B32: =IFERROR(VLOOKUP(A32,Tableau1[[#All],[N°Article]:[Libellé]],2,FALSE),"") | N32: =SUM(C32:L32) -> 0 | Z32: =SUM(O32:X32) -> 0 | AO32: =SUM(AD32:AM32) -> 0 | AR32: =B32 | AS32: =SUM(N32,Z32,AO32) -> 0
B33: =IFERROR(VLOOKUP(A33,Tableau1[[#All],[N°Article]:[Libellé]],2,FALSE),"") | N33: =SUM(C33:L33) -> 0 | Z33: =SUM(O33:X33) -> 0 | AO33: =SUM(AD33:AM33) -> 0 | AR33: =B33 | AS33: =SUM(N33,Z33,AO33) -> 0
B34: =IFERROR(VLOOKUP(A34,Tableau1[[#All],[N°Article]:[Libellé]],2,FALSE),"") | N34: =SUM(C34:L34) -> 0 | Z34: =SUM(O34:X34) -> 0 | AO34: =SUM(AD34:AM34) -> 0 | AR34: =B34 | AS34: =SUM(N34,Z34,AO34) -> 0
B35: =IFERROR(VLOOKUP(A35,Tableau1[[#All],[N°Article]:[Libellé]],2,FALSE),"") | N35: =SUM(C35:L35) -> 0 | Z35: =SUM(O35:X35) -> 0 | AO35: =SUM(AD35:AM35) -> 0 | AR35: =B35 | AS35: =SUM(N35,Z35,AO35) -> 0
B36: =IFERROR(VLOOKUP(A36,Tableau1[[#All],[N°Article]:[Libellé]],2,FALSE),"") | N36: =SUM(C36:L36) -> 0 | Z36: =SUM(O36:X36) -> 0 | AO36: =SUM(AD36:AM36) -> 0 | AR36: =B36 | AS36: =SUM(N36,Z36,AO36) -> 0
B37: =IFERROR(VLOOKUP(A37,Tableau1[[#All],[N°Article]:[Libellé]],2,FALSE),"") | N37: =SUM(C37:L37) -> 0 | Z37: =SUM(O37:X37) -> 0 | AO37: =SUM(AD37:AM37) -> 0 | AR37: =B37 | AS37: =SUM(N37,Z37,AO37) -> 0
B38: =IFERROR(VLOOKUP(A38,Tableau1[[#All],[N°Article]:[Libellé]],2,FALSE),"") | N38: =SUM(C38:L38) -> 0 | Z38: =SUM(O38:X38) -> 0 | AO38: =SUM(AD38:AM38) -> 0 | AR38: =B38 | AS38: =SUM(N38,Z38,AO38) -> 0
B40: Bons de réception | D40: Avril 2015
A42: N°Article | B42: Article | C42: 42095 | D42: 42096 | E42: 42097 | F42: 42098 | G42: 42099 | H42: 42100 | I42: 42101 | J42: 42102 | K42: 42103 | L42: 42104 | N42: 1ère Décade | P42: 42105 | Q42: 42106 | R42: 42107 | S42: 42108 | T42: 42109 | U42: 42110 | V42: 42111 | W42: 42112 | X42: 42113 | Z42: 2e Décade | AB42: 42114 | AC42: 42115 | AD42: 42116 | AE42: 42117 | AF42: 42118 | AG42: 42119 | AH42: 42120 | AI42: 42121 | AJ42: 42122 | AK42: 42123 | AL42: 42124 | AO42: 3e Décade | AS42: TOTAL MOIS
A43: 1234 | B43: =IFERROR(VLOOKUP(A43,Tableau1[[#All],[N°Article]:[Libellé]],2,FALSE),"") -> SERVIETTES 8/8 | N43: =SUM(C43:L43) -> 0 | Z43: =SUM(O43:X43) -> 0 | AO43: =SUM(AD43:AM43) -> 0 | AR43: =B43 -> SERVIETTES 8/8 | AS43: =SUM(N43,Z43,AO43) -> 0
A44: 2345 | B44: =IFERROR(VLOOKUP(A44,Tableau1[[#All],[N°Article]:[Libellé]],2,FALSE),"") -> NAPPES 9/15 | N44: =SUM(C44:L44) -> 0 | Z44: =SUM(O44:X44) -> 0 | AO44: =SUM(AD44:AM44) -> 0 | AR44: =B44 -> NAPPES 9/15 | AS44: =SUM(N44,Z44,AO44) -> 0
B45: =IFERROR(VLOOKUP(A45,Tableau1[[#All],[N°Article]:[Libellé]],2,FALSE),"") | N45: =SUM(C45:L45) -> 0 | Z45: =SUM(O45:X45) -> 0 | AO45: =SUM(AD45:AM45) -> 0 | AR45: =B45 | AS45: =SUM(N45,Z45,AO45) -> 0
B46: =IFERROR(VLOOKUP(A46,Tableau1[[#All],[N°Article]:[Libellé]],2,FALSE),"") | N46: =SUM(C46:L46) -> 0 | Z46: =SUM(O46:X46) -> 0 | AO46: =SUM(AD46:AM46) -> 0 | AR46: =B46 | AS46: =SUM(N46,Z46,AO46) -> 0
B47: =IFERROR(VLOOKUP(A47,Tableau1[[#All],[N°Article]:[Libellé]],2,FALSE),"") | N47: =SUM(C47:L47) -> 0 | Z47: =SUM(O47:X47) -> 0 | AO47: =SUM(AD47:AM47) -> 0 | AR47: =B47 | AS47: =SUM(N47,Z47,AO47) -> 0
...

Sheet Delta
A1: NOM DE SOCIETE | H1: NOM BLANCHISSERIE
A2: ADRESSE 1 | H2: ADRESSE 1
A3: ADRESSE 2 | H3: ADRESSE 2
A4: ADRESSE 3 | H4: ADRESSE 3
A5: TEL | H5: TEL
A6: FAX | H6: FAX
E8: Mois : | F8: Janvier | G8: N° Décade : | H8: 1
E9: DU | F9: =IF($H$8=1,DATE(2015,VLOOKUP($F$8,Tableau2[#All],2,FALSE),1),IF($H$8=2,DATE(2015,VLOOKUP($F$8,Tableau2[#All],2,FALSE),11),IF($H$8=3,DATE(2015,VLOOKUP($F$8,Tableau2[#All],2,FALSE),21),""))) -> 42005 | G9: AU | H9: =IF($H$8=1,DATE(2015,VLOOKUP($F$8,Tableau2[#All],2,FALSE),10),IF($H$8=2,DATE(2015,VLOOKUP($F$8,Tableau2[#All],2,FALSE),20),IF($H$8=3,EOMONTH(F9,0),""))) -> 42014
A11: ARTICLE | B11: QUANTITE BON DE LIVRAISON | C11: QUANTITE REELLE RECUE | D11: DIFFERENCE | E11: PRIX HT | F11: PRIX TTC | G11: TOTAL HT | H11: TOTAL TTC
A12: SERVIETTES 8/8 | B12: =IF($A12="","",INDEX(IF($F$8="Janvier",Livraison!$B$4:$AR$12,IF($F$8="Février",Livraison!$B$17:$AR$25,IF($F$8="Mars",Livraison!$B$30:$AR$38,IF($F$8="Avril",Livraison!$B$43:$AR$51,IF($F$8="Mai",Livraison!$B$56:$AR$64,IF($F$8="Juin",Livraison!$B$69:$AR$77,IF($F$8="Juillet",Livraison!$B$82:$AR$90,IF($F$8="Août",Livraison!$B$95:$AR$103,IF($F$8="Septembre",Livraison!$B$108:$AR$116,IF($F$8="Octobre",Livraison!$B$121:$AR$129,IF($F$8="Novembre",Livraison!$B$134:$AR$142,Livraison!$B$147:$AR$155))))))))))),MATCH($A12,IF($F$8="Janvier",Livraison!$B$4:$B$12,IF($F$8="Février",Livraison!$B$17:$B$25,IF($F$8="Mars",Livraison!$B$30:$B$38,IF($F$8="Avril",Livraison!$B$43:$B$51,IF($F$8="Mai",Livraison!$B$56:$B$64,IF($F$8="Juin",Livraison!$B$69:$B$77,IF($F$8="Juillet",Livraison!$B$82:$B$90,IF($F$8="Août",Livraison!$B$95:$B$103,IF($F$8="Septembre",Livraison!$B$108:$B$116,IF($F$8="Octobre",Livraison!$B$121:$B$129,IF($F$8="Novembre",Livraison!$B$134:$B$142,Livraison!$B$147:$B$155))))))))))),0),IF($H$8=1,13,IF($H$8=2,25,IF($H$8=3,40,""))))) -> 0 | C12: =IF($A12="","",INDEX(IF($F$8="Janvier",Réception!$B$4:$AS$12,IF($F$8="Février",Réception!$B$17:$AS$25,IF($F$8="Mars",Réception!$B$30:$AS$38,IF($F$8="Avril",Réception!$B$43:$AS$51,IF($F$8="Mai",Réception!$B$56:$AS$64,IF($F$8="Juin",Réception!$B$69:$AS$77,IF($F$8="Juillet",Réception!$B$82:$AS$90,IF($F$8="Août",Réception!$B$95:$AS$103,IF($F$8="Septembre",Réception!$B$108:$AS$116,IF($F$8="Octobre",Réception!$B$121:$AS$129,IF($F$8="Novembre",Réception!$B$134:$AS$142,Réception!$B$147:$AS$155))))))))))),MATCH($A12,IF($F$8="Janvier",Réception!$B$4:$B$12,IF($F$8="Février",Réception!$B$17:$B$25,IF($F$8="Mars",Réception!$B$30:$B$38,IF($F$8="Avril",Réception!$B$43:$B$51,IF($F$8="Mai",Réception!$B$56:$B$64,IF($F$8="Juin",Réception!$B$69:$B$77,IF($F$8="Juillet",Réception!$B$82:$B$90,IF($F$8="Août",Réception!$B$95:$B$103,IF($F$8="Septembre",Réception!$B$108:$B$116,IF($F$8="Octobre",Réception!$B$121:$B$129,IF($F$8="Novembre",Réception!$B$134:$B$142,Réception!$B$147:$B$155))))))))))),0),IF($H$8=1,13,IF($H$8=2,25,IF($H$8=3,40,""))))) -> 0 | D12: =IFERROR(C12-B12,0) -> 0 | E12: =IFERROR(VLOOKUP(Delta!A12,Tableau1[[#All],[Libellé]:[Prix HT]],2,FALSE),0) -> 1 | F12: =E12*1.195 -> 1.195 | G12: =D12*E12 -> 0 | H12: =D12*F12 -> 0
A13: NAPPES 9/15 | B13: =IF($A13="","",INDEX(IF($F$8="Janvier",Livraison!$B$4:$AR$12,IF($F$8="Février",Livraison!$B$17:$AR$25,IF($F$8="Mars",Livraison!$B$30:$AR$38,IF($F$8="Avril",Livraison!$B$43:$AR$51,IF($F$8="Mai",Livraison!$B$56:$AR$64,IF($F$8="Juin",Livraison!$B$69:$AR$77,IF($F$8="Juillet",Livraison!$B$82:$AR$90,IF($F$8="Août",Livraison!$B$95:$AR$103,IF($F$8="Septembre",Livraison!$B$108:$AR$116,IF($F$8="Octobre",Livraison!$B$121:$AR$129,IF($F$8="Novembre",Livraison!$B$134:$AR$142,Livraison!$B$147:$AR$155))))))))))),MATCH($A13,IF($F$8="Janvier",Livraison!$B$4:$B$12,IF($F$8="Février",Livraison!$B$17:$B$25,IF($F$8="Mars",Livraison!$B$30:$B$38,IF($F$8="Avril",Livraison!$B$43:$B$51,IF($F$8="Mai",Livraison!$B$56:$B$64,IF($F$8="Juin",Livraison!$B$69:$B$77,IF($F$8="Juillet",Livraison!$B$82:$B$90,IF($F$8="Août",Livraison!$B$95:$B$103,IF($F$8="Septembre",Livraison!$B$108:$B$116,IF($F$8="Octobre",Livraison!$B$121:$B$129,IF($F$8="Novembre",Livraison!$B$134:$B$142,Livraison!$B$147:$B$155))))))))))),0),IF($H$8=1,13,IF($H$8=2,25,IF($H$8=3,40,""))))) -> 8 | C13: =IF(A13="","",INDEX(IF($F$8="Janvier",Réception!$B$4:$AS$12,IF($F$8="Février",Réception!$B$17:$AS$25,IF($F$8="Mars",Réception!$B$30:$AS$38,IF($F$8="Avril",Réception!$B$43:$AS$51,IF($F$8="Mai",Réception!$B$56:$AS$64,IF($F$8="Juin",Réception!$B$69:$AS$77,IF($F$8="Juillet",Réception!$B$82:$AS$90,IF($F$8="Août",Réception!$B$95:$AS$103,IF($F$8="Septembre",Réception!$B$108:$AS$116,IF($F$8="Octobre",Réception!$B$121:$AS$129,IF($F$8="Novembre",Réception!$B$134:$AS$142,Réception!$B$147:$AS$155))))))))))),MATCH(A13,IF($F$8="Janvier",Réception!$B$4:$B$12,IF($F$8="Février",Réception!$B$17:$B$25,IF($F$8="Mars",Réception!$B$30:$B$38,IF($F$8="Avril",Réception!$B$43:$B$51,IF($F$8="Mai",Réception!$B$56:$B$64,IF($F$8="Juin",Réception!$B$69:$B$77,IF($F$8="Juillet",Réception!$B$82:$B$90,IF($F$8="Août",Réception!$B$95:$B$103,IF($F$8="Septembre",Réception!$B$108:$B$116,IF($F$8="Octobre",Réception!$B$121:$B$129,IF($F$8="Novembre",Réception!$B$134:$B$142,Réception!$B$147:$B$155))))))))))),0),IF($H$8=1,13,IF($H$8=2,25,IF($H$8=3,40,""))))) -> 5 | D13: =IFERROR(C13-B13,0) -> -3 | E13: =IFERROR(VLOOKUP(Delta!A13,Tableau1[[#All],[Libellé]:[Prix HT]],2,FALSE),0) -> 2 | F13: =E13*1.195 -> 2.39 | G13: =D13*E13 -> -6 | H13: =D13*F13 -> -7.17
B14: =IF($A14="","",INDEX(IF($F$8="Janvier",Livraison!$B$4:$AR$12,IF($F$8="Février",Livraison!$B$17:$AR$25,IF($F$8="Mars",Livraison!$B$30:$AR$38,IF($F$8="Avril",Livraison!$B$43:$AR$51,IF($F$8="Mai",Livraison!$B$56:$AR$64,IF($F$8="Juin",Livraison!$B$69:$AR$77,IF($F$8="Juillet",Livraison!$B$82:$AR$90,IF($F$8="Août",Livraison!$B$95:$AR$103,IF($F$8="Septembre",Livraison!$B$108:$AR$116,IF($F$8="Octobre",Livraison!$B$121:$AR$129,IF($F$8="Novembre",Livraison!$B$134:$AR$142,Livraison!$B$147:$AR$155))))))))))),MATCH($A14,IF($F$8="Janvier",Livraison!$B$4:$B$12,IF($F$8="Février",Livraison!$B$17:$B$25,IF($F$8="Mars",Livraison!$B$30:$B$38,IF($F$8="Avril",Livraison!$B$43:$B$51,IF($F$8="Mai",Livraison!$B$56:$B$64,IF($F$8="Juin",Livraison!$B$69:$B$77,IF($F$8="Juillet",Livraison!$B$82:$B$90,IF($F$8="Août",Livraison!$B$95:$B$103,IF($F$8="Septembre",Livraison!$B$108:$B$116,IF($F$8="Octobre",Livraison!$B$121:$B$129,IF($F$8="Novembre",Livraison!$B$134:$B$142,Livraison!$B$147:$B$155))))))))))),0),IF($H$8=1,13,IF($H$8=2,25,IF($H$8=3,40,""))))) | C14: =IF(A14="","",INDEX(IF($F$8="Janvier",Réception!$B$4:$AS$12,IF($F$8="Février",Réception!$B$17:$AS$25,IF($F$8="Mars",Réception!$B$30:$AS$38,IF($F$8="Avril",Réception!$B$43:$AS$51,IF($F$8="Mai",Réception!$B$56:$AS$64,IF($F$8="Juin",Réception!$B$69:$AS$77,IF($F$8="Juillet",Réception!$B$82:$AS$90,IF($F$8="Août",Réception!$B$95:$AS$103,IF($F$8="Septembre",Réception!$B$108:$AS$116,IF($F$8="Octobre",Réception!$B$121:$AS$129,IF($F$8="Novembre",Réception!$B$134:$AS$142,Réception!$B$147:$AS$155))))))))))),MATCH(A14,IF($F$8="Janvier",Réception!$B$4:$B$12,IF($F$8="Février",Réception!$B$17:$B$25,IF($F$8="Mars",Réception!$B$30:$B$38,IF($F$8="Avril",Réception!$B$43:$B$51,IF($F$8="Mai",Réception!$B$56:$B$64,IF($F$8="Juin",Réception!$B$69:$B$77,IF($F$8="Juillet",Réception!$B$82:$B$90,IF($F$8="Août",Réception!$B$95:$B$103,IF($F$8="Septembre",Réception!$B$108:$B$116,IF($F$8="Octobre",Réception!$B$121:$B$129,IF($F$8="Novembre",Réception!$B$134:$B$142,Réception!$B$147:$B$155))))))))))),0),IF($H$8=1,13,IF($H$8=2,25,IF($H$8=3,40,""))))) | D14: =IFERROR(C14-B14,0) -> 0 | E14: =IFERROR(VLOOKUP(Delta!A14,Tableau1[[#All],[Libellé]:[Prix HT]],2,FALSE),0) -> 0 | F14: =E14*1.195 -> 0 | G14: =D14*E14 -> 0 | H14: =D14*F14 -> 0
B15: =IF($A15="","",INDEX(IF($F$8="Janvier",Livraison!$B$4:$AR$12,IF($F$8="Février",Livraison!$B$17:$AR$25,IF($F$8="Mars",Livraison!$B$30:$AR$38,IF($F$8="Avril",Livraison!$B$43:$AR$51,IF($F$8="Mai",Livraison!$B$56:$AR$64,IF($F$8="Juin",Livraison!$B$69:$AR$77,IF($F$8="Juillet",Livraison!$B$82:$AR$90,IF($F$8="Août",Livraison!$B$95:$AR$103,IF($F$8="Septembre",Livraison!$B$108:$AR$116,IF($F$8="Octobre",Livraison!$B$121:$AR$129,IF($F$8="Novembre",Livraison!$B$134:$AR$142,Livraison!$B$147:$AR$155))))))))))),MATCH($A15,IF($F$8="Janvier",Livraison!$B$4:$B$12,IF($F$8="Février",Livraison!$B$17:$B$25,IF($F$8="Mars",Livraison!$B$30:$B$38,IF($F$8="Avril",Livraison!$B$43:$B$51,IF($F$8="Mai",Livraison!$B$56:$B$64,IF($F$8="Juin",Livraison!$B$69:$B$77,IF($F$8="Juillet",Livraison!$B$82:$B$90,IF($F$8="Août",Livraison!$B$95:$B$103,IF($F$8="Septembre",Livraison!$B$108:$B$116,IF($F$8="Octobre",Livraison!$B$121:$B$129,IF($F$8="Novembre",Livraison!$B$134:$B$142,Livraison!$B$147:$B$155))))))))))),0),IF($H$8=1,13,IF($H$8=2,25,IF($H$8=3,40,""))))) | C15: =IF(A15="","",INDEX(IF($F$8="Janvier",Réception!$B$4:$AS$12,IF($F$8="Février",Réception!$B$17:$AS$25,IF($F$8="Mars",Réception!$B$30:$AS$38,IF($F$8="Avril",Réception!$B$43:$AS$51,IF($F$8="Mai",Réception!$B$56:$AS$64,IF($F$8="Juin",Réception!$B$69:$AS$77,IF($F$8="Juillet",Réception!$B$82:$AS$90,IF($F$8="Août",Réception!$B$95:$AS$103,IF($F$8="Septembre",Réception!$B$108:$AS$116,IF($F$8="Octobre",Réception!$B$121:$AS$129,IF($F$8="Novembre",Réception!$B$134:$AS$142,Réception!$B$147:$AS$155))))))))))),MATCH(A15,IF($F$8="Janvier",Réception!$B$4:$B$12,IF($F$8="Février",Réception!$B$17:$B$25,IF($F$8="Mars",Réception!$B$30:$B$38,IF($F$8="Avril",Réception!$B$43:$B$51,IF($F$8="Mai",Réception!$B$56:$B$64,IF($F$8="Juin",Réception!$B$69:$B$77,IF($F$8="Juillet",Réception!$B$82:$B$90,IF($F$8="Août",Réception!$B$95:$B$103,IF($F$8="Septembre",Réception!$B$108:$B$116,IF($F$8="Octobre",Réception!$B$121:$B$129,IF($F$8="Novembre",Réception!$B$134:$B$142,Réception!$B$147:$B$155))))))))))),0),IF($H$8=1,13,IF($H$8=2,25,IF($H$8=3,40,""))))) | D15: =IFERROR(C15-B15,0) -> 0 | E15: =IFERROR(VLOOKUP(Delta!A15,Tableau1[[#All],[Libellé]:[Prix HT]],2,FALSE),0) -> 0 | F15: =E15*1.195 -> 0 | G15: =D15*E15 -> 0 | H15: =D15*F15 -> 0
B16: =IF($A16="","",INDEX(IF($F$8="Janvier",Livraison!$B$4:$AR$12,IF($F$8="Février",Livraison!$B$17:$AR$25,IF($F$8="Mars",Livraison!$B$30:$AR$38,IF($F$8="Avril",Livraison!$B$43:$AR$51,IF($F$8="Mai",Livraison!$B$56:$AR$64,IF($F$8="Juin",Livraison!$B$69:$AR$77,IF($F$8="Juillet",Livraison!$B$82:$AR$90,IF($F$8="Août",Livraison!$B$95:$AR$103,IF($F$8="Septembre",Livraison!$B$108:$AR$116,IF($F$8="Octobre",Livraison!$B$121:$AR$129,IF($F$8="Novembre",Livraison!$B$134:$AR$142,Livraison!$B$147:$AR$155))))))))))),MATCH($A16,IF($F$8="Janvier",Livraison!$B$4:$B$12,IF($F$8="Février",Livraison!$B$17:$B$25,IF($F$8="Mars",Livraison!$B$30:$B$38,IF($F$8="Avril",Livraison!$B$43:$B$51,IF($F$8="Mai",Livraison!$B$56:$B$64,IF($F$8="Juin",Livraison!$B$69:$B$77,IF($F$8="Juillet",Livraison!$B$82:$B$90,IF($F$8="Août",Livraison!$B$95:$B$103,IF($F$8="Septembre",Livraison!$B$108:$B$116,IF($F$8="Octobre",Livraison!$B$121:$B$129,IF($F$8="Novembre",Livraison!$B$134:$B$142,Livraison!$B$147:$B$155))))))))))),0),IF($H$8=1,13,IF($H$8=2,25,IF($H$8=3,40,""))))) | C16: =IF(A16="","",INDEX(IF($F$8="Janvier",Réception!$B$4:$AS$12,IF($F$8="Février",Réception!$B$17:$AS$25,IF($F$8="Mars",Réception!$B$30:$AS$38,IF($F$8="Avril",Réception!$B$43:$AS$51,IF($F$8="Mai",Réception!$B$56:$AS$64,IF($F$8="Juin",Réception!$B$69:$AS$77,IF($F$8="Juillet",Réception!$B$82:$AS$90,IF($F$8="Août",Réception!$B$95:$AS$103,IF($F$8="Septembre",Réception!$B$108:$AS$116,IF($F$8="Octobre",Réception!$B$121:$AS$129,IF($F$8="Novembre",Réception!$B$134:$AS$142,Réception!$B$147:$AS$155))))))))))),MATCH(A16,IF($F$8="Janvier",Réception!$B$4:$B$12,IF($F$8="Février",Réception!$B$17:$B$25,IF($F$8="Mars",Réception!$B$30:$B$38,IF($F$8="Avril",Réception!$B$43:$B$51,IF($F$8="Mai",Réception!$B$56:$B$64,IF($F$8="Juin",Réception!$B$69:$B$77,IF($F$8="Juillet",Réception!$B$82:$B$90,IF($F$8="Août",Réception!$B$95:$B$103,IF($F$8="Septembre",Réception!$B$108:$B$116,IF($F$8="Octobre",Réception!$B$121:$B$129,IF($F$8="Novembre",Réception!$B$134:$B$142,Réception!$B$147:$B$155))))))))))),0),IF($H$8=1,13,IF($H$8=2,25,IF($H$8=3,40,""))))) | D16: =IFERROR(C16-B16,0) -> 0 | E16: =IFERROR(VLOOKUP(Delta!A16,Tableau1[[#All],[Libellé]:[Prix HT]],2,FALSE),0) -> 0 | F16: =E16*1.195 -> 0 | G16: =D16*E16 -> 0 | H16: =D16*F16 -> 0
B17: =IF($A17="","",INDEX(IF($F$8="Janvier",Livraison!$B$4:$AR$12,IF($F$8="Février",Livraison!$B$17:$AR$25,IF($F$8="Mars",Livraison!$B$30:$AR$38,IF($F$8="Avril",Livraison!$B$43:$AR$51,IF($F$8="Mai",Livraison!$B$56:$AR$64,IF($F$8="Juin",Livraison!$B$69:$AR$77,IF($F$8="Juillet",Livraison!$B$82:$AR$90,IF($F$8="Août",Livraison!$B$95:$AR$103,IF($F$8="Septembre",Livraison!$B$108:$AR$116,IF($F$8="Octobre",Livraison!$B$121:$AR$129,IF($F$8="Novembre",Livraison!$B$134:$AR$142,Livraison!$B$147:$AR$155))))))))))),MATCH($A17,IF($F$8="Janvier",Livraison!$B$4:$B$12,IF($F$8="Février",Livraison!$B$17:$B$25,IF($F$8="Mars",Livraison!$B$30:$B$38,IF($F$8="Avril",Livraison!$B$43:$B$51,IF($F$8="Mai",Livraison!$B$56:$B$64,IF($F$8="Juin",Livraison!$B$69:$B$77,IF($F$8="Juillet",Livraison!$B$82:$B$90,IF($F$8="Août",Livraison!$B$95:$B$103,IF($F$8="Septembre",Livraison!$B$108:$B$116,IF($F$8="Octobre",Livraison!$B$121:$B$129,IF($F$8="Novembre",Livraison!$B$134:$B$142,Livraison!$B$147:$B$155))))))))))),0),IF($H$8=1,13,IF($H$8=2,25,IF($H$8=3,40,""))))) | C17: =IF(A17="","",INDEX(IF($F$8="Janvier",Réception!$B$4:$AS$12,IF($F$8="Février",Réception!$B$17:$AS$25,IF($F$8="Mars",Réception!$B$30:$AS$38,IF($F$8="Avril",Réception!$B$43:$AS$51,IF($F$8="Mai",Réception!$B$56:$AS$64,IF($F$8="Juin",Réception!$B$69:$AS$77,IF($F$8="Juillet",Réception!$B$82:$AS$90,IF($F$8="Août",Réception!$B$95:$AS$103,IF($F$8="Septembre",Réception!$B$108:$AS$116,IF($F$8="Octobre",Réception!$B$121:$AS$129,IF($F$8="Novembre",Réception!$B$134:$AS$142,Réception!$B$147:$AS$155))))))))))),MATCH(A17,IF($F$8="Janvier",Réception!$B$4:$B$12,IF($F$8="Février",Réception!$B$17:$B$25,IF($F$8="Mars",Réception!$B$30:$B$38,IF($F$8="Avril",Réception!$B$43:$B$51,IF($F$8="Mai",Réception!$B$56:$B$64,IF($F$8="Juin",Réception!$B$69:$B$77,IF($F$8="Juillet",Réception!$B$82:$B$90,IF($F$8="Août",Réception!$B$95:$B$103,IF($F$8="Septembre",Réception!$B$108:$B$116,IF($F$8="Octobre",Réception!$B$121:$B$129,IF($F$8="Novembre",Réception!$B$134:$B$142,Réception!$B$147:$B$155))))))))))),0),IF($H$8=1,13,IF($H$8=2,25,IF($H$8=3,40,""))))) | D17: =IFERROR(C17-B17,0) -> 0 | E17: =IFERROR(VLOOKUP(Delta!A17,Tableau1[[#All],[Libellé]:[Prix HT]],2,FALSE),0) -> 0 | F17: =E17*1.195 -> 0 | G17: =D17*E17 -> 0 | H17: =D17*F17 -> 0
B18: =IF($A18="","",INDEX(IF($F$8="Janvier",Livraison!$B$4:$AR$12,IF($F$8="Février",Livraison!$B$17:$AR$25,IF($F$8="Mars",Livraison!$B$30:$AR$38,IF($F$8="Avril",Livraison!$B$43:$AR$51,IF($F$8="Mai",Livraison!$B$56:$AR$64,IF($F$8="Juin",Livraison!$B$69:$AR$77,IF($F$8="Juillet",Livraison!$B$82:$AR$90,IF($F$8="Août",Livraison!$B$95:$AR$103,IF($F$8="Septembre",Livraison!$B$108:$AR$116,IF($F$8="Octobre",Livraison!$B$121:$AR$129,IF($F$8="Novembre",Livraison!$B$134:$AR$142,Livraison!$B$147:$AR$155))))))))))),MATCH($A18,IF($F$8="Janvier",Livraison!$B$4:$B$12,IF($F$8="Février",Livraison!$B$17:$B$25,IF($F$8="Mars",Livraison!$B$30:$B$38,IF($F$8="Avril",Livraison!$B$43:$B$51,IF($F$8="Mai",Livraison!$B$56:$B$64,IF($F$8="Juin",Livraison!$B$69:$B$77,IF($F$8="Juillet",Livraison!$B$82:$B$90,IF($F$8="Août",Livraison!$B$95:$B$103,IF($F$8="Septembre",Livraison!$B$108:$B$116,IF($F$8="Octobre",Livraison!$B$121:$B$129,IF($F$8="Novembre",Livraison!$B$134:$B$142,Livraison!$B$147:$B$155))))))))))),0),IF($H$8=1,13,IF($H$8=2,25,IF($H$8=3,40,""))))) | C18: =IF(A18="","",INDEX(IF($F$8="Janvier",Réception!$B$4:$AS$12,IF($F$8="Février",Réception!$B$17:$AS$25,IF($F$8="Mars",Réception!$B$30:$AS$38,IF($F$8="Avril",Réception!$B$43:$AS$51,IF($F$8="Mai",Réception!$B$56:$AS$64,IF($F$8="Juin",Réception!$B$69:$AS$77,IF($F$8="Juillet",Réception!$B$82:$AS$90,IF($F$8="Août",Réception!$B$95:$AS$103,IF($F$8="Septembre",Réception!$B$108:$AS$116,IF($F$8="Octobre",Réception!$B$121:$AS$129,IF($F$8="Novembre",Réception!$B$134:$AS$142,Réception!$B$147:$AS$155))))))))))),MATCH(A18,IF($F$8="Janvier",Réception!$B$4:$B$12,IF($F$8="Février",Réception!$B$17:$B$25,IF($F$8="Mars",Réception!$B$30:$B$38,IF($F$8="Avril",Réception!$B$43:$B$51,IF($F$8="Mai",Réception!$B$56:$B$64,IF($F$8="Juin",Réception!$B$69:$B$77,IF($F$8="Juillet",Réception!$B$82:$B$90,IF($F$8="Août",Réception!$B$95:$B$103,IF($F$8="Septembre",Réception!$B$108:$B$116,IF($F$8="Octobre",Réception!$B$121:$B$129,IF($F$8="Novembre",Réception!$B$134:$B$142,Réception!$B$147:$B$155))))))))))),0),IF($H$8=1,13,IF($H$8=2,25,IF($H$8=3,40,""))))) | D18: =IFERROR(C18-B18,0) -> 0 | E18: =IFERROR(VLOOKUP(Delta!A18,Tableau1[[#All],[Libellé]:[Prix HT]],2,FALSE),0) -> 0 | F18: =E18*1.195 -> 0 | G18: =D18*E18 -> 0 | H18: =D18*F18 -> 0
B19: =IF($A19="","",INDEX(IF($F$8="Janvier",Livraison!$B$4:$AR$12,IF($F$8="Février",Livraison!$B$17:$AR$25,IF($F$8="Mars",Livraison!$B$30:$AR$38,IF($F$8="Avril",Livraison!$B$43:$AR$51,IF($F$8="Mai",Livraison!$B$56:$AR$64,IF($F$8="Juin",Livraison!$B$69:$AR$77,IF($F$8="Juillet",Livraison!$B$82:$AR$90,IF($F$8="Août",Livraison!$B$95:$AR$103,IF($F$8="Septembre",Livraison!$B$108:$AR$116,IF($F$8="Octobre",Livraison!$B$121:$AR$129,IF($F$8="Novembre",Livraison!$B$134:$AR$142,Livraison!$B$147:$AR$155))))))))))),MATCH($A19,IF($F$8="Janvier",Livraison!$B$4:$B$12,IF($F$8="Février",Livraison!$B$17:$B$25,IF($F$8="Mars",Livraison!$B$30:$B$38,IF($F$8="Avril",Livraison!$B$43:$B$51,IF($F$8="Mai",Livraison!$B$56:$B$64,IF($F$8="Juin",Livraison!$B$69:$B$77,IF($F$8="Juillet",Livraison!$B$82:$B$90,IF($F$8="Août",Livraison!$B$95:$B$103,IF($F$8="Septembre",Livraison!$B$108:$B$116,IF($F$8="Octobre",Livraison!$B$121:$B$129,IF($F$8="Novembre",Livraison!$B$134:$B$142,Livraison!$B$147:$B$155))))))))))),0),IF($H$8=1,13,IF($H$8=2,25,IF($H$8=3,40,""))))) | C19: =IF(A19="","",INDEX(IF($F$8="Janvier",Réception!$B$4:$AS$12,IF($F$8="Février",Réception!$B$17:$AS$25,IF($F$8="Mars",Réception!$B$30:$AS$38,IF($F$8="Avril",Réception!$B$43:$AS$51,IF($F$8="Mai",Réception!$B$56:$AS$64,IF($F$8="Juin",Réception!$B$69:$AS$77,IF($F$8="Juillet",Réception!$B$82:$AS$90,IF($F$8="Août",Réception!$B$95:$AS$103,IF($F$8="Septembre",Réception!$B$108:$AS$116,IF($F$8="Octobre",Réception!$B$121:$AS$129,IF($F$8="Novembre",Réception!$B$134:$AS$142,Réception!$B$147:$AS$155))))))))))),MATCH(A19,IF($F$8="Janvier",Réception!$B$4:$B$12,IF($F$8="Février",Réception!$B$17:$B$25,IF($F$8="Mars",Réception!$B$30:$B$38,IF($F$8="Avril",Réception!$B$43:$B$51,IF($F$8="Mai",Réception!$B$56:$B$64,IF($F$8="Juin",Réception!$B$69:$B$77,IF($F$8="Juillet",Réception!$B$82:$B$90,IF($F$8="Août",Réception!$B$95:$B$103,IF($F$8="Septembre",Réception!$B$108:$B$116,IF($F$8="Octobre",Réception!$B$121:$B$129,IF($F$8="Novembre",Réception!$B$134:$B$142,Réception!$B$147:$B$155))))))))))),0),IF($H$8=1,13,IF($H$8=2,25,IF($H$8=3,40,""))))) | D19: =IFERROR(C19-B19,0) -> 0 | E19: =IFERROR(VLOOKUP(Delta!A19,Tableau1[[#All],[Libellé]:[Prix HT]],2,FALSE),0) -> 0 | F19: =E19*1.195 -> 0 | G19: =D19*E19 -> 0 | H19: =D19*F19 -> 0
B20: =IF($A20="","",INDEX(IF($F$8="Janvier",Livraison!$B$4:$AR$12,IF($F$8="Février",Livraison!$B$17:$AR$25,IF($F$8="Mars",Livraison!$B$30:$AR$38,IF($F$8="Avril",Livraison!$B$43:$AR$51,IF($F$8="Mai",Livraison!$B$56:$AR$64,IF($F$8="Juin",Livraison!$B$69:$AR$77,IF($F$8="Juillet",Livraison!$B$82:$AR$90,IF($F$8="Août",Livraison!$B$95:$AR$103,IF($F$8="Septembre",Livraison!$B$108:$AR$116,IF($F$8="Octobre",Livraison!$B$121:$AR$129,IF($F$8="Novembre",Livraison!$B$134:$AR$142,Livraison!$B$147:$AR$155))))))))))),MATCH($A20,IF($F$8="Janvier",Livraison!$B$4:$B$12,IF($F$8="Février",Livraison!$B$17:$B$25,IF($F$8="Mars",Livraison!$B$30:$B$38,IF($F$8="Avril",Livraison!$B$43:$B$51,IF($F$8="Mai",Livraison!$B$56:$B$64,IF($F$8="Juin",Livraison!$B$69:$B$77,IF($F$8="Juillet",Livraison!$B$82:$B$90,IF($F$8="Août",Livraison!$B$95:$B$103,IF($F$8="Septembre",Livraison!$B$108:$B$116,IF($F$8="Octobre",Livraison!$B$121:$B$129,IF($F$8="Novembre",Livraison!$B$134:$B$142,Livraison!$B$147:$B$155))))))))))),0),IF($H$8=1,13,IF($H$8=2,25,IF($H$8=3,40,""))))) | C20: =IF(A20="","",INDEX(IF($F$8="Janvier",Réception!$B$4:$AS$12,IF($F$8="Février",Réception!$B$17:$AS$25,IF($F$8="Mars",Réception!$B$30:$AS$38,IF($F$8="Avril",Réception!$B$43:$AS$51,IF($F$8="Mai",Réception!$B$56:$AS$64,IF($F$8="Juin",Réception!$B$69:$AS$77,IF($F$8="Juillet",Réception!$B$82:$AS$90,IF($F$8="Août",Réception!$B$95:$AS$103,IF($F$8="Septembre",Réception!$B$108:$AS$116,IF($F$8="Octobre",Réception!$B$121:$AS$129,IF($F$8="Novembre",Réception!$B$134:$AS$142,Réception!$B$147:$AS$155))))))))))),MATCH(A20,IF($F$8="Janvier",Réception!$B$4:$B$12,IF($F$8="Février",Réception!$B$17:$B$25,IF($F$8="Mars",Réception!$B$30:$B$38,IF($F$8="Avril",Réception!$B$43:$B$51,IF($F$8="Mai",Réception!$B$56:$B$64,IF($F$8="Juin",Réception!$B$69:$B$77,IF($F$8="Juillet",Réception!$B$82:$B$90,IF($F$8="Août",Réception!$B$95:$B$103,IF($F$8="Septembre",Réception!$B$108:$B$116,IF($F$8="Octobre",Réception!$B$121:$B$129,IF($F$8="Novembre",Réception!$B$134:$B$142,Réception!$B$147:$B$155))))))))))),0),IF($H$8=1,13,IF($H$8=2,25,IF($H$8=3,40,""))))) | D20: =IFERROR(C20-B20,0) -> 0 | E20: =IFERROR(VLOOKUP(Delta!A20,Tableau1[[#All],[Libellé]:[Prix HT]],2,FALSE),0) -> 0 | F20: =E20*1.195 -> 0 | G20: =D20*E20 -> 0 | H20: =D20*F20 -> 0
F22: TOTAL DES AVOIRS : | G22: =SUM(G12:G20) -> -6 | H22: =SUM(H12:H20) -> -7.17
