Workbook

Sheet Données
A1: Elements | B1: Valeurs
A2: A | B2: 10
A3: B | B3: 15
A4: C | B4: 17
A5: D | B5: 19
A6: E | B6: 4
A7: F | B7: 16
A8: G | B8: 14
A9: A | B9: 12
A10: B | B10: 18
A11: C | B11: 14
A12: D | B12: 9
A13: E | B13: 8
... A20: E | B20: 9

Sheet Moyennes et Ecar Type
A1: Elements | B1: Nb d'occurrences | C1: Valeurs cumulées | D1: Valeurs moyennes | E1: Ecar Type
A2: A | B2: =SUMPRODUCT((Données!A2:A22='Moyennes et Ecar Type'!A2)*1) -> 3 | C2: =SUMPRODUCT((Données!$A$2:$A$22=A2)*Données!$B$2:$B$22) -> 42 | D2: =C2/B2 -> 14 | E2: =DSTDEV(Données!$A$1:$B$22,"Valeurs",$A$1:A2) -> 5.2915026 | F2: <= bon résultat | H2: =DSTDEV(Données!$A$1:$B$22,"Valeurs",$A$1:B2) -> 5.2915026
A3: B | B3: =SUMPRODUCT((Données!A3:A23='Moyennes et Ecar Type'!A3)*1) -> 3 | C3: =SUMPRODUCT((Données!$A$2:$A$22=A3)*Données!$B$2:$B$22) -> 43 | D3: =C3/B3 -> 14.333333 | E3: =DSTDEV(Données!$A$1:$B$22,"Valeurs",$A$1:A3) -> 4.2150524 | F3: <= mauvais résultat | H3: =DSTDEV(Données!$A$1:$B$22,"Valeurs",$A$1:B3) -> 4.1231056
A4: C | B4: =SUMPRODUCT((Données!A4:A24='Moyennes et Ecar Type'!A4)*1) -> 3 | C4: =SUMPRODUCT((Données!$A$2:$A$22=A4)*Données!$B$2:$B$22) -> 46 | D4: =C4/B4 -> 15.333333 | E4: =DSTDEV(Données!$A$1:$B$22,"Valeurs",$A$1:A4) -> 3.4681087 | F4: <= mauvais résultat | H4: =DSTDEV(Données!$A$1:$B$22,"Valeurs",$A$1:B4) -> 3.4846603
A5: D | B5: =SUMPRODUCT((Données!A5:A25='Moyennes et Ecar Type'!A5)*1) -> 3 | C5: =SUMPRODUCT((Données!$A$2:$A$22=A5)*Données!$B$2:$B$22) -> 38 | D5: =C5/B5 -> 12.666667 | E5: =DSTDEV(Données!$A$1:$B$22,"Valeurs",$A$1:A5) -> 3.8720052 | F5: <= mauvais résultat | H5: =DSTDEV(Données!$A$1:$B$22,"Valeurs",$A$1:B5) -> 3.9510899
A6: E | B6: =SUMPRODUCT((Données!A6:A26='Moyennes et Ecar Type'!A6)*1) -> 3 | C6: =SUMPRODUCT((Données!$A$2:$A$22=A6)*Données!$B$2:$B$22) -> 21 | D6: =C6/B6 -> 7 | E6: =DSTDEV(Données!$A$1:$B$22,"Valeurs",$A$1:A6) -> 4.6239542 | F6: <= mauvais résultat | H6: =DSTDEV(Données!$A$1:$B$22,"Valeurs",$A$1:B6) -> 5.1203693
A7: F | B7: =SUMPRODUCT((Données!A7:A27='Moyennes et Ecar Type'!A7)*1) -> 2 | C7: =SUMPRODUCT((Données!$A$2:$A$22=A7)*Données!$B$2:$B$22) -> 32 | D7: =C7/B7 -> 16 | E7: =DSTDEV(Données!$A$1:$B$22,"Valeurs",$A$1:A7) -> 4.4647311 | F7: <= mauvais résultat | H7: =DSTDEV(Données!$A$1:$B$22,"Valeurs",$A$1:B7) -> 4.9451537
A8: G | B8: =SUMPRODUCT((Données!A8:A28='Moyennes et Ecar Type'!A8)*1) -> 2 | C8: =SUMPRODUCT((Données!$A$2:$A$22=A8)*Données!$B$2:$B$22) -> 27 | D8: =C8/B8 -> 13.5 | E8: =DSTDEV(Données!$A$1:$B$22,"Valeurs",$A$1:A8) -> 4.214983 | F8: <= mauvais résultat | H8: =DSTDEV(Données!$A$1:$B$22,"Valeurs",$A$1:B8) -> 4.7366547
