Workbook
Name Agitation: #REF!
Name Liste_agitation: #REF!
Name Liste_Pouls: #REF!
Name Liste_Pression: #REF!
Name Liste_pro_alcoo: #REF!
Name Liste_respi: #REF!
Name Liste_sens: #REF!
Name Liste_sueurs: #REF!
Name Liste_tremblements: #REF!
Name Pouls: #REF!
Name Pression_artérielle: #REF!
Name Respiration: #REF!
Name S_1: #REF!
Name S_2: #REF!
Name S_3: #REF!
Name S_4: #REF!
Name Schéma_1: #REF!
Name Schéma_2: #REF!
Name Schéma_3: #REF!
Name Schéma_4: #REF!
Name Sens: #REF!
Name Sueurs: #REF!
Name Tremblements: #REF!

Sheet DOSSIER ALCOOLISME
B1: DE LA RECONNAISSANCE AU SEVRAGE
F2: Pouls (battements par minute) | H2: Pression artérielle systolique (mmHg) | J2: Fréquence respiratoire (cycles par minutes)
B3: IDENTITÉ DU PATIENT
F4: <80 | H4: <135 | J4: <16
B5: Code du patient | C5: MS4428610 | F5: =IF(F4="<80","0",IF(F4="81 - 100","1",IF(F4="101 - 120","2",IF(F4=">120","3")))) -> 0 | H5: =IF(H4="<135","0",IF(H4="136 - 145","1",IF(H4="146 - 155","2",IF(H4=">155","3",)))) -> 0 | J5: =IF(J4="<16","0",IF(J4="16 - 25","1",IF(J4="26 - 35","2",IF(J4=">35","3")))) -> 0
B7: Coordonnées actualisées du patient ? | F7: Tremblements | H7: Sueurs | J7: Agitation
F8: de la main en extension | H8: paumes | J8: discrète
B9: Taille (en centimètres)
B11: Profession | C11: =VLOOKUP('DOSSIER ALCOOLISME'!C5,[1]Tableau_de_liaison!A3:'[1]Tableau_de_liaison'!P28,15,FALSE) -> #REF! | F11: =IF(F8=0,"0",IF(F8="de la main en extension","1",IF(F8="tout le membre supérieur","2",IF(F8="généralisés","3")))) -> 1 | H11: =IF(H8=0,"0",IF(H8="paumes","1",IF(H8="paumes et front","2",IF(H8="généralisés","3")))) -> 1 | J11: =IF(J8=0,"0",IF(J8="discrète","1",IF(J8="généralisée / contrôlable","2",IF(J8="généralisée / incontrôlable","3")))) -> 1
B13: Difficultés psychosociales | H13: Troubles sensoriels
H14: gêne par le bruit, la lumière ou prurit
B15: Age | C15: =DATEDIF(VLOOKUP('DOSSIER ALCOOLISME'!C5,[1]Tableau_de_liaison!A3:'[1]Tableau_de_liaison'!P28,7,FALSE),TODAY(),"y")&" ans et "&DATEDIF(VLOOKUP('DOSSIER ALCOOLISME'!C5,[1]Tableau_de_liaison!A3:'[1]Tableau_de_liaison'!P28,7,FALSE),TODAY(),"ym")&" mois " -> #REF!
B17: Sexe | C17: =VLOOKUP('DOSSIER ALCOOLISME'!C5,[1]Tableau_de_liaison!A3:'[1]Tableau_de_liaison'!P28,8,FALSE) -> #REF! | H17: =IF(H14=0,"0",IF(H14="gêne par le bruit, la lumière ou prurit","1",IF(H14="hallucinations critiquées","2",IF(H14="hallucinations non critiquées","3")))) -> 1
B19: PROFESSIONNELS DE SANTÉ RÉFÉRENTS | H19: Score = | I19: =F5+H5+J5+F11+H11+J11+H17 -> 4
B21: NOM du médecin traitant | C21: =VLOOKUP('DOSSIER ALCOOLISME'!C5,[1]Tableau_de_liaison!A3:'[1]Tableau_de_liaison'!P28,16,FALSE) -> #REF! | F21: =IF(I19<5,"Valium = 0",IF(I19<=7,"Valium toutes les 4 heures","valium toutes les 3 heures")) -> Valium = 0
B23: Téléphone ou poste | C23: =VLOOKUP('DOSSIER ALCOOLISME'!C5,[1]Tableau_de_liaison!A3:'[1]Tableau_de_liaison'!Q28,17,FALSE) -> #REF!
B25: NOM d'un autre professionnel de santé référent
B27: Sa spécialité | C27: -
B29: Téléphone ou poste
B31: NOM d'un autre professionnel de santé référent
B33: Sa spécialité | C33: -
B35: Téléphone ou poste
B38: QUESTION | C38: RÉPONSE | F38: ANALYSE SCORE AUDIT
A39: ORDRE | B39: TEXTE | C39: CHOIX | D39: SCORE | F39: SCORE | H39: 1 | I39: 2 | J39: 3 | K39: 4
A40: 1 | B40: Quelle est la fréquence de votre consommation d'alcool ? | C40: 2 à 4 fois par mois | D40: =IF(C40="Jamais",0,IF(C40="Au moins 1 fois par mois",1,IF(C40="2 à 4 fois par mois",2,IF(C40="2 à 3 fois par semaine",3,IF(C40="Au moins 4 fois par semaine",4))))) -> 2 | F40: NOMBRE DE REPETITIONS DU SCORE | H40: =COUNTIF(D40:D49,"1") -> 1 | I40: =COUNTIF(D40:D49,"2") -> 6 | J40: =COUNTIF(D40:D49,"3") -> 1 | K40: =COUNTIF(D40:D49,"4") -> 2
A41: 2 | B41: Combien de verres contenant de l'alcool consommez-vous un jour typique où vous buvez ? | C41: 5 ou 6 | D41: =IF(C41="1 ou 2",0,IF(C41="3 ou 4",1,IF(C41="5 ou 6",2,IF(C41="7 ou 8",3,IF(C41="10 ou plus",4))))) -> 2 | F41: PART DU SCORE DANS LE SCORE TOTAL | H41: =H40/D50 -> 0.041666667 | I41: =I40/D50 -> 0.25 | J41: =J40/D50 -> 0.041666667 | K41: =K40/D50 -> 0.083333333
A42: 3 | B42: Avec quelle fréquence buvez-vous six verre ou davantage lors d'une occasion particulière ? | C42: 1 fois par semaine | D42: =IF(C42="Jamais",0,IF(C42="Moins d'1 fois par mois",1,IF(C42="1 fois par mois",2,IF(C42="1 fois par semaine",3,IF(C42="Tous les jours ou presque",4))))) -> 3
A43: 4 | B43: Au cours de l'année écoulée, combien de fois avez-vous constaté que vous n'étiez plus capable de vous arrêter de boire une fois que vous avez commencé ? | C43: 1 fois par mois | D43: =IF(C43="Jamais",0,IF(C43="Moins d'1 fois par mois",1,IF(C43="1 fois par mois",2,IF(C43="1 fois par semaine",3,IF(C43="Tous les jours ou presque",4))))) -> 2
A44: 5 | B44: Au cours de l'année écoulée, combien de fois votre consommation d'alcool vous a-t-elle empêché de faire ce qui était normalement attendu de vous ? | C44: 1 fois par mois | D44: =IF(C44="Jamais",0,IF(C44="Moins d'1 fois par mois",1,IF(C44="1 fois par mois",2,IF(C44="1 fois par semaine",3,IF(C44="Tous les jours ou presque",4))))) -> 2
A45: 6 | B45: Au cours de l'année écoulée, combien de fois avez-vous eu besoin d'un premier verre pour pouvoir démarrer après avoir beaucoup bu la veille ? | C45: Moins d'1 fois par mois | D45: =IF(C45="Jamais",0,IF(C45="Moins d'1 fois par mois",1,IF(C45="1 fois par mois",2,IF(C45="1 fois par semaine",3,IF(C45="Tous les jours ou presque",4))))) -> 1
A46: 7 | B46: Au cours de l'année écoulée, combien de fois avez-vous eu un sentiment de culpabilité ou des remords après avoir bu ? | C46: 1 fois par mois | D46: =IF(C46="Jamais",0,IF(C46="Moins d'1 fois par mois",1,IF(C46="1 fois par mois",2,IF(C46="1 fois par semaine",3,IF(C46="Tous les jours ou presque",4))))) -> 2
A47: 8 | B47: Au cours de l'année écoulée, combien de fois avez-vous été incapable de vous rappeler ce qui s'était passé la soirée précédente parce que vous aviez bu ? | C47: 1 fois par mois | D47: =IF(C47="Jamais",0,IF(C47="Moins d'1 fois par mois",1,IF(C47="1 fois par mois",2,IF(C47="1 fois par semaine",3,IF(C47="Tous les jours ou presque",4))))) -> 2
A48: 9 | B48: Avez-vous été blessé ou quelqu'un d'autre a-t-il été blessé parce que vous aviez bu ? | C48: Oui, au cours de l'année | D48: =IF(C48="Non",0,IF(C48="Oui, mais pas au cours de l'année écoulée",2,IF(C48="Oui, au cours de l'année",4))) -> 4
A49: 10 | B49: Un parent, un ami, un médecin ou un autre soignant s'est-il inquiété de votre consommation d'alcool ou a-t-il suggéré que vous la réduisiez ? | C49: Oui, au cours de l'année | D49: =IF(C49="Non",0,IF(C49="Oui, mais pas au cours de l'année écoulée",2,IF(C49="Oui, au cours de l'année",4))) -> 4
B50: SCORE TOTAL | D50: =D40+D41+D42+D43+D44+D45+D46+D47+D48+D49 -> 24
A52: Alcoolodépendance probable
