Workbook
Name Gestionnaire: Liste!$B$3:$B$73
Name La_Liste: Liste!$B$1:$B$71
Name Libre: Liste!$D$3:$D$71
Name Liste: Liste!$B$3:$B$71
Name Plan: Plan!$B$2:$P$47
Name RE: Liste!$F$23:$F$26

Sheet Liste
E1: Garder la première cellule vide pour La_Liste
B2: Gestionnaire | D2: Les Libres | H2: Saisonniers
B3: Employé 1 | D3: {=INDEX(La_Liste,MIN(IF(COUNTIF(Plan,Liste)=0,IF(COUNTIF(D$2:D2,Liste)=0,ROW(Liste)))))&""} -> Employé 2 | F3: =OFFSET(Libre,,,SUMPRODUCT(N(Libre<>""))) -> Employé 2 | H3: Saisonnier 1
B4: Employé 2 | D4: {=INDEX(La_Liste,MIN(IF(COUNTIF(Plan,Liste)=0,IF(COUNTIF(D$2:D3,Liste)=0,ROW(Liste)))))&""} -> Employé 3 | H4: Saisonnier 2
B5: Employé 3 | D5: {=INDEX(La_Liste,MIN(IF(COUNTIF(Plan,Liste)=0,IF(COUNTIF(D$2:D4,Liste)=0,ROW(Liste)))))&""} -> Employé 4 | H5: Saisonnier 3
B6: Employé 4 | D6: {=INDEX(La_Liste,MIN(IF(COUNTIF(Plan,Liste)=0,IF(COUNTIF(D$2:D5,Liste)=0,ROW(Liste)))))&""} -> Employé 5 | H6: Saisonnier 4
B7: Employé 5 | D7: {=INDEX(La_Liste,MIN(IF(COUNTIF(Plan,Liste)=0,IF(COUNTIF(D$2:D6,Liste)=0,ROW(Liste)))))&""} -> Employé 6 | H7: Saisonnier 5
B8: Employé 6 | D8: {=INDEX(La_Liste,MIN(IF(COUNTIF(Plan,Liste)=0,IF(COUNTIF(D$2:D7,Liste)=0,ROW(Liste)))))&""} -> Employé 7 | H8: Saisonnier 6
B9: Employé 7 | D9: {=INDEX(La_Liste,MIN(IF(COUNTIF(Plan,Liste)=0,IF(COUNTIF(D$2:D8,Liste)=0,ROW(Liste)))))&""} -> Employé 8 | H9: Saisonnier 7
B10: Employé 8 | D10: {=INDEX(La_Liste,MIN(IF(COUNTIF(Plan,Liste)=0,IF(COUNTIF(D$2:D9,Liste)=0,ROW(Liste)))))&""} -> Employé 9 | H10: Saisonnier 8
B11: Employé 9 | D11: {=INDEX(La_Liste,MIN(IF(COUNTIF(Plan,Liste)=0,IF(COUNTIF(D$2:D10,Liste)=0,ROW(Liste)))))&""} -> Employé 10 | H11: Saisonnier 9
B12: Employé 10 | D12: {=INDEX(La_Liste,MIN(IF(COUNTIF(Plan,Liste)=0,IF(COUNTIF(D$2:D11,Liste)=0,ROW(Liste)))))&""} -> Employé 11 | H12: Saisonnier 10
B13: Employé 11 | D13: {=INDEX(La_Liste,MIN(IF(COUNTIF(Plan,Liste)=0,IF(COUNTIF(D$2:D12,Liste)=0,ROW(Liste)))))&""} -> Employé 12 | H13: Saisonnier 11
B14: Employé 12 | D14: {=INDEX(La_Liste,MIN(IF(COUNTIF(Plan,Liste)=0,IF(COUNTIF(D$2:D13,Liste)=0,ROW(Liste)))))&""} -> Employé 13 | H14: Saisonnier 12
B15: Employé 13 | D15: {=INDEX(La_Liste,MIN(IF(COUNTIF(Plan,Liste)=0,IF(COUNTIF(D$2:D14,Liste)=0,ROW(Liste)))))&""} -> Employé 14 | H15: Saisonnier 13
... B21: Employé 19 | D21: {=INDEX(La_Liste,MIN(IF(COUNTIF(Plan,Liste)=0,IF(COUNTIF(D$2:D20,Liste)=0,ROW(Liste)))))&""} -> Employé 20 | H21: Saisonnier 19
B22: Employé 20 | D22: {=INDEX(La_Liste,MIN(IF(COUNTIF(Plan,Liste)=0,IF(COUNTIF(D$2:D21,Liste)=0,ROW(Liste)))))&""} -> Employé 21 | F22: RE | H22: Saisonnier 20
B23: Employé 21 | D23: {=INDEX(La_Liste,MIN(IF(COUNTIF(Plan,Liste)=0,IF(COUNTIF(D$2:D22,Liste)=0,ROW(Liste)))))&""} -> Employé 22 | F23: RE 1 | H23: Saisonnier 21
B24: Employé 22 | D24: {=INDEX(La_Liste,MIN(IF(COUNTIF(Plan,Liste)=0,IF(COUNTIF(D$2:D23,Liste)=0,ROW(Liste)))))&""} -> Employé 23 | F24: RE 2 | H24: Saisonnier 22
B25: Employé 23 | D25: {=INDEX(La_Liste,MIN(IF(COUNTIF(Plan,Liste)=0,IF(COUNTIF(D$2:D24,Liste)=0,ROW(Liste)))))&""} -> Employé 24 | F25: RE 3 | H25: Saisonnier 23
B26: Employé 24 | D26: {=INDEX(La_Liste,MIN(IF(COUNTIF(Plan,Liste)=0,IF(COUNTIF(D$2:D25,Liste)=0,ROW(Liste)))))&""} -> Employé 25 | F26: RE 4 | H26: Saisonnier 24
B27: Employé 25 | D27: {=INDEX(La_Liste,MIN(IF(COUNTIF(Plan,Liste)=0,IF(COUNTIF(D$2:D26,Liste)=0,ROW(Liste)))))&""} -> Employé 26 | H27: Saisonnier 25
B28: Employé 26 | D28: {=INDEX(La_Liste,MIN(IF(COUNTIF(Plan,Liste)=0,IF(COUNTIF(D$2:D27,Liste)=0,ROW(Liste)))))&""} -> Employé 27
B29: Employé 27 | D29: {=INDEX(La_Liste,MIN(IF(COUNTIF(Plan,Liste)=0,IF(COUNTIF(D$2:D28,Liste)=0,ROW(Liste)))))&""} -> Employé 28
B30: Employé 28 | D30: {=INDEX(La_Liste,MIN(IF(COUNTIF(Plan,Liste)=0,IF(COUNTIF(D$2:D29,Liste)=0,ROW(Liste)))))&""} -> Employé 29
B31: Employé 29 | D31: {=INDEX(La_Liste,MIN(IF(COUNTIF(Plan,Liste)=0,IF(COUNTIF(D$2:D30,Liste)=0,ROW(Liste)))))&""} -> Employé 30
B32: Employé 30 | D32: {=INDEX(La_Liste,MIN(IF(COUNTIF(Plan,Liste)=0,IF(COUNTIF(D$2:D31,Liste)=0,ROW(Liste)))))&""} -> Employé 31
B33: Employé 31 | D33: {=INDEX(La_Liste,MIN(IF(COUNTIF(Plan,Liste)=0,IF(COUNTIF(D$2:D32,Liste)=0,ROW(Liste)))))&""} -> Employé 32
B34: Employé 32 | D34: {=INDEX(La_Liste,MIN(IF(COUNTIF(Plan,Liste)=0,IF(COUNTIF(D$2:D33,Liste)=0,ROW(Liste)))))&""} -> Employé 33
B35: Employé 33 | D35: {=INDEX(La_Liste,MIN(IF(COUNTIF(Plan,Liste)=0,IF(COUNTIF(D$2:D34,Liste)=0,ROW(Liste)))))&""} -> Employé 34
B36: Employé 34 | D36: {=INDEX(La_Liste,MIN(IF(COUNTIF(Plan,Liste)=0,IF(COUNTIF(D$2:D35,Liste)=0,ROW(Liste)))))&""} -> Employé 35
B37: Employé 35 | D37: {=INDEX(La_Liste,MIN(IF(COUNTIF(Plan,Liste)=0,IF(COUNTIF(D$2:D36,Liste)=0,ROW(Liste)))))&""} -> Employé 36
B38: Employé 36 | D38: {=INDEX(La_Liste,MIN(IF(COUNTIF(Plan,Liste)=0,IF(COUNTIF(D$2:D37,Liste)=0,ROW(Liste)))))&""} -> Employé 37
B39: Employé 37 | D39: {=INDEX(La_Liste,MIN(IF(COUNTIF(Plan,Liste)=0,IF(COUNTIF(D$2:D38,Liste)=0,ROW(Liste)))))&""} -> Employé 38
... B71: Employé 69 | D71: {=INDEX(La_Liste,MIN(IF(COUNTIF(Plan,Liste)=0,IF(COUNTIF(D$2:D70,Liste)=0,ROW(Liste)))))&""}

Sheet Plan
S2: Employé 1 | T2: =COUNTIF(Plan!$B$2:$P$47,S2) -> 1
C3: Work Café | F3: Imprimante | H3: Local | J3: Sortie de Secours | S3: Employé 2 | T3: =COUNTIF(Plan!$B$2:$P$47,S3) -> 0
J4: Plateau NORD | M4: Marguerite Basse | O4: Marguerite Basse | S4: Employé 3 | T4: =COUNTIF(Plan!$B$2:$P$47,S4) -> 0
S5: Employé 4 | T5: =COUNTIF(Plan!$B$2:$P$47,S5) -> 0
B6: Employé 1 | S6: Employé 5 | T6: =COUNTIF(Plan!$B$2:$P$47,S6) -> 0
B7: Marguerite Haute | F7: Marguerite Basse | H7: Marguerite Basse | S7: Employé 6 | T7: =COUNTIF(Plan!$B$2:$P$47,S7) -> 0
S8: Employé 7 | T8: =COUNTIF(Plan!$B$2:$P$47,S8) -> 0
M9: Marguerite Basse | O9: Marguerite Basse | S9: Employé 8 | T9: =COUNTIF(Plan!$B$2:$P$47,S9) -> 0
S10: Employé 9 | T10: =COUNTIF(Plan!$B$2:$P$47,S10) -> 0
F11: Marguerite Basse | H11: Marguerite Basse | S11: Employé 10 | T11: =COUNTIF(Plan!$B$2:$P$47,S11) -> 0
B12: Bureau RE | C12: RE 1 | S12: Employé 11 | T12: =COUNTIF(Plan!$B$2:$P$47,S12) -> 0
S13: Employé 12 | T13: =COUNTIF(Plan!$B$2:$P$47,S13) -> 0
M14: Marguerite Basse | O14: Marguerite Basse | S14: Employé 13 | T14: =COUNTIF(Plan!$B$2:$P$47,S14) -> 0
S15: Employé 14 | T15: =COUNTIF(Plan!$B$2:$P$47,S15) -> 0
S16: Employé 15 | T16: =COUNTIF(Plan!$B$2:$P$47,S16) -> 0
B17: Marguerite Haute | F17: Bureau RE | L17: Entrée Secondaire | S17: Employé 16 | T17: =COUNTIF(Plan!$B$2:$P$47,S17) -> 0
S18: Employé 17 | T18: =COUNTIF(Plan!$B$2:$P$47,S18) -> 0
F19: RE 2 | S19: Employé 18 | T19: =COUNTIF(Plan!$B$2:$P$47,S19) -> 0
S20: Employé 19 | T20: =COUNTIF(Plan!$B$2:$P$47,S20) -> 0
B21: Marguerite Haute | F21: RE 3 | I21: Imprimante | S21: Employé 20 | T21: =COUNTIF(Plan!$B$2:$P$47,S21) -> 0
S22: Employé 21 | T22: =COUNTIF(Plan!$B$2:$P$47,S22) -> 0
S23: Employé 22 | T23: =COUNTIF(Plan!$B$2:$P$47,S23) -> 0
A24: Salle de Pause | S24: Employé 23 | T24: =COUNTIF(Plan!$B$2:$P$47,S24) -> 0
S25: Employé 24 | T25: =COUNTIF(Plan!$B$2:$P$47,S25) -> 0
H26: Entrée Principale | S26: Employé 25 | T26: =COUNTIF(Plan!$B$2:$P$47,S26) -> 0
S27: Employé 26 | T27: =COUNTIF(Plan!$B$2:$P$47,S27) -> 0
S28: Employé 27 | T28: =COUNTIF(Plan!$B$2:$P$47,S28) -> 0
S29: Employé 28 | T29: =COUNTIF(Plan!$B$2:$P$47,S29) -> 0
S30: Employé 29 | T30: =COUNTIF(Plan!$B$2:$P$47,S30) -> 0
S31: Employé 30 | T31: =COUNTIF(Plan!$B$2:$P$47,S31) -> 0
J32: Marguerite Basse | L32: Marguerite Basse | S32: Employé 31 | T32: =COUNTIF(Plan!$B$2:$P$47,S32) -> 0
B33: Bureau RE | C33: RE 4 | S33: Employé 32 | T33: =COUNTIF(Plan!$B$2:$P$47,S33) -> 0
S34: Employé 33 | T34: =COUNTIF(Plan!$B$2:$P$47,S34) -> 0
S35: Employé 34 | T35: =COUNTIF(Plan!$B$2:$P$47,S35) -> 0
S36: Employé 35 | T36: =COUNTIF(Plan!$B$2:$P$47,S36) -> 0
S37: Employé 36 | T37: =COUNTIF(Plan!$B$2:$P$47,S37) -> 0
B38: Marguerite Basse | E38: Marguerite Basse | S38: Employé 37 | T38: =COUNTIF(Plan!$B$2:$P$47,S38) -> 0
L39: Marguerite Haute | S39: Employé 38 | T39: =COUNTIF(Plan!$B$2:$P$47,S39) -> 0
S40: Employé 39 | T40: =COUNTIF(Plan!$B$2:$P$47,S40) -> 0
S41: Employé 40 | T41: =COUNTIF(Plan!$B$2:$P$47,S41) -> 0
...
