Workbook

Sheet Source
A1: N° | B1: Pdt 1 | C1: Pdt 2 | D1: Pdt 3 | E1: Pdt 4 | F1: Pdt 5 | G1: Pdt 6 | I1: Nbre Lignes | J1: =COUNTA(A2:A200) -> 19
A2: Pdt 1 | B2: 100 | C2: 200 | D2: 300 | E2: 400 | F2: 500 | G2: 600
A3: Pdt 2 | B3: 101 | C3: 201 | D3: 301 | E3: 401 | F3: 501 | G3: 601
A4: Pdt 3 | B4: 102 | C4: 202 | D4: 302 | E4: 402 | F4: 502 | G4: 602
A5: Pdt 4 | B5: 103 | C5: 203 | D5: 303 | E5: 403 | F5: 503 | G5: 603
A6: Pdt 5 | B6: 104 | C6: 204 | D6: 304 | E6: 404 | F6: 504 | G6: 604
A7: Pdt 6 | B7: 105 | C7: 205 | D7: 305 | E7: 405 | F7: 505 | G7: 605
A8: Pdt 7 | B8: 106 | C8: 206 | D8: 306 | E8: 406 | F8: 506 | G8: 606
A9: Pdt 8 | B9: 107 | C9: 207 | D9: 307 | E9: 407 | F9: 507 | G9: 607
A10: Pdt 9 | B10: 108 | C10: 208 | D10: 308 | E10: 408 | F10: 508 | G10: 608
A11: Pdt 10 | B11: 109 | C11: 209 | D11: 309 | E11: 409 | F11: 509 | G11: 609
A12: Pdt 11 | B12: 110 | C12: 210 | D12: 310 | E12: 410 | F12: 510 | G12: 610
A13: Pdt 12 | B13: 111 | C13: 211 | D13: 311 | E13: 411 | F13: 511 | G13: 611
... A20: Pdt 19 | B20: 118 | C20: 218 | D20: 318 | E20: 418 | F20: 518 | G20: 618

Sheet Donnees
A5: Tableau 1
A6: N° | B6: Prix 1 | C6: Prix 2 | D6: Prix 3 | E6: Total
A7: =Source!A2 -> Pdt 1 | B7: =VLOOKUP($A7,Source!$A:$G,2,0) -> 100 | C7: =VLOOKUP($A7,Source!$A:$G,3,0) -> 200 | D7: =VLOOKUP($A7,Source!$A:$G,4,0) -> 300 | E7: =SUM(B7:D12) -> 3645 | G7: Comment je peux ajuster automatiquement les tableaux en fonction du nombre de produits (nombre de lignes dans la feuille source) ?
A8: =Source!A3 -> Pdt 2 | B8: =VLOOKUP($A8,Source!$A:$G,2,0) -> 101 | C8: =VLOOKUP($A8,Source!$A:$G,3,0) -> 201 | D8: =VLOOKUP($A8,Source!$A:$G,4,0) -> 301
A9: =Source!A4 -> Pdt 3 | B9: =VLOOKUP($A9,Source!$A:$G,2,0) -> 102 | C9: =VLOOKUP($A9,Source!$A:$G,3,0) -> 202 | D9: =VLOOKUP($A9,Source!$A:$G,4,0) -> 302
A10: =Source!A5 -> Pdt 4 | B10: =VLOOKUP($A10,Source!$A:$G,2,0) -> 103 | C10: =VLOOKUP($A10,Source!$A:$G,3,0) -> 203 | D10: =VLOOKUP($A10,Source!$A:$G,4,0) -> 303
A11: =Source!A6 -> Pdt 5 | B11: =VLOOKUP($A11,Source!$A:$G,2,0) -> 104 | C11: =VLOOKUP($A11,Source!$A:$G,3,0) -> 204 | D11: =VLOOKUP($A11,Source!$A:$G,4,0) -> 304
A12: =Source!A7 -> Pdt 6 | B12: =VLOOKUP($A12,Source!$A:$G,2,0) -> 105 | C12: =VLOOKUP($A12,Source!$A:$G,3,0) -> 205 | D12: =VLOOKUP($A12,Source!$A:$G,4,0) -> 305
A14: Tableau 2
A15: N° | B15: Prix 4 | C15: Prix 5 | D15: Prix 6 | E15: Total
A16: =A7 -> Pdt 1 | B16: =VLOOKUP($A16,Source!$A:$G,5,0) -> 400 | C16: =VLOOKUP($A16,Source!$A:$G,6,0) -> 500 | D16: =VLOOKUP($A16,Source!$A:$G,7,0) -> 600 | E16: =SUM(B16:D21) -> 9045
A17: =A8 -> Pdt 2 | B17: =VLOOKUP($A17,Source!$A:$G,5,0) -> 401 | C17: =VLOOKUP($A17,Source!$A:$G,6,0) -> 501 | D17: =VLOOKUP($A17,Source!$A:$G,7,0) -> 601
A18: =A9 -> Pdt 3 | B18: =VLOOKUP($A18,Source!$A:$G,5,0) -> 402 | C18: =VLOOKUP($A18,Source!$A:$G,6,0) -> 502 | D18: =VLOOKUP($A18,Source!$A:$G,7,0) -> 602
A19: =A10 -> Pdt 4 | B19: =VLOOKUP($A19,Source!$A:$G,5,0) -> 403 | C19: =VLOOKUP($A19,Source!$A:$G,6,0) -> 503 | D19: =VLOOKUP($A19,Source!$A:$G,7,0) -> 603
A20: =A11 -> Pdt 5 | B20: =VLOOKUP($A20,Source!$A:$G,5,0) -> 404 | C20: =VLOOKUP($A20,Source!$A:$G,6,0) -> 504 | D20: =VLOOKUP($A20,Source!$A:$G,7,0) -> 604
A21: =A12 -> Pdt 6 | B21: =VLOOKUP($A21,Source!$A:$G,5,0) -> 405 | C21: =VLOOKUP($A21,Source!$A:$G,6,0) -> 505 | D21: =VLOOKUP($A21,Source!$A:$G,7,0) -> 605

Sheet Feuil3
