Workbook
Name Episodesvus: OFFSET(Sommaire!$B$18,0,0,COUNTA(Sommaire!$A$18:$A$2367),8)

Sheet Sommaire
C3: Séries et Films terminés
H4: Tableau statistiques
C5: Séries en cours
A6: Tableau des téléchargements | H6: Nombre de séries total: | I6: =COUNTA(A18:A22) -> 5
A7: Prévisions | C7: Séries en pause | H7: Nombre de séries et films terminées: | I7: =COUNTIF(I18:I22,"fini*") -> 0
A8: Tableau statistiques | H8: Nombre de séries en cours: | I8: =COUNTIF(H18:H22,"*en cours*") -> 0
A9: Fansub | C9: Séries à venir | H9: Nombre de séries en pause: | I9: =COUNTIF(H18:H22,"*en pause") -> 0
H10: Nombre de séries à venir: | I10: =COUNTIF(H18:H22,"*à venir*") -> 0
C11: Série en visionnage | H11: Nombre de séries en visionnage: | I11: =COUNTIF(I18:I22,"*à regarder")+COUNTIF(I18:I22,"A jour") -> 0
H12: Nombre de séries abandonnées: | I12: =COUNTIF(I18:I22,"*abandonnée") -> 0
C13: Séries abandonnées
H16: La formule est la
A18: .hack - Sign | B18: 12 | C18: 25 | H18: =IF(AND(OR(Prévisions!E18="Terminée",AND(Prévisions!E18*1<TODAY(),Prévisions!B18='Tableau des téléchargements'!C18),ISBLANK(Prévisions!E18)),OR(Prévisions!F18="Terminé(s)",AND(Prévisions!F18*1<TODAY(),Prévisions!C18='Tableau des téléchargements'!E18),ISBLANK(Prévisions!F18)),OR(Prévisions!G18="Terminé(s)",AND(Prévisions!G18*1<TODAY(),Prévisions!D18='Tableau des téléchargements'!G18),ISBLANK(Prévisions!G18))),"Série terminée","") -> #VALUE!
A19: 11 eyes | B19: 12 | C19: 12 | D19: 1 | E19: 1 | H19: =IF(AND(OR(Prévisions!E19="Terminée",AND(Prévisions!E19*1<TODAY(),Prévisions!B19='Tableau des téléchargements'!C19),ISBLANK(Prévisions!E19)),OR(Prévisions!F19="Terminé(s)",AND(Prévisions!F19*1<TODAY(),Prévisions!C19='Tableau des téléchargements'!E19),ISBLANK(Prévisions!F19)),OR(Prévisions!G19="Terminé(s)",AND(Prévisions!G19*1<TODAY(),Prévisions!D19='Tableau des téléchargements'!G19),ISBLANK(Prévisions!G19))),"Série terminée","") -> #VALUE!
A20: 30-sai no Hoken Taiiku | B20: 12 | C20: 12 | H20: =IF(AND(OR(Prévisions!E20="Terminée",AND(Prévisions!E20*1<TODAY(),Prévisions!B20='Tableau des téléchargements'!C20),ISBLANK(Prévisions!E20)),OR(Prévisions!F20="Terminé(s)",AND(Prévisions!F20*1<TODAY(),Prévisions!C20='Tableau des téléchargements'!E20),ISBLANK(Prévisions!F20)),OR(Prévisions!G20="Terminé(s)",AND(Prévisions!G20*1<TODAY(),Prévisions!D20='Tableau des téléchargements'!G20),ISBLANK(Prévisions!G20))),"Série terminée","") -> #VALUE!
A21: Abarenbô Rikishi!! Matsutarô | B21: 0 | C21: 10 | H21: =IF(AND(OR(Prévisions!E21="Terminée",AND(Prévisions!E21*1<TODAY(),Prévisions!B21='Tableau des téléchargements'!C21),ISBLANK(Prévisions!E21)),OR(Prévisions!F21="Terminé(s)",AND(Prévisions!F21*1<TODAY(),Prévisions!C21='Tableau des téléchargements'!E21),ISBLANK(Prévisions!F21)),OR(Prévisions!G21="Terminé(s)",AND(Prévisions!G21*1<TODAY(),Prévisions!D21='Tableau des téléchargements'!G21),ISBLANK(Prévisions!G21))),"Série terminée","") -> Série terminée
A22: Absolute Duo | B22: 0 | C22: 0 | H22: =IF(AND(OR(Prévisions!E22="Terminée",AND(Prévisions!E22*1<TODAY(),Prévisions!B22='Tableau des téléchargements'!C22),ISBLANK(Prévisions!E22)),OR(Prévisions!F22="Terminé(s)",AND(Prévisions!F22*1<TODAY(),Prévisions!C22='Tableau des téléchargements'!E22),ISBLANK(Prévisions!F22)),OR(Prévisions!G22="Terminé(s)",AND(Prévisions!G22*1<TODAY(),Prévisions!D22='Tableau des téléchargements'!G22),ISBLANK(Prévisions!G22))),"Série terminée","") -> Série terminée
A25: C'est une petite partie de ma grosse formule mais la complexité est du même niveau donc si j'ai un exemple sur celle-ci je saurai surement me débrouiller sur les autres (et de toute manière il le faut!). La formule va chercher des données sur les 2 dernières feuilles.

Sheet Tableau des téléchargements
C3: Téléchargements terminés
H4: Nombre de séries total: | K4: =COUNTA(A19:A22) -> 4
C5: Téléchargements en cours | H5: Nombre de séries et films téléchargés: | K5: =COUNTIF(H19:H22,"Terminé") -> 2
A6: Sommaire | H6: Nombre de séries en cours de téléchargements: | K6: =COUNTIF(H19:H22,"En cours") -> 0
A7: Prévisions | C7: A télécharger | H7: Nombre de séries à télécharger | K7: =COUNTIF(H19:H22,"A télécharger") -> 1
A8: Tableau statistiques | H8: Nombre de séries à venir: | K8: =COUNTIF(H19:H22,"*a venir") -> 1
A9: Fansub | C9: Téléchargements à venir | H9: Nombre d'OAV(s) et de Films à télécharger: | K9: =COUNTIF(H19:H22,"*à télécharger") -> 0
C11: OAV(s) et/ou Film(s) à télécharger
A18: =Sommaire!A18 -> .hack - Sign | B18: 0 | C18: ! | E18: ! | G18: ! | H18: =IF(AND(B18=C18,D18=E18,F18=G18),"Terminé",IF(OR(B18="x",D18="x",F18="x"),"Abandonné",IF(OR(C18="?",E18="?",G18="?"),"En cours",IF(OR(C18="!",E18="!",G18="!"),"A venir",IF(AND(B18=C18,D18<E18,F18=G18),"OAV(s) à télécharger",IF(AND(B18=C18,D18=E18,F18<G18),"Film(s) à télécharger",IF(AND(B18=C18,D18<E18,F18<G18),"OAV(s) et Film(s) à télécharger",IF(AND(B18<C18,D18<E18,F18<G18),"A télécharger",IF(AND(B18<C18,D18<E18),"A télécharger",IF(B18<C18,"A télécharger","A contrôler")))))))))) -> A venir
A19: =Sommaire!A19 -> 11 eyes | B19: 12 | C19: 12 | D19: 1 | E19: 1 | H19: =IF(AND(B19=C19,D19=E19,F19=G19),"Terminé",IF(OR(B19="x",D19="x",F19="x"),"Abandonné",IF(OR(C19="?",E19="?",G19="?"),"En cours",IF(OR(C19="!",E19="!",G19="!"),"A venir",IF(AND(B19=C19,D19<E19,F19=G19),"OAV(s) à télécharger",IF(AND(B19=C19,D19=E19,F19<G19),"Film(s) à télécharger",IF(AND(B19=C19,D19<E19,F19<G19),"OAV(s) et Film(s) à télécharger",IF(AND(B19<C19,D19<E19,F19<G19),"A télécharger",IF(AND(B19<C19,D19<E19),"A télécharger",IF(B19<C19,"A télécharger","A contrôler")))))))))) -> Terminé
A20: =Sommaire!A20 -> 30-sai no Hoken Taiiku | B20: 12 | C20: 12 | H20: =IF(AND(B20=C20,D20=E20,F20=G20),"Terminé",IF(OR(B20="x",D20="x",F20="x"),"Abandonné",IF(OR(C20="?",E20="?",G20="?"),"En cours",IF(OR(C20="!",E20="!",G20="!"),"A venir",IF(AND(B20=C20,D20<E20,F20=G20),"OAV(s) à télécharger",IF(AND(B20=C20,D20=E20,F20<G20),"Film(s) à télécharger",IF(AND(B20=C20,D20<E20,F20<G20),"OAV(s) et Film(s) à télécharger",IF(AND(B20<C20,D20<E20,F20<G20),"A télécharger",IF(AND(B20<C20,D20<E20),"A télécharger",IF(B20<C20,"A télécharger","A contrôler")))))))))) -> Terminé
A21: =Sommaire!A21 -> Abarenbô Rikishi!! Matsutarô | B21: 10 | C21: 23 | H21: =IF(AND(B21=C21,D21=E21,F21=G21),"Terminé",IF(OR(B21="x",D21="x",F21="x"),"Abandonné",IF(OR(C21="?",E21="?",G21="?"),"En cours",IF(OR(C21="!",E21="!",G21="!"),"A venir",IF(AND(B21=C21,D21<E21,F21=G21),"OAV(s) à télécharger",IF(AND(B21=C21,D21=E21,F21<G21),"Film(s) à télécharger",IF(AND(B21=C21,D21<E21,F21<G21),"OAV(s) et Film(s) à télécharger",IF(AND(B21<C21,D21<E21,F21<G21),"A télécharger",IF(AND(B21<C21,D21<E21),"A télécharger",IF(B21<C21,"A télécharger","A contrôler")))))))))) -> A télécharger
A22: =Sommaire!A22 -> Absolute Duo | B22: 0 | C22: ! | H22: =IF(AND(B22=C22,D22=E22,F22=G22),"Terminé",IF(OR(B22="x",D22="x",F22="x"),"Abandonné",IF(OR(C22="?",E22="?",G22="?"),"En cours",IF(OR(C22="!",E22="!",G22="!"),"A venir",IF(AND(B22=C22,D22<E22,F22=G22),"OAV(s) à télécharger",IF(AND(B22=C22,D22=E22,F22<G22),"Film(s) à télécharger",IF(AND(B22=C22,D22<E22,F22<G22),"OAV(s) et Film(s) à télécharger",IF(AND(B22<C22,D22<E22,F22<G22),"A télécharger",IF(AND(B22<C22,D22<E22),"A télécharger",IF(B22<C22,"A télécharger","A contrôler")))))))))) -> A venir

Sheet Prévisions
A6: Sommaire
A7: Tableau des téléchargements
A8: Tableau statistiques
A9: Fansub
A18: =Sommaire!A18 -> .hack - Sign | C18: ! | D18: ! | E18: Terminée
A19: =Sommaire!A19 -> 11 eyes | B19: 12 | C19: 1 | E19: Terminée | F19: Terminé(s) | G19: Terminé(s)
A20: =Sommaire!A20 -> 30-sai no Hoken Taiiku | B20: 12 | E20: Terminée | F20: 01/12/2014
A21: =Sommaire!A21 -> Abarenbô Rikishi!! Matsutarô | B21: 23 | E21: 01/12/2014
A22: =Sommaire!A22 -> Absolute Duo | B22: !
