Workbook
Name COD: Horaire!$H$38

Sheet Horaire
B2: HORAIRE DU COLLEGE | W2: ANNEE SCOLAIRE 2013-2014
BA3: Orar Post Nr.:
B4: Jour | C4: Heure/Classe | D4: VA | E4: V B | F4: V C | G4: V D | H4: V E | I4: V F | J4: VI A | K4: VI B | L4: VI C | M4: VI D | N4: VI E | O4: VI F | P4: VII A | Q4: VII B | R4: VII C | S4: VII D | T4: VII E | U4: VII F | V4: VII G | W4: VIII A | X4: VIII B | Y4: VIII C | Z4: VIII D | AA4: VIII E | AB4: VIII F | AC4: VA | AD4: V B | AE4: V C | AF4: V D | AG4: V E | AH4: V F | AI4: VI A | AJ4: VI B | AK4: VI C | AL4: VI D | AM4: VI E | AN4: VI F | AO4: VII A | AP4: VII B | AQ4: VII C | AR4: VII D | AS4: VII E | AT4: VII F | AU4: VII G | AV4: VIII A | AW4: VIII B | AX4: VIII C | AY4: VIII D | AZ4: VIII E | BA4: VIII F | BB4: =COD -> 17
B5: LUNDI | C5: I | D5: 20 | E5: 62 | F5: 22 | G5: 17 | H5: 49 | I5: 50 | J5: 23 | K5: 51 | L5: 4 | M5: 31 | N5: 40 | O5: 21 | P5: 2 | Q5: 55 | R5: 3 | S5: 24 | T5: 11 | U5: 29 | V5: 41 | W5: 30 | X5: 15 | Y5: 1 | Z5: 16 | AA5: 5 | AB5: 14 | AC5: =IF(D5=COD,D$4,"") | AD5: =IF(E5=COD,E$4,"") | AE5: =IF(F5=COD,F$4,"") | AF5: =IF(G5=COD,G$4,"") -> V D | AG5: =IF(H5=COD,H$4,"") | AH5: =IF(I5=COD,I$4,"") | AI5: =IF(J5=COD,J$4,"") | AJ5: =IF(K5=COD,K$4,"") | ... BA5: =IF(AB5=COD,AB$4,"") | BB5: =AC5&AD5&AE5&AF5&AG5&AH5&AI5&AJ5&AK5&AL5&AM5&AN5&AO5&AP5&AQ5&AR5&AS5&AT5&AU5&AV5&AW5&AX5&AY5&AZ5&BA5 -> V D
C6: II | D6: 51 | E6: 41 | F6: 1 | G6: 23 | H6: 21 | I6: 14 | J6: 62 | K6: 2 | L6: 11 | M6: 50 | N6: 3 | O6: 49 | P6: 30 | Q6: 29 | R6: 55 | S6: 31 | T6: 15 | U6: 16 | V6: 5 | W6: 17 | X6: 22 | Y6: 33 | Z6: 4 | AA6: 24 | AB6: 20 | AC6: =IF(D6=COD,D$4,"") | AD6: =IF(E6=COD,E$4,"") | AE6: =IF(F6=COD,F$4,"") | AF6: =IF(G6=COD,G$4,"") | AG6: =IF(H6=COD,H$4,"") | AH6: =IF(I6=COD,I$4,"") | AI6: =IF(J6=COD,J$4,"") | AJ6: =IF(K6=COD,K$4,"") | ... BA6: =IF(AB6=COD,AB$4,"") | BB6: =AC6&AD6&AE6&AF6&AG6&AH6&AI6&AJ6&AK6&AL6&AM6&AN6&AO6&AP6&AQ6&AR6&AS6&AT6&AU6&AV6&AW6&AX6&AY6&AZ6&BA6 -> VIII A
C7: III | D7: 3 | E7: 23 | F7: 33 | G7: 4 | H7: 15 | I7: 54 | J7: 5 | K7: 60 | L7: 24 | M7: 21 | N7: 22 | O7: 16 | P7: 29 | Q7: 1 | R7: 11 | S7: 50 | T7: 48 | U7: 51 | V7: 49 | W7: 55 | X7: 30 | Y7: 20 | Z7: 31 | AA7: 17 | AB7: 2 | AC7: =IF(D7=COD,D$4,"") | AD7: =IF(E7=COD,E$4,"") | AE7: =IF(F7=COD,F$4,"") | AF7: =IF(G7=COD,G$4,"") | AG7: =IF(H7=COD,H$4,"") | AH7: =IF(I7=COD,I$4,"") | AI7: =IF(J7=COD,J$4,"") | AJ7: =IF(K7=COD,K$4,"") | ... BA7: =IF(AB7=COD,AB$4,"") | BB7: =AC7&AD7&AE7&AF7&AG7&AH7&AI7&AJ7&AK7&AL7&AM7&AN7&AO7&AP7&AQ7&AR7&AS7&AT7&AU7&AV7&AW7&AX7&AY7&AZ7&BA7 -> VIII E
C8: IV | D8: 60 | E8: 2 | F8: 17 | G8: 50 | H8: 54 | I8: 6 | J8: 16 | K8: 20 | L8: 45 | M8: 48 | N8: 31 | O8: 29 | P8: 24 | Q8: 21 | R8: 22 | S8: 62 | T8: 23 | U8: 25 | V8: 30 | W8: 1 | X8: 3 | Y8: 41 | Z8: 33 | AA8: 11 | AB8: 36 | AC8: =IF(D8=COD,D$4,"") | AD8: =IF(E8=COD,E$4,"") | AE8: =IF(F8=COD,F$4,"") -> V C | AF8: =IF(G8=COD,G$4,"") | AG8: =IF(H8=COD,H$4,"") | AH8: =IF(I8=COD,I$4,"") | AI8: =IF(J8=COD,J$4,"") | AJ8: =IF(K8=COD,K$4,"") | ... BA8: =IF(AB8=COD,AB$4,"") | BB8: =AC8&AD8&AE8&AF8&AG8&AH8&AI8&AJ8&AK8&AL8&AM8&AN8&AO8&AP8&AQ8&AR8&AS8&AT8&AU8&AV8&AW8&AX8&AY8&AZ8&BA8 -> V C
C9: V | D9: 20 | E9: 49 | F9: 62 | G9: 54 | H9: 9 | I9: 25 | J9: 29 | K9: 30 | L9: 60 | M9: 5 | N9: 48 | O9: 6 | P9: 36 | Q9: 40 | R9: 51 | S9: 1 | T9: 33 | U9: 31 | V9: 23 | W9: 21 | X9: 11 | Y9: 45 | Z9: 41 | AA9: 24 | AB9: 15 | AC9: =IF(D9=COD,D$4,"") | AD9: =IF(E9=COD,E$4,"") | AE9: =IF(F9=COD,F$4,"") | AF9: =IF(G9=COD,G$4,"") | AG9: =IF(H9=COD,H$4,"") | AH9: =IF(I9=COD,I$4,"") | AI9: =IF(J9=COD,J$4,"") | AJ9: =IF(K9=COD,K$4,"") | ... BA9: =IF(AB9=COD,AB$4,"") | BB9: =AC9&AD9&AE9&AF9&AG9&AH9&AI9&AJ9&AK9&AL9&AM9&AN9&AO9&AP9&AQ9&AR9&AS9&AT9&AU9&AV9&AW9&AX9&AY9&AZ9&BA9
C10: VI | K10: 48 | P10: 9 | Q10: 36 | R10: 62 | S10: 31 | T10: 60 | U10: 54 | V10: 29 | W10: 51 | X10: 33 | Y10: 15 | Z10: 25 | AC10: =IF(D10=COD,D$4,"") | AD10: =IF(E10=COD,E$4,"") | AE10: =IF(F10=COD,F$4,"") | AF10: =IF(G10=COD,G$4,"") | AG10: =IF(H10=COD,H$4,"") | AH10: =IF(I10=COD,I$4,"") | AI10: =IF(J10=COD,J$4,"") | AJ10: =IF(K10=COD,K$4,"") | ... BA10: =IF(AB10=COD,AB$4,"") | BB10: =AC10&AD10&AE10&AF10&AG10&AH10&AI10&AJ10&AK10&AL10&AM10&AN10&AO10&AP10&AQ10&AR10&AS10&AT10&AU10&AV10&AW10&AX10&AY10&AZ10&BA10
B11: MARDI | C11: I | D11: 20 | E11: 55 | F11: 1 | G11: 36 | H11: 15 | I11: 6 | J11: 10 | K11: 17 | L11: 11 | M11: 42 | N11: 12 | O11: 38 | P11: 39 | Q11: 21 | R11: 22 | S11: 24 | T11: 41 | U11: 16 | V11: 23 | W11: 33 | X11: 3 | Y11: 50 | Z11: 4 | AA11: 5 | AB11: 2 | AC11: =IF(D11=COD,D$4,"") | AD11: =IF(E11=COD,E$4,"") | AE11: =IF(F11=COD,F$4,"") | AF11: =IF(G11=COD,G$4,"") | AG11: =IF(H11=COD,H$4,"") | AH11: =IF(I11=COD,I$4,"") | AI11: =IF(J11=COD,J$4,"") | AJ11: =IF(K11=COD,K$4,"") -> VI B | ... BA11: =IF(AB11=COD,AB$4,"") | BB11: =AC11&AD11&AE11&AF11&AG11&AH11&AI11&AJ11&AK11&AL11&AM11&AN11&AO11&AP11&AQ11&AR11&AS11&AT11&AU11&AV11&AW11&AX11&AY11&AZ11&BA11 -> VI B
C12: II | D12: 15 | E12: 2 | F12: 55 | G12: 4 | H12: 46 | I12: 16 | J12: 36 | K12: 42 | L12: 24 | M12: 5 | N12: 22 | O12: 6 | P12: 17 | Q12: 12 | R12: 3 | S12: 1 | T12: 39 | U12: 41 | V12: 30 | W12: 21 | X12: 33 | Y12: 10 | Z12: 50 | AA12: 11 | AB12: 20 | AC12: =IF(D12=COD,D$4,"") | AD12: =IF(E12=COD,E$4,"") | AE12: =IF(F12=COD,F$4,"") | AF12: =IF(G12=COD,G$4,"") | AG12: =IF(H12=COD,H$4,"") | AH12: =IF(I12=COD,I$4,"") | AI12: =IF(J12=COD,J$4,"") | AJ12: =IF(K12=COD,K$4,"") | ... BA12: =IF(AB12=COD,AB$4,"") | BB12: =AC12&AD12&AE12&AF12&AG12&AH12&AI12&AJ12&AK12&AL12&AM12&AN12&AO12&AP12&AQ12&AR12&AS12&AT12&AU12&AV12&AW12&AX12&AY12&AZ12&BA12 -> VII A
C13: III | D13: 55 | E13: 46 | F13: 38 | G13: 48 | H13: 60 | I13: 50 | J13: 23 | K13: 20 | L13: 30 | M13: 39 | N13: 3 | O13: 21 | P13: 2 | Q13: 33 | R13: 11 | S13: 10 | T13: 4 | U13: 25 | V13: 5 | W13: 17 | X13: 22 | Y13: 1 | Z13: 12 | AA13: 24 | AB13: 41 | AC13: =IF(D13=COD,D$4,"") | AD13: =IF(E13=COD,E$4,"") | AE13: =IF(F13=COD,F$4,"") | AF13: =IF(G13=COD,G$4,"") | AG13: =IF(H13=COD,H$4,"") | AH13: =IF(I13=COD,I$4,"") | AI13: =IF(J13=COD,J$4,"") | AJ13: =IF(K13=COD,K$4,"") | ... BA13: =IF(AB13=COD,AB$4,"") | BB13: =AC13&AD13&AE13&AF13&AG13&AH13&AI13&AJ13&AK13&AL13&AM13&AN13&AO13&AP13&AQ13&AR13&AS13&AT13&AU13&AV13&AW13&AX13&AY13&AZ13&BA13 -> VIII A
C14: IV | D14: 3 | E14: 23 | F14: 22 | G14: 11 | H14: 48 | I14: 38 | J14: 5 | K14: 2 | L14: 4 | M14: 21 | N14: 31 | O14: 13 | P14: 36 | Q14: 17 | R14: 16 | S14: 15 | T14: 30 | U14: 46 | V14: 60 | W14: 1 | X14: 42 | Y14: 20 | Z14: 25 | AA14: 55 | AB14: 39 | AC14: =IF(D14=COD,D$4,"") | AD14: =IF(E14=COD,E$4,"") | AE14: =IF(F14=COD,F$4,"") | AF14: =IF(G14=COD,G$4,"") | AG14: =IF(H14=COD,H$4,"") | AH14: =IF(I14=COD,I$4,"") | AI14: =IF(J14=COD,J$4,"") | AJ14: =IF(K14=COD,K$4,"") | ... BA14: =IF(AB14=COD,AB$4,"") | BB14: =AC14&AD14&AE14&AF14&AG14&AH14&AI14&AJ14&AK14&AL14&AM14&AN14&AO14&AP14&AQ14&AR14&AS14&AT14&AU14&AV14&AW14&AX14&AY14&AZ14&BA14 -> VII B
C15: V | D15: 48 | E15: 16 | F15: 40 | G15: 55 | H15: 21 | I15: 25 | J15: 42 | K15: 11 | L15: 38 | M15: 5 | N15: 39 | O15: 41 | P15: 60 | Q15: 1 | R15: 29 | S15: 46 | T15: 23 | U15: 13 | V15: 15 | W15: 10 | X15: 22 | Y15: 20 | Z15: 37 | AA15: 17 | AB15: 31 | AC15: =IF(D15=COD,D$4,"") | AD15: =IF(E15=COD,E$4,"") | AE15: =IF(F15=COD,F$4,"") | AF15: =IF(G15=COD,G$4,"") | AG15: =IF(H15=COD,H$4,"") | AH15: =IF(I15=COD,I$4,"") | AI15: =IF(J15=COD,J$4,"") | AJ15: =IF(K15=COD,K$4,"") | ... BA15: =IF(AB15=COD,AB$4,"") | BB15: =AC15&AD15&AE15&AF15&AG15&AH15&AI15&AJ15&AK15&AL15&AM15&AN15&AO15&AP15&AQ15&AR15&AS15&AT15&AU15&AV15&AW15&AX15&AY15&AZ15&BA15 -> VIII E
C16: VI | J16: 10 | L16: 42 | M16: 21 | Q16: 60 | R16: 46 | S16: 55 | T16: 15 | V16: 13 | W16: 1 | X16: 41 | Y16: 31 | Z16: 38 | AA16: 37 | AB16: 48 | AC16: =IF(D16=COD,D$4,"") | AD16: =IF(E16=COD,E$4,"") | AE16: =IF(F16=COD,F$4,"") | AF16: =IF(G16=COD,G$4,"") | AG16: =IF(H16=COD,H$4,"") | AH16: =IF(I16=COD,I$4,"") | AI16: =IF(J16=COD,J$4,"") | AJ16: =IF(K16=COD,K$4,"") | ... BA16: =IF(AB16=COD,AB$4,"") | BB16: =AC16&AD16&AE16&AF16&AG16&AH16&AI16&AJ16&AK16&AL16&AM16&AN16&AO16&AP16&AQ16&AR16&AS16&AT16&AU16&AV16&AW16&AX16&AY16&AZ16&BA16
B17: MERCREDI | C17: I | D17: 40 | E17: 2 | F17: 17 | G17: 39 | H17: 62 | I17: 44 | J17: 47 | K17: 36 | L17: 52 | M17: 12 | N17: 37 | O17: 6 | P17: 43 | Q17: 45 | R17: 22 | S17: 1 | T17: 23 | U17: 51 | V17: 49 | W17: 21 | X17: 3 | Y17: 20 | Z17: 4 | AA17: 24 | AB17: 41 | AC17: =IF(D17=COD,D$4,"") | AD17: =IF(E17=COD,E$4,"") | AE17: =IF(F17=COD,F$4,"") -> V C | AF17: =IF(G17=COD,G$4,"") | AG17: =IF(H17=COD,H$4,"") | AH17: =IF(I17=COD,I$4,"") | AI17: =IF(J17=COD,J$4,"") | AJ17: =IF(K17=COD,K$4,"") | ... BA17: =IF(AB17=COD,AB$4,"") | BB17: =AC17&AD17&AE17&AF17&AG17&AH17&AI17&AJ17&AK17&AL17&AM17&AN17&AO17&AP17&AQ17&AR17&AS17&AT17&AU17&AV17&AW17&AX17&AY17&AZ17&BA17 -> V C
C18: II | D18: 3 | E18: 49 | F18: 12 | G18: 23 | H18: 21 | I18: 28 | J18: 60 | K18: 20 | L18: 24 | M18: 62 | N18: 22 | O18: 37 | P18: 51 | Q18: 1 | R18: 36 | S18: 33 | T18: 4 | U18: 46 | V18: 47 | W18: 39 | X18: 41 | Y18: 54 | Z18: 44 | AA18: 17 | AB18: 2 | AC18: =IF(D18=COD,D$4,"") | AD18: =IF(E18=COD,E$4,"") | AE18: =IF(F18=COD,F$4,"") | AF18: =IF(G18=COD,G$4,"") | AG18: =IF(H18=COD,H$4,"") | AH18: =IF(I18=COD,I$4,"") | AI18: =IF(J18=COD,J$4,"") | AJ18: =IF(K18=COD,K$4,"") | ... BA18: =IF(AB18=COD,AB$4,"") | BB18: =AC18&AD18&AE18&AF18&AG18&AH18&AI18&AJ18&AK18&AL18&AM18&AN18&AO18&AP18&AQ18&AR18&AS18&AT18&AU18&AV18&AW18&AX18&AY18&AZ18&BA18 -> VIII E
C19: III | D19: 39 | E19: 23 | F19: 1 | G19: 4 | H19: 46 | I19: 60 | J19: 54 | K19: 20 | L19: 15 | M19: 29 | N19: 3 | O19: 48 | P19: 2 | Q19: 21 | R19: 33 | S19: 43 | T19: 62 | U19: 37 | V19: 34 | W19: 17 | X19: 22 | Y19: 44 | Z19: 12 | AA19: 45 | AB19: 24 | AC19: =IF(D19=COD,D$4,"") | AD19: =IF(E19=COD,E$4,"") | AE19: =IF(F19=COD,F$4,"") | AF19: =IF(G19=COD,G$4,"") | AG19: =IF(H19=COD,H$4,"") | AH19: =IF(I19=COD,I$4,"") | AI19: =IF(J19=COD,J$4,"") | AJ19: =IF(K19=COD,K$4,"") | ... BA19: =IF(AB19=COD,AB$4,"") | BB19: =AC19&AD19&AE19&AF19&AG19&AH19&AI19&AJ19&AK19&AL19&AM19&AN19&AO19&AP19&AQ19&AR19&AS19&AT19&AU19&AV19&AW19&AX19&AY19&AZ19&BA19 -> VIII A
C20: IV | D20: 20 | E20: 46 | F20: 22 | G20: 17 | H20: 49 | I20: 25 | J20: 23 | K20: 29 | L20: 36 | M20: 60 | N20: 51 | O20: 21 | P20: 43 | Q20: 12 | R20: 3 | S20: 24 | T20: 54 | U20: 48 | V20: 45 | W20: 1 | X20: 15 | Y20: 37 | Z20: 33 | AA20: 41 | AB20: 34 | AC20: =IF(D20=COD,D$4,"") | AD20: =IF(E20=COD,E$4,"") | AE20: =IF(F20=COD,F$4,"") | AF20: =IF(G20=COD,G$4,"") -> V D | AG20: =IF(H20=COD,H$4,"") | AH20: =IF(I20=COD,I$4,"") | AI20: =IF(J20=COD,J$4,"") | AJ20: =IF(K20=COD,K$4,"") | ... BA20: =IF(AB20=COD,AB$4,"") | BB20: =AC20&AD20&AE20&AF20&AG20&AH20&AI20&AJ20&AK20&AL20&AM20&AN20&AO20&AP20&AQ20&AR20&AS20&AT20&AU20&AV20&AW20&AX20&AY20&AZ20&BA20 -> V D
C21: V | D21: 51 | E21: 12 | F21: 48 | G21: 60 | H21: 46 | I21: 41 | J21: 39 | K21: 17 | L21: 54 | M21: 21 | N21: 3 | O21: 45 | P21: 24 | Q21: 32 | R21: 31 | S21: 43 | T21: 29 | U21: 34 | V21: 15 | W21: 37 | X21: 36 | Y21: 33 | Z21: 25 | AA21: 30 | AB21: 20 | AC21: =IF(D21=COD,D$4,"") | AD21: =IF(E21=COD,E$4,"") | AE21: =IF(F21=COD,F$4,"") | AF21: =IF(G21=COD,G$4,"") | AG21: =IF(H21=COD,H$4,"") | AH21: =IF(I21=COD,I$4,"") | AI21: =IF(J21=COD,J$4,"") | AJ21: =IF(K21=COD,K$4,"") -> VI B | ... BA21: =IF(AB21=COD,AB$4,"") | BB21: =AC21&AD21&AE21&AF21&AG21&AH21&AI21&AJ21&AK21&AL21&AM21&AN21&AO21&AP21&AQ21&AR21&AS21&AT21&AU21&AV21&AW21&AX21&AY21&AZ21&BA21 -> VI B
C22: VI | K22: 30 | L22: 48 | M22: 36 | O22: 54 | P22: 34 | Q22: 46 | R22: 60 | S22: 29 | U22: 25 | V22: 37 | X22: 51 | Z22: 31 | AA22: 33 | AB22: 15 | AC22: =IF(D22=COD,D$4,"") | AD22: =IF(E22=COD,E$4,"") | AE22: =IF(F22=COD,F$4,"") | AF22: =IF(G22=COD,G$4,"") | AG22: =IF(H22=COD,H$4,"") | AH22: =IF(I22=COD,I$4,"") | AI22: =IF(J22=COD,J$4,"") | AJ22: =IF(K22=COD,K$4,"") | ... BA22: =IF(AB22=COD,AB$4,"") | BB22: =AC22&AD22&AE22&AF22&AG22&AH22&AI22&AJ22&AK22&AL22&AM22&AN22&AO22&AP22&AQ22&AR22&AS22&AT22&AU22&AV22&AW22&AX22&AY22&AZ22&BA22
B23: JEUDI | C23: I | D23: 11 | E23: 23 | F23: 55 | G23: 36 | H23: 46 | I23: 6 | J23: 16 | K23: 2 | L23: 52 | M23: 21 | N23: 3 | O23: 63 | P23: 9 | Q23: 17 | R23: 40 | S23: 24 | T23: 37 | U23: 42 | V23: 5 | W23: 7 | X23: 22 | Y23: 1 | Z23: 4 | AA23: 47 | AB23: 50 | AC23: =IF(D23=COD,D$4,"") | AD23: =IF(E23=COD,E$4,"") | AE23: =IF(F23=COD,F$4,"") | AF23: =IF(G23=COD,G$4,"") | AG23: =IF(H23=COD,H$4,"") | AH23: =IF(I23=COD,I$4,"") | AI23: =IF(J23=COD,J$4,"") | AJ23: =IF(K23=COD,K$4,"") | ... BA23: =IF(AB23=COD,AB$4,"") | BB23: =AC23&AD23&AE23&AF23&AG23&AH23&AI23&AJ23&AK23&AL23&AM23&AN23&AO23&AP23&AQ23&AR23&AS23&AT23&AU23&AV23&AW23&AX23&AY23&AZ23&BA23 -> VII B
C24: II | D24: 3 | E24: 55 | F24: 61 | G24: 17 | H24: 9 | I24: 6 | J24: 23 | K24: 36 | L24: 24 | M24: 5 | N24: 22 | O24: 16 | P24: 2 | Q24: 1 | R24: 11 | S24: 50 | T24: 4 | U24: 63 | V24: 37 | W24: 21 | X24: 47 | Y24: 20 | Z24: 42 | AA24: 7 | AB24: 54 | AC24: =IF(D24=COD,D$4,"") | AD24: =IF(E24=COD,E$4,"") | AE24: =IF(F24=COD,F$4,"") | AF24: =IF(G24=COD,G$4,"") -> V D | AG24: =IF(H24=COD,H$4,"") | AH24: =IF(I24=COD,I$4,"") | AI24: =IF(J24=COD,J$4,"") | AJ24: =IF(K24=COD,K$4,"") | ... BA24: =IF(AB24=COD,AB$4,"") | BB24: =AC24&AD24&AE24&AF24&AG24&AH24&AI24&AJ24&AK24&AL24&AM24&AN24&AO24&AP24&AQ24&AR24&AS24&AT24&AU24&AV24&AW24&AX24&AY24&AZ24&BA24 -> V D
C25: III | D25: 20 | E25: 2 | F25: 1 | G25: 11 | H25: 36 | I25: 63 | J25: 50 | K25: 17 | L25: 4 | M25: 55 | N25: 16 | O25: 31 | P25: 24 | Q25: 21 | R25: 22 | S25: 61 | T25: 23 | U25: 46 | V25: 54 | W25: 40 | X25: 30 | Y25: 15 | Z25: 38 | AA25: 5 | AB25: 39 | AC25: =IF(D25=COD,D$4,"") | AD25: =IF(E25=COD,E$4,"") | AE25: =IF(F25=COD,F$4,"") | AF25: =IF(G25=COD,G$4,"") | AG25: =IF(H25=COD,H$4,"") | AH25: =IF(I25=COD,I$4,"") | AI25: =IF(J25=COD,J$4,"") | AJ25: =IF(K25=COD,K$4,"") -> VI B | ... BA25: =IF(AB25=COD,AB$4,"") | BB25: =AC25&AD25&AE25&AF25&AG25&AH25&AI25&AJ25&AK25&AL25&AM25&AN25&AO25&AP25&AQ25&AR25&AS25&AT25&AU25&AV25&AW25&AX25&AY25&AZ25&BA25 -> VI B
C26: IV | D26: 15 | E26: 37 | F26: 22 | G26: 4 | H26: 21 | I26: 17 | J26: 5 | K26: 20 | L26: 30 | M26: 16 | N26: 62 | O26: 13 | P26: 54 | Q26: 51 | R26: 42 | S26: 31 | T26: 50 | U26: 46 | V26: 23 | W26: 1 | X26: 55 | Y26: 39 | Z26: 25 | AA26: 24 | AB26: 7 | AC26: =IF(D26=COD,D$4,"") | AD26: =IF(E26=COD,E$4,"") | AE26: =IF(F26=COD,F$4,"") | AF26: =IF(G26=COD,G$4,"") | AG26: =IF(H26=COD,H$4,"") | AH26: =IF(I26=COD,I$4,"") -> V F | AI26: =IF(J26=COD,J$4,"") | AJ26: =IF(K26=COD,K$4,"") | ... BA26: =IF(AB26=COD,AB$4,"") | BB26: =AC26&AD26&AE26&AF26&AG26&AH26&AI26&AJ26&AK26&AL26&AM26&AN26&AO26&AP26&AQ26&AR26&AS26&AT26&AU26&AV26&AW26&AX26&AY26&AZ26&BA26 -> V F
C27: V | D27: 55 | E27: 60 | F27: 51 | G27: 23 | H27: 46 | I27: 25 | J27: 30 | K27: 54 | L27: 15 | M27: 50 | N27: 61 | O27: 21 | P27: 17 | Q27: 62 | R27: 39 | S27: 37 | T27: 33 | U27: 13 | V27: 63 | W27: 42 | X27: 11 | Y27: 31 | Z27: 16 | AA27: 38 | AB27: 20 | AC27: =IF(D27=COD,D$4,"") | AD27: =IF(E27=COD,E$4,"") | AE27: =IF(F27=COD,F$4,"") | AF27: =IF(G27=COD,G$4,"") | AG27: =IF(H27=COD,H$4,"") | AH27: =IF(I27=COD,I$4,"") | AI27: =IF(J27=COD,J$4,"") | AJ27: =IF(K27=COD,K$4,"") | ... BA27: =IF(AB27=COD,AB$4,"") | BB27: =AC27&AD27&AE27&AF27&AG27&AH27&AI27&AJ27&AK27&AL27&AM27&AN27&AO27&AP27&AQ27&AR27&AS27&AT27&AU27&AV27&AW27&AX27&AY27&AZ27&BA27 -> VII A
C28: VI | N28: 55 | P28: 51 | Q28: 39 | R28: 31 | S28: 33 | T28: 42 | U28: 25 | V28: 13 | W28: 62/61 | X28: 38 | Y28: 61/62 | Z28: 54 | AA28: 63/60 | AB28: 60/63 | AC28: =IF(D28=COD,D$4,"") | AD28: =IF(E28=COD,E$4,"") | AE28: =IF(F28=COD,F$4,"") | AF28: =IF(G28=COD,G$4,"") | AG28: =IF(H28=COD,H$4,"") | AH28: =IF(I28=COD,I$4,"") | AI28: =IF(J28=COD,J$4,"") | AJ28: =IF(K28=COD,K$4,"") | ... BA28: =IF(AB28=COD,AB$4,"") | BB28: =AC28&AD28&AE28&AF28&AG28&AH28&AI28&AJ28&AK28&AL28&AM28&AN28&AO28&AP28&AQ28&AR28&AS28&AT28&AU28&AV28&AW28&AX28&AY28&AZ28&BA28
B29: VENDREDI | C29: I | D29: 30 | E29: 39 | F29: 1 | G29: 41 | H29: 45 | I29: 50 | J29: 10 | K29: 2 | L29: 62 | M29: 36 | N29: 12 | O29: 6 | P29: 24 | Q29: 51 | R29: 3 | S29: 15 | T29: 37 | U29: 38 | V29: 47 | W29: 40 | X29: 22 | Y29: 7 | Z29: 4 | AA29: 5 | AB29: 14 | AC29: =IF(D29=COD,D$4,"") | AD29: =IF(E29=COD,E$4,"") | AE29: =IF(F29=COD,F$4,"") | AF29: =IF(G29=COD,G$4,"") | AG29: =IF(H29=COD,H$4,"") | AH29: =IF(I29=COD,I$4,"") | AI29: =IF(J29=COD,J$4,"") | AJ29: =IF(K29=COD,K$4,"") | ... BA29: =IF(AB29=COD,AB$4,"") | BB29: =AC29&AD29&AE29&AF29&AG29&AH29&AI29&AJ29&AK29&AL29&AM29&AN29&AO29&AP29&AQ29&AR29&AS29&AT29&AU29&AV29&AW29&AX29&AY29&AZ29&BA29
C30: II | D30: 62 | E30: 16 | F30: 22 | G30: 4 | H30: 60 | I30: 6 | J30: 36 | K30: 39 | L30: 24 | M30: 5 | N30: 3 | O30: 31 | P30: 47 | Q30: 12 | R30: 51 | S30: 1 | T30: 30 | U30: 37 | V30: 38 | W30: 10 | X30: 7 | Y30: 15 | Z30: 41 | AA30: 33 | AB30: 2 | AC30: =IF(D30=COD,D$4,"") | AD30: =IF(E30=COD,E$4,"") | AE30: =IF(F30=COD,F$4,"") | AF30: =IF(G30=COD,G$4,"") | AG30: =IF(H30=COD,H$4,"") | AH30: =IF(I30=COD,I$4,"") | AI30: =IF(J30=COD,J$4,"") | AJ30: =IF(K30=COD,K$4,"") | ... BA30: =IF(AB30=COD,AB$4,"") | BB30: =AC30&AD30&AE30&AF30&AG30&AH30&AI30&AJ30&AK30&AL30&AM30&AN30&AO30&AP30&AQ30&AR30&AS30&AT30&AU30&AV30&AW30&AX30&AY30&AZ30&BA30
C31: III | D31: 3 | E31: 12 | F31: 51 | G31: 62 | H31: 41 | I31: 14 | J31: 5 | K31: 11 | L31: 4 | M31: 16 | N31: 29 | O31: 60 | P31: 2 | Q31: 33 | R31: 36 | S31: 37 | T31: 50 | U31: 31 | V31: 34 | W31: 47 | X31: 38 | Y31: 1 | Z31: 7 | AA31: 30 | AB31: 39 | AC31: =IF(D31=COD,D$4,"") | AD31: =IF(E31=COD,E$4,"") | AE31: =IF(F31=COD,F$4,"") | AF31: =IF(G31=COD,G$4,"") | AG31: =IF(H31=COD,H$4,"") | AH31: =IF(I31=COD,I$4,"") | AI31: =IF(J31=COD,J$4,"") | AJ31: =IF(K31=COD,K$4,"") | ... BA31: =IF(AB31=COD,AB$4,"") | BB31: =AC31&AD31&AE31&AF31&AG31&AH31&AI31&AJ31&AK31&AL31&AM31&AN31&AO31&AP31&AQ31&AR31&AS31&AT31&AU31&AV31&AW31&AX31&AY31&AZ31&BA31
C32: IV | D32: 37 | E32: 2 | F32: 12 | G32: 23 | H32: 39 | I32: 35 | J32: 30 | K32: 62 | L32: 29 | M32: 31 | N32: 51 | O32: 38 | P32: 34 | Q32: 36 | R32: 16 | S32: 10 | T32: 11 | U32: 60 | V32: 5 | W32: 33 | X32: 3 | Y32: 41 | Z32: 4 | AA32: 50 | AB32: 45 | AC32: =IF(D32=COD,D$4,"") | AD32: =IF(E32=COD,E$4,"") | AE32: =IF(F32=COD,F$4,"") | AF32: =IF(G32=COD,G$4,"") | AG32: =IF(H32=COD,H$4,"") | AH32: =IF(I32=COD,I$4,"") | AI32: =IF(J32=COD,J$4,"") | AJ32: =IF(K32=COD,K$4,"") | ... BA32: =IF(AB32=COD,AB$4,"") | BB32: =AC32&AD32&AE32&AF32&AG32&AH32&AI32&AJ32&AK32&AL32&AM32&AN32&AO32&AP32&AQ32&AR32&AS32&AT32&AU32&AV32&AW32&AX32&AY32&AZ32&BA32
C33: V | D33: 11 | E33: 2 | F33: 35 | G33: 50 | H33: 29 | I33: 16 | J33: 5 | K33: 51 | L33: 36 | M33: 12 | N33: 37 | O33: 49 | P33: 30 | Q33: 32 | R33: 33 | S33: 38 | T33: 4 | U33: 34 | V33: 23 | W33: 39 | X33: 60/62 | Y33: 10 | Z33: 62/60 | AA33: 41 | AB33: 31 | AC33: =IF(D33=COD,D$4,"") | AD33: =IF(E33=COD,E$4,"") | AE33: =IF(F33=COD,F$4,"") | AF33: =IF(G33=COD,G$4,"") | AG33: =IF(H33=COD,H$4,"") | AH33: =IF(I33=COD,I$4,"") | AI33: =IF(J33=COD,J$4,"") | AJ33: =IF(K33=COD,K$4,"") | ... BA33: =IF(AB33=COD,AB$4,"") | BB33: =AC33&AD33&AE33&AF33&AG33&AH33&AI33&AJ33&AK33&AL33&AM33&AN33&AO33&AP33&AQ33&AR33&AS33&AT33&AU33&AV33&AW33&AX33&AY33&AZ33&BA33
C34: VI | J34: 50 | N34: 16 | O34: 37 | P34: 62 | T34: 23 | U34: 51 | W34: 30 | Y34: 39 | AA34: 38 | AB34: 34 | AC34: =IF(D34=COD,D$4,"") | AD34: =IF(E34=COD,E$4,"") | AE34: =IF(F34=COD,F$4,"") | AF34: =IF(G34=COD,G$4,"") | AG34: =IF(H34=COD,H$4,"") | AH34: =IF(I34=COD,I$4,"") | AI34: =IF(J34=COD,J$4,"") | AJ34: =IF(K34=COD,K$4,"") | ... BA34: =IF(AB34=COD,AB$4,"") | BB34: =AC34&AD34&AE34&AF34&AG34&AH34&AI34&AJ34&AK34&AL34&AM34&AN34&AO34&AP34&AQ34&AR34&AS34&AT34&AU34&AV34&AW34&AX34&AY34&AZ34&BA34
B35: Nr. ore | D35: =COUNTA(D5:D34) -> 25 | E35: =COUNTA(E5:E34) -> 25 | F35: =COUNTA(F5:F34) -> 25 | G35: =COUNTA(G5:G34) -> 25 | H35: =COUNTA(H5:H34) -> 25 | I35: =COUNTA(I5:I34) -> 25 | J35: =COUNTA(J5:J34) -> 27 | K35: =COUNTA(K5:K34) -> 27 | ... AB35: =COUNTA(AB5:AB34) -> 29 | BB35: =$L70 -> 19 | BC35: ORE
E38: Introduisez le code | H38: 17 | K38: =BA3 -> Orar Post Nr.:
J39: Jour | K39: =COD -> 17
J40: LUNDI | K40: I | L40: =BB5 -> V D
K41: II | L41: =BB6 -> VIII A
K42: III | L42: =BB7 -> VIII E
K43: IV | L43: =BB8 -> V C
...

Sheet Professeurs
B2: Nr. crt. | C2: Nom et prenom | D2: Disciplina predată | E2: Dirigenţie | F2: Nr. ore
B3: 1 | D3: Limba română | E3: VIII A | F3: ='V-eme classe'!K3+'VI-eme classe'!K3+'VII-eme '!L3+'VIII-eme'!K3 -> 22
B4: 2 | D4: Limba română | E4: VII A | F4: ='V-eme classe'!K4+'VI-eme classe'!K4+'VII-eme '!L4+'VIII-eme'!K4 -> 19
B5: 3 | D5: Limba română | E5: VI E | F5: ='V-eme classe'!K5+'VI-eme classe'!K5+'VII-eme '!L5+'VIII-eme'!K5 -> 19
B6: 4 | D6: Limba română | E6: VIII D | F6: ='V-eme classe'!K6+'VI-eme classe'!K6+'VII-eme '!L6+'VIII-eme'!K6 -> 19
B7: 5 | D7: Limba română | E7: NU | F7: ='V-eme classe'!K7+'VI-eme classe'!K7+'VII-eme '!L7+'VIII-eme'!K7 -> 18
B8: 6 | D8: Limba română | F8: ='V-eme classe'!K8+'VI-eme classe'!K8+'VII-eme '!L8+'VIII-eme'!K8 -> 9
B9: 7 | D9: Limba latină | E9: NU | F9: ='V-eme classe'!K9+'VI-eme classe'!K9+'VII-eme '!L9+'VIII-eme'!K9 -> 6
B10: 8 | D10: Limba rromani | E10: NU | F10: ='V-eme classe'!K10+'VI-eme classe'!K10+'VII-eme '!L10+'VIII-eme'!K10 -> 0
B11: 9 | D11: Limba engleză | E11: NU | F11: ='V-eme classe'!K11+'VI-eme classe'!K11+'VII-eme '!L11+'VIII-eme'!K11 -> 4
B12: 10 | D12: Limba engleză | E12: VI A | F12: ='V-eme classe'!K12+'VI-eme classe'!K12+'VII-eme '!L12+'VIII-eme'!K12 -> 9
B13: 11 | D13: Limba engleză | E13: VII C | F13: ='V-eme classe'!K13+'VI-eme classe'!K13+'VII-eme '!L13+'VIII-eme'!K13 -> 17
B14: 12 | D14: Limba engleză | E14: VII B | F14: ='V-eme classe'!K14+'VI-eme classe'!K14+'VII-eme '!L14+'VIII-eme'!K14 -> 13
B15: 13 | D15: Limba engleză | F15: ='V-eme classe'!K15+'VI-eme classe'!K15+'VII-eme '!L15+'VIII-eme'!K15 -> 6
B16: 14 | D16: Limba engleză | E16: NU | F16: ='V-eme classe'!K16+'VI-eme classe'!K16+'VII-eme '!L16+'VIII-eme'!K16 -> 4
B17: 15 | D17: Limba franceză | E17: VIII C | F17: ='V-eme classe'!K17+'VI-eme classe'!K17+'VII-eme '!L17+'VIII-eme'!K17 -> 19
B18: 16 | D18: Limba franceză | E18: NU | F18: ='V-eme classe'!K18+'VI-eme classe'!K18+'VII-eme '!L18+'VIII-eme'!K18 -> 18
B19: 17 | D19: Limba franceză | E19: VIII E | F19: ='V-eme classe'!K19+'VI-eme classe'!K19+'VII-eme '!L19+'VIII-eme'!K19 -> 19
B20: 18 | F20: ='V-eme classe'!K20+'VI-eme classe'!K20+'VII-eme '!L20+'VIII-eme'!K20 -> 0
B21: 19 | F21: ='V-eme classe'!K21+'VI-eme classe'!K21+'VII-eme '!L21+'VIII-eme'!K21 -> 0
B22: 20 | D22: Matematică | E22: VI B | F22: ='V-eme classe'!K22+'VI-eme classe'!K22+'VII-eme '!L22+'VIII-eme'!K22 -> 19
B23: 21 | D23: Matematică | E23: VI D | F23: ='V-eme classe'!K23+'VI-eme classe'!K23+'VII-eme '!L23+'VIII-eme'!K23 -> 21
B24: 22 | D24: Matematică | E24: VIII B | F24: ='V-eme classe'!K24+'VI-eme classe'!K24+'VII-eme '!L24+'VIII-eme'!K24 -> 19
B25: 23 | D25: Matematică | E25: VI C | F25: ='V-eme classe'!K25+'VI-eme classe'!K25+'VII-eme '!L25+'VIII-eme'!K25 -> 21
B26: 24 | D26: Matematică | E26: VII E | F26: ='V-eme classe'!K26+'VI-eme classe'!K26+'VII-eme '!L26+'VIII-eme'!K26 -> 19
B27: 25 | D27: Matematică | F27: ='V-eme classe'!K27+'VI-eme classe'!K27+'VII-eme '!L27+'VIII-eme'!K27 -> 12
B28: 26 | F28: ='V-eme classe'!K28+'VI-eme classe'!K28+'VII-eme '!L28+'VIII-eme'!K28 -> 0
B29: 27 | F29: ='V-eme classe'!K29+'VI-eme classe'!K29+'VII-eme '!L29+'VIII-eme'!K29 -> 0
B30: 28 | D30: Informatică | E30: NU | F30: ='V-eme classe'!K30+'VI-eme classe'!K30+'VII-eme '!L30+'VIII-eme'!K30 -> 1
B31: 29 | D31: Informatică | E31: NU | F31: ='V-eme classe'!K31+'VI-eme classe'!K31+'VII-eme '!L31+'VIII-eme'!K31 -> 14
B32: 30 | D32: fizică | E32: V A | F32: ='V-eme classe'!K32+'VI-eme classe'!K32+'VII-eme '!L32+'VIII-eme'!K32 -> 19
B33: 31 | D33: fizică | E33: VII D | F33: ='V-eme classe'!K33+'VI-eme classe'!K33+'VII-eme '!L33+'VIII-eme'!K33 -> 19
B34: 32 | D34: fizică | E34: NU | F34: ='V-eme classe'!K34+'VI-eme classe'!K34+'VII-eme '!L34+'VIII-eme'!K34 -> 2
B35: 33 | D35: chimie | E35: V C | F35: ='V-eme classe'!K35+'VI-eme classe'!K35+'VII-eme '!L35+'VIII-eme'!K35 -> 19
B36: 34 | D36: chimie | E36: NU | F36: ='V-eme classe'!K36+'VI-eme classe'!K36+'VII-eme '!L36+'VIII-eme'!K36 -> 8
B37: 35 | D37: biologie | E37: NU | F37: ='V-eme classe'!K37+'VI-eme classe'!K37+'VII-eme '!L37+'VIII-eme'!K37 -> 2
B38: 36 | D38: biologie | E38: V D | F38: ='V-eme classe'!K38+'VI-eme classe'!K38+'VII-eme '!L38+'VIII-eme'!K38 -> 19
B39: 37 | D39: biologie | E39: NU | F39: ='V-eme classe'!K39+'VI-eme classe'!K39+'VII-eme '!L39+'VIII-eme'!K39 -> 18
B40: 38 | D40: geografie | E40: VI F | F40: ='V-eme classe'!K40+'VI-eme classe'!K40+'VII-eme '!L40+'VIII-eme'!K40 -> 14
B41: 39 | D41: geografie | E41: VIII F | F41: ='V-eme classe'!K41+'VI-eme classe'!K41+'VII-eme '!L41+'VIII-eme'!K41 -> 19
...

Sheet Engagements
B2: Nr. crt. | C2: Nom et prenom | D2: Discipline | E2: V A | F2: V B | G2: V C | H2: V D | I2: V E | J2: V F | K2: VI A | L2: VI B | M2: VI C | N2: VI D | O2: VI E | P2: VI F | Q2: VII A | R2: VII B | S2: VII C | T2: VII D | U2: VII E | V2: VII F | W2: VII G | X2: VIII A | Y2: VIII B | Z2: VIII C | AA2: VIII D | AB2: VIII E | AC2: VIII F | AD2: TOTAL
B3: 1 | D3: Limba română | E3: ='V-eme classe'!E3 -> 0 | F3: ='V-eme classe'!F3 -> 0 | G3: ='V-eme classe'!G3 -> 5 | H3: ='V-eme classe'!H3 -> 0 | I3: ='V-eme classe'!I3 -> 0 | J3: ='V-eme classe'!J3 -> 0 | K3: ='VI-eme classe'!E3 -> 0 | L3: ='VI-eme classe'!F3 -> 0 | M3: ='VI-eme classe'!G3 -> 0 | N3: ='VI-eme classe'!H3 -> 0 | O3: ='VI-eme classe'!I3 -> 0 | P3: ='VI-eme classe'!J3 -> 0 | Q3: ='VII-eme '!E3 -> 0 | R3: ='VII-eme '!F3 -> 4 | S3: ='VII-eme '!G3 -> 0 | T3: ='VII-eme '!H3 -> 4 | U3: ='VII-eme '!I3 -> 0 | V3: ='VII-eme '!J3 -> 0 | W3: ='VII-eme '!K3 -> 0 | X3: ='VIII-eme'!E3 -> 5 | Y3: ='VIII-eme'!F3 -> 0 | Z3: ='VIII-eme'!G3 -> 4 | AA3: ='VIII-eme'!H3 -> 0 | AB3: ='VIII-eme'!I3 -> 0 | AC3: ='VIII-eme'!J3 -> 0 | AD3: =SUM(E3:AC3) -> 22
B4: 2 | D4: Limba română | E4: ='V-eme classe'!E4 -> 0 | F4: ='V-eme classe'!F4 -> 6 | G4: ='V-eme classe'!G4 -> 0 | H4: ='V-eme classe'!H4 -> 0 | I4: ='V-eme classe'!I4 -> 0 | J4: ='V-eme classe'!J4 -> 0 | K4: ='VI-eme classe'!E4 -> 0 | L4: ='VI-eme classe'!F4 -> 4 | M4: ='VI-eme classe'!G4 -> 0 | N4: ='VI-eme classe'!H4 -> 0 | O4: ='VI-eme classe'!I4 -> 0 | P4: ='VI-eme classe'!J4 -> 0 | Q4: ='VII-eme '!E4 -> 5 | R4: ='VII-eme '!F4 -> 0 | S4: ='VII-eme '!G4 -> 0 | T4: ='VII-eme '!H4 -> 0 | U4: ='VII-eme '!I4 -> 0 | V4: ='VII-eme '!J4 -> 0 | W4: ='VII-eme '!K4 -> 0 | X4: ='VIII-eme'!E4 -> 0 | Y4: ='VIII-eme'!F4 -> 0 | Z4: ='VIII-eme'!G4 -> 0 | AA4: ='VIII-eme'!H4 -> 0 | AB4: ='VIII-eme'!I4 -> 0 | AC4: ='VIII-eme'!J4 -> 4 | AD4: =SUM(E4:AC4) -> 19
B5: 3 | D5: Limba română | E5: ='V-eme classe'!E5 -> 5 | F5: ='V-eme classe'!F5 -> 0 | G5: ='V-eme classe'!G5 -> 0 | H5: ='V-eme classe'!H5 -> 0 | I5: ='V-eme classe'!I5 -> 0 | J5: ='V-eme classe'!J5 -> 0 | K5: ='VI-eme classe'!E5 -> 0 | L5: ='VI-eme classe'!F5 -> 0 | M5: ='VI-eme classe'!G5 -> 0 | N5: ='VI-eme classe'!H5 -> 0 | O5: ='VI-eme classe'!I5 -> 6 | P5: ='VI-eme classe'!J5 -> 0 | Q5: ='VII-eme '!E5 -> 0 | R5: ='VII-eme '!F5 -> 0 | S5: ='VII-eme '!G5 -> 4 | T5: ='VII-eme '!H5 -> 0 | U5: ='VII-eme '!I5 -> 0 | V5: ='VII-eme '!J5 -> 0 | W5: ='VII-eme '!K5 -> 0 | X5: ='VIII-eme'!E5 -> 0 | Y5: ='VIII-eme'!F5 -> 4 | Z5: ='VIII-eme'!G5 -> 0 | AA5: ='VIII-eme'!H5 -> 0 | AB5: ='VIII-eme'!I5 -> 0 | AC5: ='VIII-eme'!J5 -> 0 | AD5: =SUM(E5:AC5) -> 19
B6: 4 | D6: Limba română | E6: ='V-eme classe'!E6 -> 0 | F6: ='V-eme classe'!F6 -> 0 | G6: ='V-eme classe'!G6 -> 0 | H6: ='V-eme classe'!H6 -> 5 | I6: ='V-eme classe'!I6 -> 0 | J6: ='V-eme classe'!J6 -> 0 | K6: ='VI-eme classe'!E6 -> 0 | L6: ='VI-eme classe'!F6 -> 0 | M6: ='VI-eme classe'!G6 -> 4 | N6: ='VI-eme classe'!H6 -> 0 | O6: ='VI-eme classe'!I6 -> 0 | P6: ='VI-eme classe'!J6 -> 0 | Q6: ='VII-eme '!E6 -> 0 | R6: ='VII-eme '!F6 -> 0 | S6: ='VII-eme '!G6 -> 0 | T6: ='VII-eme '!H6 -> 0 | U6: ='VII-eme '!I6 -> 4 | V6: ='VII-eme '!J6 -> 0 | W6: ='VII-eme '!K6 -> 0 | X6: ='VIII-eme'!E6 -> 0 | Y6: ='VIII-eme'!F6 -> 0 | Z6: ='VIII-eme'!G6 -> 0 | AA6: ='VIII-eme'!H6 -> 6 | AB6: ='VIII-eme'!I6 -> 0 | AC6: ='VIII-eme'!J6 -> 0 | AD6: =SUM(E6:AC6) -> 19
B7: 5 | D7: Limba română | E7: ='V-eme classe'!E7 -> 0 | F7: ='V-eme classe'!F7 -> 0 | G7: ='V-eme classe'!G7 -> 0 | H7: ='V-eme classe'!H7 -> 0 | I7: ='V-eme classe'!I7 -> 0 | J7: ='V-eme classe'!J7 -> 0 | K7: ='VI-eme classe'!E7 -> 5 | L7: ='VI-eme classe'!F7 -> 0 | M7: ='VI-eme classe'!G7 -> 0 | N7: ='VI-eme classe'!H7 -> 5 | O7: ='VI-eme classe'!I7 -> 0 | P7: ='VI-eme classe'!J7 -> 0 | Q7: ='VII-eme '!E7 -> 0 | R7: ='VII-eme '!F7 -> 0 | S7: ='VII-eme '!G7 -> 0 | T7: ='VII-eme '!H7 -> 0 | U7: ='VII-eme '!I7 -> 0 | V7: ='VII-eme '!J7 -> 0 | W7: ='VII-eme '!K7 -> 4 | X7: ='VIII-eme'!E7 -> 0 | Y7: ='VIII-eme'!F7 -> 0 | Z7: ='VIII-eme'!G7 -> 0 | AA7: ='VIII-eme'!H7 -> 0 | AB7: ='VIII-eme'!I7 -> 4 | AC7: ='VIII-eme'!J7 -> 0 | AD7: =SUM(E7:AC7) -> 18
B8: 6 | D8: Limba română | E8: ='V-eme classe'!E8 -> 0 | F8: ='V-eme classe'!F8 -> 0 | G8: ='V-eme classe'!G8 -> 0 | H8: ='V-eme classe'!H8 -> 0 | I8: ='V-eme classe'!I8 -> 0 | J8: ='V-eme classe'!J8 -> 5 | K8: ='VI-eme classe'!E8 -> 0 | L8: ='VI-eme classe'!F8 -> 0 | M8: ='VI-eme classe'!G8 -> 0 | N8: ='VI-eme classe'!H8 -> 0 | O8: ='VI-eme classe'!I8 -> 0 | P8: ='VI-eme classe'!J8 -> 4 | Q8: ='VII-eme '!E8 -> 0 | R8: ='VII-eme '!F8 -> 0 | S8: ='VII-eme '!G8 -> 0 | T8: ='VII-eme '!H8 -> 0 | U8: ='VII-eme '!I8 -> 0 | V8: ='VII-eme '!J8 -> 0 | W8: ='VII-eme '!K8 -> 0 | X8: ='VIII-eme'!E8 -> 0 | Y8: ='VIII-eme'!F8 -> 0 | Z8: ='VIII-eme'!G8 -> 0 | AA8: ='VIII-eme'!H8 -> 0 | AB8: ='VIII-eme'!I8 -> 0 | AC8: ='VIII-eme'!J8 -> 0 | AD8: =SUM(E8:AC8) -> 9
B9: 7 | D9: Limba latină | E9: ='V-eme classe'!E9 -> 0 | F9: ='V-eme classe'!F9 -> 0 | G9: ='V-eme classe'!G9 -> 0 | H9: ='V-eme classe'!H9 -> 0 | I9: ='V-eme classe'!I9 -> 0 | J9: ='V-eme classe'!J9 -> 0 | K9: ='VI-eme classe'!E9 -> 0 | L9: ='VI-eme classe'!F9 -> 0 | M9: ='VI-eme classe'!G9 -> 0 | N9: ='VI-eme classe'!H9 -> 0 | O9: ='VI-eme classe'!I9 -> 0 | P9: ='VI-eme classe'!J9 -> 0 | Q9: ='VII-eme '!E9 -> 0 | R9: ='VII-eme '!F9 -> 0 | S9: ='VII-eme '!G9 -> 0 | T9: ='VII-eme '!H9 -> 0 | U9: ='VII-eme '!I9 -> 0 | V9: ='VII-eme '!J9 -> 0 | W9: ='VII-eme '!K9 -> 0 | X9: ='VIII-eme'!E9 -> 1 | Y9: ='VIII-eme'!F9 -> 1 | Z9: ='VIII-eme'!G9 -> 1 | AA9: ='VIII-eme'!H9 -> 1 | AB9: ='VIII-eme'!I9 -> 1 | AC9: ='VIII-eme'!J9 -> 1 | AD9: =SUM(E9:AC9) -> 6
B10: 8 | D10: Limba rromani | AD10: =SUM(E10:AC10) -> 0
B11: 9 | D11: Limba engleză | E11: ='V-eme classe'!E11 -> 0 | F11: ='V-eme classe'!F11 -> 0 | G11: ='V-eme classe'!G11 -> 0 | H11: ='V-eme classe'!H11 -> 0 | I11: ='V-eme classe'!I11 -> 2 | J11: ='V-eme classe'!J11 -> 0 | K11: ='VI-eme classe'!E11 -> 0 | L11: ='VI-eme classe'!F11 -> 0 | M11: ='VI-eme classe'!G11 -> 0 | N11: ='VI-eme classe'!H11 -> 0 | O11: ='VI-eme classe'!I11 -> 0 | P11: ='VI-eme classe'!J11 -> 0 | Q11: ='VII-eme '!E11 -> 2 | R11: ='VII-eme '!F11 -> 0 | S11: ='VII-eme '!G11 -> 0 | T11: ='VII-eme '!H11 -> 0 | U11: ='VII-eme '!I11 -> 0 | V11: ='VII-eme '!J11 -> 0 | W11: ='VII-eme '!K11 -> 0 | X11: ='VIII-eme'!E11 -> 0 | Y11: ='VIII-eme'!F11 -> 0 | Z11: ='VIII-eme'!G11 -> 0 | AA11: ='VIII-eme'!H11 -> 0 | AB11: ='VIII-eme'!I11 -> 0 | AC11: ='VIII-eme'!J11 -> 0 | AD11: =SUM(E11:AC11) -> 4
B12: 10 | D12: Limba engleză | E12: ='V-eme classe'!E12 -> 0 | F12: ='V-eme classe'!F12 -> 0 | G12: ='V-eme classe'!G12 -> 0 | H12: ='V-eme classe'!H12 -> 0 | I12: ='V-eme classe'!I12 -> 0 | J12: ='V-eme classe'!J12 -> 0 | K12: ='VI-eme classe'!E12 -> 3 | L12: ='VI-eme classe'!F12 -> 0 | M12: ='VI-eme classe'!G12 -> 0 | N12: ='VI-eme classe'!H12 -> 0 | O12: ='VI-eme classe'!I12 -> 0 | P12: ='VI-eme classe'!J12 -> 0 | Q12: ='VII-eme '!E12 -> 0 | R12: ='VII-eme '!F12 -> 0 | S12: ='VII-eme '!G12 -> 0 | T12: ='VII-eme '!H12 -> 2 | U12: ='VII-eme '!I12 -> 0 | V12: ='VII-eme '!J12 -> 0 | W12: ='VII-eme '!K12 -> 0 | X12: ='VIII-eme'!E12 -> 2 | Y12: ='VIII-eme'!F12 -> 0 | Z12: ='VIII-eme'!G12 -> 2 | AA12: ='VIII-eme'!H12 -> 0 | AB12: ='VIII-eme'!I12 -> 0 | AC12: ='VIII-eme'!J12 -> 0 | AD12: =SUM(E12:AC12) -> 9
B13: 11 | D13: Limba engleză | E13: ='V-eme classe'!E13 -> 2 | F13: ='V-eme classe'!F13 -> 0 | G13: ='V-eme classe'!G13 -> 0 | H13: ='V-eme classe'!H13 -> 2 | I13: ='V-eme classe'!I13 -> 0 | J13: ='V-eme classe'!J13 -> 0 | K13: ='VI-eme classe'!E13 -> 0 | L13: ='VI-eme classe'!F13 -> 2 | M13: ='VI-eme classe'!G13 -> 2 | N13: ='VI-eme classe'!H13 -> 0 | O13: ='VI-eme classe'!I13 -> 0 | P13: ='VI-eme classe'!J13 -> 0 | Q13: ='VII-eme '!E13 -> 0 | R13: ='VII-eme '!F13 -> 0 | S13: ='VII-eme '!G13 -> 3 | T13: ='VII-eme '!H13 -> 0 | U13: ='VII-eme '!I13 -> 2 | V13: ='VII-eme '!J13 -> 0 | W13: ='VII-eme '!K13 -> 0 | X13: ='VIII-eme'!E13 -> 0 | Y13: ='VIII-eme'!F13 -> 2 | Z13: ='VIII-eme'!G13 -> 0 | AA13: ='VIII-eme'!H13 -> 0 | AB13: ='VIII-eme'!I13 -> 2 | AC13: ='VIII-eme'!J13 -> 0 | AD13: =SUM(E13:AC13) -> 17
B14: 12 | D14: Limba engleză | E14: ='V-eme classe'!E14 -> 0 | F14: ='V-eme classe'!F14 -> 2 | G14: ='V-eme classe'!G14 -> 2 | H14: ='V-eme classe'!H14 -> 0 | I14: ='V-eme classe'!I14 -> 0 | J14: ='V-eme classe'!J14 -> 0 | K14: ='VI-eme classe'!E14 -> 0 | L14: ='VI-eme classe'!F14 -> 0 | M14: ='VI-eme classe'!G14 -> 0 | N14: ='VI-eme classe'!H14 -> 2 | O14: ='VI-eme classe'!I14 -> 2 | P14: ='VI-eme classe'!J14 -> 0 | Q14: ='VII-eme '!E14 -> 0 | R14: ='VII-eme '!F14 -> 3 | S14: ='VII-eme '!G14 -> 0 | T14: ='VII-eme '!H14 -> 0 | U14: ='VII-eme '!I14 -> 0 | V14: ='VII-eme '!J14 -> 0 | W14: ='VII-eme '!K14 -> 0 | X14: ='VIII-eme'!E14 -> 0 | Y14: ='VIII-eme'!F14 -> 0 | Z14: ='VIII-eme'!G14 -> 0 | AA14: ='VIII-eme'!H14 -> 2 | AB14: ='VIII-eme'!I14 -> 0 | AC14: ='VIII-eme'!J14 -> 0 | AD14: =SUM(E14:AC14) -> 13
B15: 13 | D15: Limba engleză | E15: ='V-eme classe'!E15 -> 0 | F15: ='V-eme classe'!F15 -> 0 | G15: ='V-eme classe'!G15 -> 0 | H15: ='V-eme classe'!H15 -> 0 | I15: ='V-eme classe'!I15 -> 0 | J15: ='V-eme classe'!J15 -> 0 | K15: ='VI-eme classe'!E15 -> 0 | L15: ='VI-eme classe'!F15 -> 0 | M15: ='VI-eme classe'!G15 -> 0 | N15: ='VI-eme classe'!H15 -> 0 | O15: ='VI-eme classe'!I15 -> 0 | P15: ='VI-eme classe'!J15 -> 2 | Q15: ='VII-eme '!E15 -> 0 | R15: ='VII-eme '!F15 -> 0 | S15: ='VII-eme '!G15 -> 0 | T15: ='VII-eme '!H15 -> 0 | U15: ='VII-eme '!I15 -> 0 | V15: ='VII-eme '!J15 -> 2 | W15: ='VII-eme '!K15 -> 2 | X15: ='VIII-eme'!E15 -> 0 | Y15: ='VIII-eme'!F15 -> 0 | Z15: ='VIII-eme'!G15 -> 0 | AA15: ='VIII-eme'!H15 -> 0 | AB15: ='VIII-eme'!I15 -> 0 | AC15: ='VIII-eme'!J15 -> 0 | AD15: =SUM(E15:AC15) -> 6
B16: 14 | D16: Limba engleză | E16: ='V-eme classe'!E16 -> 0 | F16: ='V-eme classe'!F16 -> 0 | G16: ='V-eme classe'!G16 -> 0 | H16: ='V-eme classe'!H16 -> 0 | I16: ='V-eme classe'!I16 -> 0 | J16: ='V-eme classe'!J16 -> 2 | K16: ='VI-eme classe'!E16 -> 0 | L16: ='VI-eme classe'!F16 -> 0 | M16: ='VI-eme classe'!G16 -> 0 | N16: ='VI-eme classe'!H16 -> 0 | O16: ='VI-eme classe'!I16 -> 0 | P16: ='VI-eme classe'!J16 -> 0 | Q16: ='VII-eme '!E16 -> 0 | R16: ='VII-eme '!F16 -> 0 | S16: ='VII-eme '!G16 -> 0 | T16: ='VII-eme '!H16 -> 0 | U16: ='VII-eme '!I16 -> 0 | V16: ='VII-eme '!J16 -> 0 | W16: ='VII-eme '!K16 -> 0 | X16: ='VIII-eme'!E16 -> 0 | Y16: ='VIII-eme'!F16 -> 0 | Z16: ='VIII-eme'!G16 -> 0 | AA16: ='VIII-eme'!H16 -> 0 | AB16: ='VIII-eme'!I16 -> 0 | AC16: ='VIII-eme'!J16 -> 2 | AD16: =SUM(E16:AC16) -> 4
B17: 15 | D17: Limba franceză | E17: ='V-eme classe'!E17 -> 2 | F17: ='V-eme classe'!F17 -> 0 | G17: ='V-eme classe'!G17 -> 0 | H17: ='V-eme classe'!H17 -> 0 | I17: ='V-eme classe'!I17 -> 2 | J17: ='V-eme classe'!J17 -> 0 | K17: ='VI-eme classe'!E17 -> 0 | L17: ='VI-eme classe'!F17 -> 0 | M17: ='VI-eme classe'!G17 -> 2 | N17: ='VI-eme classe'!H17 -> 0 | O17: ='VI-eme classe'!I17 -> 0 | P17: ='VI-eme classe'!J17 -> 0 | Q17: ='VII-eme '!E17 -> 0 | R17: ='VII-eme '!F17 -> 0 | S17: ='VII-eme '!G17 -> 0 | T17: ='VII-eme '!H17 -> 2 | U17: ='VII-eme '!I17 -> 2 | V17: ='VII-eme '!J17 -> 0 | W17: ='VII-eme '!K17 -> 2 | X17: ='VIII-eme'!E17 -> 0 | Y17: ='VIII-eme'!F17 -> 2 | Z17: ='VIII-eme'!G17 -> 3 | AA17: ='VIII-eme'!H17 -> 0 | AB17: ='VIII-eme'!I17 -> 0 | AC17: ='VIII-eme'!J17 -> 2 | AD17: =SUM(E17:AC17) -> 19
B18: 16 | D18: Limba franceză | E18: ='V-eme classe'!E18 -> 0 | F18: ='V-eme classe'!F18 -> 2 | G18: ='V-eme classe'!G18 -> 0 | H18: ='V-eme classe'!H18 -> 0 | I18: ='V-eme classe'!I18 -> 0 | J18: ='V-eme classe'!J18 -> 2 | K18: ='VI-eme classe'!E18 -> 2 | L18: ='VI-eme classe'!F18 -> 0 | M18: ='VI-eme classe'!G18 -> 0 | N18: ='VI-eme classe'!H18 -> 2 | O18: ='VI-eme classe'!I18 -> 2 | P18: ='VI-eme classe'!J18 -> 2 | Q18: ='VII-eme '!E18 -> 0 | R18: ='VII-eme '!F18 -> 0 | S18: ='VII-eme '!G18 -> 2 | T18: ='VII-eme '!H18 -> 0 | U18: ='VII-eme '!I18 -> 0 | V18: ='VII-eme '!J18 -> 2 | W18: ='VII-eme '!K18 -> 0 | X18: ='VIII-eme'!E18 -> 0 | Y18: ='VIII-eme'!F18 -> 0 | Z18: ='VIII-eme'!G18 -> 0 | AA18: ='VIII-eme'!H18 -> 2 | AB18: ='VIII-eme'!I18 -> 0 | AC18: ='VIII-eme'!J18 -> 0 | AD18: =SUM(E18:AC18) -> 18
B19: 17 | D19: Limba franceză | E19: ='V-eme classe'!E19 -> 0 | F19: ='V-eme classe'!F19 -> 0 | G19: ='V-eme classe'!G19 -> 2 | H19: ='V-eme classe'!H19 -> 3 | I19: ='V-eme classe'!I19 -> 0 | J19: ='V-eme classe'!J19 -> 1 | K19: ='VI-eme classe'!E19 -> 0 | L19: ='VI-eme classe'!F19 -> 3 | M19: ='VI-eme classe'!G19 -> 0 | N19: ='VI-eme classe'!H19 -> 0 | O19: ='VI-eme classe'!I19 -> 0 | P19: ='VI-eme classe'!J19 -> 0 | Q19: ='VII-eme '!E19 -> 2 | R19: ='VII-eme '!F19 -> 2 | S19: ='VII-eme '!G19 -> 0 | T19: ='VII-eme '!H19 -> 0 | U19: ='VII-eme '!I19 -> 0 | V19: ='VII-eme '!J19 -> 0 | W19: ='VII-eme '!K19 -> 0 | X19: ='VIII-eme'!E19 -> 3 | Y19: ='VIII-eme'!F19 -> 0 | Z19: ='VIII-eme'!G19 -> 0 | AA19: ='VIII-eme'!H19 -> 0 | AB19: ='VIII-eme'!I19 -> 3 | AC19: ='VIII-eme'!J19 -> 0 | AD19: =SUM(E19:AC19) -> 19
B20: 18 | AD20: =SUM(E20:AC20) -> 0
B21: 19 | AD21: =SUM(E21:AC21) -> 0
B22: 20 | D22: Matematică | E22: ='V-eme classe'!E22 -> 5 | F22: ='V-eme classe'!F22 -> 0 | G22: ='V-eme classe'!G22 -> 0 | H22: ='V-eme classe'!H22 -> 0 | I22: ='V-eme classe'!I22 -> 0 | J22: ='V-eme classe'!J22 -> 0 | K22: ='VI-eme classe'!E22 -> 0 | L22: ='VI-eme classe'!F22 -> 5 | M22: ='VI-eme classe'!G22 -> 0 | N22: ='VI-eme classe'!H22 -> 0 | O22: ='VI-eme classe'!I22 -> 0 | P22: ='VI-eme classe'!J22 -> 0 | Q22: ='VII-eme '!E22 -> 0 | R22: ='VII-eme '!F22 -> 0 | S22: ='VII-eme '!G22 -> 0 | T22: ='VII-eme '!H22 -> 0 | U22: ='VII-eme '!I22 -> 0 | V22: ='VII-eme '!J22 -> 0 | W22: ='VII-eme '!K22 -> 0 | X22: ='VIII-eme'!E22 -> 0 | Y22: ='VIII-eme'!F22 -> 0 | Z22: ='VIII-eme'!G22 -> 5 | AA22: ='VIII-eme'!H22 -> 0 | AB22: ='VIII-eme'!I22 -> 0 | AC22: ='VIII-eme'!J22 -> 4 | AD22: =SUM(E22:AC22) -> 19
B23: 21 | D23: Matematică | E23: ='V-eme classe'!E23 -> 0 | F23: ='V-eme classe'!F23 -> 0 | G23: ='V-eme classe'!G23 -> 0 | H23: ='V-eme classe'!H23 -> 0 | I23: ='V-eme classe'!I23 -> 4 | J23: ='V-eme classe'!J23 -> 0 | K23: ='VI-eme classe'!E23 -> 0 | L23: ='VI-eme classe'!F23 -> 0 | M23: ='VI-eme classe'!G23 -> 0 | N23: ='VI-eme classe'!H23 -> 5 | O23: ='VI-eme classe'!I23 -> 0 | P23: ='VI-eme classe'!J23 -> 4 | Q23: ='VII-eme '!E23 -> 0 | R23: ='VII-eme '!F23 -> 4 | S23: ='VII-eme '!G23 -> 0 | T23: ='VII-eme '!H23 -> 0 | U23: ='VII-eme '!I23 -> 0 | V23: ='VII-eme '!J23 -> 0 | W23: ='VII-eme '!K23 -> 0 | X23: ='VIII-eme'!E23 -> 4 | Y23: ='VIII-eme'!F23 -> 0 | Z23: ='VIII-eme'!G23 -> 0 | AA23: ='VIII-eme'!H23 -> 0 | AB23: ='VIII-eme'!I23 -> 0 | AC23: ='VIII-eme'!J23 -> 0 | AD23: =SUM(E23:AC23) -> 21
B24: 22 | D24: Matematică | E24: ='V-eme classe'!E24 -> 0 | F24: ='V-eme classe'!F24 -> 0 | G24: ='V-eme classe'!G24 -> 5 | H24: ='V-eme classe'!H24 -> 0 | I24: ='V-eme classe'!I24 -> 0 | J24: ='V-eme classe'!J24 -> 0 | K24: ='VI-eme classe'!E24 -> 0 | L24: ='VI-eme classe'!F24 -> 0 | M24: ='VI-eme classe'!G24 -> 0 | N24: ='VI-eme classe'!H24 -> 0 | O24: ='VI-eme classe'!I24 -> 4 | P24: ='VI-eme classe'!J24 -> 0 | Q24: ='VII-eme '!E24 -> 0 | R24: ='VII-eme '!F24 -> 0 | S24: ='VII-eme '!G24 -> 4 | T24: ='VII-eme '!H24 -> 0 | U24: ='VII-eme '!I24 -> 0 | V24: ='VII-eme '!J24 -> 0 | W24: ='VII-eme '!K24 -> 0 | X24: ='VIII-eme'!E24 -> 0 | Y24: ='VIII-eme'!F24 -> 6 | Z24: ='VIII-eme'!G24 -> 0 | AA24: ='VIII-eme'!H24 -> 0 | AB24: ='VIII-eme'!I24 -> 0 | AC24: ='VIII-eme'!J24 -> 0 | AD24: =SUM(E24:AC24) -> 19
B25: 23 | D25: Matematică | E25: ='V-eme classe'!E25 -> 0 | F25: ='V-eme classe'!F25 -> 4 | G25: ='V-eme classe'!G25 -> 0 | H25: ='V-eme classe'!H25 -> 4 | I25: ='V-eme classe'!I25 -> 0 | J25: ='V-eme classe'!J25 -> 0 | K25: ='VI-eme classe'!E25 -> 4 | L25: ='VI-eme classe'!F25 -> 0 | M25: ='VI-eme classe'!G25 -> 0 | N25: ='VI-eme classe'!H25 -> 0 | O25: ='VI-eme classe'!I25 -> 0 | P25: ='VI-eme classe'!J25 -> 0 | Q25: ='VII-eme '!E25 -> 0 | R25: ='VII-eme '!F25 -> 0 | S25: ='VII-eme '!G25 -> 0 | T25: ='VII-eme '!H25 -> 0 | U25: ='VII-eme '!I25 -> 5 | V25: ='VII-eme '!J25 -> 0 | W25: ='VII-eme '!K25 -> 4 | X25: ='VIII-eme'!E25 -> 0 | Y25: ='VIII-eme'!F25 -> 0 | Z25: ='VIII-eme'!G25 -> 0 | AA25: ='VIII-eme'!H25 -> 0 | AB25: ='VIII-eme'!I25 -> 0 | AC25: ='VIII-eme'!J25 -> 0 | AD25: =SUM(E25:AC25) -> 21
B26: 24 | D26: Matematică | E26: ='V-eme classe'!E26 -> 0 | F26: ='V-eme classe'!F26 -> 0 | G26: ='V-eme classe'!G26 -> 0 | H26: ='V-eme classe'!H26 -> 0 | I26: ='V-eme classe'!I26 -> 0 | J26: ='V-eme classe'!J26 -> 0 | K26: ='VI-eme classe'!E26 -> 0 | L26: ='VI-eme classe'!F26 -> 0 | M26: ='VI-eme classe'!G26 -> 5 | N26: ='VI-eme classe'!H26 -> 0 | O26: ='VI-eme classe'!I26 -> 0 | P26: ='VI-eme classe'!J26 -> 0 | Q26: ='VII-eme '!E26 -> 4 | R26: ='VII-eme '!F26 -> 0 | S26: ='VII-eme '!G26 -> 0 | T26: ='VII-eme '!H26 -> 4 | U26: ='VII-eme '!I26 -> 0 | V26: ='VII-eme '!J26 -> 0 | W26: ='VII-eme '!K26 -> 0 | X26: ='VIII-eme'!E26 -> 0 | Y26: ='VIII-eme'!F26 -> 0 | Z26: ='VIII-eme'!G26 -> 0 | AA26: ='VIII-eme'!H26 -> 0 | AB26: ='VIII-eme'!I26 -> 5 | AC26: ='VIII-eme'!J26 -> 1 | AD26: =SUM(E26:AC26) -> 19
B27: 25 | D27: Matematică | E27: ='V-eme classe'!E27 -> 0 | F27: ='V-eme classe'!F27 -> 0 | G27: ='V-eme classe'!G27 -> 0 | H27: ='V-eme classe'!H27 -> 0 | I27: ='V-eme classe'!I27 -> 0 | J27: ='V-eme classe'!J27 -> 4 | K27: ='VI-eme classe'!E27 -> 0 | L27: ='VI-eme classe'!F27 -> 0 | M27: ='VI-eme classe'!G27 -> 0 | N27: ='VI-eme classe'!H27 -> 0 | O27: ='VI-eme classe'!I27 -> 0 | P27: ='VI-eme classe'!J27 -> 0 | Q27: ='VII-eme '!E27 -> 0 | R27: ='VII-eme '!F27 -> 0 | S27: ='VII-eme '!G27 -> 0 | T27: ='VII-eme '!H27 -> 0 | U27: ='VII-eme '!I27 -> 0 | V27: ='VII-eme '!J27 -> 4 | W27: ='VII-eme '!K27 -> 0 | X27: ='VIII-eme'!E27 -> 0 | Y27: ='VIII-eme'!F27 -> 0 | Z27: ='VIII-eme'!G27 -> 0 | AA27: ='VIII-eme'!H27 -> 4 | AB27: ='VIII-eme'!I27 -> 0 | AC27: ='VIII-eme'!J27 -> 0 | AD27: =SUM(E27:AC27) -> 12
B28: 26 | AD28: =SUM(E28:AC28) -> 0
B29: 27 | AD29: =SUM(E29:AC29) -> 0
B30: 28 | D30: Informatică | E30: ='V-eme classe'!E30 -> 0 | F30: ='V-eme classe'!F30 -> 0 | G30: ='V-eme classe'!G30 -> 0 | H30: ='V-eme classe'!H30 -> 0 | I30: ='V-eme classe'!I30 -> 0 | J30: ='V-eme classe'!J30 -> 1 | K30: ='VI-eme classe'!E30 -> 0 | L30: ='VI-eme classe'!F30 -> 0 | M30: ='VI-eme classe'!G30 -> 0 | N30: ='VI-eme classe'!H30 -> 0 | O30: ='VI-eme classe'!I30 -> 0 | P30: ='VI-eme classe'!J30 -> 0 | Q30: ='VII-eme '!E30 -> 0 | R30: ='VII-eme '!F30 -> 0 | S30: ='VII-eme '!G30 -> 0 | T30: ='VII-eme '!H30 -> 0 | U30: ='VII-eme '!I30 -> 0 | V30: ='VII-eme '!J30 -> 0 | W30: ='VII-eme '!K30 -> 0 | X30: ='VIII-eme'!E30 -> 0 | Y30: ='VIII-eme'!F30 -> 0 | Z30: ='VIII-eme'!G30 -> 0 | AA30: ='VIII-eme'!H30 -> 0 | AB30: ='VIII-eme'!I30 -> 0 | AC30: ='VIII-eme'!J30 -> 0 | AD30: =SUM(E30:AC30) -> 1
B31: 29 | D31: Informatică | E31: ='V-eme classe'!E31 -> 0 | F31: ='V-eme classe'!F31 -> 0 | G31: ='V-eme classe'!G31 -> 0 | H31: ='V-eme classe'!H31 -> 0 | I31: ='V-eme classe'!I31 -> 1 | J31: ='V-eme classe'!J31 -> 0 | K31: ='VI-eme classe'!E31 -> 1 | L31: ='VI-eme classe'!F31 -> 1 | M31: ='VI-eme classe'!G31 -> 1 | N31: ='VI-eme classe'!H31 -> 1 | O31: ='VI-eme classe'!I31 -> 1 | P31: ='VI-eme classe'!J31 -> 1 | Q31: ='VII-eme '!E31 -> 1 | R31: ='VII-eme '!F31 -> 1 | S31: ='VII-eme '!G31 -> 1 | T31: ='VII-eme '!H31 -> 1 | U31: ='VII-eme '!I31 -> 1 | V31: ='VII-eme '!J31 -> 1 | W31: ='VII-eme '!K31 -> 1 | X31: ='VIII-eme'!E31 -> 0 | Y31: ='VIII-eme'!F31 -> 0 | Z31: ='VIII-eme'!G31 -> 0 | AA31: ='VIII-eme'!H31 -> 0 | AB31: ='VIII-eme'!I31 -> 0 | AC31: ='VIII-eme'!J31 -> 0 | AD31: =SUM(E31:AC31) -> 14
B32: 30 | D32: fizică | E32: ='V-eme classe'!E32 -> 1 | F32: ='V-eme classe'!F32 -> 0 | G32: ='V-eme classe'!G32 -> 0 | H32: ='V-eme classe'!H32 -> 0 | I32: ='V-eme classe'!I32 -> 0 | J32: ='V-eme classe'!J32 -> 0 | K32: ='VI-eme classe'!E32 -> 2 | L32: ='VI-eme classe'!F32 -> 2 | M32: ='VI-eme classe'!G32 -> 2 | N32: ='VI-eme classe'!H32 -> 0 | O32: ='VI-eme classe'!I32 -> 0 | P32: ='VI-eme classe'!J32 -> 0 | Q32: ='VII-eme '!E32 -> 2 | R32: ='VII-eme '!F32 -> 0 | S32: ='VII-eme '!G32 -> 0 | T32: ='VII-eme '!H32 -> 0 | U32: ='VII-eme '!I32 -> 2 | V32: ='VII-eme '!J32 -> 0 | W32: ='VII-eme '!K32 -> 2 | X32: ='VIII-eme'!E32 -> 2 | Y32: ='VIII-eme'!F32 -> 2 | Z32: ='VIII-eme'!G32 -> 0 | AA32: ='VIII-eme'!H32 -> 0 | AB32: ='VIII-eme'!I32 -> 2 | AC32: ='VIII-eme'!J32 -> 0 | AD32: =SUM(E32:AC32) -> 19
B33: 31 | D33: fizică | E33: ='V-eme classe'!E33 -> 0 | F33: ='V-eme classe'!F33 -> 0 | G33: ='V-eme classe'!G33 -> 0 | H33: ='V-eme classe'!H33 -> 0 | I33: ='V-eme classe'!I33 -> 0 | J33: ='V-eme classe'!J33 -> 0 | K33: ='VI-eme classe'!E33 -> 0 | L33: ='VI-eme classe'!F33 -> 0 | M33: ='VI-eme classe'!G33 -> 0 | N33: ='VI-eme classe'!H33 -> 2 | O33: ='VI-eme classe'!I33 -> 2 | P33: ='VI-eme classe'!J33 -> 2 | Q33: ='VII-eme '!E33 -> 0 | R33: ='VII-eme '!F33 -> 0 | S33: ='VII-eme '!G33 -> 2 | T33: ='VII-eme '!H33 -> 3 | U33: ='VII-eme '!I33 -> 0 | V33: ='VII-eme '!J33 -> 2 | W33: ='VII-eme '!K33 -> 0 | X33: ='VIII-eme'!E33 -> 0 | Y33: ='VIII-eme'!F33 -> 0 | Z33: ='VIII-eme'!G33 -> 2 | AA33: ='VIII-eme'!H33 -> 2 | AB33: ='VIII-eme'!I33 -> 0 | AC33: ='VIII-eme'!J33 -> 2 | AD33: =SUM(E33:AC33) -> 19
B34: 32 | D34: fizică | E34: ='V-eme classe'!E34 -> 0 | F34: ='V-eme classe'!F34 -> 0 | G34: ='V-eme classe'!G34 -> 0 | H34: ='V-eme classe'!H34 -> 0 | I34: ='V-eme classe'!I34 -> 0 | J34: ='V-eme classe'!J34 -> 0 | K34: ='VI-eme classe'!E34 -> 0 | L34: ='VI-eme classe'!F34 -> 0 | M34: ='VI-eme classe'!G34 -> 0 | N34: ='VI-eme classe'!H34 -> 0 | O34: ='VI-eme classe'!I34 -> 0 | P34: ='VI-eme classe'!J34 -> 0 | Q34: ='VII-eme '!E34 -> 0 | R34: ='VII-eme '!F34 -> 2 | S34: ='VII-eme '!G34 -> 0 | T34: ='VII-eme '!H34 -> 0 | U34: ='VII-eme '!I34 -> 0 | V34: ='VII-eme '!J34 -> 0 | W34: ='VII-eme '!K34 -> 0 | X34: ='VIII-eme'!E34 -> 0 | Y34: ='VIII-eme'!F34 -> 0 | Z34: ='VIII-eme'!G34 -> 0 | AA34: ='VIII-eme'!H34 -> 0 | AB34: ='VIII-eme'!I34 -> 0 | AC34: ='VIII-eme'!J34 -> 0 | AD34: =SUM(E34:AC34) -> 2
B35: 33 | D35: chimie | E35: ='V-eme classe'!E35 -> 0 | F35: ='V-eme classe'!F35 -> 0 | G35: ='V-eme classe'!G35 -> 1 | H35: ='V-eme classe'!H35 -> 0 | I35: ='V-eme classe'!I35 -> 0 | J35: ='V-eme classe'!J35 -> 0 | K35: ='VI-eme classe'!E35 -> 0 | L35: ='VI-eme classe'!F35 -> 0 | M35: ='VI-eme classe'!G35 -> 0 | N35: ='VI-eme classe'!H35 -> 0 | O35: ='VI-eme classe'!I35 -> 0 | P35: ='VI-eme classe'!J35 -> 0 | Q35: ='VII-eme '!E35 -> 0 | R35: ='VII-eme '!F35 -> 2 | S35: ='VII-eme '!G35 -> 2 | T35: ='VII-eme '!H35 -> 2 | U35: ='VII-eme '!I35 -> 2 | V35: ='VII-eme '!J35 -> 0 | W35: ='VII-eme '!K35 -> 0 | X35: ='VIII-eme'!E35 -> 2 | Y35: ='VIII-eme'!F35 -> 2 | Z35: ='VIII-eme'!G35 -> 2 | AA35: ='VIII-eme'!H35 -> 2 | AB35: ='VIII-eme'!I35 -> 2 | AC35: ='VIII-eme'!J35 -> 0 | AD35: =SUM(E35:AC35) -> 19
B36: 34 | D36: chimie | E36: ='V-eme classe'!E36 -> 0 | F36: ='V-eme classe'!F36 -> 0 | G36: ='V-eme classe'!G36 -> 0 | H36: ='V-eme classe'!H36 -> 0 | I36: ='V-eme classe'!I36 -> 0 | J36: ='V-eme classe'!J36 -> 0 | K36: ='VI-eme classe'!E36 -> 0 | L36: ='VI-eme classe'!F36 -> 0 | M36: ='VI-eme classe'!G36 -> 0 | N36: ='VI-eme classe'!H36 -> 0 | O36: ='VI-eme classe'!I36 -> 0 | P36: ='VI-eme classe'!J36 -> 0 | Q36: ='VII-eme '!E36 -> 2 | R36: ='VII-eme '!F36 -> 0 | S36: ='VII-eme '!G36 -> 0 | T36: ='VII-eme '!H36 -> 0 | U36: ='VII-eme '!I36 -> 0 | V36: ='VII-eme '!J36 -> 2 | W36: ='VII-eme '!K36 -> 2 | X36: ='VIII-eme'!E36 -> 0 | Y36: ='VIII-eme'!F36 -> 0 | Z36: ='VIII-eme'!G36 -> 0 | AA36: ='VIII-eme'!H36 -> 0 | AB36: ='VIII-eme'!I36 -> 0 | AC36: ='VIII-eme'!J36 -> 2 | AD36: =SUM(E36:AC36) -> 8
B37: 35 | D37: biologie | E37: ='V-eme classe'!E37 -> 0 | F37: ='V-eme classe'!F37 -> 0 | G37: ='V-eme classe'!G37 -> 1 | H37: ='V-eme classe'!H37 -> 0 | I37: ='V-eme classe'!I37 -> 0 | J37: ='V-eme classe'!J37 -> 1 | K37: ='VI-eme classe'!E37 -> 0 | L37: ='VI-eme classe'!F37 -> 0 | M37: ='VI-eme classe'!G37 -> 0 | N37: ='VI-eme classe'!H37 -> 0 | O37: ='VI-eme classe'!I37 -> 0 | P37: ='VI-eme classe'!J37 -> 0 | Q37: ='VII-eme '!E37 -> 0 | R37: ='VII-eme '!F37 -> 0 | S37: ='VII-eme '!G37 -> 0 | T37: ='VII-eme '!H37 -> 0 | U37: ='VII-eme '!I37 -> 0 | V37: ='VII-eme '!J37 -> 0 | W37: ='VII-eme '!K37 -> 0 | X37: ='VIII-eme'!E37 -> 0 | Y37: ='VIII-eme'!F37 -> 0 | Z37: ='VIII-eme'!G37 -> 0 | AA37: ='VIII-eme'!H37 -> 0 | AB37: ='VIII-eme'!I37 -> 0 | AC37: ='VIII-eme'!J37 -> 0 | AD37: =SUM(E37:AC37) -> 2
B38: 36 | D38: biologie | E38: ='V-eme classe'!E38 -> 0 | F38: ='V-eme classe'!F38 -> 0 | G38: ='V-eme classe'!G38 -> 0 | H38: ='V-eme classe'!H38 -> 2 | I38: ='V-eme classe'!I38 -> 1 | J38: ='V-eme classe'!J38 -> 0 | K38: ='VI-eme classe'!E38 -> 2 | L38: ='VI-eme classe'!F38 -> 2 | M38: ='VI-eme classe'!G38 -> 2 | N38: ='VI-eme classe'!H38 -> 2 | O38: ='VI-eme classe'!I38 -> 0 | P38: ='VI-eme classe'!J38 -> 0 | Q38: ='VII-eme '!E38 -> 2 | R38: ='VII-eme '!F38 -> 2 | S38: ='VII-eme '!G38 -> 2 | T38: ='VII-eme '!H38 -> 0 | U38: ='VII-eme '!I38 -> 0 | V38: ='VII-eme '!J38 -> 0 | W38: ='VII-eme '!K38 -> 0 | X38: ='VIII-eme'!E38 -> 0 | Y38: ='VIII-eme'!F38 -> 1 | Z38: ='VIII-eme'!G38 -> 0 | AA38: ='VIII-eme'!H38 -> 0 | AB38: ='VIII-eme'!I38 -> 0 | AC38: ='VIII-eme'!J38 -> 1 | AD38: =SUM(E38:AC38) -> 19
B39: 37 | D39: biologie | E39: ='V-eme classe'!E39 -> 1 | F39: ='V-eme classe'!F39 -> 1 | G39: ='V-eme classe'!G39 -> 0 | H39: ='V-eme classe'!H39 -> 0 | I39: ='V-eme classe'!I39 -> 0 | J39: ='V-eme classe'!J39 -> 0 | K39: ='VI-eme classe'!E39 -> 0 | L39: ='VI-eme classe'!F39 -> 0 | M39: ='VI-eme classe'!G39 -> 0 | N39: ='VI-eme classe'!H39 -> 0 | O39: ='VI-eme classe'!I39 -> 2 | P39: ='VI-eme classe'!J39 -> 2 | Q39: ='VII-eme '!E39 -> 0 | R39: ='VII-eme '!F39 -> 0 | S39: ='VII-eme '!G39 -> 0 | T39: ='VII-eme '!H39 -> 2 | U39: ='VII-eme '!I39 -> 2 | V39: ='VII-eme '!J39 -> 2 | W39: ='VII-eme '!K39 -> 2 | X39: ='VIII-eme'!E39 -> 1 | Y39: ='VIII-eme'!F39 -> 0 | Z39: ='VIII-eme'!G39 -> 1 | AA39: ='VIII-eme'!H39 -> 1 | AB39: ='VIII-eme'!I39 -> 1 | AC39: ='VIII-eme'!J39 -> 0 | AD39: =SUM(E39:AC39) -> 18
B40: 38 | D40: geografie | E40: ='V-eme classe'!E40 -> 0 | F40: ='V-eme classe'!F40 -> 0 | G40: ='V-eme classe'!G40 -> 1 | H40: ='V-eme classe'!H40 -> 0 | I40: ='V-eme classe'!I40 -> 0 | J40: ='V-eme classe'!J40 -> 1 | K40: ='VI-eme classe'!E40 -> 0 | L40: ='VI-eme classe'!F40 -> 0 | M40: ='VI-eme classe'!G40 -> 1 | N40: ='VI-eme classe'!H40 -> 0 | O40: ='VI-eme classe'!I40 -> 0 | P40: ='VI-eme classe'!J40 -> 2 | Q40: ='VII-eme '!E40 -> 0 | R40: ='VII-eme '!F40 -> 0 | S40: ='VII-eme '!G40 -> 0 | T40: ='VII-eme '!H40 -> 1 | U40: ='VII-eme '!I40 -> 0 | V40: ='VII-eme '!J40 -> 1 | W40: ='VII-eme '!K40 -> 1 | X40: ='VIII-eme'!E40 -> 0 | Y40: ='VIII-eme'!F40 -> 2 | Z40: ='VIII-eme'!G40 -> 0 | AA40: ='VIII-eme'!H40 -> 2 | AB40: ='VIII-eme'!I40 -> 2 | AC40: ='VIII-eme'!J40 -> 0 | AD40: =SUM(E40:AC40) -> 14
B41: 39 | D41: geografie | E41: ='V-eme classe'!E41 -> 1 | F41: ='V-eme classe'!F41 -> 1 | G41: ='V-eme classe'!G41 -> 0 | H41: ='V-eme classe'!H41 -> 1 | I41: ='V-eme classe'!I41 -> 1 | J41: ='V-eme classe'!J41 -> 0 | K41: ='VI-eme classe'!E41 -> 1 | L41: ='VI-eme classe'!F41 -> 1 | M41: ='VI-eme classe'!G41 -> 0 | N41: ='VI-eme classe'!H41 -> 1 | O41: ='VI-eme classe'!I41 -> 1 | P41: ='VI-eme classe'!J41 -> 0 | Q41: ='VII-eme '!E41 -> 1 | R41: ='VII-eme '!F41 -> 1 | S41: ='VII-eme '!G41 -> 1 | T41: ='VII-eme '!H41 -> 0 | U41: ='VII-eme '!I41 -> 1 | V41: ='VII-eme '!J41 -> 0 | W41: ='VII-eme '!K41 -> 0 | X41: ='VIII-eme'!E41 -> 2 | Y41: ='VIII-eme'!F41 -> 0 | Z41: ='VIII-eme'!G41 -> 2 | AA41: ='VIII-eme'!H41 -> 0 | AB41: ='VIII-eme'!I41 -> 0 | AC41: ='VIII-eme'!J41 -> 3 | AD41: =SUM(E41:AC41) -> 19
...

Sheet V-eme classe
B2: Nr. crt. | C2: Numele şi prenumele | D2: Disciplina predată | E2: V A | F2: V B | G2: V C | H2: V D | I2: V E | J2: V F | K2: Total
B3: 1 | D3: Limba română | E3: 0 | F3: 0 | G3: 5 | H3: 0 | I3: 0 | J3: 0 | K3: =SUM(E3:J3) -> 5
B4: 2 | D4: Limba română | E4: 0 | F4: 6 | G4: 0 | H4: 0 | I4: 0 | J4: 0 | K4: =SUM(E4:J4) -> 6
B5: 3 | D5: Limba română | E5: 5 | F5: 0 | G5: 0 | H5: 0 | I5: 0 | J5: 0 | K5: =SUM(E5:J5) -> 5
B6: 4 | D6: Limba română | E6: 0 | F6: 0 | G6: 0 | H6: 5 | I6: 0 | J6: 0 | K6: =SUM(E6:J6) -> 5
B7: 5 | D7: Limba română | E7: 0 | F7: 0 | G7: 0 | H7: 0 | I7: 0 | J7: 0 | K7: =SUM(E7:J7) -> 0
B8: 6 | D8: Limba română | E8: 0 | F8: 0 | G8: 0 | H8: 0 | I8: 0 | J8: 5 | K8: =SUM(E8:J8) -> 5
B9: 7 | D9: Limba latină | E9: 0 | F9: 0 | G9: 0 | H9: 0 | I9: 0 | J9: 0 | K9: =SUM(E9:J9) -> 0
B10: 8 | D10: Limba rromani | K10: =SUM(E10:J10) -> 0
B11: 9 | D11: Limba engleză | E11: 0 | F11: 0 | G11: 0 | H11: 0 | I11: 2 | J11: 0 | K11: =SUM(E11:J11) -> 2
B12: 10 | D12: Limba engleză | E12: 0 | F12: 0 | G12: 0 | H12: 0 | I12: 0 | J12: 0 | K12: =SUM(E12:J12) -> 0
B13: 11 | D13: Limba engleză | E13: 2 | F13: 0 | G13: 0 | H13: 2 | I13: 0 | J13: 0 | K13: =SUM(E13:J13) -> 4
B14: 12 | D14: Limba engleză | E14: 0 | F14: 2 | G14: 2 | H14: 0 | I14: 0 | J14: 0 | K14: =SUM(E14:J14) -> 4
B15: 13 | D15: Limba engleză | E15: 0 | F15: 0 | G15: 0 | H15: 0 | I15: 0 | J15: 0 | K15: =SUM(E15:J15) -> 0
B16: 14 | D16: Limba engleză | E16: 0 | F16: 0 | G16: 0 | H16: 0 | I16: 0 | J16: 2 | K16: =SUM(E16:J16) -> 2
B17: 15 | D17: Limba franceză | E17: 2 | F17: 0 | G17: 0 | H17: 0 | I17: 2 | J17: 0 | K17: =SUM(E17:J17) -> 4
B18: 16 | D18: Limba franceză | E18: 0 | F18: 2 | G18: 0 | H18: 0 | I18: 0 | J18: 2 | K18: =SUM(E18:J18) -> 4
B19: 17 | D19: Limba franceză | E19: 0 | F19: 0 | G19: 2 | H19: 3 | I19: 0 | J19: 1 | K19: =SUM(E19:J19) -> 6
B20: 18 | K20: =SUM(E20:J20) -> 0
B21: 19 | K21: =SUM(E21:J21) -> 0
B22: 20 | D22: Matematică | E22: 5 | F22: 0 | G22: 0 | H22: 0 | I22: 0 | J22: 0 | K22: =SUM(E22:J22) -> 5
B23: 21 | D23: Matematică | E23: 0 | F23: 0 | G23: 0 | H23: 0 | I23: 4 | J23: 0 | K23: =SUM(E23:J23) -> 4
B24: 22 | D24: Matematică | E24: 0 | F24: 0 | G24: 5 | H24: 0 | I24: 0 | J24: 0 | K24: =SUM(E24:J24) -> 5
B25: 23 | D25: Matematică | E25: 0 | F25: 4 | G25: 0 | H25: 4 | I25: 0 | J25: 0 | K25: =SUM(E25:J25) -> 8
B26: 24 | D26: Matematică | E26: 0 | F26: 0 | G26: 0 | H26: 0 | I26: 0 | J26: 0 | K26: =SUM(E26:J26) -> 0
B27: 25 | D27: Matematică | E27: 0 | F27: 0 | G27: 0 | H27: 0 | I27: 0 | J27: 4 | K27: =SUM(E27:J27) -> 4
B28: 26 | K28: =SUM(E28:J28) -> 0
B29: 27 | K29: =SUM(E29:J29) -> 0
B30: 28 | D30: Informatică | E30: 0 | F30: 0 | G30: 0 | H30: 0 | I30: 0 | J30: 1 | K30: =SUM(E30:J30) -> 1
B31: 29 | D31: Informatică | E31: 0 | F31: 0 | G31: 0 | H31: 0 | I31: 1 | J31: 0 | K31: =SUM(E31:J31) -> 1
B32: 30 | D32: fizică | E32: 1 | F32: 0 | G32: 0 | H32: 0 | I32: 0 | J32: 0 | K32: =SUM(E32:J32) -> 1
B33: 31 | D33: fizică | E33: 0 | F33: 0 | G33: 0 | H33: 0 | I33: 0 | J33: 0 | K33: =SUM(E33:J33) -> 0
B34: 32 | D34: fizică | E34: 0 | F34: 0 | G34: 0 | H34: 0 | I34: 0 | J34: 0 | K34: =SUM(E34:J34) -> 0
B35: 33 | D35: chimie | E35: 0 | F35: 0 | G35: 1 | H35: 0 | I35: 0 | J35: 0 | K35: =SUM(E35:J35) -> 1
B36: 34 | D36: chimie | E36: 0 | F36: 0 | G36: 0 | H36: 0 | I36: 0 | J36: 0 | K36: =SUM(E36:J36) -> 0
B37: 35 | D37: biologie | E37: 0 | F37: 0 | G37: 1 | H37: 0 | I37: 0 | J37: 1 | K37: =SUM(E37:J37) -> 2
B38: 36 | D38: biologie | E38: 0 | F38: 0 | G38: 0 | H38: 2 | I38: 1 | J38: 0 | K38: =SUM(E38:J38) -> 3
B39: 37 | D39: biologie | E39: 1 | F39: 1 | G39: 0 | H39: 0 | I39: 0 | J39: 0 | K39: =SUM(E39:J39) -> 2
B40: 38 | D40: geografie | E40: 0 | F40: 0 | G40: 1 | H40: 0 | I40: 0 | J40: 1 | K40: =SUM(E40:J40) -> 2
B41: 39 | D41: geografie | E41: 1 | F41: 1 | G41: 0 | H41: 1 | I41: 1 | J41: 0 | K41: =SUM(E41:J41) -> 4
...

Sheet VI-eme classe
B2: Nr. crt. | C2: Nom et prenom | D2: Discipline | E2: VI A | F2: VI B | G2: VI C | H2: VI D | I2: VI E | J2: VI F | K2: Total
B3: 1 | D3: Limba română | E3: 0 | F3: 0 | G3: 0 | H3: 0 | I3: 0 | J3: 0 | K3: =SUM(E3:J3) -> 0
B4: 2 | D4: Limba română | E4: 0 | F4: 4 | G4: 0 | H4: 0 | I4: 0 | J4: 0 | K4: =SUM(E4:J4) -> 4
B5: 3 | D5: Limba română | E5: 0 | F5: 0 | G5: 0 | H5: 0 | I5: 6 | J5: 0 | K5: =SUM(E5:J5) -> 6
B6: 4 | D6: Limba română | E6: 0 | F6: 0 | G6: 4 | H6: 0 | I6: 0 | J6: 0 | K6: =SUM(E6:J6) -> 4
B7: 5 | D7: Limba română | E7: 5 | F7: 0 | G7: 0 | H7: 5 | I7: 0 | K7: =SUM(E7:J7) -> 10
B8: 6 | D8: Limba română | E8: 0 | F8: 0 | G8: 0 | H8: 0 | I8: 0 | J8: 4 | K8: =SUM(E8:J8) -> 4
B9: 7 | D9: Limba latină | E9: 0 | F9: 0 | G9: 0 | H9: 0 | I9: 0 | J9: 0 | K9: =SUM(E9:J9) -> 0
B10: 8 | D10: Limba rromani | K10: =SUM(E10:J10) -> 0
B11: 9 | D11: Limba engleză | E11: 0 | F11: 0 | G11: 0 | H11: 0 | I11: 0 | J11: 0 | K11: =SUM(E11:J11) -> 0
B12: 10 | D12: Limba engleză | E12: 3 | F12: 0 | G12: 0 | H12: 0 | I12: 0 | J12: 0 | K12: =SUM(E12:J12) -> 3
B13: 11 | D13: Limba engleză | E13: 0 | F13: 2 | G13: 2 | H13: 0 | I13: 0 | J13: 0 | K13: =SUM(E13:J13) -> 4
B14: 12 | D14: Limba engleză | E14: 0 | F14: 0 | G14: 0 | H14: 2 | I14: 2 | J14: 0 | K14: =SUM(E14:J14) -> 4
B15: 13 | D15: Limba engleză | E15: 0 | F15: 0 | G15: 0 | H15: 0 | I15: 0 | J15: 2 | K15: =SUM(E15:J15) -> 2
B16: 14 | D16: Limba engleză | E16: 0 | F16: 0 | G16: 0 | H16: 0 | I16: 0 | J16: 0 | K16: =SUM(E16:J16) -> 0
B17: 15 | D17: Limba franceză | E17: 0 | F17: 0 | G17: 2 | H17: 0 | I17: 0 | J17: 0 | K17: =SUM(E17:J17) -> 2
B18: 16 | D18: Limba franceză | E18: 2 | F18: 0 | G18: 0 | H18: 2 | I18: 2 | J18: 2 | K18: =SUM(E18:J18) -> 8
B19: 17 | D19: Limba franceză | E19: 0 | F19: 3 | G19: 0 | H19: 0 | I19: 0 | J19: 0 | K19: =SUM(E19:J19) -> 3
B20: 18 | K20: =SUM(E20:J20) -> 0
B21: 19 | K21: =SUM(E21:J21) -> 0
B22: 20 | D22: Matematică | E22: 0 | F22: 5 | G22: 0 | H22: 0 | I22: 0 | J22: 0 | K22: =SUM(E22:J22) -> 5
B23: 21 | D23: Matematică | E23: 0 | F23: 0 | G23: 0 | H23: 5 | I23: 0 | J23: 4 | K23: =SUM(E23:J23) -> 9
B24: 22 | D24: Matematică | E24: 0 | F24: 0 | G24: 0 | H24: 0 | I24: 4 | J24: 0 | K24: =SUM(E24:J24) -> 4
B25: 23 | D25: Matematică | E25: 4 | F25: 0 | G25: 0 | H25: 0 | I25: 0 | J25: 0 | K25: =SUM(E25:J25) -> 4
B26: 24 | D26: Matematică | E26: 0 | F26: 0 | G26: 5 | H26: 0 | I26: 0 | J26: 0 | K26: =SUM(E26:J26) -> 5
B27: 25 | D27: Matematică | E27: 0 | F27: 0 | G27: 0 | H27: 0 | I27: 0 | J27: 0 | K27: =SUM(E27:J27) -> 0
B28: 26 | K28: =SUM(E28:J28) -> 0
B29: 27 | K29: =SUM(E29:J29) -> 0
B30: 28 | D30: Informatică | E30: 0 | F30: 0 | G30: 0 | H30: 0 | I30: 0 | J30: 0 | K30: =SUM(E30:J30) -> 0
B31: 29 | D31: Informatică | E31: 1 | F31: 1 | G31: 1 | H31: 1 | I31: 1 | J31: 1 | K31: =SUM(E31:J31) -> 6
B32: 30 | D32: fizică | E32: 2 | F32: 2 | G32: 2 | H32: 0 | I32: 0 | J32: 0 | K32: =SUM(E32:J32) -> 6
B33: 31 | D33: fizică | E33: 0 | F33: 0 | G33: 0 | H33: 2 | I33: 2 | J33: 2 | K33: =SUM(E33:J33) -> 6
B34: 32 | D34: fizică | E34: 0 | F34: 0 | G34: 0 | H34: 0 | I34: 0 | J34: 0 | K34: =SUM(E34:J34) -> 0
B35: 33 | D35: chimie | E35: 0 | F35: 0 | G35: 0 | H35: 0 | I35: 0 | J35: 0 | K35: =SUM(E35:J35) -> 0
B36: 34 | D36: chimie | E36: 0 | F36: 0 | G36: 0 | H36: 0 | I36: 0 | J36: 0 | K36: =SUM(E36:J36) -> 0
B37: 35 | D37: biologie | E37: 0 | F37: 0 | G37: 0 | H37: 0 | I37: 0 | J37: 0 | K37: =SUM(E37:J37) -> 0
B38: 36 | D38: biologie | E38: 2 | F38: 2 | G38: 2 | H38: 2 | I38: 0 | J38: 0 | K38: =SUM(E38:J38) -> 8
