Workbook
Name Choix: Base!$A$1:$A$19

Sheet Facture Vente personnels
D1: Facture N°
B3: Ets Dupont
D4: Destinataire
D5: Nom
D6: Prénom
D7: Adresse ligne 1
B8: Le: 14/10/2010 | D8: Adresse ligne 2
B10: Service Achat Bois (Vente aux personnels)
A14: Référence - Désignation | D14: PU € TTC | F14: Qu | G14: TOTAL €
D15: =IF(C15="Benne",Base!$B$1,)&IF(C15="Big Bag",Base!$B$2,)&IF(C15="Caisse",Base!$B$3,)&IF(C15="Consigne",Base!$B$4,)&IF(C15="Croute",Base!$B$5,)&IF(C15="DKD Chêne",Base!$B$6,)&IF(C15="DKD Pin",Base!$B$7,)&IF(C15="Fagot",Base!$B$8,)&IF(C15="KKK Chêne",Base!$B$9,)&IF(C15="KKK BHD",Base!$B$10,)&IF(C15="Petit Big Bag",Base!$B$11,)&IF(C15="Petite Caisse",Base!$B$12,)&IF(C15="Plot Bossé",Base!$B$13,)&IF(C15="Plot Chêne",Base!$B$14,)&IF(C15="Plot Moabi",Base!$B$15,)&IF(C15="Plot Pin",Base!$B$16,)&IF(C15="Prédébit Bossé",Base!$B$17,)&IF(C15="Prédébit Moabi",Base!$B$18,)&IF(C15="Remorque",Base!$B$19,) | G15: =IF(C15=Base!$A$1,D15*F15,)&IF(C15=Base!$A$2,D15*F15,)&IF(C15=Base!$A$3,D15*F15,)&IF(C15=Base!$A$4,D15*F15,)&IF(C15=Base!$A$5,D15*F15,)&IF(C15=Base!$A$6,D15*F15,)&IF(C15=Base!$A$7,D15*F15,)&IF(C15=Base!$A$8,D15*F15,)&IF(C15=Base!$A$9,D15*F15,)&IF(C15=Base!$A$10,D15*F15,)&IF(C15=Base!$A$11,D15*F15,)&IF(C15=Base!$A$12,D15*F15,)&IF(C15=Base!$A$13,D15*F15,)&IF(C15=Base!$A$14,D15*F15,)&IF(C15=Base!$A$15,D15*F15,)&IF(C15=Base!$A$16,D15*F15,)&IF(C15=Base!$A$17,D15*F15,)&IF(C15=Base!$A$18,D15*F15,)&IF(C15=Base!$A$19,D15*F15,) | H15: =IF(F15>0,D15*F15,) -> 0 | I15: =IF(C15="Consigne",D15*F15,) -> 0
D16: =IF(C16="Benne",Base!$B$1,)&IF(C16="Big Bag",Base!$B$2,)&IF(C16="Caisse",Base!$B$3,)&IF(C16="Consigne",Base!$B$4,)&IF(C16="Croute",Base!$B$5,)&IF(C16="DKD Chêne",Base!$B$6,)&IF(C16="DKD Pin",Base!$B$7,)&IF(C16="Fagot",Base!$B$8,)&IF(C16="KKK Chêne",Base!$B$9,)&IF(C16="KKK BHD",Base!$B$10,)&IF(C16="Petit Big Bag",Base!$B$11,)&IF(C16="Petite Caisse",Base!$B$12,)&IF(C16="Plot Bossé",Base!$B$13,)&IF(C16="Plot Chêne",Base!$B$14,)&IF(C16="Plot Moabi",Base!$B$15,)&IF(C16="Plot Pin",Base!$B$16,)&IF(C16="Prédébit Bossé",Base!$B$17,)&IF(C16="Prédébit Moabi",Base!$B$18,)&IF(C16="Remorque",Base!$B$19,) | G16: =IF(C16=Base!$A$1,D16*F16,)&IF(C16=Base!$A$2,D16*F16,)&IF(C16=Base!$A$3,D16*F16,)&IF(C16=Base!$A$4,D16*F16,)&IF(C16=Base!$A$5,D16*F16,)&IF(C16=Base!$A$6,D16*F16,)&IF(C16=Base!$A$7,D16*F16,)&IF(C16=Base!$A$8,D16*F16,)&IF(C16=Base!$A$9,D16*F16,)&IF(C16=Base!$A$10,D16*F16,)&IF(C16=Base!$A$11,D16*F16,)&IF(C16=Base!$A$12,D16*F16,)&IF(C16=Base!$A$13,D16*F16,)&IF(C16=Base!$A$14,D16*F16,)&IF(C16=Base!$A$15,D16*F16,)&IF(C16=Base!$A$16,D16*F16,)&IF(C16=Base!$A$17,D16*F16,)&IF(C16=Base!$A$18,D16*F16,)&IF(C16=Base!$A$19,D16*F16,) | H16: =IF(F16>0,D16*F16,) -> 0 | I16: =IF(C16="Consigne",D16*F16,) -> 0
B17: 0 | D17: =IF(C17="Benne",Base!$B$1,)&IF(C17="Big Bag",Base!$B$2,)&IF(C17="Caisse",Base!$B$3,)&IF(C17="Consigne",Base!$B$4,)&IF(C17="Croute",Base!$B$5,)&IF(C17="DKD Chêne",Base!$B$6,)&IF(C17="DKD Pin",Base!$B$7,)&IF(C17="Fagot",Base!$B$8,)&IF(C17="KKK Chêne",Base!$B$9,)&IF(C17="KKK BHD",Base!$B$10,)&IF(C17="Petit Big Bag",Base!$B$11,)&IF(C17="Petite Caisse",Base!$B$12,)&IF(C17="Plot Bossé",Base!$B$13,)&IF(C17="Plot Chêne",Base!$B$14,)&IF(C17="Plot Moabi",Base!$B$15,)&IF(C17="Plot Pin",Base!$B$16,)&IF(C17="Prédébit Bossé",Base!$B$17,)&IF(C17="Prédébit Moabi",Base!$B$18,)&IF(C17="Remorque",Base!$B$19,) | G17: =IF(C17=Base!$A$1,D17*F17,)&IF(C17=Base!$A$2,D17*F17,)&IF(C17=Base!$A$3,D17*F17,)&IF(C17=Base!$A$4,D17*F17,)&IF(C17=Base!$A$5,D17*F17,)&IF(C17=Base!$A$6,D17*F17,)&IF(C17=Base!$A$7,D17*F17,)&IF(C17=Base!$A$8,D17*F17,)&IF(C17=Base!$A$9,D17*F17,)&IF(C17=Base!$A$10,D17*F17,)&IF(C17=Base!$A$11,D17*F17,)&IF(C17=Base!$A$12,D17*F17,)&IF(C17=Base!$A$13,D17*F17,)&IF(C17=Base!$A$14,D17*F17,)&IF(C17=Base!$A$15,D17*F17,)&IF(C17=Base!$A$16,D17*F17,)&IF(C17=Base!$A$17,D17*F17,)&IF(C17=Base!$A$18,D17*F17,)&IF(C17=Base!$A$19,D17*F17,) | H17: =IF(F17>0,D17*F17,) -> 0 | I17: =IF(C17="Consigne",D17*F17,) -> 0
D18: =IF(C18="Benne",Base!$B$1,)&IF(C18="Big Bag",Base!$B$2,)&IF(C18="Caisse",Base!$B$3,)&IF(C18="Consigne",Base!$B$4,)&IF(C18="Croute",Base!$B$5,)&IF(C18="DKD Chêne",Base!$B$6,)&IF(C18="DKD Pin",Base!$B$7,)&IF(C18="Fagot",Base!$B$8,)&IF(C18="KKK Chêne",Base!$B$9,)&IF(C18="KKK BHD",Base!$B$10,)&IF(C18="Petit Big Bag",Base!$B$11,)&IF(C18="Petite Caisse",Base!$B$12,)&IF(C18="Plot Bossé",Base!$B$13,)&IF(C18="Plot Chêne",Base!$B$14,)&IF(C18="Plot Moabi",Base!$B$15,)&IF(C18="Plot Pin",Base!$B$16,)&IF(C18="Prédébit Bossé",Base!$B$17,)&IF(C18="Prédébit Moabi",Base!$B$18,)&IF(C18="Remorque",Base!$B$19,) | G18: =IF(C18=Base!$A$1,D18*F18,)&IF(C18=Base!$A$2,D18*F18,)&IF(C18=Base!$A$3,D18*F18,)&IF(C18=Base!$A$4,D18*F18,)&IF(C18=Base!$A$5,D18*F18,)&IF(C18=Base!$A$6,D18*F18,)&IF(C18=Base!$A$7,D18*F18,)&IF(C18=Base!$A$8,D18*F18,)&IF(C18=Base!$A$9,D18*F18,)&IF(C18=Base!$A$10,D18*F18,)&IF(C18=Base!$A$11,D18*F18,)&IF(C18=Base!$A$12,D18*F18,)&IF(C18=Base!$A$13,D18*F18,)&IF(C18=Base!$A$14,D18*F18,)&IF(C18=Base!$A$15,D18*F18,)&IF(C18=Base!$A$16,D18*F18,)&IF(C18=Base!$A$17,D18*F18,)&IF(C18=Base!$A$18,D18*F18,)&IF(C18=Base!$A$19,D18*F18,) | H18: =IF(F18>0,D18*F18,) -> 0 | I18: =IF(C18="Consigne",D18*F18,) -> 0
D19: =IF(C19="Benne",Base!$B$1,)&IF(C19="Big Bag",Base!$B$2,)&IF(C19="Caisse",Base!$B$3,)&IF(C19="Consigne",Base!$B$4,)&IF(C19="Croute",Base!$B$5,)&IF(C19="DKD Chêne",Base!$B$6,)&IF(C19="DKD Pin",Base!$B$7,)&IF(C19="Fagot",Base!$B$8,)&IF(C19="KKK Chêne",Base!$B$9,)&IF(C19="KKK BHD",Base!$B$10,)&IF(C19="Petit Big Bag",Base!$B$11,)&IF(C19="Petite Caisse",Base!$B$12,)&IF(C19="Plot Bossé",Base!$B$13,)&IF(C19="Plot Chêne",Base!$B$14,)&IF(C19="Plot Moabi",Base!$B$15,)&IF(C19="Plot Pin",Base!$B$16,)&IF(C19="Prédébit Bossé",Base!$B$17,)&IF(C19="Prédébit Moabi",Base!$B$18,)&IF(C19="Remorque",Base!$B$19,) | G19: =IF(C19=Base!$A$1,D19*F19,)&IF(C19=Base!$A$2,D19*F19,)&IF(C19=Base!$A$3,D19*F19,)&IF(C19=Base!$A$4,D19*F19,)&IF(C19=Base!$A$5,D19*F19,)&IF(C19=Base!$A$6,D19*F19,)&IF(C19=Base!$A$7,D19*F19,)&IF(C19=Base!$A$8,D19*F19,)&IF(C19=Base!$A$9,D19*F19,)&IF(C19=Base!$A$10,D19*F19,)&IF(C19=Base!$A$11,D19*F19,)&IF(C19=Base!$A$12,D19*F19,)&IF(C19=Base!$A$13,D19*F19,)&IF(C19=Base!$A$14,D19*F19,)&IF(C19=Base!$A$15,D19*F19,)&IF(C19=Base!$A$16,D19*F19,)&IF(C19=Base!$A$17,D19*F19,)&IF(C19=Base!$A$18,D19*F19,)&IF(C19=Base!$A$19,D19*F19,) | H19: =IF(F19>0,D19*F19,) -> 0 | I19: =IF(C19="Consigne",D19*F19,) -> 0
D20: =IF(C20="Benne",Base!$B$1,)&IF(C20="Big Bag",Base!$B$2,)&IF(C20="Caisse",Base!$B$3,)&IF(C20="Consigne",Base!$B$4,)&IF(C20="Croute",Base!$B$5,)&IF(C20="DKD Chêne",Base!$B$6,)&IF(C20="DKD Pin",Base!$B$7,)&IF(C20="Fagot",Base!$B$8,)&IF(C20="KKK Chêne",Base!$B$9,)&IF(C20="KKK BHD",Base!$B$10,)&IF(C20="Petit Big Bag",Base!$B$11,)&IF(C20="Petite Caisse",Base!$B$12,)&IF(C20="Plot Bossé",Base!$B$13,)&IF(C20="Plot Chêne",Base!$B$14,)&IF(C20="Plot Moabi",Base!$B$15,)&IF(C20="Plot Pin",Base!$B$16,)&IF(C20="Prédébit Bossé",Base!$B$17,)&IF(C20="Prédébit Moabi",Base!$B$18,)&IF(C20="Remorque",Base!$B$19,) | G20: =IF(C20=Base!$A$1,D20*F20,)&IF(C20=Base!$A$2,D20*F20,)&IF(C20=Base!$A$3,D20*F20,)&IF(C20=Base!$A$4,D20*F20,)&IF(C20=Base!$A$5,D20*F20,)&IF(C20=Base!$A$6,D20*F20,)&IF(C20=Base!$A$7,D20*F20,)&IF(C20=Base!$A$8,D20*F20,)&IF(C20=Base!$A$9,D20*F20,)&IF(C20=Base!$A$10,D20*F20,)&IF(C20=Base!$A$11,D20*F20,)&IF(C20=Base!$A$12,D20*F20,)&IF(C20=Base!$A$13,D20*F20,)&IF(C20=Base!$A$14,D20*F20,)&IF(C20=Base!$A$15,D20*F20,)&IF(C20=Base!$A$16,D20*F20,)&IF(C20=Base!$A$17,D20*F20,)&IF(C20=Base!$A$18,D20*F20,)&IF(C20=Base!$A$19,D20*F20,) | H20: =IF(F20>0,D20*F20,) -> 0 | I20: =IF(C20="Consigne",D20*F20,) -> 0
D21: =IF(C21="Benne",Base!$B$1,)&IF(C21="Big Bag",Base!$B$2,)&IF(C21="Caisse",Base!$B$3,)&IF(C21="Consigne",Base!$B$4,)&IF(C21="Croute",Base!$B$5,)&IF(C21="DKD Chêne",Base!$B$6,)&IF(C21="DKD Pin",Base!$B$7,)&IF(C21="Fagot",Base!$B$8,)&IF(C21="KKK Chêne",Base!$B$9,)&IF(C21="KKK BHD",Base!$B$10,)&IF(C21="Petit Big Bag",Base!$B$11,)&IF(C21="Petite Caisse",Base!$B$12,)&IF(C21="Plot Bossé",Base!$B$13,)&IF(C21="Plot Chêne",Base!$B$14,)&IF(C21="Plot Moabi",Base!$B$15,)&IF(C21="Plot Pin",Base!$B$16,)&IF(C21="Prédébit Bossé",Base!$B$17,)&IF(C21="Prédébit Moabi",Base!$B$18,)&IF(C21="Remorque",Base!$B$19,) | G21: =IF(C21=Base!$A$1,D21*F21,)&IF(C21=Base!$A$2,D21*F21,)&IF(C21=Base!$A$3,D21*F21,)&IF(C21=Base!$A$4,D21*F21,)&IF(C21=Base!$A$5,D21*F21,)&IF(C21=Base!$A$6,D21*F21,)&IF(C21=Base!$A$7,D21*F21,)&IF(C21=Base!$A$8,D21*F21,)&IF(C21=Base!$A$9,D21*F21,)&IF(C21=Base!$A$10,D21*F21,)&IF(C21=Base!$A$11,D21*F21,)&IF(C21=Base!$A$12,D21*F21,)&IF(C21=Base!$A$13,D21*F21,)&IF(C21=Base!$A$14,D21*F21,)&IF(C21=Base!$A$15,D21*F21,)&IF(C21=Base!$A$16,D21*F21,)&IF(C21=Base!$A$17,D21*F21,)&IF(C21=Base!$A$18,D21*F21,)&IF(C21=Base!$A$19,D21*F21,) | H21: =IF(F21>0,D21*F21,) -> 0 | I21: =IF(C21="Consigne",D21*F21,) -> 0
D22: =IF(C22="Benne",Base!$B$1,)&IF(C22="Big Bag",Base!$B$2,)&IF(C22="Caisse",Base!$B$3,)&IF(C22="Consigne",Base!$B$4,)&IF(C22="Croute",Base!$B$5,)&IF(C22="DKD Chêne",Base!$B$6,)&IF(C22="DKD Pin",Base!$B$7,)&IF(C22="Fagot",Base!$B$8,)&IF(C22="KKK Chêne",Base!$B$9,)&IF(C22="KKK BHD",Base!$B$10,)&IF(C22="Petit Big Bag",Base!$B$11,)&IF(C22="Petite Caisse",Base!$B$12,)&IF(C22="Plot Bossé",Base!$B$13,)&IF(C22="Plot Chêne",Base!$B$14,)&IF(C22="Plot Moabi",Base!$B$15,)&IF(C22="Plot Pin",Base!$B$16,)&IF(C22="Prédébit Bossé",Base!$B$17,)&IF(C22="Prédébit Moabi",Base!$B$18,)&IF(C22="Remorque",Base!$B$19,) | G22: =IF(C22=Base!$A$1,D22*F22,)&IF(C22=Base!$A$2,D22*F22,)&IF(C22=Base!$A$3,D22*F22,)&IF(C22=Base!$A$4,D22*F22,)&IF(C22=Base!$A$5,D22*F22,)&IF(C22=Base!$A$6,D22*F22,)&IF(C22=Base!$A$7,D22*F22,)&IF(C22=Base!$A$8,D22*F22,)&IF(C22=Base!$A$9,D22*F22,)&IF(C22=Base!$A$10,D22*F22,)&IF(C22=Base!$A$11,D22*F22,)&IF(C22=Base!$A$12,D22*F22,)&IF(C22=Base!$A$13,D22*F22,)&IF(C22=Base!$A$14,D22*F22,)&IF(C22=Base!$A$15,D22*F22,)&IF(C22=Base!$A$16,D22*F22,)&IF(C22=Base!$A$17,D22*F22,)&IF(C22=Base!$A$18,D22*F22,)&IF(C22=Base!$A$19,D22*F22,) | H22: =IF(F22>0,D22*F22,) -> 0 | I22: =IF(C22="Consigne",D22*F22,) -> 0
D23: =IF(C23="Benne",Base!$B$1,)&IF(C23="Big Bag",Base!$B$2,)&IF(C23="Caisse",Base!$B$3,)&IF(C23="Consigne",Base!$B$4,)&IF(C23="Croute",Base!$B$5,)&IF(C23="DKD Chêne",Base!$B$6,)&IF(C23="DKD Pin",Base!$B$7,)&IF(C23="Fagot",Base!$B$8,)&IF(C23="KKK Chêne",Base!$B$9,)&IF(C23="KKK BHD",Base!$B$10,)&IF(C23="Petit Big Bag",Base!$B$11,)&IF(C23="Petite Caisse",Base!$B$12,)&IF(C23="Plot Bossé",Base!$B$13,)&IF(C23="Plot Chêne",Base!$B$14,)&IF(C23="Plot Moabi",Base!$B$15,)&IF(C23="Plot Pin",Base!$B$16,)&IF(C23="Prédébit Bossé",Base!$B$17,)&IF(C23="Prédébit Moabi",Base!$B$18,)&IF(C23="Remorque",Base!$B$19,) | G23: =IF(C23=Base!$A$1,D23*F23,)&IF(C23=Base!$A$2,D23*F23,)&IF(C23=Base!$A$3,D23*F23,)&IF(C23=Base!$A$4,D23*F23,)&IF(C23=Base!$A$5,D23*F23,)&IF(C23=Base!$A$6,D23*F23,)&IF(C23=Base!$A$7,D23*F23,)&IF(C23=Base!$A$8,D23*F23,)&IF(C23=Base!$A$9,D23*F23,)&IF(C23=Base!$A$10,D23*F23,)&IF(C23=Base!$A$11,D23*F23,)&IF(C23=Base!$A$12,D23*F23,)&IF(C23=Base!$A$13,D23*F23,)&IF(C23=Base!$A$14,D23*F23,)&IF(C23=Base!$A$15,D23*F23,)&IF(C23=Base!$A$16,D23*F23,)&IF(C23=Base!$A$17,D23*F23,)&IF(C23=Base!$A$18,D23*F23,)&IF(C23=Base!$A$19,D23*F23,) | H23: =IF(F23>0,D23*F23,) -> 0 | I23: =IF(C23="Consigne",D23*F23,) -> 0
D24: =IF(C24="Benne",Base!$B$1,)&IF(C24="Big Bag",Base!$B$2,)&IF(C24="Caisse",Base!$B$3,)&IF(C24="Consigne",Base!$B$4,)&IF(C24="Croute",Base!$B$5,)&IF(C24="DKD Chêne",Base!$B$6,)&IF(C24="DKD Pin",Base!$B$7,)&IF(C24="Fagot",Base!$B$8,)&IF(C24="KKK Chêne",Base!$B$9,)&IF(C24="KKK BHD",Base!$B$10,)&IF(C24="Petit Big Bag",Base!$B$11,)&IF(C24="Petite Caisse",Base!$B$12,)&IF(C24="Plot Bossé",Base!$B$13,)&IF(C24="Plot Chêne",Base!$B$14,)&IF(C24="Plot Moabi",Base!$B$15,)&IF(C24="Plot Pin",Base!$B$16,)&IF(C24="Prédébit Bossé",Base!$B$17,)&IF(C24="Prédébit Moabi",Base!$B$18,)&IF(C24="Remorque",Base!$B$19,) | G24: =IF(C24=Base!$A$1,D24*F24,)&IF(C24=Base!$A$2,D24*F24,)&IF(C24=Base!$A$3,D24*F24,)&IF(C24=Base!$A$4,D24*F24,)&IF(C24=Base!$A$5,D24*F24,)&IF(C24=Base!$A$6,D24*F24,)&IF(C24=Base!$A$7,D24*F24,)&IF(C24=Base!$A$8,D24*F24,)&IF(C24=Base!$A$9,D24*F24,)&IF(C24=Base!$A$10,D24*F24,)&IF(C24=Base!$A$11,D24*F24,)&IF(C24=Base!$A$12,D24*F24,)&IF(C24=Base!$A$13,D24*F24,)&IF(C24=Base!$A$14,D24*F24,)&IF(C24=Base!$A$15,D24*F24,)&IF(C24=Base!$A$16,D24*F24,)&IF(C24=Base!$A$17,D24*F24,)&IF(C24=Base!$A$18,D24*F24,)&IF(C24=Base!$A$19,D24*F24,) | H24: =IF(F24>0,D24*F24,) -> 0 | I24: =IF(C24="Consigne",D24*F24,) -> 0
D25: =IF(C25="Benne",Base!$B$1,)&IF(C25="Big Bag",Base!$B$2,)&IF(C25="Caisse",Base!$B$3,)&IF(C25="Consigne",Base!$B$4,)&IF(C25="Croute",Base!$B$5,)&IF(C25="DKD Chêne",Base!$B$6,)&IF(C25="DKD Pin",Base!$B$7,)&IF(C25="Fagot",Base!$B$8,)&IF(C25="KKK Chêne",Base!$B$9,)&IF(C25="KKK BHD",Base!$B$10,)&IF(C25="Petit Big Bag",Base!$B$11,)&IF(C25="Petite Caisse",Base!$B$12,)&IF(C25="Plot Bossé",Base!$B$13,)&IF(C25="Plot Chêne",Base!$B$14,)&IF(C25="Plot Moabi",Base!$B$15,)&IF(C25="Plot Pin",Base!$B$16,)&IF(C25="Prédébit Bossé",Base!$B$17,)&IF(C25="Prédébit Moabi",Base!$B$18,)&IF(C25="Remorque",Base!$B$19,) | G25: =IF(C25=Base!$A$1,D25*F25,)&IF(C25=Base!$A$2,D25*F25,)&IF(C25=Base!$A$3,D25*F25,)&IF(C25=Base!$A$4,D25*F25,)&IF(C25=Base!$A$5,D25*F25,)&IF(C25=Base!$A$6,D25*F25,)&IF(C25=Base!$A$7,D25*F25,)&IF(C25=Base!$A$8,D25*F25,)&IF(C25=Base!$A$9,D25*F25,)&IF(C25=Base!$A$10,D25*F25,)&IF(C25=Base!$A$11,D25*F25,)&IF(C25=Base!$A$12,D25*F25,)&IF(C25=Base!$A$13,D25*F25,)&IF(C25=Base!$A$14,D25*F25,)&IF(C25=Base!$A$15,D25*F25,)&IF(C25=Base!$A$16,D25*F25,)&IF(C25=Base!$A$17,D25*F25,)&IF(C25=Base!$A$18,D25*F25,)&IF(C25=Base!$A$19,D25*F25,) | H25: =IF(F25>0,D25*F25,) -> 0 | I25: =IF(C25="Consigne",D25*F25,) -> 0
D26: =IF(C26="Benne",Base!$B$1,)&IF(C26="Big Bag",Base!$B$2,)&IF(C26="Caisse",Base!$B$3,)&IF(C26="Consigne",Base!$B$4,)&IF(C26="Croute",Base!$B$5,)&IF(C26="DKD Chêne",Base!$B$6,)&IF(C26="DKD Pin",Base!$B$7,)&IF(C26="Fagot",Base!$B$8,)&IF(C26="KKK Chêne",Base!$B$9,)&IF(C26="KKK BHD",Base!$B$10,)&IF(C26="Petit Big Bag",Base!$B$11,)&IF(C26="Petite Caisse",Base!$B$12,)&IF(C26="Plot Bossé",Base!$B$13,)&IF(C26="Plot Chêne",Base!$B$14,)&IF(C26="Plot Moabi",Base!$B$15,)&IF(C26="Plot Pin",Base!$B$16,)&IF(C26="Prédébit Bossé",Base!$B$17,)&IF(C26="Prédébit Moabi",Base!$B$18,)&IF(C26="Remorque",Base!$B$19,) | G26: =IF(C26=Base!$A$1,D26*F26,)&IF(C26=Base!$A$2,D26*F26,)&IF(C26=Base!$A$3,D26*F26,)&IF(C26=Base!$A$4,D26*F26,)&IF(C26=Base!$A$5,D26*F26,)&IF(C26=Base!$A$6,D26*F26,)&IF(C26=Base!$A$7,D26*F26,)&IF(C26=Base!$A$8,D26*F26,)&IF(C26=Base!$A$9,D26*F26,)&IF(C26=Base!$A$10,D26*F26,)&IF(C26=Base!$A$11,D26*F26,)&IF(C26=Base!$A$12,D26*F26,)&IF(C26=Base!$A$13,D26*F26,)&IF(C26=Base!$A$14,D26*F26,)&IF(C26=Base!$A$15,D26*F26,)&IF(C26=Base!$A$16,D26*F26,)&IF(C26=Base!$A$17,D26*F26,)&IF(C26=Base!$A$18,D26*F26,)&IF(C26=Base!$A$19,D26*F26,) | H26: =IF(F26>0,D26*F26,) -> 0 | I26: =IF(C26="Consigne",D26*F26,) -> 0
D27: =IF(C27="Benne",Base!$B$1,)&IF(C27="Big Bag",Base!$B$2,)&IF(C27="Caisse",Base!$B$3,)&IF(C27="Consigne",Base!$B$4,)&IF(C27="Croute",Base!$B$5,)&IF(C27="DKD Chêne",Base!$B$6,)&IF(C27="DKD Pin",Base!$B$7,)&IF(C27="Fagot",Base!$B$8,)&IF(C27="KKK Chêne",Base!$B$9,)&IF(C27="KKK BHD",Base!$B$10,)&IF(C27="Petit Big Bag",Base!$B$11,)&IF(C27="Petite Caisse",Base!$B$12,)&IF(C27="Plot Bossé",Base!$B$13,)&IF(C27="Plot Chêne",Base!$B$14,)&IF(C27="Plot Moabi",Base!$B$15,)&IF(C27="Plot Pin",Base!$B$16,)&IF(C27="Prédébit Bossé",Base!$B$17,)&IF(C27="Prédébit Moabi",Base!$B$18,)&IF(C27="Remorque",Base!$B$19,) | G27: =IF(C27=Base!$A$1,D27*F27,)&IF(C27=Base!$A$2,D27*F27,)&IF(C27=Base!$A$3,D27*F27,)&IF(C27=Base!$A$4,D27*F27,)&IF(C27=Base!$A$5,D27*F27,)&IF(C27=Base!$A$6,D27*F27,)&IF(C27=Base!$A$7,D27*F27,)&IF(C27=Base!$A$8,D27*F27,)&IF(C27=Base!$A$9,D27*F27,)&IF(C27=Base!$A$10,D27*F27,)&IF(C27=Base!$A$11,D27*F27,)&IF(C27=Base!$A$12,D27*F27,)&IF(C27=Base!$A$13,D27*F27,)&IF(C27=Base!$A$14,D27*F27,)&IF(C27=Base!$A$15,D27*F27,)&IF(C27=Base!$A$16,D27*F27,)&IF(C27=Base!$A$17,D27*F27,)&IF(C27=Base!$A$18,D27*F27,)&IF(C27=Base!$A$19,D27*F27,) | H27: =IF(F27>0,D27*F27,) -> 0 | I27: =IF(C27="Consigne",D27*F27,) -> 0
D28: =IF(C28="Benne",Base!$B$1,)&IF(C28="Big Bag",Base!$B$2,)&IF(C28="Caisse",Base!$B$3,)&IF(C28="Consigne",Base!$B$4,)&IF(C28="Croute",Base!$B$5,)&IF(C28="DKD Chêne",Base!$B$6,)&IF(C28="DKD Pin",Base!$B$7,)&IF(C28="Fagot",Base!$B$8,)&IF(C28="KKK Chêne",Base!$B$9,)&IF(C28="KKK BHD",Base!$B$10,)&IF(C28="Petit Big Bag",Base!$B$11,)&IF(C28="Petite Caisse",Base!$B$12,)&IF(C28="Plot Bossé",Base!$B$13,)&IF(C28="Plot Chêne",Base!$B$14,)&IF(C28="Plot Moabi",Base!$B$15,)&IF(C28="Plot Pin",Base!$B$16,)&IF(C28="Prédébit Bossé",Base!$B$17,)&IF(C28="Prédébit Moabi",Base!$B$18,)&IF(C28="Remorque",Base!$B$19,) | G28: =IF(C28=Base!$A$1,D28*F28,)&IF(C28=Base!$A$2,D28*F28,)&IF(C28=Base!$A$3,D28*F28,)&IF(C28=Base!$A$4,D28*F28,)&IF(C28=Base!$A$5,D28*F28,)&IF(C28=Base!$A$6,D28*F28,)&IF(C28=Base!$A$7,D28*F28,)&IF(C28=Base!$A$8,D28*F28,)&IF(C28=Base!$A$9,D28*F28,)&IF(C28=Base!$A$10,D28*F28,)&IF(C28=Base!$A$11,D28*F28,)&IF(C28=Base!$A$12,D28*F28,)&IF(C28=Base!$A$13,D28*F28,)&IF(C28=Base!$A$14,D28*F28,)&IF(C28=Base!$A$15,D28*F28,)&IF(C28=Base!$A$16,D28*F28,)&IF(C28=Base!$A$17,D28*F28,)&IF(C28=Base!$A$18,D28*F28,)&IF(C28=Base!$A$19,D28*F28,) | H28: =IF(F28>0,D28*F28,) -> 0 | I28: =IF(C28="Consigne",D28*F28,) -> 0
D29: =IF(C29="Benne",Base!$B$1,)&IF(C29="Big Bag",Base!$B$2,)&IF(C29="Caisse",Base!$B$3,)&IF(C29="Consigne",Base!$B$4,)&IF(C29="Croute",Base!$B$5,)&IF(C29="DKD Chêne",Base!$B$6,)&IF(C29="DKD Pin",Base!$B$7,)&IF(C29="Fagot",Base!$B$8,)&IF(C29="KKK Chêne",Base!$B$9,)&IF(C29="KKK BHD",Base!$B$10,)&IF(C29="Petit Big Bag",Base!$B$11,)&IF(C29="Petite Caisse",Base!$B$12,)&IF(C29="Plot Bossé",Base!$B$13,)&IF(C29="Plot Chêne",Base!$B$14,)&IF(C29="Plot Moabi",Base!$B$15,)&IF(C29="Plot Pin",Base!$B$16,)&IF(C29="Prédébit Bossé",Base!$B$17,)&IF(C29="Prédébit Moabi",Base!$B$18,)&IF(C29="Remorque",Base!$B$19,) | G29: =IF(C29=Base!$A$1,D29*F29,)&IF(C29=Base!$A$2,D29*F29,)&IF(C29=Base!$A$3,D29*F29,)&IF(C29=Base!$A$4,D29*F29,)&IF(C29=Base!$A$5,D29*F29,)&IF(C29=Base!$A$6,D29*F29,)&IF(C29=Base!$A$7,D29*F29,)&IF(C29=Base!$A$8,D29*F29,)&IF(C29=Base!$A$9,D29*F29,)&IF(C29=Base!$A$10,D29*F29,)&IF(C29=Base!$A$11,D29*F29,)&IF(C29=Base!$A$12,D29*F29,)&IF(C29=Base!$A$13,D29*F29,)&IF(C29=Base!$A$14,D29*F29,)&IF(C29=Base!$A$15,D29*F29,)&IF(C29=Base!$A$16,D29*F29,)&IF(C29=Base!$A$17,D29*F29,)&IF(C29=Base!$A$18,D29*F29,)&IF(C29=Base!$A$19,D29*F29,) | H29: =IF(F29>0,D29*F29,) -> 0 | I29: =IF(C29="Consigne",D29*F29,) -> 0
... D36: =IF(C36="Benne",Base!$B$1,)&IF(C36="Big Bag",Base!$B$2,)&IF(C36="Caisse",Base!$B$3,)&IF(C36="Consigne",Base!$B$4,)&IF(C36="Croute",Base!$B$5,)&IF(C36="DKD Chêne",Base!$B$6,)&IF(C36="DKD Pin",Base!$B$7,)&IF(C36="Fagot",Base!$B$8,)&IF(C36="KKK Chêne",Base!$B$9,)&IF(C36="KKK BHD",Base!$B$10,)&IF(C36="Petit Big Bag",Base!$B$11,)&IF(C36="Petite Caisse",Base!$B$12,)&IF(C36="Plot Bossé",Base!$B$13,)&IF(C36="Plot Chêne",Base!$B$14,)&IF(C36="Plot Moabi",Base!$B$15,)&IF(C36="Plot Pin",Base!$B$16,)&IF(C36="Prédébit Bossé",Base!$B$17,)&IF(C36="Prédébit Moabi",Base!$B$18,)&IF(C36="Remorque",Base!$B$19,) | G36: =IF(C36=Base!$A$1,D36*F36,)&IF(C36=Base!$A$2,D36*F36,)&IF(C36=Base!$A$3,D36*F36,)&IF(C36=Base!$A$4,D36*F36,)&IF(C36=Base!$A$5,D36*F36,)&IF(C36=Base!$A$6,D36*F36,)&IF(C36=Base!$A$7,D36*F36,)&IF(C36=Base!$A$8,D36*F36,)&IF(C36=Base!$A$9,D36*F36,)&IF(C36=Base!$A$10,D36*F36,)&IF(C36=Base!$A$11,D36*F36,)&IF(C36=Base!$A$12,D36*F36,)&IF(C36=Base!$A$13,D36*F36,)&IF(C36=Base!$A$14,D36*F36,)&IF(C36=Base!$A$15,D36*F36,)&IF(C36=Base!$A$16,D36*F36,)&IF(C36=Base!$A$17,D36*F36,)&IF(C36=Base!$A$18,D36*F36,)&IF(C36=Base!$A$19,D36*F36,) | H36: =IF(F36>0,D36*F36,) -> 0 | I36: =IF(C36="Consigne",D36*F36,) -> 0
F38: Consigne TTC | G38: =SUM(I15:I36) -> 0
F39: Bois TTC € | G39: =G40-G38 -> 0
F40: TOTAL TTC € | G40: =SUM(H15:H37) -> 0
A44: Règlement
A45: Chèque Banquaire | F45: Commentaires
A46: Espèce | F46: =IF(C15="Benne","Bois de chauffage",)&IF(C15="Big Bag","Bois de chauffage",)&IF(C15="Caisse","Bois de chauffage",)&IF(C15="Consigne","Attention Consigne",)&IF(C15="Croute","Débit de Tasseaux",)&IF(C15="DKD Chêne","Débit de Tasseaux",)&IF(C15="DKD Pin","Débit de Tasseaux",)&IF(C15="Fagot","Bois de chauffage",)&IF(C15="KKK Chêne","Débit de Tasseaux",)&IF(C15="KKK BHD","Débit de Tasseaux",)&IF(C15="Petit Big Bag","Bois de chauffage",)&IF(C15="Petite Caisse","Bois de chauffage",)&IF(C15="Plot Bossé","Débit de Tasseaux",)&IF(C15="Plot Chêne","Débit de Tasseaux",)&IF(C15="Plot Moabi","Débit de Tasseaux",)&IF(C15="Plot Pin","Débit de Tasseaux",)&IF(C15="Prédébit Bossé","Débit de Tasseaux",)&IF(C15="Prédébit Moabi","Débit de Tasseaux",)&IF(C15="Remorque","Bois de chauffage",)
F47: =IF(C16="Benne","Bois de chauffage",)&IF(C16="Big Bag","Bois de chauffage",)&IF(C16="Caisse","Bois de chauffage",)&IF(C16="Consigne","Attention Consigne",)&IF(C16="Croute","Débit de Tasseaux",)&IF(C16="DKD Chêne","Débit de Tasseaux",)&IF(C16="DKD Pin","Débit de Tasseaux",)&IF(C16="Fagot","Bois de chauffage",)&IF(C16="KKK Chêne","Débit de Tasseaux",)&IF(C16="KKK BHD","Débit de Tasseaux",)&IF(C16="Petit Big Bag","Bois de chauffage",)&IF(C16="Petite Caisse","Bois de chauffage",)&IF(C16="Plot Bossé","Débit de Tasseaux",)&IF(C16="Plot Chêne","Débit de Tasseaux",)&IF(C16="Plot Moabi","Débit de Tasseaux",)&IF(C16="Plot Pin","Débit de Tasseaux",)&IF(C16="Prédébit Bossé","Débit de Tasseaux",)&IF(C16="Prédébit Moabi","Débit de Tasseaux",)&IF(C16="Remorque","Bois de chauffage",)
A48: Consigne | C48: =IF(F46="Attention Consigne","Faire un chèque pour la consigne et régler le reste à part",)&IF(F47="Attention Consigne","Faire un chèque pour la consigne et régler le reste à part",)&IF(F48="Attention Consigne","Faire un chèque pour la consigne et régler le reste à part",)&IF(F49="Attention Consigne","Faire un chèque pour la consigne et régler le reste à part",)&IF(F50="Attention Consigne","Faire un chèque pour la consigne et régler le reste à part",)&IF(F51="Attention Consigne","Faire un chèque pour la consigne et régler le reste à part",)&IF(F52="Attention Consigne","Faire un chèque pour la consigne et régler le reste à part",) | F48: =IF(C17="Benne","Bois de chauffage",)&IF(C17="Big Bag","Bois de chauffage",)&IF(C17="Caisse","Bois de chauffage",)&IF(C17="Consigne","Attention Consigne",)&IF(C17="Croute","Débit de Tasseaux",)&IF(C17="DKD Chêne","Débit de Tasseaux",)&IF(C17="DKD Pin","Débit de Tasseaux",)&IF(C17="Fagot","Bois de chauffage",)&IF(C17="KKK Chêne","Débit de Tasseaux",)&IF(C17="KKK BHD","Débit de Tasseaux",)&IF(C17="Petit Big Bag","Bois de chauffage",)&IF(C17="Petite Caisse","Bois de chauffage",)&IF(C17="Plot Bossé","Débit de Tasseaux",)&IF(C17="Plot Chêne","Débit de Tasseaux",)&IF(C17="Plot Moabi","Débit de Tasseaux",)&IF(C17="Plot Pin","Débit de Tasseaux",)&IF(C17="Prédébit Bossé","Débit de Tasseaux",)&IF(C17="Prédébit Moabi","Débit de Tasseaux",)&IF(C17="Remorque","Bois de chauffage",)
A49: Chèque Banquaire | F49: =IF(C18="Benne","Bois de chauffage",)&IF(C18="Big Bag","Bois de chauffage",)&IF(C18="Caisse","Bois de chauffage",)&IF(C18="Consigne","Attention Consigne",)&IF(C18="Croute","Débit de Tasseaux",)&IF(C18="DKD Chêne","Débit de Tasseaux",)&IF(C18="DKD Pin","Débit de Tasseaux",)&IF(C18="Fagot","Bois de chauffage",)&IF(C18="KKK Chêne","Débit de Tasseaux",)&IF(C18="KKK BHD","Débit de Tasseaux",)&IF(C18="Petit Big Bag","Bois de chauffage",)&IF(C18="Petite Caisse","Bois de chauffage",)&IF(C18="Plot Bossé","Débit de Tasseaux",)&IF(C18="Plot Chêne","Débit de Tasseaux",)&IF(C18="Plot Moabi","Débit de Tasseaux",)&IF(C18="Plot Pin","Débit de Tasseaux",)&IF(C18="Prédébit Bossé","Débit de Tasseaux",)&IF(C18="Prédébit Moabi","Débit de Tasseaux",)&IF(C18="Remorque","Bois de chauffage",)
A50: Espèce | F50: =IF(C19="Benne","Bois de chauffage",)&IF(C19="Big Bag","Bois de chauffage",)&IF(C19="Caisse","Bois de chauffage",)&IF(C19="Consigne","Attention Consigne",)&IF(C19="Croute","Débit de Tasseaux",)&IF(C19="DKD Chêne","Débit de Tasseaux",)&IF(C19="DKD Pin","Débit de Tasseaux",)&IF(C19="Fagot","Bois de chauffage",)&IF(C19="KKK Chêne","Débit de Tasseaux",)&IF(C19="KKK BHD","Débit de Tasseaux",)&IF(C19="Petit Big Bag","Bois de chauffage",)&IF(C19="Petite Caisse","Bois de chauffage",)&IF(C19="Plot Bossé","Débit de Tasseaux",)&IF(C19="Plot Chêne","Débit de Tasseaux",)&IF(C19="Plot Moabi","Débit de Tasseaux",)&IF(C19="Plot Pin","Débit de Tasseaux",)&IF(C19="Prédébit Bossé","Débit de Tasseaux",)&IF(C19="Prédébit Moabi","Débit de Tasseaux",)&IF(C19="Remorque","Bois de chauffage",)
F51: =IF(C20="Benne","Bois de chauffage",)&IF(C20="Big Bag","Bois de chauffage",)&IF(C20="Caisse","Bois de chauffage",)&IF(C20="Consigne","Attention Consigne",)&IF(C20="Croute","Débit de Tasseaux",)&IF(C20="DKD Chêne","Débit de Tasseaux",)&IF(C20="DKD Pin","Débit de Tasseaux",)&IF(C20="Fagot","Bois de chauffage",)&IF(C20="KKK Chêne","Débit de Tasseaux",)&IF(C20="KKK BHD","Débit de Tasseaux",)&IF(C20="Petit Big Bag","Bois de chauffage",)&IF(C20="Petite Caisse","Bois de chauffage",)&IF(C20="Plot Bossé","Débit de Tasseaux",)&IF(C20="Plot Chêne","Débit de Tasseaux",)&IF(C20="Plot Moabi","Débit de Tasseaux",)&IF(C20="Plot Pin","Débit de Tasseaux",)&IF(C20="Prédébit Bossé","Débit de Tasseaux",)&IF(C20="Prédébit Moabi","Débit de Tasseaux",)&IF(C20="Remorque","Bois de chauffage",)
F52: =IF(C21="Benne","Bois de chauffage",)&IF(C21="Big Bag","Bois de chauffage",)&IF(C21="Caisse","Bois de chauffage",)&IF(C21="Consigne","Attention Consigne",)&IF(C21="Croute","Débit de Tasseaux",)&IF(C21="DKD Chêne","Débit de Tasseaux",)&IF(C21="DKD Pin","Débit de Tasseaux",)&IF(C21="Fagot","Bois de chauffage",)&IF(C21="KKK Chêne","Débit de Tasseaux",)&IF(C21="KKK BHD","Débit de Tasseaux",)&IF(C21="Petit Big Bag","Bois de chauffage",)&IF(C21="Petite Caisse","Bois de chauffage",)&IF(C21="Plot Bossé","Débit de Tasseaux",)&IF(C21="Plot Chêne","Débit de Tasseaux",)&IF(C21="Plot Moabi","Débit de Tasseaux",)&IF(C21="Plot Pin","Débit de Tasseaux",)&IF(C21="Prédébit Bossé","Débit de Tasseaux",)&IF(C21="Prédébit Moabi","Débit de Tasseaux",)&IF(C21="Remorque","Bois de chauffage",)
A53: Modalités :
A54: Règlement comptant à réception de la facture, | F54: Signature responsable
A55: le chèque de caution sera rendu dès le retour
A56: en bon état du Big Bag

Sheet Base
A1: Benne | B1: 5
A2: Big Bag | B2: 8
A3: Caisse | B3: 4
A4: Consigne | B4: 10
A5: Croute | B5: 350
A6: DKD Chêne | B6: 2200
A7: DKD Pin | B7: 1800
A8: Fagot | B8: 13
A9: KKK Chêne | B9: 1300
A10: KKK BHD | B10: 1100
A11: Petit Big Bag | B11: 5
A12: Petite Caisse | B12: 2.5
... A19: Remorque | B19: 25

Sheet Sommaire
