Workbook

Sheet Feuil1
H1: Taux
F2: Prix d'achat | G2: 20000
F3: Apport | G3: 3000
F4: Cash | G4: =G2-G3 -> 17000 | H4: 0
F5: Linéaire | H5: 0.04
F6: Progressif | H6: 0.05
F7: Degressif | H7: 0.03

Sheet Feuil2
A1: N | B1: =Feuil1!$C$7/36 -> 0 | C1: =Feuil1!$C$7/36 -> 0 | D1: =Feuil1!$C$7/36 -> 0 | E1: =Feuil1!$C$7/36 -> 0 | F1: =Feuil1!$C$7/36 -> 0 | G1: =Feuil1!$C$7/36 -> 0 | H1: =Feuil1!$C$7/36 -> 0 | I1: =Feuil1!$C$7/36 -> 0 | ... M1: =Feuil1!$C$7/36 -> 0
A2: N+1 | B2: =Feuil1!$C$7/36 -> 0 | C2: =Feuil1!$C$7/36 -> 0 | D2: =Feuil1!$C$7/36 -> 0 | E2: =Feuil1!$C$7/36 -> 0 | F2: =Feuil1!$C$7/36 -> 0 | G2: =Feuil1!$C$7/36 -> 0 | H2: =Feuil1!$C$7/36 -> 0 | I2: =Feuil1!$C$7/36 -> 0 | ... M2: =Feuil1!$C$7/36 -> 0
A3: N+2 | B3: =Feuil1!$C$7/36 -> 0 | C3: =Feuil1!$C$7/36 -> 0 | D3: =Feuil1!$C$7/36 -> 0 | E3: =Feuil1!$C$7/36 -> 0 | F3: =Feuil1!$C$7/36 -> 0 | G3: =Feuil1!$C$7/36 -> 0 | H3: =Feuil1!$C$7/36 -> 0 | I3: =Feuil1!$C$7/36 -> 0 | ... M3: =Feuil1!$C$7/36 -> 0
A5: N | B5: =Feuil1!$C$7/36 -> 0 | C5: =Feuil1!$C$7/36 -> 0 | D5: =Feuil1!$C$7/36 -> 0 | E5: =Feuil1!$C$7/36 -> 0 | F5: =Feuil1!$C$7/36 -> 0 | G5: =Feuil1!$C$7/36 -> 0 | H5: =Feuil1!$C$7/36 -> 0 | I5: =Feuil1!$C$7/36 -> 0 | ... M5: =Feuil1!$C$7/36 -> 0
A6: N+1 | B6: =$B$5*(1+Feuil1!$D$11) -> 0 | C6: =C5*(1+Feuil1!$D$11) -> 0 | D6: =D5*(1+Feuil1!$D$11) -> 0 | E6: =E5*(1+Feuil1!$D$11) -> 0 | F6: =F5*(1+Feuil1!$D$11) -> 0 | G6: =G5*(1+Feuil1!$D$11) -> 0 | H6: =H5*(1+Feuil1!$D$11) -> 0 | I6: =I5*(1+Feuil1!$D$11) -> 0 | J6: =J5*(1+Feuil1!$D$11) -> 0 | ... M6: =M5*(1+Feuil1!$D$11) -> 0
A7: N+2 | B7: =$B$5*(1-Feuil1!$D$11) -> 0 | C7: =C5*(1-Feuil1!$D$11) -> 0 | D7: =D5*(1-Feuil1!$D$11) -> 0 | E7: =E5*(1-Feuil1!$D$11) -> 0 | F7: =F5*(1-Feuil1!$D$11) -> 0 | G7: =G5*(1-Feuil1!$D$11) -> 0 | H7: =H5*(1-Feuil1!$D$11) -> 0 | I7: =I5*(1-Feuil1!$D$11) -> 0 | J7: =J5*(1-Feuil1!$D$11) -> 0 | ... M7: =M5*(1-Feuil1!$D$11) -> 0
A9: N | B9: =Feuil1!$C$7/36 -> 0 | C9: =Feuil1!$C$7/36 -> 0 | D9: =Feuil1!$C$7/36 -> 0 | E9: =Feuil1!$C$7/36 -> 0 | F9: =Feuil1!$C$7/36 -> 0 | G9: =Feuil1!$C$7/36 -> 0 | H9: =Feuil1!$C$7/36 -> 0 | I9: =Feuil1!$C$7/36 -> 0 | ... M9: =Feuil1!$C$7/36 -> 0
A10: N+1 | B10: =$B$9*(1-Feuil1!$D$15) -> 0 | C10: =C9*(1-Feuil1!$D$15) -> 0 | D10: =D9*(1-Feuil1!$D$15) -> 0 | E10: =E9*(1-Feuil1!$D$15) -> 0 | F10: =F9*(1-Feuil1!$D$15) -> 0 | G10: =G9*(1-Feuil1!$D$15) -> 0 | H10: =H9*(1-Feuil1!$D$15) -> 0 | I10: =I9*(1-Feuil1!$D$15) -> 0 | J10: =J9*(1-Feuil1!$D$15) -> 0 | ... M10: =M9*(1-Feuil1!$D$15) -> 0
A11: N+2 | B11: =$B$9*(1+Feuil1!$D$15) -> 0 | C11: =$B$9*(1+Feuil1!$D$15) -> 0 | D11: =$B$9*(1+Feuil1!$D$15) -> 0 | E11: =$B$9*(1+Feuil1!$D$15) -> 0 | F11: =$B$9*(1+Feuil1!$D$15) -> 0 | G11: =$B$9*(1+Feuil1!$D$15) -> 0 | H11: =$B$9*(1+Feuil1!$D$15) -> 0 | I11: =$B$9*(1+Feuil1!$D$15) -> 0 | ... M11: =$B$9*(1+Feuil1!$D$15) -> 0

Sheet Feuil3
