Workbook
Name _Zone_d_impression: 'Jeudi 4'!$A$1:$Z$115
Name _Zone_d_impression: 'Vendredi 5'!$A$1:$Z$115

Sheet médiateurs
A1: RÉPARTITION DES ACTIVITÉS PAR GROUPE ET PAR MÉDIATEUR - RENTRÉE EN IMAGES 2014
A2: PRÉNOM | B2: JEUDI 5 | C2: VENDREDI 6 | D2: WEEK-END | E2: LUNDI 9 | F2: MARDI 10 | G2: MERCREDI 11 | H2: JEUDI 12 | I2: VENDREDI 13 | J2: WEEK-END | K2: LUNDI 16 | L2: MARDI 17 | M2: MERCREDI 18 | N2: JEUDI 19 | O2: VENDREDI 20 | Q2: Médiation Ateliers 1 | R2: Médiation Ateliers 2 | S2: Médiation Ateliers 3 | T2: Médiation Ateliers 4 | U2: Médiation Ateliers 5 | V2: Médiation Ateliers 6 | W2: Médiation Ateliers 7 | X2: Médiation Ateliers 8 | Y2: Médiation Ateliers 9 | Z2: Médiation Ateliers | AA2: Accueil SNCF | AB2: Accueil SNCF 2 | AC2: Accueil SNCF | AD2: Projection ENSP | AE2: Projection MDVA | AF2: Projection ENSP 2 | AG2: Projection MDVA 2 | AH2: Accueil Maison des Rencontres | AI2: Pause Photo Prose | AJ2: Pause Photo Prose 2 | AK2: Pause Photo Prose 3 | AL2: Pause Photo Prose 4 | AM2: Pause Photo Prose | AN2: Rencontre avec un professionnel de l'image | AO2: Projection | AP2: Photo-expression | AQ2: Photo-expression 2 | AR2: Photo-expression | AS2: Absence | AT2: TOTAL
A3: GROUPE A A A + B
P4: =A4 -> 0 | Q4: =COUNTIF(médiateurs!$B4:$O4,Q$2) -> 0 | R4: =COUNTIF(médiateurs!$B4:$O4,R$2) -> 0 | S4: =COUNTIF(médiateurs!$B4:$O4,S$2) -> 0 | T4: =COUNTIF(médiateurs!$B4:$O4,T$2) -> 0 | U4: =COUNTIF(médiateurs!$B4:$O4,U$2) -> 0 | V4: =COUNTIF(médiateurs!$B4:$O4,V$2) -> 0 | W4: =COUNTIF(médiateurs!$B4:$O4,W$2) -> 0 | X4: =COUNTIF(médiateurs!$B4:$O4,X$2) -> 0 | Y4: =COUNTIF(médiateurs!$B4:$O4,Y$2) -> 0 | Z4: =SUM(Q4:Y4) -> 0 | AA4: =COUNTIF(médiateurs!$B4:$O4,AA$2) -> 0 | AB4: =COUNTIF(médiateurs!$B4:$O4,AB$2) -> 0 | AC4: =SUM(AA4:AB4) -> 0 | AD4: =COUNTIF(médiateurs!$B4:$O4,AD$2) -> 0 | AE4: =COUNTIF(médiateurs!$B4:$O4,AE$2) -> 0 | AF4: =COUNTIF(médiateurs!$B4:$O4,AF$2) -> 0 | AG4: =COUNTIF(médiateurs!$B4:$O4,AG$2) -> 0 | AH4: =SUM(AD4:AG4) -> 0 | AI4: =COUNTIF(médiateurs!$B4:$O4,AI$2) -> 0 | AJ4: =COUNTIF(médiateurs!$B4:$O4,AJ$2) -> 0 | AK4: =COUNTIF(médiateurs!$B4:$O4,AK$2) -> 0 | AL4: =COUNTIF(médiateurs!$B4:$O4,AL$2) -> 0 | AM4: =SUM(AI4:AL4) -> 0 | AN4: =COUNTIF(médiateurs!$B4:$O4,AN$2) -> 0 | AO4: =COUNTIF(médiateurs!$B4:$O4,AO$2) -> 0 | AP4: =COUNTIF(médiateurs!$B4:$O4,AP$2) -> 0 | AQ4: =COUNTIF(médiateurs!$B4:$O4,AQ$2) -> 0 | AR4: =SUM(AP4:AQ4) -> 0 | AS4: =COUNTIF(médiateurs!$B4:$O4,AS$2) -> 0 | AT4: =Z4+AC4+AH4+AM4+AN4+AO4+AR4+AS4 -> 0
P5: =A5 -> 0 | Q5: =COUNTIF(médiateurs!$B5:$O5,Q$2) -> 0 | R5: =COUNTIF(médiateurs!$B5:$O5,R$2) -> 0 | S5: =COUNTIF(médiateurs!$B5:$O5,S$2) -> 0 | T5: =COUNTIF(médiateurs!$B5:$O5,T$2) -> 0 | U5: =COUNTIF(médiateurs!$B5:$O5,U$2) -> 0 | V5: =COUNTIF(médiateurs!$B5:$O5,V$2) -> 0 | W5: =COUNTIF(médiateurs!$B5:$O5,W$2) -> 0 | X5: =COUNTIF(médiateurs!$B5:$O5,X$2) -> 0 | Y5: =COUNTIF(médiateurs!$B5:$O5,Y$2) -> 0 | Z5: =SUM(Q5:Y5) -> 0 | AA5: =COUNTIF(médiateurs!$B5:$O5,AA$2) -> 0 | AB5: =COUNTIF(médiateurs!$B5:$O5,AB$2) -> 0 | AC5: =SUM(T5:AB5) -> 0 | AD5: =COUNTIF(médiateurs!$B5:$O5,AD$2) -> 0 | AE5: =COUNTIF(médiateurs!$B5:$O5,AE$2) -> 0 | AF5: =COUNTIF(médiateurs!$B5:$O5,AF$2) -> 0 | AG5: =COUNTIF(médiateurs!$B5:$O5,AG$2) -> 0 | AH5: =SUM(AD5:AG5) -> 0 | AI5: =COUNTIF(médiateurs!$B5:$O5,AI$2) -> 0 | AJ5: =COUNTIF(médiateurs!$B5:$O5,AJ$2) -> 0 | AK5: =COUNTIF(médiateurs!$B5:$O5,AK$2) -> 0 | AL5: =COUNTIF(médiateurs!$B5:$O5,AL$2) -> 0 | AM5: =SUM(AI5:AL5) -> 0 | AN5: =COUNTIF(médiateurs!$B5:$O5,AN$2) -> 0 | AO5: =COUNTIF(médiateurs!$B5:$O5,AO$2) -> 0 | AP5: =COUNTIF(médiateurs!$B5:$O5,AP$2) -> 0 | AQ5: =COUNTIF(médiateurs!$B5:$O5,AQ$2) -> 0 | AR5: =SUM(AP5:AQ5) -> 0 | AS5: =COUNTIF(médiateurs!$B5:$O5,AS$2) -> 0 | AT5: =Z5+AC5+AH5+AM5+AN5+AO5+AR5+AS5 -> 0
P6: =A6 -> 0 | Q6: =COUNTIF(médiateurs!$B6:$O6,Q$2) -> 0 | R6: =COUNTIF(médiateurs!$B6:$O6,R$2) -> 0 | S6: =COUNTIF(médiateurs!$B6:$O6,S$2) -> 0 | T6: =COUNTIF(médiateurs!$B6:$O6,T$2) -> 0 | U6: =COUNTIF(médiateurs!$B6:$O6,U$2) -> 0 | V6: =COUNTIF(médiateurs!$B6:$O6,V$2) -> 0 | W6: =COUNTIF(médiateurs!$B6:$O6,W$2) -> 0 | X6: =COUNTIF(médiateurs!$B6:$O6,X$2) -> 0 | Y6: =COUNTIF(médiateurs!$B6:$O6,Y$2) -> 0 | Z6: =SUM(Q6:Y6) -> 0 | AA6: =COUNTIF(médiateurs!$B6:$O6,AA$2) -> 0 | AB6: =COUNTIF(médiateurs!$B6:$O6,AB$2) -> 0 | AC6: =SUM(T6:AB6) -> 0 | AD6: =COUNTIF(médiateurs!$B6:$O6,AD$2) -> 0 | AE6: =COUNTIF(médiateurs!$B6:$O6,AE$2) -> 0 | AF6: =COUNTIF(médiateurs!$B6:$O6,AF$2) -> 0 | AG6: =COUNTIF(médiateurs!$B6:$O6,AG$2) -> 0 | AH6: =SUM(AD6:AG6) -> 0 | AI6: =COUNTIF(médiateurs!$B6:$O6,AI$2) -> 0 | AJ6: =COUNTIF(médiateurs!$B6:$O6,AJ$2) -> 0 | AK6: =COUNTIF(médiateurs!$B6:$O6,AK$2) -> 0 | AL6: =COUNTIF(médiateurs!$B6:$O6,AL$2) -> 0 | AM6: =SUM(AI6:AL6) -> 0 | AN6: =COUNTIF(médiateurs!$B6:$O6,AN$2) -> 0 | AO6: =COUNTIF(médiateurs!$B6:$O6,AO$2) -> 0 | AP6: =COUNTIF(médiateurs!$B6:$O6,AP$2) -> 0 | AQ6: =COUNTIF(médiateurs!$B6:$O6,AQ$2) -> 0 | AR6: =SUM(AP6:AQ6) -> 0 | AS6: =COUNTIF(médiateurs!$B6:$O6,AS$2) -> 0 | AT6: =Z6+AC6+AH6+AM6+AN6+AO6+AR6+AS6 -> 0
P7: =A7 -> 0 | Q7: =COUNTIF(médiateurs!$B7:$O7,Q$2) -> 0 | R7: =COUNTIF(médiateurs!$B7:$O7,R$2) -> 0 | S7: =COUNTIF(médiateurs!$B7:$O7,S$2) -> 0 | T7: =COUNTIF(médiateurs!$B7:$O7,T$2) -> 0 | U7: =COUNTIF(médiateurs!$B7:$O7,U$2) -> 0 | V7: =COUNTIF(médiateurs!$B7:$O7,V$2) -> 0 | W7: =COUNTIF(médiateurs!$B7:$O7,W$2) -> 0 | X7: =COUNTIF(médiateurs!$B7:$O7,X$2) -> 0 | Y7: =COUNTIF(médiateurs!$B7:$O7,Y$2) -> 0 | Z7: =SUM(Q7:Y7) -> 0 | AA7: =COUNTIF(médiateurs!$B7:$O7,AA$2) -> 0 | AB7: =COUNTIF(médiateurs!$B7:$O7,AB$2) -> 0 | AC7: =SUM(T7:AB7) -> 0 | AD7: =COUNTIF(médiateurs!$B7:$O7,AD$2) -> 0 | AE7: =COUNTIF(médiateurs!$B7:$O7,AE$2) -> 0 | AF7: =COUNTIF(médiateurs!$B7:$O7,AF$2) -> 0 | AG7: =COUNTIF(médiateurs!$B7:$O7,AG$2) -> 0 | AH7: =SUM(AD7:AG7) -> 0 | AI7: =COUNTIF(médiateurs!$B7:$O7,AI$2) -> 0 | AJ7: =COUNTIF(médiateurs!$B7:$O7,AJ$2) -> 0 | AK7: =COUNTIF(médiateurs!$B7:$O7,AK$2) -> 0 | AL7: =COUNTIF(médiateurs!$B7:$O7,AL$2) -> 0 | AM7: =SUM(AI7:AL7) -> 0 | AN7: =COUNTIF(médiateurs!$B7:$O7,AN$2) -> 0 | AO7: =COUNTIF(médiateurs!$B7:$O7,AO$2) -> 0 | AP7: =COUNTIF(médiateurs!$B7:$O7,AP$2) -> 0 | AQ7: =COUNTIF(médiateurs!$B7:$O7,AQ$2) -> 0 | AR7: =SUM(AP7:AQ7) -> 0 | AS7: =COUNTIF(médiateurs!$B7:$O7,AS$2) -> 0 | AT7: =Z7+AC7+AH7+AM7+AN7+AO7+AR7+AS7 -> 0
P8: =A8 -> 0 | Q8: =COUNTIF(médiateurs!$B8:$O8,Q$2) -> 0 | R8: =COUNTIF(médiateurs!$B8:$O8,R$2) -> 0 | S8: =COUNTIF(médiateurs!$B8:$O8,S$2) -> 0 | T8: =COUNTIF(médiateurs!$B8:$O8,T$2) -> 0 | U8: =COUNTIF(médiateurs!$B8:$O8,U$2) -> 0 | V8: =COUNTIF(médiateurs!$B8:$O8,V$2) -> 0 | W8: =COUNTIF(médiateurs!$B8:$O8,W$2) -> 0 | X8: =COUNTIF(médiateurs!$B8:$O8,X$2) -> 0 | Y8: =COUNTIF(médiateurs!$B8:$O8,Y$2) -> 0 | Z8: =SUM(Q8:Y8) -> 0 | AA8: =COUNTIF(médiateurs!$B8:$O8,AA$2) -> 0 | AB8: =COUNTIF(médiateurs!$B8:$O8,AB$2) -> 0 | AC8: =SUM(T8:AB8) -> 0 | AD8: =COUNTIF(médiateurs!$B8:$O8,AD$2) -> 0 | AE8: =COUNTIF(médiateurs!$B8:$O8,AE$2) -> 0 | AF8: =COUNTIF(médiateurs!$B8:$O8,AF$2) -> 0 | AG8: =COUNTIF(médiateurs!$B8:$O8,AG$2) -> 0 | AH8: =SUM(AD8:AG8) -> 0 | AI8: =COUNTIF(médiateurs!$B8:$O8,AI$2) -> 0 | AJ8: =COUNTIF(médiateurs!$B8:$O8,AJ$2) -> 0 | AK8: =COUNTIF(médiateurs!$B8:$O8,AK$2) -> 0 | AL8: =COUNTIF(médiateurs!$B8:$O8,AL$2) -> 0 | AM8: =SUM(AI8:AL8) -> 0 | AN8: =COUNTIF(médiateurs!$B8:$O8,AN$2) -> 0 | AO8: =COUNTIF(médiateurs!$B8:$O8,AO$2) -> 0 | AP8: =COUNTIF(médiateurs!$B8:$O8,AP$2) -> 0 | AQ8: =COUNTIF(médiateurs!$B8:$O8,AQ$2) -> 0 | AR8: =SUM(AP8:AQ8) -> 0 | AS8: =COUNTIF(médiateurs!$B8:$O8,AS$2) -> 0 | AT8: =Z8+AC8+AH8+AM8+AN8+AO8+AR8+AS8 -> 0
P9: =A9 -> 0 | Q9: =COUNTIF(médiateurs!$B9:$O9,Q$2) -> 0 | R9: =COUNTIF(médiateurs!$B9:$O9,R$2) -> 0 | S9: =COUNTIF(médiateurs!$B9:$O9,S$2) -> 0 | T9: =COUNTIF(médiateurs!$B9:$O9,T$2) -> 0 | U9: =COUNTIF(médiateurs!$B9:$O9,U$2) -> 0 | V9: =COUNTIF(médiateurs!$B9:$O9,V$2) -> 0 | W9: =COUNTIF(médiateurs!$B9:$O9,W$2) -> 0 | X9: =COUNTIF(médiateurs!$B9:$O9,X$2) -> 0 | Y9: =COUNTIF(médiateurs!$B9:$O9,Y$2) -> 0 | Z9: =SUM(Q9:Y9) -> 0 | AA9: =COUNTIF(médiateurs!$B9:$O9,AA$2) -> 0 | AB9: =COUNTIF(médiateurs!$B9:$O9,AB$2) -> 0 | AC9: =SUM(T9:AB9) -> 0 | AD9: =COUNTIF(médiateurs!$B9:$O9,AD$2) -> 0 | AE9: =COUNTIF(médiateurs!$B9:$O9,AE$2) -> 0 | AF9: =COUNTIF(médiateurs!$B9:$O9,AF$2) -> 0 | AG9: =COUNTIF(médiateurs!$B9:$O9,AG$2) -> 0 | AH9: =SUM(AD9:AG9) -> 0 | AI9: =COUNTIF(médiateurs!$B9:$O9,AI$2) -> 0 | AJ9: =COUNTIF(médiateurs!$B9:$O9,AJ$2) -> 0 | AK9: =COUNTIF(médiateurs!$B9:$O9,AK$2) -> 0 | AL9: =COUNTIF(médiateurs!$B9:$O9,AL$2) -> 0 | AM9: =SUM(AI9:AL9) -> 0 | AN9: =COUNTIF(médiateurs!$B9:$O9,AN$2) -> 0 | AO9: =COUNTIF(médiateurs!$B9:$O9,AO$2) -> 0 | AP9: =COUNTIF(médiateurs!$B9:$O9,AP$2) -> 0 | AQ9: =COUNTIF(médiateurs!$B9:$O9,AQ$2) -> 0 | AR9: =SUM(AP9:AQ9) -> 0 | AS9: =COUNTIF(médiateurs!$B9:$O9,AS$2) -> 0 | AT9: =Z9+AC9+AH9+AM9+AN9+AO9+AR9+AS9 -> 0
P10: =A10 -> 0 | Q10: =COUNTIF(médiateurs!$B10:$O10,Q$2) -> 0 | R10: =COUNTIF(médiateurs!$B10:$O10,R$2) -> 0 | S10: =COUNTIF(médiateurs!$B10:$O10,S$2) -> 0 | T10: =COUNTIF(médiateurs!$B10:$O10,T$2) -> 0 | U10: =COUNTIF(médiateurs!$B10:$O10,U$2) -> 0 | V10: =COUNTIF(médiateurs!$B10:$O10,V$2) -> 0 | W10: =COUNTIF(médiateurs!$B10:$O10,W$2) -> 0 | X10: =COUNTIF(médiateurs!$B10:$O10,X$2) -> 0 | Y10: =COUNTIF(médiateurs!$B10:$O10,Y$2) -> 0 | Z10: =SUM(Q10:Y10) -> 0 | AA10: =COUNTIF(médiateurs!$B10:$O10,AA$2) -> 0 | AB10: =COUNTIF(médiateurs!$B10:$O10,AB$2) -> 0 | AC10: =SUM(T10:AB10) -> 0 | AD10: =COUNTIF(médiateurs!$B10:$O10,AD$2) -> 0 | AE10: =COUNTIF(médiateurs!$B10:$O10,AE$2) -> 0 | AF10: =COUNTIF(médiateurs!$B10:$O10,AF$2) -> 0 | AG10: =COUNTIF(médiateurs!$B10:$O10,AG$2) -> 0 | AH10: =SUM(AD10:AG10) -> 0 | AI10: =COUNTIF(médiateurs!$B10:$O10,AI$2) -> 0 | AJ10: =COUNTIF(médiateurs!$B10:$O10,AJ$2) -> 0 | AK10: =COUNTIF(médiateurs!$B10:$O10,AK$2) -> 0 | AL10: =COUNTIF(médiateurs!$B10:$O10,AL$2) -> 0 | AM10: =SUM(AI10:AL10) -> 0 | AN10: =COUNTIF(médiateurs!$B10:$O10,AN$2) -> 0 | AO10: =COUNTIF(médiateurs!$B10:$O10,AO$2) -> 0 | AP10: =COUNTIF(médiateurs!$B10:$O10,AP$2) -> 0 | AQ10: =COUNTIF(médiateurs!$B10:$O10,AQ$2) -> 0 | AR10: =SUM(AP10:AQ10) -> 0 | AS10: =COUNTIF(médiateurs!$B10:$O10,AS$2) -> 0 | AT10: =Z10+AC10+AH10+AM10+AN10+AO10+AR10+AS10 -> 0
P11: =A11 -> 0 | Q11: =COUNTIF(médiateurs!$B11:$O11,Q$2) -> 0 | R11: =COUNTIF(médiateurs!$B11:$O11,R$2) -> 0 | S11: =COUNTIF(médiateurs!$B11:$O11,S$2) -> 0 | T11: =COUNTIF(médiateurs!$B11:$O11,T$2) -> 0 | U11: =COUNTIF(médiateurs!$B11:$O11,U$2) -> 0 | V11: =COUNTIF(médiateurs!$B11:$O11,V$2) -> 0 | W11: =COUNTIF(médiateurs!$B11:$O11,W$2) -> 0 | X11: =COUNTIF(médiateurs!$B11:$O11,X$2) -> 0 | Y11: =COUNTIF(médiateurs!$B11:$O11,Y$2) -> 0 | Z11: =SUM(Q11:Y11) -> 0 | AA11: =COUNTIF(médiateurs!$B11:$O11,AA$2) -> 0 | AB11: =COUNTIF(médiateurs!$B11:$O11,AB$2) -> 0 | AC11: =SUM(T11:AB11) -> 0 | AD11: =COUNTIF(médiateurs!$B11:$O11,AD$2) -> 0 | AE11: =COUNTIF(médiateurs!$B11:$O11,AE$2) -> 0 | AF11: =COUNTIF(médiateurs!$B11:$O11,AF$2) -> 0 | AG11: =COUNTIF(médiateurs!$B11:$O11,AG$2) -> 0 | AH11: =SUM(AD11:AG11) -> 0 | AI11: =COUNTIF(médiateurs!$B11:$O11,AI$2) -> 0 | AJ11: =COUNTIF(médiateurs!$B11:$O11,AJ$2) -> 0 | AK11: =COUNTIF(médiateurs!$B11:$O11,AK$2) -> 0 | AL11: =COUNTIF(médiateurs!$B11:$O11,AL$2) -> 0 | AM11: =SUM(AI11:AL11) -> 0 | AN11: =COUNTIF(médiateurs!$B11:$O11,AN$2) -> 0 | AO11: =COUNTIF(médiateurs!$B11:$O11,AO$2) -> 0 | AP11: =COUNTIF(médiateurs!$B11:$O11,AP$2) -> 0 | AQ11: =COUNTIF(médiateurs!$B11:$O11,AQ$2) -> 0 | AR11: =SUM(AP11:AQ11) -> 0 | AS11: =COUNTIF(médiateurs!$B11:$O11,AS$2) -> 0 | AT11: =Z11+AC11+AH11+AM11+AN11+AO11+AR11+AS11 -> 0
A12: GROUPE B B B + C
P13: =A13 -> 0 | Q13: =COUNTIF(médiateurs!$B13:$O13,Q$2) -> 0 | R13: =COUNTIF(médiateurs!$B13:$O13,R$2) -> 0 | S13: =COUNTIF(médiateurs!$B13:$O13,S$2) -> 0 | T13: =COUNTIF(médiateurs!$B13:$O13,T$2) -> 0 | U13: =COUNTIF(médiateurs!$B13:$O13,U$2) -> 0 | V13: =COUNTIF(médiateurs!$B13:$O13,V$2) -> 0 | W13: =COUNTIF(médiateurs!$B13:$O13,W$2) -> 0 | X13: =COUNTIF(médiateurs!$B13:$O13,X$2) -> 0 | Y13: =COUNTIF(médiateurs!$B13:$O13,Y$2) -> 0 | Z13: =SUM(Q13:Y13) -> 0 | AA13: =COUNTIF(médiateurs!$B13:$O13,AA$2) -> 0 | AB13: =COUNTIF(médiateurs!$B13:$O13,AB$2) -> 0 | AC13: =SUM(AA13:AB13) -> 0 | AD13: =COUNTIF(médiateurs!$B13:$O13,AD$2) -> 0 | AE13: =COUNTIF(médiateurs!$B13:$O13,AE$2) -> 0 | AF13: =COUNTIF(médiateurs!$B13:$O13,AF$2) -> 0 | AG13: =COUNTIF(médiateurs!$B13:$O13,AG$2) -> 0 | AH13: =SUM(AD13:AG13) -> 0 | AI13: =COUNTIF(médiateurs!$B13:$O13,AI$2) -> 0 | AJ13: =COUNTIF(médiateurs!$B13:$O13,AJ$2) -> 0 | AK13: =COUNTIF(médiateurs!$B13:$O13,AK$2) -> 0 | AL13: =COUNTIF(médiateurs!$B13:$O13,AL$2) -> 0 | AM13: =SUM(AI13:AL13) -> 0 | AN13: =COUNTIF(médiateurs!$B13:$O13,AN$2) -> 0 | AO13: =COUNTIF(médiateurs!$B13:$O13,AO$2) -> 0 | AP13: =COUNTIF(médiateurs!$B13:$O13,AP$2) -> 0 | AQ13: =COUNTIF(médiateurs!$B13:$O13,AQ$2) -> 0 | AR13: =SUM(AP13:AQ13) -> 0 | AS13: =COUNTIF(médiateurs!$B13:$O13,AS$2) -> 0 | AT13: =Z13+AC13+AH13+AM13+AN13+AO13+AR13+AS13 -> 0
P14: =A14 -> 0 | Q14: =COUNTIF(médiateurs!$B14:$O14,Q$2) -> 0 | R14: =COUNTIF(médiateurs!$B14:$O14,R$2) -> 0 | S14: =COUNTIF(médiateurs!$B14:$O14,S$2) -> 0 | T14: =COUNTIF(médiateurs!$B14:$O14,T$2) -> 0 | U14: =COUNTIF(médiateurs!$B14:$O14,U$2) -> 0 | V14: =COUNTIF(médiateurs!$B14:$O14,V$2) -> 0 | W14: =COUNTIF(médiateurs!$B14:$O14,W$2) -> 0 | X14: =COUNTIF(médiateurs!$B14:$O14,X$2) -> 0 | Y14: =COUNTIF(médiateurs!$B14:$O14,Y$2) -> 0 | Z14: =SUM(Q14:Y14) -> 0 | AA14: =COUNTIF(médiateurs!$B14:$O14,AA$2) -> 0 | AB14: =COUNTIF(médiateurs!$B14:$O14,AB$2) -> 0 | AC14: =SUM(AA14:AB14) -> 0 | AD14: =COUNTIF(médiateurs!$B14:$O14,AD$2) -> 0 | AE14: =COUNTIF(médiateurs!$B14:$O14,AE$2) -> 0 | AF14: =COUNTIF(médiateurs!$B14:$O14,AF$2) -> 0 | AG14: =COUNTIF(médiateurs!$B14:$O14,AG$2) -> 0 | AH14: =SUM(AD14:AG14) -> 0 | AI14: =COUNTIF(médiateurs!$B14:$O14,AI$2) -> 0 | AJ14: =COUNTIF(médiateurs!$B14:$O14,AJ$2) -> 0 | AK14: =COUNTIF(médiateurs!$B14:$O14,AK$2) -> 0 | AL14: =COUNTIF(médiateurs!$B14:$O14,AL$2) -> 0 | AM14: =SUM(AI14:AL14) -> 0 | AN14: =COUNTIF(médiateurs!$B14:$O14,AN$2) -> 0 | AO14: =COUNTIF(médiateurs!$B14:$O14,AO$2) -> 0 | AP14: =COUNTIF(médiateurs!$B14:$O14,AP$2) -> 0 | AQ14: =COUNTIF(médiateurs!$B14:$O14,AQ$2) -> 0 | AR14: =SUM(AP14:AQ14) -> 0 | AS14: =COUNTIF(médiateurs!$B14:$O14,AS$2) -> 0 | AT14: =Z14+AC14+AH14+AM14+AN14+AO14+AR14+AS14 -> 0
P15: =A15 -> 0 | Q15: =COUNTIF(médiateurs!$B15:$O15,Q$2) -> 0 | R15: =COUNTIF(médiateurs!$B15:$O15,R$2) -> 0 | S15: =COUNTIF(médiateurs!$B15:$O15,S$2) -> 0 | T15: =COUNTIF(médiateurs!$B15:$O15,T$2) -> 0 | U15: =COUNTIF(médiateurs!$B15:$O15,U$2) -> 0 | V15: =COUNTIF(médiateurs!$B15:$O15,V$2) -> 0 | W15: =COUNTIF(médiateurs!$B15:$O15,W$2) -> 0 | X15: =COUNTIF(médiateurs!$B15:$O15,X$2) -> 0 | Y15: =COUNTIF(médiateurs!$B15:$O15,Y$2) -> 0 | Z15: =SUM(Q15:Y15) -> 0 | AA15: =COUNTIF(médiateurs!$B15:$O15,AA$2) -> 0 | AB15: =COUNTIF(médiateurs!$B15:$O15,AB$2) -> 0 | AC15: =SUM(AA15:AB15) -> 0 | AD15: =COUNTIF(médiateurs!$B15:$O15,AD$2) -> 0 | AE15: =COUNTIF(médiateurs!$B15:$O15,AE$2) -> 0 | AF15: =COUNTIF(médiateurs!$B15:$O15,AF$2) -> 0 | AG15: =COUNTIF(médiateurs!$B15:$O15,AG$2) -> 0 | AH15: =SUM(AD15:AG15) -> 0 | AI15: =COUNTIF(médiateurs!$B15:$O15,AI$2) -> 0 | AJ15: =COUNTIF(médiateurs!$B15:$O15,AJ$2) -> 0 | AK15: =COUNTIF(médiateurs!$B15:$O15,AK$2) -> 0 | AL15: =COUNTIF(médiateurs!$B15:$O15,AL$2) -> 0 | AM15: =SUM(AI15:AL15) -> 0 | AN15: =COUNTIF(médiateurs!$B15:$O15,AN$2) -> 0 | AO15: =COUNTIF(médiateurs!$B15:$O15,AO$2) -> 0 | AP15: =COUNTIF(médiateurs!$B15:$O15,AP$2) -> 0 | AQ15: =COUNTIF(médiateurs!$B15:$O15,AQ$2) -> 0 | AR15: =SUM(AP15:AQ15) -> 0 | AS15: =COUNTIF(médiateurs!$B15:$O15,AS$2) -> 0 | AT15: =Z15+AC15+AH15+AM15+AN15+AO15+AR15+AS15 -> 0
P16: =A16 -> 0 | Q16: =COUNTIF(médiateurs!$B16:$O16,Q$2) -> 0 | R16: =COUNTIF(médiateurs!$B16:$O16,R$2) -> 0 | S16: =COUNTIF(médiateurs!$B16:$O16,S$2) -> 0 | T16: =COUNTIF(médiateurs!$B16:$O16,T$2) -> 0 | U16: =COUNTIF(médiateurs!$B16:$O16,U$2) -> 0 | V16: =COUNTIF(médiateurs!$B16:$O16,V$2) -> 0 | W16: =COUNTIF(médiateurs!$B16:$O16,W$2) -> 0 | X16: =COUNTIF(médiateurs!$B16:$O16,X$2) -> 0 | Y16: =COUNTIF(médiateurs!$B16:$O16,Y$2) -> 0 | Z16: =SUM(Q16:Y16) -> 0 | AA16: =COUNTIF(médiateurs!$B16:$O16,AA$2) -> 0 | AB16: =COUNTIF(médiateurs!$B16:$O16,AB$2) -> 0 | AC16: =SUM(AA16:AB16) -> 0 | AD16: =COUNTIF(médiateurs!$B16:$O16,AD$2) -> 0 | AE16: =COUNTIF(médiateurs!$B16:$O16,AE$2) -> 0 | AF16: =COUNTIF(médiateurs!$B16:$O16,AF$2) -> 0 | AG16: =COUNTIF(médiateurs!$B16:$O16,AG$2) -> 0 | AH16: =SUM(AD16:AG16) -> 0 | AI16: =COUNTIF(médiateurs!$B16:$O16,AI$2) -> 0 | AJ16: =COUNTIF(médiateurs!$B16:$O16,AJ$2) -> 0 | AK16: =COUNTIF(médiateurs!$B16:$O16,AK$2) -> 0 | AL16: =COUNTIF(médiateurs!$B16:$O16,AL$2) -> 0 | AM16: =SUM(AI16:AL16) -> 0 | AN16: =COUNTIF(médiateurs!$B16:$O16,AN$2) -> 0 | AO16: =COUNTIF(médiateurs!$B16:$O16,AO$2) -> 0 | AP16: =COUNTIF(médiateurs!$B16:$O16,AP$2) -> 0 | AQ16: =COUNTIF(médiateurs!$B16:$O16,AQ$2) -> 0 | AR16: =SUM(AP16:AQ16) -> 0 | AS16: =COUNTIF(médiateurs!$B16:$O16,AS$2) -> 0 | AT16: =Z16+AC16+AH16+AM16+AN16+AO16+AR16+AS16 -> 0
P17: =A17 -> 0 | Q17: =COUNTIF(médiateurs!$B17:$O17,Q$2) -> 0 | R17: =COUNTIF(médiateurs!$B17:$O17,R$2) -> 0 | S17: =COUNTIF(médiateurs!$B17:$O17,S$2) -> 0 | T17: =COUNTIF(médiateurs!$B17:$O17,T$2) -> 0 | U17: =COUNTIF(médiateurs!$B17:$O17,U$2) -> 0 | V17: =COUNTIF(médiateurs!$B17:$O17,V$2) -> 0 | W17: =COUNTIF(médiateurs!$B17:$O17,W$2) -> 0 | X17: =COUNTIF(médiateurs!$B17:$O17,X$2) -> 0 | Y17: =COUNTIF(médiateurs!$B17:$O17,Y$2) -> 0 | Z17: =SUM(Q17:Y17) -> 0 | AA17: =COUNTIF(médiateurs!$B17:$O17,AA$2) -> 0 | AB17: =COUNTIF(médiateurs!$B17:$O17,AB$2) -> 0 | AC17: =SUM(AA17:AB17) -> 0 | AD17: =COUNTIF(médiateurs!$B17:$O17,AD$2) -> 0 | AE17: =COUNTIF(médiateurs!$B17:$O17,AE$2) -> 0 | AF17: =COUNTIF(médiateurs!$B17:$O17,AF$2) -> 0 | AG17: =COUNTIF(médiateurs!$B17:$O17,AG$2) -> 0 | AH17: =SUM(AD17:AG17) -> 0 | AI17: =COUNTIF(médiateurs!$B17:$O17,AI$2) -> 0 | AJ17: =COUNTIF(médiateurs!$B17:$O17,AJ$2) -> 0 | AK17: =COUNTIF(médiateurs!$B17:$O17,AK$2) -> 0 | AL17: =COUNTIF(médiateurs!$B17:$O17,AL$2) -> 0 | AM17: =SUM(AI17:AL17) -> 0 | AN17: =COUNTIF(médiateurs!$B17:$O17,AN$2) -> 0 | AO17: =COUNTIF(médiateurs!$B17:$O17,AO$2) -> 0 | AP17: =COUNTIF(médiateurs!$B17:$O17,AP$2) -> 0 | AQ17: =COUNTIF(médiateurs!$B17:$O17,AQ$2) -> 0 | AR17: =SUM(AP17:AQ17) -> 0 | AS17: =COUNTIF(médiateurs!$B17:$O17,AS$2) -> 0 | AT17: =Z17+AC17+AH17+AM17+AN17+AO17+AR17+AS17 -> 0
P18: =A18 -> 0 | Q18: =COUNTIF(médiateurs!$B18:$O18,Q$2) -> 0 | R18: =COUNTIF(médiateurs!$B18:$O18,R$2) -> 0 | S18: =COUNTIF(médiateurs!$B18:$O18,S$2) -> 0 | T18: =COUNTIF(médiateurs!$B18:$O18,T$2) -> 0 | U18: =COUNTIF(médiateurs!$B18:$O18,U$2) -> 0 | V18: =COUNTIF(médiateurs!$B18:$O18,V$2) -> 0 | W18: =COUNTIF(médiateurs!$B18:$O18,W$2) -> 0 | X18: =COUNTIF(médiateurs!$B18:$O18,X$2) -> 0 | Y18: =COUNTIF(médiateurs!$B18:$O18,Y$2) -> 0 | Z18: =SUM(Q18:Y18) -> 0 | AA18: =COUNTIF(médiateurs!$B18:$O18,AA$2) -> 0 | AB18: =COUNTIF(médiateurs!$B18:$O18,AB$2) -> 0 | AC18: =SUM(AA18:AB18) -> 0 | AD18: =COUNTIF(médiateurs!$B18:$O18,AD$2) -> 0 | AE18: =COUNTIF(médiateurs!$B18:$O18,AE$2) -> 0 | AF18: =COUNTIF(médiateurs!$B18:$O18,AF$2) -> 0 | AG18: =COUNTIF(médiateurs!$B18:$O18,AG$2) -> 0 | AH18: =SUM(AD18:AG18) -> 0 | AI18: =COUNTIF(médiateurs!$B18:$O18,AI$2) -> 0 | AJ18: =COUNTIF(médiateurs!$B18:$O18,AJ$2) -> 0 | AK18: =COUNTIF(médiateurs!$B18:$O18,AK$2) -> 0 | AL18: =COUNTIF(médiateurs!$B18:$O18,AL$2) -> 0 | AM18: =SUM(AI18:AL18) -> 0 | AN18: =COUNTIF(médiateurs!$B18:$O18,AN$2) -> 0 | AO18: =COUNTIF(médiateurs!$B18:$O18,AO$2) -> 0 | AP18: =COUNTIF(médiateurs!$B18:$O18,AP$2) -> 0 | AQ18: =COUNTIF(médiateurs!$B18:$O18,AQ$2) -> 0 | AR18: =SUM(AP18:AQ18) -> 0 | AS18: =COUNTIF(médiateurs!$B18:$O18,AS$2) -> 0 | AT18: =Z18+AC18+AH18+AM18+AN18+AO18+AR18+AS18 -> 0
P19: =A19 -> 0 | Q19: =COUNTIF(médiateurs!$B19:$O19,Q$2) -> 0 | R19: =COUNTIF(médiateurs!$B19:$O19,R$2) -> 0 | S19: =COUNTIF(médiateurs!$B19:$O19,S$2) -> 0 | T19: =COUNTIF(médiateurs!$B19:$O19,T$2) -> 0 | U19: =COUNTIF(médiateurs!$B19:$O19,U$2) -> 0 | V19: =COUNTIF(médiateurs!$B19:$O19,V$2) -> 0 | W19: =COUNTIF(médiateurs!$B19:$O19,W$2) -> 0 | X19: =COUNTIF(médiateurs!$B19:$O19,X$2) -> 0 | Y19: =COUNTIF(médiateurs!$B19:$O19,Y$2) -> 0 | Z19: =SUM(Q19:Y19) -> 0 | AA19: =COUNTIF(médiateurs!$B19:$O19,AA$2) -> 0 | AB19: =COUNTIF(médiateurs!$B19:$O19,AB$2) -> 0 | AC19: =SUM(AA19:AB19) -> 0 | AD19: =COUNTIF(médiateurs!$B19:$O19,AD$2) -> 0 | AE19: =COUNTIF(médiateurs!$B19:$O19,AE$2) -> 0 | AF19: =COUNTIF(médiateurs!$B19:$O19,AF$2) -> 0 | AG19: =COUNTIF(médiateurs!$B19:$O19,AG$2) -> 0 | AH19: =SUM(AD19:AG19) -> 0 | AI19: =COUNTIF(médiateurs!$B19:$O19,AI$2) -> 0 | AJ19: =COUNTIF(médiateurs!$B19:$O19,AJ$2) -> 0 | AK19: =COUNTIF(médiateurs!$B19:$O19,AK$2) -> 0 | AL19: =COUNTIF(médiateurs!$B19:$O19,AL$2) -> 0 | AM19: =SUM(AI19:AL19) -> 0 | AN19: =COUNTIF(médiateurs!$B19:$O19,AN$2) -> 0 | AO19: =COUNTIF(médiateurs!$B19:$O19,AO$2) -> 0 | AP19: =COUNTIF(médiateurs!$B19:$O19,AP$2) -> 0 | AQ19: =COUNTIF(médiateurs!$B19:$O19,AQ$2) -> 0 | AR19: =SUM(AP19:AQ19) -> 0 | AS19: =COUNTIF(médiateurs!$B19:$O19,AS$2) -> 0 | AT19: =Z19+AC19+AH19+AM19+AN19+AO19+AR19+AS19 -> 0
P20: =A20 -> 0 | Q20: =COUNTIF(médiateurs!$B20:$O20,Q$2) -> 0 | R20: =COUNTIF(médiateurs!$B20:$O20,R$2) -> 0 | S20: =COUNTIF(médiateurs!$B20:$O20,S$2) -> 0 | T20: =COUNTIF(médiateurs!$B20:$O20,T$2) -> 0 | U20: =COUNTIF(médiateurs!$B20:$O20,U$2) -> 0 | V20: =COUNTIF(médiateurs!$B20:$O20,V$2) -> 0 | W20: =COUNTIF(médiateurs!$B20:$O20,W$2) -> 0 | X20: =COUNTIF(médiateurs!$B20:$O20,X$2) -> 0 | Y20: =COUNTIF(médiateurs!$B20:$O20,Y$2) -> 0 | Z20: =SUM(Q20:Y20) -> 0 | AA20: =COUNTIF(médiateurs!$B20:$O20,AA$2) -> 0 | AB20: =COUNTIF(médiateurs!$B20:$O20,AB$2) -> 0 | AC20: =SUM(AA20:AB20) -> 0 | AD20: =COUNTIF(médiateurs!$B20:$O20,AD$2) -> 0 | AE20: =COUNTIF(médiateurs!$B20:$O20,AE$2) -> 0 | AF20: =COUNTIF(médiateurs!$B20:$O20,AF$2) -> 0 | AG20: =COUNTIF(médiateurs!$B20:$O20,AG$2) -> 0 | AH20: =SUM(AD20:AG20) -> 0 | AI20: =COUNTIF(médiateurs!$B20:$O20,AI$2) -> 0 | AJ20: =COUNTIF(médiateurs!$B20:$O20,AJ$2) -> 0 | AK20: =COUNTIF(médiateurs!$B20:$O20,AK$2) -> 0 | AL20: =COUNTIF(médiateurs!$B20:$O20,AL$2) -> 0 | AM20: =SUM(AI20:AL20) -> 0 | AN20: =COUNTIF(médiateurs!$B20:$O20,AN$2) -> 0 | AO20: =COUNTIF(médiateurs!$B20:$O20,AO$2) -> 0 | AP20: =COUNTIF(médiateurs!$B20:$O20,AP$2) -> 0 | AQ20: =COUNTIF(médiateurs!$B20:$O20,AQ$2) -> 0 | AR20: =SUM(AP20:AQ20) -> 0 | AS20: =COUNTIF(médiateurs!$B20:$O20,AS$2) -> 0 | AT20: =Z20+AC20+AH20+AM20+AN20+AO20+AR20+AS20 -> 0
A21: GROUPE C C C + A
P22: =A22 -> 0 | Q22: =COUNTIF(médiateurs!$B22:$O22,Q$2) -> 0 | R22: =COUNTIF(médiateurs!$B22:$O22,R$2) -> 0 | S22: =COUNTIF(médiateurs!$B22:$O22,S$2) -> 0 | T22: =COUNTIF(médiateurs!$B22:$O22,T$2) -> 0 | U22: =COUNTIF(médiateurs!$B22:$O22,U$2) -> 0 | V22: =COUNTIF(médiateurs!$B22:$O22,V$2) -> 0 | W22: =COUNTIF(médiateurs!$B22:$O22,W$2) -> 0 | X22: =COUNTIF(médiateurs!$B22:$O22,X$2) -> 0 | Y22: =COUNTIF(médiateurs!$B22:$O22,Y$2) -> 0 | Z22: =SUM(Q22:Y22) -> 0 | AA22: =COUNTIF(médiateurs!$B22:$O22,AA$2) -> 0 | AB22: =COUNTIF(médiateurs!$B22:$O22,AB$2) -> 0 | AC22: =SUM(AA22:AB22) -> 0 | AD22: =COUNTIF(médiateurs!$B22:$O22,AD$2) -> 0 | AE22: =COUNTIF(médiateurs!$B22:$O22,AE$2) -> 0 | AF22: =COUNTIF(médiateurs!$B22:$O22,AF$2) -> 0 | AG22: =COUNTIF(médiateurs!$B22:$O22,AG$2) -> 0 | AH22: =SUM(AD22:AG22) -> 0 | AI22: =COUNTIF(médiateurs!$B22:$O22,AI$2) -> 0 | AJ22: =COUNTIF(médiateurs!$B22:$O22,AJ$2) -> 0 | AK22: =COUNTIF(médiateurs!$B22:$O22,AK$2) -> 0 | AL22: =COUNTIF(médiateurs!$B22:$O22,AL$2) -> 0 | AM22: =SUM(AI22:AL22) -> 0 | AN22: =COUNTIF(médiateurs!$B22:$O22,AN$2) -> 0 | AO22: =COUNTIF(médiateurs!$B22:$O22,AO$2) -> 0 | AP22: =COUNTIF(médiateurs!$B22:$O22,AP$2) -> 0 | AQ22: =COUNTIF(médiateurs!$B22:$O22,AQ$2) -> 0 | AR22: =SUM(AP22:AQ22) -> 0 | AS22: =COUNTIF(médiateurs!$B22:$O22,AS$2) -> 0 | AT22: =Z22+AC22+AH22+AM22+AN22+AO22+AR22+AS22 -> 0
P23: =A23 -> 0 | Q23: =COUNTIF(médiateurs!$B23:$O23,Q$2) -> 0 | R23: =COUNTIF(médiateurs!$B23:$O23,R$2) -> 0 | S23: =COUNTIF(médiateurs!$B23:$O23,S$2) -> 0 | T23: =COUNTIF(médiateurs!$B23:$O23,T$2) -> 0 | U23: =COUNTIF(médiateurs!$B23:$O23,U$2) -> 0 | V23: =COUNTIF(médiateurs!$B23:$O23,V$2) -> 0 | W23: =COUNTIF(médiateurs!$B23:$O23,W$2) -> 0 | X23: =COUNTIF(médiateurs!$B23:$O23,X$2) -> 0 | Y23: =COUNTIF(médiateurs!$B23:$O23,Y$2) -> 0 | Z23: =SUM(Q23:Y23) -> 0 | AA23: =COUNTIF(médiateurs!$B23:$O23,AA$2) -> 0 | AB23: =COUNTIF(médiateurs!$B23:$O23,AB$2) -> 0 | AC23: =SUM(AA23:AB23) -> 0 | AD23: =COUNTIF(médiateurs!$B23:$O23,AD$2) -> 0 | AE23: =COUNTIF(médiateurs!$B23:$O23,AE$2) -> 0 | AF23: =COUNTIF(médiateurs!$B23:$O23,AF$2) -> 0 | AG23: =COUNTIF(médiateurs!$B23:$O23,AG$2) -> 0 | AH23: =SUM(AD23:AG23) -> 0 | AI23: =COUNTIF(médiateurs!$B23:$O23,AI$2) -> 0 | AJ23: =COUNTIF(médiateurs!$B23:$O23,AJ$2) -> 0 | AK23: =COUNTIF(médiateurs!$B23:$O23,AK$2) -> 0 | AL23: =COUNTIF(médiateurs!$B23:$O23,AL$2) -> 0 | AM23: =SUM(AI23:AL23) -> 0 | AN23: =COUNTIF(médiateurs!$B23:$O23,AN$2) -> 0 | AO23: =COUNTIF(médiateurs!$B23:$O23,AO$2) -> 0 | AP23: =COUNTIF(médiateurs!$B23:$O23,AP$2) -> 0 | AQ23: =COUNTIF(médiateurs!$B23:$O23,AQ$2) -> 0 | AR23: =SUM(AP23:AQ23) -> 0 | AS23: =COUNTIF(médiateurs!$B23:$O23,AS$2) -> 0 | AT23: =Z23+AC23+AH23+AM23+AN23+AO23+AR23+AS23 -> 0
P24: =A24 -> 0 | Q24: =COUNTIF(médiateurs!$B24:$O24,Q$2) -> 0 | R24: =COUNTIF(médiateurs!$B24:$O24,R$2) -> 0 | S24: =COUNTIF(médiateurs!$B24:$O24,S$2) -> 0 | T24: =COUNTIF(médiateurs!$B24:$O24,T$2) -> 0 | U24: =COUNTIF(médiateurs!$B24:$O24,U$2) -> 0 | V24: =COUNTIF(médiateurs!$B24:$O24,V$2) -> 0 | W24: =COUNTIF(médiateurs!$B24:$O24,W$2) -> 0 | X24: =COUNTIF(médiateurs!$B24:$O24,X$2) -> 0 | Y24: =COUNTIF(médiateurs!$B24:$O24,Y$2) -> 0 | Z24: =SUM(Q24:Y24) -> 0 | AA24: =COUNTIF(médiateurs!$B24:$O24,AA$2) -> 0 | AB24: =COUNTIF(médiateurs!$B24:$O24,AB$2) -> 0 | AC24: =SUM(AA24:AB24) -> 0 | AD24: =COUNTIF(médiateurs!$B24:$O24,AD$2) -> 0 | AE24: =COUNTIF(médiateurs!$B24:$O24,AE$2) -> 0 | AF24: =COUNTIF(médiateurs!$B24:$O24,AF$2) -> 0 | AG24: =COUNTIF(médiateurs!$B24:$O24,AG$2) -> 0 | AH24: =SUM(AD24:AG24) -> 0 | AI24: =COUNTIF(médiateurs!$B24:$O24,AI$2) -> 0 | AJ24: =COUNTIF(médiateurs!$B24:$O24,AJ$2) -> 0 | AK24: =COUNTIF(médiateurs!$B24:$O24,AK$2) -> 0 | AL24: =COUNTIF(médiateurs!$B24:$O24,AL$2) -> 0 | AM24: =SUM(AI24:AL24) -> 0 | AN24: =COUNTIF(médiateurs!$B24:$O24,AN$2) -> 0 | AO24: =COUNTIF(médiateurs!$B24:$O24,AO$2) -> 0 | AP24: =COUNTIF(médiateurs!$B24:$O24,AP$2) -> 0 | AQ24: =COUNTIF(médiateurs!$B24:$O24,AQ$2) -> 0 | AR24: =SUM(AP24:AQ24) -> 0 | AS24: =COUNTIF(médiateurs!$B24:$O24,AS$2) -> 0 | AT24: =Z24+AC24+AH24+AM24+AN24+AO24+AR24+AS24 -> 0
P25: =A25 -> 0 | Q25: =COUNTIF(médiateurs!$B25:$O25,Q$2) -> 0 | R25: =COUNTIF(médiateurs!$B25:$O25,R$2) -> 0 | S25: =COUNTIF(médiateurs!$B25:$O25,S$2) -> 0 | T25: =COUNTIF(médiateurs!$B25:$O25,T$2) -> 0 | U25: =COUNTIF(médiateurs!$B25:$O25,U$2) -> 0 | V25: =COUNTIF(médiateurs!$B25:$O25,V$2) -> 0 | W25: =COUNTIF(médiateurs!$B25:$O25,W$2) -> 0 | X25: =COUNTIF(médiateurs!$B25:$O25,X$2) -> 0 | Y25: =COUNTIF(médiateurs!$B25:$O25,Y$2) -> 0 | Z25: =SUM(Q25:Y25) -> 0 | AA25: =COUNTIF(médiateurs!$B25:$O25,AA$2) -> 0 | AB25: =COUNTIF(médiateurs!$B25:$O25,AB$2) -> 0 | AC25: =SUM(AA25:AB25) -> 0 | AD25: =COUNTIF(médiateurs!$B25:$O25,AD$2) -> 0 | AE25: =COUNTIF(médiateurs!$B25:$O25,AE$2) -> 0 | AF25: =COUNTIF(médiateurs!$B25:$O25,AF$2) -> 0 | AG25: =COUNTIF(médiateurs!$B25:$O25,AG$2) -> 0 | AH25: =SUM(AD25:AG25) -> 0 | AI25: =COUNTIF(médiateurs!$B25:$O25,AI$2) -> 0 | AJ25: =COUNTIF(médiateurs!$B25:$O25,AJ$2) -> 0 | AK25: =COUNTIF(médiateurs!$B25:$O25,AK$2) -> 0 | AL25: =COUNTIF(médiateurs!$B25:$O25,AL$2) -> 0 | AM25: =SUM(AI25:AL25) -> 0 | AN25: =COUNTIF(médiateurs!$B25:$O25,AN$2) -> 0 | AO25: =COUNTIF(médiateurs!$B25:$O25,AO$2) -> 0 | AP25: =COUNTIF(médiateurs!$B25:$O25,AP$2) -> 0 | AQ25: =COUNTIF(médiateurs!$B25:$O25,AQ$2) -> 0 | AR25: =SUM(AP25:AQ25) -> 0 | AS25: =COUNTIF(médiateurs!$B25:$O25,AS$2) -> 0 | AT25: =Z25+AC25+AH25+AM25+AN25+AO25+AR25+AS25 -> 0
P26: =A26 -> 0 | Q26: =COUNTIF(médiateurs!$B26:$O26,Q$2) -> 0 | R26: =COUNTIF(médiateurs!$B26:$O26,R$2) -> 0 | S26: =COUNTIF(médiateurs!$B26:$O26,S$2) -> 0 | T26: =COUNTIF(médiateurs!$B26:$O26,T$2) -> 0 | U26: =COUNTIF(médiateurs!$B26:$O26,U$2) -> 0 | V26: =COUNTIF(médiateurs!$B26:$O26,V$2) -> 0 | W26: =COUNTIF(médiateurs!$B26:$O26,W$2) -> 0 | X26: =COUNTIF(médiateurs!$B26:$O26,X$2) -> 0 | Y26: =COUNTIF(médiateurs!$B26:$O26,Y$2) -> 0 | Z26: =SUM(Q26:Y26) -> 0 | AA26: =COUNTIF(médiateurs!$B26:$O26,AA$2) -> 0 | AB26: =COUNTIF(médiateurs!$B26:$O26,AB$2) -> 0 | AC26: =SUM(AA26:AB26) -> 0 | AD26: =COUNTIF(médiateurs!$B26:$O26,AD$2) -> 0 | AE26: =COUNTIF(médiateurs!$B26:$O26,AE$2) -> 0 | AF26: =COUNTIF(médiateurs!$B26:$O26,AF$2) -> 0 | AG26: =COUNTIF(médiateurs!$B26:$O26,AG$2) -> 0 | AH26: =SUM(AD26:AG26) -> 0 | AI26: =COUNTIF(médiateurs!$B26:$O26,AI$2) -> 0 | AJ26: =COUNTIF(médiateurs!$B26:$O26,AJ$2) -> 0 | AK26: =COUNTIF(médiateurs!$B26:$O26,AK$2) -> 0 | AL26: =COUNTIF(médiateurs!$B26:$O26,AL$2) -> 0 | AM26: =SUM(AI26:AL26) -> 0 | AN26: =COUNTIF(médiateurs!$B26:$O26,AN$2) -> 0 | AO26: =COUNTIF(médiateurs!$B26:$O26,AO$2) -> 0 | AP26: =COUNTIF(médiateurs!$B26:$O26,AP$2) -> 0 | AQ26: =COUNTIF(médiateurs!$B26:$O26,AQ$2) -> 0 | AR26: =SUM(AP26:AQ26) -> 0 | AS26: =COUNTIF(médiateurs!$B26:$O26,AS$2) -> 0 | AT26: =Z26+AC26+AH26+AM26+AN26+AO26+AR26+AS26 -> 0
P27: =A27 -> 0 | Q27: =COUNTIF(médiateurs!$B27:$O27,Q$2) -> 0 | R27: =COUNTIF(médiateurs!$B27:$O27,R$2) -> 0 | S27: =COUNTIF(médiateurs!$B27:$O27,S$2) -> 0 | T27: =COUNTIF(médiateurs!$B27:$O27,T$2) -> 0 | U27: =COUNTIF(médiateurs!$B27:$O27,U$2) -> 0 | V27: =COUNTIF(médiateurs!$B27:$O27,V$2) -> 0 | W27: =COUNTIF(médiateurs!$B27:$O27,W$2) -> 0 | X27: =COUNTIF(médiateurs!$B27:$O27,X$2) -> 0 | Y27: =COUNTIF(médiateurs!$B27:$O27,Y$2) -> 0 | Z27: =SUM(Q27:Y27) -> 0 | AA27: =COUNTIF(médiateurs!$B27:$O27,AA$2) -> 0 | AB27: =COUNTIF(médiateurs!$B27:$O27,AB$2) -> 0 | AC27: =SUM(AA27:AB27) -> 0 | AD27: =COUNTIF(médiateurs!$B27:$O27,AD$2) -> 0 | AE27: =COUNTIF(médiateurs!$B27:$O27,AE$2) -> 0 | AF27: =COUNTIF(médiateurs!$B27:$O27,AF$2) -> 0 | AG27: =COUNTIF(médiateurs!$B27:$O27,AG$2) -> 0 | AH27: =SUM(AD27:AG27) -> 0 | AI27: =COUNTIF(médiateurs!$B27:$O27,AI$2) -> 0 | AJ27: =COUNTIF(médiateurs!$B27:$O27,AJ$2) -> 0 | AK27: =COUNTIF(médiateurs!$B27:$O27,AK$2) -> 0 | AL27: =COUNTIF(médiateurs!$B27:$O27,AL$2) -> 0 | AM27: =SUM(AI27:AL27) -> 0 | AN27: =COUNTIF(médiateurs!$B27:$O27,AN$2) -> 0 | AO27: =COUNTIF(médiateurs!$B27:$O27,AO$2) -> 0 | AP27: =COUNTIF(médiateurs!$B27:$O27,AP$2) -> 0 | AQ27: =COUNTIF(médiateurs!$B27:$O27,AQ$2) -> 0 | AR27: =SUM(AP27:AQ27) -> 0 | AS27: =COUNTIF(médiateurs!$B27:$O27,AS$2) -> 0 | AT27: =Z27+AC27+AH27+AM27+AN27+AO27+AR27+AS27 -> 0
P28: =A28 -> 0 | Q28: =COUNTIF(médiateurs!$B28:$O28,Q$2) -> 0 | R28: =COUNTIF(médiateurs!$B28:$O28,R$2) -> 0 | S28: =COUNTIF(médiateurs!$B28:$O28,S$2) -> 0 | T28: =COUNTIF(médiateurs!$B28:$O28,T$2) -> 0 | U28: =COUNTIF(médiateurs!$B28:$O28,U$2) -> 0 | V28: =COUNTIF(médiateurs!$B28:$O28,V$2) -> 0 | W28: =COUNTIF(médiateurs!$B28:$O28,W$2) -> 0 | X28: =COUNTIF(médiateurs!$B28:$O28,X$2) -> 0 | Y28: =COUNTIF(médiateurs!$B28:$O28,Y$2) -> 0 | Z28: =SUM(Q28:Y28) -> 0 | AA28: =COUNTIF(médiateurs!$B28:$O28,AA$2) -> 0 | AB28: =COUNTIF(médiateurs!$B28:$O28,AB$2) -> 0 | AC28: =SUM(AA28:AB28) -> 0 | AD28: =COUNTIF(médiateurs!$B28:$O28,AD$2) -> 0 | AE28: =COUNTIF(médiateurs!$B28:$O28,AE$2) -> 0 | AF28: =COUNTIF(médiateurs!$B28:$O28,AF$2) -> 0 | AG28: =COUNTIF(médiateurs!$B28:$O28,AG$2) -> 0 | AH28: =SUM(AD28:AG28) -> 0 | AI28: =COUNTIF(médiateurs!$B28:$O28,AI$2) -> 0 | AJ28: =COUNTIF(médiateurs!$B28:$O28,AJ$2) -> 0 | AK28: =COUNTIF(médiateurs!$B28:$O28,AK$2) -> 0 | AL28: =COUNTIF(médiateurs!$B28:$O28,AL$2) -> 0 | AM28: =SUM(AI28:AL28) -> 0 | AN28: =COUNTIF(médiateurs!$B28:$O28,AN$2) -> 0 | AO28: =COUNTIF(médiateurs!$B28:$O28,AO$2) -> 0 | AP28: =COUNTIF(médiateurs!$B28:$O28,AP$2) -> 0 | AQ28: =COUNTIF(médiateurs!$B28:$O28,AQ$2) -> 0 | AR28: =SUM(AP28:AQ28) -> 0 | AS28: =COUNTIF(médiateurs!$B28:$O28,AS$2) -> 0 | AT28: =Z28+AC28+AH28+AM28+AN28+AO28+AR28+AS28 -> 0
A30: Rencontre avec un professionnel de l'image | C30: du 5 au 9 septembre: Alain Willaume | E30: les 10 et 11 septembre: Patrick Tourneboeuf | G30: les 12 et 13 septembre: Raphaël Dallaporta | I30: du 16 au 18 septembre: Philippe Chancel | K30: les 19 et 20 septembre: Chargées de production
A32: Catering | B32: Arènes | C32: Arènes | E32: Arènes | F32: Arènes | G32: Arènes | H32: Arènes | I32: Arènes | K32: Arènes | L32: Arènes | M32: Arènes | N32: Arènes | O32: Arènes
B33: 10 | C33: 9 | E33: 10 | F33: 10 | G33: 10 | H33: 10 | I33: 10 | K33: 10 | L33: 10 | M33: 10 | N33: 10 | O33: 10
B34: Ateliers | C34: Ateliers | E34: Ateliers | F34: Ateliers | G34: Ateliers | H34: Ateliers | I34: Ateliers | K34: Ateliers | L34: Ateliers | M34: Ateliers | N34: Ateliers | O34: Ateliers
B35: 16 | C35: 17 | E35: 17 | F35: 17 | G35: 17 | H35: 17 | I35: 17 | K35: 17 | L35: 17 | M35: 17 | N35: 17 | O35: 17

Sheet Jeudi 4
A1: PLANNING DÉTAILLÉ - JEUDI 4 SEPTEMBRE 2014
A2: FORMULE 1
A3: N° | B3: ETABLISSEMENT | C3: VILLE | D3: NOM | E3: TÉLÉPHONE | F3: EFFECTIF | G3: NIVEAU | H3: SPÉCIALITÉ | J3: Accueil Arènes | L3: 9h30 - 11h PARCOURS FESTIVALIER | M3: EXPOSITIONS | N3: MÉDIATEUR | O3: ACCUEIL SNCF | Q3: 11h30 - 12h30 PROJECTION | S3: MÉDIATEURS | V3: 14h - 15h30 CARTE | X3: MÉDIATEURS | Z3: COMMENTAIRE
A4: 1 | B4: =VLOOKUP($A4,[1]liste_inscriptions!$A:$AD,6,FALSE) -> #N/A | C4: =VLOOKUP($A4,[1]liste_inscriptions!$A:$AD,9,FALSE) -> #N/A | D4: =VLOOKUP($A4,[1]liste_inscriptions!$A:$AD,12,FALSE) -> #N/A | E4: =VLOOKUP($A4,[1]liste_inscriptions!$A:$AD,14,FALSE) -> #N/A | F4: =VLOOKUP($A4,[1]liste_inscriptions!$A:$AD,17,FALSE) -> #N/A | G4: =VLOOKUP($A4,[1]liste_inscriptions!$A:$AD,16,FALSE) -> #N/A | H4: =VLOOKUP($A4,[1]liste_inscriptions!$A:$AD,18,FALSE) -> #N/A | J4: =INDEX(médiateurs!$A:$O,MATCH("accueil maison des rencontres",médiateurs!$B:$B,0),1) -> #N/A | L4: Médiation Ateliers 1 | M4: =VLOOKUP($A4,[1]liste_inscriptions!$A:$AJ,34,FALSE) -> #N/A | N4: =INDEX(médiateurs!$A:$O,MATCH(L4,médiateurs!$B:$B,0),1) -> #N/A | O4: =INDEX(médiateurs!$A:$O,MATCH(O3,médiateurs!$B:$B,0),1) -> #N/A | Q4: Projection MDVA | S4: =INDEX(médiateurs!$A:$O,MATCH(Q4,médiateurs!$B:$B,0),1) -> #N/A | T4: =INDEX(médiateurs!$A:$O,MATCH("Projection MDVA 2",médiateurs!$B:$B,0),1) -> #N/A | V4: =TEXT(VLOOKUP($A4,[1]liste_inscriptions!$A:$AJ,30,FALSE)," ") -> #N/A | X4: =IF(ISNA(INDEX(médiateurs!$A:$O,MATCH(V4,médiateurs!$B:$B,0),1)),"",INDEX(médiateurs!$A:$O,MATCH(V4,médiateurs!$B:$B,0),1)) | Y4: =IF(AND(VLOOKUP(médiateurs!$AQ$2,médiateurs!$B:$B,1,0)=médiateurs!$AQ$2,V4=médiateurs!$AP$2),VLOOKUP(médiateurs!$AQ$2,médiateurs!$B:$AC,15,0),IF(AND(VLOOKUP(médiateurs!$AK$2,médiateurs!$B:$B,1,0)=médiateurs!$AK$2,V4=médiateurs!$AI$2),VLOOKUP(médiateurs!$AK$2,médiateurs!$B:$AC,15,0),IF(AND(VLOOKUP(médiateurs!$AL$2,médiateurs!$B:$B,1,0)=médiateurs!$AL$2,V4=médiateurs!$AJ$2),VLOOKUP(médiateurs!$AL$2,médiateurs!$B:$AC,15,0)," "))) -> #N/A | Z4: =TEXT(VLOOKUP($A4,[1]liste_inscriptions!$A:$AD,29,FALSE)," ") -> #N/A
M5: =VLOOKUP($A5,[1]liste_inscriptions!$A:$AJ,34,FALSE) -> #N/A
M6: =VLOOKUP($A6,[1]liste_inscriptions!$A:$AJ,34,FALSE) -> #N/A
A7: 2 | B7: =VLOOKUP($A7,[1]liste_inscriptions!$A:$AD,6,FALSE) -> #N/A | C7: =VLOOKUP($A7,[1]liste_inscriptions!$A:$AD,9,FALSE) -> #N/A | D7: =VLOOKUP($A7,[1]liste_inscriptions!$A:$AD,12,FALSE) -> #N/A | E7: =VLOOKUP($A7,[1]liste_inscriptions!$A:$AD,14,FALSE) -> #N/A | F7: =VLOOKUP($A7,[1]liste_inscriptions!$A:$AD,17,FALSE) -> #N/A | G7: =VLOOKUP($A7,[1]liste_inscriptions!$A:$AD,16,FALSE) -> #N/A | H7: =VLOOKUP($A7,[1]liste_inscriptions!$A:$AD,18,FALSE) -> #N/A | L7: Médiation Ateliers 2 | M7: =VLOOKUP($A7,[1]liste_inscriptions!$A:$AJ,34,FALSE) -> #N/A | N7: =INDEX(médiateurs!$A:$O,MATCH(L7,médiateurs!$B:$B,0),1) -> #N/A | Q7: Projection MDVA | V7: =TEXT(VLOOKUP($A7,[1]liste_inscriptions!$A:$AJ,30,FALSE)," ") -> #N/A | X7: =IF(ISNA(INDEX(médiateurs!$A:$O,MATCH(V7,médiateurs!$B:$B,0),1)),"",INDEX(médiateurs!$A:$O,MATCH(V7,médiateurs!$B:$B,0),1)) | Y7: =IF(AND(VLOOKUP(médiateurs!$AQ$2,médiateurs!$B:$B,1,0)=médiateurs!$AQ$2,V7=médiateurs!$AP$2),VLOOKUP(médiateurs!$AQ$2,médiateurs!$B:$AC,15,0),IF(AND(VLOOKUP(médiateurs!$AK$2,médiateurs!$B:$B,1,0)=médiateurs!$AK$2,V7=médiateurs!$AI$2),VLOOKUP(médiateurs!$AK$2,médiateurs!$B:$AC,15,0),IF(AND(VLOOKUP(médiateurs!$AL$2,médiateurs!$B:$B,1,0)=médiateurs!$AL$2,V7=médiateurs!$AJ$2),VLOOKUP(médiateurs!$AL$2,médiateurs!$B:$AC,15,0)," "))) -> #N/A | Z7: =TEXT(VLOOKUP($A7,[1]liste_inscriptions!$A:$AD,29,FALSE)," ") -> #N/A
M8: =VLOOKUP($A8,[1]liste_inscriptions!$A:$AJ,34,FALSE) -> #N/A
M9: =VLOOKUP($A9,[1]liste_inscriptions!$A:$AJ,34,FALSE) -> #N/A
A10: 3 | B10: =VLOOKUP($A10,[1]liste_inscriptions!$A:$AD,6,FALSE) -> #N/A | C10: =VLOOKUP($A10,[1]liste_inscriptions!$A:$AD,9,FALSE) -> #N/A | D10: =VLOOKUP($A10,[1]liste_inscriptions!$A:$AD,12,FALSE) -> #N/A | E10: =VLOOKUP($A10,[1]liste_inscriptions!$A:$AD,14,FALSE) -> #N/A | F10: =VLOOKUP($A10,[1]liste_inscriptions!$A:$AD,17,FALSE) -> #N/A | G10: =VLOOKUP($A10,[1]liste_inscriptions!$A:$AD,16,FALSE) -> #N/A | H10: =VLOOKUP($A10,[1]liste_inscriptions!$A:$AD,18,FALSE) -> #N/A | L10: Médiation Ateliers 3 | M10: =VLOOKUP($A10,[1]liste_inscriptions!$A:$AJ,34,FALSE) -> #N/A | N10: =INDEX(médiateurs!$A:$O,MATCH(L10,médiateurs!$B:$B,0),1) -> #N/A | Q10: Projection MDVA | V10: =TEXT(VLOOKUP($A10,[1]liste_inscriptions!$A:$AJ,30,FALSE)," ") -> #N/A | X10: =IF(ISNA(INDEX(médiateurs!$A:$O,MATCH(V10,médiateurs!$B:$B,0),1)),"",INDEX(médiateurs!$A:$O,MATCH(V10,médiateurs!$B:$B,0),1)) | Y10: =IF(AND(VLOOKUP(médiateurs!$AQ$2,médiateurs!$B:$B,1,0)=médiateurs!$AQ$2,V10=médiateurs!$AP$2),VLOOKUP(médiateurs!$AQ$2,médiateurs!$B:$AC,15,0),IF(AND(VLOOKUP(médiateurs!$AK$2,médiateurs!$B:$B,1,0)=médiateurs!$AK$2,V10=médiateurs!$AI$2),VLOOKUP(médiateurs!$AK$2,médiateurs!$B:$AC,15,0),IF(AND(VLOOKUP(médiateurs!$AL$2,médiateurs!$B:$B,1,0)=médiateurs!$AL$2,V10=médiateurs!$AJ$2),VLOOKUP(médiateurs!$AL$2,médiateurs!$B:$AC,15,0)," "))) -> #N/A | Z10: =TEXT(VLOOKUP($A10,[1]liste_inscriptions!$A:$AD,29,FALSE)," ") -> #N/A
M11: =VLOOKUP($A11,[1]liste_inscriptions!$A:$AJ,34,FALSE) -> #N/A
M12: =VLOOKUP($A12,[1]liste_inscriptions!$A:$AJ,34,FALSE) -> #N/A
A13: 4 | B13: =VLOOKUP($A13,[1]liste_inscriptions!$A:$AD,6,FALSE) -> #N/A | C13: =VLOOKUP($A13,[1]liste_inscriptions!$A:$AD,9,FALSE) -> #N/A | D13: =VLOOKUP($A13,[1]liste_inscriptions!$A:$AD,12,FALSE) -> #N/A | E13: =VLOOKUP($A13,[1]liste_inscriptions!$A:$AD,14,FALSE) -> #N/A | F13: =VLOOKUP($A13,[1]liste_inscriptions!$A:$AD,17,FALSE) -> #N/A | G13: =VLOOKUP($A13,[1]liste_inscriptions!$A:$AD,16,FALSE) -> #N/A | H13: =VLOOKUP($A13,[1]liste_inscriptions!$A:$AD,18,FALSE) -> #N/A | L13: Médiation Ateliers 4 | M13: =VLOOKUP($A13,[1]liste_inscriptions!$A:$AJ,34,FALSE) -> #N/A | N13: =INDEX(médiateurs!$A:$O,MATCH(L13,médiateurs!$B:$B,0),1) -> #N/A | Q13: Projection ENSP | S13: =INDEX(médiateurs!$A:$O,MATCH(Q13,médiateurs!$B:$B,0),1) -> #N/A | T13: =INDEX(médiateurs!$A:$O,MATCH("Projection ENSP 2",médiateurs!$B:$B,0),1) -> #N/A | V13: =TEXT(VLOOKUP($A13,[1]liste_inscriptions!$A:$AJ,30,FALSE)," ") -> #N/A | X13: =IF(ISNA(INDEX(médiateurs!$A:$O,MATCH(V13,médiateurs!$B:$B,0),1)),"",INDEX(médiateurs!$A:$O,MATCH(V13,médiateurs!$B:$B,0),1)) | Y13: =IF(AND(VLOOKUP(médiateurs!$AQ$2,médiateurs!$B:$B,1,0)=médiateurs!$AQ$2,V13=médiateurs!$AP$2),VLOOKUP(médiateurs!$AQ$2,médiateurs!$B:$AC,15,0),IF(AND(VLOOKUP(médiateurs!$AK$2,médiateurs!$B:$B,1,0)=médiateurs!$AK$2,V13=médiateurs!$AI$2),VLOOKUP(médiateurs!$AK$2,médiateurs!$B:$AC,15,0),IF(AND(VLOOKUP(médiateurs!$AL$2,médiateurs!$B:$B,1,0)=médiateurs!$AL$2,V13=médiateurs!$AJ$2),VLOOKUP(médiateurs!$AL$2,médiateurs!$B:$AC,15,0)," "))) -> #N/A | Z13: =TEXT(VLOOKUP($A13,[1]liste_inscriptions!$A:$AD,29,FALSE)," ") -> #N/A
M14: =VLOOKUP($A14,[1]liste_inscriptions!$A:$AJ,34,FALSE) -> #N/A
M15: =VLOOKUP($A15,[1]liste_inscriptions!$A:$AJ,34,FALSE) -> #N/A
A16: 5 | B16: =VLOOKUP($A16,[1]liste_inscriptions!$A:$AD,6,FALSE) -> #N/A | C16: =VLOOKUP($A16,[1]liste_inscriptions!$A:$AD,9,FALSE) -> #N/A | D16: =VLOOKUP($A16,[1]liste_inscriptions!$A:$AD,12,FALSE) -> #N/A | E16: =VLOOKUP($A16,[1]liste_inscriptions!$A:$AD,14,FALSE) -> #N/A | F16: =VLOOKUP($A16,[1]liste_inscriptions!$A:$AD,17,FALSE) -> #N/A | G16: =VLOOKUP($A16,[1]liste_inscriptions!$A:$AD,16,FALSE) -> #N/A | H16: =VLOOKUP($A16,[1]liste_inscriptions!$A:$AD,18,FALSE) -> #N/A | L16: Médiation Ateliers 5 | M16: =VLOOKUP($A16,[1]liste_inscriptions!$A:$AJ,34,FALSE) -> #N/A | N16: =INDEX(médiateurs!$A:$O,MATCH(L16,médiateurs!$B:$B,0),1) -> #N/A | Q16: Projection ENSP | V16: =TEXT(VLOOKUP($A16,[1]liste_inscriptions!$A:$AJ,30,FALSE)," ") -> #N/A | X16: =IF(ISNA(INDEX(médiateurs!$A:$O,MATCH(V16,médiateurs!$B:$B,0),1)),"",INDEX(médiateurs!$A:$O,MATCH(V16,médiateurs!$B:$B,0),1)) | Y16: =IF(AND(VLOOKUP(médiateurs!$AQ$2,médiateurs!$B:$B,1,0)=médiateurs!$AQ$2,V16=médiateurs!$AP$2),VLOOKUP(médiateurs!$AQ$2,médiateurs!$B:$AC,15,0),IF(AND(VLOOKUP(médiateurs!$AK$2,médiateurs!$B:$B,1,0)=médiateurs!$AK$2,V16=médiateurs!$AI$2),VLOOKUP(médiateurs!$AK$2,médiateurs!$B:$AC,15,0),IF(AND(VLOOKUP(médiateurs!$AL$2,médiateurs!$B:$B,1,0)=médiateurs!$AL$2,V16=médiateurs!$AJ$2),VLOOKUP(médiateurs!$AL$2,médiateurs!$B:$AC,15,0)," "))) -> #N/A | Z16: =TEXT(VLOOKUP($A16,[1]liste_inscriptions!$A:$AD,29,FALSE)," ") -> #N/A
M17: =VLOOKUP($A17,[1]liste_inscriptions!$A:$AJ,34,FALSE) -> #N/A
M18: =VLOOKUP($A18,[1]liste_inscriptions!$A:$AJ,34,FALSE) -> #N/A
A19: 6 | B19: =VLOOKUP($A19,[1]liste_inscriptions!$A:$AD,6,FALSE) -> #N/A | C19: =VLOOKUP($A19,[1]liste_inscriptions!$A:$AD,9,FALSE) -> #N/A | D19: =VLOOKUP($A19,[1]liste_inscriptions!$A:$AD,12,FALSE) -> #N/A | E19: =VLOOKUP($A19,[1]liste_inscriptions!$A:$AD,14,FALSE) -> #N/A | F19: =VLOOKUP($A19,[1]liste_inscriptions!$A:$AD,17,FALSE) -> #N/A | G19: =VLOOKUP($A19,[1]liste_inscriptions!$A:$AD,16,FALSE) -> #N/A | H19: =VLOOKUP($A19,[1]liste_inscriptions!$A:$AD,18,FALSE) -> #N/A | L19: Médiation Ateliers 6 | M19: =VLOOKUP($A19,[1]liste_inscriptions!$A:$AJ,34,FALSE) -> #N/A | N19: =INDEX(médiateurs!$A:$O,MATCH(L19,médiateurs!$B:$B,0),1) -> #N/A | Q19: Projection ENSP | V19: =TEXT(VLOOKUP($A19,[1]liste_inscriptions!$A:$AJ,30,FALSE)," ") -> #N/A | X19: =IF(ISNA(INDEX(médiateurs!$A:$O,MATCH(V19,médiateurs!$B:$B,0),1)),"",INDEX(médiateurs!$A:$O,MATCH(V19,médiateurs!$B:$B,0),1)) | Y19: =IF(AND(VLOOKUP(médiateurs!$AQ$2,médiateurs!$B:$B,1,0)=médiateurs!$AQ$2,V19=médiateurs!$AP$2),VLOOKUP(médiateurs!$AQ$2,médiateurs!$B:$AC,15,0),IF(AND(VLOOKUP(médiateurs!$AK$2,médiateurs!$B:$B,1,0)=médiateurs!$AK$2,V19=médiateurs!$AI$2),VLOOKUP(médiateurs!$AK$2,médiateurs!$B:$AC,15,0),IF(AND(VLOOKUP(médiateurs!$AL$2,médiateurs!$B:$B,1,0)=médiateurs!$AL$2,V19=médiateurs!$AJ$2),VLOOKUP(médiateurs!$AL$2,médiateurs!$B:$AC,15,0)," "))) -> #N/A | Z19: =TEXT(VLOOKUP($A19,[1]liste_inscriptions!$A:$AD,29,FALSE)," ") -> #N/A
M20: =VLOOKUP($A20,[1]liste_inscriptions!$A:$AJ,34,FALSE) -> #N/A
M21: =VLOOKUP($A21,[1]liste_inscriptions!$A:$AJ,34,FALSE) -> #N/A
A22: 7 | B22: =VLOOKUP($A22,[1]liste_inscriptions!$A:$AD,6,FALSE) -> #N/A | C22: =VLOOKUP($A22,[1]liste_inscriptions!$A:$AD,9,FALSE) -> #N/A | D22: =VLOOKUP($A22,[1]liste_inscriptions!$A:$AD,12,FALSE) -> #N/A | E22: =VLOOKUP($A22,[1]liste_inscriptions!$A:$AD,14,FALSE) -> #N/A | F22: =VLOOKUP($A22,[1]liste_inscriptions!$A:$AD,17,FALSE) -> #N/A | G22: =VLOOKUP($A22,[1]liste_inscriptions!$A:$AD,16,FALSE) -> #N/A | H22: =VLOOKUP($A22,[1]liste_inscriptions!$A:$AD,18,FALSE) -> #N/A | L22: Médiation Ateliers 7 | M22: =VLOOKUP($A22,[1]liste_inscriptions!$A:$AJ,34,FALSE) -> #N/A | N22: =INDEX(médiateurs!$A:$O,MATCH(L22,médiateurs!$B:$B,0),1) -> #N/A | O22: =INDEX(médiateurs!$A:$O,MATCH("accueil SNCF 2",médiateurs!$B:$B,0),1) -> #N/A | Q22: Visite libre | V22: =TEXT(VLOOKUP($A22,[1]liste_inscriptions!$A:$AJ,30,FALSE)," ") -> #N/A | X22: =IF(ISNA(INDEX(médiateurs!$A:$O,MATCH(V22,médiateurs!$B:$B,0),1)),"",INDEX(médiateurs!$A:$O,MATCH(V22,médiateurs!$B:$B,0),1)) | Y22: =IF(AND(VLOOKUP(médiateurs!$AQ$2,médiateurs!$B:$B,1,0)=médiateurs!$AQ$2,V22=médiateurs!$AP$2),VLOOKUP(médiateurs!$AQ$2,médiateurs!$B:$AC,15,0),IF(AND(VLOOKUP(médiateurs!$AK$2,médiateurs!$B:$B,1,0)=médiateurs!$AK$2,V22=médiateurs!$AI$2),VLOOKUP(médiateurs!$AK$2,médiateurs!$B:$AC,15,0),IF(AND(VLOOKUP(médiateurs!$AL$2,médiateurs!$B:$B,1,0)=médiateurs!$AL$2,V22=médiateurs!$AJ$2),VLOOKUP(médiateurs!$AL$2,médiateurs!$B:$AC,15,0)," "))) -> #N/A | Z22: =TEXT(VLOOKUP($A22,[1]liste_inscriptions!$A:$AD,29,FALSE)," ") -> #N/A
M23: =VLOOKUP($A23,[1]liste_inscriptions!$A:$AJ,34,FALSE) -> #N/A
M24: =VLOOKUP($A24,[1]liste_inscriptions!$A:$AJ,34,FALSE) -> #N/A
A25: 8 | B25: =VLOOKUP($A25,[1]liste_inscriptions!$A:$AD,6,FALSE) -> #N/A | C25: =VLOOKUP($A25,[1]liste_inscriptions!$A:$AD,9,FALSE) -> #N/A | D25: =VLOOKUP($A25,[1]liste_inscriptions!$A:$AD,12,FALSE) -> #N/A | E25: =VLOOKUP($A25,[1]liste_inscriptions!$A:$AD,14,FALSE) -> #N/A | F25: =VLOOKUP($A25,[1]liste_inscriptions!$A:$AD,17,FALSE) -> #N/A | G25: =VLOOKUP($A25,[1]liste_inscriptions!$A:$AD,16,FALSE) -> #N/A | H25: =VLOOKUP($A25,[1]liste_inscriptions!$A:$AD,18,FALSE) -> #N/A | L25: Médiation Ateliers 8 | M25: =VLOOKUP($A25,[1]liste_inscriptions!$A:$AJ,34,FALSE) -> #N/A | N25: =INDEX(médiateurs!$A:$O,MATCH(L25,médiateurs!$B:$B,0),1) -> #N/A | Q25: Visite libre | V25: =TEXT(VLOOKUP($A25,[1]liste_inscriptions!$A:$AJ,30,FALSE)," ") -> #N/A | X25: =IF(ISNA(INDEX(médiateurs!$A:$O,MATCH(V25,médiateurs!$B:$B,0),1)),"",INDEX(médiateurs!$A:$O,MATCH(V25,médiateurs!$B:$B,0),1)) | Y25: =IF(AND(VLOOKUP(médiateurs!$AQ$2,médiateurs!$B:$B,1,0)=médiateurs!$AQ$2,V25=médiateurs!$AP$2),VLOOKUP(médiateurs!$AQ$2,médiateurs!$B:$AC,15,0),IF(AND(VLOOKUP(médiateurs!$AK$2,médiateurs!$B:$B,1,0)=médiateurs!$AK$2,V25=médiateurs!$AI$2),VLOOKUP(médiateurs!$AK$2,médiateurs!$B:$AC,15,0),IF(AND(VLOOKUP(médiateurs!$AL$2,médiateurs!$B:$B,1,0)=médiateurs!$AL$2,V25=médiateurs!$AJ$2),VLOOKUP(médiateurs!$AL$2,médiateurs!$B:$AC,15,0)," "))) -> #N/A | Z25: =TEXT(VLOOKUP($A25,[1]liste_inscriptions!$A:$AD,29,FALSE)," ") -> #N/A
M26: =VLOOKUP($A26,[1]liste_inscriptions!$A:$AJ,34,FALSE) -> #N/A
M27: =VLOOKUP($A27,[1]liste_inscriptions!$A:$AJ,34,FALSE) -> #N/A
A28: 9 | B28: =VLOOKUP($A28,[1]liste_inscriptions!$A:$AD,6,FALSE) -> #N/A | C28: =VLOOKUP($A28,[1]liste_inscriptions!$A:$AD,9,FALSE) -> #N/A | D28: =VLOOKUP($A28,[1]liste_inscriptions!$A:$AD,12,FALSE) -> #N/A | E28: =VLOOKUP($A28,[1]liste_inscriptions!$A:$AD,14,FALSE) -> #N/A | F28: =VLOOKUP($A28,[1]liste_inscriptions!$A:$AD,17,FALSE) -> #N/A | G28: =VLOOKUP($A28,[1]liste_inscriptions!$A:$AD,16,FALSE) -> #N/A | H28: =VLOOKUP($A28,[1]liste_inscriptions!$A:$AD,18,FALSE) -> #N/A | L28: Médiation Ateliers 9 | M28: =VLOOKUP($A28,[1]liste_inscriptions!$A:$AJ,34,FALSE) -> #N/A | N28: =INDEX(médiateurs!$A:$O,MATCH(L28,médiateurs!$B:$B,0),1) -> #N/A | Q28: Visite libre | V28: =TEXT(VLOOKUP($A28,[1]liste_inscriptions!$A:$AJ,30,FALSE)," ") -> #N/A | X28: =IF(ISNA(INDEX(médiateurs!$A:$O,MATCH(V28,médiateurs!$B:$B,0),1)),"",INDEX(médiateurs!$A:$O,MATCH(V28,médiateurs!$B:$B,0),1)) | Y28: =IF(AND(VLOOKUP(médiateurs!$AQ$2,médiateurs!$B:$B,1,0)=médiateurs!$AQ$2,V28=médiateurs!$AP$2),VLOOKUP(médiateurs!$AQ$2,médiateurs!$B:$AC,15,0),IF(AND(VLOOKUP(médiateurs!$AK$2,médiateurs!$B:$B,1,0)=médiateurs!$AK$2,V28=médiateurs!$AI$2),VLOOKUP(médiateurs!$AK$2,médiateurs!$B:$AC,15,0),IF(AND(VLOOKUP(médiateurs!$AL$2,médiateurs!$B:$B,1,0)=médiateurs!$AL$2,V28=médiateurs!$AJ$2),VLOOKUP(médiateurs!$AL$2,médiateurs!$B:$AC,15,0)," "))) -> #N/A | Z28: =TEXT(VLOOKUP($A28,[1]liste_inscriptions!$A:$AD,29,FALSE)," ") -> #N/A
M29: =VLOOKUP($A29,[1]liste_inscriptions!$A:$AJ,34,FALSE) -> #N/A
M30: =VLOOKUP($A30,[1]liste_inscriptions!$A:$AJ,34,FALSE) -> #N/A
A31: 10 | B31: =VLOOKUP($A31,[1]liste_inscriptions!$A:$AD,6,FALSE) -> #N/A | C31: =VLOOKUP($A31,[1]liste_inscriptions!$A:$AD,9,FALSE) -> #N/A | D31: =VLOOKUP($A31,[1]liste_inscriptions!$A:$AD,12,FALSE) -> #N/A | E31: =VLOOKUP($A31,[1]liste_inscriptions!$A:$AD,14,FALSE) -> #N/A | F31: =VLOOKUP($A31,[1]liste_inscriptions!$A:$AD,17,FALSE) -> #N/A | G31: =VLOOKUP($A31,[1]liste_inscriptions!$A:$AD,16,FALSE) -> #N/A | H31: =VLOOKUP($A31,[1]liste_inscriptions!$A:$AD,18,FALSE) -> #N/A | L31: Médiation Ateliers 10 | M31: =VLOOKUP($A31,[1]liste_inscriptions!$A:$AJ,34,FALSE) -> #N/A | N31: =INDEX(médiateurs!$A:$O,MATCH(L31,médiateurs!$B:$B,0),1) -> #N/A | Q31: Visite libre | V31: =TEXT(VLOOKUP($A31,[1]liste_inscriptions!$A:$AJ,30,FALSE)," ") -> #N/A | X31: =IF(ISNA(INDEX(médiateurs!$A:$O,MATCH(V31,médiateurs!$B:$B,0),1)),"",INDEX(médiateurs!$A:$O,MATCH(V31,médiateurs!$B:$B,0),1)) | Y31: =IF(AND(VLOOKUP(médiateurs!$AQ$2,médiateurs!$B:$B,1,0)=médiateurs!$AQ$2,V31=médiateurs!$AP$2),VLOOKUP(médiateurs!$AQ$2,médiateurs!$B:$AC,15,0),IF(AND(VLOOKUP(médiateurs!$AK$2,médiateurs!$B:$B,1,0)=médiateurs!$AK$2,V31=médiateurs!$AI$2),VLOOKUP(médiateurs!$AK$2,médiateurs!$B:$AC,15,0),IF(AND(VLOOKUP(médiateurs!$AL$2,médiateurs!$B:$B,1,0)=médiateurs!$AL$2,V31=médiateurs!$AJ$2),VLOOKUP(médiateurs!$AL$2,médiateurs!$B:$AC,15,0)," "))) -> #N/A | Z31: =TEXT(VLOOKUP($A31,[1]liste_inscriptions!$A:$AD,29,FALSE)," ") -> #N/A
M32: =VLOOKUP($A32,[1]liste_inscriptions!$A:$AJ,34,FALSE) -> #N/A
M33: =VLOOKUP($A33,[1]liste_inscriptions!$A:$AJ,34,FALSE) -> #N/A
A34: 11 | B34: =VLOOKUP($A34,[1]liste_inscriptions!$A:$AD,6,FALSE) -> #N/A | C34: =VLOOKUP($A34,[1]liste_inscriptions!$A:$AD,9,FALSE) -> #N/A | D34: =VLOOKUP($A34,[1]liste_inscriptions!$A:$AD,12,FALSE) -> #N/A | E34: =VLOOKUP($A34,[1]liste_inscriptions!$A:$AD,14,FALSE) -> #N/A | F34: =VLOOKUP($A34,[1]liste_inscriptions!$A:$AD,17,FALSE) -> #N/A | G34: =VLOOKUP($A34,[1]liste_inscriptions!$A:$AD,16,FALSE) -> #N/A | H34: =VLOOKUP($A34,[1]liste_inscriptions!$A:$AD,18,FALSE) -> #N/A | L34: Médiation Ateliers 11 | M34: =VLOOKUP($A34,[1]liste_inscriptions!$A:$AJ,34,FALSE) -> #N/A | N34: =INDEX(médiateurs!$A:$O,MATCH(L34,médiateurs!$B:$B,0),1) -> #N/A | Q34: Visite libre | V34: =TEXT(VLOOKUP($A34,[1]liste_inscriptions!$A:$AJ,30,FALSE)," ") -> #N/A | X34: =IF(ISNA(INDEX(médiateurs!$A:$O,MATCH(V34,médiateurs!$B:$B,0),1)),"",INDEX(médiateurs!$A:$O,MATCH(V34,médiateurs!$B:$B,0),1)) | Y34: =IF(AND(VLOOKUP(médiateurs!$AQ$2,médiateurs!$B:$B,1,0)=médiateurs!$AQ$2,V34=médiateurs!$AP$2),VLOOKUP(médiateurs!$AQ$2,médiateurs!$B:$AC,15,0),IF(AND(VLOOKUP(médiateurs!$AK$2,médiateurs!$B:$B,1,0)=médiateurs!$AK$2,V34=médiateurs!$AI$2),VLOOKUP(médiateurs!$AK$2,médiateurs!$B:$AC,15,0),IF(AND(VLOOKUP(médiateurs!$AL$2,médiateurs!$B:$B,1,0)=médiateurs!$AL$2,V34=médiateurs!$AJ$2),VLOOKUP(médiateurs!$AL$2,médiateurs!$B:$AC,15,0)," "))) -> #N/A | Z34: =TEXT(VLOOKUP($A34,[1]liste_inscriptions!$A:$AD,29,FALSE)," ") -> #N/A
M35: =VLOOKUP($A35,[1]liste_inscriptions!$A:$AJ,34,FALSE) -> #N/A
M36: =VLOOKUP($A36,[1]liste_inscriptions!$A:$AJ,34,FALSE) -> #N/A
A37: 12 | B37: =VLOOKUP($A37,[1]liste_inscriptions!$A:$AD,6,FALSE) -> #N/A | C37: =VLOOKUP($A37,[1]liste_inscriptions!$A:$AD,9,FALSE) -> #N/A | D37: =VLOOKUP($A37,[1]liste_inscriptions!$A:$AD,12,FALSE) -> #N/A | E37: =VLOOKUP($A37,[1]liste_inscriptions!$A:$AD,14,FALSE) -> #N/A | F37: =VLOOKUP($A37,[1]liste_inscriptions!$A:$AD,17,FALSE) -> #N/A | G37: =VLOOKUP($A37,[1]liste_inscriptions!$A:$AD,16,FALSE) -> #N/A | H37: =VLOOKUP($A37,[1]liste_inscriptions!$A:$AD,18,FALSE) -> #N/A | L37: Médiation Ateliers 12 | M37: =VLOOKUP($A37,[1]liste_inscriptions!$A:$AJ,34,FALSE) -> #N/A | N37: =INDEX(médiateurs!$A:$O,MATCH(L37,médiateurs!$B:$B,0),1) -> #N/A | Q37: Visite libre | V37: =TEXT(VLOOKUP($A37,[1]liste_inscriptions!$A:$AJ,30,FALSE)," ") -> #N/A | X37: =IF(ISNA(INDEX(médiateurs!$A:$O,MATCH(V37,médiateurs!$B:$B,0),1)),"",INDEX(médiateurs!$A:$O,MATCH(V37,médiateurs!$B:$B,0),1)) | Y37: =IF(AND(VLOOKUP(médiateurs!$AQ$2,médiateurs!$B:$B,1,0)=médiateurs!$AQ$2,V37=médiateurs!$AP$2),VLOOKUP(médiateurs!$AQ$2,médiateurs!$B:$AC,15,0),IF(AND(VLOOKUP(médiateurs!$AK$2,médiateurs!$B:$B,1,0)=médiateurs!$AK$2,V37=médiateurs!$AI$2),VLOOKUP(médiateurs!$AK$2,médiateurs!$B:$AC,15,0),IF(AND(VLOOKUP(médiateurs!$AL$2,médiateurs!$B:$B,1,0)=médiateurs!$AL$2,V37=médiateurs!$AJ$2),VLOOKUP(médiateurs!$AL$2,médiateurs!$B:$AC,15,0)," "))) -> #N/A | Z37: =TEXT(VLOOKUP($A37,[1]liste_inscriptions!$A:$AD,29,FALSE)," ") -> #N/A
M38: =VLOOKUP($A38,[1]liste_inscriptions!$A:$AJ,34,FALSE) -> #N/A
M39: =VLOOKUP($A39,[1]liste_inscriptions!$A:$AJ,34,FALSE) -> #N/A
A41: FORMULE 2
A42: N° | B42: ETABLISSEMENT | C42: VILLE | D42: NOM | E42: TÉLÉPHONE | F42: EFFECTIF | G42: NIVEAU | H42: SPÉCIALITÉ | J42: Accueil Arènes | L42: 9h30 - 10h30 PROJECTION | N42: MÉDIATEURS | Q42: 11h - 12h30 CARTE | S42: MÉDIATEURS | V42: 14h - 15h30 PARCOURS FESTIVALIER | W42: EXPOSITIONS | X42: MÉDIATEUR | Y42: ACCUEIL SNCF | Z42: COMMENTAIRE
A43: 13 | B43: =VLOOKUP($A43,[1]liste_inscriptions!$A:$AD,6,FALSE) -> #N/A | C43: =VLOOKUP($A43,[1]liste_inscriptions!$A:$AD,9,FALSE) -> #N/A | D43: =VLOOKUP($A43,[1]liste_inscriptions!$A:$AD,12,FALSE) -> #N/A | E43: =VLOOKUP($A43,[1]liste_inscriptions!$A:$AD,14,FALSE) -> #N/A | F43: =VLOOKUP($A43,[1]liste_inscriptions!$A:$AD,17,FALSE) -> #N/A | G43: =VLOOKUP($A43,[1]liste_inscriptions!$A:$AD,16,FALSE) -> #N/A | H43: =VLOOKUP($A43,[1]liste_inscriptions!$A:$AD,18,FALSE) -> #N/A | J43: =INDEX(médiateurs!$A:$O,MATCH("accueil maison des rencontres",médiateurs!$B:$B,0),1) -> #N/A | L43: Projection MDVA | N43: =INDEX(médiateurs!$A:$O,MATCH(L43,médiateurs!$B:$B,0),1) -> #N/A | O43: =INDEX(médiateurs!$A:$O,MATCH("Projection MDVA 2",médiateurs!$B:$B,0),1) -> #N/A | Q43: =TEXT(VLOOKUP($A43,[1]liste_inscriptions!$A:$AJ,30,FALSE)," ") -> #N/A | S43: =IF(ISNA(INDEX(médiateurs!$A:$O,MATCH(Q43,médiateurs!$B:$B,0),1)),"",INDEX(médiateurs!$A:$O,MATCH(Q43,médiateurs!$B:$B,0),1)) | T43: =IF(AND(VLOOKUP(médiateurs!$AQ$2,médiateurs!$B:$B,1,0)=médiateurs!$AQ$2,Q43=médiateurs!$AP$2),VLOOKUP(médiateurs!$AQ$2,médiateurs!$B:$AC,15,0),IF(AND(VLOOKUP(médiateurs!$AK$2,médiateurs!$B:$B,1,0)=médiateurs!$AK$2,Q43=médiateurs!$AI$2),VLOOKUP(médiateurs!$AK$2,médiateurs!$B:$AC,15,0),IF(AND(VLOOKUP(médiateurs!$AL$2,médiateurs!$B:$B,1,0)=médiateurs!$AL$2,Q43=médiateurs!$AJ$2),VLOOKUP(médiateurs!$AL$2,médiateurs!$B:$AC,15,0)," "))) -> #N/A | V43: Médiation Ateliers 1 | W43: =TEXT(VLOOKUP($A43,[1]liste_inscriptions!$A:$AJ,34,FALSE)," ") -> #N/A | X43: =INDEX(médiateurs!$A:$O,MATCH(V43,médiateurs!$B:$B,0),1) -> #N/A | Y43: =INDEX(médiateurs!$A:$O,MATCH(Y42,médiateurs!$B:$B,0),1) -> #N/A | Z43: =TEXT(VLOOKUP($A43,[1]liste_inscriptions!$A:$AD,29,FALSE)," ") -> #N/A
W44: =TEXT(VLOOKUP($A43,[1]liste_inscriptions!$A:$AJ,35,FALSE)," ") -> #N/A
W45: =TEXT(VLOOKUP($A43,[1]liste_inscriptions!$A:$AJ,36,FALSE)," ") -> #N/A
A46: 14 | B46: =VLOOKUP($A46,[1]liste_inscriptions!$A:$AD,6,FALSE) -> #N/A | C46: =VLOOKUP($A46,[1]liste_inscriptions!$A:$AD,9,FALSE) -> #N/A | D46: =VLOOKUP($A46,[1]liste_inscriptions!$A:$AD,12,FALSE) -> #N/A | E46: =VLOOKUP($A46,[1]liste_inscriptions!$A:$AD,14,FALSE) -> #N/A | F46: =VLOOKUP($A46,[1]liste_inscriptions!$A:$AD,17,FALSE) -> #N/A | G46: =VLOOKUP($A46,[1]liste_inscriptions!$A:$AD,16,FALSE) -> #N/A | H46: =VLOOKUP($A46,[1]liste_inscriptions!$A:$AD,18,FALSE) -> #N/A | L46: Projection MDVA | Q46: =TEXT(VLOOKUP($A46,[1]liste_inscriptions!$A:$AJ,30,FALSE)," ") -> #N/A | S46: =IF(ISNA(INDEX(médiateurs!$A:$O,MATCH(Q46,médiateurs!$B:$B,0),1)),"",INDEX(médiateurs!$A:$O,MATCH(Q46,médiateurs!$B:$B,0),1)) | T46: =IF(AND(VLOOKUP(médiateurs!$AQ$2,médiateurs!$B:$B,1,0)=médiateurs!$AQ$2,Q46=médiateurs!$AP$2),VLOOKUP(médiateurs!$AQ$2,médiateurs!$B:$AC,15,0),IF(AND(VLOOKUP(médiateurs!$AK$2,médiateurs!$B:$B,1,0)=médiateurs!$AK$2,Q46=médiateurs!$AI$2),VLOOKUP(médiateurs!$AK$2,médiateurs!$B:$AC,15,0),IF(AND(VLOOKUP(médiateurs!$AL$2,médiateurs!$B:$B,1,0)=médiateurs!$AL$2,Q46=médiateurs!$AJ$2),VLOOKUP(médiateurs!$AL$2,médiateurs!$B:$AC,15,0)," "))) -> #N/A | V46: Médiation Ateliers 2 | W46: =TEXT(VLOOKUP($A46,[1]liste_inscriptions!$A:$AJ,34,FALSE)," ") -> #N/A | X46: =INDEX(médiateurs!$A:$O,MATCH(V46,médiateurs!$B:$B,0),1) -> #N/A | Z46: =TEXT(VLOOKUP($A46,[1]liste_inscriptions!$A:$AD,29,FALSE)," ") -> #N/A
W47: =TEXT(VLOOKUP($A46,[1]liste_inscriptions!$A:$AJ,35,FALSE)," ") -> #N/A
W48: =TEXT(VLOOKUP($A46,[1]liste_inscriptions!$A:$AJ,36,FALSE)," ") -> #N/A
A49: 15 | B49: =VLOOKUP($A49,[1]liste_inscriptions!$A:$AD,6,FALSE) -> #N/A | C49: =VLOOKUP($A49,[1]liste_inscriptions!$A:$AD,9,FALSE) -> #N/A | D49: =VLOOKUP($A49,[1]liste_inscriptions!$A:$AD,12,FALSE) -> #N/A | E49: =VLOOKUP($A49,[1]liste_inscriptions!$A:$AD,14,FALSE) -> #N/A | F49: =VLOOKUP($A49,[1]liste_inscriptions!$A:$AD,17,FALSE) -> #N/A | G49: =VLOOKUP($A49,[1]liste_inscriptions!$A:$AD,16,FALSE) -> #N/A | H49: =VLOOKUP($A49,[1]liste_inscriptions!$A:$AD,18,FALSE) -> #N/A | L49: Projection MDVA | Q49: =TEXT(VLOOKUP($A49,[1]liste_inscriptions!$A:$AJ,30,FALSE)," ") -> #N/A | S49: =IF(ISNA(INDEX(médiateurs!$A:$O,MATCH(Q49,médiateurs!$B:$B,0),1)),"",INDEX(médiateurs!$A:$O,MATCH(Q49,médiateurs!$B:$B,0),1)) | T49: =IF(AND(VLOOKUP(médiateurs!$AQ$2,médiateurs!$B:$B,1,0)=médiateurs!$AQ$2,Q49=médiateurs!$AP$2),VLOOKUP(médiateurs!$AQ$2,médiateurs!$B:$AC,15,0),IF(AND(VLOOKUP(médiateurs!$AK$2,médiateurs!$B:$B,1,0)=médiateurs!$AK$2,Q49=médiateurs!$AI$2),VLOOKUP(médiateurs!$AK$2,médiateurs!$B:$AC,15,0),IF(AND(VLOOKUP(médiateurs!$AL$2,médiateurs!$B:$B,1,0)=médiateurs!$AL$2,Q49=médiateurs!$AJ$2),VLOOKUP(médiateurs!$AL$2,médiateurs!$B:$AC,15,0)," "))) -> #N/A | V49: Médiation Ateliers 3 | W49: =TEXT(VLOOKUP($A49,[1]liste_inscriptions!$A:$AJ,34,FALSE)," ") -> #N/A | X49: =INDEX(médiateurs!$A:$O,MATCH(V49,médiateurs!$B:$B,0),1) -> #N/A | Z49: =TEXT(VLOOKUP($A49,[1]liste_inscriptions!$A:$AD,29,FALSE)," ") -> #N/A
W50: =TEXT(VLOOKUP($A49,[1]liste_inscriptions!$A:$AJ,35,FALSE)," ") -> #N/A
W51: =TEXT(VLOOKUP($A49,[1]liste_inscriptions!$A:$AJ,36,FALSE)," ") -> #N/A
A52: 16 | B52: =VLOOKUP($A52,[1]liste_inscriptions!$A:$AD,6,FALSE) -> #N/A | C52: =VLOOKUP($A52,[1]liste_inscriptions!$A:$AD,9,FALSE) -> #N/A | D52: =VLOOKUP($A52,[1]liste_inscriptions!$A:$AD,12,FALSE) -> #N/A | E52: =VLOOKUP($A52,[1]liste_inscriptions!$A:$AD,14,FALSE) -> #N/A | F52: =VLOOKUP($A52,[1]liste_inscriptions!$A:$AD,17,FALSE) -> #N/A | G52: =VLOOKUP($A52,[1]liste_inscriptions!$A:$AD,16,FALSE) -> #N/A | H52: =VLOOKUP($A52,[1]liste_inscriptions!$A:$AD,18,FALSE) -> #N/A | L52: Projection ENSP | N52: =INDEX(médiateurs!$A:$O,MATCH(L52,médiateurs!$B:$B,0),1) -> #N/A | O52: =INDEX(médiateurs!$A:$O,MATCH("Projection ENSP 2",médiateurs!$B:$B,0),1) -> #N/A | Q52: =TEXT(VLOOKUP($A52,[1]liste_inscriptions!$A:$AJ,30,FALSE)," ") -> #N/A | S52: =IF(ISNA(INDEX(médiateurs!$A:$O,MATCH(Q52,médiateurs!$B:$B,0),1)),"",INDEX(médiateurs!$A:$O,MATCH(Q52,médiateurs!$B:$B,0),1)) | T52: =IF(AND(VLOOKUP(médiateurs!$AQ$2,médiateurs!$B:$B,1,0)=médiateurs!$AQ$2,Q52=médiateurs!$AP$2),VLOOKUP(médiateurs!$AQ$2,médiateurs!$B:$AC,15,0),IF(AND(VLOOKUP(médiateurs!$AK$2,médiateurs!$B:$B,1,0)=médiateurs!$AK$2,Q52=médiateurs!$AI$2),VLOOKUP(médiateurs!$AK$2,médiateurs!$B:$AC,15,0),IF(AND(VLOOKUP(médiateurs!$AL$2,médiateurs!$B:$B,1,0)=médiateurs!$AL$2,Q52=médiateurs!$AJ$2),VLOOKUP(médiateurs!$AL$2,médiateurs!$B:$AC,15,0)," "))) -> #N/A | V52: Médiation Ateliers 4 | W52: =TEXT(VLOOKUP($A52,[1]liste_inscriptions!$A:$AJ,34,FALSE)," ") -> #N/A | X52: =INDEX(médiateurs!$A:$O,MATCH(V52,médiateurs!$B:$B,0),1) -> #N/A | Z52: =TEXT(VLOOKUP($A52,[1]liste_inscriptions!$A:$AD,29,FALSE)," ") -> #N/A
W53: =TEXT(VLOOKUP($A52,[1]liste_inscriptions!$A:$AJ,35,FALSE)," ") -> #N/A
W54: =TEXT(VLOOKUP($A52,[1]liste_inscriptions!$A:$AJ,36,FALSE)," ") -> #N/A
A55: 17 | B55: =VLOOKUP($A55,[1]liste_inscriptions!$A:$AD,6,FALSE) -> #N/A | C55: =VLOOKUP($A55,[1]liste_inscriptions!$A:$AD,9,FALSE) -> #N/A | D55: =VLOOKUP($A55,[1]liste_inscriptions!$A:$AD,12,FALSE) -> #N/A | E55: =VLOOKUP($A55,[1]liste_inscriptions!$A:$AD,14,FALSE) -> #N/A | F55: =VLOOKUP($A55,[1]liste_inscriptions!$A:$AD,17,FALSE) -> #N/A | G55: =VLOOKUP($A55,[1]liste_inscriptions!$A:$AD,16,FALSE) -> #N/A | H55: =VLOOKUP($A55,[1]liste_inscriptions!$A:$AD,18,FALSE) -> #N/A | L55: Projection ENSP | Q55: =TEXT(VLOOKUP($A55,[1]liste_inscriptions!$A:$AJ,30,FALSE)," ") -> #N/A | S55: =IF(ISNA(INDEX(médiateurs!$A:$O,MATCH(Q55,médiateurs!$B:$B,0),1)),"",INDEX(médiateurs!$A:$O,MATCH(Q55,médiateurs!$B:$B,0),1)) | T55: =IF(AND(VLOOKUP(médiateurs!$AQ$2,médiateurs!$B:$B,1,0)=médiateurs!$AQ$2,Q55=médiateurs!$AP$2),VLOOKUP(médiateurs!$AQ$2,médiateurs!$B:$AC,15,0),IF(AND(VLOOKUP(médiateurs!$AK$2,médiateurs!$B:$B,1,0)=médiateurs!$AK$2,Q55=médiateurs!$AI$2),VLOOKUP(médiateurs!$AK$2,médiateurs!$B:$AC,15,0),IF(AND(VLOOKUP(médiateurs!$AL$2,médiateurs!$B:$B,1,0)=médiateurs!$AL$2,Q55=médiateurs!$AJ$2),VLOOKUP(médiateurs!$AL$2,médiateurs!$B:$AC,15,0)," "))) -> #N/A | V55: Médiation Ateliers 5 | W55: =TEXT(VLOOKUP($A55,[1]liste_inscriptions!$A:$AJ,34,FALSE)," ") -> #N/A | X55: =INDEX(médiateurs!$A:$O,MATCH(V55,médiateurs!$B:$B,0),1) -> #N/A | Z55: =TEXT(VLOOKUP($A55,[1]liste_inscriptions!$A:$AD,29,FALSE)," ") -> #N/A
W56: =TEXT(VLOOKUP($A55,[1]liste_inscriptions!$A:$AJ,35,FALSE)," ") -> #N/A
W57: =TEXT(VLOOKUP($A55,[1]liste_inscriptions!$A:$AJ,36,FALSE)," ") -> #N/A
A58: 18 | B58: =VLOOKUP($A58,[1]liste_inscriptions!$A:$AD,6,FALSE) -> #N/A | C58: =VLOOKUP($A58,[1]liste_inscriptions!$A:$AD,9,FALSE) -> #N/A | D58: =VLOOKUP($A58,[1]liste_inscriptions!$A:$AD,12,FALSE) -> #N/A | E58: =VLOOKUP($A58,[1]liste_inscriptions!$A:$AD,14,FALSE) -> #N/A | F58: =VLOOKUP($A58,[1]liste_inscriptions!$A:$AD,17,FALSE) -> #N/A | G58: =VLOOKUP($A58,[1]liste_inscriptions!$A:$AD,16,FALSE) -> #N/A | H58: =VLOOKUP($A58,[1]liste_inscriptions!$A:$AD,18,FALSE) -> #N/A | L58: Projection ENSP | Q58: =TEXT(VLOOKUP($A58,[1]liste_inscriptions!$A:$AJ,30,FALSE)," ") -> #N/A | S58: =IF(ISNA(INDEX(médiateurs!$A:$O,MATCH(Q58,médiateurs!$B:$B,0),1)),"",INDEX(médiateurs!$A:$O,MATCH(Q58,médiateurs!$B:$B,0),1)) | T58: =IF(AND(VLOOKUP(médiateurs!$AQ$2,médiateurs!$B:$B,1,0)=médiateurs!$AQ$2,Q58=médiateurs!$AP$2),VLOOKUP(médiateurs!$AQ$2,médiateurs!$B:$AC,15,0),IF(AND(VLOOKUP(médiateurs!$AK$2,médiateurs!$B:$B,1,0)=médiateurs!$AK$2,Q58=médiateurs!$AI$2),VLOOKUP(médiateurs!$AK$2,médiateurs!$B:$AC,15,0),IF(AND(VLOOKUP(médiateurs!$AL$2,médiateurs!$B:$B,1,0)=médiateurs!$AL$2,Q58=médiateurs!$AJ$2),VLOOKUP(médiateurs!$AL$2,médiateurs!$B:$AC,15,0)," "))) -> #N/A | V58: Médiation Ateliers 6 | W58: =TEXT(VLOOKUP($A58,[1]liste_inscriptions!$A:$AJ,34,FALSE)," ") -> #N/A | X58: =INDEX(médiateurs!$A:$O,MATCH(V58,médiateurs!$B:$B,0),1) -> #N/A | Z58: =TEXT(VLOOKUP($A58,[1]liste_inscriptions!$A:$AD,29,FALSE)," ") -> #N/A
W59: =TEXT(VLOOKUP($A58,[1]liste_inscriptions!$A:$AJ,35,FALSE)," ") -> #N/A
W60: =TEXT(VLOOKUP($A58,[1]liste_inscriptions!$A:$AJ,36,FALSE)," ") -> #N/A
A61: 19 | B61: =VLOOKUP($A61,[1]liste_inscriptions!$A:$AD,6,FALSE) -> #N/A | C61: =VLOOKUP($A61,[1]liste_inscriptions!$A:$AD,9,FALSE) -> #N/A | D61: =VLOOKUP($A61,[1]liste_inscriptions!$A:$AD,12,FALSE) -> #N/A | E61: =VLOOKUP($A61,[1]liste_inscriptions!$A:$AD,14,FALSE) -> #N/A | F61: =VLOOKUP($A61,[1]liste_inscriptions!$A:$AD,17,FALSE) -> #N/A | G61: =VLOOKUP($A61,[1]liste_inscriptions!$A:$AD,16,FALSE) -> #N/A | H61: =VLOOKUP($A61,[1]liste_inscriptions!$A:$AD,18,FALSE) -> #N/A | L61: Visite libre | Q61: =TEXT(VLOOKUP($A61,[1]liste_inscriptions!$A:$AJ,30,FALSE)," ") -> #N/A | S61: =IF(ISNA(INDEX(médiateurs!$A:$O,MATCH(Q61,médiateurs!$B:$B,0),1)),"",INDEX(médiateurs!$A:$O,MATCH(Q61,médiateurs!$B:$B,0),1)) | T61: =IF(AND(VLOOKUP(médiateurs!$AQ$2,médiateurs!$B:$B,1,0)=médiateurs!$AQ$2,Q61=médiateurs!$AP$2),VLOOKUP(médiateurs!$AQ$2,médiateurs!$B:$AC,15,0),IF(AND(VLOOKUP(médiateurs!$AK$2,médiateurs!$B:$B,1,0)=médiateurs!$AK$2,Q61=médiateurs!$AI$2),VLOOKUP(médiateurs!$AK$2,médiateurs!$B:$AC,15,0),IF(AND(VLOOKUP(médiateurs!$AL$2,médiateurs!$B:$B,1,0)=médiateurs!$AL$2,Q61=médiateurs!$AJ$2),VLOOKUP(médiateurs!$AL$2,médiateurs!$B:$AC,15,0)," "))) -> #N/A | V61: Médiation Ateliers 7 | W61: =TEXT(VLOOKUP($A61,[1]liste_inscriptions!$A:$AJ,34,FALSE)," ") -> #N/A | X61: =INDEX(médiateurs!$A:$O,MATCH(V61,médiateurs!$B:$B,0),1) -> #N/A | Y61: =INDEX(médiateurs!$A:$O,MATCH("accueil SNCF 2",médiateurs!$B:$B,0),1) -> #N/A | Z61: =TEXT(VLOOKUP($A61,[1]liste_inscriptions!$A:$AD,29,FALSE)," ") -> #N/A
W62: =TEXT(VLOOKUP($A61,[1]liste_inscriptions!$A:$AJ,35,FALSE)," ") -> #N/A
W63: =TEXT(VLOOKUP($A61,[1]liste_inscriptions!$A:$AJ,36,FALSE)," ") -> #N/A
A64: 20 | B64: =VLOOKUP($A64,[1]liste_inscriptions!$A:$AD,6,FALSE) -> #N/A | C64: =VLOOKUP($A64,[1]liste_inscriptions!$A:$AD,9,FALSE) -> #N/A | D64: =VLOOKUP($A64,[1]liste_inscriptions!$A:$AD,12,FALSE) -> #N/A | E64: =VLOOKUP($A64,[1]liste_inscriptions!$A:$AD,14,FALSE) -> #N/A | F64: =VLOOKUP($A64,[1]liste_inscriptions!$A:$AD,17,FALSE) -> #N/A | G64: =VLOOKUP($A64,[1]liste_inscriptions!$A:$AD,16,FALSE) -> #N/A | H64: =VLOOKUP($A64,[1]liste_inscriptions!$A:$AD,18,FALSE) -> #N/A | L64: Visite libre | Q64: =TEXT(VLOOKUP($A64,[1]liste_inscriptions!$A:$AJ,30,FALSE)," ") -> #N/A | S64: =IF(ISNA(INDEX(médiateurs!$A:$O,MATCH(Q64,médiateurs!$B:$B,0),1)),"",INDEX(médiateurs!$A:$O,MATCH(Q64,médiateurs!$B:$B,0),1)) | T64: =IF(AND(VLOOKUP(médiateurs!$AQ$2,médiateurs!$B:$B,1,0)=médiateurs!$AQ$2,Q64=médiateurs!$AP$2),VLOOKUP(médiateurs!$AQ$2,médiateurs!$B:$AC,15,0),IF(AND(VLOOKUP(médiateurs!$AK$2,médiateurs!$B:$B,1,0)=médiateurs!$AK$2,Q64=médiateurs!$AI$2),VLOOKUP(médiateurs!$AK$2,médiateurs!$B:$AC,15,0),IF(AND(VLOOKUP(médiateurs!$AL$2,médiateurs!$B:$B,1,0)=médiateurs!$AL$2,Q64=médiateurs!$AJ$2),VLOOKUP(médiateurs!$AL$2,médiateurs!$B:$AC,15,0)," "))) -> #N/A | V64: Médiation Ateliers 8 | W64: =TEXT(VLOOKUP($A64,[1]liste_inscriptions!$A:$AJ,34,FALSE)," ") -> #N/A | X64: =INDEX(médiateurs!$A:$O,MATCH(V64,médiateurs!$B:$B,0),1) -> #N/A | Z64: =TEXT(VLOOKUP($A64,[1]liste_inscriptions!$A:$AD,29,FALSE)," ") -> #N/A
W65: =TEXT(VLOOKUP($A64,[1]liste_inscriptions!$A:$AJ,35,FALSE)," ") -> #N/A
W66: =TEXT(VLOOKUP($A64,[1]liste_inscriptions!$A:$AJ,36,FALSE)," ") -> #N/A
A67: 21 | B67: =VLOOKUP($A67,[1]liste_inscriptions!$A:$AD,6,FALSE) -> #N/A | C67: =VLOOKUP($A67,[1]liste_inscriptions!$A:$AD,9,FALSE) -> #N/A | D67: =VLOOKUP($A67,[1]liste_inscriptions!$A:$AD,12,FALSE) -> #N/A | E67: =VLOOKUP($A67,[1]liste_inscriptions!$A:$AD,14,FALSE) -> #N/A | F67: =VLOOKUP($A67,[1]liste_inscriptions!$A:$AD,17,FALSE) -> #N/A | G67: =VLOOKUP($A67,[1]liste_inscriptions!$A:$AD,16,FALSE) -> #N/A | H67: =VLOOKUP($A67,[1]liste_inscriptions!$A:$AD,18,FALSE) -> #N/A | L67: Visite libre | Q67: =TEXT(VLOOKUP($A67,[1]liste_inscriptions!$A:$AJ,30,FALSE)," ") -> #N/A | S67: =IF(ISNA(INDEX(médiateurs!$A:$O,MATCH(Q67,médiateurs!$B:$B,0),1)),"",INDEX(médiateurs!$A:$O,MATCH(Q67,médiateurs!$B:$B,0),1)) | T67: =IF(AND(VLOOKUP(médiateurs!$AQ$2,médiateurs!$B:$B,1,0)=médiateurs!$AQ$2,Q67=médiateurs!$AP$2),VLOOKUP(médiateurs!$AQ$2,médiateurs!$B:$AC,15,0),IF(AND(VLOOKUP(médiateurs!$AK$2,médiateurs!$B:$B,1,0)=médiateurs!$AK$2,Q67=médiateurs!$AI$2),VLOOKUP(médiateurs!$AK$2,médiateurs!$B:$AC,15,0),IF(AND(VLOOKUP(médiateurs!$AL$2,médiateurs!$B:$B,1,0)=médiateurs!$AL$2,Q67=médiateurs!$AJ$2),VLOOKUP(médiateurs!$AL$2,médiateurs!$B:$AC,15,0)," "))) -> #N/A | V67: Médiation Ateliers 9 | W67: =TEXT(VLOOKUP($A67,[1]liste_inscriptions!$A:$AJ,34,FALSE)," ") -> #N/A | X67: =INDEX(médiateurs!$A:$O,MATCH(V67,médiateurs!$B:$B,0),1) -> #N/A | Z67: =TEXT(VLOOKUP($A67,[1]liste_inscriptions!$A:$AD,29,FALSE)," ") -> #N/A
W68: =TEXT(VLOOKUP($A67,[1]liste_inscriptions!$A:$AJ,35,FALSE)," ") -> #N/A
W69: =TEXT(VLOOKUP($A67,[1]liste_inscriptions!$A:$AJ,36,FALSE)," ") -> #N/A
A70: 22 | B70: =VLOOKUP($A70,[1]liste_inscriptions!$A:$AD,6,FALSE) -> #N/A | C70: =VLOOKUP($A70,[1]liste_inscriptions!$A:$AD,9,FALSE) -> #N/A | D70: =VLOOKUP($A70,[1]liste_inscriptions!$A:$AD,12,FALSE) -> #N/A | E70: =VLOOKUP($A70,[1]liste_inscriptions!$A:$AD,14,FALSE) -> #N/A | F70: =VLOOKUP($A70,[1]liste_inscriptions!$A:$AD,17,FALSE) -> #N/A | G70: =VLOOKUP($A70,[1]liste_inscriptions!$A:$AD,16,FALSE) -> #N/A | H70: =VLOOKUP($A70,[1]liste_inscriptions!$A:$AD,18,FALSE) -> #N/A | L70: Visite libre | Q70: =TEXT(VLOOKUP($A70,[1]liste_inscriptions!$A:$AJ,30,FALSE)," ") -> #N/A | S70: =IF(ISNA(INDEX(médiateurs!$A:$O,MATCH(Q70,médiateurs!$B:$B,0),1)),"",INDEX(médiateurs!$A:$O,MATCH(Q70,médiateurs!$B:$B,0),1)) | T70: =IF(AND(VLOOKUP(médiateurs!$AQ$2,médiateurs!$B:$B,1,0)=médiateurs!$AQ$2,Q70=médiateurs!$AP$2),VLOOKUP(médiateurs!$AQ$2,médiateurs!$B:$AC,15,0),IF(AND(VLOOKUP(médiateurs!$AK$2,médiateurs!$B:$B,1,0)=médiateurs!$AK$2,Q70=médiateurs!$AI$2),VLOOKUP(médiateurs!$AK$2,médiateurs!$B:$AC,15,0),IF(AND(VLOOKUP(médiateurs!$AL$2,médiateurs!$B:$B,1,0)=médiateurs!$AL$2,Q70=médiateurs!$AJ$2),VLOOKUP(médiateurs!$AL$2,médiateurs!$B:$AC,15,0)," "))) -> #N/A | V70: Médiation Ateliers 10 | W70: =TEXT(VLOOKUP($A70,[1]liste_inscriptions!$A:$AJ,34,FALSE)," ") -> #N/A | X70: =INDEX(médiateurs!$A:$O,MATCH(V70,médiateurs!$B:$B,0),1) -> #N/A | Z70: =TEXT(VLOOKUP($A70,[1]liste_inscriptions!$A:$AD,29,FALSE)," ") -> #N/A
W71: =TEXT(VLOOKUP($A70,[1]liste_inscriptions!$A:$AJ,35,FALSE)," ") -> #N/A
W72: =TEXT(VLOOKUP($A70,[1]liste_inscriptions!$A:$AJ,36,FALSE)," ") -> #N/A
A73: 23 | B73: =VLOOKUP($A73,[1]liste_inscriptions!$A:$AD,6,FALSE) -> #N/A | C73: =VLOOKUP($A73,[1]liste_inscriptions!$A:$AD,9,FALSE) -> #N/A | D73: =VLOOKUP($A73,[1]liste_inscriptions!$A:$AD,12,FALSE) -> #N/A | E73: =VLOOKUP($A73,[1]liste_inscriptions!$A:$AD,14,FALSE) -> #N/A | F73: =VLOOKUP($A73,[1]liste_inscriptions!$A:$AD,17,FALSE) -> #N/A | G73: =VLOOKUP($A73,[1]liste_inscriptions!$A:$AD,16,FALSE) -> #N/A | H73: =VLOOKUP($A73,[1]liste_inscriptions!$A:$AD,18,FALSE) -> #N/A | L73: Visite libre | Q73: =TEXT(VLOOKUP($A73,[1]liste_inscriptions!$A:$AJ,30,FALSE)," ") -> #N/A | S73: =IF(ISNA(INDEX(médiateurs!$A:$O,MATCH(Q73,médiateurs!$B:$B,0),1)),"",INDEX(médiateurs!$A:$O,MATCH(Q73,médiateurs!$B:$B,0),1)) | T73: =IF(AND(VLOOKUP(médiateurs!$AQ$2,médiateurs!$B:$B,1,0)=médiateurs!$AQ$2,Q73=médiateurs!$AP$2),VLOOKUP(médiateurs!$AQ$2,médiateurs!$B:$AC,15,0),IF(AND(VLOOKUP(médiateurs!$AK$2,médiateurs!$B:$B,1,0)=médiateurs!$AK$2,Q73=médiateurs!$AI$2),VLOOKUP(médiateurs!$AK$2,médiateurs!$B:$AC,15,0),IF(AND(VLOOKUP(médiateurs!$AL$2,médiateurs!$B:$B,1,0)=médiateurs!$AL$2,Q73=médiateurs!$AJ$2),VLOOKUP(médiateurs!$AL$2,médiateurs!$B:$AC,15,0)," "))) -> #N/A | V73: Médiation Ateliers 11 | W73: =TEXT(VLOOKUP($A73,[1]liste_inscriptions!$A:$AJ,34,FALSE)," ") -> #N/A | X73: =INDEX(médiateurs!$A:$O,MATCH(V73,médiateurs!$B:$B,0),1) -> #N/A | Z73: =TEXT(VLOOKUP($A73,[1]liste_inscriptions!$A:$AD,29,FALSE)," ") -> #N/A
W74: =TEXT(VLOOKUP($A73,[1]liste_inscriptions!$A:$AJ,35,FALSE)," ") -> #N/A
W75: =TEXT(VLOOKUP($A73,[1]liste_inscriptions!$A:$AJ,36,FALSE)," ") -> #N/A
A76: 24 | B76: =VLOOKUP($A76,[1]liste_inscriptions!$A:$AD,6,FALSE) -> #N/A | C76: =VLOOKUP($A76,[1]liste_inscriptions!$A:$AD,9,FALSE) -> #N/A | D76: =VLOOKUP($A76,[1]liste_inscriptions!$A:$AD,12,FALSE) -> #N/A | E76: =VLOOKUP($A76,[1]liste_inscriptions!$A:$AD,14,FALSE) -> #N/A | F76: =VLOOKUP($A76,[1]liste_inscriptions!$A:$AD,17,FALSE) -> #N/A | G76: =VLOOKUP($A76,[1]liste_inscriptions!$A:$AD,16,FALSE) -> #N/A | H76: =VLOOKUP($A76,[1]liste_inscriptions!$A:$AD,18,FALSE) -> #N/A | L76: Visite libre | Q76: =TEXT(VLOOKUP($A76,[1]liste_inscriptions!$A:$AJ,30,FALSE)," ") -> #N/A | S76: =IF(ISNA(INDEX(médiateurs!$A:$O,MATCH(Q76,médiateurs!$B:$B,0),1)),"",INDEX(médiateurs!$A:$O,MATCH(Q76,médiateurs!$B:$B,0),1)) | T76: =IF(AND(VLOOKUP(médiateurs!$AQ$2,médiateurs!$B:$B,1,0)=médiateurs!$AQ$2,Q76=médiateurs!$AP$2),VLOOKUP(médiateurs!$AQ$2,médiateurs!$B:$AC,15,0),IF(AND(VLOOKUP(médiateurs!$AK$2,médiateurs!$B:$B,1,0)=médiateurs!$AK$2,Q76=médiateurs!$AI$2),VLOOKUP(médiateurs!$AK$2,médiateurs!$B:$AC,15,0),IF(AND(VLOOKUP(médiateurs!$AL$2,médiateurs!$B:$B,1,0)=médiateurs!$AL$2,Q76=médiateurs!$AJ$2),VLOOKUP(médiateurs!$AL$2,médiateurs!$B:$AC,15,0)," "))) -> #N/A | V76: Médiation Ateliers 12 | W76: =TEXT(VLOOKUP($A76,[1]liste_inscriptions!$A:$AJ,34,FALSE)," ") -> #N/A | X76: =INDEX(médiateurs!$A:$O,MATCH(V76,médiateurs!$B:$B,0),1) -> #N/A | Z76: =TEXT(VLOOKUP($A76,[1]liste_inscriptions!$A:$AD,29,FALSE)," ") -> #N/A
W77: =TEXT(VLOOKUP($A76,[1]liste_inscriptions!$A:$AJ,35,FALSE)," ") -> #N/A
W78: =TEXT(VLOOKUP($A76,[1]liste_inscriptions!$A:$AJ,36,FALSE)," ") -> #N/A
A80: FORMULE 3
A81: N° | B81: ETABLISSEMENT | C81: VILLE | D81: NOM | E81: TÉLÉPHONE | F81: EFFECTIF | G81: NIVEAU | H81: SPÉCIALITÉ | J81: Accueil Arènes | L81: 9H30 - 11h CARTE | N81: MÉDIATEURS | Q81: 11H30 - 13h PARCOURS FESTIVALIER | R81: EXPOSITIONS | S81: MÉDIATEUR | T81: ACCUEIL SNCF | V81: 14H30 -15h30 PROJECTION | X81: MÉDIATEURS | Z81: COMMENTAIRE
A82: 25 | B82: =VLOOKUP($A82,[1]liste_inscriptions!$A:$AD,6,FALSE) -> #N/A | C82: =VLOOKUP($A82,[1]liste_inscriptions!$A:$AD,9,FALSE) -> #N/A | D82: =VLOOKUP($A82,[1]liste_inscriptions!$A:$AD,12,FALSE) -> #N/A | E82: =VLOOKUP($A82,[1]liste_inscriptions!$A:$AD,14,FALSE) -> #N/A | F82: =VLOOKUP($A82,[1]liste_inscriptions!$A:$AD,17,FALSE) -> #N/A | G82: =VLOOKUP($A82,[1]liste_inscriptions!$A:$AD,16,FALSE) -> #N/A | H82: =VLOOKUP($A82,[1]liste_inscriptions!$A:$AD,18,FALSE) -> #N/A | J82: =INDEX(médiateurs!$A:$O,MATCH("accueil maison des rencontres",médiateurs!$B:$B,0),1) -> #N/A | L82: =TEXT(VLOOKUP($A82,[1]liste_inscriptions!$A:$AJ,30,FALSE)," ") -> #N/A | N82: =IF(ISNA(INDEX(médiateurs!$A:$O,MATCH(L82,médiateurs!$B:$B,0),1)),"",INDEX(médiateurs!$A:$O,MATCH(L82,médiateurs!$B:$B,0),1)) | O82: =IF(AND(VLOOKUP(médiateurs!$AQ$2,médiateurs!$B:$B,1,0)=médiateurs!$AQ$2,L82=médiateurs!$AP$2),VLOOKUP(médiateurs!$AQ$2,médiateurs!$B:$AC,15,0),IF(AND(VLOOKUP(médiateurs!$AK$2,médiateurs!$B:$B,1,0)=médiateurs!$AK$2,L82=médiateurs!$AI$2),VLOOKUP(médiateurs!$AK$2,médiateurs!$B:$AC,15,0),IF(AND(VLOOKUP(médiateurs!$AL$2,médiateurs!$B:$B,1,0)=médiateurs!$AL$2,L82=médiateurs!$AJ$2),VLOOKUP(médiateurs!$AL$2,médiateurs!$B:$AC,15,0)," "))) -> #N/A | Q82: Médiation Ateliers 1 | R82: =TEXT(VLOOKUP($A82,[1]liste_inscriptions!$A:$AJ,34,FALSE)," ") -> #N/A | S82: =INDEX(médiateurs!$A:$O,MATCH(Q82,médiateurs!$B:$B,0),1) -> #N/A | T82: =INDEX(médiateurs!$A:$O,MATCH(T81,médiateurs!$B:$B,0),1) -> #N/A | V82: Projection MDVA | X82: =INDEX(médiateurs!$A:$O,MATCH(V82,médiateurs!$B:$B,0),1) -> #N/A | Y82: =INDEX(médiateurs!$A:$O,MATCH("Projection MDVA 2",médiateurs!$B:$B,0),1) -> #N/A | Z82: =TEXT(VLOOKUP($A82,[1]liste_inscriptions!$A:$AD,29,FALSE)," ") -> #N/A
R83: =TEXT(VLOOKUP($A82,[1]liste_inscriptions!$A:$AJ,35,FALSE)," ") -> #N/A
R84: =TEXT(VLOOKUP($A82,[1]liste_inscriptions!$A:$AJ,36,FALSE)," ") -> #N/A
A85: 26 | B85: =VLOOKUP($A85,[1]liste_inscriptions!$A:$AD,6,FALSE) -> #N/A | C85: =VLOOKUP($A85,[1]liste_inscriptions!$A:$AD,9,FALSE) -> #N/A | D85: =VLOOKUP($A85,[1]liste_inscriptions!$A:$AD,12,FALSE) -> #N/A | E85: =VLOOKUP($A85,[1]liste_inscriptions!$A:$AD,14,FALSE) -> #N/A | F85: =VLOOKUP($A85,[1]liste_inscriptions!$A:$AD,17,FALSE) -> #N/A | G85: =VLOOKUP($A85,[1]liste_inscriptions!$A:$AD,16,FALSE) -> #N/A | H85: =VLOOKUP($A85,[1]liste_inscriptions!$A:$AD,18,FALSE) -> #N/A | L85: =TEXT(VLOOKUP($A85,[1]liste_inscriptions!$A:$AJ,30,FALSE)," ") -> #N/A | N85: =IF(ISNA(INDEX(médiateurs!$A:$O,MATCH(L85,médiateurs!$B:$B,0),1)),"",INDEX(médiateurs!$A:$O,MATCH(L85,médiateurs!$B:$B,0),1)) | O85: =IF(AND(VLOOKUP(médiateurs!$AQ$2,médiateurs!$B:$B,1,0)=médiateurs!$AQ$2,L85=médiateurs!$AP$2),VLOOKUP(médiateurs!$AQ$2,médiateurs!$B:$AC,15,0),IF(AND(VLOOKUP(médiateurs!$AK$2,médiateurs!$B:$B,1,0)=médiateurs!$AK$2,L85=médiateurs!$AI$2),VLOOKUP(médiateurs!$AK$2,médiateurs!$B:$AC,15,0),IF(AND(VLOOKUP(médiateurs!$AL$2,médiateurs!$B:$B,1,0)=médiateurs!$AL$2,L85=médiateurs!$AJ$2),VLOOKUP(médiateurs!$AL$2,médiateurs!$B:$AC,15,0)," "))) -> #N/A | Q85: Médiation Ateliers 2 | R85: =TEXT(VLOOKUP($A85,[1]liste_inscriptions!$A:$AJ,34,FALSE)," ") -> #N/A | S85: =INDEX(médiateurs!$A:$O,MATCH(Q85,médiateurs!$B:$B,0),1) -> #N/A | V85: Projection MDVA | Z85: =TEXT(VLOOKUP($A85,[1]liste_inscriptions!$A:$AD,29,FALSE)," ") -> #N/A
R86: =TEXT(VLOOKUP($A85,[1]liste_inscriptions!$A:$AJ,35,FALSE)," ") -> #N/A
R87: =TEXT(VLOOKUP($A85,[1]liste_inscriptions!$A:$AJ,36,FALSE)," ") -> #N/A
A88: 27 | B88: =VLOOKUP($A88,[1]liste_inscriptions!$A:$AD,6,FALSE) -> #N/A | C88: =VLOOKUP($A88,[1]liste_inscriptions!$A:$AD,9,FALSE) -> #N/A | D88: =VLOOKUP($A88,[1]liste_inscriptions!$A:$AD,12,FALSE) -> #N/A | E88: =VLOOKUP($A88,[1]liste_inscriptions!$A:$AD,14,FALSE) -> #N/A | F88: =VLOOKUP($A88,[1]liste_inscriptions!$A:$AD,17,FALSE) -> #N/A | G88: =VLOOKUP($A88,[1]liste_inscriptions!$A:$AD,16,FALSE) -> #N/A | H88: =VLOOKUP($A88,[1]liste_inscriptions!$A:$AD,18,FALSE) -> #N/A | L88: =TEXT(VLOOKUP($A88,[1]liste_inscriptions!$A:$AJ,30,FALSE)," ") -> #N/A | N88: =IF(ISNA(INDEX(médiateurs!$A:$O,MATCH(L88,médiateurs!$B:$B,0),1)),"",INDEX(médiateurs!$A:$O,MATCH(L88,médiateurs!$B:$B,0),1)) | O88: =IF(AND(VLOOKUP(médiateurs!$AQ$2,médiateurs!$B:$B,1,0)=médiateurs!$AQ$2,L88=médiateurs!$AP$2),VLOOKUP(médiateurs!$AQ$2,médiateurs!$B:$AC,15,0),IF(AND(VLOOKUP(médiateurs!$AK$2,médiateurs!$B:$B,1,0)=médiateurs!$AK$2,L88=médiateurs!$AI$2),VLOOKUP(médiateurs!$AK$2,médiateurs!$B:$AC,15,0),IF(AND(VLOOKUP(médiateurs!$AL$2,médiateurs!$B:$B,1,0)=médiateurs!$AL$2,L88=médiateurs!$AJ$2),VLOOKUP(médiateurs!$AL$2,médiateurs!$B:$AC,15,0)," "))) -> #N/A | Q88: Médiation Ateliers 3 | R88: =TEXT(VLOOKUP($A88,[1]liste_inscriptions!$A:$AJ,34,FALSE)," ") -> #N/A | S88: =INDEX(médiateurs!$A:$O,MATCH(Q88,médiateurs!$B:$B,0),1) -> #N/A | V88: Projection MDVA | Z88: =TEXT(VLOOKUP($A88,[1]liste_inscriptions!$A:$AD,29,FALSE)," ") -> #N/A
R89: =TEXT(VLOOKUP($A88,[1]liste_inscriptions!$A:$AJ,35,FALSE)," ") -> #N/A
R90: =TEXT(VLOOKUP($A88,[1]liste_inscriptions!$A:$AJ,36,FALSE)," ") -> #N/A
A91: 28 | B91: =VLOOKUP($A91,[1]liste_inscriptions!$A:$AD,6,FALSE) -> #N/A | C91: =VLOOKUP($A91,[1]liste_inscriptions!$A:$AD,9,FALSE) -> #N/A | D91: =VLOOKUP($A91,[1]liste_inscriptions!$A:$AD,12,FALSE) -> #N/A | E91: =VLOOKUP($A91,[1]liste_inscriptions!$A:$AD,14,FALSE) -> #N/A | F91: =VLOOKUP($A91,[1]liste_inscriptions!$A:$AD,17,FALSE) -> #N/A | G91: =VLOOKUP($A91,[1]liste_inscriptions!$A:$AD,16,FALSE) -> #N/A | H91: =VLOOKUP($A91,[1]liste_inscriptions!$A:$AD,18,FALSE) -> #N/A | L91: =TEXT(VLOOKUP($A91,[1]liste_inscriptions!$A:$AJ,30,FALSE)," ") -> #N/A | N91: =IF(ISNA(INDEX(médiateurs!$A:$O,MATCH(L91,médiateurs!$B:$B,0),1)),"",INDEX(médiateurs!$A:$O,MATCH(L91,médiateurs!$B:$B,0),1)) | O91: =IF(AND(VLOOKUP(médiateurs!$AQ$2,médiateurs!$B:$B,1,0)=médiateurs!$AQ$2,L91=médiateurs!$AP$2),VLOOKUP(médiateurs!$AQ$2,médiateurs!$B:$AC,15,0),IF(AND(VLOOKUP(médiateurs!$AK$2,médiateurs!$B:$B,1,0)=médiateurs!$AK$2,L91=médiateurs!$AI$2),VLOOKUP(médiateurs!$AK$2,médiateurs!$B:$AC,15,0),IF(AND(VLOOKUP(médiateurs!$AL$2,médiateurs!$B:$B,1,0)=médiateurs!$AL$2,L91=médiateurs!$AJ$2),VLOOKUP(médiateurs!$AL$2,médiateurs!$B:$AC,15,0)," "))) -> #N/A | Q91: Médiation Ateliers 4 | R91: =TEXT(VLOOKUP($A91,[1]liste_inscriptions!$A:$AJ,34,FALSE)," ") -> #N/A | S91: =INDEX(médiateurs!$A:$O,MATCH(Q91,médiateurs!$B:$B,0),1) -> #N/A | V91: Projection ENSP | X91: =INDEX(médiateurs!$A:$O,MATCH(V91,médiateurs!$B:$B,0),1) -> #N/A | Y91: =INDEX(médiateurs!$A:$O,MATCH("Projection ENSP 2",médiateurs!$B:$B,0),1) -> #N/A | Z91: =TEXT(VLOOKUP($A91,[1]liste_inscriptions!$A:$AD,29,FALSE)," ") -> #N/A
R92: =TEXT(VLOOKUP($A91,[1]liste_inscriptions!$A:$AJ,35,FALSE)," ") -> #N/A
R93: =TEXT(VLOOKUP($A91,[1]liste_inscriptions!$A:$AJ,36,FALSE)," ") -> #N/A
A94: 29 | B94: =VLOOKUP($A94,[1]liste_inscriptions!$A:$AD,6,FALSE) -> #N/A | C94: =VLOOKUP($A94,[1]liste_inscriptions!$A:$AD,9,FALSE) -> #N/A | D94: =VLOOKUP($A94,[1]liste_inscriptions!$A:$AD,12,FALSE) -> #N/A | E94: =VLOOKUP($A94,[1]liste_inscriptions!$A:$AD,14,FALSE) -> #N/A | F94: =VLOOKUP($A94,[1]liste_inscriptions!$A:$AD,17,FALSE) -> #N/A | G94: =VLOOKUP($A94,[1]liste_inscriptions!$A:$AD,16,FALSE) -> #N/A | H94: =VLOOKUP($A94,[1]liste_inscriptions!$A:$AD,18,FALSE) -> #N/A | L94: =TEXT(VLOOKUP($A94,[1]liste_inscriptions!$A:$AJ,30,FALSE)," ") -> #N/A | N94: =IF(ISNA(INDEX(médiateurs!$A:$O,MATCH(L94,médiateurs!$B:$B,0),1)),"",INDEX(médiateurs!$A:$O,MATCH(L94,médiateurs!$B:$B,0),1)) | O94: =IF(AND(VLOOKUP(médiateurs!$AQ$2,médiateurs!$B:$B,1,0)=médiateurs!$AQ$2,L94=médiateurs!$AP$2),VLOOKUP(médiateurs!$AQ$2,médiateurs!$B:$AC,15,0),IF(AND(VLOOKUP(médiateurs!$AK$2,médiateurs!$B:$B,1,0)=médiateurs!$AK$2,L94=médiateurs!$AI$2),VLOOKUP(médiateurs!$AK$2,médiateurs!$B:$AC,15,0),IF(AND(VLOOKUP(médiateurs!$AL$2,médiateurs!$B:$B,1,0)=médiateurs!$AL$2,L94=médiateurs!$AJ$2),VLOOKUP(médiateurs!$AL$2,médiateurs!$B:$AC,15,0)," "))) -> #N/A | Q94: Médiation Ateliers 5 | R94: =TEXT(VLOOKUP($A94,[1]liste_inscriptions!$A:$AJ,34,FALSE)," ") -> #N/A | S94: =INDEX(médiateurs!$A:$O,MATCH(Q94,médiateurs!$B:$B,0),1) -> #N/A | V94: Projection ENSP | Z94: =TEXT(VLOOKUP($A94,[1]liste_inscriptions!$A:$AD,29,FALSE)," ") -> #N/A
R95: =TEXT(VLOOKUP($A94,[1]liste_inscriptions!$A:$AJ,35,FALSE)," ") -> #N/A
R96: =TEXT(VLOOKUP($A94,[1]liste_inscriptions!$A:$AJ,36,FALSE)," ") -> #N/A
A97: 30 | B97: =VLOOKUP($A97,[1]liste_inscriptions!$A:$AD,6,FALSE) -> #N/A | C97: =VLOOKUP($A97,[1]liste_inscriptions!$A:$AD,9,FALSE) -> #N/A | D97: =VLOOKUP($A97,[1]liste_inscriptions!$A:$AD,12,FALSE) -> #N/A | E97: =VLOOKUP($A97,[1]liste_inscriptions!$A:$AD,14,FALSE) -> #N/A | F97: =VLOOKUP($A97,[1]liste_inscriptions!$A:$AD,17,FALSE) -> #N/A | G97: =VLOOKUP($A97,[1]liste_inscriptions!$A:$AD,16,FALSE) -> #N/A | H97: =VLOOKUP($A97,[1]liste_inscriptions!$A:$AD,18,FALSE) -> #N/A | L97: =TEXT(VLOOKUP($A97,[1]liste_inscriptions!$A:$AJ,30,FALSE)," ") -> #N/A | N97: =IF(ISNA(INDEX(médiateurs!$A:$O,MATCH(L97,médiateurs!$B:$B,0),1)),"",INDEX(médiateurs!$A:$O,MATCH(L97,médiateurs!$B:$B,0),1)) | O97: =IF(AND(VLOOKUP(médiateurs!$AQ$2,médiateurs!$B:$B,1,0)=médiateurs!$AQ$2,L97=médiateurs!$AP$2),VLOOKUP(médiateurs!$AQ$2,médiateurs!$B:$AC,15,0),IF(AND(VLOOKUP(médiateurs!$AK$2,médiateurs!$B:$B,1,0)=médiateurs!$AK$2,L97=médiateurs!$AI$2),VLOOKUP(médiateurs!$AK$2,médiateurs!$B:$AC,15,0),IF(AND(VLOOKUP(médiateurs!$AL$2,médiateurs!$B:$B,1,0)=médiateurs!$AL$2,L97=médiateurs!$AJ$2),VLOOKUP(médiateurs!$AL$2,médiateurs!$B:$AC,15,0)," "))) -> #N/A | Q97: Médiation Ateliers 6 | R97: =TEXT(VLOOKUP($A97,[1]liste_inscriptions!$A:$AJ,34,FALSE)," ") -> #N/A | S97: =INDEX(médiateurs!$A:$O,MATCH(Q97,médiateurs!$B:$B,0),1) -> #N/A | V97: Projection ENSP | Z97: =TEXT(VLOOKUP($A97,[1]liste_inscriptions!$A:$AD,29,FALSE)," ") -> #N/A
R98: =TEXT(VLOOKUP($A97,[1]liste_inscriptions!$A:$AJ,35,FALSE)," ") -> #N/A
R99: =TEXT(VLOOKUP($A97,[1]liste_inscriptions!$A:$AJ,36,FALSE)," ") -> #N/A
A100: 31 | B100: =VLOOKUP($A100,[1]liste_inscriptions!$A:$AD,6,FALSE) -> #N/A | C100: =VLOOKUP($A100,[1]liste_inscriptions!$A:$AD,9,FALSE) -> #N/A | D100: =VLOOKUP($A100,[1]liste_inscriptions!$A:$AD,12,FALSE) -> #N/A | E100: =VLOOKUP($A100,[1]liste_inscriptions!$A:$AD,14,FALSE) -> #N/A | F100: =VLOOKUP($A100,[1]liste_inscriptions!$A:$AD,17,FALSE) -> #N/A | G100: =VLOOKUP($A100,[1]liste_inscriptions!$A:$AD,16,FALSE) -> #N/A | H100: =VLOOKUP($A100,[1]liste_inscriptions!$A:$AD,18,FALSE) -> #N/A | L100: =TEXT(VLOOKUP($A100,[1]liste_inscriptions!$A:$AJ,30,FALSE)," ") -> #N/A | N100: =IF(ISNA(INDEX(médiateurs!$A:$O,MATCH(L100,médiateurs!$B:$B,0),1)),"",INDEX(médiateurs!$A:$O,MATCH(L100,médiateurs!$B:$B,0),1)) | O100: =IF(AND(VLOOKUP(médiateurs!$AQ$2,médiateurs!$B:$B,1,0)=médiateurs!$AQ$2,L100=médiateurs!$AP$2),VLOOKUP(médiateurs!$AQ$2,médiateurs!$B:$AC,15,0),IF(AND(VLOOKUP(médiateurs!$AK$2,médiateurs!$B:$B,1,0)=médiateurs!$AK$2,L100=médiateurs!$AI$2),VLOOKUP(médiateurs!$AK$2,médiateurs!$B:$AC,15,0),IF(AND(VLOOKUP(médiateurs!$AL$2,médiateurs!$B:$B,1,0)=médiateurs!$AL$2,L100=médiateurs!$AJ$2),VLOOKUP(médiateurs!$AL$2,médiateurs!$B:$AC,15,0)," "))) -> #N/A | Q100: Médiation Ateliers 7 | R100: =TEXT(VLOOKUP($A100,[1]liste_inscriptions!$A:$AJ,34,FALSE)," ") -> #N/A | S100: =INDEX(médiateurs!$A:$O,MATCH(Q100,médiateurs!$B:$B,0),1) -> #N/A | T100: =INDEX(médiateurs!$A:$O,MATCH("accueil SNCF 2",médiateurs!$B:$B,0),1) -> #N/A | V100: Visite libre | Z100: =TEXT(VLOOKUP($A100,[1]liste_inscriptions!$A:$AD,29,FALSE)," ") -> #N/A
R101: =TEXT(VLOOKUP($A100,[1]liste_inscriptions!$A:$AJ,35,FALSE)," ") -> #N/A
R102: =TEXT(VLOOKUP($A100,[1]liste_inscriptions!$A:$AJ,36,FALSE)," ") -> #N/A
...

Sheet Vendredi 5
A1: PLANNING DÉTAILLÉ - VENDREDI 5 SEPTEMBRE 2014
A2: FORMULE 1
A3: N° | B3: ETABLISSEMENT | C3: VILLE | D3: NOM | E3: TÉLÉPHONE | F3: EFFECTIF | G3: NIVEAU | H3: SPÉCIALITÉ | J3: Accueil Arènes | L3: 9h30 - 11h PARCOURS FESTIVALIER | M3: EXPOSITIONS | N3: MÉDIATEUR | O3: ACCUEIL SNCF | Q3: 11h30 - 12h30 PROJECTION | S3: MÉDIATEURS | V3: 14h - 15h30 CARTE | X3: MÉDIATEURS | Z3: COMMENTAIRE
A4: 37 | B4: =VLOOKUP($A4,[1]liste_inscriptions!$A:$AD,6,FALSE) -> #N/A | C4: =VLOOKUP($A4,[1]liste_inscriptions!$A:$AD,9,FALSE) -> #N/A | D4: =VLOOKUP($A4,[1]liste_inscriptions!$A:$AD,12,FALSE) -> #N/A | E4: =VLOOKUP($A4,[1]liste_inscriptions!$A:$AD,14,FALSE) -> #N/A | F4: =VLOOKUP($A4,[1]liste_inscriptions!$A:$AD,17,FALSE) -> #N/A | G4: =VLOOKUP($A4,[1]liste_inscriptions!$A:$AD,16,FALSE) -> #N/A | H4: =VLOOKUP($A4,[1]liste_inscriptions!$A:$AD,18,FALSE) -> #N/A | J4: =INDEX(médiateurs!$A:$O,MATCH("accueil maison des rencontres",médiateurs!$C:$C,0),1) -> #N/A | L4: Médiation Ateliers 1 | M4: =VLOOKUP($A4,[1]liste_inscriptions!$A:$AJ,34,FALSE) -> #N/A | N4: =INDEX(médiateurs!$A:$O,MATCH(L4,médiateurs!$C:$C,0),1) -> #N/A | O4: =INDEX(médiateurs!$A:$O,MATCH(O3,médiateurs!$C:$C,0),1) -> #N/A | Q4: Projection MDVA | S4: =INDEX(médiateurs!$A:$O,MATCH(Q4,médiateurs!$C:$C,0),1) -> #N/A | T4: =INDEX(médiateurs!$A:$O,MATCH("Projection MDVA 2",médiateurs!$C:$C,0),1) -> #N/A | V4: =TEXT(VLOOKUP($A4,[1]liste_inscriptions!$A:$AJ,30,FALSE)," ") -> #N/A | X4: =IF(ISNA(INDEX(médiateurs!$A:$O,MATCH(V4,médiateurs!$C:$C,0),1)),"",INDEX(médiateurs!$A:$O,MATCH(V4,médiateurs!$C:$C,0),1)) | Y4: =IF(AND(VLOOKUP(médiateurs!$AQ$2,médiateurs!$C:$C,1,0)=médiateurs!$AQ$2,V4=médiateurs!$AP$2),VLOOKUP(médiateurs!$AQ$2,médiateurs!$C:$AC,14,0),IF(AND(VLOOKUP(médiateurs!$AK$2,médiateurs!$C:$C,1,0)=médiateurs!$AK$2,V4=médiateurs!$AI$2),VLOOKUP(médiateurs!$AK$2,médiateurs!$C:$AC,14,0),IF(AND(VLOOKUP(médiateurs!$AL$2,médiateurs!$C:$C,1,0)=médiateurs!$AL$2,V4=médiateurs!$AJ$2),VLOOKUP(médiateurs!$AL$2,médiateurs!$C:$AC,14,0)," "))) -> #N/A | Z4: =TEXT(VLOOKUP($A4,[1]liste_inscriptions!$A:$AD,29,FALSE)," ") -> #N/A
M5: =VLOOKUP($A5,[1]liste_inscriptions!$A:$AJ,34,FALSE) -> #N/A
M6: =VLOOKUP($A6,[1]liste_inscriptions!$A:$AJ,34,FALSE) -> #N/A
A7: 38 | B7: =VLOOKUP($A7,[1]liste_inscriptions!$A:$AD,6,FALSE) -> #N/A | C7: =VLOOKUP($A7,[1]liste_inscriptions!$A:$AD,9,FALSE) -> #N/A | D7: =VLOOKUP($A7,[1]liste_inscriptions!$A:$AD,12,FALSE) -> #N/A | E7: =VLOOKUP($A7,[1]liste_inscriptions!$A:$AD,14,FALSE) -> #N/A | F7: =VLOOKUP($A7,[1]liste_inscriptions!$A:$AD,17,FALSE) -> #N/A | G7: =VLOOKUP($A7,[1]liste_inscriptions!$A:$AD,16,FALSE) -> #N/A | H7: =VLOOKUP($A7,[1]liste_inscriptions!$A:$AD,18,FALSE) -> #N/A | L7: Médiation Ateliers 2 | M7: =VLOOKUP($A7,[1]liste_inscriptions!$A:$AJ,34,FALSE) -> #N/A | N7: =INDEX(médiateurs!$A:$O,MATCH(L7,médiateurs!$C:$C,0),1) -> #N/A | Q7: Projection MDVA | V7: =TEXT(VLOOKUP($A7,[1]liste_inscriptions!$A:$AJ,30,FALSE)," ") -> #N/A | X7: =IF(ISNA(INDEX(médiateurs!$A:$O,MATCH(V7,médiateurs!$C:$C,0),1)),"",INDEX(médiateurs!$A:$O,MATCH(V7,médiateurs!$C:$C,0),1)) | Y7: =IF(AND(VLOOKUP(médiateurs!$AQ$2,médiateurs!$C:$C,1,0)=médiateurs!$AQ$2,V7=médiateurs!$AP$2),VLOOKUP(médiateurs!$AQ$2,médiateurs!$C:$AC,14,0),IF(AND(VLOOKUP(médiateurs!$AK$2,médiateurs!$C:$C,1,0)=médiateurs!$AK$2,V7=médiateurs!$AI$2),VLOOKUP(médiateurs!$AK$2,médiateurs!$C:$AC,14,0),IF(AND(VLOOKUP(médiateurs!$AL$2,médiateurs!$C:$C,1,0)=médiateurs!$AL$2,V7=médiateurs!$AJ$2),VLOOKUP(médiateurs!$AL$2,médiateurs!$C:$AC,14,0)," "))) -> #N/A | Z7: =TEXT(VLOOKUP($A7,[1]liste_inscriptions!$A:$AD,29,FALSE)," ") -> #N/A
M8: =VLOOKUP($A8,[1]liste_inscriptions!$A:$AJ,34,FALSE) -> #N/A
M9: =VLOOKUP($A9,[1]liste_inscriptions!$A:$AJ,34,FALSE) -> #N/A
A10: 39 | B10: =VLOOKUP($A10,[1]liste_inscriptions!$A:$AD,6,FALSE) -> #N/A | C10: =VLOOKUP($A10,[1]liste_inscriptions!$A:$AD,9,FALSE) -> #N/A | D10: =VLOOKUP($A10,[1]liste_inscriptions!$A:$AD,12,FALSE) -> #N/A | E10: =VLOOKUP($A10,[1]liste_inscriptions!$A:$AD,14,FALSE) -> #N/A | F10: =VLOOKUP($A10,[1]liste_inscriptions!$A:$AD,17,FALSE) -> #N/A | G10: =VLOOKUP($A10,[1]liste_inscriptions!$A:$AD,16,FALSE) -> #N/A | H10: =VLOOKUP($A10,[1]liste_inscriptions!$A:$AD,18,FALSE) -> #N/A | L10: Médiation Ateliers 3 | M10: =VLOOKUP($A10,[1]liste_inscriptions!$A:$AJ,34,FALSE) -> #N/A | N10: =INDEX(médiateurs!$A:$O,MATCH(L10,médiateurs!$C:$C,0),1) -> #N/A | Q10: Projection MDVA | V10: =TEXT(VLOOKUP($A10,[1]liste_inscriptions!$A:$AJ,30,FALSE)," ") -> #N/A | X10: =IF(ISNA(INDEX(médiateurs!$A:$O,MATCH(V10,médiateurs!$C:$C,0),1)),"",INDEX(médiateurs!$A:$O,MATCH(V10,médiateurs!$C:$C,0),1)) | Y10: =IF(AND(VLOOKUP(médiateurs!$AQ$2,médiateurs!$C:$C,1,0)=médiateurs!$AQ$2,V10=médiateurs!$AP$2),VLOOKUP(médiateurs!$AQ$2,médiateurs!$C:$AC,14,0),IF(AND(VLOOKUP(médiateurs!$AK$2,médiateurs!$C:$C,1,0)=médiateurs!$AK$2,V10=médiateurs!$AI$2),VLOOKUP(médiateurs!$AK$2,médiateurs!$C:$AC,14,0),IF(AND(VLOOKUP(médiateurs!$AL$2,médiateurs!$C:$C,1,0)=médiateurs!$AL$2,V10=médiateurs!$AJ$2),VLOOKUP(médiateurs!$AL$2,médiateurs!$C:$AC,14,0)," "))) -> #N/A | Z10: =TEXT(VLOOKUP($A10,[1]liste_inscriptions!$A:$AD,29,FALSE)," ") -> #N/A
M11: =VLOOKUP($A11,[1]liste_inscriptions!$A:$AJ,34,FALSE) -> #N/A
M12: =VLOOKUP($A12,[1]liste_inscriptions!$A:$AJ,34,FALSE) -> #N/A
A13: 40 | B13: =VLOOKUP($A13,[1]liste_inscriptions!$A:$AD,6,FALSE) -> #N/A | C13: =VLOOKUP($A13,[1]liste_inscriptions!$A:$AD,9,FALSE) -> #N/A | D13: =VLOOKUP($A13,[1]liste_inscriptions!$A:$AD,12,FALSE) -> #N/A | E13: =VLOOKUP($A13,[1]liste_inscriptions!$A:$AD,14,FALSE) -> #N/A | F13: =VLOOKUP($A13,[1]liste_inscriptions!$A:$AD,17,FALSE) -> #N/A | G13: =VLOOKUP($A13,[1]liste_inscriptions!$A:$AD,16,FALSE) -> #N/A | H13: =VLOOKUP($A13,[1]liste_inscriptions!$A:$AD,18,FALSE) -> #N/A | L13: Médiation Ateliers 4 | M13: =VLOOKUP($A13,[1]liste_inscriptions!$A:$AJ,34,FALSE) -> #N/A | N13: =INDEX(médiateurs!$A:$O,MATCH(L13,médiateurs!$C:$C,0),1) -> #N/A | Q13: Projection ENSP | S13: =INDEX(médiateurs!$A:$O,MATCH(Q13,médiateurs!$C:$C,0),1) -> #N/A | T13: =INDEX(médiateurs!$A:$O,MATCH("Projection ENSP 2",médiateurs!$C:$C,0),1) -> #N/A | V13: =TEXT(VLOOKUP($A13,[1]liste_inscriptions!$A:$AJ,30,FALSE)," ") -> #N/A | X13: =IF(ISNA(INDEX(médiateurs!$A:$O,MATCH(V13,médiateurs!$C:$C,0),1)),"",INDEX(médiateurs!$A:$O,MATCH(V13,médiateurs!$C:$C,0),1)) | Y13: =IF(AND(VLOOKUP(médiateurs!$AQ$2,médiateurs!$C:$C,1,0)=médiateurs!$AQ$2,V13=médiateurs!$AP$2),VLOOKUP(médiateurs!$AQ$2,médiateurs!$C:$AC,14,0),IF(AND(VLOOKUP(médiateurs!$AK$2,médiateurs!$C:$C,1,0)=médiateurs!$AK$2,V13=médiateurs!$AI$2),VLOOKUP(médiateurs!$AK$2,médiateurs!$C:$AC,14,0),IF(AND(VLOOKUP(médiateurs!$AL$2,médiateurs!$C:$C,1,0)=médiateurs!$AL$2,V13=médiateurs!$AJ$2),VLOOKUP(médiateurs!$AL$2,médiateurs!$C:$AC,14,0)," "))) -> #N/A | Z13: =TEXT(VLOOKUP($A13,[1]liste_inscriptions!$A:$AD,29,FALSE)," ") -> #N/A
M14: =VLOOKUP($A14,[1]liste_inscriptions!$A:$AJ,34,FALSE) -> #N/A
M15: =VLOOKUP($A15,[1]liste_inscriptions!$A:$AJ,34,FALSE) -> #N/A
A16: 41 | B16: =VLOOKUP($A16,[1]liste_inscriptions!$A:$AD,6,FALSE) -> #N/A | C16: =VLOOKUP($A16,[1]liste_inscriptions!$A:$AD,9,FALSE) -> #N/A | D16: =VLOOKUP($A16,[1]liste_inscriptions!$A:$AD,12,FALSE) -> #N/A | E16: =VLOOKUP($A16,[1]liste_inscriptions!$A:$AD,14,FALSE) -> #N/A | F16: =VLOOKUP($A16,[1]liste_inscriptions!$A:$AD,17,FALSE) -> #N/A | G16: =VLOOKUP($A16,[1]liste_inscriptions!$A:$AD,16,FALSE) -> #N/A | H16: =VLOOKUP($A16,[1]liste_inscriptions!$A:$AD,18,FALSE) -> #N/A | L16: Médiation Ateliers 5 | M16: =VLOOKUP($A16,[1]liste_inscriptions!$A:$AJ,34,FALSE) -> #N/A | N16: =INDEX(médiateurs!$A:$O,MATCH(L16,médiateurs!$C:$C,0),1) -> #N/A | Q16: Projection ENSP | V16: =TEXT(VLOOKUP($A16,[1]liste_inscriptions!$A:$AJ,30,FALSE)," ") -> #N/A | X16: =IF(ISNA(INDEX(médiateurs!$A:$O,MATCH(V16,médiateurs!$C:$C,0),1)),"",INDEX(médiateurs!$A:$O,MATCH(V16,médiateurs!$C:$C,0),1)) | Y16: =IF(AND(VLOOKUP(médiateurs!$AQ$2,médiateurs!$C:$C,1,0)=médiateurs!$AQ$2,V16=médiateurs!$AP$2),VLOOKUP(médiateurs!$AQ$2,médiateurs!$C:$AC,14,0),IF(AND(VLOOKUP(médiateurs!$AK$2,médiateurs!$C:$C,1,0)=médiateurs!$AK$2,V16=médiateurs!$AI$2),VLOOKUP(médiateurs!$AK$2,médiateurs!$C:$AC,14,0),IF(AND(VLOOKUP(médiateurs!$AL$2,médiateurs!$C:$C,1,0)=médiateurs!$AL$2,V16=médiateurs!$AJ$2),VLOOKUP(médiateurs!$AL$2,médiateurs!$C:$AC,14,0)," "))) -> #N/A | Z16: =TEXT(VLOOKUP($A16,[1]liste_inscriptions!$A:$AD,29,FALSE)," ") -> #N/A
M17: =VLOOKUP($A17,[1]liste_inscriptions!$A:$AJ,34,FALSE) -> #N/A
M18: =VLOOKUP($A18,[1]liste_inscriptions!$A:$AJ,34,FALSE) -> #N/A
A19: 42 | B19: =VLOOKUP($A19,[1]liste_inscriptions!$A:$AD,6,FALSE) -> #N/A | C19: =VLOOKUP($A19,[1]liste_inscriptions!$A:$AD,9,FALSE) -> #N/A | D19: =VLOOKUP($A19,[1]liste_inscriptions!$A:$AD,12,FALSE) -> #N/A | E19: =VLOOKUP($A19,[1]liste_inscriptions!$A:$AD,14,FALSE) -> #N/A | F19: =VLOOKUP($A19,[1]liste_inscriptions!$A:$AD,17,FALSE) -> #N/A | G19: =VLOOKUP($A19,[1]liste_inscriptions!$A:$AD,16,FALSE) -> #N/A | H19: =VLOOKUP($A19,[1]liste_inscriptions!$A:$AD,18,FALSE) -> #N/A | L19: Médiation Ateliers 6 | M19: =VLOOKUP($A19,[1]liste_inscriptions!$A:$AJ,34,FALSE) -> #N/A | N19: =INDEX(médiateurs!$A:$O,MATCH(L19,médiateurs!$C:$C,0),1) -> #N/A | Q19: Projection ENSP | V19: =TEXT(VLOOKUP($A19,[1]liste_inscriptions!$A:$AJ,30,FALSE)," ") -> #N/A | X19: =IF(ISNA(INDEX(médiateurs!$A:$O,MATCH(V19,médiateurs!$C:$C,0),1)),"",INDEX(médiateurs!$A:$O,MATCH(V19,médiateurs!$C:$C,0),1)) | Y19: =IF(AND(VLOOKUP(médiateurs!$AQ$2,médiateurs!$C:$C,1,0)=médiateurs!$AQ$2,V19=médiateurs!$AP$2),VLOOKUP(médiateurs!$AQ$2,médiateurs!$C:$AC,14,0),IF(AND(VLOOKUP(médiateurs!$AK$2,médiateurs!$C:$C,1,0)=médiateurs!$AK$2,V19=médiateurs!$AI$2),VLOOKUP(médiateurs!$AK$2,médiateurs!$C:$AC,14,0),IF(AND(VLOOKUP(médiateurs!$AL$2,médiateurs!$C:$C,1,0)=médiateurs!$AL$2,V19=médiateurs!$AJ$2),VLOOKUP(médiateurs!$AL$2,médiateurs!$C:$AC,14,0)," "))) -> #N/A | Z19: =TEXT(VLOOKUP($A19,[1]liste_inscriptions!$A:$AD,29,FALSE)," ") -> #N/A
M20: =VLOOKUP($A20,[1]liste_inscriptions!$A:$AJ,34,FALSE) -> #N/A
M21: =VLOOKUP($A21,[1]liste_inscriptions!$A:$AJ,34,FALSE) -> #N/A
A22: 43 | B22: =VLOOKUP($A22,[1]liste_inscriptions!$A:$AD,6,FALSE) -> #N/A | C22: =VLOOKUP($A22,[1]liste_inscriptions!$A:$AD,9,FALSE) -> #N/A | D22: =VLOOKUP($A22,[1]liste_inscriptions!$A:$AD,12,FALSE) -> #N/A | E22: =VLOOKUP($A22,[1]liste_inscriptions!$A:$AD,14,FALSE) -> #N/A | F22: =VLOOKUP($A22,[1]liste_inscriptions!$A:$AD,17,FALSE) -> #N/A | G22: =VLOOKUP($A22,[1]liste_inscriptions!$A:$AD,16,FALSE) -> #N/A | H22: =VLOOKUP($A22,[1]liste_inscriptions!$A:$AD,18,FALSE) -> #N/A | L22: Médiation Ateliers 7 | M22: =VLOOKUP($A22,[1]liste_inscriptions!$A:$AJ,34,FALSE) -> #N/A | N22: =INDEX(médiateurs!$A:$O,MATCH(L22,médiateurs!$C:$C,0),1) -> #N/A | O22: =INDEX(médiateurs!$A:$O,MATCH("accueil SNCF 2",médiateurs!$C:$C,0),1) -> #N/A | Q22: Visite libre | V22: =TEXT(VLOOKUP($A22,[1]liste_inscriptions!$A:$AJ,30,FALSE)," ") -> #N/A | X22: =IF(ISNA(INDEX(médiateurs!$A:$O,MATCH(V22,médiateurs!$C:$C,0),1)),"",INDEX(médiateurs!$A:$O,MATCH(V22,médiateurs!$C:$C,0),1)) | Y22: =IF(AND(VLOOKUP(médiateurs!$AQ$2,médiateurs!$C:$C,1,0)=médiateurs!$AQ$2,V22=médiateurs!$AP$2),VLOOKUP(médiateurs!$AQ$2,médiateurs!$C:$AC,14,0),IF(AND(VLOOKUP(médiateurs!$AK$2,médiateurs!$C:$C,1,0)=médiateurs!$AK$2,V22=médiateurs!$AI$2),VLOOKUP(médiateurs!$AK$2,médiateurs!$C:$AC,14,0),IF(AND(VLOOKUP(médiateurs!$AL$2,médiateurs!$C:$C,1,0)=médiateurs!$AL$2,V22=médiateurs!$AJ$2),VLOOKUP(médiateurs!$AL$2,médiateurs!$C:$AC,14,0)," "))) -> #N/A | Z22: =TEXT(VLOOKUP($A22,[1]liste_inscriptions!$A:$AD,29,FALSE)," ") -> #N/A
M23: =VLOOKUP($A23,[1]liste_inscriptions!$A:$AJ,34,FALSE) -> #N/A
M24: =VLOOKUP($A24,[1]liste_inscriptions!$A:$AJ,34,FALSE) -> #N/A
A25: 44 | B25: =VLOOKUP($A25,[1]liste_inscriptions!$A:$AD,6,FALSE) -> #N/A | C25: =VLOOKUP($A25,[1]liste_inscriptions!$A:$AD,9,FALSE) -> #N/A | D25: =VLOOKUP($A25,[1]liste_inscriptions!$A:$AD,12,FALSE) -> #N/A | E25: =VLOOKUP($A25,[1]liste_inscriptions!$A:$AD,14,FALSE) -> #N/A | F25: =VLOOKUP($A25,[1]liste_inscriptions!$A:$AD,17,FALSE) -> #N/A | G25: =VLOOKUP($A25,[1]liste_inscriptions!$A:$AD,16,FALSE) -> #N/A | H25: =VLOOKUP($A25,[1]liste_inscriptions!$A:$AD,18,FALSE) -> #N/A | L25: Médiation Ateliers 8 | M25: =VLOOKUP($A25,[1]liste_inscriptions!$A:$AJ,34,FALSE) -> #N/A | N25: =INDEX(médiateurs!$A:$O,MATCH(L25,médiateurs!$C:$C,0),1) -> #N/A | Q25: Visite libre | V25: =TEXT(VLOOKUP($A25,[1]liste_inscriptions!$A:$AJ,30,FALSE)," ") -> #N/A | X25: =IF(ISNA(INDEX(médiateurs!$A:$O,MATCH(V25,médiateurs!$C:$C,0),1)),"",INDEX(médiateurs!$A:$O,MATCH(V25,médiateurs!$C:$C,0),1)) | Y25: =IF(AND(VLOOKUP(médiateurs!$AQ$2,médiateurs!$C:$C,1,0)=médiateurs!$AQ$2,V25=médiateurs!$AP$2),VLOOKUP(médiateurs!$AQ$2,médiateurs!$C:$AC,14,0),IF(AND(VLOOKUP(médiateurs!$AK$2,médiateurs!$C:$C,1,0)=médiateurs!$AK$2,V25=médiateurs!$AI$2),VLOOKUP(médiateurs!$AK$2,médiateurs!$C:$AC,14,0),IF(AND(VLOOKUP(médiateurs!$AL$2,médiateurs!$C:$C,1,0)=médiateurs!$AL$2,V25=médiateurs!$AJ$2),VLOOKUP(médiateurs!$AL$2,médiateurs!$C:$AC,14,0)," "))) -> #N/A | Z25: =TEXT(VLOOKUP($A25,[1]liste_inscriptions!$A:$AD,29,FALSE)," ") -> #N/A
M26: =VLOOKUP($A26,[1]liste_inscriptions!$A:$AJ,34,FALSE) -> #N/A
M27: =VLOOKUP($A27,[1]liste_inscriptions!$A:$AJ,34,FALSE) -> #N/A
A28: 45 | B28: =VLOOKUP($A28,[1]liste_inscriptions!$A:$AD,6,FALSE) -> #N/A | C28: =VLOOKUP($A28,[1]liste_inscriptions!$A:$AD,9,FALSE) -> #N/A | D28: =VLOOKUP($A28,[1]liste_inscriptions!$A:$AD,12,FALSE) -> #N/A | E28: =VLOOKUP($A28,[1]liste_inscriptions!$A:$AD,14,FALSE) -> #N/A | F28: =VLOOKUP($A28,[1]liste_inscriptions!$A:$AD,17,FALSE) -> #N/A | G28: =VLOOKUP($A28,[1]liste_inscriptions!$A:$AD,16,FALSE) -> #N/A | H28: =VLOOKUP($A28,[1]liste_inscriptions!$A:$AD,18,FALSE) -> #N/A | L28: Médiation Ateliers 9 | M28: =VLOOKUP($A28,[1]liste_inscriptions!$A:$AJ,34,FALSE) -> #N/A | N28: =INDEX(médiateurs!$A:$O,MATCH(L28,médiateurs!$C:$C,0),1) -> #N/A | Q28: Visite libre | V28: =TEXT(VLOOKUP($A28,[1]liste_inscriptions!$A:$AJ,30,FALSE)," ") -> #N/A | X28: =IF(ISNA(INDEX(médiateurs!$A:$O,MATCH(V28,médiateurs!$C:$C,0),1)),"",INDEX(médiateurs!$A:$O,MATCH(V28,médiateurs!$C:$C,0),1)) | Y28: =IF(AND(VLOOKUP(médiateurs!$AQ$2,médiateurs!$C:$C,1,0)=médiateurs!$AQ$2,V28=médiateurs!$AP$2),VLOOKUP(médiateurs!$AQ$2,médiateurs!$C:$AC,14,0),IF(AND(VLOOKUP(médiateurs!$AK$2,médiateurs!$C:$C,1,0)=médiateurs!$AK$2,V28=médiateurs!$AI$2),VLOOKUP(médiateurs!$AK$2,médiateurs!$C:$AC,14,0),IF(AND(VLOOKUP(médiateurs!$AL$2,médiateurs!$C:$C,1,0)=médiateurs!$AL$2,V28=médiateurs!$AJ$2),VLOOKUP(médiateurs!$AL$2,médiateurs!$C:$AC,14,0)," "))) -> #N/A | Z28: =TEXT(VLOOKUP($A28,[1]liste_inscriptions!$A:$AD,29,FALSE)," ") -> #N/A
M29: =VLOOKUP($A29,[1]liste_inscriptions!$A:$AJ,34,FALSE) -> #N/A
M30: =VLOOKUP($A30,[1]liste_inscriptions!$A:$AJ,34,FALSE) -> #N/A
A31: 46 | B31: =VLOOKUP($A31,[1]liste_inscriptions!$A:$AD,6,FALSE) -> #N/A | C31: =VLOOKUP($A31,[1]liste_inscriptions!$A:$AD,9,FALSE) -> #N/A | D31: =VLOOKUP($A31,[1]liste_inscriptions!$A:$AD,12,FALSE) -> #N/A | E31: =VLOOKUP($A31,[1]liste_inscriptions!$A:$AD,14,FALSE) -> #N/A | F31: =VLOOKUP($A31,[1]liste_inscriptions!$A:$AD,17,FALSE) -> #N/A | G31: =VLOOKUP($A31,[1]liste_inscriptions!$A:$AD,16,FALSE) -> #N/A | H31: =VLOOKUP($A31,[1]liste_inscriptions!$A:$AD,18,FALSE) -> #N/A | L31: Médiation Ateliers 10 | M31: =VLOOKUP($A31,[1]liste_inscriptions!$A:$AJ,34,FALSE) -> #N/A | N31: =INDEX(médiateurs!$A:$O,MATCH(L31,médiateurs!$C:$C,0),1) -> #N/A | Q31: Visite libre | V31: =TEXT(VLOOKUP($A31,[1]liste_inscriptions!$A:$AJ,30,FALSE)," ") -> #N/A | X31: =IF(ISNA(INDEX(médiateurs!$A:$O,MATCH(V31,médiateurs!$C:$C,0),1)),"",INDEX(médiateurs!$A:$O,MATCH(V31,médiateurs!$C:$C,0),1)) | Y31: =IF(AND(VLOOKUP(médiateurs!$AQ$2,médiateurs!$C:$C,1,0)=médiateurs!$AQ$2,V31=médiateurs!$AP$2),VLOOKUP(médiateurs!$AQ$2,médiateurs!$C:$AC,14,0),IF(AND(VLOOKUP(médiateurs!$AK$2,médiateurs!$C:$C,1,0)=médiateurs!$AK$2,V31=médiateurs!$AI$2),VLOOKUP(médiateurs!$AK$2,médiateurs!$C:$AC,14,0),IF(AND(VLOOKUP(médiateurs!$AL$2,médiateurs!$C:$C,1,0)=médiateurs!$AL$2,V31=médiateurs!$AJ$2),VLOOKUP(médiateurs!$AL$2,médiateurs!$C:$AC,14,0)," "))) -> #N/A | Z31: =TEXT(VLOOKUP($A31,[1]liste_inscriptions!$A:$AD,29,FALSE)," ") -> #N/A
M32: =VLOOKUP($A32,[1]liste_inscriptions!$A:$AJ,34,FALSE) -> #N/A
M33: =VLOOKUP($A33,[1]liste_inscriptions!$A:$AJ,34,FALSE) -> #N/A
A34: 47 | B34: =VLOOKUP($A34,[1]liste_inscriptions!$A:$AD,6,FALSE) -> #N/A | C34: =VLOOKUP($A34,[1]liste_inscriptions!$A:$AD,9,FALSE) -> #N/A | D34: =VLOOKUP($A34,[1]liste_inscriptions!$A:$AD,12,FALSE) -> #N/A | E34: =VLOOKUP($A34,[1]liste_inscriptions!$A:$AD,14,FALSE) -> #N/A | F34: =VLOOKUP($A34,[1]liste_inscriptions!$A:$AD,17,FALSE) -> #N/A | G34: =VLOOKUP($A34,[1]liste_inscriptions!$A:$AD,16,FALSE) -> #N/A | H34: =VLOOKUP($A34,[1]liste_inscriptions!$A:$AD,18,FALSE) -> #N/A | L34: Médiation Ateliers 11 | M34: =VLOOKUP($A34,[1]liste_inscriptions!$A:$AJ,34,FALSE) -> #N/A | N34: =INDEX(médiateurs!$A:$O,MATCH(L34,médiateurs!$C:$C,0),1) -> #N/A | Q34: Visite libre | V34: =TEXT(VLOOKUP($A34,[1]liste_inscriptions!$A:$AJ,30,FALSE)," ") -> #N/A | X34: =IF(ISNA(INDEX(médiateurs!$A:$O,MATCH(V34,médiateurs!$C:$C,0),1)),"",INDEX(médiateurs!$A:$O,MATCH(V34,médiateurs!$C:$C,0),1)) | Y34: =IF(AND(VLOOKUP(médiateurs!$AQ$2,médiateurs!$C:$C,1,0)=médiateurs!$AQ$2,V34=médiateurs!$AP$2),VLOOKUP(médiateurs!$AQ$2,médiateurs!$C:$AC,14,0),IF(AND(VLOOKUP(médiateurs!$AK$2,médiateurs!$C:$C,1,0)=médiateurs!$AK$2,V34=médiateurs!$AI$2),VLOOKUP(médiateurs!$AK$2,médiateurs!$C:$AC,14,0),IF(AND(VLOOKUP(médiateurs!$AL$2,médiateurs!$C:$C,1,0)=médiateurs!$AL$2,V34=médiateurs!$AJ$2),VLOOKUP(médiateurs!$AL$2,médiateurs!$C:$AC,14,0)," "))) -> #N/A | Z34: =TEXT(VLOOKUP($A34,[1]liste_inscriptions!$A:$AD,29,FALSE)," ") -> #N/A
M35: =VLOOKUP($A35,[1]liste_inscriptions!$A:$AJ,34,FALSE) -> #N/A
M36: =VLOOKUP($A36,[1]liste_inscriptions!$A:$AJ,34,FALSE) -> #N/A
A37: 48 | B37: =VLOOKUP($A37,[1]liste_inscriptions!$A:$AD,6,FALSE) -> #N/A | C37: =VLOOKUP($A37,[1]liste_inscriptions!$A:$AD,9,FALSE) -> #N/A | D37: =VLOOKUP($A37,[1]liste_inscriptions!$A:$AD,12,FALSE) -> #N/A | E37: =VLOOKUP($A37,[1]liste_inscriptions!$A:$AD,14,FALSE) -> #N/A | F37: =VLOOKUP($A37,[1]liste_inscriptions!$A:$AD,17,FALSE) -> #N/A | G37: =VLOOKUP($A37,[1]liste_inscriptions!$A:$AD,16,FALSE) -> #N/A | H37: =VLOOKUP($A37,[1]liste_inscriptions!$A:$AD,18,FALSE) -> #N/A | L37: Médiation Ateliers 12 | M37: =VLOOKUP($A37,[1]liste_inscriptions!$A:$AJ,34,FALSE) -> #N/A | N37: =INDEX(médiateurs!$A:$O,MATCH(L37,médiateurs!$C:$C,0),1) -> #N/A | Q37: Visite libre | V37: =TEXT(VLOOKUP($A37,[1]liste_inscriptions!$A:$AJ,30,FALSE)," ") -> #N/A | X37: =IF(ISNA(INDEX(médiateurs!$A:$O,MATCH(V37,médiateurs!$C:$C,0),1)),"",INDEX(médiateurs!$A:$O,MATCH(V37,médiateurs!$C:$C,0),1)) | Y37: =IF(AND(VLOOKUP(médiateurs!$AQ$2,médiateurs!$C:$C,1,0)=médiateurs!$AQ$2,V37=médiateurs!$AP$2),VLOOKUP(médiateurs!$AQ$2,médiateurs!$C:$AC,14,0),IF(AND(VLOOKUP(médiateurs!$AK$2,médiateurs!$C:$C,1,0)=médiateurs!$AK$2,V37=médiateurs!$AI$2),VLOOKUP(médiateurs!$AK$2,médiateurs!$C:$AC,14,0),IF(AND(VLOOKUP(médiateurs!$AL$2,médiateurs!$C:$C,1,0)=médiateurs!$AL$2,V37=médiateurs!$AJ$2),VLOOKUP(médiateurs!$AL$2,médiateurs!$C:$AC,14,0)," "))) -> #N/A | Z37: =TEXT(VLOOKUP($A37,[1]liste_inscriptions!$A:$AD,29,FALSE)," ") -> #N/A
M38: =VLOOKUP($A38,[1]liste_inscriptions!$A:$AJ,34,FALSE) -> #N/A
M39: =VLOOKUP($A39,[1]liste_inscriptions!$A:$AJ,34,FALSE) -> #N/A
A41: FORMULE 2
A42: N° | B42: ETABLISSEMENT | C42: VILLE | D42: NOM | E42: TÉLÉPHONE | F42: EFFECTIF | G42: NIVEAU | H42: SPÉCIALITÉ | J42: Accueil Arènes | L42: 9h30 - 10h30 PROJECTION | N42: MÉDIATEURS | Q42: 11h - 12h30 CARTE | S42: MÉDIATEURS | V42: 14h - 15h30 PARCOURS FESTIVALIER | W42: EXPOSITIONS | X42: MÉDIATEUR | Y42: ACCUEIL SNCF | Z42: COMMENTAIRE
A43: 49 | B43: =VLOOKUP($A43,[1]liste_inscriptions!$A:$AD,6,FALSE) -> #N/A | C43: =VLOOKUP($A43,[1]liste_inscriptions!$A:$AD,9,FALSE) -> #N/A | D43: =VLOOKUP($A43,[1]liste_inscriptions!$A:$AD,12,FALSE) -> #N/A | E43: =VLOOKUP($A43,[1]liste_inscriptions!$A:$AD,14,FALSE) -> #N/A | F43: =VLOOKUP($A43,[1]liste_inscriptions!$A:$AD,17,FALSE) -> #N/A | G43: =VLOOKUP($A43,[1]liste_inscriptions!$A:$AD,16,FALSE) -> #N/A | H43: =VLOOKUP($A43,[1]liste_inscriptions!$A:$AD,18,FALSE) -> #N/A | J43: =INDEX(médiateurs!$A:$O,MATCH("accueil maison des rencontres",médiateurs!$C:$C,0),1) -> #N/A | L43: Projection MDVA | N43: =INDEX(médiateurs!$A:$O,MATCH(L43,médiateurs!$C:$C,0),1) -> #N/A | O43: =INDEX(médiateurs!$A:$O,MATCH("Projection MDVA 2",médiateurs!$C:$C,0),1) -> #N/A | Q43: =TEXT(VLOOKUP($A43,[1]liste_inscriptions!$A:$AJ,30,FALSE)," ") -> #N/A | S43: =IF(ISNA(INDEX(médiateurs!$A:$O,MATCH(Q43,médiateurs!$C:$C,0),1)),"",INDEX(médiateurs!$A:$O,MATCH(Q43,médiateurs!$C:$C,0),1)) | T43: =IF(AND(VLOOKUP(médiateurs!$AQ$2,médiateurs!$C:$C,1,0)=médiateurs!$AQ$2,Q43=médiateurs!$AP$2),VLOOKUP(médiateurs!$AQ$2,médiateurs!$C:$AC,14,0),IF(AND(VLOOKUP(médiateurs!$AK$2,médiateurs!$C:$C,1,0)=médiateurs!$AK$2,Q43=médiateurs!$AI$2),VLOOKUP(médiateurs!$AK$2,médiateurs!$C:$AC,14,0),IF(AND(VLOOKUP(médiateurs!$AL$2,médiateurs!$C:$C,1,0)=médiateurs!$AL$2,Q43=médiateurs!$AJ$2),VLOOKUP(médiateurs!$AL$2,médiateurs!$C:$AC,14,0)," "))) -> #N/A | V43: Médiation Ateliers 1 | W43: =TEXT(VLOOKUP($A43,[1]liste_inscriptions!$A:$AJ,34,FALSE)," ") -> #N/A | X43: =INDEX(médiateurs!$A:$O,MATCH(V43,médiateurs!$C:$C,0),1) -> #N/A | Y43: =INDEX(médiateurs!$A:$O,MATCH(Y42,médiateurs!$C:$C,0),1) -> #N/A | Z43: =TEXT(VLOOKUP($A43,[1]liste_inscriptions!$A:$AD,29,FALSE)," ") -> #N/A
W44: =TEXT(VLOOKUP($A43,[1]liste_inscriptions!$A:$AJ,35,FALSE)," ") -> #N/A
W45: =TEXT(VLOOKUP($A43,[1]liste_inscriptions!$A:$AJ,36,FALSE)," ") -> #N/A
A46: 50 | B46: =VLOOKUP($A46,[1]liste_inscriptions!$A:$AD,6,FALSE) -> #N/A | C46: =VLOOKUP($A46,[1]liste_inscriptions!$A:$AD,9,FALSE) -> #N/A | D46: =VLOOKUP($A46,[1]liste_inscriptions!$A:$AD,12,FALSE) -> #N/A | E46: =VLOOKUP($A46,[1]liste_inscriptions!$A:$AD,14,FALSE) -> #N/A | F46: =VLOOKUP($A46,[1]liste_inscriptions!$A:$AD,17,FALSE) -> #N/A | G46: =VLOOKUP($A46,[1]liste_inscriptions!$A:$AD,16,FALSE) -> #N/A | H46: =VLOOKUP($A46,[1]liste_inscriptions!$A:$AD,18,FALSE) -> #N/A | L46: Projection MDVA | Q46: =TEXT(VLOOKUP($A46,[1]liste_inscriptions!$A:$AJ,30,FALSE)," ") -> #N/A | S46: =IF(ISNA(INDEX(médiateurs!$A:$O,MATCH(Q46,médiateurs!$C:$C,0),1)),"",INDEX(médiateurs!$A:$O,MATCH(Q46,médiateurs!$C:$C,0),1)) | T46: =IF(AND(VLOOKUP(médiateurs!$AQ$2,médiateurs!$C:$C,1,0)=médiateurs!$AQ$2,Q46=médiateurs!$AP$2),VLOOKUP(médiateurs!$AQ$2,médiateurs!$C:$AC,14,0),IF(AND(VLOOKUP(médiateurs!$AK$2,médiateurs!$C:$C,1,0)=médiateurs!$AK$2,Q46=médiateurs!$AI$2),VLOOKUP(médiateurs!$AK$2,médiateurs!$C:$AC,14,0),IF(AND(VLOOKUP(médiateurs!$AL$2,médiateurs!$C:$C,1,0)=médiateurs!$AL$2,Q46=médiateurs!$AJ$2),VLOOKUP(médiateurs!$AL$2,médiateurs!$C:$AC,14,0)," "))) -> #N/A | V46: Médiation Ateliers 2 | W46: =TEXT(VLOOKUP($A46,[1]liste_inscriptions!$A:$AJ,34,FALSE)," ") -> #N/A | X46: =INDEX(médiateurs!$A:$O,MATCH(V46,médiateurs!$C:$C,0),1) -> #N/A | Z46: =TEXT(VLOOKUP($A46,[1]liste_inscriptions!$A:$AD,29,FALSE)," ") -> #N/A
W47: =TEXT(VLOOKUP($A46,[1]liste_inscriptions!$A:$AJ,35,FALSE)," ") -> #N/A
W48: =TEXT(VLOOKUP($A46,[1]liste_inscriptions!$A:$AJ,36,FALSE)," ") -> #N/A
A49: 51 | B49: =VLOOKUP($A49,[1]liste_inscriptions!$A:$AD,6,FALSE) -> #N/A | C49: =VLOOKUP($A49,[1]liste_inscriptions!$A:$AD,9,FALSE) -> #N/A | D49: =VLOOKUP($A49,[1]liste_inscriptions!$A:$AD,12,FALSE) -> #N/A | E49: =VLOOKUP($A49,[1]liste_inscriptions!$A:$AD,14,FALSE) -> #N/A | F49: =VLOOKUP($A49,[1]liste_inscriptions!$A:$AD,17,FALSE) -> #N/A | G49: =VLOOKUP($A49,[1]liste_inscriptions!$A:$AD,16,FALSE) -> #N/A | H49: =VLOOKUP($A49,[1]liste_inscriptions!$A:$AD,18,FALSE) -> #N/A | L49: Projection MDVA | Q49: =TEXT(VLOOKUP($A49,[1]liste_inscriptions!$A:$AJ,30,FALSE)," ") -> #N/A | S49: =IF(ISNA(INDEX(médiateurs!$A:$O,MATCH(Q49,médiateurs!$C:$C,0),1)),"",INDEX(médiateurs!$A:$O,MATCH(Q49,médiateurs!$C:$C,0),1)) | T49: =IF(AND(VLOOKUP(médiateurs!$AQ$2,médiateurs!$C:$C,1,0)=médiateurs!$AQ$2,Q49=médiateurs!$AP$2),VLOOKUP(médiateurs!$AQ$2,médiateurs!$C:$AC,14,0),IF(AND(VLOOKUP(médiateurs!$AK$2,médiateurs!$C:$C,1,0)=médiateurs!$AK$2,Q49=médiateurs!$AI$2),VLOOKUP(médiateurs!$AK$2,médiateurs!$C:$AC,14,0),IF(AND(VLOOKUP(médiateurs!$AL$2,médiateurs!$C:$C,1,0)=médiateurs!$AL$2,Q49=médiateurs!$AJ$2),VLOOKUP(médiateurs!$AL$2,médiateurs!$C:$AC,14,0)," "))) -> #N/A | V49: Médiation Ateliers 3 | W49: =TEXT(VLOOKUP($A49,[1]liste_inscriptions!$A:$AJ,34,FALSE)," ") -> #N/A | X49: =INDEX(médiateurs!$A:$O,MATCH(V49,médiateurs!$C:$C,0),1) -> #N/A | Z49: =TEXT(VLOOKUP($A49,[1]liste_inscriptions!$A:$AD,29,FALSE)," ") -> #N/A
W50: =TEXT(VLOOKUP($A49,[1]liste_inscriptions!$A:$AJ,35,FALSE)," ") -> #N/A
W51: =TEXT(VLOOKUP($A49,[1]liste_inscriptions!$A:$AJ,36,FALSE)," ") -> #N/A
A52: 52 | B52: =VLOOKUP($A52,[1]liste_inscriptions!$A:$AD,6,FALSE) -> #N/A | C52: =VLOOKUP($A52,[1]liste_inscriptions!$A:$AD,9,FALSE) -> #N/A | D52: =VLOOKUP($A52,[1]liste_inscriptions!$A:$AD,12,FALSE) -> #N/A | E52: =VLOOKUP($A52,[1]liste_inscriptions!$A:$AD,14,FALSE) -> #N/A | F52: =VLOOKUP($A52,[1]liste_inscriptions!$A:$AD,17,FALSE) -> #N/A | G52: =VLOOKUP($A52,[1]liste_inscriptions!$A:$AD,16,FALSE) -> #N/A | H52: =VLOOKUP($A52,[1]liste_inscriptions!$A:$AD,18,FALSE) -> #N/A | L52: Projection ENSP | N52: =INDEX(médiateurs!$A:$O,MATCH(L52,médiateurs!$C:$C,0),1) -> #N/A | O52: =INDEX(médiateurs!$A:$O,MATCH("Projection ENSP 2",médiateurs!$C:$C,0),1) -> #N/A | Q52: =TEXT(VLOOKUP($A52,[1]liste_inscriptions!$A:$AJ,30,FALSE)," ") -> #N/A | S52: =IF(ISNA(INDEX(médiateurs!$A:$O,MATCH(Q52,médiateurs!$C:$C,0),1)),"",INDEX(médiateurs!$A:$O,MATCH(Q52,médiateurs!$C:$C,0),1)) | T52: =IF(AND(VLOOKUP(médiateurs!$AQ$2,médiateurs!$C:$C,1,0)=médiateurs!$AQ$2,Q52=médiateurs!$AP$2),VLOOKUP(médiateurs!$AQ$2,médiateurs!$C:$AC,14,0),IF(AND(VLOOKUP(médiateurs!$AK$2,médiateurs!$C:$C,1,0)=médiateurs!$AK$2,Q52=médiateurs!$AI$2),VLOOKUP(médiateurs!$AK$2,médiateurs!$C:$AC,14,0),IF(AND(VLOOKUP(médiateurs!$AL$2,médiateurs!$C:$C,1,0)=médiateurs!$AL$2,Q52=médiateurs!$AJ$2),VLOOKUP(médiateurs!$AL$2,médiateurs!$C:$AC,14,0)," "))) -> #N/A | V52: Médiation Ateliers 4 | W52: =TEXT(VLOOKUP($A52,[1]liste_inscriptions!$A:$AJ,34,FALSE)," ") -> #N/A | X52: =INDEX(médiateurs!$A:$O,MATCH(V52,médiateurs!$C:$C,0),1) -> #N/A | Z52: =TEXT(VLOOKUP($A52,[1]liste_inscriptions!$A:$AD,29,FALSE)," ") -> #N/A
W53: =TEXT(VLOOKUP($A52,[1]liste_inscriptions!$A:$AJ,35,FALSE)," ") -> #N/A
W54: =TEXT(VLOOKUP($A52,[1]liste_inscriptions!$A:$AJ,36,FALSE)," ") -> #N/A
A55: 53 | B55: =VLOOKUP($A55,[1]liste_inscriptions!$A:$AD,6,FALSE) -> #N/A | C55: =VLOOKUP($A55,[1]liste_inscriptions!$A:$AD,9,FALSE) -> #N/A | D55: =VLOOKUP($A55,[1]liste_inscriptions!$A:$AD,12,FALSE) -> #N/A | E55: =VLOOKUP($A55,[1]liste_inscriptions!$A:$AD,14,FALSE) -> #N/A | F55: =VLOOKUP($A55,[1]liste_inscriptions!$A:$AD,17,FALSE) -> #N/A | G55: =VLOOKUP($A55,[1]liste_inscriptions!$A:$AD,16,FALSE) -> #N/A | H55: =VLOOKUP($A55,[1]liste_inscriptions!$A:$AD,18,FALSE) -> #N/A | L55: Projection ENSP | Q55: =TEXT(VLOOKUP($A55,[1]liste_inscriptions!$A:$AJ,30,FALSE)," ") -> #N/A | S55: =IF(ISNA(INDEX(médiateurs!$A:$O,MATCH(Q55,médiateurs!$C:$C,0),1)),"",INDEX(médiateurs!$A:$O,MATCH(Q55,médiateurs!$C:$C,0),1)) | T55: =IF(AND(VLOOKUP(médiateurs!$AQ$2,médiateurs!$C:$C,1,0)=médiateurs!$AQ$2,Q55=médiateurs!$AP$2),VLOOKUP(médiateurs!$AQ$2,médiateurs!$C:$AC,14,0),IF(AND(VLOOKUP(médiateurs!$AK$2,médiateurs!$C:$C,1,0)=médiateurs!$AK$2,Q55=médiateurs!$AI$2),VLOOKUP(médiateurs!$AK$2,médiateurs!$C:$AC,14,0),IF(AND(VLOOKUP(médiateurs!$AL$2,médiateurs!$C:$C,1,0)=médiateurs!$AL$2,Q55=médiateurs!$AJ$2),VLOOKUP(médiateurs!$AL$2,médiateurs!$C:$AC,14,0)," "))) -> #N/A | V55: Médiation Ateliers 5 | W55: =TEXT(VLOOKUP($A55,[1]liste_inscriptions!$A:$AJ,34,FALSE)," ") -> #N/A | X55: =INDEX(médiateurs!$A:$O,MATCH(V55,médiateurs!$C:$C,0),1) -> #N/A | Z55: =TEXT(VLOOKUP($A55,[1]liste_inscriptions!$A:$AD,29,FALSE)," ") -> #N/A
W56: =TEXT(VLOOKUP($A55,[1]liste_inscriptions!$A:$AJ,35,FALSE)," ") -> #N/A
W57: =TEXT(VLOOKUP($A55,[1]liste_inscriptions!$A:$AJ,36,FALSE)," ") -> #N/A
A58: 54 | B58: =VLOOKUP($A58,[1]liste_inscriptions!$A:$AD,6,FALSE) -> #N/A | C58: =VLOOKUP($A58,[1]liste_inscriptions!$A:$AD,9,FALSE) -> #N/A | D58: =VLOOKUP($A58,[1]liste_inscriptions!$A:$AD,12,FALSE) -> #N/A | E58: =VLOOKUP($A58,[1]liste_inscriptions!$A:$AD,14,FALSE) -> #N/A | F58: =VLOOKUP($A58,[1]liste_inscriptions!$A:$AD,17,FALSE) -> #N/A | G58: =VLOOKUP($A58,[1]liste_inscriptions!$A:$AD,16,FALSE) -> #N/A | H58: =VLOOKUP($A58,[1]liste_inscriptions!$A:$AD,18,FALSE) -> #N/A | L58: Projection ENSP | Q58: =TEXT(VLOOKUP($A58,[1]liste_inscriptions!$A:$AJ,30,FALSE)," ") -> #N/A | S58: =IF(ISNA(INDEX(médiateurs!$A:$O,MATCH(Q58,médiateurs!$C:$C,0),1)),"",INDEX(médiateurs!$A:$O,MATCH(Q58,médiateurs!$C:$C,0),1)) | T58: =IF(AND(VLOOKUP(médiateurs!$AQ$2,médiateurs!$C:$C,1,0)=médiateurs!$AQ$2,Q58=médiateurs!$AP$2),VLOOKUP(médiateurs!$AQ$2,médiateurs!$C:$AC,14,0),IF(AND(VLOOKUP(médiateurs!$AK$2,médiateurs!$C:$C,1,0)=médiateurs!$AK$2,Q58=médiateurs!$AI$2),VLOOKUP(médiateurs!$AK$2,médiateurs!$C:$AC,14,0),IF(AND(VLOOKUP(médiateurs!$AL$2,médiateurs!$C:$C,1,0)=médiateurs!$AL$2,Q58=médiateurs!$AJ$2),VLOOKUP(médiateurs!$AL$2,médiateurs!$C:$AC,14,0)," "))) -> #N/A | V58: Médiation Ateliers 6 | W58: =TEXT(VLOOKUP($A58,[1]liste_inscriptions!$A:$AJ,34,FALSE)," ") -> #N/A | X58: =INDEX(médiateurs!$A:$O,MATCH(V58,médiateurs!$C:$C,0),1) -> #N/A | Z58: =TEXT(VLOOKUP($A58,[1]liste_inscriptions!$A:$AD,29,FALSE)," ") -> #N/A
W59: =TEXT(VLOOKUP($A58,[1]liste_inscriptions!$A:$AJ,35,FALSE)," ") -> #N/A
W60: =TEXT(VLOOKUP($A58,[1]liste_inscriptions!$A:$AJ,36,FALSE)," ") -> #N/A
A61: 55 | B61: =VLOOKUP($A61,[1]liste_inscriptions!$A:$AD,6,FALSE) -> #N/A | C61: =VLOOKUP($A61,[1]liste_inscriptions!$A:$AD,9,FALSE) -> #N/A | D61: =VLOOKUP($A61,[1]liste_inscriptions!$A:$AD,12,FALSE) -> #N/A | E61: =VLOOKUP($A61,[1]liste_inscriptions!$A:$AD,14,FALSE) -> #N/A | F61: =VLOOKUP($A61,[1]liste_inscriptions!$A:$AD,17,FALSE) -> #N/A | G61: =VLOOKUP($A61,[1]liste_inscriptions!$A:$AD,16,FALSE) -> #N/A | H61: =VLOOKUP($A61,[1]liste_inscriptions!$A:$AD,18,FALSE) -> #N/A | L61: Visite libre | Q61: =TEXT(VLOOKUP($A61,[1]liste_inscriptions!$A:$AJ,30,FALSE)," ") -> #N/A | S61: =IF(ISNA(INDEX(médiateurs!$A:$O,MATCH(Q61,médiateurs!$C:$C,0),1)),"",INDEX(médiateurs!$A:$O,MATCH(Q61,médiateurs!$C:$C,0),1)) | T61: =IF(AND(VLOOKUP(médiateurs!$AQ$2,médiateurs!$C:$C,1,0)=médiateurs!$AQ$2,Q61=médiateurs!$AP$2),VLOOKUP(médiateurs!$AQ$2,médiateurs!$C:$AC,14,0),IF(AND(VLOOKUP(médiateurs!$AK$2,médiateurs!$C:$C,1,0)=médiateurs!$AK$2,Q61=médiateurs!$AI$2),VLOOKUP(médiateurs!$AK$2,médiateurs!$C:$AC,14,0),IF(AND(VLOOKUP(médiateurs!$AL$2,médiateurs!$C:$C,1,0)=médiateurs!$AL$2,Q61=médiateurs!$AJ$2),VLOOKUP(médiateurs!$AL$2,médiateurs!$C:$AC,14,0)," "))) -> #N/A | V61: Médiation Ateliers 7 | W61: =TEXT(VLOOKUP($A61,[1]liste_inscriptions!$A:$AJ,34,FALSE)," ") -> #N/A | X61: =INDEX(médiateurs!$A:$O,MATCH(V61,médiateurs!$C:$C,0),1) -> #N/A | Y61: =INDEX(médiateurs!$A:$O,MATCH("accueil SNCF 2",médiateurs!$C:$C,0),1) -> #N/A | Z61: =TEXT(VLOOKUP($A61,[1]liste_inscriptions!$A:$AD,29,FALSE)," ") -> #N/A
W62: =TEXT(VLOOKUP($A61,[1]liste_inscriptions!$A:$AJ,35,FALSE)," ") -> #N/A
W63: =TEXT(VLOOKUP($A61,[1]liste_inscriptions!$A:$AJ,36,FALSE)," ") -> #N/A
A64: 56 | B64: =VLOOKUP($A64,[1]liste_inscriptions!$A:$AD,6,FALSE) -> #N/A | C64: =VLOOKUP($A64,[1]liste_inscriptions!$A:$AD,9,FALSE) -> #N/A | D64: =VLOOKUP($A64,[1]liste_inscriptions!$A:$AD,12,FALSE) -> #N/A | E64: =VLOOKUP($A64,[1]liste_inscriptions!$A:$AD,14,FALSE) -> #N/A | F64: =VLOOKUP($A64,[1]liste_inscriptions!$A:$AD,17,FALSE) -> #N/A | G64: =VLOOKUP($A64,[1]liste_inscriptions!$A:$AD,16,FALSE) -> #N/A | H64: =VLOOKUP($A64,[1]liste_inscriptions!$A:$AD,18,FALSE) -> #N/A | L64: Visite libre | Q64: =TEXT(VLOOKUP($A64,[1]liste_inscriptions!$A:$AJ,30,FALSE)," ") -> #N/A | S64: =IF(ISNA(INDEX(médiateurs!$A:$O,MATCH(Q64,médiateurs!$C:$C,0),1)),"",INDEX(médiateurs!$A:$O,MATCH(Q64,médiateurs!$C:$C,0),1)) | T64: =IF(AND(VLOOKUP(médiateurs!$AQ$2,médiateurs!$C:$C,1,0)=médiateurs!$AQ$2,Q64=médiateurs!$AP$2),VLOOKUP(médiateurs!$AQ$2,médiateurs!$C:$AC,14,0),IF(AND(VLOOKUP(médiateurs!$AK$2,médiateurs!$C:$C,1,0)=médiateurs!$AK$2,Q64=médiateurs!$AI$2),VLOOKUP(médiateurs!$AK$2,médiateurs!$C:$AC,14,0),IF(AND(VLOOKUP(médiateurs!$AL$2,médiateurs!$C:$C,1,0)=médiateurs!$AL$2,Q64=médiateurs!$AJ$2),VLOOKUP(médiateurs!$AL$2,médiateurs!$C:$AC,14,0)," "))) -> #N/A | V64: Médiation Ateliers 8 | W64: =TEXT(VLOOKUP($A64,[1]liste_inscriptions!$A:$AJ,34,FALSE)," ") -> #N/A | X64: =INDEX(médiateurs!$A:$O,MATCH(V64,médiateurs!$C:$C,0),1) -> #N/A | Z64: =TEXT(VLOOKUP($A64,[1]liste_inscriptions!$A:$AD,29,FALSE)," ") -> #N/A
W65: =TEXT(VLOOKUP($A64,[1]liste_inscriptions!$A:$AJ,35,FALSE)," ") -> #N/A
W66: =TEXT(VLOOKUP($A64,[1]liste_inscriptions!$A:$AJ,36,FALSE)," ") -> #N/A
A67: 57 | B67: =VLOOKUP($A67,[1]liste_inscriptions!$A:$AD,6,FALSE) -> #N/A | C67: =VLOOKUP($A67,[1]liste_inscriptions!$A:$AD,9,FALSE) -> #N/A | D67: =VLOOKUP($A67,[1]liste_inscriptions!$A:$AD,12,FALSE) -> #N/A | E67: =VLOOKUP($A67,[1]liste_inscriptions!$A:$AD,14,FALSE) -> #N/A | F67: =VLOOKUP($A67,[1]liste_inscriptions!$A:$AD,17,FALSE) -> #N/A | G67: =VLOOKUP($A67,[1]liste_inscriptions!$A:$AD,16,FALSE) -> #N/A | H67: =VLOOKUP($A67,[1]liste_inscriptions!$A:$AD,18,FALSE) -> #N/A | L67: Visite libre | Q67: =TEXT(VLOOKUP($A67,[1]liste_inscriptions!$A:$AJ,30,FALSE)," ") -> #N/A | S67: =IF(ISNA(INDEX(médiateurs!$A:$O,MATCH(Q67,médiateurs!$C:$C,0),1)),"",INDEX(médiateurs!$A:$O,MATCH(Q67,médiateurs!$C:$C,0),1)) | T67: =IF(AND(VLOOKUP(médiateurs!$AQ$2,médiateurs!$C:$C,1,0)=médiateurs!$AQ$2,Q67=médiateurs!$AP$2),VLOOKUP(médiateurs!$AQ$2,médiateurs!$C:$AC,14,0),IF(AND(VLOOKUP(médiateurs!$AK$2,médiateurs!$C:$C,1,0)=médiateurs!$AK$2,Q67=médiateurs!$AI$2),VLOOKUP(médiateurs!$AK$2,médiateurs!$C:$AC,14,0),IF(AND(VLOOKUP(médiateurs!$AL$2,médiateurs!$C:$C,1,0)=médiateurs!$AL$2,Q67=médiateurs!$AJ$2),VLOOKUP(médiateurs!$AL$2,médiateurs!$C:$AC,14,0)," "))) -> #N/A | V67: Médiation Ateliers 9 | W67: =TEXT(VLOOKUP($A67,[1]liste_inscriptions!$A:$AJ,34,FALSE)," ") -> #N/A | X67: =INDEX(médiateurs!$A:$O,MATCH(V67,médiateurs!$C:$C,0),1) -> #N/A | Z67: =TEXT(VLOOKUP($A67,[1]liste_inscriptions!$A:$AD,29,FALSE)," ") -> #N/A
W68: =TEXT(VLOOKUP($A67,[1]liste_inscriptions!$A:$AJ,35,FALSE)," ") -> #N/A
W69: =TEXT(VLOOKUP($A67,[1]liste_inscriptions!$A:$AJ,36,FALSE)," ") -> #N/A
A70: 58 | B70: =VLOOKUP($A70,[1]liste_inscriptions!$A:$AD,6,FALSE) -> #N/A | C70: =VLOOKUP($A70,[1]liste_inscriptions!$A:$AD,9,FALSE) -> #N/A | D70: =VLOOKUP($A70,[1]liste_inscriptions!$A:$AD,12,FALSE) -> #N/A | E70: =VLOOKUP($A70,[1]liste_inscriptions!$A:$AD,14,FALSE) -> #N/A | F70: =VLOOKUP($A70,[1]liste_inscriptions!$A:$AD,17,FALSE) -> #N/A | G70: =VLOOKUP($A70,[1]liste_inscriptions!$A:$AD,16,FALSE) -> #N/A | H70: =VLOOKUP($A70,[1]liste_inscriptions!$A:$AD,18,FALSE) -> #N/A | L70: Visite libre | Q70: =TEXT(VLOOKUP($A70,[1]liste_inscriptions!$A:$AJ,30,FALSE)," ") -> #N/A | S70: =IF(ISNA(INDEX(médiateurs!$A:$O,MATCH(Q70,médiateurs!$C:$C,0),1)),"",INDEX(médiateurs!$A:$O,MATCH(Q70,médiateurs!$C:$C,0),1)) | T70: =IF(AND(VLOOKUP(médiateurs!$AQ$2,médiateurs!$C:$C,1,0)=médiateurs!$AQ$2,Q70=médiateurs!$AP$2),VLOOKUP(médiateurs!$AQ$2,médiateurs!$C:$AC,14,0),IF(AND(VLOOKUP(médiateurs!$AK$2,médiateurs!$C:$C,1,0)=médiateurs!$AK$2,Q70=médiateurs!$AI$2),VLOOKUP(médiateurs!$AK$2,médiateurs!$C:$AC,14,0),IF(AND(VLOOKUP(médiateurs!$AL$2,médiateurs!$C:$C,1,0)=médiateurs!$AL$2,Q70=médiateurs!$AJ$2),VLOOKUP(médiateurs!$AL$2,médiateurs!$C:$AC,14,0)," "))) -> #N/A | V70: Médiation Ateliers 10 | W70: =TEXT(VLOOKUP($A70,[1]liste_inscriptions!$A:$AJ,34,FALSE)," ") -> #N/A | X70: =INDEX(médiateurs!$A:$O,MATCH(V70,médiateurs!$C:$C,0),1) -> #N/A | Z70: =TEXT(VLOOKUP($A70,[1]liste_inscriptions!$A:$AD,29,FALSE)," ") -> #N/A
W71: =TEXT(VLOOKUP($A70,[1]liste_inscriptions!$A:$AJ,35,FALSE)," ") -> #N/A
W72: =TEXT(VLOOKUP($A70,[1]liste_inscriptions!$A:$AJ,36,FALSE)," ") -> #N/A
A73: 59 | B73: =VLOOKUP($A73,[1]liste_inscriptions!$A:$AD,6,FALSE) -> #N/A | C73: =VLOOKUP($A73,[1]liste_inscriptions!$A:$AD,9,FALSE) -> #N/A | D73: =VLOOKUP($A73,[1]liste_inscriptions!$A:$AD,12,FALSE) -> #N/A | E73: =VLOOKUP($A73,[1]liste_inscriptions!$A:$AD,14,FALSE) -> #N/A | F73: =VLOOKUP($A73,[1]liste_inscriptions!$A:$AD,17,FALSE) -> #N/A | G73: =VLOOKUP($A73,[1]liste_inscriptions!$A:$AD,16,FALSE) -> #N/A | H73: =VLOOKUP($A73,[1]liste_inscriptions!$A:$AD,18,FALSE) -> #N/A | L73: Visite libre | Q73: =TEXT(VLOOKUP($A73,[1]liste_inscriptions!$A:$AJ,30,FALSE)," ") -> #N/A | S73: =IF(ISNA(INDEX(médiateurs!$A:$O,MATCH(Q73,médiateurs!$C:$C,0),1)),"",INDEX(médiateurs!$A:$O,MATCH(Q73,médiateurs!$C:$C,0),1)) | T73: =IF(AND(VLOOKUP(médiateurs!$AQ$2,médiateurs!$C:$C,1,0)=médiateurs!$AQ$2,Q73=médiateurs!$AP$2),VLOOKUP(médiateurs!$AQ$2,médiateurs!$C:$AC,14,0),IF(AND(VLOOKUP(médiateurs!$AK$2,médiateurs!$C:$C,1,0)=médiateurs!$AK$2,Q73=médiateurs!$AI$2),VLOOKUP(médiateurs!$AK$2,médiateurs!$C:$AC,14,0),IF(AND(VLOOKUP(médiateurs!$AL$2,médiateurs!$C:$C,1,0)=médiateurs!$AL$2,Q73=médiateurs!$AJ$2),VLOOKUP(médiateurs!$AL$2,médiateurs!$C:$AC,14,0)," "))) -> #N/A | V73: Médiation Ateliers 11 | W73: =TEXT(VLOOKUP($A73,[1]liste_inscriptions!$A:$AJ,34,FALSE)," ") -> #N/A | X73: =INDEX(médiateurs!$A:$O,MATCH(V73,médiateurs!$C:$C,0),1) -> #N/A | Z73: =TEXT(VLOOKUP($A73,[1]liste_inscriptions!$A:$AD,29,FALSE)," ") -> #N/A
W74: =TEXT(VLOOKUP($A73,[1]liste_inscriptions!$A:$AJ,35,FALSE)," ") -> #N/A
W75: =TEXT(VLOOKUP($A73,[1]liste_inscriptions!$A:$AJ,36,FALSE)," ") -> #N/A
A76: 60 | B76: =VLOOKUP($A76,[1]liste_inscriptions!$A:$AD,6,FALSE) -> #N/A | C76: =VLOOKUP($A76,[1]liste_inscriptions!$A:$AD,9,FALSE) -> #N/A | D76: =VLOOKUP($A76,[1]liste_inscriptions!$A:$AD,12,FALSE) -> #N/A | E76: =VLOOKUP($A76,[1]liste_inscriptions!$A:$AD,14,FALSE) -> #N/A | F76: =VLOOKUP($A76,[1]liste_inscriptions!$A:$AD,17,FALSE) -> #N/A | G76: =VLOOKUP($A76,[1]liste_inscriptions!$A:$AD,16,FALSE) -> #N/A | H76: =VLOOKUP($A76,[1]liste_inscriptions!$A:$AD,18,FALSE) -> #N/A | L76: Visite libre | Q76: =TEXT(VLOOKUP($A76,[1]liste_inscriptions!$A:$AJ,30,FALSE)," ") -> #N/A | S76: =IF(ISNA(INDEX(médiateurs!$A:$O,MATCH(Q76,médiateurs!$C:$C,0),1)),"",INDEX(médiateurs!$A:$O,MATCH(Q76,médiateurs!$C:$C,0),1)) | T76: =IF(AND(VLOOKUP(médiateurs!$AQ$2,médiateurs!$C:$C,1,0)=médiateurs!$AQ$2,Q76=médiateurs!$AP$2),VLOOKUP(médiateurs!$AQ$2,médiateurs!$C:$AC,14,0),IF(AND(VLOOKUP(médiateurs!$AK$2,médiateurs!$C:$C,1,0)=médiateurs!$AK$2,Q76=médiateurs!$AI$2),VLOOKUP(médiateurs!$AK$2,médiateurs!$C:$AC,14,0),IF(AND(VLOOKUP(médiateurs!$AL$2,médiateurs!$C:$C,1,0)=médiateurs!$AL$2,Q76=médiateurs!$AJ$2),VLOOKUP(médiateurs!$AL$2,médiateurs!$C:$AC,14,0)," "))) -> #N/A | V76: Médiation Ateliers 12 | W76: =TEXT(VLOOKUP($A76,[1]liste_inscriptions!$A:$AJ,34,FALSE)," ") -> #N/A | X76: =INDEX(médiateurs!$A:$O,MATCH(V76,médiateurs!$C:$C,0),1) -> #N/A | Z76: =TEXT(VLOOKUP($A76,[1]liste_inscriptions!$A:$AD,29,FALSE)," ") -> #N/A
W77: =TEXT(VLOOKUP($A76,[1]liste_inscriptions!$A:$AJ,35,FALSE)," ") -> #N/A
W78: =TEXT(VLOOKUP($A76,[1]liste_inscriptions!$A:$AJ,36,FALSE)," ") -> #N/A
A80: FORMULE 3
A81: N° | B81: ETABLISSEMENT | C81: VILLE | D81: NOM | E81: TÉLÉPHONE | F81: EFFECTIF | G81: NIVEAU | H81: SPÉCIALITÉ | J81: Accueil Arènes | L81: 9H30 - 11h CARTE | N81: MÉDIATEURS | Q81: 11H30 - 13h PARCOURS FESTIVALIER | R81: EXPOSITIONS | S81: MÉDIATEUR | T81: ACCUEIL SNCF | V81: 14H30 -15h30 PROJECTION | X81: MÉDIATEURS | Z81: COMMENTAIRE
A82: 61 | B82: =VLOOKUP($A82,[1]liste_inscriptions!$A:$AD,6,FALSE) -> #N/A | C82: =VLOOKUP($A82,[1]liste_inscriptions!$A:$AD,9,FALSE) -> #N/A | D82: =VLOOKUP($A82,[1]liste_inscriptions!$A:$AD,12,FALSE) -> #N/A | E82: =VLOOKUP($A82,[1]liste_inscriptions!$A:$AD,14,FALSE) -> #N/A | F82: =VLOOKUP($A82,[1]liste_inscriptions!$A:$AD,17,FALSE) -> #N/A | G82: =VLOOKUP($A82,[1]liste_inscriptions!$A:$AD,16,FALSE) -> #N/A | H82: =VLOOKUP($A82,[1]liste_inscriptions!$A:$AD,18,FALSE) -> #N/A | J82: =INDEX(médiateurs!$A:$O,MATCH("accueil maison des rencontres",médiateurs!$C:$C,0),1) -> #N/A | L82: =TEXT(VLOOKUP($A82,[1]liste_inscriptions!$A:$AJ,30,FALSE)," ") -> #N/A | N82: =IF(ISNA(INDEX(médiateurs!$A:$O,MATCH(L82,médiateurs!$C:$C,0),1)),"",INDEX(médiateurs!$A:$O,MATCH(L82,médiateurs!$C:$C,0),1)) | O82: =IF(AND(VLOOKUP(médiateurs!$AQ$2,médiateurs!$C:$C,1,0)=médiateurs!$AQ$2,L82=médiateurs!$AP$2),VLOOKUP(médiateurs!$AQ$2,médiateurs!$C:$AC,14,0),IF(AND(VLOOKUP(médiateurs!$AK$2,médiateurs!$C:$C,1,0)=médiateurs!$AK$2,L82=médiateurs!$AI$2),VLOOKUP(médiateurs!$AK$2,médiateurs!$C:$AC,14,0),IF(AND(VLOOKUP(médiateurs!$AL$2,médiateurs!$C:$C,1,0)=médiateurs!$AL$2,L82=médiateurs!$AJ$2),VLOOKUP(médiateurs!$AL$2,médiateurs!$C:$AC,14,0)," "))) -> #N/A | Q82: Médiation Ateliers 1 | R82: =TEXT(VLOOKUP($A82,[1]liste_inscriptions!$A:$AJ,34,FALSE)," ") -> #N/A | S82: =INDEX(médiateurs!$A:$O,MATCH(Q82,médiateurs!$C:$C,0),1) -> #N/A | T82: =INDEX(médiateurs!$A:$O,MATCH(T81,médiateurs!$C:$C,0),1) -> #N/A | V82: Projection MDVA | X82: =INDEX(médiateurs!$A:$O,MATCH(V82,médiateurs!$C:$C,0),1) -> #N/A | Y82: =INDEX(médiateurs!$A:$O,MATCH("Projection MDVA 2",médiateurs!$C:$C,0),1) -> #N/A | Z82: =TEXT(VLOOKUP($A82,[1]liste_inscriptions!$A:$AD,29,FALSE)," ") -> #N/A
R83: =TEXT(VLOOKUP($A82,[1]liste_inscriptions!$A:$AJ,35,FALSE)," ") -> #N/A
R84: =TEXT(VLOOKUP($A82,[1]liste_inscriptions!$A:$AJ,36,FALSE)," ") -> #N/A
A85: 62 | B85: =VLOOKUP($A85,[1]liste_inscriptions!$A:$AD,6,FALSE) -> #N/A | C85: =VLOOKUP($A85,[1]liste_inscriptions!$A:$AD,9,FALSE) -> #N/A | D85: =VLOOKUP($A85,[1]liste_inscriptions!$A:$AD,12,FALSE) -> #N/A | E85: =VLOOKUP($A85,[1]liste_inscriptions!$A:$AD,14,FALSE) -> #N/A | F85: =VLOOKUP($A85,[1]liste_inscriptions!$A:$AD,17,FALSE) -> #N/A | G85: =VLOOKUP($A85,[1]liste_inscriptions!$A:$AD,16,FALSE) -> #N/A | H85: =VLOOKUP($A85,[1]liste_inscriptions!$A:$AD,18,FALSE) -> #N/A | L85: =TEXT(VLOOKUP($A85,[1]liste_inscriptions!$A:$AJ,30,FALSE)," ") -> #N/A | N85: =IF(ISNA(INDEX(médiateurs!$A:$O,MATCH(L85,médiateurs!$C:$C,0),1)),"",INDEX(médiateurs!$A:$O,MATCH(L85,médiateurs!$C:$C,0),1)) | O85: =IF(AND(VLOOKUP(médiateurs!$AQ$2,médiateurs!$C:$C,1,0)=médiateurs!$AQ$2,L85=médiateurs!$AP$2),VLOOKUP(médiateurs!$AQ$2,médiateurs!$C:$AC,14,0),IF(AND(VLOOKUP(médiateurs!$AK$2,médiateurs!$C:$C,1,0)=médiateurs!$AK$2,L85=médiateurs!$AI$2),VLOOKUP(médiateurs!$AK$2,médiateurs!$C:$AC,14,0),IF(AND(VLOOKUP(médiateurs!$AL$2,médiateurs!$C:$C,1,0)=médiateurs!$AL$2,L85=médiateurs!$AJ$2),VLOOKUP(médiateurs!$AL$2,médiateurs!$C:$AC,14,0)," "))) -> #N/A | Q85: Médiation Ateliers 2 | R85: =TEXT(VLOOKUP($A85,[1]liste_inscriptions!$A:$AJ,34,FALSE)," ") -> #N/A | S85: =INDEX(médiateurs!$A:$O,MATCH(Q85,médiateurs!$C:$C,0),1) -> #N/A | V85: Projection MDVA | Z85: =TEXT(VLOOKUP($A85,[1]liste_inscriptions!$A:$AD,29,FALSE)," ") -> #N/A
R86: =TEXT(VLOOKUP($A85,[1]liste_inscriptions!$A:$AJ,35,FALSE)," ") -> #N/A
R87: =TEXT(VLOOKUP($A85,[1]liste_inscriptions!$A:$AJ,36,FALSE)," ") -> #N/A
A88: 63 | B88: =VLOOKUP($A88,[1]liste_inscriptions!$A:$AD,6,FALSE) -> #N/A | C88: =VLOOKUP($A88,[1]liste_inscriptions!$A:$AD,9,FALSE) -> #N/A | D88: =VLOOKUP($A88,[1]liste_inscriptions!$A:$AD,12,FALSE) -> #N/A | E88: =VLOOKUP($A88,[1]liste_inscriptions!$A:$AD,14,FALSE) -> #N/A | F88: =VLOOKUP($A88,[1]liste_inscriptions!$A:$AD,17,FALSE) -> #N/A | G88: =VLOOKUP($A88,[1]liste_inscriptions!$A:$AD,16,FALSE) -> #N/A | H88: =VLOOKUP($A88,[1]liste_inscriptions!$A:$AD,18,FALSE) -> #N/A | L88: =TEXT(VLOOKUP($A88,[1]liste_inscriptions!$A:$AJ,30,FALSE)," ") -> #N/A | N88: =IF(ISNA(INDEX(médiateurs!$A:$O,MATCH(L88,médiateurs!$C:$C,0),1)),"",INDEX(médiateurs!$A:$O,MATCH(L88,médiateurs!$C:$C,0),1)) | O88: =IF(AND(VLOOKUP(médiateurs!$AQ$2,médiateurs!$C:$C,1,0)=médiateurs!$AQ$2,L88=médiateurs!$AP$2),VLOOKUP(médiateurs!$AQ$2,médiateurs!$C:$AC,14,0),IF(AND(VLOOKUP(médiateurs!$AK$2,médiateurs!$C:$C,1,0)=médiateurs!$AK$2,L88=médiateurs!$AI$2),VLOOKUP(médiateurs!$AK$2,médiateurs!$C:$AC,14,0),IF(AND(VLOOKUP(médiateurs!$AL$2,médiateurs!$C:$C,1,0)=médiateurs!$AL$2,L88=médiateurs!$AJ$2),VLOOKUP(médiateurs!$AL$2,médiateurs!$C:$AC,14,0)," "))) -> #N/A | Q88: Médiation Ateliers 3 | R88: =TEXT(VLOOKUP($A88,[1]liste_inscriptions!$A:$AJ,34,FALSE)," ") -> #N/A | S88: =INDEX(médiateurs!$A:$O,MATCH(Q88,médiateurs!$C:$C,0),1) -> #N/A | V88: Projection MDVA | Z88: =TEXT(VLOOKUP($A88,[1]liste_inscriptions!$A:$AD,29,FALSE)," ") -> #N/A
R89: =TEXT(VLOOKUP($A88,[1]liste_inscriptions!$A:$AJ,35,FALSE)," ") -> #N/A
R90: =TEXT(VLOOKUP($A88,[1]liste_inscriptions!$A:$AJ,36,FALSE)," ") -> #N/A
A91: 64 | B91: =VLOOKUP($A91,[1]liste_inscriptions!$A:$AD,6,FALSE) -> #N/A | C91: =VLOOKUP($A91,[1]liste_inscriptions!$A:$AD,9,FALSE) -> #N/A | D91: =VLOOKUP($A91,[1]liste_inscriptions!$A:$AD,12,FALSE) -> #N/A | E91: =VLOOKUP($A91,[1]liste_inscriptions!$A:$AD,14,FALSE) -> #N/A | F91: =VLOOKUP($A91,[1]liste_inscriptions!$A:$AD,17,FALSE) -> #N/A | G91: =VLOOKUP($A91,[1]liste_inscriptions!$A:$AD,16,FALSE) -> #N/A | H91: =VLOOKUP($A91,[1]liste_inscriptions!$A:$AD,18,FALSE) -> #N/A | L91: =TEXT(VLOOKUP($A91,[1]liste_inscriptions!$A:$AJ,30,FALSE)," ") -> #N/A | N91: =IF(ISNA(INDEX(médiateurs!$A:$O,MATCH(L91,médiateurs!$C:$C,0),1)),"",INDEX(médiateurs!$A:$O,MATCH(L91,médiateurs!$C:$C,0),1)) | O91: =IF(AND(VLOOKUP(médiateurs!$AQ$2,médiateurs!$C:$C,1,0)=médiateurs!$AQ$2,L91=médiateurs!$AP$2),VLOOKUP(médiateurs!$AQ$2,médiateurs!$C:$AC,14,0),IF(AND(VLOOKUP(médiateurs!$AK$2,médiateurs!$C:$C,1,0)=médiateurs!$AK$2,L91=médiateurs!$AI$2),VLOOKUP(médiateurs!$AK$2,médiateurs!$C:$AC,14,0),IF(AND(VLOOKUP(médiateurs!$AL$2,médiateurs!$C:$C,1,0)=médiateurs!$AL$2,L91=médiateurs!$AJ$2),VLOOKUP(médiateurs!$AL$2,médiateurs!$C:$AC,14,0)," "))) -> #N/A | Q91: Médiation Ateliers 4 | R91: =TEXT(VLOOKUP($A91,[1]liste_inscriptions!$A:$AJ,34,FALSE)," ") -> #N/A | S91: =INDEX(médiateurs!$A:$O,MATCH(Q91,médiateurs!$C:$C,0),1) -> #N/A | V91: Projection ENSP | X91: =INDEX(médiateurs!$A:$O,MATCH(V91,médiateurs!$C:$C,0),1) -> #N/A | Y91: =INDEX(médiateurs!$A:$O,MATCH("Projection ENSP 2",médiateurs!$C:$C,0),1) -> #N/A | Z91: =TEXT(VLOOKUP($A91,[1]liste_inscriptions!$A:$AD,29,FALSE)," ") -> #N/A
R92: =TEXT(VLOOKUP($A91,[1]liste_inscriptions!$A:$AJ,35,FALSE)," ") -> #N/A
R93: =TEXT(VLOOKUP($A91,[1]liste_inscriptions!$A:$AJ,36,FALSE)," ") -> #N/A
A94: 65 | B94: =VLOOKUP($A94,[1]liste_inscriptions!$A:$AD,6,FALSE) -> #N/A | C94: =VLOOKUP($A94,[1]liste_inscriptions!$A:$AD,9,FALSE) -> #N/A | D94: =VLOOKUP($A94,[1]liste_inscriptions!$A:$AD,12,FALSE) -> #N/A | E94: =VLOOKUP($A94,[1]liste_inscriptions!$A:$AD,14,FALSE) -> #N/A | F94: =VLOOKUP($A94,[1]liste_inscriptions!$A:$AD,17,FALSE) -> #N/A | G94: =VLOOKUP($A94,[1]liste_inscriptions!$A:$AD,16,FALSE) -> #N/A | H94: =VLOOKUP($A94,[1]liste_inscriptions!$A:$AD,18,FALSE) -> #N/A | L94: =TEXT(VLOOKUP($A94,[1]liste_inscriptions!$A:$AJ,30,FALSE)," ") -> #N/A | N94: =IF(ISNA(INDEX(médiateurs!$A:$O,MATCH(L94,médiateurs!$C:$C,0),1)),"",INDEX(médiateurs!$A:$O,MATCH(L94,médiateurs!$C:$C,0),1)) | O94: =IF(AND(VLOOKUP(médiateurs!$AQ$2,médiateurs!$C:$C,1,0)=médiateurs!$AQ$2,L94=médiateurs!$AP$2),VLOOKUP(médiateurs!$AQ$2,médiateurs!$C:$AC,14,0),IF(AND(VLOOKUP(médiateurs!$AK$2,médiateurs!$C:$C,1,0)=médiateurs!$AK$2,L94=médiateurs!$AI$2),VLOOKUP(médiateurs!$AK$2,médiateurs!$C:$AC,14,0),IF(AND(VLOOKUP(médiateurs!$AL$2,médiateurs!$C:$C,1,0)=médiateurs!$AL$2,L94=médiateurs!$AJ$2),VLOOKUP(médiateurs!$AL$2,médiateurs!$C:$AC,14,0)," "))) -> #N/A | Q94: Médiation Ateliers 5 | R94: =TEXT(VLOOKUP($A94,[1]liste_inscriptions!$A:$AJ,34,FALSE)," ") -> #N/A | S94: =INDEX(médiateurs!$A:$O,MATCH(Q94,médiateurs!$C:$C,0),1) -> #N/A | V94: Projection ENSP | Z94: =TEXT(VLOOKUP($A94,[1]liste_inscriptions!$A:$AD,29,FALSE)," ") -> #N/A
R95: =TEXT(VLOOKUP($A94,[1]liste_inscriptions!$A:$AJ,35,FALSE)," ") -> #N/A
R96: =TEXT(VLOOKUP($A94,[1]liste_inscriptions!$A:$AJ,36,FALSE)," ") -> #N/A
A97: 66 | B97: =VLOOKUP($A97,[1]liste_inscriptions!$A:$AD,6,FALSE) -> #N/A | C97: =VLOOKUP($A97,[1]liste_inscriptions!$A:$AD,9,FALSE) -> #N/A | D97: =VLOOKUP($A97,[1]liste_inscriptions!$A:$AD,12,FALSE) -> #N/A | E97: =VLOOKUP($A97,[1]liste_inscriptions!$A:$AD,14,FALSE) -> #N/A | F97: =VLOOKUP($A97,[1]liste_inscriptions!$A:$AD,17,FALSE) -> #N/A | G97: =VLOOKUP($A97,[1]liste_inscriptions!$A:$AD,16,FALSE) -> #N/A | H97: =VLOOKUP($A97,[1]liste_inscriptions!$A:$AD,18,FALSE) -> #N/A | L97: =TEXT(VLOOKUP($A97,[1]liste_inscriptions!$A:$AJ,30,FALSE)," ") -> #N/A | N97: =IF(ISNA(INDEX(médiateurs!$A:$O,MATCH(L97,médiateurs!$C:$C,0),1)),"",INDEX(médiateurs!$A:$O,MATCH(L97,médiateurs!$C:$C,0),1)) | O97: =IF(AND(VLOOKUP(médiateurs!$AQ$2,médiateurs!$C:$C,1,0)=médiateurs!$AQ$2,L97=médiateurs!$AP$2),VLOOKUP(médiateurs!$AQ$2,médiateurs!$C:$AC,14,0),IF(AND(VLOOKUP(médiateurs!$AK$2,médiateurs!$C:$C,1,0)=médiateurs!$AK$2,L97=médiateurs!$AI$2),VLOOKUP(médiateurs!$AK$2,médiateurs!$C:$AC,14,0),IF(AND(VLOOKUP(médiateurs!$AL$2,médiateurs!$C:$C,1,0)=médiateurs!$AL$2,L97=médiateurs!$AJ$2),VLOOKUP(médiateurs!$AL$2,médiateurs!$C:$AC,14,0)," "))) -> #N/A | Q97: Médiation Ateliers 6 | R97: =TEXT(VLOOKUP($A97,[1]liste_inscriptions!$A:$AJ,34,FALSE)," ") -> #N/A | S97: =INDEX(médiateurs!$A:$O,MATCH(Q97,médiateurs!$C:$C,0),1) -> #N/A | V97: Projection ENSP | Z97: =TEXT(VLOOKUP($A97,[1]liste_inscriptions!$A:$AD,29,FALSE)," ") -> #N/A
R98: =TEXT(VLOOKUP($A97,[1]liste_inscriptions!$A:$AJ,35,FALSE)," ") -> #N/A
R99: =TEXT(VLOOKUP($A97,[1]liste_inscriptions!$A:$AJ,36,FALSE)," ") -> #N/A
A100: 67 | B100: =VLOOKUP($A100,[1]liste_inscriptions!$A:$AD,6,FALSE) -> #N/A | C100: =VLOOKUP($A100,[1]liste_inscriptions!$A:$AD,9,FALSE) -> #N/A | D100: =VLOOKUP($A100,[1]liste_inscriptions!$A:$AD,12,FALSE) -> #N/A | E100: =VLOOKUP($A100,[1]liste_inscriptions!$A:$AD,14,FALSE) -> #N/A | F100: =VLOOKUP($A100,[1]liste_inscriptions!$A:$AD,17,FALSE) -> #N/A | G100: =VLOOKUP($A100,[1]liste_inscriptions!$A:$AD,16,FALSE) -> #N/A | H100: =VLOOKUP($A100,[1]liste_inscriptions!$A:$AD,18,FALSE) -> #N/A | L100: =TEXT(VLOOKUP($A100,[1]liste_inscriptions!$A:$AJ,30,FALSE)," ") -> #N/A | N100: =IF(ISNA(INDEX(médiateurs!$A:$O,MATCH(L100,médiateurs!$C:$C,0),1)),"",INDEX(médiateurs!$A:$O,MATCH(L100,médiateurs!$C:$C,0),1)) | O100: =IF(AND(VLOOKUP(médiateurs!$AQ$2,médiateurs!$C:$C,1,0)=médiateurs!$AQ$2,L100=médiateurs!$AP$2),VLOOKUP(médiateurs!$AQ$2,médiateurs!$C:$AC,14,0),IF(AND(VLOOKUP(médiateurs!$AK$2,médiateurs!$C:$C,1,0)=médiateurs!$AK$2,L100=médiateurs!$AI$2),VLOOKUP(médiateurs!$AK$2,médiateurs!$C:$AC,14,0),IF(AND(VLOOKUP(médiateurs!$AL$2,médiateurs!$C:$C,1,0)=médiateurs!$AL$2,L100=médiateurs!$AJ$2),VLOOKUP(médiateurs!$AL$2,médiateurs!$C:$AC,14,0)," "))) -> #N/A | Q100: Médiation Ateliers 7 | R100: =TEXT(VLOOKUP($A100,[1]liste_inscriptions!$A:$AJ,34,FALSE)," ") -> #N/A | S100: =INDEX(médiateurs!$A:$O,MATCH(Q100,médiateurs!$C:$C,0),1) -> #N/A | T100: =INDEX(médiateurs!$A:$O,MATCH("accueil SNCF 2",médiateurs!$C:$C,0),1) -> #N/A | V100: Visite libre | Z100: =TEXT(VLOOKUP($A100,[1]liste_inscriptions!$A:$AD,29,FALSE)," ") -> #N/A
R101: =TEXT(VLOOKUP($A100,[1]liste_inscriptions!$A:$AJ,35,FALSE)," ") -> #N/A
R102: =TEXT(VLOOKUP($A100,[1]liste_inscriptions!$A:$AJ,36,FALSE)," ") -> #N/A
...
