Workbook

Sheet FORMULE
A2: Feuil1 | B2: 2C | C2: =+Feuil1!C2 -> F2
A3: Feuil2 | B3: 2C | C3: =+Feuil1!C3 -> 0 | E3: chercher dans la feuil1... la valeur dans 2c
A4: Feuil3 | B4: 2C | C4: =+Feuil1!C4 -> 0 | E4: ..
A5: Feuil4 | B5: 2C | C5: =+Feuil1!C5 -> 0
A6: Feuil5 | B6: 2C | C6: =+Feuil1!C6 -> 0 | E6: Je souhaite tirer la formule dans en jaune vers le bas
A7: Feuil6 | B7: 2C | C7: =+Feuil1!C7 -> 0
A8: Feuil7 | B8: 2C | C8: =+Feuil1!C8 -> 0 | E8: cela ne fonctionne pas car la valeur le nom Feuil1! Reste identique, elle devrait changer en fonction du nom de la feuilx
A9: Feuil8 | B9: 2C | C9: =+Feuil1!C9 -> 0 | E9: c'est dans le but d'éviter de le faire manuellement soit sur 150 lignes !
A10: Feuil9 | B10: 2C | C10: =+Feuil1!C10 -> 0
A11: Feuil10 | B11: 2C | C11: =+Feuil1!C11 -> 0 | E11: merci
A12: Feuil11 | B12: 2C | C12: =+Feuil1!C12 -> 0
A13: … | B13: 2C | C13: =INDIRECT("'Feuil" & ROW() & "'!c$2") -> #REF!
A14: Feuil150 | B14: 2C | C14: =INDIRECT("'Feuil" & ROW() & "'!c$2") -> #REF! | E14: La proposition de frangy ne fonctionne pas, dommage ! | J14: INDIRECT("'Feuil" & LIGNE() & "'!C$2")
I16: Feuil2 | J16: 2C | K16: =+INDIRECT("'Feuil" & ROW() & "'!C$2") -> #REF!
I17: Feuil3 | J17: 2C | K17: =+INDIRECT("'Feuil" & ROW() & "'!C$2") -> #REF!
I18: Feuil4 | J18: 2C | K18: =+INDIRECT("'Feuil" & ROW() & "'!C$2") -> #REF!
I19: Feuil5 | J19: 2C | K19: =+INDIRECT("'Feuil" & ROW() & "'!C$2") -> #REF!
I20: Feuil6 | J20: 2C | K20: =+INDIRECT("'Feuil" & ROW() & "'!C$2") -> #REF!
I21: Feuil7 | J21: 2C | K21: =+INDIRECT("'Feuil" & ROW() & "'!C$2") -> #REF!
I22: Feuil8 | J22: 2C | K22: =+INDIRECT("'Feuil" & ROW() & "'!C$2") -> #REF!
I23: Feuil9 | J23: 2C | K23: =+INDIRECT("'Feuil" & ROW() & "'!C$2") -> #REF!
I24: Feuil10 | J24: 2C | K24: =+INDIRECT("'Feuil" & ROW() & "'!C$2") -> #REF!
I25: Feuil11 | J25: 2C | K25: =+INDIRECT("'Feuil" & ROW() & "'!C$2") -> #REF!
I26: … | J26: 2C | K26: =+INDIRECT("'Feuil" & ROW() & "'!C$2") -> #REF!
I27: Feuil150 | J27: 2C | K27: =+INDIRECT("'Feuil" & ROW() & "'!C$2") -> #REF!

Sheet Feuil1
C2: F2

Sheet Feuil2
C2: F2

Sheet Feuil3
C2: F3

Sheet Feuil4
C2: F4

Sheet Feuil5
C2: F5

Sheet Feuil6
C2: F6

Sheet Feuil7
C2: F7

Sheet Feuil8
C2: f8

Sheet Feuil9
C2: F9

Sheet Feuil10
C2: F10

Sheet Feuil11
C2: F11
