Workbook
Name CAFAP_balance_31_12_2012: #REF!

Sheet détails en ligne
E2: extrait de fichier
D6: Type de facture
D7: AVOIR | E7: AV
D8: FACTURE | E8: FA
B13: détails | H13: Montant
H14: =SUBTOTAL(109,Facture[Montant HT]) -> 1420 | I14: =SUBTOTAL(109,Facture[Montant TVA]) -> 278.32 | J14: =SUBTOTAL(109,Facture[Montant TTC]) -> 1698.32
B15: N° facture | C15: Type de facture | D15: Date | E15: Sté | F15: client | G15: Description | H15: Montant HT | I15: Montant TVA | J15: Montant TTC
B16: 2013-01 | C16: FA | D16: 41297 | E16: a | F16: a | G16: COTISATION 2013 | H16: 200 | I16: =+Facture[[#This Row],[Montant HT]]*0.196 -> 39.2 | J16: =+Facture[[#This Row],[Montant HT]]+Facture[[#This Row],[Montant TVA]] -> 239.2
B17: 2013-02 | C17: FA | D17: 41297 | E17: a | F17: a | G17: COTISATION 2013 | H17: 200 | I17: =+Facture[[#This Row],[Montant HT]]*0.196 -> 39.2 | J17: =+Facture[[#This Row],[Montant HT]]+Facture[[#This Row],[Montant TVA]] -> 239.2
B18: 2013-03 | C18: FA | D18: 41297 | E18: a | F18: a | G18: AUTRES | H18: 600 | I18: =+Facture[[#This Row],[Montant HT]]*0.196 -> 117.6 | J18: =+Facture[[#This Row],[Montant HT]]+Facture[[#This Row],[Montant TVA]] -> 717.6
B19: 2013-04 | C19: FA | D19: 41297 | E19: a | F19: a | G19: RIEN | H19: 150 | I19: =+Facture[[#This Row],[Montant HT]]*0.196 -> 29.4 | J19: =+Facture[[#This Row],[Montant HT]]+Facture[[#This Row],[Montant TVA]] -> 179.4
B20: 2013-05 | C20: FA | D20: 41279 | E20: a | F20: a | G20: AUTRES | H20: 150 | I20: =+Facture[[#This Row],[Montant HT]]*0.196 -> 29.4 | J20: =+Facture[[#This Row],[Montant HT]]+Facture[[#This Row],[Montant TVA]] -> 179.4
B21: etc. | H21: 120 | I21: =+Facture[[#This Row],[Montant HT]]*0.196 -> 23.52 | J21: =+Facture[[#This Row],[Montant HT]]+Facture[[#This Row],[Montant TVA]] -> 143.52
I22: =+Facture[[#This Row],[Montant HT]]*0.196 -> 0 | J22: =+Facture[[#This Row],[Montant HT]]+Facture[[#This Row],[Montant TVA]] -> 0
I23: =+Facture[[#This Row],[Montant HT]]*0.196 -> 0 | J23: =+Facture[[#This Row],[Montant HT]]+Facture[[#This Row],[Montant TVA]] -> 0
B24: 2013-250 | I24: =+Facture[[#This Row],[Montant HT]]*0.196 -> 0 | J24: =+Facture[[#This Row],[Montant HT]]+Facture[[#This Row],[Montant TVA]] -> 0
B25: =SUBTOTAL(103,Facture[[N° facture ]]) -> 7 | G25: =SUBTOTAL(103,Facture[Description]) -> 5 | H25: =SUBTOTAL(109,Facture[Montant HT]) -> 1420 | J25: =SUBTOTAL(109,Facture[Montant TTC]) -> 1698.32

Sheet Original
A1: extrait de fichier | D1: =SUBTOTAL(9,D3:D185) -> 1554.8 | E1: =SUBTOTAL(9,E3:E185) -> 1300 | F1: =SUBTOTAL(9,F3:F185) -> 254.8
A2: ligne sur feuille 1 | B2: Date | C2: FA/AV + N° + Détails | D2: TTC | E2: HT | F2: TVA
A3: 16 | B3: =+'détails en ligne'!D16 -> 41297 | C3: =CONCATENATE('détails en ligne'!C16," "," N°",'détails en ligne'!B16," ",'détails en ligne'!E16," ",'détails en ligne'!F16," ",'détails en ligne'!G16) -> FA N°2013-01 a a COTISATION 2013 | D3: =+'détails en ligne'!J16 -> 239.2
A4: 16 | B4: =+B3 -> 41297 | C4: =+C3 -> FA N°2013-01 a a COTISATION 2013 | E4: =+'détails en ligne'!H16 -> 200
A5: 16 | B5: =+B4 -> 41297 | C5: =+C4 -> FA N°2013-01 a a COTISATION 2013 | F5: =+'détails en ligne'!I16 -> 39.2
A6: =+A5+1 -> 17 | B6: =+'détails en ligne'!D17 -> 41297 | C6: =CONCATENATE('détails en ligne'!C17," "," N°",'détails en ligne'!B17," ",'détails en ligne'!E17," ",'détails en ligne'!F17," ",'détails en ligne'!G17) -> FA N°2013-02 a a COTISATION 2013 | D6: =+'détails en ligne'!J17 -> 239.2
A7: =+A6 -> 17 | B7: =+B6 -> 41297 | C7: =+C6 -> FA N°2013-02 a a COTISATION 2013 | E7: =+'détails en ligne'!H17 -> 200
A8: =+A7 -> 17 | B8: =+B7 -> 41297 | C8: =+C7 -> FA N°2013-02 a a COTISATION 2013 | F8: =+'détails en ligne'!I17 -> 39.2
A9: =+A8+1 -> 18 | B9: =+'détails en ligne'!D18 -> 41297 | C9: =CONCATENATE('détails en ligne'!C18," "," N°",'détails en ligne'!B18," ",'détails en ligne'!E18," ",'détails en ligne'!F18," ",'détails en ligne'!G18) -> FA N°2013-03 a a AUTRES | D9: =+'détails en ligne'!J18 -> 717.6 | H9: formules recopiée à la main à chaque fois …. Top long !!!
A10: =+A9 -> 18 | B10: =+B9 -> 41297 | C10: =+C9 -> FA N°2013-03 a a AUTRES | E10: =+'détails en ligne'!H18 -> 600
A11: =+A10 -> 18 | B11: =+B10 -> 41297 | C11: =+C10 -> FA N°2013-03 a a AUTRES | F11: =+'détails en ligne'!I18 -> 117.6
A12: =+A11+1 -> 19 | B12: =+'détails en ligne'!D19 -> 41297 | C12: =CONCATENATE('détails en ligne'!C19," "," N°",'détails en ligne'!B19," ",'détails en ligne'!E19," ",'détails en ligne'!F19," ",'détails en ligne'!G19) -> FA N°2013-04 a a RIEN | D12: =+'détails en ligne'!J19 -> 179.4
A13: =+A12 -> 19 | B13: =+B12 -> 41297 | C13: =+C12 -> FA N°2013-04 a a RIEN | E13: =+'détails en ligne'!H19 -> 150
A14: =+A13 -> 19 | B14: =+B13 -> 41297 | C14: =+C13 -> FA N°2013-04 a a RIEN | F14: =+'détails en ligne'!I19 -> 29.4 | H14: FORMULES SUR LA ZONE A15:F17 : ON TROUVE LA LIGNE 20
A15: =+A14+1 -> 20 | B15: =+'détails en ligne'!D20 -> 41279 | C15: =CONCATENATE('détails en ligne'!C20," "," N°",'détails en ligne'!B20," ",'détails en ligne'!E20," ",'détails en ligne'!F20," ",'détails en ligne'!G20) -> FA N°2013-05 a a AUTRES | D15: =+'détails en ligne'!J20 -> 179.4 | G15: détails en ligne'!D20 | H15: CONCATENER('détails en ligne'!C20;" ";" N°";'détails en ligne'!B20;" ";'détails en ligne'!E20;" ";'détails en ligne'!F20;" ";'détails en ligne'!G20) | I15: détails en ligne'!J20
A16: =+A15 -> 20 | B16: =+B15 -> 41279 | C16: =+C15 -> FA N°2013-05 a a AUTRES | E16: =+'détails en ligne'!H20 -> 150 | G16: détails en ligne'!I20 | H16: =+H15 -> CONCATENER('détails en ligne'!C20;" ";" N°";'détails en ligne'!B20;" ";'détails en ligne'!E20;" ";'détails en ligne'!F20;" ";'détails en ligne'!G20) | J16: détails en ligne'!H20
A17: =+A16 -> 20 | B17: =+B16 -> 41279 | C17: =+C16 -> FA N°2013-05 a a AUTRES | F17: =+'détails en ligne'!I20 -> 29.4 | G17: détails en ligne'!I20 | H17: =+H16 -> CONCATENER('détails en ligne'!C20;" ";" N°";'détails en ligne'!B20;" ";'détails en ligne'!E20;" ";'détails en ligne'!F20;" ";'détails en ligne'!G20) | K17: détails en ligne'!I20
A18: =+A17+1 -> 21 | B18: =+'détails en ligne'!D23 -> 0 | C18: =CONCATENATE('détails en ligne'!C23," "," N°",'détails en ligne'!B23," ",'détails en ligne'!E23," ",'détails en ligne'!F23," ",'détails en ligne'!G23) -> N° | D18: =IF('détails en ligne'!C23="FA",+'détails en ligne'!J23,0) -> 0 | H18: EXEMPLE DE FORRMULE COPIE COLLER DEPUIS A15:F17
A19: =+A18 -> 21 | B19: =+B18 -> 0 | C19: =+C18 -> N° | E19: =IF(E18=0,+'détails en ligne'!H23,0) -> 0 | G19: détails en ligne'!D23 | H19: CONCATENER('détails en ligne'!C23;" ";" N°";'détails en ligne'!B23;" ";'détails en ligne'!E23;" ";'détails en ligne'!F23;" ";'détails en ligne'!G23) | I19: détails en ligne'!J23
A20: =+A19 -> 21 | B20: =+B19 -> 0 | C20: =+C19 -> N° | F20: =IF(E18=0,+'détails en ligne'!I23,0) -> 0 | G20: détails en ligne'!I23 | H20: CONCATENER('détails en ligne'!C23;" ";" N°";'détails en ligne'!B23;" ";'détails en ligne'!E23;" ";'détails en ligne'!F23;" ";'détails en ligne'!G23) | J20: détails en ligne'!H23
A21: =+A20+1 -> 22 | G21: détails en ligne'!I23 | H21: CONCATENER('détails en ligne'!C23;" ";" N°";'détails en ligne'!B23;" ";'détails en ligne'!E23;" ";'détails en ligne'!F23;" ";'détails en ligne'!G23) | K21: détails en ligne'!I23
A22: =+A21 -> 22 | G22: La formule ce copie colle avec le ligne 23 au lieu de recopier la ligne 21 …. Il y a un décllage de 3 lignes car je copie colle 3 lignes
A23: =+A22 -> 22
A24: =+A23+1 -> 23
A25: =+A24 -> 23
A26: =+A25 -> 23
A27: =+A26+1 -> 24
A28: =+A27 -> 24
A29: =+A28 -> 24
A30: =+A29+1 -> 25
A31: =+A30 -> 25
A32: =+A31 -> 25
A33: =+A32+1 -> 26
A34: =+A33 -> 26
A35: =+A34 -> 26
A36: =+A35+1 -> 27
A37: =+A36 -> 27
A38: =+A37 -> 27
A39: =+A38+1 -> 28
A40: =+A39 -> 28
A41: =+A40 -> 28
A42: …
A43: …
A44: …
A45: 250
A46: =+A45 -> 250
A47: =+A46 -> 250

Sheet détails sur 3 lignes
A1: extrait de fichier | D1: =SUBTOTAL(9,D3:D185) -> 1554.8 | E1: =SUBTOTAL(9,E3:E185) -> 1300 | F1: =SUBTOTAL(9,F3:F185) -> 254.8 | J1: =SUBTOTAL(9,J3:J185) -> 1698.32 | K1: =SUBTOTAL(9,K3:K185) -> 1420 | L1: =SUBTOTAL(9,L3:L185) -> 278.32 | N1: http://forum.excel-pratique.com/excel/help-tirage-de-formule-3-lignes-3lignes-t43642.html
A2: ligne sur feuille 1 | B2: Date | C2: FA/AV + N° + Détails | D2: TTC | E2: HT | F2: TVA | J2: TTC | K2: HT | L2: TVA
A3: 16 | B3: =+'détails en ligne'!D16 -> 41297 | C3: =CONCATENATE('détails en ligne'!C16," "," N°",'détails en ligne'!B16," ",'détails en ligne'!E16," ",'détails en ligne'!F16," ",'détails en ligne'!G16) -> FA N°2013-01 a a COTISATION 2013 | D3: =+'détails en ligne'!J16 -> 239.2 | H3: =INDIRECT("'détails en ligne'!D" & 16+(INT((ROW()-3)/3))) -> 41297 | I3: =CONCATENATE(INDIRECT("'détails en ligne'!C" & 16+(INT((ROW()-3)/3)))," N°",INDIRECT("'détails en ligne'!B" & 16+(INT((ROW()-3)/3)))," ",INDIRECT("'détails en ligne'!E" & 16+(INT((ROW()-3)/3)))," ",INDIRECT("'détails en ligne'!F" & 16+(INT((ROW()-3)/3)))," ",INDIRECT("'détails en ligne'!G" & 16+(INT((ROW()-3)/3)))) -> FA N°2013-01 a a COTISATION 2013 | J3: =INDIRECT("'détails en ligne'!J" & 16+(INT((ROW()-3)/3))) -> 239.2
A4: 16 | B4: =+B3 -> 41297 | C4: =+C3 -> FA N°2013-01 a a COTISATION 2013 | E4: =+'détails en ligne'!H16 -> 200 | H4: =INDIRECT("'détails en ligne'!D" & 16+(INT((ROW()-3)/3))) -> 41297 | I4: =CONCATENATE(INDIRECT("'détails en ligne'!C" & 16+(INT((ROW()-3)/3)))," N°",INDIRECT("'détails en ligne'!B" & 16+(INT((ROW()-3)/3)))," ",INDIRECT("'détails en ligne'!E" & 16+(INT((ROW()-3)/3)))," ",INDIRECT("'détails en ligne'!F" & 16+(INT((ROW()-3)/3)))," ",INDIRECT("'détails en ligne'!G" & 16+(INT((ROW()-3)/3)))) -> FA N°2013-01 a a COTISATION 2013 | K4: =INDIRECT("'détails en ligne'!H" & 16+(INT((ROW()-3)/3))) -> 200
A5: 16 | B5: =+B4 -> 41297 | C5: =+C4 -> FA N°2013-01 a a COTISATION 2013 | F5: =+'détails en ligne'!I16 -> 39.2 | H5: =INDIRECT("'détails en ligne'!D" & 16+(INT((ROW()-3)/3))) -> 41297 | I5: =CONCATENATE(INDIRECT("'détails en ligne'!C" & 16+(INT((ROW()-3)/3)))," N°",INDIRECT("'détails en ligne'!B" & 16+(INT((ROW()-3)/3)))," ",INDIRECT("'détails en ligne'!E" & 16+(INT((ROW()-3)/3)))," ",INDIRECT("'détails en ligne'!F" & 16+(INT((ROW()-3)/3)))," ",INDIRECT("'détails en ligne'!G" & 16+(INT((ROW()-3)/3)))) -> FA N°2013-01 a a COTISATION 2013 | L5: =INDIRECT("'détails en ligne'!I" & 16+(INT((ROW()-3)/3))) -> 39.2
A6: =+A5+1 -> 17 | B6: =+'détails en ligne'!D17 -> 41297 | C6: =CONCATENATE('détails en ligne'!C17," "," N°",'détails en ligne'!B17," ",'détails en ligne'!E17," ",'détails en ligne'!F17," ",'détails en ligne'!G17) -> FA N°2013-02 a a COTISATION 2013 | D6: =+'détails en ligne'!J17 -> 239.2 | H6: =INDIRECT("'détails en ligne'!D" & 16+(INT((ROW()-3)/3))) -> 41297 | I6: =CONCATENATE(INDIRECT("'détails en ligne'!C" & 16+(INT((ROW()-3)/3)))," N°",INDIRECT("'détails en ligne'!B" & 16+(INT((ROW()-3)/3)))," ",INDIRECT("'détails en ligne'!E" & 16+(INT((ROW()-3)/3)))," ",INDIRECT("'détails en ligne'!F" & 16+(INT((ROW()-3)/3)))," ",INDIRECT("'détails en ligne'!G" & 16+(INT((ROW()-3)/3)))) -> FA N°2013-02 a a COTISATION 2013 | J6: =INDIRECT("'détails en ligne'!J" & 16+(INT((ROW()-3)/3))) -> 239.2
A7: =+A6 -> 17 | B7: =+B6 -> 41297 | C7: =+C6 -> FA N°2013-02 a a COTISATION 2013 | E7: =+'détails en ligne'!H17 -> 200 | H7: =INDIRECT("'détails en ligne'!D" & 16+(INT((ROW()-3)/3))) -> 41297 | I7: =CONCATENATE(INDIRECT("'détails en ligne'!C" & 16+(INT((ROW()-3)/3)))," N°",INDIRECT("'détails en ligne'!B" & 16+(INT((ROW()-3)/3)))," ",INDIRECT("'détails en ligne'!E" & 16+(INT((ROW()-3)/3)))," ",INDIRECT("'détails en ligne'!F" & 16+(INT((ROW()-3)/3)))," ",INDIRECT("'détails en ligne'!G" & 16+(INT((ROW()-3)/3)))) -> FA N°2013-02 a a COTISATION 2013 | K7: =INDIRECT("'détails en ligne'!H" & 16+(INT((ROW()-3)/3))) -> 200
A8: =+A7 -> 17 | B8: =+B7 -> 41297 | C8: =+C7 -> FA N°2013-02 a a COTISATION 2013 | F8: =+'détails en ligne'!I17 -> 39.2 | H8: =INDIRECT("'détails en ligne'!D" & 16+(INT((ROW()-3)/3))) -> 41297 | I8: =CONCATENATE(INDIRECT("'détails en ligne'!C" & 16+(INT((ROW()-3)/3)))," N°",INDIRECT("'détails en ligne'!B" & 16+(INT((ROW()-3)/3)))," ",INDIRECT("'détails en ligne'!E" & 16+(INT((ROW()-3)/3)))," ",INDIRECT("'détails en ligne'!F" & 16+(INT((ROW()-3)/3)))," ",INDIRECT("'détails en ligne'!G" & 16+(INT((ROW()-3)/3)))) -> FA N°2013-02 a a COTISATION 2013 | L8: =INDIRECT("'détails en ligne'!I" & 16+(INT((ROW()-3)/3))) -> 39.2
A9: =+A8+1 -> 18 | B9: =+'détails en ligne'!D18 -> 41297 | C9: =CONCATENATE('détails en ligne'!C18," "," N°",'détails en ligne'!B18," ",'détails en ligne'!E18," ",'détails en ligne'!F18," ",'détails en ligne'!G18) -> FA N°2013-03 a a AUTRES | D9: =+'détails en ligne'!J18 -> 717.6 | H9: =INDIRECT("'détails en ligne'!D" & 16+(INT((ROW()-3)/3))) -> 41297 | I9: =CONCATENATE(INDIRECT("'détails en ligne'!C" & 16+(INT((ROW()-3)/3)))," N°",INDIRECT("'détails en ligne'!B" & 16+(INT((ROW()-3)/3)))," ",INDIRECT("'détails en ligne'!E" & 16+(INT((ROW()-3)/3)))," ",INDIRECT("'détails en ligne'!F" & 16+(INT((ROW()-3)/3)))," ",INDIRECT("'détails en ligne'!G" & 16+(INT((ROW()-3)/3)))) -> FA N°2013-03 a a AUTRES | J9: =INDIRECT("'détails en ligne'!J" & 16+(INT((ROW()-3)/3))) -> 717.6
A10: =+A9 -> 18 | B10: =+B9 -> 41297 | C10: =+C9 -> FA N°2013-03 a a AUTRES | E10: =+'détails en ligne'!H18 -> 600 | H10: =INDIRECT("'détails en ligne'!D" & 16+(INT((ROW()-3)/3))) -> 41297 | I10: =CONCATENATE(INDIRECT("'détails en ligne'!C" & 16+(INT((ROW()-3)/3)))," N°",INDIRECT("'détails en ligne'!B" & 16+(INT((ROW()-3)/3)))," ",INDIRECT("'détails en ligne'!E" & 16+(INT((ROW()-3)/3)))," ",INDIRECT("'détails en ligne'!F" & 16+(INT((ROW()-3)/3)))," ",INDIRECT("'détails en ligne'!G" & 16+(INT((ROW()-3)/3)))) -> FA N°2013-03 a a AUTRES | K10: =INDIRECT("'détails en ligne'!H" & 16+(INT((ROW()-3)/3))) -> 600
A11: =+A10 -> 18 | B11: =+B10 -> 41297 | C11: =+C10 -> FA N°2013-03 a a AUTRES | F11: =+'détails en ligne'!I18 -> 117.6 | H11: =INDIRECT("'détails en ligne'!D" & 16+(INT((ROW()-3)/3))) -> 41297 | I11: =CONCATENATE(INDIRECT("'détails en ligne'!C" & 16+(INT((ROW()-3)/3)))," N°",INDIRECT("'détails en ligne'!B" & 16+(INT((ROW()-3)/3)))," ",INDIRECT("'détails en ligne'!E" & 16+(INT((ROW()-3)/3)))," ",INDIRECT("'détails en ligne'!F" & 16+(INT((ROW()-3)/3)))," ",INDIRECT("'détails en ligne'!G" & 16+(INT((ROW()-3)/3)))) -> FA N°2013-03 a a AUTRES | L11: =INDIRECT("'détails en ligne'!I" & 16+(INT((ROW()-3)/3))) -> 117.6
A12: =+A11+1 -> 19 | B12: =+'détails en ligne'!D19 -> 41297 | C12: =CONCATENATE('détails en ligne'!C19," "," N°",'détails en ligne'!B19," ",'détails en ligne'!E19," ",'détails en ligne'!F19," ",'détails en ligne'!G19) -> FA N°2013-04 a a RIEN | D12: =+'détails en ligne'!J19 -> 179.4 | H12: =INDIRECT("'détails en ligne'!D" & 16+(INT((ROW()-3)/3))) -> 41297 | I12: =CONCATENATE(INDIRECT("'détails en ligne'!C" & 16+(INT((ROW()-3)/3)))," N°",INDIRECT("'détails en ligne'!B" & 16+(INT((ROW()-3)/3)))," ",INDIRECT("'détails en ligne'!E" & 16+(INT((ROW()-3)/3)))," ",INDIRECT("'détails en ligne'!F" & 16+(INT((ROW()-3)/3)))," ",INDIRECT("'détails en ligne'!G" & 16+(INT((ROW()-3)/3)))) -> FA N°2013-04 a a RIEN | J12: =INDIRECT("'détails en ligne'!J" & 16+(INT((ROW()-3)/3))) -> 179.4
A13: =+A12 -> 19 | B13: =+B12 -> 41297 | C13: =+C12 -> FA N°2013-04 a a RIEN | E13: =+'détails en ligne'!H19 -> 150 | H13: =INDIRECT("'détails en ligne'!D" & 16+(INT((ROW()-3)/3))) -> 41297 | I13: =CONCATENATE(INDIRECT("'détails en ligne'!C" & 16+(INT((ROW()-3)/3)))," N°",INDIRECT("'détails en ligne'!B" & 16+(INT((ROW()-3)/3)))," ",INDIRECT("'détails en ligne'!E" & 16+(INT((ROW()-3)/3)))," ",INDIRECT("'détails en ligne'!F" & 16+(INT((ROW()-3)/3)))," ",INDIRECT("'détails en ligne'!G" & 16+(INT((ROW()-3)/3)))) -> FA N°2013-04 a a RIEN | K13: =INDIRECT("'détails en ligne'!H" & 16+(INT((ROW()-3)/3))) -> 150
A14: =+A13 -> 19 | B14: =+B13 -> 41297 | C14: =+C13 -> FA N°2013-04 a a RIEN | F14: =+'détails en ligne'!I19 -> 29.4 | H14: =INDIRECT("'détails en ligne'!D" & 16+(INT((ROW()-3)/3))) -> 41297 | I14: =CONCATENATE(INDIRECT("'détails en ligne'!C" & 16+(INT((ROW()-3)/3)))," N°",INDIRECT("'détails en ligne'!B" & 16+(INT((ROW()-3)/3)))," ",INDIRECT("'détails en ligne'!E" & 16+(INT((ROW()-3)/3)))," ",INDIRECT("'détails en ligne'!F" & 16+(INT((ROW()-3)/3)))," ",INDIRECT("'détails en ligne'!G" & 16+(INT((ROW()-3)/3)))) -> FA N°2013-04 a a RIEN | L14: =INDIRECT("'détails en ligne'!I" & 16+(INT((ROW()-3)/3))) -> 29.4
A15: =+A14+1 -> 20 | B15: =+'détails en ligne'!D20 -> 41279 | C15: =CONCATENATE('détails en ligne'!C20," "," N°",'détails en ligne'!B20," ",'détails en ligne'!E20," ",'détails en ligne'!F20," ",'détails en ligne'!G20) -> FA N°2013-05 a a AUTRES | D15: =+'détails en ligne'!J20 -> 179.4 | H15: =INDIRECT("'détails en ligne'!D" & 16+(INT((ROW()-3)/3))) -> 41279 | I15: =CONCATENATE(INDIRECT("'détails en ligne'!C" & 16+(INT((ROW()-3)/3)))," N°",INDIRECT("'détails en ligne'!B" & 16+(INT((ROW()-3)/3)))," ",INDIRECT("'détails en ligne'!E" & 16+(INT((ROW()-3)/3)))," ",INDIRECT("'détails en ligne'!F" & 16+(INT((ROW()-3)/3)))," ",INDIRECT("'détails en ligne'!G" & 16+(INT((ROW()-3)/3)))) -> FA N°2013-05 a a AUTRES | J15: =INDIRECT("'détails en ligne'!J" & 16+(INT((ROW()-3)/3))) -> 179.4
A16: =+A15 -> 20 | B16: =+B15 -> 41279 | C16: =+C15 -> FA N°2013-05 a a AUTRES | E16: =+'détails en ligne'!H20 -> 150 | H16: =INDIRECT("'détails en ligne'!D" & 16+(INT((ROW()-3)/3))) -> 41279 | I16: =CONCATENATE(INDIRECT("'détails en ligne'!C" & 16+(INT((ROW()-3)/3)))," N°",INDIRECT("'détails en ligne'!B" & 16+(INT((ROW()-3)/3)))," ",INDIRECT("'détails en ligne'!E" & 16+(INT((ROW()-3)/3)))," ",INDIRECT("'détails en ligne'!F" & 16+(INT((ROW()-3)/3)))," ",INDIRECT("'détails en ligne'!G" & 16+(INT((ROW()-3)/3)))) -> FA N°2013-05 a a AUTRES | K16: =INDIRECT("'détails en ligne'!H" & 16+(INT((ROW()-3)/3))) -> 150
A17: =+A16 -> 20 | B17: =+B16 -> 41279 | C17: =+C16 -> FA N°2013-05 a a AUTRES | F17: =+'détails en ligne'!I20 -> 29.4 | H17: =INDIRECT("'détails en ligne'!D" & 16+(INT((ROW()-3)/3))) -> 41279 | I17: =CONCATENATE(INDIRECT("'détails en ligne'!C" & 16+(INT((ROW()-3)/3)))," N°",INDIRECT("'détails en ligne'!B" & 16+(INT((ROW()-3)/3)))," ",INDIRECT("'détails en ligne'!E" & 16+(INT((ROW()-3)/3)))," ",INDIRECT("'détails en ligne'!F" & 16+(INT((ROW()-3)/3)))," ",INDIRECT("'détails en ligne'!G" & 16+(INT((ROW()-3)/3)))) -> FA N°2013-05 a a AUTRES | L17: =INDIRECT("'détails en ligne'!I" & 16+(INT((ROW()-3)/3))) -> 29.4
A18: =+A17+1 -> 21 | B18: =+'détails en ligne'!D23 -> 0 | C18: =CONCATENATE('détails en ligne'!C23," "," N°",'détails en ligne'!B23," ",'détails en ligne'!E23," ",'détails en ligne'!F23," ",'détails en ligne'!G23) -> N° | D18: =IF('détails en ligne'!C23="FA",+'détails en ligne'!J23,0) -> 0 | H18: =INDIRECT("'détails en ligne'!D" & 16+(INT((ROW()-3)/3))) -> 0 | I18: =CONCATENATE(INDIRECT("'détails en ligne'!C" & 16+(INT((ROW()-3)/3)))," N°",INDIRECT("'détails en ligne'!B" & 16+(INT((ROW()-3)/3)))," ",INDIRECT("'détails en ligne'!E" & 16+(INT((ROW()-3)/3)))," ",INDIRECT("'détails en ligne'!F" & 16+(INT((ROW()-3)/3)))," ",INDIRECT("'détails en ligne'!G" & 16+(INT((ROW()-3)/3)))) -> N°etc. | J18: =INDIRECT("'détails en ligne'!J" & 16+(INT((ROW()-3)/3))) -> 143.52
A19: =+A18 -> 21 | B19: =+B18 -> 0 | C19: =+C18 -> N° | E19: =IF(E18=0,+'détails en ligne'!H23,0) -> 0 | H19: =INDIRECT("'détails en ligne'!D" & 16+(INT((ROW()-3)/3))) -> 0 | I19: =CONCATENATE(INDIRECT("'détails en ligne'!C" & 16+(INT((ROW()-3)/3)))," N°",INDIRECT("'détails en ligne'!B" & 16+(INT((ROW()-3)/3)))," ",INDIRECT("'détails en ligne'!E" & 16+(INT((ROW()-3)/3)))," ",INDIRECT("'détails en ligne'!F" & 16+(INT((ROW()-3)/3)))," ",INDIRECT("'détails en ligne'!G" & 16+(INT((ROW()-3)/3)))) -> N°etc. | K19: =INDIRECT("'détails en ligne'!H" & 16+(INT((ROW()-3)/3))) -> 120
A20: =+A19 -> 21 | B20: =+B19 -> 0 | C20: =+C19 -> N° | F20: =IF(E18=0,+'détails en ligne'!I23,0) -> 0 | H20: =INDIRECT("'détails en ligne'!D" & 16+(INT((ROW()-3)/3))) -> 0 | I20: =CONCATENATE(INDIRECT("'détails en ligne'!C" & 16+(INT((ROW()-3)/3)))," N°",INDIRECT("'détails en ligne'!B" & 16+(INT((ROW()-3)/3)))," ",INDIRECT("'détails en ligne'!E" & 16+(INT((ROW()-3)/3)))," ",INDIRECT("'détails en ligne'!F" & 16+(INT((ROW()-3)/3)))," ",INDIRECT("'détails en ligne'!G" & 16+(INT((ROW()-3)/3)))) -> N°etc. | L20: =INDIRECT("'détails en ligne'!I" & 16+(INT((ROW()-3)/3))) -> 23.52
A21: =+A20+1 -> 22
A22: =+A21 -> 22
A23: =+A22 -> 22
A24: =+A23+1 -> 23
A25: =+A24 -> 23
A26: =+A25 -> 23
A27: =+A26+1 -> 24
A28: =+A27 -> 24
A29: =+A28 -> 24
A30: =+A29+1 -> 25
A31: =+A30 -> 25
A32: =+A31 -> 25
A33: =+A32+1 -> 26
A34: =+A33 -> 26
A35: =+A34 -> 26
A36: =+A35+1 -> 27
A37: =+A36 -> 27
A38: =+A37 -> 27
A39: =+A38+1 -> 28
A40: =+A39 -> 28
A41: =+A40 -> 28
A42: …
A43: …
A44: …
A45: 250
A46: =+A45 -> 250
A47: =+A46 -> 250

Sheet indirect et indexe
A1: Merci beaucoup Banzai64 !!
A3: Par contre, j'ai quand même une formule INDEX qui ne fonctionne pas, comment faire ?
B6: =INDEX($E$6:$E$8,MATCH(TRUE,ISNUMBER(SEARCH($F$6:$F$8,INDIRECT("'détails en ligne'!G" & 16+(INT((ROW()-3)/3))),0)))) -> #N/A | E6: COTISATION | F6: 1
E7: AUTRES | F7: 2
E8: RIEN | F8: 3
A10: Merci d'avance
A12: Grég619100
