Workbook

Sheet TARIFS
A1: TARIFS
B2: T1 | C2: T2 | D2: T3 | E2: T4 | F2: T5 | G2: T6 | H2: T7 | I2: T8
B3: 0 - 350 | C3: 351 – 475 | D3: 476 -580 | E3: 581 -720 | F3: 721 - 900 | G3: 901 - 1200 | H3: 1201 - 1500 | I3: 1501 et +
A4: Cout total journée | B4: 14 | C4: 14.05 | D4: 14 | E4: 14.08 | F4: 14.15 | G4: 14 | H4: 14.03 | I4: 14
A5: Participation CCT | B5: =30%*B4 -> 4.2 | C5: =32%*C4 -> 4.496 | D5: =30%*D4 -> 4.2 | E5: =29%*E4 -> 4.0832 | F5: =47%*F4 -> 6.6505 | G5: =40%*G4 -> 5.6 | H5: =28%*H4 -> 3.9284 | I5: =5%*I4 -> 0.7
A6: Participation famille | B6: =B4-B5 -> 9.8 | C6: =C4-C5 -> 9.554 | D6: =D4-D5 -> 9.8 | E6: =E4-E5 -> 9.9968 | F6: =F4-F5 -> 7.4995 | G6: =G4-G5 -> 8.4 | H6: =H4-H5 -> 10.1016 | I6: =I4-I5 -> 13.3
A7: Bons vacances | B7: 7.7 | C7: 7.2 | D7: 6.3 | E7: 5.9
A8: Reste à charge | B8: =B6-B7 -> 2.1 | C8: =C6-C7 -> 2.354 | D8: =D6-D7 -> 3.5 | E8: =E6-E7 -> 4.0968 | F8: =F6-F7 -> 7.4995 | G8: =G6-G7 -> 8.4 | H8: =H6-H7 -> 10.1016 | I8: =I6-I7 -> 13.3

Sheet LISTING PRESENCE
A1: Colonne1 | B1: Colonne2 | C1: Colonne3 | D1: Colonne4 | E1: Colonne5 | F1: Colonne6 | G1: Colonne7 | H1: Colonne8 | I1: Colonne9
A4: NOM | B4: PRENOM | C4: QF | D4: LUNDI | E4: MARDI | F4: MERCREDI | G4: JEUDI | H4: VENDREDI | I4: total

Sheet GAUTHIER
A1: NOM | B1: DATE | C1: TELEPHONE(S) | D1: ADRESSE | E1: N° allocataire | F1: QF | G1: Nombre Enfants
A2: GAUTHIER | B2: 1.6895833 | F2: 406 | G2: 2
A5: Nom | B5: Prénom | C5: Semaine 1 | H5: Total | K5: enfant 1 | M5: enfant 2 | O5: enfant 3 | Q5: enfant 4 | S5: enfant 5
C6: lundi | D6: mardi | E6: mercredi | F6: jeudi | G6: vendredi | K6: nb jours présences | L6: cout total | M6: nb jours présences | N6: cout total | O6: nb jours présences | P6: cout total | Q6: nb jours présences | R6: cout total | S6: nb jours présences | T6: cout total
A7: GAUTHIER | B7: m | G7: 1 | H7: =SUM(C7:G7) -> 1 | J7: semaine 1 | K7: =H7 -> 1 | L7: =IF($F$2<351,K7*TARIFS!$B$4,IF($F$2<476,K7*TARIFS!$C$4,IF($F$2<581,K7*TARIFS!$D$4,IF($F$2<721,K7*TARIFS!$E$4,IF($F$2<901,K7*TARIFS!$F$4,IF($F$2<1201,K7*TARIFS!$G$4,IF($F$2<1501,K7*TARIFS!$H$4,K7*TARIFS!$I$4))))))) -> 14.05 | M7: =H8 -> 5 | N7: =IF($F$2<351,M7*TARIFS!$B$4,IF($F$2<476,M7*TARIFS!$C$4,IF($F$2<581,M7*TARIFS!$D$4,IF($F$2<721,M7*TARIFS!$E$4,IF($F$2<901,M7*TARIFS!$F$4,IF($F$2<1201,M7*TARIFS!$G$4,IF($F$2<1501,M7*TARIFS!$H$4,M7*TARIFS!$I$4))))))) -> 70.25 | O7: =H9 -> 0 | P7: =IF($F$2<351,O7*TARIFS!$B$4,IF($F$2<476,O7*TARIFS!$C$4,IF($F$2<581,O7*TARIFS!$D$4,IF($F$2<721,O7*TARIFS!$E$4,IF($F$2<901,O7*TARIFS!$F$4,IF($F$2<1201,O7*TARIFS!$G$4,IF($F$2<1501,O7*TARIFS!$H$4,O7*TARIFS!$I$4))))))) -> 0 | Q7: =H10 -> 0 | R7: =IF($F$2<351,Q7*TARIFS!$B$4,IF($F$2<476,Q7*TARIFS!$C$4,IF($F$2<581,Q7*TARIFS!$D$4,IF($F$2<721,Q7*TARIFS!$E$4,IF($F$2<901,Q7*TARIFS!$F$4,IF($F$2<1201,Q7*TARIFS!$G$4,IF($F$2<1501,Q7*TARIFS!$H$4,Q7*TARIFS!$I$4))))))) -> 0 | S7: =H11 -> 0 | T7: =IF($F$2<351,S7*TARIFS!$B$4,IF($F$2<476,S7*TARIFS!$C$4,IF($F$2<581,S7*TARIFS!$D$4,IF($F$2<721,S7*TARIFS!$E$4,IF($F$2<901,S7*TARIFS!$F$4,IF($F$2<1201,S7*TARIFS!$G$4,IF($F$2<1501,S7*TARIFS!$H$4,S7*TARIFS!$I$4))))))) -> 0
A8: GAUTHIER | B8: y | C8: 1 | D8: 1 | E8: 1 | F8: 1 | G8: 1 | H8: =SUM(C8:G8) -> 5 | J8: semaine 2 | K8: =H15 -> 1 | L8: =IF($F$2<351,K8*TARIFS!$B$4,IF($F$2<476,K8*TARIFS!$C$4,IF($F$2<581,K8*TARIFS!$D$4,IF($F$2<721,K8*TARIFS!$E$4,IF($F$2<901,K8*TARIFS!$F$4,IF($F$2<1201,K8*TARIFS!$G$4,IF($F$2<1501,K8*TARIFS!$H$4,K8*TARIFS!$I$4))))))) -> 14.05 | M8: =H16 -> 0 | N8: =IF($F$2<351,M8*TARIFS!$B$4,IF($F$2<476,M8*TARIFS!$C$4,IF($F$2<581,M8*TARIFS!$D$4,IF($F$2<721,M8*TARIFS!$E$4,IF($F$2<901,M8*TARIFS!$F$4,IF($F$2<1201,M8*TARIFS!$G$4,IF($F$2<1501,M8*TARIFS!$H$4,M8*TARIFS!$I$4))))))) -> 0 | O8: =H17 -> 0 | P8: =IF($F$2<351,O8*TARIFS!$B$4,IF($F$2<476,O8*TARIFS!$C$4,IF($F$2<581,O8*TARIFS!$D$4,IF($F$2<721,O8*TARIFS!$E$4,IF($F$2<901,O8*TARIFS!$F$4,IF($F$2<1201,O8*TARIFS!$G$4,IF($F$2<1501,O8*TARIFS!$H$4,O8*TARIFS!$I$4))))))) -> 0 | Q8: =H18 -> 0 | R8: =IF($F$2<351,Q8*TARIFS!$B$4,IF($F$2<476,Q8*TARIFS!$C$4,IF($F$2<581,Q8*TARIFS!$D$4,IF($F$2<721,Q8*TARIFS!$E$4,IF($F$2<901,Q8*TARIFS!$F$4,IF($F$2<1201,Q8*TARIFS!$G$4,IF($F$2<1501,Q8*TARIFS!$H$4,Q8*TARIFS!$I$4))))))) -> 0 | S8: =H19 -> 0 | T8: =IF($F$2<351,S8*TARIFS!$B$4,IF($F$2<476,S8*TARIFS!$C$4,IF($F$2<581,S8*TARIFS!$D$4,IF($F$2<721,S8*TARIFS!$E$4,IF($F$2<901,S8*TARIFS!$F$4,IF($F$2<1201,S8*TARIFS!$G$4,IF($F$2<1501,S8*TARIFS!$H$4,S8*TARIFS!$I$4))))))) -> 0
H9: =SUM(C9:G9) -> 0 | J9: semaine 3 | K9: =H23 -> 3 | L9: =IF($F$2<351,K9*TARIFS!$B$4,IF($F$2<476,K9*TARIFS!$C$4,IF($F$2<581,K9*TARIFS!$D$4,IF($F$2<721,K9*TARIFS!$E$4,IF($F$2<901,K9*TARIFS!$F$4,IF($F$2<1201,K9*TARIFS!$G$4,IF($F$2<1501,K9*TARIFS!$H$4,K9*TARIFS!$I$4))))))) -> 42.15 | M9: =H24 -> 0 | N9: =IF($F$2<351,M9*TARIFS!$B$4,IF($F$2<476,M9*TARIFS!$C$4,IF($F$2<581,M9*TARIFS!$D$4,IF($F$2<721,M9*TARIFS!$E$4,IF($F$2<901,M9*TARIFS!$F$4,IF($F$2<1201,M9*TARIFS!$G$4,IF($F$2<1501,M9*TARIFS!$H$4,M9*TARIFS!$I$4))))))) -> 0 | O9: =H25 -> 0 | P9: =IF($F$2<351,O9*TARIFS!$B$4,IF($F$2<476,O9*TARIFS!$C$4,IF($F$2<581,O9*TARIFS!$D$4,IF($F$2<721,O9*TARIFS!$E$4,IF($F$2<901,O9*TARIFS!$F$4,IF($F$2<1201,O9*TARIFS!$G$4,IF($F$2<1501,O9*TARIFS!$H$4,O9*TARIFS!$I$4))))))) -> 0 | Q9: =H26 -> 0 | R9: =IF($F$2<351,Q9*TARIFS!$B$4,IF($F$2<476,Q9*TARIFS!$C$4,IF($F$2<581,Q9*TARIFS!$D$4,IF($F$2<721,Q9*TARIFS!$E$4,IF($F$2<901,Q9*TARIFS!$F$4,IF($F$2<1201,Q9*TARIFS!$G$4,IF($F$2<1501,Q9*TARIFS!$H$4,Q9*TARIFS!$I$4))))))) -> 0 | S9: =H27 -> 0 | T9: =IF($F$2<351,S9*TARIFS!$B$4,IF($F$2<476,S9*TARIFS!$C$4,IF($F$2<581,S9*TARIFS!$D$4,IF($F$2<721,S9*TARIFS!$E$4,IF($F$2<901,S9*TARIFS!$F$4,IF($F$2<1201,S9*TARIFS!$G$4,IF($F$2<1501,S9*TARIFS!$H$4,S9*TARIFS!$I$4))))))) -> 0
H10: =SUM(C10:G10) -> 0 | J10: semaine 4 | K10: =H31 -> 0 | L10: =IF($F$2<351,K10*TARIFS!$B$4,IF($F$2<476,K10*TARIFS!$C$4,IF($F$2<581,K10*TARIFS!$D$4,IF($F$2<721,K10*TARIFS!$E$4,IF($F$2<901,K10*TARIFS!$F$4,IF($F$2<1201,K10*TARIFS!$G$4,IF($F$2<1501,K10*TARIFS!$H$4,K10*TARIFS!$I$4))))))) -> 0 | M10: =H32 -> 0 | N10: =IF($F$2<351,M10*TARIFS!$B$4,IF($F$2<476,M10*TARIFS!$C$4,IF($F$2<581,M10*TARIFS!$D$4,IF($F$2<721,M10*TARIFS!$E$4,IF($F$2<901,M10*TARIFS!$F$4,IF($F$2<1201,M10*TARIFS!$G$4,IF($F$2<1501,M10*TARIFS!$H$4,M10*TARIFS!$I$4))))))) -> 0 | O10: =H33 -> 0 | P10: =IF($F$2<351,O10*TARIFS!$B$4,IF($F$2<476,O10*TARIFS!$C$4,IF($F$2<581,O10*TARIFS!$D$4,IF($F$2<721,O10*TARIFS!$E$4,IF($F$2<901,O10*TARIFS!$F$4,IF($F$2<1201,O10*TARIFS!$G$4,IF($F$2<1501,O10*TARIFS!$H$4,O10*TARIFS!$I$4))))))) -> 0 | Q10: =H34 -> 0 | R10: =IF($F$2<351,Q10*TARIFS!$B$4,IF($F$2<476,Q10*TARIFS!$C$4,IF($F$2<581,Q10*TARIFS!$D$4,IF($F$2<721,Q10*TARIFS!$E$4,IF($F$2<901,Q10*TARIFS!$F$4,IF($F$2<1201,Q10*TARIFS!$G$4,IF($F$2<1501,Q10*TARIFS!$H$4,Q10*TARIFS!$I$4))))))) -> 0 | S10: =H35 -> 0 | T10: =IF($F$2<351,S10*TARIFS!$B$4,IF($F$2<476,S10*TARIFS!$C$4,IF($F$2<581,S10*TARIFS!$D$4,IF($F$2<721,S10*TARIFS!$E$4,IF($F$2<901,S10*TARIFS!$F$4,IF($F$2<1201,S10*TARIFS!$G$4,IF($F$2<1501,S10*TARIFS!$H$4,S10*TARIFS!$I$4))))))) -> 0
H11: =SUM(C11:G11) -> 0 | J11: TOTAL / enfant | K11: =SUM(K7:K10) -> 5 | L11: =K11*L7 -> 70.25 | M11: =SUM(M7:M10) -> 5 | N11: =N7+N8+N9+N10 -> 70.25 | O11: =SUM(O7:O10) -> 0 | P11: =O11*P7 -> 0 | Q11: =SUM(Q7:Q10) -> 0 | R11: =Q11*R7 -> 0 | S11: =SUM(S7:S10) -> 0 | T11: =S11*T7 -> 0
J12: TOTAL FAMILLE | K12: =L11+N11+P11+R11+T11 -> 140.5
A13: Nom | B13: Prénom | C13: Semaine 2 | H13: Total
C14: lundi | D14: mardi | E14: mercredi | F14: jeudi | G14: vendredi | J14: AIDES OBTENUES | N14: RESTE À CHARGE DE LA FAMILLE | O14: Mode de Règlement | P14: Date de règlement
B15: Marlon | G15: 1 | H15: =SUM(C15:G15) -> 1 | K15: montant | L15: nb de jours | M15: TOTAL | N15: Montant | O15: N° de chèque ou N° de reçu
H16: =SUM(C16:G16) -> 0 | J16: CAF | K16: =IF($F$2<351,TARIFS!B7,IF($F$2<476,TARIFS!C7,IF($F$2<581,TARIFS!D7,IF($F$2<721,TARIFS!E7,0)))) -> 7.2 | L16: =$K$11+$M$11+$O$11+$Q$11+$S$11 -> 10 | M16: =K16*L16 -> 72 | N16: =K12-M22 -> 23.54
H17: =SUM(C17:G17) -> 0 | J17: MSA | L17: =$K$11+$M$11+$O$11+$Q$11+$S$11 -> 10 | M17: =K17*L17 -> 0
H18: =SUM(C18:G18) -> 0 | J18: Employeur | L18: =$K$11+$M$11+$O$11+$Q$11+$S$11 -> 10 | M18: =K18*L18 -> 0
H19: =SUM(C19:G19) -> 0 | J19: ANCV | L19: =$K$11+$M$11+$O$11+$Q$11+$S$11 -> 10 | M19: =K19*L19 -> 0
J20: CCT | K20: =IF($F$2<351,TARIFS!B5,IF($F$2<476,TARIFS!C5,IF($F$2<581,TARIFS!D5,IF($F$2<721,TARIFS!E5,IF($F$2<901,TARIFS!F5,IF($F$2<1201,TARIFS!G5,IF($F$2<1501,TARIFS!H5,TARIFS!I5))))))) -> 4.496 | L20: =$K$11+$M$11+$O$11+$Q$11+$S$11 -> 10 | M20: =K20*L20 -> 44.96
A21: Nom | B21: Prénom | C21: Semaine 3 | H21: Total | J21: Autres | L21: =$K$11+$M$11+$O$11+$Q$11+$S$11 -> 10 | M21: =K21*L21 -> 0
C22: lundi | D22: mardi | E22: mercredi | F22: jeudi | G22: vendredi | J22: TOTAL AIDES | M22: =SUM(M16:M21) -> 116.96
E23: 1 | F23: 1 | G23: 1 | H23: =SUM(C23:G23) -> 3
H24: =SUM(C24:G24) -> 0
H25: =SUM(C25:G25) -> 0
H26: =SUM(C26:G26) -> 0
H27: =SUM(C27:G27) -> 0
A29: Nom | B29: Prénom | C29: Semaine 4 | H29: Total
C30: lundi | D30: mardi | E30: mercredi | F30: jeudi | G30: vendredi
H31: =SUM(C31:G31) -> 0
H32: =SUM(C32:G32) -> 0
H33: =SUM(C33:G33) -> 0
H34: =SUM(C34:G34) -> 0
H35: =SUM(C35:G35) -> 0

Sheet BOSC
A1: NOM | B1: DATE | C1: TELEPHONE(S) | D1: ADRESSE | E1: N° allocataire | F1: QF | G1: Nombre Enfants
A2: BECKER Alexandre et MASQUET Valérie | B2: 40360 | C2: 0475062803 0621840024 | D2: Les vignes 07270Gilhoc Sur Ormèze | E2: 200510841 | F2: 1220 | G2: 1
A5: Nom | B5: Prénom | C5: Semaine 1 | H5: Total | K5: enfant 1 | M5: enfant 2 | O5: enfant 3 | Q5: enfant 4 | S5: enfant 5
C6: lundi | D6: mardi | E6: mercredi | F6: jeudi | G6: vendredi | K6: nb jours présences | L6: cout total | M6: nb jours présences | N6: cout total | O6: nb jours présences | P6: cout total | Q6: nb jours présences | R6: cout total | S6: nb jours présences | T6: cout total
G7: 1 | H7: =SUM(C7:G7) -> 1 | J7: semaine 1 | K7: =H7 -> 1 | L7: =IF($F$2<351,K7*TARIFS!$B$4,IF($F$2<476,K7*TARIFS!$C$4,IF($F$2<581,K7*TARIFS!$D$4,IF($F$2<721,K7*TARIFS!$E$4,IF($F$2<901,K7*TARIFS!$F$4,IF($F$2<1201,K7*TARIFS!$G$4,IF($F$2<1501,K7*TARIFS!$H$4,K7*TARIFS!$I$4))))))) -> 14.03 | M7: =H8 -> 5 | N7: =IF($F$2<351,M7*TARIFS!$B$4,IF($F$2<476,M7*TARIFS!$C$4,IF($F$2<581,M7*TARIFS!$D$4,IF($F$2<721,M7*TARIFS!$E$4,IF($F$2<901,M7*TARIFS!$F$4,IF($F$2<1201,M7*TARIFS!$G$4,IF($F$2<1501,M7*TARIFS!$H$4,M7*TARIFS!$I$4))))))) -> 70.15 | O7: =H9 -> 0 | P7: =IF($F$2<351,O7*TARIFS!$B$4,IF($F$2<476,O7*TARIFS!$C$4,IF($F$2<581,O7*TARIFS!$D$4,IF($F$2<721,O7*TARIFS!$E$4,IF($F$2<901,O7*TARIFS!$F$4,IF($F$2<1201,O7*TARIFS!$G$4,IF($F$2<1501,O7*TARIFS!$H$4,O7*TARIFS!$I$4))))))) -> 0 | Q7: =H10 -> 0 | R7: =IF($F$2<351,Q7*TARIFS!$B$4,IF($F$2<476,Q7*TARIFS!$C$4,IF($F$2<581,Q7*TARIFS!$D$4,IF($F$2<721,Q7*TARIFS!$E$4,IF($F$2<901,Q7*TARIFS!$F$4,IF($F$2<1201,Q7*TARIFS!$G$4,IF($F$2<1501,Q7*TARIFS!$H$4,Q7*TARIFS!$I$4))))))) -> 0 | S7: =H11 -> 0 | T7: =IF($F$2<351,S7*TARIFS!$B$4,IF($F$2<476,S7*TARIFS!$C$4,IF($F$2<581,S7*TARIFS!$D$4,IF($F$2<721,S7*TARIFS!$E$4,IF($F$2<901,S7*TARIFS!$F$4,IF($F$2<1201,S7*TARIFS!$G$4,IF($F$2<1501,S7*TARIFS!$H$4,S7*TARIFS!$I$4))))))) -> 0
C8: 1 | D8: 1 | E8: 1 | F8: 1 | G8: 1 | H8: =SUM(C8:G8) -> 5 | J8: semaine 2 | K8: =H15 -> 1 | L8: =IF($F$2<351,K8*TARIFS!$B$4,IF($F$2<476,K8*TARIFS!$C$4,IF($F$2<581,K8*TARIFS!$D$4,IF($F$2<721,K8*TARIFS!$E$4,IF($F$2<901,K8*TARIFS!$F$4,IF($F$2<1201,K8*TARIFS!$G$4,IF($F$2<1501,K8*TARIFS!$H$4,K8*TARIFS!$I$4))))))) -> 14.03 | M8: =H16 -> 0 | N8: =IF($F$2<351,M8*TARIFS!$B$4,IF($F$2<476,M8*TARIFS!$C$4,IF($F$2<581,M8*TARIFS!$D$4,IF($F$2<721,M8*TARIFS!$E$4,IF($F$2<901,M8*TARIFS!$F$4,IF($F$2<1201,M8*TARIFS!$G$4,IF($F$2<1501,M8*TARIFS!$H$4,M8*TARIFS!$I$4))))))) -> 0 | O8: =H17 -> 0 | P8: =IF($F$2<351,O8*TARIFS!$B$4,IF($F$2<476,O8*TARIFS!$C$4,IF($F$2<581,O8*TARIFS!$D$4,IF($F$2<721,O8*TARIFS!$E$4,IF($F$2<901,O8*TARIFS!$F$4,IF($F$2<1201,O8*TARIFS!$G$4,IF($F$2<1501,O8*TARIFS!$H$4,O8*TARIFS!$I$4))))))) -> 0 | Q8: =H18 -> 0 | R8: =IF($F$2<351,Q8*TARIFS!$B$4,IF($F$2<476,Q8*TARIFS!$C$4,IF($F$2<581,Q8*TARIFS!$D$4,IF($F$2<721,Q8*TARIFS!$E$4,IF($F$2<901,Q8*TARIFS!$F$4,IF($F$2<1201,Q8*TARIFS!$G$4,IF($F$2<1501,Q8*TARIFS!$H$4,Q8*TARIFS!$I$4))))))) -> 0 | S8: =H19 -> 0 | T8: =IF($F$2<351,S8*TARIFS!$B$4,IF($F$2<476,S8*TARIFS!$C$4,IF($F$2<581,S8*TARIFS!$D$4,IF($F$2<721,S8*TARIFS!$E$4,IF($F$2<901,S8*TARIFS!$F$4,IF($F$2<1201,S8*TARIFS!$G$4,IF($F$2<1501,S8*TARIFS!$H$4,S8*TARIFS!$I$4))))))) -> 0
H9: =SUM(C9:G9) -> 0 | J9: semaine 3 | K9: =H23 -> 3 | L9: =IF($F$2<351,K9*TARIFS!$B$4,IF($F$2<476,K9*TARIFS!$C$4,IF($F$2<581,K9*TARIFS!$D$4,IF($F$2<721,K9*TARIFS!$E$4,IF($F$2<901,K9*TARIFS!$F$4,IF($F$2<1201,K9*TARIFS!$G$4,IF($F$2<1501,K9*TARIFS!$H$4,K9*TARIFS!$I$4))))))) -> 42.09 | M9: =H24 -> 0 | N9: =IF($F$2<351,M9*TARIFS!$B$4,IF($F$2<476,M9*TARIFS!$C$4,IF($F$2<581,M9*TARIFS!$D$4,IF($F$2<721,M9*TARIFS!$E$4,IF($F$2<901,M9*TARIFS!$F$4,IF($F$2<1201,M9*TARIFS!$G$4,IF($F$2<1501,M9*TARIFS!$H$4,M9*TARIFS!$I$4))))))) -> 0 | O9: =H25 -> 0 | P9: =IF($F$2<351,O9*TARIFS!$B$4,IF($F$2<476,O9*TARIFS!$C$4,IF($F$2<581,O9*TARIFS!$D$4,IF($F$2<721,O9*TARIFS!$E$4,IF($F$2<901,O9*TARIFS!$F$4,IF($F$2<1201,O9*TARIFS!$G$4,IF($F$2<1501,O9*TARIFS!$H$4,O9*TARIFS!$I$4))))))) -> 0 | Q9: =H26 -> 0 | R9: =IF($F$2<351,Q9*TARIFS!$B$4,IF($F$2<476,Q9*TARIFS!$C$4,IF($F$2<581,Q9*TARIFS!$D$4,IF($F$2<721,Q9*TARIFS!$E$4,IF($F$2<901,Q9*TARIFS!$F$4,IF($F$2<1201,Q9*TARIFS!$G$4,IF($F$2<1501,Q9*TARIFS!$H$4,Q9*TARIFS!$I$4))))))) -> 0 | S9: =H27 -> 0 | T9: =IF($F$2<351,S9*TARIFS!$B$4,IF($F$2<476,S9*TARIFS!$C$4,IF($F$2<581,S9*TARIFS!$D$4,IF($F$2<721,S9*TARIFS!$E$4,IF($F$2<901,S9*TARIFS!$F$4,IF($F$2<1201,S9*TARIFS!$G$4,IF($F$2<1501,S9*TARIFS!$H$4,S9*TARIFS!$I$4))))))) -> 0
H10: =SUM(C10:G10) -> 0 | J10: semaine 4 | K10: =H31 -> 0 | L10: =IF($F$2<351,K10*TARIFS!$B$4,IF($F$2<476,K10*TARIFS!$C$4,IF($F$2<581,K10*TARIFS!$D$4,IF($F$2<721,K10*TARIFS!$E$4,IF($F$2<901,K10*TARIFS!$F$4,IF($F$2<1201,K10*TARIFS!$G$4,IF($F$2<1501,K10*TARIFS!$H$4,K10*TARIFS!$I$4))))))) -> 0 | M10: =H32 -> 0 | N10: =IF($F$2<351,M10*TARIFS!$B$4,IF($F$2<476,M10*TARIFS!$C$4,IF($F$2<581,M10*TARIFS!$D$4,IF($F$2<721,M10*TARIFS!$E$4,IF($F$2<901,M10*TARIFS!$F$4,IF($F$2<1201,M10*TARIFS!$G$4,IF($F$2<1501,M10*TARIFS!$H$4,M10*TARIFS!$I$4))))))) -> 0 | O10: =H33 -> 0 | P10: =IF($F$2<351,O10*TARIFS!$B$4,IF($F$2<476,O10*TARIFS!$C$4,IF($F$2<581,O10*TARIFS!$D$4,IF($F$2<721,O10*TARIFS!$E$4,IF($F$2<901,O10*TARIFS!$F$4,IF($F$2<1201,O10*TARIFS!$G$4,IF($F$2<1501,O10*TARIFS!$H$4,O10*TARIFS!$I$4))))))) -> 0 | Q10: =H34 -> 0 | R10: =IF($F$2<351,Q10*TARIFS!$B$4,IF($F$2<476,Q10*TARIFS!$C$4,IF($F$2<581,Q10*TARIFS!$D$4,IF($F$2<721,Q10*TARIFS!$E$4,IF($F$2<901,Q10*TARIFS!$F$4,IF($F$2<1201,Q10*TARIFS!$G$4,IF($F$2<1501,Q10*TARIFS!$H$4,Q10*TARIFS!$I$4))))))) -> 0 | S10: =H35 -> 0 | T10: =IF($F$2<351,S10*TARIFS!$B$4,IF($F$2<476,S10*TARIFS!$C$4,IF($F$2<581,S10*TARIFS!$D$4,IF($F$2<721,S10*TARIFS!$E$4,IF($F$2<901,S10*TARIFS!$F$4,IF($F$2<1201,S10*TARIFS!$G$4,IF($F$2<1501,S10*TARIFS!$H$4,S10*TARIFS!$I$4))))))) -> 0
H11: =SUM(C11:G11) -> 0 | J11: TOTAL / enfant | K11: =SUM(K7:K10) -> 5 | L11: =K11*L7 -> 70.15 | M11: =SUM(M7:M10) -> 5 | N11: =M11*N7 -> 350.75 | O11: =SUM(O7:O10) -> 0 | P11: =O11*P7 -> 0 | Q11: =SUM(Q7:Q10) -> 0 | R11: =Q11*R7 -> 0 | S11: =SUM(S7:S10) -> 0 | T11: =S11*T7 -> 0
J12: TOTAL FAMILLE | K12: =L11+N11+P11+R11+T11 -> 420.9
A13: Nom | B13: Prénom | C13: Semaine 2 | H13: Total
C14: lundi | D14: mardi | E14: mercredi | F14: jeudi | G14: vendredi | J14: AIDES OBTENUES | N14: RESTE À CHARGE DE LA FAMILLE | O14: Mode de Règlement | P14: Date de règlement
G15: 1 | H15: =SUM(C15:G15) -> 1 | K15: montant | L15: nb de jours | M15: TOTAL | N15: Montant | O15: N° de chèque ou N° de reçu
H16: =SUM(C16:G16) -> 0 | J16: CAF | K16: =IF($F$2<351,TARIFS!B7,IF($F$2<476,TARIFS!C7,IF($F$2<581,TARIFS!D7,IF($F$2<721,TARIFS!E7,0)))) -> 0 | L16: =$K$11+$M$11+$O$11+$Q$11+$S$11 -> 10 | M16: =K16*L16 -> 0 | N16: =K12-M22 -> 381.616
H17: =SUM(C17:G17) -> 0 | J17: MSA | L17: =$K$11+$M$11+$O$11+$Q$11+$S$11 -> 10 | M17: =K17*L17 -> 0
H18: =SUM(C18:G18) -> 0 | J18: Employeur | L18: =$K$11+$M$11+$O$11+$Q$11+$S$11 -> 10 | M18: =K18*L18 -> 0
H19: =SUM(C19:G19) -> 0 | J19: ANCV | L19: =$K$11+$M$11+$O$11+$Q$11+$S$11 -> 10 | M19: =K19*L19 -> 0
J20: CCT | K20: =IF($F$2<351,TARIFS!B5,IF($F$2<476,TARIFS!C5,IF($F$2<581,TARIFS!D5,IF($F$2<721,TARIFS!E5,IF($F$2<901,TARIFS!F5,IF($F$2<1201,TARIFS!G5,IF($F$2<1501,TARIFS!H5,TARIFS!I5))))))) -> 3.9284 | L20: =$K$11+$M$11+$O$11+$Q$11+$S$11 -> 10 | M20: =K20*L20 -> 39.284
A21: Nom | B21: Prénom | C21: Semaine 3 | H21: Total | J21: Autres | L21: =$K$11+$M$11+$O$11+$Q$11+$S$11 -> 10 | M21: =K21*L21 -> 0
C22: lundi | D22: mardi | E22: mercredi | F22: jeudi | G22: vendredi | J22: TOTAL AIDES | M22: =SUM(M16:M21) -> 39.284
E23: 1 | F23: 1 | G23: 1 | H23: =SUM(C23:G23) -> 3
H24: =SUM(C24:G24) -> 0
H25: =SUM(C25:G25) -> 0
H26: =SUM(C26:G26) -> 0
H27: =SUM(C27:G27) -> 0
A29: Nom | B29: Prénom | C29: Semaine 4 | H29: Total
C30: lundi | D30: mardi | E30: mercredi | F30: jeudi | G30: vendredi
H31: =SUM(C31:G31) -> 0
H32: =SUM(C32:G32) -> 0
H33: =SUM(C33:G33) -> 0
H34: =SUM(C34:G34) -> 0
H35: =SUM(C35:G35) -> 0

Sheet BERNET
A1: NOM | B1: DATE | C1: TELEPHONE(S) | D1: ADRESSE | E1: N° allocataire | F1: QF | G1: Nombre Enfants
A2: BECKER Alexandre et MASQUET Valérie | B2: 40360 | C2: 0475062803 0621840024 | D2: Les vignes 07270Gilhoc Sur Ormèze | E2: 200510841 | F2: 1220 | G2: 1
A5: Nom | B5: Prénom | C5: Semaine 1 | H5: Total | K5: enfant 1 | M5: enfant 2 | O5: enfant 3 | Q5: enfant 4 | S5: enfant 5
C6: lundi | D6: mardi | E6: mercredi | F6: jeudi | G6: vendredi | K6: nb jours présences | L6: cout total | M6: nb jours présences | N6: cout total | O6: nb jours présences | P6: cout total | Q6: nb jours présences | R6: cout total | S6: nb jours présences | T6: cout total
G7: 1 | H7: =SUM(C7:G7) -> 1 | J7: semaine 1 | K7: =H7 -> 1 | L7: =IF($F$2<351,K7*TARIFS!$B$4,IF($F$2<476,K7*TARIFS!$C$4,IF($F$2<581,K7*TARIFS!$D$4,IF($F$2<721,K7*TARIFS!$E$4,IF($F$2<901,K7*TARIFS!$F$4,IF($F$2<1201,K7*TARIFS!$G$4,IF($F$2<1501,K7*TARIFS!$H$4,K7*TARIFS!$I$4))))))) -> 14.03 | M7: =H8 -> 5 | N7: =IF($F$2<351,M7*TARIFS!$B$4,IF($F$2<476,M7*TARIFS!$C$4,IF($F$2<581,M7*TARIFS!$D$4,IF($F$2<721,M7*TARIFS!$E$4,IF($F$2<901,M7*TARIFS!$F$4,IF($F$2<1201,M7*TARIFS!$G$4,IF($F$2<1501,M7*TARIFS!$H$4,M7*TARIFS!$I$4))))))) -> 70.15 | O7: =H9 -> 0 | P7: =IF($F$2<351,O7*TARIFS!$B$4,IF($F$2<476,O7*TARIFS!$C$4,IF($F$2<581,O7*TARIFS!$D$4,IF($F$2<721,O7*TARIFS!$E$4,IF($F$2<901,O7*TARIFS!$F$4,IF($F$2<1201,O7*TARIFS!$G$4,IF($F$2<1501,O7*TARIFS!$H$4,O7*TARIFS!$I$4))))))) -> 0 | Q7: =H10 -> 0 | R7: =IF($F$2<351,Q7*TARIFS!$B$4,IF($F$2<476,Q7*TARIFS!$C$4,IF($F$2<581,Q7*TARIFS!$D$4,IF($F$2<721,Q7*TARIFS!$E$4,IF($F$2<901,Q7*TARIFS!$F$4,IF($F$2<1201,Q7*TARIFS!$G$4,IF($F$2<1501,Q7*TARIFS!$H$4,Q7*TARIFS!$I$4))))))) -> 0 | S7: =H11 -> 0 | T7: =IF($F$2<351,S7*TARIFS!$B$4,IF($F$2<476,S7*TARIFS!$C$4,IF($F$2<581,S7*TARIFS!$D$4,IF($F$2<721,S7*TARIFS!$E$4,IF($F$2<901,S7*TARIFS!$F$4,IF($F$2<1201,S7*TARIFS!$G$4,IF($F$2<1501,S7*TARIFS!$H$4,S7*TARIFS!$I$4))))))) -> 0
C8: 1 | D8: 1 | E8: 1 | F8: 1 | G8: 1 | H8: =SUM(C8:G8) -> 5 | J8: semaine 2 | K8: =H15 -> 1 | L8: =IF($F$2<351,K8*TARIFS!$B$4,IF($F$2<476,K8*TARIFS!$C$4,IF($F$2<581,K8*TARIFS!$D$4,IF($F$2<721,K8*TARIFS!$E$4,IF($F$2<901,K8*TARIFS!$F$4,IF($F$2<1201,K8*TARIFS!$G$4,IF($F$2<1501,K8*TARIFS!$H$4,K8*TARIFS!$I$4))))))) -> 14.03 | M8: =H16 -> 0 | N8: =IF($F$2<351,M8*TARIFS!$B$4,IF($F$2<476,M8*TARIFS!$C$4,IF($F$2<581,M8*TARIFS!$D$4,IF($F$2<721,M8*TARIFS!$E$4,IF($F$2<901,M8*TARIFS!$F$4,IF($F$2<1201,M8*TARIFS!$G$4,IF($F$2<1501,M8*TARIFS!$H$4,M8*TARIFS!$I$4))))))) -> 0 | O8: =H17 -> 0 | P8: =IF($F$2<351,O8*TARIFS!$B$4,IF($F$2<476,O8*TARIFS!$C$4,IF($F$2<581,O8*TARIFS!$D$4,IF($F$2<721,O8*TARIFS!$E$4,IF($F$2<901,O8*TARIFS!$F$4,IF($F$2<1201,O8*TARIFS!$G$4,IF($F$2<1501,O8*TARIFS!$H$4,O8*TARIFS!$I$4))))))) -> 0 | Q8: =H18 -> 0 | R8: =IF($F$2<351,Q8*TARIFS!$B$4,IF($F$2<476,Q8*TARIFS!$C$4,IF($F$2<581,Q8*TARIFS!$D$4,IF($F$2<721,Q8*TARIFS!$E$4,IF($F$2<901,Q8*TARIFS!$F$4,IF($F$2<1201,Q8*TARIFS!$G$4,IF($F$2<1501,Q8*TARIFS!$H$4,Q8*TARIFS!$I$4))))))) -> 0 | S8: =H19 -> 0 | T8: =IF($F$2<351,S8*TARIFS!$B$4,IF($F$2<476,S8*TARIFS!$C$4,IF($F$2<581,S8*TARIFS!$D$4,IF($F$2<721,S8*TARIFS!$E$4,IF($F$2<901,S8*TARIFS!$F$4,IF($F$2<1201,S8*TARIFS!$G$4,IF($F$2<1501,S8*TARIFS!$H$4,S8*TARIFS!$I$4))))))) -> 0
H9: =SUM(C9:G9) -> 0 | J9: semaine 3 | K9: =H23 -> 3 | L9: =IF($F$2<351,K9*TARIFS!$B$4,IF($F$2<476,K9*TARIFS!$C$4,IF($F$2<581,K9*TARIFS!$D$4,IF($F$2<721,K9*TARIFS!$E$4,IF($F$2<901,K9*TARIFS!$F$4,IF($F$2<1201,K9*TARIFS!$G$4,IF($F$2<1501,K9*TARIFS!$H$4,K9*TARIFS!$I$4))))))) -> 42.09 | M9: =H24 -> 0 | N9: =IF($F$2<351,M9*TARIFS!$B$4,IF($F$2<476,M9*TARIFS!$C$4,IF($F$2<581,M9*TARIFS!$D$4,IF($F$2<721,M9*TARIFS!$E$4,IF($F$2<901,M9*TARIFS!$F$4,IF($F$2<1201,M9*TARIFS!$G$4,IF($F$2<1501,M9*TARIFS!$H$4,M9*TARIFS!$I$4))))))) -> 0 | O9: =H25 -> 0 | P9: =IF($F$2<351,O9*TARIFS!$B$4,IF($F$2<476,O9*TARIFS!$C$4,IF($F$2<581,O9*TARIFS!$D$4,IF($F$2<721,O9*TARIFS!$E$4,IF($F$2<901,O9*TARIFS!$F$4,IF($F$2<1201,O9*TARIFS!$G$4,IF($F$2<1501,O9*TARIFS!$H$4,O9*TARIFS!$I$4))))))) -> 0 | Q9: =H26 -> 0 | R9: =IF($F$2<351,Q9*TARIFS!$B$4,IF($F$2<476,Q9*TARIFS!$C$4,IF($F$2<581,Q9*TARIFS!$D$4,IF($F$2<721,Q9*TARIFS!$E$4,IF($F$2<901,Q9*TARIFS!$F$4,IF($F$2<1201,Q9*TARIFS!$G$4,IF($F$2<1501,Q9*TARIFS!$H$4,Q9*TARIFS!$I$4))))))) -> 0 | S9: =H27 -> 0 | T9: =IF($F$2<351,S9*TARIFS!$B$4,IF($F$2<476,S9*TARIFS!$C$4,IF($F$2<581,S9*TARIFS!$D$4,IF($F$2<721,S9*TARIFS!$E$4,IF($F$2<901,S9*TARIFS!$F$4,IF($F$2<1201,S9*TARIFS!$G$4,IF($F$2<1501,S9*TARIFS!$H$4,S9*TARIFS!$I$4))))))) -> 0
H10: =SUM(C10:G10) -> 0 | J10: semaine 4 | K10: =H31 -> 0 | L10: =IF($F$2<351,K10*TARIFS!$B$4,IF($F$2<476,K10*TARIFS!$C$4,IF($F$2<581,K10*TARIFS!$D$4,IF($F$2<721,K10*TARIFS!$E$4,IF($F$2<901,K10*TARIFS!$F$4,IF($F$2<1201,K10*TARIFS!$G$4,IF($F$2<1501,K10*TARIFS!$H$4,K10*TARIFS!$I$4))))))) -> 0 | M10: =H32 -> 0 | N10: =IF($F$2<351,M10*TARIFS!$B$4,IF($F$2<476,M10*TARIFS!$C$4,IF($F$2<581,M10*TARIFS!$D$4,IF($F$2<721,M10*TARIFS!$E$4,IF($F$2<901,M10*TARIFS!$F$4,IF($F$2<1201,M10*TARIFS!$G$4,IF($F$2<1501,M10*TARIFS!$H$4,M10*TARIFS!$I$4))))))) -> 0 | O10: =H33 -> 0 | P10: =IF($F$2<351,O10*TARIFS!$B$4,IF($F$2<476,O10*TARIFS!$C$4,IF($F$2<581,O10*TARIFS!$D$4,IF($F$2<721,O10*TARIFS!$E$4,IF($F$2<901,O10*TARIFS!$F$4,IF($F$2<1201,O10*TARIFS!$G$4,IF($F$2<1501,O10*TARIFS!$H$4,O10*TARIFS!$I$4))))))) -> 0 | Q10: =H34 -> 0 | R10: =IF($F$2<351,Q10*TARIFS!$B$4,IF($F$2<476,Q10*TARIFS!$C$4,IF($F$2<581,Q10*TARIFS!$D$4,IF($F$2<721,Q10*TARIFS!$E$4,IF($F$2<901,Q10*TARIFS!$F$4,IF($F$2<1201,Q10*TARIFS!$G$4,IF($F$2<1501,Q10*TARIFS!$H$4,Q10*TARIFS!$I$4))))))) -> 0 | S10: =H35 -> 0 | T10: =IF($F$2<351,S10*TARIFS!$B$4,IF($F$2<476,S10*TARIFS!$C$4,IF($F$2<581,S10*TARIFS!$D$4,IF($F$2<721,S10*TARIFS!$E$4,IF($F$2<901,S10*TARIFS!$F$4,IF($F$2<1201,S10*TARIFS!$G$4,IF($F$2<1501,S10*TARIFS!$H$4,S10*TARIFS!$I$4))))))) -> 0
H11: =SUM(C11:G11) -> 0 | J11: TOTAL / enfant | K11: =SUM(K7:K10) -> 5 | L11: =K11*L7 -> 70.15 | M11: =SUM(M7:M10) -> 5 | N11: =M11*N7 -> 350.75 | O11: =SUM(O7:O10) -> 0 | P11: =O11*P7 -> 0 | Q11: =SUM(Q7:Q10) -> 0 | R11: =Q11*R7 -> 0 | S11: =SUM(S7:S10) -> 0 | T11: =S11*T7 -> 0
J12: TOTAL FAMILLE | K12: =L11+N11+P11+R11+T11 -> 420.9
A13: Nom | B13: Prénom | C13: Semaine 2 | H13: Total
C14: lundi | D14: mardi | E14: mercredi | F14: jeudi | G14: vendredi | J14: AIDES OBTENUES | N14: RESTE À CHARGE DE LA FAMILLE | O14: Mode de Règlement | P14: Date de règlement
G15: 1 | H15: =SUM(C15:G15) -> 1 | K15: montant | L15: nb de jours | M15: TOTAL | N15: Montant | O15: N° de chèque ou N° de reçu
H16: =SUM(C16:G16) -> 0 | J16: CAF | K16: =IF($F$2<351,TARIFS!B7,IF($F$2<476,TARIFS!C7,IF($F$2<581,TARIFS!D7,IF($F$2<721,TARIFS!E7,0)))) -> 0 | L16: =$K$11+$M$11+$O$11+$Q$11+$S$11 -> 10 | M16: =K16*L16 -> 0 | N16: =K12-M22 -> 381.616
H17: =SUM(C17:G17) -> 0 | J17: MSA | L17: =$K$11+$M$11+$O$11+$Q$11+$S$11 -> 10 | M17: =K17*L17 -> 0
H18: =SUM(C18:G18) -> 0 | J18: Employeur | L18: =$K$11+$M$11+$O$11+$Q$11+$S$11 -> 10 | M18: =K18*L18 -> 0
H19: =SUM(C19:G19) -> 0 | J19: ANCV | L19: =$K$11+$M$11+$O$11+$Q$11+$S$11 -> 10 | M19: =K19*L19 -> 0
J20: CCT | K20: =IF($F$2<351,TARIFS!B5,IF($F$2<476,TARIFS!C5,IF($F$2<581,TARIFS!D5,IF($F$2<721,TARIFS!E5,IF($F$2<901,TARIFS!F5,IF($F$2<1201,TARIFS!G5,IF($F$2<1501,TARIFS!H5,TARIFS!I5))))))) -> 3.9284 | L20: =$K$11+$M$11+$O$11+$Q$11+$S$11 -> 10 | M20: =K20*L20 -> 39.284
A21: Nom | B21: Prénom | C21: Semaine 3 | H21: Total | J21: Autres | L21: =$K$11+$M$11+$O$11+$Q$11+$S$11 -> 10 | M21: =K21*L21 -> 0
C22: lundi | D22: mardi | E22: mercredi | F22: jeudi | G22: vendredi | J22: TOTAL AIDES | M22: =SUM(M16:M21) -> 39.284
E23: 1 | F23: 1 | G23: 1 | H23: =SUM(C23:G23) -> 3
H24: =SUM(C24:G24) -> 0
H25: =SUM(C25:G25) -> 0
H26: =SUM(C26:G26) -> 0
H27: =SUM(C27:G27) -> 0
A29: Nom | B29: Prénom | C29: Semaine 4 | H29: Total
C30: lundi | D30: mardi | E30: mercredi | F30: jeudi | G30: vendredi
H31: =SUM(C31:G31) -> 0
H32: =SUM(C32:G32) -> 0
H33: =SUM(C33:G33) -> 0
H34: =SUM(C34:G34) -> 0
H35: =SUM(C35:G35) -> 0

Sheet BERIDOT
A1: NOM | B1: DATE | C1: TELEPHONE(S) | D1: ADRESSE | E1: N° allocataire | F1: QF | G1: Nombre Enfants
A2: BERIDOT | B2: 40360 | C2: 0475062803 0621840024 | D2: Les vignes 07270Gilhoc Sur Ormèze | E2: 200510841 | F2: 1500 | G2: 1
A5: Nom | B5: Prénom | C5: Semaine 1 | H5: Total | K5: enfant 1 | M5: enfant 2 | O5: enfant 3 | Q5: enfant 4 | S5: enfant 5
C6: lundi | D6: mardi | E6: mercredi | F6: jeudi | G6: vendredi | K6: nb jours présences | L6: cout total | M6: nb jours présences | N6: cout total | O6: nb jours présences | P6: cout total | Q6: nb jours présences | R6: cout total | S6: nb jours présences | T6: cout total
G7: 1 | H7: =SUM(C7:G7) -> 1 | J7: semaine 1 | K7: =H7 -> 1 | L7: =IF($F$2<351,K7*TARIFS!$B$4,IF($F$2<476,K7*TARIFS!$C$4,IF($F$2<581,K7*TARIFS!$D$4,IF($F$2<721,K7*TARIFS!$E$4,IF($F$2<901,K7*TARIFS!$F$4,IF($F$2<1201,K7*TARIFS!$G$4,IF($F$2<1501,K7*TARIFS!$H$4,K7*TARIFS!$I$4))))))) -> 14.03 | M7: =H8 -> 5 | N7: =IF($F$2<351,M7*TARIFS!$B$4,IF($F$2<476,M7*TARIFS!$C$4,IF($F$2<581,M7*TARIFS!$D$4,IF($F$2<721,M7*TARIFS!$E$4,IF($F$2<901,M7*TARIFS!$F$4,IF($F$2<1201,M7*TARIFS!$G$4,IF($F$2<1501,M7*TARIFS!$H$4,M7*TARIFS!$I$4))))))) -> 70.15 | O7: =H9 -> 0 | P7: =IF($F$2<351,O7*TARIFS!$B$4,IF($F$2<476,O7*TARIFS!$C$4,IF($F$2<581,O7*TARIFS!$D$4,IF($F$2<721,O7*TARIFS!$E$4,IF($F$2<901,O7*TARIFS!$F$4,IF($F$2<1201,O7*TARIFS!$G$4,IF($F$2<1501,O7*TARIFS!$H$4,O7*TARIFS!$I$4))))))) -> 0 | Q7: =H10 -> 0 | R7: =IF($F$2<351,Q7*TARIFS!$B$4,IF($F$2<476,Q7*TARIFS!$C$4,IF($F$2<581,Q7*TARIFS!$D$4,IF($F$2<721,Q7*TARIFS!$E$4,IF($F$2<901,Q7*TARIFS!$F$4,IF($F$2<1201,Q7*TARIFS!$G$4,IF($F$2<1501,Q7*TARIFS!$H$4,Q7*TARIFS!$I$4))))))) -> 0 | S7: =H11 -> 0 | T7: =IF($F$2<351,S7*TARIFS!$B$4,IF($F$2<476,S7*TARIFS!$C$4,IF($F$2<581,S7*TARIFS!$D$4,IF($F$2<721,S7*TARIFS!$E$4,IF($F$2<901,S7*TARIFS!$F$4,IF($F$2<1201,S7*TARIFS!$G$4,IF($F$2<1501,S7*TARIFS!$H$4,S7*TARIFS!$I$4))))))) -> 0
C8: 1 | D8: 1 | E8: 1 | F8: 1 | G8: 1 | H8: =SUM(C8:G8) -> 5 | J8: semaine 2 | K8: =H15 -> 1 | L8: =IF($F$2<351,K8*TARIFS!$B$4,IF($F$2<476,K8*TARIFS!$C$4,IF($F$2<581,K8*TARIFS!$D$4,IF($F$2<721,K8*TARIFS!$E$4,IF($F$2<901,K8*TARIFS!$F$4,IF($F$2<1201,K8*TARIFS!$G$4,IF($F$2<1501,K8*TARIFS!$H$4,K8*TARIFS!$I$4))))))) -> 14.03 | M8: =H16 -> 0 | N8: =IF($F$2<351,M8*TARIFS!$B$4,IF($F$2<476,M8*TARIFS!$C$4,IF($F$2<581,M8*TARIFS!$D$4,IF($F$2<721,M8*TARIFS!$E$4,IF($F$2<901,M8*TARIFS!$F$4,IF($F$2<1201,M8*TARIFS!$G$4,IF($F$2<1501,M8*TARIFS!$H$4,M8*TARIFS!$I$4))))))) -> 0 | O8: =H17 -> 0 | P8: =IF($F$2<351,O8*TARIFS!$B$4,IF($F$2<476,O8*TARIFS!$C$4,IF($F$2<581,O8*TARIFS!$D$4,IF($F$2<721,O8*TARIFS!$E$4,IF($F$2<901,O8*TARIFS!$F$4,IF($F$2<1201,O8*TARIFS!$G$4,IF($F$2<1501,O8*TARIFS!$H$4,O8*TARIFS!$I$4))))))) -> 0 | Q8: =H18 -> 0 | R8: =IF($F$2<351,Q8*TARIFS!$B$4,IF($F$2<476,Q8*TARIFS!$C$4,IF($F$2<581,Q8*TARIFS!$D$4,IF($F$2<721,Q8*TARIFS!$E$4,IF($F$2<901,Q8*TARIFS!$F$4,IF($F$2<1201,Q8*TARIFS!$G$4,IF($F$2<1501,Q8*TARIFS!$H$4,Q8*TARIFS!$I$4))))))) -> 0 | S8: =H19 -> 0 | T8: =IF($F$2<351,S8*TARIFS!$B$4,IF($F$2<476,S8*TARIFS!$C$4,IF($F$2<581,S8*TARIFS!$D$4,IF($F$2<721,S8*TARIFS!$E$4,IF($F$2<901,S8*TARIFS!$F$4,IF($F$2<1201,S8*TARIFS!$G$4,IF($F$2<1501,S8*TARIFS!$H$4,S8*TARIFS!$I$4))))))) -> 0
H9: =SUM(C9:G9) -> 0 | J9: semaine 3 | K9: =H23 -> 3 | L9: =IF($F$2<351,K9*TARIFS!$B$4,IF($F$2<476,K9*TARIFS!$C$4,IF($F$2<581,K9*TARIFS!$D$4,IF($F$2<721,K9*TARIFS!$E$4,IF($F$2<901,K9*TARIFS!$F$4,IF($F$2<1201,K9*TARIFS!$G$4,IF($F$2<1501,K9*TARIFS!$H$4,K9*TARIFS!$I$4))))))) -> 42.09 | M9: =H24 -> 0 | N9: =IF($F$2<351,M9*TARIFS!$B$4,IF($F$2<476,M9*TARIFS!$C$4,IF($F$2<581,M9*TARIFS!$D$4,IF($F$2<721,M9*TARIFS!$E$4,IF($F$2<901,M9*TARIFS!$F$4,IF($F$2<1201,M9*TARIFS!$G$4,IF($F$2<1501,M9*TARIFS!$H$4,M9*TARIFS!$I$4))))))) -> 0 | O9: =H25 -> 0 | P9: =IF($F$2<351,O9*TARIFS!$B$4,IF($F$2<476,O9*TARIFS!$C$4,IF($F$2<581,O9*TARIFS!$D$4,IF($F$2<721,O9*TARIFS!$E$4,IF($F$2<901,O9*TARIFS!$F$4,IF($F$2<1201,O9*TARIFS!$G$4,IF($F$2<1501,O9*TARIFS!$H$4,O9*TARIFS!$I$4))))))) -> 0 | Q9: =H26 -> 0 | R9: =IF($F$2<351,Q9*TARIFS!$B$4,IF($F$2<476,Q9*TARIFS!$C$4,IF($F$2<581,Q9*TARIFS!$D$4,IF($F$2<721,Q9*TARIFS!$E$4,IF($F$2<901,Q9*TARIFS!$F$4,IF($F$2<1201,Q9*TARIFS!$G$4,IF($F$2<1501,Q9*TARIFS!$H$4,Q9*TARIFS!$I$4))))))) -> 0 | S9: =H27 -> 0 | T9: =IF($F$2<351,S9*TARIFS!$B$4,IF($F$2<476,S9*TARIFS!$C$4,IF($F$2<581,S9*TARIFS!$D$4,IF($F$2<721,S9*TARIFS!$E$4,IF($F$2<901,S9*TARIFS!$F$4,IF($F$2<1201,S9*TARIFS!$G$4,IF($F$2<1501,S9*TARIFS!$H$4,S9*TARIFS!$I$4))))))) -> 0
H10: =SUM(C10:G10) -> 0 | J10: semaine 4 | K10: =H31 -> 0 | L10: =IF($F$2<351,K10*TARIFS!$B$4,IF($F$2<476,K10*TARIFS!$C$4,IF($F$2<581,K10*TARIFS!$D$4,IF($F$2<721,K10*TARIFS!$E$4,IF($F$2<901,K10*TARIFS!$F$4,IF($F$2<1201,K10*TARIFS!$G$4,IF($F$2<1501,K10*TARIFS!$H$4,K10*TARIFS!$I$4))))))) -> 0 | M10: =H32 -> 0 | N10: =IF($F$2<351,M10*TARIFS!$B$4,IF($F$2<476,M10*TARIFS!$C$4,IF($F$2<581,M10*TARIFS!$D$4,IF($F$2<721,M10*TARIFS!$E$4,IF($F$2<901,M10*TARIFS!$F$4,IF($F$2<1201,M10*TARIFS!$G$4,IF($F$2<1501,M10*TARIFS!$H$4,M10*TARIFS!$I$4))))))) -> 0 | O10: =H33 -> 0 | P10: =IF($F$2<351,O10*TARIFS!$B$4,IF($F$2<476,O10*TARIFS!$C$4,IF($F$2<581,O10*TARIFS!$D$4,IF($F$2<721,O10*TARIFS!$E$4,IF($F$2<901,O10*TARIFS!$F$4,IF($F$2<1201,O10*TARIFS!$G$4,IF($F$2<1501,O10*TARIFS!$H$4,O10*TARIFS!$I$4))))))) -> 0 | Q10: =H34 -> 0 | R10: =IF($F$2<351,Q10*TARIFS!$B$4,IF($F$2<476,Q10*TARIFS!$C$4,IF($F$2<581,Q10*TARIFS!$D$4,IF($F$2<721,Q10*TARIFS!$E$4,IF($F$2<901,Q10*TARIFS!$F$4,IF($F$2<1201,Q10*TARIFS!$G$4,IF($F$2<1501,Q10*TARIFS!$H$4,Q10*TARIFS!$I$4))))))) -> 0 | S10: =H35 -> 0 | T10: =IF($F$2<351,S10*TARIFS!$B$4,IF($F$2<476,S10*TARIFS!$C$4,IF($F$2<581,S10*TARIFS!$D$4,IF($F$2<721,S10*TARIFS!$E$4,IF($F$2<901,S10*TARIFS!$F$4,IF($F$2<1201,S10*TARIFS!$G$4,IF($F$2<1501,S10*TARIFS!$H$4,S10*TARIFS!$I$4))))))) -> 0
H11: =SUM(C11:G11) -> 0 | J11: TOTAL / enfant | K11: =SUM(K7:K10) -> 5 | L11: =K11*L7 -> 70.15 | M11: =SUM(M7:M10) -> 5 | N11: =N7+N8+N9+N10 -> 70.15 | O11: =SUM(O7:O10) -> 0 | Q11: =SUM(Q7:Q10) -> 0 | R11: =Q11*R7 -> 0 | S11: =SUM(S7:S10) -> 0 | T11: =S11*T7 -> 0
J12: TOTAL FAMILLE | K12: =L11+N11+P11+R11+T11 -> 140.3
A13: Nom | B13: Prénom | C13: Semaine 2 | H13: Total
C14: lundi | D14: mardi | E14: mercredi | F14: jeudi | G14: vendredi | J14: AIDES OBTENUES | N14: RESTE À CHARGE DE LA FAMILLE | O14: Mode de Règlement | P14: Date de règlement
G15: 1 | H15: =SUM(C15:G15) -> 1 | K15: montant | L15: nb de jours | M15: TOTAL | N15: Montant | O15: N° de chèque ou N° de reçu
H16: =SUM(C16:G16) -> 0 | J16: CAF | K16: =IF($F$2<351,TARIFS!B7,IF($F$2<476,TARIFS!C7,IF($F$2<581,TARIFS!D7,IF($F$2<721,TARIFS!E7,0)))) -> 0 | L16: =$K$11+$M$11+$O$11+$Q$11+$S$11 -> 10 | M16: =K16*L16 -> 0 | N16: =K12-M22 -> 101.016
H17: =SUM(C17:G17) -> 0 | J17: MSA | L17: =$K$11+$M$11+$O$11+$Q$11+$S$11 -> 10 | M17: =K17*L17 -> 0
H18: =SUM(C18:G18) -> 0 | J18: Employeur | L18: =$K$11+$M$11+$O$11+$Q$11+$S$11 -> 10 | M18: =K18*L18 -> 0
H19: =SUM(C19:G19) -> 0 | J19: ANCV | L19: =$K$11+$M$11+$O$11+$Q$11+$S$11 -> 10 | M19: =K19*L19 -> 0
J20: CCT | K20: =IF($F$2<351,TARIFS!B5,IF($F$2<476,TARIFS!C5,IF($F$2<581,TARIFS!D5,IF($F$2<721,TARIFS!E5,IF($F$2<901,TARIFS!F5,IF($F$2<1201,TARIFS!G5,IF($F$2<1501,TARIFS!H5,TARIFS!I5))))))) -> 3.9284 | L20: =$K$11+$M$11+$O$11+$Q$11+$S$11 -> 10 | M20: =K20*L20 -> 39.284
A21: Nom | B21: Prénom | C21: Semaine 3 | H21: Total | J21: Autres | L21: =$K$11+$M$11+$O$11+$Q$11+$S$11 -> 10 | M21: =K21*L21 -> 0
C22: lundi | D22: mardi | E22: mercredi | F22: jeudi | G22: vendredi | J22: TOTAL AIDES | M22: =SUM(M16:M21) -> 39.284
E23: 1 | F23: 1 | G23: 1 | H23: =SUM(C23:G23) -> 3
H24: =SUM(C24:G24) -> 0
H25: =SUM(C25:G25) -> 0
H26: =SUM(C26:G26) -> 0
H27: =SUM(C27:G27) -> 0
A29: Nom | B29: Prénom | C29: Semaine 4 | H29: Total
C30: lundi | D30: mardi | E30: mercredi | F30: jeudi | G30: vendredi
H31: =SUM(C31:G31) -> 0
H32: =SUM(C32:G32) -> 0
H33: =SUM(C33:G33) -> 0
H34: =SUM(C34:G34) -> 0
H35: =SUM(C35:G35) -> 0

Sheet BELLIN
A1: NOM | B1: DATE | C1: TELEPHONE(S) | D1: ADRESSE | E1: N° allocataire | F1: QF | G1: Nombre Enfants
A2: BECKER Alexandre et MASQUET Valérie | B2: 40360 | C2: 0475062803 0621840024 | D2: Les vignes 07270Gilhoc Sur Ormèze | E2: 200510841 | F2: 1220 | G2: 1
A5: Nom | B5: Prénom | C5: Semaine 1 | H5: Total | K5: enfant 1 | M5: enfant 2 | O5: enfant 3 | Q5: enfant 4 | S5: enfant 5
C6: lundi | D6: mardi | E6: mercredi | F6: jeudi | G6: vendredi | K6: nb jours présences | L6: cout total | M6: nb jours présences | N6: cout total | O6: nb jours présences | P6: cout total | Q6: nb jours présences | R6: cout total | S6: nb jours présences | T6: cout total
G7: 1 | H7: =SUM(C7:G7) -> 1 | J7: semaine 1 | K7: =H7 -> 1 | L7: =IF($F$2<351,K7*TARIFS!$B$4,IF($F$2<476,K7*TARIFS!$C$4,IF($F$2<581,K7*TARIFS!$D$4,IF($F$2<721,K7*TARIFS!$E$4,IF($F$2<901,K7*TARIFS!$F$4,IF($F$2<1201,K7*TARIFS!$G$4,IF($F$2<1501,K7*TARIFS!$H$4,K7*TARIFS!$I$4))))))) -> 14.03 | M7: =H8 -> 5 | N7: =IF($F$2<351,M7*TARIFS!$B$4,IF($F$2<476,M7*TARIFS!$C$4,IF($F$2<581,M7*TARIFS!$D$4,IF($F$2<721,M7*TARIFS!$E$4,IF($F$2<901,M7*TARIFS!$F$4,IF($F$2<1201,M7*TARIFS!$G$4,IF($F$2<1501,M7*TARIFS!$H$4,M7*TARIFS!$I$4))))))) -> 70.15 | O7: =H9 -> 0 | P7: =IF($F$2<351,O7*TARIFS!$B$4,IF($F$2<476,O7*TARIFS!$C$4,IF($F$2<581,O7*TARIFS!$D$4,IF($F$2<721,O7*TARIFS!$E$4,IF($F$2<901,O7*TARIFS!$F$4,IF($F$2<1201,O7*TARIFS!$G$4,IF($F$2<1501,O7*TARIFS!$H$4,O7*TARIFS!$I$4))))))) -> 0 | Q7: =H10 -> 0 | R7: =IF($F$2<351,Q7*TARIFS!$B$4,IF($F$2<476,Q7*TARIFS!$C$4,IF($F$2<581,Q7*TARIFS!$D$4,IF($F$2<721,Q7*TARIFS!$E$4,IF($F$2<901,Q7*TARIFS!$F$4,IF($F$2<1201,Q7*TARIFS!$G$4,IF($F$2<1501,Q7*TARIFS!$H$4,Q7*TARIFS!$I$4))))))) -> 0 | S7: =H11 -> 0 | T7: =IF($F$2<351,S7*TARIFS!$B$4,IF($F$2<476,S7*TARIFS!$C$4,IF($F$2<581,S7*TARIFS!$D$4,IF($F$2<721,S7*TARIFS!$E$4,IF($F$2<901,S7*TARIFS!$F$4,IF($F$2<1201,S7*TARIFS!$G$4,IF($F$2<1501,S7*TARIFS!$H$4,S7*TARIFS!$I$4))))))) -> 0
C8: 1 | D8: 1 | E8: 1 | F8: 1 | G8: 1 | H8: =SUM(C8:G8) -> 5 | J8: semaine 2 | K8: =H15 -> 1 | L8: =IF($F$2<351,K8*TARIFS!$B$4,IF($F$2<476,K8*TARIFS!$C$4,IF($F$2<581,K8*TARIFS!$D$4,IF($F$2<721,K8*TARIFS!$E$4,IF($F$2<901,K8*TARIFS!$F$4,IF($F$2<1201,K8*TARIFS!$G$4,IF($F$2<1501,K8*TARIFS!$H$4,K8*TARIFS!$I$4))))))) -> 14.03 | M8: =H16 -> 0 | N8: =IF($F$2<351,M8*TARIFS!$B$4,IF($F$2<476,M8*TARIFS!$C$4,IF($F$2<581,M8*TARIFS!$D$4,IF($F$2<721,M8*TARIFS!$E$4,IF($F$2<901,M8*TARIFS!$F$4,IF($F$2<1201,M8*TARIFS!$G$4,IF($F$2<1501,M8*TARIFS!$H$4,M8*TARIFS!$I$4))))))) -> 0 | O8: =H17 -> 0 | P8: =IF($F$2<351,O8*TARIFS!$B$4,IF($F$2<476,O8*TARIFS!$C$4,IF($F$2<581,O8*TARIFS!$D$4,IF($F$2<721,O8*TARIFS!$E$4,IF($F$2<901,O8*TARIFS!$F$4,IF($F$2<1201,O8*TARIFS!$G$4,IF($F$2<1501,O8*TARIFS!$H$4,O8*TARIFS!$I$4))))))) -> 0 | Q8: =H18 -> 0 | R8: =IF($F$2<351,Q8*TARIFS!$B$4,IF($F$2<476,Q8*TARIFS!$C$4,IF($F$2<581,Q8*TARIFS!$D$4,IF($F$2<721,Q8*TARIFS!$E$4,IF($F$2<901,Q8*TARIFS!$F$4,IF($F$2<1201,Q8*TARIFS!$G$4,IF($F$2<1501,Q8*TARIFS!$H$4,Q8*TARIFS!$I$4))))))) -> 0 | S8: =H19 -> 0 | T8: =IF($F$2<351,S8*TARIFS!$B$4,IF($F$2<476,S8*TARIFS!$C$4,IF($F$2<581,S8*TARIFS!$D$4,IF($F$2<721,S8*TARIFS!$E$4,IF($F$2<901,S8*TARIFS!$F$4,IF($F$2<1201,S8*TARIFS!$G$4,IF($F$2<1501,S8*TARIFS!$H$4,S8*TARIFS!$I$4))))))) -> 0
H9: =SUM(C9:G9) -> 0 | J9: semaine 3 | K9: =H23 -> 3 | L9: =IF($F$2<351,K9*TARIFS!$B$4,IF($F$2<476,K9*TARIFS!$C$4,IF($F$2<581,K9*TARIFS!$D$4,IF($F$2<721,K9*TARIFS!$E$4,IF($F$2<901,K9*TARIFS!$F$4,IF($F$2<1201,K9*TARIFS!$G$4,IF($F$2<1501,K9*TARIFS!$H$4,K9*TARIFS!$I$4))))))) -> 42.09 | M9: =H24 -> 0 | N9: =IF($F$2<351,M9*TARIFS!$B$4,IF($F$2<476,M9*TARIFS!$C$4,IF($F$2<581,M9*TARIFS!$D$4,IF($F$2<721,M9*TARIFS!$E$4,IF($F$2<901,M9*TARIFS!$F$4,IF($F$2<1201,M9*TARIFS!$G$4,IF($F$2<1501,M9*TARIFS!$H$4,M9*TARIFS!$I$4))))))) -> 0 | O9: =H25 -> 0 | P9: =IF($F$2<351,O9*TARIFS!$B$4,IF($F$2<476,O9*TARIFS!$C$4,IF($F$2<581,O9*TARIFS!$D$4,IF($F$2<721,O9*TARIFS!$E$4,IF($F$2<901,O9*TARIFS!$F$4,IF($F$2<1201,O9*TARIFS!$G$4,IF($F$2<1501,O9*TARIFS!$H$4,O9*TARIFS!$I$4))))))) -> 0 | Q9: =H26 -> 0 | R9: =IF($F$2<351,Q9*TARIFS!$B$4,IF($F$2<476,Q9*TARIFS!$C$4,IF($F$2<581,Q9*TARIFS!$D$4,IF($F$2<721,Q9*TARIFS!$E$4,IF($F$2<901,Q9*TARIFS!$F$4,IF($F$2<1201,Q9*TARIFS!$G$4,IF($F$2<1501,Q9*TARIFS!$H$4,Q9*TARIFS!$I$4))))))) -> 0 | S9: =H27 -> 0 | T9: =IF($F$2<351,S9*TARIFS!$B$4,IF($F$2<476,S9*TARIFS!$C$4,IF($F$2<581,S9*TARIFS!$D$4,IF($F$2<721,S9*TARIFS!$E$4,IF($F$2<901,S9*TARIFS!$F$4,IF($F$2<1201,S9*TARIFS!$G$4,IF($F$2<1501,S9*TARIFS!$H$4,S9*TARIFS!$I$4))))))) -> 0
H10: =SUM(C10:G10) -> 0 | J10: semaine 4 | K10: =H31 -> 0 | L10: =IF($F$2<351,K10*TARIFS!$B$4,IF($F$2<476,K10*TARIFS!$C$4,IF($F$2<581,K10*TARIFS!$D$4,IF($F$2<721,K10*TARIFS!$E$4,IF($F$2<901,K10*TARIFS!$F$4,IF($F$2<1201,K10*TARIFS!$G$4,IF($F$2<1501,K10*TARIFS!$H$4,K10*TARIFS!$I$4))))))) -> 0 | M10: =H32 -> 0 | N10: =IF($F$2<351,M10*TARIFS!$B$4,IF($F$2<476,M10*TARIFS!$C$4,IF($F$2<581,M10*TARIFS!$D$4,IF($F$2<721,M10*TARIFS!$E$4,IF($F$2<901,M10*TARIFS!$F$4,IF($F$2<1201,M10*TARIFS!$G$4,IF($F$2<1501,M10*TARIFS!$H$4,M10*TARIFS!$I$4))))))) -> 0 | O10: =H33 -> 0 | P10: =IF($F$2<351,O10*TARIFS!$B$4,IF($F$2<476,O10*TARIFS!$C$4,IF($F$2<581,O10*TARIFS!$D$4,IF($F$2<721,O10*TARIFS!$E$4,IF($F$2<901,O10*TARIFS!$F$4,IF($F$2<1201,O10*TARIFS!$G$4,IF($F$2<1501,O10*TARIFS!$H$4,O10*TARIFS!$I$4))))))) -> 0 | Q10: =H34 -> 0 | R10: =IF($F$2<351,Q10*TARIFS!$B$4,IF($F$2<476,Q10*TARIFS!$C$4,IF($F$2<581,Q10*TARIFS!$D$4,IF($F$2<721,Q10*TARIFS!$E$4,IF($F$2<901,Q10*TARIFS!$F$4,IF($F$2<1201,Q10*TARIFS!$G$4,IF($F$2<1501,Q10*TARIFS!$H$4,Q10*TARIFS!$I$4))))))) -> 0 | S10: =H35 -> 0 | T10: =IF($F$2<351,S10*TARIFS!$B$4,IF($F$2<476,S10*TARIFS!$C$4,IF($F$2<581,S10*TARIFS!$D$4,IF($F$2<721,S10*TARIFS!$E$4,IF($F$2<901,S10*TARIFS!$F$4,IF($F$2<1201,S10*TARIFS!$G$4,IF($F$2<1501,S10*TARIFS!$H$4,S10*TARIFS!$I$4))))))) -> 0
H11: =SUM(C11:G11) -> 0 | J11: TOTAL / enfant | K11: =SUM(K7:K10) -> 5 | L11: =K11*L7 -> 70.15 | M11: =SUM(M7:M10) -> 5 | N11: =M11*N7 -> 350.75 | O11: =SUM(O7:O10) -> 0 | P11: =O11*P7 -> 0 | Q11: =SUM(Q7:Q10) -> 0 | R11: =Q11*R7 -> 0 | S11: =SUM(S7:S10) -> 0 | T11: =S11*T7 -> 0
J12: TOTAL FAMILLE | K12: =L11+N11+P11+R11+T11 -> 420.9
A13: Nom | B13: Prénom | C13: Semaine 2 | H13: Total
C14: lundi | D14: mardi | E14: mercredi | F14: jeudi | G14: vendredi | J14: AIDES OBTENUES | N14: RESTE À CHARGE DE LA FAMILLE | O14: Mode de Règlement | P14: Date de règlement
G15: 1 | H15: =SUM(C15:G15) -> 1 | K15: montant | L15: nb de jours | M15: TOTAL | N15: Montant | O15: N° de chèque ou N° de reçu
H16: =SUM(C16:G16) -> 0 | J16: CAF | K16: =IF($F$2<351,TARIFS!B7,IF($F$2<476,TARIFS!C7,IF($F$2<581,TARIFS!D7,IF($F$2<721,TARIFS!E7,0)))) -> 0 | L16: =$K$11+$M$11+$O$11+$Q$11+$S$11 -> 10 | M16: =K16*L16 -> 0 | N16: =K12-M22 -> 381.616
H17: =SUM(C17:G17) -> 0 | J17: MSA | L17: =$K$11+$M$11+$O$11+$Q$11+$S$11 -> 10 | M17: =K17*L17 -> 0
H18: =SUM(C18:G18) -> 0 | J18: Employeur | L18: =$K$11+$M$11+$O$11+$Q$11+$S$11 -> 10 | M18: =K18*L18 -> 0
H19: =SUM(C19:G19) -> 0 | J19: ANCV | L19: =$K$11+$M$11+$O$11+$Q$11+$S$11 -> 10 | M19: =K19*L19 -> 0
J20: CCT | K20: =IF($F$2<351,TARIFS!B5,IF($F$2<476,TARIFS!C5,IF($F$2<581,TARIFS!D5,IF($F$2<721,TARIFS!E5,IF($F$2<901,TARIFS!F5,IF($F$2<1201,TARIFS!G5,IF($F$2<1501,TARIFS!H5,TARIFS!I5))))))) -> 3.9284 | L20: =$K$11+$M$11+$O$11+$Q$11+$S$11 -> 10 | M20: =K20*L20 -> 39.284
A21: Nom | B21: Prénom | C21: Semaine 3 | H21: Total | J21: Autres | L21: =$K$11+$M$11+$O$11+$Q$11+$S$11 -> 10 | M21: =K21*L21 -> 0
C22: lundi | D22: mardi | E22: mercredi | F22: jeudi | G22: vendredi | J22: TOTAL AIDES | M22: =SUM(M16:M21) -> 39.284
E23: 1 | F23: 1 | G23: 1 | H23: =SUM(C23:G23) -> 3
H24: =SUM(C24:G24) -> 0
H25: =SUM(C25:G25) -> 0
H26: =SUM(C26:G26) -> 0
H27: =SUM(C27:G27) -> 0
A29: Nom | B29: Prénom | C29: Semaine 4 | H29: Total
C30: lundi | D30: mardi | E30: mercredi | F30: jeudi | G30: vendredi
H31: =SUM(C31:G31) -> 0
H32: =SUM(C32:G32) -> 0
H33: =SUM(C33:G33) -> 0
H34: =SUM(C34:G34) -> 0
H35: =SUM(C35:G35) -> 0

Sheet DANDRES
A1: NOM | B1: DATE | C1: TELEPHONE(S) | D1: ADRESSE | E1: N° allocataire | F1: QF | G1: Nombre Enfants
A2: BECKER Alexandre et MASQUET Valérie | B2: 40360 | C2: 0475062803 0621840024 | D2: Les vignes 07270Gilhoc Sur Ormèze | E2: 200510841 | F2: 1220 | G2: 1
A5: Nom | B5: Prénom | C5: Semaine 1 | H5: Total | K5: enfant 1 | M5: enfant 2 | O5: enfant 3 | Q5: enfant 4 | S5: enfant 5
C6: lundi | D6: mardi | E6: mercredi | F6: jeudi | G6: vendredi | K6: nb jours présences | L6: cout total | M6: nb jours présences | N6: cout total | O6: nb jours présences | P6: cout total | Q6: nb jours présences | R6: cout total | S6: nb jours présences | T6: cout total
G7: 1 | H7: =SUM(C7:G7) -> 1 | J7: semaine 1 | K7: =H7 -> 1 | L7: =IF($F$2<351,K7*TARIFS!$B$4,IF($F$2<476,K7*TARIFS!$C$4,IF($F$2<581,K7*TARIFS!$D$4,IF($F$2<721,K7*TARIFS!$E$4,IF($F$2<901,K7*TARIFS!$F$4,IF($F$2<1201,K7*TARIFS!$G$4,IF($F$2<1501,K7*TARIFS!$H$4,K7*TARIFS!$I$4))))))) -> 14.03 | M7: =H8 -> 5 | N7: =IF($F$2<351,M7*TARIFS!$B$4,IF($F$2<476,M7*TARIFS!$C$4,IF($F$2<581,M7*TARIFS!$D$4,IF($F$2<721,M7*TARIFS!$E$4,IF($F$2<901,M7*TARIFS!$F$4,IF($F$2<1201,M7*TARIFS!$G$4,IF($F$2<1501,M7*TARIFS!$H$4,M7*TARIFS!$I$4))))))) -> 70.15 | O7: =H9 -> 0 | P7: =IF($F$2<351,O7*TARIFS!$B$4,IF($F$2<476,O7*TARIFS!$C$4,IF($F$2<581,O7*TARIFS!$D$4,IF($F$2<721,O7*TARIFS!$E$4,IF($F$2<901,O7*TARIFS!$F$4,IF($F$2<1201,O7*TARIFS!$G$4,IF($F$2<1501,O7*TARIFS!$H$4,O7*TARIFS!$I$4))))))) -> 0 | Q7: =H10 -> 0 | R7: =IF($F$2<351,Q7*TARIFS!$B$4,IF($F$2<476,Q7*TARIFS!$C$4,IF($F$2<581,Q7*TARIFS!$D$4,IF($F$2<721,Q7*TARIFS!$E$4,IF($F$2<901,Q7*TARIFS!$F$4,IF($F$2<1201,Q7*TARIFS!$G$4,IF($F$2<1501,Q7*TARIFS!$H$4,Q7*TARIFS!$I$4))))))) -> 0 | S7: =H11 -> 0 | T7: =IF($F$2<351,S7*TARIFS!$B$4,IF($F$2<476,S7*TARIFS!$C$4,IF($F$2<581,S7*TARIFS!$D$4,IF($F$2<721,S7*TARIFS!$E$4,IF($F$2<901,S7*TARIFS!$F$4,IF($F$2<1201,S7*TARIFS!$G$4,IF($F$2<1501,S7*TARIFS!$H$4,S7*TARIFS!$I$4))))))) -> 0
C8: 1 | D8: 1 | E8: 1 | F8: 1 | G8: 1 | H8: =SUM(C8:G8) -> 5 | J8: semaine 2 | K8: =H15 -> 1 | L8: =IF($F$2<351,K8*TARIFS!$B$4,IF($F$2<476,K8*TARIFS!$C$4,IF($F$2<581,K8*TARIFS!$D$4,IF($F$2<721,K8*TARIFS!$E$4,IF($F$2<901,K8*TARIFS!$F$4,IF($F$2<1201,K8*TARIFS!$G$4,IF($F$2<1501,K8*TARIFS!$H$4,K8*TARIFS!$I$4))))))) -> 14.03 | M8: =H16 -> 0 | N8: =IF($F$2<351,M8*TARIFS!$B$4,IF($F$2<476,M8*TARIFS!$C$4,IF($F$2<581,M8*TARIFS!$D$4,IF($F$2<721,M8*TARIFS!$E$4,IF($F$2<901,M8*TARIFS!$F$4,IF($F$2<1201,M8*TARIFS!$G$4,IF($F$2<1501,M8*TARIFS!$H$4,M8*TARIFS!$I$4))))))) -> 0 | O8: =H17 -> 0 | P8: =IF($F$2<351,O8*TARIFS!$B$4,IF($F$2<476,O8*TARIFS!$C$4,IF($F$2<581,O8*TARIFS!$D$4,IF($F$2<721,O8*TARIFS!$E$4,IF($F$2<901,O8*TARIFS!$F$4,IF($F$2<1201,O8*TARIFS!$G$4,IF($F$2<1501,O8*TARIFS!$H$4,O8*TARIFS!$I$4))))))) -> 0 | Q8: =H18 -> 0 | R8: =IF($F$2<351,Q8*TARIFS!$B$4,IF($F$2<476,Q8*TARIFS!$C$4,IF($F$2<581,Q8*TARIFS!$D$4,IF($F$2<721,Q8*TARIFS!$E$4,IF($F$2<901,Q8*TARIFS!$F$4,IF($F$2<1201,Q8*TARIFS!$G$4,IF($F$2<1501,Q8*TARIFS!$H$4,Q8*TARIFS!$I$4))))))) -> 0 | S8: =H19 -> 0 | T8: =IF($F$2<351,S8*TARIFS!$B$4,IF($F$2<476,S8*TARIFS!$C$4,IF($F$2<581,S8*TARIFS!$D$4,IF($F$2<721,S8*TARIFS!$E$4,IF($F$2<901,S8*TARIFS!$F$4,IF($F$2<1201,S8*TARIFS!$G$4,IF($F$2<1501,S8*TARIFS!$H$4,S8*TARIFS!$I$4))))))) -> 0
H9: =SUM(C9:G9) -> 0 | J9: semaine 3 | K9: =H23 -> 3 | L9: =IF($F$2<351,K9*TARIFS!$B$4,IF($F$2<476,K9*TARIFS!$C$4,IF($F$2<581,K9*TARIFS!$D$4,IF($F$2<721,K9*TARIFS!$E$4,IF($F$2<901,K9*TARIFS!$F$4,IF($F$2<1201,K9*TARIFS!$G$4,IF($F$2<1501,K9*TARIFS!$H$4,K9*TARIFS!$I$4))))))) -> 42.09 | M9: =H24 -> 0 | N9: =IF($F$2<351,M9*TARIFS!$B$4,IF($F$2<476,M9*TARIFS!$C$4,IF($F$2<581,M9*TARIFS!$D$4,IF($F$2<721,M9*TARIFS!$E$4,IF($F$2<901,M9*TARIFS!$F$4,IF($F$2<1201,M9*TARIFS!$G$4,IF($F$2<1501,M9*TARIFS!$H$4,M9*TARIFS!$I$4))))))) -> 0 | O9: =H25 -> 0 | P9: =IF($F$2<351,O9*TARIFS!$B$4,IF($F$2<476,O9*TARIFS!$C$4,IF($F$2<581,O9*TARIFS!$D$4,IF($F$2<721,O9*TARIFS!$E$4,IF($F$2<901,O9*TARIFS!$F$4,IF($F$2<1201,O9*TARIFS!$G$4,IF($F$2<1501,O9*TARIFS!$H$4,O9*TARIFS!$I$4))))))) -> 0 | Q9: =H26 -> 0 | R9: =IF($F$2<351,Q9*TARIFS!$B$4,IF($F$2<476,Q9*TARIFS!$C$4,IF($F$2<581,Q9*TARIFS!$D$4,IF($F$2<721,Q9*TARIFS!$E$4,IF($F$2<901,Q9*TARIFS!$F$4,IF($F$2<1201,Q9*TARIFS!$G$4,IF($F$2<1501,Q9*TARIFS!$H$4,Q9*TARIFS!$I$4))))))) -> 0 | S9: =H27 -> 0 | T9: =IF($F$2<351,S9*TARIFS!$B$4,IF($F$2<476,S9*TARIFS!$C$4,IF($F$2<581,S9*TARIFS!$D$4,IF($F$2<721,S9*TARIFS!$E$4,IF($F$2<901,S9*TARIFS!$F$4,IF($F$2<1201,S9*TARIFS!$G$4,IF($F$2<1501,S9*TARIFS!$H$4,S9*TARIFS!$I$4))))))) -> 0
H10: =SUM(C10:G10) -> 0 | J10: semaine 4 | K10: =H31 -> 0 | L10: =IF($F$2<351,K10*TARIFS!$B$4,IF($F$2<476,K10*TARIFS!$C$4,IF($F$2<581,K10*TARIFS!$D$4,IF($F$2<721,K10*TARIFS!$E$4,IF($F$2<901,K10*TARIFS!$F$4,IF($F$2<1201,K10*TARIFS!$G$4,IF($F$2<1501,K10*TARIFS!$H$4,K10*TARIFS!$I$4))))))) -> 0 | M10: =H32 -> 0 | N10: =IF($F$2<351,M10*TARIFS!$B$4,IF($F$2<476,M10*TARIFS!$C$4,IF($F$2<581,M10*TARIFS!$D$4,IF($F$2<721,M10*TARIFS!$E$4,IF($F$2<901,M10*TARIFS!$F$4,IF($F$2<1201,M10*TARIFS!$G$4,IF($F$2<1501,M10*TARIFS!$H$4,M10*TARIFS!$I$4))))))) -> 0 | O10: =H33 -> 0 | P10: =IF($F$2<351,O10*TARIFS!$B$4,IF($F$2<476,O10*TARIFS!$C$4,IF($F$2<581,O10*TARIFS!$D$4,IF($F$2<721,O10*TARIFS!$E$4,IF($F$2<901,O10*TARIFS!$F$4,IF($F$2<1201,O10*TARIFS!$G$4,IF($F$2<1501,O10*TARIFS!$H$4,O10*TARIFS!$I$4))))))) -> 0 | Q10: =H34 -> 0 | R10: =IF($F$2<351,Q10*TARIFS!$B$4,IF($F$2<476,Q10*TARIFS!$C$4,IF($F$2<581,Q10*TARIFS!$D$4,IF($F$2<721,Q10*TARIFS!$E$4,IF($F$2<901,Q10*TARIFS!$F$4,IF($F$2<1201,Q10*TARIFS!$G$4,IF($F$2<1501,Q10*TARIFS!$H$4,Q10*TARIFS!$I$4))))))) -> 0 | S10: =H35 -> 0 | T10: =IF($F$2<351,S10*TARIFS!$B$4,IF($F$2<476,S10*TARIFS!$C$4,IF($F$2<581,S10*TARIFS!$D$4,IF($F$2<721,S10*TARIFS!$E$4,IF($F$2<901,S10*TARIFS!$F$4,IF($F$2<1201,S10*TARIFS!$G$4,IF($F$2<1501,S10*TARIFS!$H$4,S10*TARIFS!$I$4))))))) -> 0
H11: =SUM(C11:G11) -> 0 | J11: TOTAL / enfant | K11: =SUM(K7:K10) -> 5 | L11: =K11*L7 -> 70.15 | M11: =SUM(M7:M10) -> 5 | N11: =M11*N7 -> 350.75 | O11: =SUM(O7:O10) -> 0 | P11: =O11*P7 -> 0 | Q11: =SUM(Q7:Q10) -> 0 | R11: =Q11*R7 -> 0 | S11: =SUM(S7:S10) -> 0 | T11: =S11*T7 -> 0
J12: TOTAL FAMILLE | K12: =L11+N11+P11+R11+T11 -> 420.9
A13: Nom | B13: Prénom | C13: Semaine 2 | H13: Total
C14: lundi | D14: mardi | E14: mercredi | F14: jeudi | G14: vendredi | J14: AIDES OBTENUES | N14: RESTE À CHARGE DE LA FAMILLE | O14: Mode de Règlement | P14: Date de règlement
G15: 1 | H15: =SUM(C15:G15) -> 1 | K15: montant | L15: nb de jours | M15: TOTAL | N15: Montant | O15: N° de chèque ou N° de reçu
H16: =SUM(C16:G16) -> 0 | J16: CAF | K16: =IF($F$2<351,TARIFS!B7,IF($F$2<476,TARIFS!C7,IF($F$2<581,TARIFS!D7,IF($F$2<721,TARIFS!E7,0)))) -> 0 | L16: =$K$11+$M$11+$O$11+$Q$11+$S$11 -> 10 | M16: =K16*L16 -> 0 | N16: =K12-M22 -> 381.616
H17: =SUM(C17:G17) -> 0 | J17: MSA | L17: =$K$11+$M$11+$O$11+$Q$11+$S$11 -> 10 | M17: =K17*L17 -> 0
H18: =SUM(C18:G18) -> 0 | J18: Employeur | L18: =$K$11+$M$11+$O$11+$Q$11+$S$11 -> 10 | M18: =K18*L18 -> 0
H19: =SUM(C19:G19) -> 0 | J19: ANCV | L19: =$K$11+$M$11+$O$11+$Q$11+$S$11 -> 10 | M19: =K19*L19 -> 0
J20: CCT | K20: =IF($F$2<351,TARIFS!B5,IF($F$2<476,TARIFS!C5,IF($F$2<581,TARIFS!D5,IF($F$2<721,TARIFS!E5,IF($F$2<901,TARIFS!F5,IF($F$2<1201,TARIFS!G5,IF($F$2<1501,TARIFS!H5,TARIFS!I5))))))) -> 3.9284 | L20: =$K$11+$M$11+$O$11+$Q$11+$S$11 -> 10 | M20: =K20*L20 -> 39.284
A21: Nom | B21: Prénom | C21: Semaine 3 | H21: Total | J21: Autres | L21: =$K$11+$M$11+$O$11+$Q$11+$S$11 -> 10 | M21: =K21*L21 -> 0
C22: lundi | D22: mardi | E22: mercredi | F22: jeudi | G22: vendredi | J22: TOTAL AIDES | M22: =SUM(M16:M21) -> 39.284
E23: 1 | F23: 1 | G23: 1 | H23: =SUM(C23:G23) -> 3
H24: =SUM(C24:G24) -> 0
H25: =SUM(C25:G25) -> 0
H26: =SUM(C26:G26) -> 0
H27: =SUM(C27:G27) -> 0
A29: Nom | B29: Prénom | C29: Semaine 4 | H29: Total
C30: lundi | D30: mardi | E30: mercredi | F30: jeudi | G30: vendredi
H31: =SUM(C31:G31) -> 0
H32: =SUM(C32:G32) -> 0
H33: =SUM(C33:G33) -> 0
H34: =SUM(C34:G34) -> 0
H35: =SUM(C35:G35) -> 0

Sheet COMTE
A1: NOM | B1: DATE | C1: TELEPHONE(S) | D1: ADRESSE | E1: N° allocataire | F1: QF | G1: Nombre Enfants
A2: BECKER Alexandre et MASQUET Valérie | B2: 40360 | C2: 0475062803 0621840024 | D2: Les vignes 07270Gilhoc Sur Ormèze | E2: 200510841 | F2: 1220 | G2: 1
A5: Nom | B5: Prénom | C5: Semaine 1 | H5: Total | K5: enfant 1 | M5: enfant 2 | O5: enfant 3 | Q5: enfant 4 | S5: enfant 5
C6: lundi | D6: mardi | E6: mercredi | F6: jeudi | G6: vendredi | K6: nb jours présences | L6: cout total | M6: nb jours présences | N6: cout total | O6: nb jours présences | P6: cout total | Q6: nb jours présences | R6: cout total | S6: nb jours présences | T6: cout total
G7: 1 | H7: =SUM(C7:G7) -> 1 | J7: semaine 1 | K7: =H7 -> 1 | L7: =IF($F$2<351,K7*TARIFS!$B$4,IF($F$2<476,K7*TARIFS!$C$4,IF($F$2<581,K7*TARIFS!$D$4,IF($F$2<721,K7*TARIFS!$E$4,IF($F$2<901,K7*TARIFS!$F$4,IF($F$2<1201,K7*TARIFS!$G$4,IF($F$2<1501,K7*TARIFS!$H$4,K7*TARIFS!$I$4))))))) -> 14.03 | M7: =H8 -> 5 | N7: =IF($F$2<351,M7*TARIFS!$B$4,IF($F$2<476,M7*TARIFS!$C$4,IF($F$2<581,M7*TARIFS!$D$4,IF($F$2<721,M7*TARIFS!$E$4,IF($F$2<901,M7*TARIFS!$F$4,IF($F$2<1201,M7*TARIFS!$G$4,IF($F$2<1501,M7*TARIFS!$H$4,M7*TARIFS!$I$4))))))) -> 70.15 | O7: =H9 -> 0 | P7: =IF($F$2<351,O7*TARIFS!$B$4,IF($F$2<476,O7*TARIFS!$C$4,IF($F$2<581,O7*TARIFS!$D$4,IF($F$2<721,O7*TARIFS!$E$4,IF($F$2<901,O7*TARIFS!$F$4,IF($F$2<1201,O7*TARIFS!$G$4,IF($F$2<1501,O7*TARIFS!$H$4,O7*TARIFS!$I$4))))))) -> 0 | Q7: =H10 -> 0 | R7: =IF($F$2<351,Q7*TARIFS!$B$4,IF($F$2<476,Q7*TARIFS!$C$4,IF($F$2<581,Q7*TARIFS!$D$4,IF($F$2<721,Q7*TARIFS!$E$4,IF($F$2<901,Q7*TARIFS!$F$4,IF($F$2<1201,Q7*TARIFS!$G$4,IF($F$2<1501,Q7*TARIFS!$H$4,Q7*TARIFS!$I$4))))))) -> 0 | S7: =H11 -> 0 | T7: =IF($F$2<351,S7*TARIFS!$B$4,IF($F$2<476,S7*TARIFS!$C$4,IF($F$2<581,S7*TARIFS!$D$4,IF($F$2<721,S7*TARIFS!$E$4,IF($F$2<901,S7*TARIFS!$F$4,IF($F$2<1201,S7*TARIFS!$G$4,IF($F$2<1501,S7*TARIFS!$H$4,S7*TARIFS!$I$4))))))) -> 0
C8: 1 | D8: 1 | E8: 1 | F8: 1 | G8: 1 | H8: =SUM(C8:G8) -> 5 | J8: semaine 2 | K8: =H15 -> 1 | L8: =IF($F$2<351,K8*TARIFS!$B$4,IF($F$2<476,K8*TARIFS!$C$4,IF($F$2<581,K8*TARIFS!$D$4,IF($F$2<721,K8*TARIFS!$E$4,IF($F$2<901,K8*TARIFS!$F$4,IF($F$2<1201,K8*TARIFS!$G$4,IF($F$2<1501,K8*TARIFS!$H$4,K8*TARIFS!$I$4))))))) -> 14.03 | M8: =H16 -> 0 | N8: =IF($F$2<351,M8*TARIFS!$B$4,IF($F$2<476,M8*TARIFS!$C$4,IF($F$2<581,M8*TARIFS!$D$4,IF($F$2<721,M8*TARIFS!$E$4,IF($F$2<901,M8*TARIFS!$F$4,IF($F$2<1201,M8*TARIFS!$G$4,IF($F$2<1501,M8*TARIFS!$H$4,M8*TARIFS!$I$4))))))) -> 0 | O8: =H17 -> 0 | P8: =IF($F$2<351,O8*TARIFS!$B$4,IF($F$2<476,O8*TARIFS!$C$4,IF($F$2<581,O8*TARIFS!$D$4,IF($F$2<721,O8*TARIFS!$E$4,IF($F$2<901,O8*TARIFS!$F$4,IF($F$2<1201,O8*TARIFS!$G$4,IF($F$2<1501,O8*TARIFS!$H$4,O8*TARIFS!$I$4))))))) -> 0 | Q8: =H18 -> 0 | R8: =IF($F$2<351,Q8*TARIFS!$B$4,IF($F$2<476,Q8*TARIFS!$C$4,IF($F$2<581,Q8*TARIFS!$D$4,IF($F$2<721,Q8*TARIFS!$E$4,IF($F$2<901,Q8*TARIFS!$F$4,IF($F$2<1201,Q8*TARIFS!$G$4,IF($F$2<1501,Q8*TARIFS!$H$4,Q8*TARIFS!$I$4))))))) -> 0 | S8: =H19 -> 0 | T8: =IF($F$2<351,S8*TARIFS!$B$4,IF($F$2<476,S8*TARIFS!$C$4,IF($F$2<581,S8*TARIFS!$D$4,IF($F$2<721,S8*TARIFS!$E$4,IF($F$2<901,S8*TARIFS!$F$4,IF($F$2<1201,S8*TARIFS!$G$4,IF($F$2<1501,S8*TARIFS!$H$4,S8*TARIFS!$I$4))))))) -> 0
H9: =SUM(C9:G9) -> 0 | J9: semaine 3 | K9: =H23 -> 3 | L9: =IF($F$2<351,K9*TARIFS!$B$4,IF($F$2<476,K9*TARIFS!$C$4,IF($F$2<581,K9*TARIFS!$D$4,IF($F$2<721,K9*TARIFS!$E$4,IF($F$2<901,K9*TARIFS!$F$4,IF($F$2<1201,K9*TARIFS!$G$4,IF($F$2<1501,K9*TARIFS!$H$4,K9*TARIFS!$I$4))))))) -> 42.09 | M9: =H24 -> 0 | N9: =IF($F$2<351,M9*TARIFS!$B$4,IF($F$2<476,M9*TARIFS!$C$4,IF($F$2<581,M9*TARIFS!$D$4,IF($F$2<721,M9*TARIFS!$E$4,IF($F$2<901,M9*TARIFS!$F$4,IF($F$2<1201,M9*TARIFS!$G$4,IF($F$2<1501,M9*TARIFS!$H$4,M9*TARIFS!$I$4))))))) -> 0 | O9: =H25 -> 0 | P9: =IF($F$2<351,O9*TARIFS!$B$4,IF($F$2<476,O9*TARIFS!$C$4,IF($F$2<581,O9*TARIFS!$D$4,IF($F$2<721,O9*TARIFS!$E$4,IF($F$2<901,O9*TARIFS!$F$4,IF($F$2<1201,O9*TARIFS!$G$4,IF($F$2<1501,O9*TARIFS!$H$4,O9*TARIFS!$I$4))))))) -> 0 | Q9: =H26 -> 0 | R9: =IF($F$2<351,Q9*TARIFS!$B$4,IF($F$2<476,Q9*TARIFS!$C$4,IF($F$2<581,Q9*TARIFS!$D$4,IF($F$2<721,Q9*TARIFS!$E$4,IF($F$2<901,Q9*TARIFS!$F$4,IF($F$2<1201,Q9*TARIFS!$G$4,IF($F$2<1501,Q9*TARIFS!$H$4,Q9*TARIFS!$I$4))))))) -> 0 | S9: =H27 -> 0 | T9: =IF($F$2<351,S9*TARIFS!$B$4,IF($F$2<476,S9*TARIFS!$C$4,IF($F$2<581,S9*TARIFS!$D$4,IF($F$2<721,S9*TARIFS!$E$4,IF($F$2<901,S9*TARIFS!$F$4,IF($F$2<1201,S9*TARIFS!$G$4,IF($F$2<1501,S9*TARIFS!$H$4,S9*TARIFS!$I$4))))))) -> 0
H10: =SUM(C10:G10) -> 0 | J10: semaine 4 | K10: =H31 -> 0 | L10: =IF($F$2<351,K10*TARIFS!$B$4,IF($F$2<476,K10*TARIFS!$C$4,IF($F$2<581,K10*TARIFS!$D$4,IF($F$2<721,K10*TARIFS!$E$4,IF($F$2<901,K10*TARIFS!$F$4,IF($F$2<1201,K10*TARIFS!$G$4,IF($F$2<1501,K10*TARIFS!$H$4,K10*TARIFS!$I$4))))))) -> 0 | M10: =H32 -> 0 | N10: =IF($F$2<351,M10*TARIFS!$B$4,IF($F$2<476,M10*TARIFS!$C$4,IF($F$2<581,M10*TARIFS!$D$4,IF($F$2<721,M10*TARIFS!$E$4,IF($F$2<901,M10*TARIFS!$F$4,IF($F$2<1201,M10*TARIFS!$G$4,IF($F$2<1501,M10*TARIFS!$H$4,M10*TARIFS!$I$4))))))) -> 0 | O10: =H33 -> 0 | P10: =IF($F$2<351,O10*TARIFS!$B$4,IF($F$2<476,O10*TARIFS!$C$4,IF($F$2<581,O10*TARIFS!$D$4,IF($F$2<721,O10*TARIFS!$E$4,IF($F$2<901,O10*TARIFS!$F$4,IF($F$2<1201,O10*TARIFS!$G$4,IF($F$2<1501,O10*TARIFS!$H$4,O10*TARIFS!$I$4))))))) -> 0 | Q10: =H34 -> 0 | R10: =IF($F$2<351,Q10*TARIFS!$B$4,IF($F$2<476,Q10*TARIFS!$C$4,IF($F$2<581,Q10*TARIFS!$D$4,IF($F$2<721,Q10*TARIFS!$E$4,IF($F$2<901,Q10*TARIFS!$F$4,IF($F$2<1201,Q10*TARIFS!$G$4,IF($F$2<1501,Q10*TARIFS!$H$4,Q10*TARIFS!$I$4))))))) -> 0 | S10: =H35 -> 0 | T10: =IF($F$2<351,S10*TARIFS!$B$4,IF($F$2<476,S10*TARIFS!$C$4,IF($F$2<581,S10*TARIFS!$D$4,IF($F$2<721,S10*TARIFS!$E$4,IF($F$2<901,S10*TARIFS!$F$4,IF($F$2<1201,S10*TARIFS!$G$4,IF($F$2<1501,S10*TARIFS!$H$4,S10*TARIFS!$I$4))))))) -> 0
H11: =SUM(C11:G11) -> 0 | J11: TOTAL / enfant | K11: =SUM(K7:K10) -> 5 | L11: =K11*L7 -> 70.15 | M11: =SUM(M7:M10) -> 5 | N11: =M11*N7 -> 350.75 | O11: =SUM(O7:O10) -> 0 | P11: =O11*P7 -> 0 | Q11: =SUM(Q7:Q10) -> 0 | R11: =Q11*R7 -> 0 | S11: =SUM(S7:S10) -> 0 | T11: =S11*T7 -> 0
J12: TOTAL FAMILLE | K12: =L11+N11+P11+R11+T11 -> 420.9
A13: Nom | B13: Prénom | C13: Semaine 2 | H13: Total
C14: lundi | D14: mardi | E14: mercredi | F14: jeudi | G14: vendredi | J14: AIDES OBTENUES | N14: RESTE À CHARGE DE LA FAMILLE | O14: Mode de Règlement | P14: Date de règlement
G15: 1 | H15: =SUM(C15:G15) -> 1 | K15: montant | L15: nb de jours | M15: TOTAL | N15: Montant | O15: N° de chèque ou N° de reçu
H16: =SUM(C16:G16) -> 0 | J16: CAF | K16: =IF($F$2<351,TARIFS!B7,IF($F$2<476,TARIFS!C7,IF($F$2<581,TARIFS!D7,IF($F$2<721,TARIFS!E7,0)))) -> 0 | L16: =$K$11+$M$11+$O$11+$Q$11+$S$11 -> 10 | M16: =K16*L16 -> 0 | N16: =K12-M22 -> 381.616
H17: =SUM(C17:G17) -> 0 | J17: MSA | L17: =$K$11+$M$11+$O$11+$Q$11+$S$11 -> 10 | M17: =K17*L17 -> 0
H18: =SUM(C18:G18) -> 0 | J18: Employeur | L18: =$K$11+$M$11+$O$11+$Q$11+$S$11 -> 10 | M18: =K18*L18 -> 0
H19: =SUM(C19:G19) -> 0 | J19: ANCV | L19: =$K$11+$M$11+$O$11+$Q$11+$S$11 -> 10 | M19: =K19*L19 -> 0
J20: CCT | K20: =IF($F$2<351,TARIFS!B5,IF($F$2<476,TARIFS!C5,IF($F$2<581,TARIFS!D5,IF($F$2<721,TARIFS!E5,IF($F$2<901,TARIFS!F5,IF($F$2<1201,TARIFS!G5,IF($F$2<1501,TARIFS!H5,TARIFS!I5))))))) -> 3.9284 | L20: =$K$11+$M$11+$O$11+$Q$11+$S$11 -> 10 | M20: =K20*L20 -> 39.284
A21: Nom | B21: Prénom | C21: Semaine 3 | H21: Total | J21: Autres | L21: =$K$11+$M$11+$O$11+$Q$11+$S$11 -> 10 | M21: =K21*L21 -> 0
C22: lundi | D22: mardi | E22: mercredi | F22: jeudi | G22: vendredi | J22: TOTAL AIDES | M22: =SUM(M16:M21) -> 39.284
E23: 1 | F23: 1 | G23: 1 | H23: =SUM(C23:G23) -> 3
H24: =SUM(C24:G24) -> 0
H25: =SUM(C25:G25) -> 0
H26: =SUM(C26:G26) -> 0
H27: =SUM(C27:G27) -> 0
A29: Nom | B29: Prénom | C29: Semaine 4 | H29: Total
C30: lundi | D30: mardi | E30: mercredi | F30: jeudi | G30: vendredi
H31: =SUM(C31:G31) -> 0
H32: =SUM(C32:G32) -> 0
H33: =SUM(C33:G33) -> 0
H34: =SUM(C34:G34) -> 0
H35: =SUM(C35:G35) -> 0

Sheet BANC
A1: NOM | B1: DATE | C1: TELEPHONE(S) | D1: ADRESSE | E1: N° allocataire | F1: QF | G1: Nombre Enfants
A2: BECKER Alexandre et MASQUET Valérie | B2: 40360 | C2: 0475062803 0621840024 | D2: Les vignes 07270Gilhoc Sur Ormèze | E2: 200510841 | F2: 1220 | G2: 1
A5: Nom | B5: Prénom | C5: Semaine 1 | H5: Total | K5: enfant 1 | M5: enfant 2 | O5: enfant 3 | Q5: enfant 4 | S5: enfant 5
C6: lundi | D6: mardi | E6: mercredi | F6: jeudi | G6: vendredi | K6: nb jours présences | L6: cout total | M6: nb jours présences | N6: cout total | O6: nb jours présences | P6: cout total | Q6: nb jours présences | R6: cout total | S6: nb jours présences | T6: cout total
G7: 1 | H7: =SUM(C7:G7) -> 1 | J7: semaine 1 | K7: =H7 -> 1 | L7: =IF($F$2<351,K7*TARIFS!$B$4,IF($F$2<476,K7*TARIFS!$C$4,IF($F$2<581,K7*TARIFS!$D$4,IF($F$2<721,K7*TARIFS!$E$4,IF($F$2<901,K7*TARIFS!$F$4,IF($F$2<1201,K7*TARIFS!$G$4,IF($F$2<1501,K7*TARIFS!$H$4,K7*TARIFS!$I$4))))))) -> 14.03 | M7: =H8 -> 5 | N7: =IF($F$2<351,M7*TARIFS!$B$4,IF($F$2<476,M7*TARIFS!$C$4,IF($F$2<581,M7*TARIFS!$D$4,IF($F$2<721,M7*TARIFS!$E$4,IF($F$2<901,M7*TARIFS!$F$4,IF($F$2<1201,M7*TARIFS!$G$4,IF($F$2<1501,M7*TARIFS!$H$4,M7*TARIFS!$I$4))))))) -> 70.15 | O7: =H9 -> 0 | P7: =IF($F$2<351,O7*TARIFS!$B$4,IF($F$2<476,O7*TARIFS!$C$4,IF($F$2<581,O7*TARIFS!$D$4,IF($F$2<721,O7*TARIFS!$E$4,IF($F$2<901,O7*TARIFS!$F$4,IF($F$2<1201,O7*TARIFS!$G$4,IF($F$2<1501,O7*TARIFS!$H$4,O7*TARIFS!$I$4))))))) -> 0 | Q7: =H10 -> 0 | R7: =IF($F$2<351,Q7*TARIFS!$B$4,IF($F$2<476,Q7*TARIFS!$C$4,IF($F$2<581,Q7*TARIFS!$D$4,IF($F$2<721,Q7*TARIFS!$E$4,IF($F$2<901,Q7*TARIFS!$F$4,IF($F$2<1201,Q7*TARIFS!$G$4,IF($F$2<1501,Q7*TARIFS!$H$4,Q7*TARIFS!$I$4))))))) -> 0 | S7: =H11 -> 0 | T7: =IF($F$2<351,S7*TARIFS!$B$4,IF($F$2<476,S7*TARIFS!$C$4,IF($F$2<581,S7*TARIFS!$D$4,IF($F$2<721,S7*TARIFS!$E$4,IF($F$2<901,S7*TARIFS!$F$4,IF($F$2<1201,S7*TARIFS!$G$4,IF($F$2<1501,S7*TARIFS!$H$4,S7*TARIFS!$I$4))))))) -> 0
C8: 1 | D8: 1 | E8: 1 | F8: 1 | G8: 1 | H8: =SUM(C8:G8) -> 5 | J8: semaine 2 | K8: =H15 -> 1 | L8: =IF($F$2<351,K8*TARIFS!$B$4,IF($F$2<476,K8*TARIFS!$C$4,IF($F$2<581,K8*TARIFS!$D$4,IF($F$2<721,K8*TARIFS!$E$4,IF($F$2<901,K8*TARIFS!$F$4,IF($F$2<1201,K8*TARIFS!$G$4,IF($F$2<1501,K8*TARIFS!$H$4,K8*TARIFS!$I$4))))))) -> 14.03 | M8: =H16 -> 0 | N8: =IF($F$2<351,M8*TARIFS!$B$4,IF($F$2<476,M8*TARIFS!$C$4,IF($F$2<581,M8*TARIFS!$D$4,IF($F$2<721,M8*TARIFS!$E$4,IF($F$2<901,M8*TARIFS!$F$4,IF($F$2<1201,M8*TARIFS!$G$4,IF($F$2<1501,M8*TARIFS!$H$4,M8*TARIFS!$I$4))))))) -> 0 | O8: =H17 -> 0 | P8: =IF($F$2<351,O8*TARIFS!$B$4,IF($F$2<476,O8*TARIFS!$C$4,IF($F$2<581,O8*TARIFS!$D$4,IF($F$2<721,O8*TARIFS!$E$4,IF($F$2<901,O8*TARIFS!$F$4,IF($F$2<1201,O8*TARIFS!$G$4,IF($F$2<1501,O8*TARIFS!$H$4,O8*TARIFS!$I$4))))))) -> 0 | Q8: =H18 -> 0 | R8: =IF($F$2<351,Q8*TARIFS!$B$4,IF($F$2<476,Q8*TARIFS!$C$4,IF($F$2<581,Q8*TARIFS!$D$4,IF($F$2<721,Q8*TARIFS!$E$4,IF($F$2<901,Q8*TARIFS!$F$4,IF($F$2<1201,Q8*TARIFS!$G$4,IF($F$2<1501,Q8*TARIFS!$H$4,Q8*TARIFS!$I$4))))))) -> 0 | S8: =H19 -> 0 | T8: =IF($F$2<351,S8*TARIFS!$B$4,IF($F$2<476,S8*TARIFS!$C$4,IF($F$2<581,S8*TARIFS!$D$4,IF($F$2<721,S8*TARIFS!$E$4,IF($F$2<901,S8*TARIFS!$F$4,IF($F$2<1201,S8*TARIFS!$G$4,IF($F$2<1501,S8*TARIFS!$H$4,S8*TARIFS!$I$4))))))) -> 0
H9: =SUM(C9:G9) -> 0 | J9: semaine 3 | K9: =H23 -> 3 | L9: =IF($F$2<351,K9*TARIFS!$B$4,IF($F$2<476,K9*TARIFS!$C$4,IF($F$2<581,K9*TARIFS!$D$4,IF($F$2<721,K9*TARIFS!$E$4,IF($F$2<901,K9*TARIFS!$F$4,IF($F$2<1201,K9*TARIFS!$G$4,IF($F$2<1501,K9*TARIFS!$H$4,K9*TARIFS!$I$4))))))) -> 42.09 | M9: =H24 -> 0 | N9: =IF($F$2<351,M9*TARIFS!$B$4,IF($F$2<476,M9*TARIFS!$C$4,IF($F$2<581,M9*TARIFS!$D$4,IF($F$2<721,M9*TARIFS!$E$4,IF($F$2<901,M9*TARIFS!$F$4,IF($F$2<1201,M9*TARIFS!$G$4,IF($F$2<1501,M9*TARIFS!$H$4,M9*TARIFS!$I$4))))))) -> 0 | O9: =H25 -> 0 | P9: =IF($F$2<351,O9*TARIFS!$B$4,IF($F$2<476,O9*TARIFS!$C$4,IF($F$2<581,O9*TARIFS!$D$4,IF($F$2<721,O9*TARIFS!$E$4,IF($F$2<901,O9*TARIFS!$F$4,IF($F$2<1201,O9*TARIFS!$G$4,IF($F$2<1501,O9*TARIFS!$H$4,O9*TARIFS!$I$4))))))) -> 0 | Q9: =H26 -> 0 | R9: =IF($F$2<351,Q9*TARIFS!$B$4,IF($F$2<476,Q9*TARIFS!$C$4,IF($F$2<581,Q9*TARIFS!$D$4,IF($F$2<721,Q9*TARIFS!$E$4,IF($F$2<901,Q9*TARIFS!$F$4,IF($F$2<1201,Q9*TARIFS!$G$4,IF($F$2<1501,Q9*TARIFS!$H$4,Q9*TARIFS!$I$4))))))) -> 0 | S9: =H27 -> 0 | T9: =IF($F$2<351,S9*TARIFS!$B$4,IF($F$2<476,S9*TARIFS!$C$4,IF($F$2<581,S9*TARIFS!$D$4,IF($F$2<721,S9*TARIFS!$E$4,IF($F$2<901,S9*TARIFS!$F$4,IF($F$2<1201,S9*TARIFS!$G$4,IF($F$2<1501,S9*TARIFS!$H$4,S9*TARIFS!$I$4))))))) -> 0
H10: =SUM(C10:G10) -> 0 | J10: semaine 4 | K10: =H31 -> 0 | L10: =IF($F$2<351,K10*TARIFS!$B$4,IF($F$2<476,K10*TARIFS!$C$4,IF($F$2<581,K10*TARIFS!$D$4,IF($F$2<721,K10*TARIFS!$E$4,IF($F$2<901,K10*TARIFS!$F$4,IF($F$2<1201,K10*TARIFS!$G$4,IF($F$2<1501,K10*TARIFS!$H$4,K10*TARIFS!$I$4))))))) -> 0 | M10: =H32 -> 0 | N10: =IF($F$2<351,M10*TARIFS!$B$4,IF($F$2<476,M10*TARIFS!$C$4,IF($F$2<581,M10*TARIFS!$D$4,IF($F$2<721,M10*TARIFS!$E$4,IF($F$2<901,M10*TARIFS!$F$4,IF($F$2<1201,M10*TARIFS!$G$4,IF($F$2<1501,M10*TARIFS!$H$4,M10*TARIFS!$I$4))))))) -> 0 | O10: =H33 -> 0 | P10: =IF($F$2<351,O10*TARIFS!$B$4,IF($F$2<476,O10*TARIFS!$C$4,IF($F$2<581,O10*TARIFS!$D$4,IF($F$2<721,O10*TARIFS!$E$4,IF($F$2<901,O10*TARIFS!$F$4,IF($F$2<1201,O10*TARIFS!$G$4,IF($F$2<1501,O10*TARIFS!$H$4,O10*TARIFS!$I$4))))))) -> 0 | Q10: =H34 -> 0 | R10: =IF($F$2<351,Q10*TARIFS!$B$4,IF($F$2<476,Q10*TARIFS!$C$4,IF($F$2<581,Q10*TARIFS!$D$4,IF($F$2<721,Q10*TARIFS!$E$4,IF($F$2<901,Q10*TARIFS!$F$4,IF($F$2<1201,Q10*TARIFS!$G$4,IF($F$2<1501,Q10*TARIFS!$H$4,Q10*TARIFS!$I$4))))))) -> 0 | S10: =H35 -> 0 | T10: =IF($F$2<351,S10*TARIFS!$B$4,IF($F$2<476,S10*TARIFS!$C$4,IF($F$2<581,S10*TARIFS!$D$4,IF($F$2<721,S10*TARIFS!$E$4,IF($F$2<901,S10*TARIFS!$F$4,IF($F$2<1201,S10*TARIFS!$G$4,IF($F$2<1501,S10*TARIFS!$H$4,S10*TARIFS!$I$4))))))) -> 0
H11: =SUM(C11:G11) -> 0 | J11: TOTAL / enfant | K11: =SUM(K7:K10) -> 5 | L11: =K11*L7 -> 70.15 | M11: =SUM(M7:M10) -> 5 | N11: =M11*N7 -> 350.75 | O11: =SUM(O7:O10) -> 0 | P11: =O11*P7 -> 0 | Q11: =SUM(Q7:Q10) -> 0 | R11: =Q11*R7 -> 0 | S11: =SUM(S7:S10) -> 0 | T11: =S11*T7 -> 0
J12: TOTAL FAMILLE | K12: =L11+N11+P11+R11+T11 -> 420.9
A13: Nom | B13: Prénom | C13: Semaine 2 | H13: Total
C14: lundi | D14: mardi | E14: mercredi | F14: jeudi | G14: vendredi | J14: AIDES OBTENUES | N14: RESTE À CHARGE DE LA FAMILLE | O14: Mode de Règlement | P14: Date de règlement
G15: 1 | H15: =SUM(C15:G15) -> 1 | K15: montant | L15: nb de jours | M15: TOTAL | N15: Montant | O15: N° de chèque ou N° de reçu
H16: =SUM(C16:G16) -> 0 | J16: CAF | K16: =IF($F$2<351,TARIFS!B7,IF($F$2<476,TARIFS!C7,IF($F$2<581,TARIFS!D7,IF($F$2<721,TARIFS!E7,0)))) -> 0 | L16: =$K$11+$M$11+$O$11+$Q$11+$S$11 -> 10 | M16: =K16*L16 -> 0 | N16: =K12-M22 -> 381.616
H17: =SUM(C17:G17) -> 0 | J17: MSA | L17: =$K$11+$M$11+$O$11+$Q$11+$S$11 -> 10 | M17: =K17*L17 -> 0
H18: =SUM(C18:G18) -> 0 | J18: Employeur | L18: =$K$11+$M$11+$O$11+$Q$11+$S$11 -> 10 | M18: =K18*L18 -> 0
H19: =SUM(C19:G19) -> 0 | J19: ANCV | L19: =$K$11+$M$11+$O$11+$Q$11+$S$11 -> 10 | M19: =K19*L19 -> 0
J20: CCT | K20: =IF($F$2<351,TARIFS!B5,IF($F$2<476,TARIFS!C5,IF($F$2<581,TARIFS!D5,IF($F$2<721,TARIFS!E5,IF($F$2<901,TARIFS!F5,IF($F$2<1201,TARIFS!G5,IF($F$2<1501,TARIFS!H5,TARIFS!I5))))))) -> 3.9284 | L20: =$K$11+$M$11+$O$11+$Q$11+$S$11 -> 10 | M20: =K20*L20 -> 39.284
A21: Nom | B21: Prénom | C21: Semaine 3 | H21: Total | J21: Autres | L21: =$K$11+$M$11+$O$11+$Q$11+$S$11 -> 10 | M21: =K21*L21 -> 0
C22: lundi | D22: mardi | E22: mercredi | F22: jeudi | G22: vendredi | J22: TOTAL AIDES | M22: =SUM(M16:M21) -> 39.284
E23: 1 | F23: 1 | G23: 1 | H23: =SUM(C23:G23) -> 3
H24: =SUM(C24:G24) -> 0
H25: =SUM(C25:G25) -> 0
H26: =SUM(C26:G26) -> 0
H27: =SUM(C27:G27) -> 0
A29: Nom | B29: Prénom | C29: Semaine 4 | H29: Total
C30: lundi | D30: mardi | E30: mercredi | F30: jeudi | G30: vendredi
H31: =SUM(C31:G31) -> 0
H32: =SUM(C32:G32) -> 0
H33: =SUM(C33:G33) -> 0
H34: =SUM(C34:G34) -> 0
H35: =SUM(C35:G35) -> 0

Sheet LAFAYE
A1: NOM | B1: DATE | C1: TELEPHONE(S) | D1: ADRESSE | E1: N° allocataire | F1: QF | G1: Nombre Enfants
A2: BECKER Alexandre et MASQUET Valérie | B2: 40360 | C2: 0475062803 0621840024 | D2: Les vignes 07270Gilhoc Sur Ormèze | E2: 200510841 | F2: 406 | G2: 1
A5: Nom | B5: Prénom | C5: Semaine 1 | H5: Total | K5: enfant 1 | M5: enfant 2 | O5: enfant 3 | Q5: enfant 4 | S5: enfant 5
C6: lundi | D6: mardi | E6: mercredi | F6: jeudi | G6: vendredi | K6: nb jours présences | L6: cout total | M6: nb jours présences | N6: cout total | O6: nb jours présences | P6: cout total | Q6: nb jours présences | R6: cout total | S6: nb jours présences | T6: cout total
G7: 1 | H7: =SUM(C7:G7) -> 1 | J7: semaine 1 | K7: =H7 -> 1 | L7: =IF($F$2<351,K7*TARIFS!$B$4,IF($F$2<476,K7*TARIFS!$C$4,IF($F$2<581,K7*TARIFS!$D$4,IF($F$2<721,K7*TARIFS!$E$4,IF($F$2<901,K7*TARIFS!$F$4,IF($F$2<1201,K7*TARIFS!$G$4,IF($F$2<1501,K7*TARIFS!$H$4,K7*TARIFS!$I$4))))))) -> 14.05 | M7: =H8 -> 5 | N7: =IF($F$2<351,M7*TARIFS!$B$4,IF($F$2<476,M7*TARIFS!$C$4,IF($F$2<581,M7*TARIFS!$D$4,IF($F$2<721,M7*TARIFS!$E$4,IF($F$2<901,M7*TARIFS!$F$4,IF($F$2<1201,M7*TARIFS!$G$4,IF($F$2<1501,M7*TARIFS!$H$4,M7*TARIFS!$I$4))))))) -> 70.25 | O7: =H9 -> 0 | P7: =IF($F$2<351,O7*TARIFS!$B$4,IF($F$2<476,O7*TARIFS!$C$4,IF($F$2<581,O7*TARIFS!$D$4,IF($F$2<721,O7*TARIFS!$E$4,IF($F$2<901,O7*TARIFS!$F$4,IF($F$2<1201,O7*TARIFS!$G$4,IF($F$2<1501,O7*TARIFS!$H$4,O7*TARIFS!$I$4))))))) -> 0 | Q7: =H10 -> 0 | R7: =IF($F$2<351,Q7*TARIFS!$B$4,IF($F$2<476,Q7*TARIFS!$C$4,IF($F$2<581,Q7*TARIFS!$D$4,IF($F$2<721,Q7*TARIFS!$E$4,IF($F$2<901,Q7*TARIFS!$F$4,IF($F$2<1201,Q7*TARIFS!$G$4,IF($F$2<1501,Q7*TARIFS!$H$4,Q7*TARIFS!$I$4))))))) -> 0 | S7: =H11 -> 0 | T7: =IF($F$2<351,S7*TARIFS!$B$4,IF($F$2<476,S7*TARIFS!$C$4,IF($F$2<581,S7*TARIFS!$D$4,IF($F$2<721,S7*TARIFS!$E$4,IF($F$2<901,S7*TARIFS!$F$4,IF($F$2<1201,S7*TARIFS!$G$4,IF($F$2<1501,S7*TARIFS!$H$4,S7*TARIFS!$I$4))))))) -> 0
C8: 1 | D8: 1 | E8: 1 | F8: 1 | G8: 1 | H8: =SUM(C8:G8) -> 5 | J8: semaine 2 | K8: =H15 -> 1 | L8: =IF($F$2<351,K8*TARIFS!$B$4,IF($F$2<476,K8*TARIFS!$C$4,IF($F$2<581,K8*TARIFS!$D$4,IF($F$2<721,K8*TARIFS!$E$4,IF($F$2<901,K8*TARIFS!$F$4,IF($F$2<1201,K8*TARIFS!$G$4,IF($F$2<1501,K8*TARIFS!$H$4,K8*TARIFS!$I$4))))))) -> 14.05 | M8: =H16 -> 0 | N8: =IF($F$2<351,M8*TARIFS!$B$4,IF($F$2<476,M8*TARIFS!$C$4,IF($F$2<581,M8*TARIFS!$D$4,IF($F$2<721,M8*TARIFS!$E$4,IF($F$2<901,M8*TARIFS!$F$4,IF($F$2<1201,M8*TARIFS!$G$4,IF($F$2<1501,M8*TARIFS!$H$4,M8*TARIFS!$I$4))))))) -> 0 | O8: =H17 -> 0 | P8: =IF($F$2<351,O8*TARIFS!$B$4,IF($F$2<476,O8*TARIFS!$C$4,IF($F$2<581,O8*TARIFS!$D$4,IF($F$2<721,O8*TARIFS!$E$4,IF($F$2<901,O8*TARIFS!$F$4,IF($F$2<1201,O8*TARIFS!$G$4,IF($F$2<1501,O8*TARIFS!$H$4,O8*TARIFS!$I$4))))))) -> 0 | Q8: =H18 -> 0 | R8: =IF($F$2<351,Q8*TARIFS!$B$4,IF($F$2<476,Q8*TARIFS!$C$4,IF($F$2<581,Q8*TARIFS!$D$4,IF($F$2<721,Q8*TARIFS!$E$4,IF($F$2<901,Q8*TARIFS!$F$4,IF($F$2<1201,Q8*TARIFS!$G$4,IF($F$2<1501,Q8*TARIFS!$H$4,Q8*TARIFS!$I$4))))))) -> 0 | S8: =H19 -> 0 | T8: =IF($F$2<351,S8*TARIFS!$B$4,IF($F$2<476,S8*TARIFS!$C$4,IF($F$2<581,S8*TARIFS!$D$4,IF($F$2<721,S8*TARIFS!$E$4,IF($F$2<901,S8*TARIFS!$F$4,IF($F$2<1201,S8*TARIFS!$G$4,IF($F$2<1501,S8*TARIFS!$H$4,S8*TARIFS!$I$4))))))) -> 0
H9: =SUM(C9:G9) -> 0 | J9: semaine 3 | K9: =H23 -> 3 | L9: =IF($F$2<351,K9*TARIFS!$B$4,IF($F$2<476,K9*TARIFS!$C$4,IF($F$2<581,K9*TARIFS!$D$4,IF($F$2<721,K9*TARIFS!$E$4,IF($F$2<901,K9*TARIFS!$F$4,IF($F$2<1201,K9*TARIFS!$G$4,IF($F$2<1501,K9*TARIFS!$H$4,K9*TARIFS!$I$4))))))) -> 42.15 | M9: =H24 -> 0 | N9: =IF($F$2<351,M9*TARIFS!$B$4,IF($F$2<476,M9*TARIFS!$C$4,IF($F$2<581,M9*TARIFS!$D$4,IF($F$2<721,M9*TARIFS!$E$4,IF($F$2<901,M9*TARIFS!$F$4,IF($F$2<1201,M9*TARIFS!$G$4,IF($F$2<1501,M9*TARIFS!$H$4,M9*TARIFS!$I$4))))))) -> 0 | O9: =H25 -> 0 | P9: =IF($F$2<351,O9*TARIFS!$B$4,IF($F$2<476,O9*TARIFS!$C$4,IF($F$2<581,O9*TARIFS!$D$4,IF($F$2<721,O9*TARIFS!$E$4,IF($F$2<901,O9*TARIFS!$F$4,IF($F$2<1201,O9*TARIFS!$G$4,IF($F$2<1501,O9*TARIFS!$H$4,O9*TARIFS!$I$4))))))) -> 0 | Q9: =H26 -> 0 | R9: =IF($F$2<351,Q9*TARIFS!$B$4,IF($F$2<476,Q9*TARIFS!$C$4,IF($F$2<581,Q9*TARIFS!$D$4,IF($F$2<721,Q9*TARIFS!$E$4,IF($F$2<901,Q9*TARIFS!$F$4,IF($F$2<1201,Q9*TARIFS!$G$4,IF($F$2<1501,Q9*TARIFS!$H$4,Q9*TARIFS!$I$4))))))) -> 0 | S9: =H27 -> 0 | T9: =IF($F$2<351,S9*TARIFS!$B$4,IF($F$2<476,S9*TARIFS!$C$4,IF($F$2<581,S9*TARIFS!$D$4,IF($F$2<721,S9*TARIFS!$E$4,IF($F$2<901,S9*TARIFS!$F$4,IF($F$2<1201,S9*TARIFS!$G$4,IF($F$2<1501,S9*TARIFS!$H$4,S9*TARIFS!$I$4))))))) -> 0
H10: =SUM(C10:G10) -> 0 | J10: semaine 4 | K10: =H31 -> 0 | L10: =IF($F$2<351,K10*TARIFS!$B$4,IF($F$2<476,K10*TARIFS!$C$4,IF($F$2<581,K10*TARIFS!$D$4,IF($F$2<721,K10*TARIFS!$E$4,IF($F$2<901,K10*TARIFS!$F$4,IF($F$2<1201,K10*TARIFS!$G$4,IF($F$2<1501,K10*TARIFS!$H$4,K10*TARIFS!$I$4))))))) -> 0 | M10: =H32 -> 0 | N10: =IF($F$2<351,M10*TARIFS!$B$4,IF($F$2<476,M10*TARIFS!$C$4,IF($F$2<581,M10*TARIFS!$D$4,IF($F$2<721,M10*TARIFS!$E$4,IF($F$2<901,M10*TARIFS!$F$4,IF($F$2<1201,M10*TARIFS!$G$4,IF($F$2<1501,M10*TARIFS!$H$4,M10*TARIFS!$I$4))))))) -> 0 | O10: =H33 -> 0 | P10: =IF($F$2<351,O10*TARIFS!$B$4,IF($F$2<476,O10*TARIFS!$C$4,IF($F$2<581,O10*TARIFS!$D$4,IF($F$2<721,O10*TARIFS!$E$4,IF($F$2<901,O10*TARIFS!$F$4,IF($F$2<1201,O10*TARIFS!$G$4,IF($F$2<1501,O10*TARIFS!$H$4,O10*TARIFS!$I$4))))))) -> 0 | Q10: =H34 -> 0 | R10: =IF($F$2<351,Q10*TARIFS!$B$4,IF($F$2<476,Q10*TARIFS!$C$4,IF($F$2<581,Q10*TARIFS!$D$4,IF($F$2<721,Q10*TARIFS!$E$4,IF($F$2<901,Q10*TARIFS!$F$4,IF($F$2<1201,Q10*TARIFS!$G$4,IF($F$2<1501,Q10*TARIFS!$H$4,Q10*TARIFS!$I$4))))))) -> 0 | S10: =H35 -> 0 | T10: =IF($F$2<351,S10*TARIFS!$B$4,IF($F$2<476,S10*TARIFS!$C$4,IF($F$2<581,S10*TARIFS!$D$4,IF($F$2<721,S10*TARIFS!$E$4,IF($F$2<901,S10*TARIFS!$F$4,IF($F$2<1201,S10*TARIFS!$G$4,IF($F$2<1501,S10*TARIFS!$H$4,S10*TARIFS!$I$4))))))) -> 0
H11: =SUM(C11:G11) -> 0 | J11: TOTAL / enfant | K11: =SUM(K7:K10) -> 5 | L11: =K11*L7 -> 70.25 | M11: =SUM(M7:M10) -> 5 | N11: =M11*N7 -> 351.25 | O11: =SUM(O7:O10) -> 0 | P11: =O11*P7 -> 0 | Q11: =SUM(Q7:Q10) -> 0 | R11: =Q11*R7 -> 0 | S11: =SUM(S7:S10) -> 0 | T11: =S11*T7 -> 0
J12: TOTAL FAMILLE | K12: =L11+N11+P11+R11+T11 -> 421.5
A13: Nom | B13: Prénom | C13: Semaine 2 | H13: Total
C14: lundi | D14: mardi | E14: mercredi | F14: jeudi | G14: vendredi | J14: AIDES OBTENUES | N14: RESTE À CHARGE DE LA FAMILLE | O14: Mode de Règlement | P14: Date de règlement
G15: 1 | H15: =SUM(C15:G15) -> 1 | K15: montant | L15: nb de jours | M15: TOTAL | N15: Montant | O15: N° de chèque ou N° de reçu
H16: =SUM(C16:G16) -> 0 | J16: CAF | K16: =IF($F$2<351,TARIFS!B7,IF($F$2<476,TARIFS!C7,IF($F$2<581,TARIFS!D7,IF($F$2<721,TARIFS!E7,0)))) -> 7.2 | L16: =$K$11+$M$11+$O$11+$Q$11+$S$11 -> 10 | M16: =K16*L16 -> 72 | N16: =K12-M22 -> 304.54
H17: =SUM(C17:G17) -> 0 | J17: MSA | L17: =$K$11+$M$11+$O$11+$Q$11+$S$11 -> 10 | M17: =K17*L17 -> 0
H18: =SUM(C18:G18) -> 0 | J18: Employeur | L18: =$K$11+$M$11+$O$11+$Q$11+$S$11 -> 10 | M18: =K18*L18 -> 0
H19: =SUM(C19:G19) -> 0 | J19: ANCV | L19: =$K$11+$M$11+$O$11+$Q$11+$S$11 -> 10 | M19: =K19*L19 -> 0
J20: CCT | K20: =IF($F$2<351,TARIFS!B5,IF($F$2<476,TARIFS!C5,IF($F$2<581,TARIFS!D5,IF($F$2<721,TARIFS!E5,IF($F$2<901,TARIFS!F5,IF($F$2<1201,TARIFS!G5,IF($F$2<1501,TARIFS!H5,TARIFS!I5))))))) -> 4.496 | L20: =$K$11+$M$11+$O$11+$Q$11+$S$11 -> 10 | M20: =K20*L20 -> 44.96
A21: Nom | B21: Prénom | C21: Semaine 3 | H21: Total | J21: Autres | L21: =$K$11+$M$11+$O$11+$Q$11+$S$11 -> 10 | M21: =K21*L21 -> 0
C22: lundi | D22: mardi | E22: mercredi | F22: jeudi | G22: vendredi | J22: TOTAL AIDES | M22: =SUM(M16:M21) -> 116.96
E23: 1 | F23: 1 | G23: 1 | H23: =SUM(C23:G23) -> 3
H24: =SUM(C24:G24) -> 0
H25: =SUM(C25:G25) -> 0
H26: =SUM(C26:G26) -> 0
H27: =SUM(C27:G27) -> 0
A29: Nom | B29: Prénom | C29: Semaine 4 | H29: Total
C30: lundi | D30: mardi | E30: mercredi | F30: jeudi | G30: vendredi
H31: =SUM(C31:G31) -> 0
H32: =SUM(C32:G32) -> 0
H33: =SUM(C33:G33) -> 0
H34: =SUM(C34:G34) -> 0
H35: =SUM(C35:G35) -> 0

Sheet BERTHONNIER
A1: NOM | B1: DATE | C1: TELEPHONE(S) | D1: ADRESSE | E1: N° allocataire | F1: QF | G1: Nombre Enfants
A2: BECKER Alexandre et MASQUET Valérie | B2: 40360 | C2: 0475062803 0621840024 | D2: Les vignes 07270Gilhoc Sur Ormèze | E2: 200510841 | F2: 1220 | G2: 1
A5: Nom | B5: Prénom | C5: Semaine 1 | H5: Total | K5: enfant 1 | M5: enfant 2 | O5: enfant 3 | Q5: enfant 4 | S5: enfant 5
C6: lundi | D6: mardi | E6: mercredi | F6: jeudi | G6: vendredi | K6: nb jours présences | L6: cout total | M6: nb jours présences | N6: cout total | O6: nb jours présences | P6: cout total | Q6: nb jours présences | R6: cout total | S6: nb jours présences | T6: cout total
G7: 1 | H7: =SUM(C7:G7) -> 1 | J7: semaine 1 | K7: =H7 -> 1 | L7: =IF($F$2<351,K7*TARIFS!$B$4,IF($F$2<476,K7*TARIFS!$C$4,IF($F$2<581,K7*TARIFS!$D$4,IF($F$2<721,K7*TARIFS!$E$4,IF($F$2<901,K7*TARIFS!$F$4,IF($F$2<1201,K7*TARIFS!$G$4,IF($F$2<1501,K7*TARIFS!$H$4,K7*TARIFS!$I$4))))))) -> 14.03 | M7: =H8 -> 5 | N7: =IF($F$2<351,M7*TARIFS!$B$4,IF($F$2<476,M7*TARIFS!$C$4,IF($F$2<581,M7*TARIFS!$D$4,IF($F$2<721,M7*TARIFS!$E$4,IF($F$2<901,M7*TARIFS!$F$4,IF($F$2<1201,M7*TARIFS!$G$4,IF($F$2<1501,M7*TARIFS!$H$4,M7*TARIFS!$I$4))))))) -> 70.15 | O7: =H9 -> 0 | P7: =IF($F$2<351,O7*TARIFS!$B$4,IF($F$2<476,O7*TARIFS!$C$4,IF($F$2<581,O7*TARIFS!$D$4,IF($F$2<721,O7*TARIFS!$E$4,IF($F$2<901,O7*TARIFS!$F$4,IF($F$2<1201,O7*TARIFS!$G$4,IF($F$2<1501,O7*TARIFS!$H$4,O7*TARIFS!$I$4))))))) -> 0 | Q7: =H10 -> 0 | R7: =IF($F$2<351,Q7*TARIFS!$B$4,IF($F$2<476,Q7*TARIFS!$C$4,IF($F$2<581,Q7*TARIFS!$D$4,IF($F$2<721,Q7*TARIFS!$E$4,IF($F$2<901,Q7*TARIFS!$F$4,IF($F$2<1201,Q7*TARIFS!$G$4,IF($F$2<1501,Q7*TARIFS!$H$4,Q7*TARIFS!$I$4))))))) -> 0 | S7: =H11 -> 0 | T7: =IF($F$2<351,S7*TARIFS!$B$4,IF($F$2<476,S7*TARIFS!$C$4,IF($F$2<581,S7*TARIFS!$D$4,IF($F$2<721,S7*TARIFS!$E$4,IF($F$2<901,S7*TARIFS!$F$4,IF($F$2<1201,S7*TARIFS!$G$4,IF($F$2<1501,S7*TARIFS!$H$4,S7*TARIFS!$I$4))))))) -> 0
C8: 1 | D8: 1 | E8: 1 | F8: 1 | G8: 1 | H8: =SUM(C8:G8) -> 5 | J8: semaine 2 | K8: =H15 -> 1 | L8: =IF($F$2<351,K8*TARIFS!$B$4,IF($F$2<476,K8*TARIFS!$C$4,IF($F$2<581,K8*TARIFS!$D$4,IF($F$2<721,K8*TARIFS!$E$4,IF($F$2<901,K8*TARIFS!$F$4,IF($F$2<1201,K8*TARIFS!$G$4,IF($F$2<1501,K8*TARIFS!$H$4,K8*TARIFS!$I$4))))))) -> 14.03 | M8: =H16 -> 0 | N8: =IF($F$2<351,M8*TARIFS!$B$4,IF($F$2<476,M8*TARIFS!$C$4,IF($F$2<581,M8*TARIFS!$D$4,IF($F$2<721,M8*TARIFS!$E$4,IF($F$2<901,M8*TARIFS!$F$4,IF($F$2<1201,M8*TARIFS!$G$4,IF($F$2<1501,M8*TARIFS!$H$4,M8*TARIFS!$I$4))))))) -> 0 | O8: =H17 -> 0 | P8: =IF($F$2<351,O8*TARIFS!$B$4,IF($F$2<476,O8*TARIFS!$C$4,IF($F$2<581,O8*TARIFS!$D$4,IF($F$2<721,O8*TARIFS!$E$4,IF($F$2<901,O8*TARIFS!$F$4,IF($F$2<1201,O8*TARIFS!$G$4,IF($F$2<1501,O8*TARIFS!$H$4,O8*TARIFS!$I$4))))))) -> 0 | Q8: =H18 -> 0 | R8: =IF($F$2<351,Q8*TARIFS!$B$4,IF($F$2<476,Q8*TARIFS!$C$4,IF($F$2<581,Q8*TARIFS!$D$4,IF($F$2<721,Q8*TARIFS!$E$4,IF($F$2<901,Q8*TARIFS!$F$4,IF($F$2<1201,Q8*TARIFS!$G$4,IF($F$2<1501,Q8*TARIFS!$H$4,Q8*TARIFS!$I$4))))))) -> 0 | S8: =H19 -> 0 | T8: =IF($F$2<351,S8*TARIFS!$B$4,IF($F$2<476,S8*TARIFS!$C$4,IF($F$2<581,S8*TARIFS!$D$4,IF($F$2<721,S8*TARIFS!$E$4,IF($F$2<901,S8*TARIFS!$F$4,IF($F$2<1201,S8*TARIFS!$G$4,IF($F$2<1501,S8*TARIFS!$H$4,S8*TARIFS!$I$4))))))) -> 0
H9: =SUM(C9:G9) -> 0 | J9: semaine 3 | K9: =H23 -> 3 | L9: =IF($F$2<351,K9*TARIFS!$B$4,IF($F$2<476,K9*TARIFS!$C$4,IF($F$2<581,K9*TARIFS!$D$4,IF($F$2<721,K9*TARIFS!$E$4,IF($F$2<901,K9*TARIFS!$F$4,IF($F$2<1201,K9*TARIFS!$G$4,IF($F$2<1501,K9*TARIFS!$H$4,K9*TARIFS!$I$4))))))) -> 42.09 | M9: =H24 -> 0 | N9: =IF($F$2<351,M9*TARIFS!$B$4,IF($F$2<476,M9*TARIFS!$C$4,IF($F$2<581,M9*TARIFS!$D$4,IF($F$2<721,M9*TARIFS!$E$4,IF($F$2<901,M9*TARIFS!$F$4,IF($F$2<1201,M9*TARIFS!$G$4,IF($F$2<1501,M9*TARIFS!$H$4,M9*TARIFS!$I$4))))))) -> 0 | O9: =H25 -> 0 | P9: =IF($F$2<351,O9*TARIFS!$B$4,IF($F$2<476,O9*TARIFS!$C$4,IF($F$2<581,O9*TARIFS!$D$4,IF($F$2<721,O9*TARIFS!$E$4,IF($F$2<901,O9*TARIFS!$F$4,IF($F$2<1201,O9*TARIFS!$G$4,IF($F$2<1501,O9*TARIFS!$H$4,O9*TARIFS!$I$4))))))) -> 0 | Q9: =H26 -> 0 | R9: =IF($F$2<351,Q9*TARIFS!$B$4,IF($F$2<476,Q9*TARIFS!$C$4,IF($F$2<581,Q9*TARIFS!$D$4,IF($F$2<721,Q9*TARIFS!$E$4,IF($F$2<901,Q9*TARIFS!$F$4,IF($F$2<1201,Q9*TARIFS!$G$4,IF($F$2<1501,Q9*TARIFS!$H$4,Q9*TARIFS!$I$4))))))) -> 0 | S9: =H27 -> 0 | T9: =IF($F$2<351,S9*TARIFS!$B$4,IF($F$2<476,S9*TARIFS!$C$4,IF($F$2<581,S9*TARIFS!$D$4,IF($F$2<721,S9*TARIFS!$E$4,IF($F$2<901,S9*TARIFS!$F$4,IF($F$2<1201,S9*TARIFS!$G$4,IF($F$2<1501,S9*TARIFS!$H$4,S9*TARIFS!$I$4))))))) -> 0
H10: =SUM(C10:G10) -> 0 | J10: semaine 4 | K10: =H31 -> 0 | L10: =IF($F$2<351,K10*TARIFS!$B$4,IF($F$2<476,K10*TARIFS!$C$4,IF($F$2<581,K10*TARIFS!$D$4,IF($F$2<721,K10*TARIFS!$E$4,IF($F$2<901,K10*TARIFS!$F$4,IF($F$2<1201,K10*TARIFS!$G$4,IF($F$2<1501,K10*TARIFS!$H$4,K10*TARIFS!$I$4))))))) -> 0 | M10: =H32 -> 0 | N10: =IF($F$2<351,M10*TARIFS!$B$4,IF($F$2<476,M10*TARIFS!$C$4,IF($F$2<581,M10*TARIFS!$D$4,IF($F$2<721,M10*TARIFS!$E$4,IF($F$2<901,M10*TARIFS!$F$4,IF($F$2<1201,M10*TARIFS!$G$4,IF($F$2<1501,M10*TARIFS!$H$4,M10*TARIFS!$I$4))))))) -> 0 | O10: =H33 -> 0 | P10: =IF($F$2<351,O10*TARIFS!$B$4,IF($F$2<476,O10*TARIFS!$C$4,IF($F$2<581,O10*TARIFS!$D$4,IF($F$2<721,O10*TARIFS!$E$4,IF($F$2<901,O10*TARIFS!$F$4,IF($F$2<1201,O10*TARIFS!$G$4,IF($F$2<1501,O10*TARIFS!$H$4,O10*TARIFS!$I$4))))))) -> 0 | Q10: =H34 -> 0 | R10: =IF($F$2<351,Q10*TARIFS!$B$4,IF($F$2<476,Q10*TARIFS!$C$4,IF($F$2<581,Q10*TARIFS!$D$4,IF($F$2<721,Q10*TARIFS!$E$4,IF($F$2<901,Q10*TARIFS!$F$4,IF($F$2<1201,Q10*TARIFS!$G$4,IF($F$2<1501,Q10*TARIFS!$H$4,Q10*TARIFS!$I$4))))))) -> 0 | S10: =H35 -> 0 | T10: =IF($F$2<351,S10*TARIFS!$B$4,IF($F$2<476,S10*TARIFS!$C$4,IF($F$2<581,S10*TARIFS!$D$4,IF($F$2<721,S10*TARIFS!$E$4,IF($F$2<901,S10*TARIFS!$F$4,IF($F$2<1201,S10*TARIFS!$G$4,IF($F$2<1501,S10*TARIFS!$H$4,S10*TARIFS!$I$4))))))) -> 0
H11: =SUM(C11:G11) -> 0 | J11: TOTAL / enfant | K11: =SUM(K7:K10) -> 5 | L11: =K11*L7 -> 70.15 | M11: =SUM(M7:M10) -> 5 | N11: =M11*N7 -> 350.75 | O11: =SUM(O7:O10) -> 0 | P11: =O11*P7 -> 0 | Q11: =SUM(Q7:Q10) -> 0 | R11: =Q11*R7 -> 0 | S11: =SUM(S7:S10) -> 0 | T11: =S11*T7 -> 0
J12: TOTAL FAMILLE | K12: =L11+N11+P11+R11+T11 -> 420.9
A13: Nom | B13: Prénom | C13: Semaine 2 | H13: Total
C14: lundi | D14: mardi | E14: mercredi | F14: jeudi | G14: vendredi | J14: AIDES OBTENUES | N14: RESTE À CHARGE DE LA FAMILLE | O14: Mode de Règlement | P14: Date de règlement
G15: 1 | H15: =SUM(C15:G15) -> 1 | K15: montant | L15: nb de jours | M15: TOTAL | N15: Montant | O15: N° de chèque ou N° de reçu
H16: =SUM(C16:G16) -> 0 | J16: CAF | K16: =IF($F$2<351,TARIFS!B7,IF($F$2<476,TARIFS!C7,IF($F$2<581,TARIFS!D7,IF($F$2<721,TARIFS!E7,0)))) -> 0 | L16: =$K$11+$M$11+$O$11+$Q$11+$S$11 -> 10 | M16: =K16*L16 -> 0 | N16: =K12-M22 -> 381.616
H17: =SUM(C17:G17) -> 0 | J17: MSA | L17: =$K$11+$M$11+$O$11+$Q$11+$S$11 -> 10 | M17: =K17*L17 -> 0
H18: =SUM(C18:G18) -> 0 | J18: Employeur | L18: =$K$11+$M$11+$O$11+$Q$11+$S$11 -> 10 | M18: =K18*L18 -> 0
H19: =SUM(C19:G19) -> 0 | J19: ANCV | L19: =$K$11+$M$11+$O$11+$Q$11+$S$11 -> 10 | M19: =K19*L19 -> 0
J20: CCT | K20: =IF($F$2<351,TARIFS!B5,IF($F$2<476,TARIFS!C5,IF($F$2<581,TARIFS!D5,IF($F$2<721,TARIFS!E5,IF($F$2<901,TARIFS!F5,IF($F$2<1201,TARIFS!G5,IF($F$2<1501,TARIFS!H5,TARIFS!I5))))))) -> 3.9284 | L20: =$K$11+$M$11+$O$11+$Q$11+$S$11 -> 10 | M20: =K20*L20 -> 39.284
A21: Nom | B21: Prénom | C21: Semaine 3 | H21: Total | J21: Autres | L21: =$K$11+$M$11+$O$11+$Q$11+$S$11 -> 10 | M21: =K21*L21 -> 0
C22: lundi | D22: mardi | E22: mercredi | F22: jeudi | G22: vendredi | J22: TOTAL AIDES | M22: =SUM(M16:M21) -> 39.284
E23: 1 | F23: 1 | G23: 1 | H23: =SUM(C23:G23) -> 3
H24: =SUM(C24:G24) -> 0
H25: =SUM(C25:G25) -> 0
H26: =SUM(C26:G26) -> 0
H27: =SUM(C27:G27) -> 0
A29: Nom | B29: Prénom | C29: Semaine 4 | H29: Total
C30: lundi | D30: mardi | E30: mercredi | F30: jeudi | G30: vendredi
H31: =SUM(C31:G31) -> 0
H32: =SUM(C32:G32) -> 0
H33: =SUM(C33:G33) -> 0
H34: =SUM(C34:G34) -> 0
H35: =SUM(C35:G35) -> 0

Sheet BERTHIER
A1: NOM | B1: DATE | C1: TELEPHONE(S) | D1: ADRESSE | E1: N° allocataire | F1: QF | G1: Nombre Enfants
A2: BECKER Alexandre et MASQUET Valérie | B2: 40360 | C2: 0475062803 0621840024 | D2: Les vignes 07270Gilhoc Sur Ormèze | E2: 200510841 | F2: 1220 | G2: 1
A5: Nom | B5: Prénom | C5: Semaine 1 | H5: Total | K5: enfant 1 | M5: enfant 2 | O5: enfant 3 | Q5: enfant 4 | S5: enfant 5
C6: lundi | D6: mardi | E6: mercredi | F6: jeudi | G6: vendredi | K6: nb jours présences | L6: cout total | M6: nb jours présences | N6: cout total | O6: nb jours présences | P6: cout total | Q6: nb jours présences | R6: cout total | S6: nb jours présences | T6: cout total
G7: 1 | H7: =SUM(C7:G7) -> 1 | J7: semaine 1 | K7: =H7 -> 1 | L7: =IF($F$2<351,K7*TARIFS!$B$4,IF($F$2<476,K7*TARIFS!$C$4,IF($F$2<581,K7*TARIFS!$D$4,IF($F$2<721,K7*TARIFS!$E$4,IF($F$2<901,K7*TARIFS!$F$4,IF($F$2<1201,K7*TARIFS!$G$4,IF($F$2<1501,K7*TARIFS!$H$4,K7*TARIFS!$I$4))))))) -> 14.03 | M7: =H8 -> 5 | N7: =IF($F$2<351,M7*TARIFS!$B$4,IF($F$2<476,M7*TARIFS!$C$4,IF($F$2<581,M7*TARIFS!$D$4,IF($F$2<721,M7*TARIFS!$E$4,IF($F$2<901,M7*TARIFS!$F$4,IF($F$2<1201,M7*TARIFS!$G$4,IF($F$2<1501,M7*TARIFS!$H$4,M7*TARIFS!$I$4))))))) -> 70.15 | O7: =H9 -> 0 | P7: =IF($F$2<351,O7*TARIFS!$B$4,IF($F$2<476,O7*TARIFS!$C$4,IF($F$2<581,O7*TARIFS!$D$4,IF($F$2<721,O7*TARIFS!$E$4,IF($F$2<901,O7*TARIFS!$F$4,IF($F$2<1201,O7*TARIFS!$G$4,IF($F$2<1501,O7*TARIFS!$H$4,O7*TARIFS!$I$4))))))) -> 0 | Q7: =H10 -> 0 | R7: =IF($F$2<351,Q7*TARIFS!$B$4,IF($F$2<476,Q7*TARIFS!$C$4,IF($F$2<581,Q7*TARIFS!$D$4,IF($F$2<721,Q7*TARIFS!$E$4,IF($F$2<901,Q7*TARIFS!$F$4,IF($F$2<1201,Q7*TARIFS!$G$4,IF($F$2<1501,Q7*TARIFS!$H$4,Q7*TARIFS!$I$4))))))) -> 0 | S7: =H11 -> 0 | T7: =IF($F$2<351,S7*TARIFS!$B$4,IF($F$2<476,S7*TARIFS!$C$4,IF($F$2<581,S7*TARIFS!$D$4,IF($F$2<721,S7*TARIFS!$E$4,IF($F$2<901,S7*TARIFS!$F$4,IF($F$2<1201,S7*TARIFS!$G$4,IF($F$2<1501,S7*TARIFS!$H$4,S7*TARIFS!$I$4))))))) -> 0
C8: 1 | D8: 1 | E8: 1 | F8: 1 | G8: 1 | H8: =SUM(C8:G8) -> 5 | J8: semaine 2 | K8: =H15 -> 1 | L8: =IF($F$2<351,K8*TARIFS!$B$4,IF($F$2<476,K8*TARIFS!$C$4,IF($F$2<581,K8*TARIFS!$D$4,IF($F$2<721,K8*TARIFS!$E$4,IF($F$2<901,K8*TARIFS!$F$4,IF($F$2<1201,K8*TARIFS!$G$4,IF($F$2<1501,K8*TARIFS!$H$4,K8*TARIFS!$I$4))))))) -> 14.03 | M8: =H16 -> 0 | N8: =IF($F$2<351,M8*TARIFS!$B$4,IF($F$2<476,M8*TARIFS!$C$4,IF($F$2<581,M8*TARIFS!$D$4,IF($F$2<721,M8*TARIFS!$E$4,IF($F$2<901,M8*TARIFS!$F$4,IF($F$2<1201,M8*TARIFS!$G$4,IF($F$2<1501,M8*TARIFS!$H$4,M8*TARIFS!$I$4))))))) -> 0 | O8: =H17 -> 0 | P8: =IF($F$2<351,O8*TARIFS!$B$4,IF($F$2<476,O8*TARIFS!$C$4,IF($F$2<581,O8*TARIFS!$D$4,IF($F$2<721,O8*TARIFS!$E$4,IF($F$2<901,O8*TARIFS!$F$4,IF($F$2<1201,O8*TARIFS!$G$4,IF($F$2<1501,O8*TARIFS!$H$4,O8*TARIFS!$I$4))))))) -> 0 | Q8: =H18 -> 0 | R8: =IF($F$2<351,Q8*TARIFS!$B$4,IF($F$2<476,Q8*TARIFS!$C$4,IF($F$2<581,Q8*TARIFS!$D$4,IF($F$2<721,Q8*TARIFS!$E$4,IF($F$2<901,Q8*TARIFS!$F$4,IF($F$2<1201,Q8*TARIFS!$G$4,IF($F$2<1501,Q8*TARIFS!$H$4,Q8*TARIFS!$I$4))))))) -> 0 | S8: =H19 -> 0 | T8: =IF($F$2<351,S8*TARIFS!$B$4,IF($F$2<476,S8*TARIFS!$C$4,IF($F$2<581,S8*TARIFS!$D$4,IF($F$2<721,S8*TARIFS!$E$4,IF($F$2<901,S8*TARIFS!$F$4,IF($F$2<1201,S8*TARIFS!$G$4,IF($F$2<1501,S8*TARIFS!$H$4,S8*TARIFS!$I$4))))))) -> 0
H9: =SUM(C9:G9) -> 0 | J9: semaine 3 | K9: =H23 -> 3 | L9: =IF($F$2<351,K9*TARIFS!$B$4,IF($F$2<476,K9*TARIFS!$C$4,IF($F$2<581,K9*TARIFS!$D$4,IF($F$2<721,K9*TARIFS!$E$4,IF($F$2<901,K9*TARIFS!$F$4,IF($F$2<1201,K9*TARIFS!$G$4,IF($F$2<1501,K9*TARIFS!$H$4,K9*TARIFS!$I$4))))))) -> 42.09 | M9: =H24 -> 0 | N9: =IF($F$2<351,M9*TARIFS!$B$4,IF($F$2<476,M9*TARIFS!$C$4,IF($F$2<581,M9*TARIFS!$D$4,IF($F$2<721,M9*TARIFS!$E$4,IF($F$2<901,M9*TARIFS!$F$4,IF($F$2<1201,M9*TARIFS!$G$4,IF($F$2<1501,M9*TARIFS!$H$4,M9*TARIFS!$I$4))))))) -> 0 | O9: =H25 -> 0 | P9: =IF($F$2<351,O9*TARIFS!$B$4,IF($F$2<476,O9*TARIFS!$C$4,IF($F$2<581,O9*TARIFS!$D$4,IF($F$2<721,O9*TARIFS!$E$4,IF($F$2<901,O9*TARIFS!$F$4,IF($F$2<1201,O9*TARIFS!$G$4,IF($F$2<1501,O9*TARIFS!$H$4,O9*TARIFS!$I$4))))))) -> 0 | Q9: =H26 -> 0 | R9: =IF($F$2<351,Q9*TARIFS!$B$4,IF($F$2<476,Q9*TARIFS!$C$4,IF($F$2<581,Q9*TARIFS!$D$4,IF($F$2<721,Q9*TARIFS!$E$4,IF($F$2<901,Q9*TARIFS!$F$4,IF($F$2<1201,Q9*TARIFS!$G$4,IF($F$2<1501,Q9*TARIFS!$H$4,Q9*TARIFS!$I$4))))))) -> 0 | S9: =H27 -> 0 | T9: =IF($F$2<351,S9*TARIFS!$B$4,IF($F$2<476,S9*TARIFS!$C$4,IF($F$2<581,S9*TARIFS!$D$4,IF($F$2<721,S9*TARIFS!$E$4,IF($F$2<901,S9*TARIFS!$F$4,IF($F$2<1201,S9*TARIFS!$G$4,IF($F$2<1501,S9*TARIFS!$H$4,S9*TARIFS!$I$4))))))) -> 0
H10: =SUM(C10:G10) -> 0 | J10: semaine 4 | K10: =H31 -> 0 | L10: =IF($F$2<351,K10*TARIFS!$B$4,IF($F$2<476,K10*TARIFS!$C$4,IF($F$2<581,K10*TARIFS!$D$4,IF($F$2<721,K10*TARIFS!$E$4,IF($F$2<901,K10*TARIFS!$F$4,IF($F$2<1201,K10*TARIFS!$G$4,IF($F$2<1501,K10*TARIFS!$H$4,K10*TARIFS!$I$4))))))) -> 0 | M10: =H32 -> 0 | N10: =IF($F$2<351,M10*TARIFS!$B$4,IF($F$2<476,M10*TARIFS!$C$4,IF($F$2<581,M10*TARIFS!$D$4,IF($F$2<721,M10*TARIFS!$E$4,IF($F$2<901,M10*TARIFS!$F$4,IF($F$2<1201,M10*TARIFS!$G$4,IF($F$2<1501,M10*TARIFS!$H$4,M10*TARIFS!$I$4))))))) -> 0 | O10: =H33 -> 0 | P10: =IF($F$2<351,O10*TARIFS!$B$4,IF($F$2<476,O10*TARIFS!$C$4,IF($F$2<581,O10*TARIFS!$D$4,IF($F$2<721,O10*TARIFS!$E$4,IF($F$2<901,O10*TARIFS!$F$4,IF($F$2<1201,O10*TARIFS!$G$4,IF($F$2<1501,O10*TARIFS!$H$4,O10*TARIFS!$I$4))))))) -> 0 | Q10: =H34 -> 0 | R10: =IF($F$2<351,Q10*TARIFS!$B$4,IF($F$2<476,Q10*TARIFS!$C$4,IF($F$2<581,Q10*TARIFS!$D$4,IF($F$2<721,Q10*TARIFS!$E$4,IF($F$2<901,Q10*TARIFS!$F$4,IF($F$2<1201,Q10*TARIFS!$G$4,IF($F$2<1501,Q10*TARIFS!$H$4,Q10*TARIFS!$I$4))))))) -> 0 | S10: =H35 -> 0 | T10: =IF($F$2<351,S10*TARIFS!$B$4,IF($F$2<476,S10*TARIFS!$C$4,IF($F$2<581,S10*TARIFS!$D$4,IF($F$2<721,S10*TARIFS!$E$4,IF($F$2<901,S10*TARIFS!$F$4,IF($F$2<1201,S10*TARIFS!$G$4,IF($F$2<1501,S10*TARIFS!$H$4,S10*TARIFS!$I$4))))))) -> 0
H11: =SUM(C11:G11) -> 0 | J11: TOTAL / enfant | K11: =SUM(K7:K10) -> 5 | L11: =K11*L7 -> 70.15 | M11: =SUM(M7:M10) -> 5 | N11: =M11*N7 -> 350.75 | O11: =SUM(O7:O10) -> 0 | P11: =O11*P7 -> 0 | Q11: =SUM(Q7:Q10) -> 0 | R11: =Q11*R7 -> 0 | S11: =SUM(S7:S10) -> 0 | T11: =S11*T7 -> 0
J12: TOTAL FAMILLE | K12: =L11+N11+P11+R11+T11 -> 420.9
A13: Nom | B13: Prénom | C13: Semaine 2 | H13: Total
C14: lundi | D14: mardi | E14: mercredi | F14: jeudi | G14: vendredi | J14: AIDES OBTENUES | N14: RESTE À CHARGE DE LA FAMILLE | O14: Mode de Règlement | P14: Date de règlement
G15: 1 | H15: =SUM(C15:G15) -> 1 | K15: montant | L15: nb de jours | M15: TOTAL | N15: Montant | O15: N° de chèque ou N° de reçu
H16: =SUM(C16:G16) -> 0 | J16: CAF | K16: =IF($F$2<351,TARIFS!B7,IF($F$2<476,TARIFS!C7,IF($F$2<581,TARIFS!D7,IF($F$2<721,TARIFS!E7,0)))) -> 0 | L16: =$K$11+$M$11+$O$11+$Q$11+$S$11 -> 10 | M16: =K16*L16 -> 0 | N16: =K12-M22 -> 381.616
H17: =SUM(C17:G17) -> 0 | J17: MSA | L17: =$K$11+$M$11+$O$11+$Q$11+$S$11 -> 10 | M17: =K17*L17 -> 0
H18: =SUM(C18:G18) -> 0 | J18: Employeur | L18: =$K$11+$M$11+$O$11+$Q$11+$S$11 -> 10 | M18: =K18*L18 -> 0
H19: =SUM(C19:G19) -> 0 | J19: ANCV | L19: =$K$11+$M$11+$O$11+$Q$11+$S$11 -> 10 | M19: =K19*L19 -> 0
J20: CCT | K20: =IF($F$2<351,TARIFS!B5,IF($F$2<476,TARIFS!C5,IF($F$2<581,TARIFS!D5,IF($F$2<721,TARIFS!E5,IF($F$2<901,TARIFS!F5,IF($F$2<1201,TARIFS!G5,IF($F$2<1501,TARIFS!H5,TARIFS!I5))))))) -> 3.9284 | L20: =$K$11+$M$11+$O$11+$Q$11+$S$11 -> 10 | M20: =K20*L20 -> 39.284
A21: Nom | B21: Prénom | C21: Semaine 3 | H21: Total | J21: Autres | L21: =$K$11+$M$11+$O$11+$Q$11+$S$11 -> 10 | M21: =K21*L21 -> 0
C22: lundi | D22: mardi | E22: mercredi | F22: jeudi | G22: vendredi | J22: TOTAL AIDES | M22: =SUM(M16:M21) -> 39.284
E23: 1 | F23: 1 | G23: 1 | H23: =SUM(C23:G23) -> 3
H24: =SUM(C24:G24) -> 0
H25: =SUM(C25:G25) -> 0
H26: =SUM(C26:G26) -> 0
H27: =SUM(C27:G27) -> 0
A29: Nom | B29: Prénom | C29: Semaine 4 | H29: Total
C30: lundi | D30: mardi | E30: mercredi | F30: jeudi | G30: vendredi
H31: =SUM(C31:G31) -> 0
H32: =SUM(C32:G32) -> 0
H33: =SUM(C33:G33) -> 0
H34: =SUM(C34:G34) -> 0
H35: =SUM(C35:G35) -> 0

Sheet BILLON
A1: NOM | B1: DATE | C1: TELEPHONE(S) | D1: ADRESSE | E1: N° allocataire | F1: QF | G1: Nombre Enfants
A2: BECKER Alexandre et MASQUET Valérie | B2: 40360 | C2: 0475062803 0621840024 | D2: Les vignes 07270Gilhoc Sur Ormèze | E2: 200510841 | F2: 1220 | G2: 1
A5: Nom | B5: Prénom | C5: Semaine 1 | H5: Total | K5: enfant 1 | M5: enfant 2 | O5: enfant 3 | Q5: enfant 4 | S5: enfant 5
C6: lundi | D6: mardi | E6: mercredi | F6: jeudi | G6: vendredi | K6: nb jours présences | L6: cout total | M6: nb jours présences | N6: cout total | O6: nb jours présences | P6: cout total | Q6: nb jours présences | R6: cout total | S6: nb jours présences | T6: cout total
G7: 1 | H7: =SUM(C7:G7) -> 1 | J7: semaine 1 | K7: =H7 -> 1 | L7: =IF($F$2<351,K7*TARIFS!$B$4,IF($F$2<476,K7*TARIFS!$C$4,IF($F$2<581,K7*TARIFS!$D$4,IF($F$2<721,K7*TARIFS!$E$4,IF($F$2<901,K7*TARIFS!$F$4,IF($F$2<1201,K7*TARIFS!$G$4,IF($F$2<1501,K7*TARIFS!$H$4,K7*TARIFS!$I$4))))))) -> 14.03 | M7: =H8 -> 5 | N7: =IF($F$2<351,M7*TARIFS!$B$4,IF($F$2<476,M7*TARIFS!$C$4,IF($F$2<581,M7*TARIFS!$D$4,IF($F$2<721,M7*TARIFS!$E$4,IF($F$2<901,M7*TARIFS!$F$4,IF($F$2<1201,M7*TARIFS!$G$4,IF($F$2<1501,M7*TARIFS!$H$4,M7*TARIFS!$I$4))))))) -> 70.15 | O7: =H9 -> 0 | P7: =IF($F$2<351,O7*TARIFS!$B$4,IF($F$2<476,O7*TARIFS!$C$4,IF($F$2<581,O7*TARIFS!$D$4,IF($F$2<721,O7*TARIFS!$E$4,IF($F$2<901,O7*TARIFS!$F$4,IF($F$2<1201,O7*TARIFS!$G$4,IF($F$2<1501,O7*TARIFS!$H$4,O7*TARIFS!$I$4))))))) -> 0 | Q7: =H10 -> 0 | R7: =IF($F$2<351,Q7*TARIFS!$B$4,IF($F$2<476,Q7*TARIFS!$C$4,IF($F$2<581,Q7*TARIFS!$D$4,IF($F$2<721,Q7*TARIFS!$E$4,IF($F$2<901,Q7*TARIFS!$F$4,IF($F$2<1201,Q7*TARIFS!$G$4,IF($F$2<1501,Q7*TARIFS!$H$4,Q7*TARIFS!$I$4))))))) -> 0 | S7: =H11 -> 0 | T7: =IF($F$2<351,S7*TARIFS!$B$4,IF($F$2<476,S7*TARIFS!$C$4,IF($F$2<581,S7*TARIFS!$D$4,IF($F$2<721,S7*TARIFS!$E$4,IF($F$2<901,S7*TARIFS!$F$4,IF($F$2<1201,S7*TARIFS!$G$4,IF($F$2<1501,S7*TARIFS!$H$4,S7*TARIFS!$I$4))))))) -> 0
C8: 1 | D8: 1 | E8: 1 | F8: 1 | G8: 1 | H8: =SUM(C8:G8) -> 5 | J8: semaine 2 | K8: =H15 -> 1 | L8: =IF($F$2<351,K8*TARIFS!$B$4,IF($F$2<476,K8*TARIFS!$C$4,IF($F$2<581,K8*TARIFS!$D$4,IF($F$2<721,K8*TARIFS!$E$4,IF($F$2<901,K8*TARIFS!$F$4,IF($F$2<1201,K8*TARIFS!$G$4,IF($F$2<1501,K8*TARIFS!$H$4,K8*TARIFS!$I$4))))))) -> 14.03 | M8: =H16 -> 0 | N8: =IF($F$2<351,M8*TARIFS!$B$4,IF($F$2<476,M8*TARIFS!$C$4,IF($F$2<581,M8*TARIFS!$D$4,IF($F$2<721,M8*TARIFS!$E$4,IF($F$2<901,M8*TARIFS!$F$4,IF($F$2<1201,M8*TARIFS!$G$4,IF($F$2<1501,M8*TARIFS!$H$4,M8*TARIFS!$I$4))))))) -> 0 | O8: =H17 -> 0 | P8: =IF($F$2<351,O8*TARIFS!$B$4,IF($F$2<476,O8*TARIFS!$C$4,IF($F$2<581,O8*TARIFS!$D$4,IF($F$2<721,O8*TARIFS!$E$4,IF($F$2<901,O8*TARIFS!$F$4,IF($F$2<1201,O8*TARIFS!$G$4,IF($F$2<1501,O8*TARIFS!$H$4,O8*TARIFS!$I$4))))))) -> 0 | Q8: =H18 -> 0 | R8: =IF($F$2<351,Q8*TARIFS!$B$4,IF($F$2<476,Q8*TARIFS!$C$4,IF($F$2<581,Q8*TARIFS!$D$4,IF($F$2<721,Q8*TARIFS!$E$4,IF($F$2<901,Q8*TARIFS!$F$4,IF($F$2<1201,Q8*TARIFS!$G$4,IF($F$2<1501,Q8*TARIFS!$H$4,Q8*TARIFS!$I$4))))))) -> 0 | S8: =H19 -> 0 | T8: =IF($F$2<351,S8*TARIFS!$B$4,IF($F$2<476,S8*TARIFS!$C$4,IF($F$2<581,S8*TARIFS!$D$4,IF($F$2<721,S8*TARIFS!$E$4,IF($F$2<901,S8*TARIFS!$F$4,IF($F$2<1201,S8*TARIFS!$G$4,IF($F$2<1501,S8*TARIFS!$H$4,S8*TARIFS!$I$4))))))) -> 0
H9: =SUM(C9:G9) -> 0 | J9: semaine 3 | K9: =H23 -> 3 | L9: =IF($F$2<351,K9*TARIFS!$B$4,IF($F$2<476,K9*TARIFS!$C$4,IF($F$2<581,K9*TARIFS!$D$4,IF($F$2<721,K9*TARIFS!$E$4,IF($F$2<901,K9*TARIFS!$F$4,IF($F$2<1201,K9*TARIFS!$G$4,IF($F$2<1501,K9*TARIFS!$H$4,K9*TARIFS!$I$4))))))) -> 42.09 | M9: =H24 -> 0 | N9: =IF($F$2<351,M9*TARIFS!$B$4,IF($F$2<476,M9*TARIFS!$C$4,IF($F$2<581,M9*TARIFS!$D$4,IF($F$2<721,M9*TARIFS!$E$4,IF($F$2<901,M9*TARIFS!$F$4,IF($F$2<1201,M9*TARIFS!$G$4,IF($F$2<1501,M9*TARIFS!$H$4,M9*TARIFS!$I$4))))))) -> 0 | O9: =H25 -> 0 | P9: =IF($F$2<351,O9*TARIFS!$B$4,IF($F$2<476,O9*TARIFS!$C$4,IF($F$2<581,O9*TARIFS!$D$4,IF($F$2<721,O9*TARIFS!$E$4,IF($F$2<901,O9*TARIFS!$F$4,IF($F$2<1201,O9*TARIFS!$G$4,IF($F$2<1501,O9*TARIFS!$H$4,O9*TARIFS!$I$4))))))) -> 0 | Q9: =H26 -> 0 | R9: =IF($F$2<351,Q9*TARIFS!$B$4,IF($F$2<476,Q9*TARIFS!$C$4,IF($F$2<581,Q9*TARIFS!$D$4,IF($F$2<721,Q9*TARIFS!$E$4,IF($F$2<901,Q9*TARIFS!$F$4,IF($F$2<1201,Q9*TARIFS!$G$4,IF($F$2<1501,Q9*TARIFS!$H$4,Q9*TARIFS!$I$4))))))) -> 0 | S9: =H27 -> 0 | T9: =IF($F$2<351,S9*TARIFS!$B$4,IF($F$2<476,S9*TARIFS!$C$4,IF($F$2<581,S9*TARIFS!$D$4,IF($F$2<721,S9*TARIFS!$E$4,IF($F$2<901,S9*TARIFS!$F$4,IF($F$2<1201,S9*TARIFS!$G$4,IF($F$2<1501,S9*TARIFS!$H$4,S9*TARIFS!$I$4))))))) -> 0
H10: =SUM(C10:G10) -> 0 | J10: semaine 4 | K10: =H31 -> 0 | L10: =IF($F$2<351,K10*TARIFS!$B$4,IF($F$2<476,K10*TARIFS!$C$4,IF($F$2<581,K10*TARIFS!$D$4,IF($F$2<721,K10*TARIFS!$E$4,IF($F$2<901,K10*TARIFS!$F$4,IF($F$2<1201,K10*TARIFS!$G$4,IF($F$2<1501,K10*TARIFS!$H$4,K10*TARIFS!$I$4))))))) -> 0 | M10: =H32 -> 0 | N10: =IF($F$2<351,M10*TARIFS!$B$4,IF($F$2<476,M10*TARIFS!$C$4,IF($F$2<581,M10*TARIFS!$D$4,IF($F$2<721,M10*TARIFS!$E$4,IF($F$2<901,M10*TARIFS!$F$4,IF($F$2<1201,M10*TARIFS!$G$4,IF($F$2<1501,M10*TARIFS!$H$4,M10*TARIFS!$I$4))))))) -> 0 | O10: =H33 -> 0 | P10: =IF($F$2<351,O10*TARIFS!$B$4,IF($F$2<476,O10*TARIFS!$C$4,IF($F$2<581,O10*TARIFS!$D$4,IF($F$2<721,O10*TARIFS!$E$4,IF($F$2<901,O10*TARIFS!$F$4,IF($F$2<1201,O10*TARIFS!$G$4,IF($F$2<1501,O10*TARIFS!$H$4,O10*TARIFS!$I$4))))))) -> 0 | Q10: =H34 -> 0 | R10: =IF($F$2<351,Q10*TARIFS!$B$4,IF($F$2<476,Q10*TARIFS!$C$4,IF($F$2<581,Q10*TARIFS!$D$4,IF($F$2<721,Q10*TARIFS!$E$4,IF($F$2<901,Q10*TARIFS!$F$4,IF($F$2<1201,Q10*TARIFS!$G$4,IF($F$2<1501,Q10*TARIFS!$H$4,Q10*TARIFS!$I$4))))))) -> 0 | S10: =H35 -> 0 | T10: =IF($F$2<351,S10*TARIFS!$B$4,IF($F$2<476,S10*TARIFS!$C$4,IF($F$2<581,S10*TARIFS!$D$4,IF($F$2<721,S10*TARIFS!$E$4,IF($F$2<901,S10*TARIFS!$F$4,IF($F$2<1201,S10*TARIFS!$G$4,IF($F$2<1501,S10*TARIFS!$H$4,S10*TARIFS!$I$4))))))) -> 0
H11: =SUM(C11:G11) -> 0 | J11: TOTAL / enfant | K11: =SUM(K7:K10) -> 5 | L11: =K11*L7 -> 70.15 | M11: =SUM(M7:M10) -> 5 | N11: =M11*N7 -> 350.75 | O11: =SUM(O7:O10) -> 0 | P11: =O11*P7 -> 0 | Q11: =SUM(Q7:Q10) -> 0 | R11: =Q11*R7 -> 0 | S11: =SUM(S7:S10) -> 0 | T11: =S11*T7 -> 0
J12: TOTAL FAMILLE | K12: =L11+N11+P11+R11+T11 -> 420.9
A13: Nom | B13: Prénom | C13: Semaine 2 | H13: Total
C14: lundi | D14: mardi | E14: mercredi | F14: jeudi | G14: vendredi | J14: AIDES OBTENUES | N14: RESTE À CHARGE DE LA FAMILLE | O14: Mode de Règlement | P14: Date de règlement
G15: 1 | H15: =SUM(C15:G15) -> 1 | K15: montant | L15: nb de jours | M15: TOTAL | N15: Montant | O15: N° de chèque ou N° de reçu
H16: =SUM(C16:G16) -> 0 | J16: CAF | K16: =IF($F$2<351,TARIFS!B7,IF($F$2<476,TARIFS!C7,IF($F$2<581,TARIFS!D7,IF($F$2<721,TARIFS!E7,0)))) -> 0 | L16: =$K$11+$M$11+$O$11+$Q$11+$S$11 -> 10 | M16: =K16*L16 -> 0 | N16: =K12-M22 -> 381.616
H17: =SUM(C17:G17) -> 0 | J17: MSA | L17: =$K$11+$M$11+$O$11+$Q$11+$S$11 -> 10 | M17: =K17*L17 -> 0
H18: =SUM(C18:G18) -> 0 | J18: Employeur | L18: =$K$11+$M$11+$O$11+$Q$11+$S$11 -> 10 | M18: =K18*L18 -> 0
H19: =SUM(C19:G19) -> 0 | J19: ANCV | L19: =$K$11+$M$11+$O$11+$Q$11+$S$11 -> 10 | M19: =K19*L19 -> 0
J20: CCT | K20: =IF($F$2<351,TARIFS!B5,IF($F$2<476,TARIFS!C5,IF($F$2<581,TARIFS!D5,IF($F$2<721,TARIFS!E5,IF($F$2<901,TARIFS!F5,IF($F$2<1201,TARIFS!G5,IF($F$2<1501,TARIFS!H5,TARIFS!I5))))))) -> 3.9284 | L20: =$K$11+$M$11+$O$11+$Q$11+$S$11 -> 10 | M20: =K20*L20 -> 39.284
A21: Nom | B21: Prénom | C21: Semaine 3 | H21: Total | J21: Autres | L21: =$K$11+$M$11+$O$11+$Q$11+$S$11 -> 10 | M21: =K21*L21 -> 0
C22: lundi | D22: mardi | E22: mercredi | F22: jeudi | G22: vendredi | J22: TOTAL AIDES | M22: =SUM(M16:M21) -> 39.284
E23: 1 | F23: 1 | G23: 1 | H23: =SUM(C23:G23) -> 3
H24: =SUM(C24:G24) -> 0
H25: =SUM(C25:G25) -> 0
H26: =SUM(C26:G26) -> 0
H27: =SUM(C27:G27) -> 0
A29: Nom | B29: Prénom | C29: Semaine 4 | H29: Total
C30: lundi | D30: mardi | E30: mercredi | F30: jeudi | G30: vendredi
H31: =SUM(C31:G31) -> 0
H32: =SUM(C32:G32) -> 0
H33: =SUM(C33:G33) -> 0
H34: =SUM(C34:G34) -> 0
H35: =SUM(C35:G35) -> 0

Sheet GRANGIER
A1: NOM | B1: DATE | C1: TELEPHONE(S) | D1: ADRESSE | E1: N° allocataire | F1: QF | G1: Nombre Enfants
A2: BECKER Alexandre et MASQUET Valérie | B2: 40360 | C2: 0475062803 0621840024 | D2: Les vignes 07270Gilhoc Sur Ormèze | E2: 200510841 | F2: 1220 | G2: 1
A5: Nom | B5: Prénom | C5: Semaine 1 | H5: Total | K5: enfant 1 | M5: enfant 2 | O5: enfant 3 | Q5: enfant 4 | S5: enfant 5
C6: lundi | D6: mardi | E6: mercredi | F6: jeudi | G6: vendredi | K6: nb jours présences | L6: cout total | M6: nb jours présences | N6: cout total | O6: nb jours présences | P6: cout total | Q6: nb jours présences | R6: cout total | S6: nb jours présences | T6: cout total
G7: 1 | H7: =SUM(C7:G7) -> 1 | J7: semaine 1 | K7: =H7 -> 1 | L7: =IF($F$2<351,K7*TARIFS!$B$4,IF($F$2<476,K7*TARIFS!$C$4,IF($F$2<581,K7*TARIFS!$D$4,IF($F$2<721,K7*TARIFS!$E$4,IF($F$2<901,K7*TARIFS!$F$4,IF($F$2<1201,K7*TARIFS!$G$4,IF($F$2<1501,K7*TARIFS!$H$4,K7*TARIFS!$I$4))))))) -> 14.03 | M7: =H8 -> 5 | N7: =IF($F$2<351,M7*TARIFS!$B$4,IF($F$2<476,M7*TARIFS!$C$4,IF($F$2<581,M7*TARIFS!$D$4,IF($F$2<721,M7*TARIFS!$E$4,IF($F$2<901,M7*TARIFS!$F$4,IF($F$2<1201,M7*TARIFS!$G$4,IF($F$2<1501,M7*TARIFS!$H$4,M7*TARIFS!$I$4))))))) -> 70.15 | O7: =H9 -> 0 | P7: =IF($F$2<351,O7*TARIFS!$B$4,IF($F$2<476,O7*TARIFS!$C$4,IF($F$2<581,O7*TARIFS!$D$4,IF($F$2<721,O7*TARIFS!$E$4,IF($F$2<901,O7*TARIFS!$F$4,IF($F$2<1201,O7*TARIFS!$G$4,IF($F$2<1501,O7*TARIFS!$H$4,O7*TARIFS!$I$4))))))) -> 0 | Q7: =H10 -> 0 | R7: =IF($F$2<351,Q7*TARIFS!$B$4,IF($F$2<476,Q7*TARIFS!$C$4,IF($F$2<581,Q7*TARIFS!$D$4,IF($F$2<721,Q7*TARIFS!$E$4,IF($F$2<901,Q7*TARIFS!$F$4,IF($F$2<1201,Q7*TARIFS!$G$4,IF($F$2<1501,Q7*TARIFS!$H$4,Q7*TARIFS!$I$4))))))) -> 0 | S7: =H11 -> 0 | T7: =IF($F$2<351,S7*TARIFS!$B$4,IF($F$2<476,S7*TARIFS!$C$4,IF($F$2<581,S7*TARIFS!$D$4,IF($F$2<721,S7*TARIFS!$E$4,IF($F$2<901,S7*TARIFS!$F$4,IF($F$2<1201,S7*TARIFS!$G$4,IF($F$2<1501,S7*TARIFS!$H$4,S7*TARIFS!$I$4))))))) -> 0
C8: 1 | D8: 1 | E8: 1 | F8: 1 | G8: 1 | H8: =SUM(C8:G8) -> 5 | J8: semaine 2 | K8: =H15 -> 1 | L8: =IF($F$2<351,K8*TARIFS!$B$4,IF($F$2<476,K8*TARIFS!$C$4,IF($F$2<581,K8*TARIFS!$D$4,IF($F$2<721,K8*TARIFS!$E$4,IF($F$2<901,K8*TARIFS!$F$4,IF($F$2<1201,K8*TARIFS!$G$4,IF($F$2<1501,K8*TARIFS!$H$4,K8*TARIFS!$I$4))))))) -> 14.03 | M8: =H16 -> 0 | N8: =IF($F$2<351,M8*TARIFS!$B$4,IF($F$2<476,M8*TARIFS!$C$4,IF($F$2<581,M8*TARIFS!$D$4,IF($F$2<721,M8*TARIFS!$E$4,IF($F$2<901,M8*TARIFS!$F$4,IF($F$2<1201,M8*TARIFS!$G$4,IF($F$2<1501,M8*TARIFS!$H$4,M8*TARIFS!$I$4))))))) -> 0 | O8: =H17 -> 0 | P8: =IF($F$2<351,O8*TARIFS!$B$4,IF($F$2<476,O8*TARIFS!$C$4,IF($F$2<581,O8*TARIFS!$D$4,IF($F$2<721,O8*TARIFS!$E$4,IF($F$2<901,O8*TARIFS!$F$4,IF($F$2<1201,O8*TARIFS!$G$4,IF($F$2<1501,O8*TARIFS!$H$4,O8*TARIFS!$I$4))))))) -> 0 | Q8: =H18 -> 0 | R8: =IF($F$2<351,Q8*TARIFS!$B$4,IF($F$2<476,Q8*TARIFS!$C$4,IF($F$2<581,Q8*TARIFS!$D$4,IF($F$2<721,Q8*TARIFS!$E$4,IF($F$2<901,Q8*TARIFS!$F$4,IF($F$2<1201,Q8*TARIFS!$G$4,IF($F$2<1501,Q8*TARIFS!$H$4,Q8*TARIFS!$I$4))))))) -> 0 | S8: =H19 -> 0 | T8: =IF($F$2<351,S8*TARIFS!$B$4,IF($F$2<476,S8*TARIFS!$C$4,IF($F$2<581,S8*TARIFS!$D$4,IF($F$2<721,S8*TARIFS!$E$4,IF($F$2<901,S8*TARIFS!$F$4,IF($F$2<1201,S8*TARIFS!$G$4,IF($F$2<1501,S8*TARIFS!$H$4,S8*TARIFS!$I$4))))))) -> 0
H9: =SUM(C9:G9) -> 0 | J9: semaine 3 | K9: =H23 -> 3 | L9: =IF($F$2<351,K9*TARIFS!$B$4,IF($F$2<476,K9*TARIFS!$C$4,IF($F$2<581,K9*TARIFS!$D$4,IF($F$2<721,K9*TARIFS!$E$4,IF($F$2<901,K9*TARIFS!$F$4,IF($F$2<1201,K9*TARIFS!$G$4,IF($F$2<1501,K9*TARIFS!$H$4,K9*TARIFS!$I$4))))))) -> 42.09 | M9: =H24 -> 0 | N9: =IF($F$2<351,M9*TARIFS!$B$4,IF($F$2<476,M9*TARIFS!$C$4,IF($F$2<581,M9*TARIFS!$D$4,IF($F$2<721,M9*TARIFS!$E$4,IF($F$2<901,M9*TARIFS!$F$4,IF($F$2<1201,M9*TARIFS!$G$4,IF($F$2<1501,M9*TARIFS!$H$4,M9*TARIFS!$I$4))))))) -> 0 | O9: =H25 -> 0 | P9: =IF($F$2<351,O9*TARIFS!$B$4,IF($F$2<476,O9*TARIFS!$C$4,IF($F$2<581,O9*TARIFS!$D$4,IF($F$2<721,O9*TARIFS!$E$4,IF($F$2<901,O9*TARIFS!$F$4,IF($F$2<1201,O9*TARIFS!$G$4,IF($F$2<1501,O9*TARIFS!$H$4,O9*TARIFS!$I$4))))))) -> 0 | Q9: =H26 -> 0 | R9: =IF($F$2<351,Q9*TARIFS!$B$4,IF($F$2<476,Q9*TARIFS!$C$4,IF($F$2<581,Q9*TARIFS!$D$4,IF($F$2<721,Q9*TARIFS!$E$4,IF($F$2<901,Q9*TARIFS!$F$4,IF($F$2<1201,Q9*TARIFS!$G$4,IF($F$2<1501,Q9*TARIFS!$H$4,Q9*TARIFS!$I$4))))))) -> 0 | S9: =H27 -> 0 | T9: =IF($F$2<351,S9*TARIFS!$B$4,IF($F$2<476,S9*TARIFS!$C$4,IF($F$2<581,S9*TARIFS!$D$4,IF($F$2<721,S9*TARIFS!$E$4,IF($F$2<901,S9*TARIFS!$F$4,IF($F$2<1201,S9*TARIFS!$G$4,IF($F$2<1501,S9*TARIFS!$H$4,S9*TARIFS!$I$4))))))) -> 0
H10: =SUM(C10:G10) -> 0 | J10: semaine 4 | K10: =H31 -> 0 | L10: =IF($F$2<351,K10*TARIFS!$B$4,IF($F$2<476,K10*TARIFS!$C$4,IF($F$2<581,K10*TARIFS!$D$4,IF($F$2<721,K10*TARIFS!$E$4,IF($F$2<901,K10*TARIFS!$F$4,IF($F$2<1201,K10*TARIFS!$G$4,IF($F$2<1501,K10*TARIFS!$H$4,K10*TARIFS!$I$4))))))) -> 0 | M10: =H32 -> 0 | N10: =IF($F$2<351,M10*TARIFS!$B$4,IF($F$2<476,M10*TARIFS!$C$4,IF($F$2<581,M10*TARIFS!$D$4,IF($F$2<721,M10*TARIFS!$E$4,IF($F$2<901,M10*TARIFS!$F$4,IF($F$2<1201,M10*TARIFS!$G$4,IF($F$2<1501,M10*TARIFS!$H$4,M10*TARIFS!$I$4))))))) -> 0 | O10: =H33 -> 0 | P10: =IF($F$2<351,O10*TARIFS!$B$4,IF($F$2<476,O10*TARIFS!$C$4,IF($F$2<581,O10*TARIFS!$D$4,IF($F$2<721,O10*TARIFS!$E$4,IF($F$2<901,O10*TARIFS!$F$4,IF($F$2<1201,O10*TARIFS!$G$4,IF($F$2<1501,O10*TARIFS!$H$4,O10*TARIFS!$I$4))))))) -> 0 | Q10: =H34 -> 0 | R10: =IF($F$2<351,Q10*TARIFS!$B$4,IF($F$2<476,Q10*TARIFS!$C$4,IF($F$2<581,Q10*TARIFS!$D$4,IF($F$2<721,Q10*TARIFS!$E$4,IF($F$2<901,Q10*TARIFS!$F$4,IF($F$2<1201,Q10*TARIFS!$G$4,IF($F$2<1501,Q10*TARIFS!$H$4,Q10*TARIFS!$I$4))))))) -> 0 | S10: =H35 -> 0 | T10: =IF($F$2<351,S10*TARIFS!$B$4,IF($F$2<476,S10*TARIFS!$C$4,IF($F$2<581,S10*TARIFS!$D$4,IF($F$2<721,S10*TARIFS!$E$4,IF($F$2<901,S10*TARIFS!$F$4,IF($F$2<1201,S10*TARIFS!$G$4,IF($F$2<1501,S10*TARIFS!$H$4,S10*TARIFS!$I$4))))))) -> 0
H11: =SUM(C11:G11) -> 0 | J11: TOTAL / enfant | K11: =SUM(K7:K10) -> 5 | L11: =K11*L7 -> 70.15 | M11: =SUM(M7:M10) -> 5 | N11: =M11*N7 -> 350.75 | O11: =SUM(O7:O10) -> 0 | P11: =O11*P7 -> 0 | Q11: =SUM(Q7:Q10) -> 0 | R11: =Q11*R7 -> 0 | S11: =SUM(S7:S10) -> 0 | T11: =S11*T7 -> 0
J12: TOTAL FAMILLE | K12: =L11+N11+P11+R11+T11 -> 420.9
A13: Nom | B13: Prénom | C13: Semaine 2 | H13: Total
C14: lundi | D14: mardi | E14: mercredi | F14: jeudi | G14: vendredi | J14: AIDES OBTENUES | N14: RESTE À CHARGE DE LA FAMILLE | O14: Mode de Règlement | P14: Date de règlement
G15: 1 | H15: =SUM(C15:G15) -> 1 | K15: montant | L15: nb de jours | M15: TOTAL | N15: Montant | O15: N° de chèque ou N° de reçu
H16: =SUM(C16:G16) -> 0 | J16: CAF | K16: =IF($F$2<351,TARIFS!B7,IF($F$2<476,TARIFS!C7,IF($F$2<581,TARIFS!D7,IF($F$2<721,TARIFS!E7,0)))) -> 0 | L16: =$K$11+$M$11+$O$11+$Q$11+$S$11 -> 10 | M16: =K16*L16 -> 0 | N16: =K12-M22 -> 381.616
H17: =SUM(C17:G17) -> 0 | J17: MSA | L17: =$K$11+$M$11+$O$11+$Q$11+$S$11 -> 10 | M17: =K17*L17 -> 0
H18: =SUM(C18:G18) -> 0 | J18: Employeur | L18: =$K$11+$M$11+$O$11+$Q$11+$S$11 -> 10 | M18: =K18*L18 -> 0
H19: =SUM(C19:G19) -> 0 | J19: ANCV | L19: =$K$11+$M$11+$O$11+$Q$11+$S$11 -> 10 | M19: =K19*L19 -> 0
J20: CCT | K20: =IF($F$2<351,TARIFS!B5,IF($F$2<476,TARIFS!C5,IF($F$2<581,TARIFS!D5,IF($F$2<721,TARIFS!E5,IF($F$2<901,TARIFS!F5,IF($F$2<1201,TARIFS!G5,IF($F$2<1501,TARIFS!H5,TARIFS!I5))))))) -> 3.9284 | L20: =$K$11+$M$11+$O$11+$Q$11+$S$11 -> 10 | M20: =K20*L20 -> 39.284
A21: Nom | B21: Prénom | C21: Semaine 3 | H21: Total | J21: Autres | L21: =$K$11+$M$11+$O$11+$Q$11+$S$11 -> 10 | M21: =K21*L21 -> 0
C22: lundi | D22: mardi | E22: mercredi | F22: jeudi | G22: vendredi | J22: TOTAL AIDES | M22: =SUM(M16:M21) -> 39.284
E23: 1 | F23: 1 | G23: 1 | H23: =SUM(C23:G23) -> 3
H24: =SUM(C24:G24) -> 0
H25: =SUM(C25:G25) -> 0
H26: =SUM(C26:G26) -> 0
H27: =SUM(C27:G27) -> 0
A29: Nom | B29: Prénom | C29: Semaine 4 | H29: Total
C30: lundi | D30: mardi | E30: mercredi | F30: jeudi | G30: vendredi
H31: =SUM(C31:G31) -> 0
H32: =SUM(C32:G32) -> 0
H33: =SUM(C33:G33) -> 0
H34: =SUM(C34:G34) -> 0
H35: =SUM(C35:G35) -> 0

Sheet Feuil15
A1: NOM | B1: DATE | C1: TELEPHONE(S) | D1: ADRESSE | E1: N° allocataire | F1: QF | G1: Nombre Enfants
A2: BECKER Alexandre et MASQUET Valérie | B2: 40360 | C2: 0475062803 0621840024 | D2: Les vignes 07270Gilhoc Sur Ormèze | E2: 200510841 | F2: 1220 | G2: 1
A5: Nom | B5: Prénom | C5: Semaine 1 | H5: Total | K5: enfant 1 | M5: enfant 2 | O5: enfant 3 | Q5: enfant 4 | S5: enfant 5
C6: lundi | D6: mardi | E6: mercredi | F6: jeudi | G6: vendredi | K6: nb jours présences | L6: cout total | M6: nb jours présences | N6: cout total | O6: nb jours présences | P6: cout total | Q6: nb jours présences | R6: cout total | S6: nb jours présences | T6: cout total
G7: 1 | H7: =SUM(C7:G7) -> 1 | J7: semaine 1 | K7: =H7 -> 1 | L7: =IF($F$2<351,K7*TARIFS!$B$4,IF($F$2<476,K7*TARIFS!$C$4,IF($F$2<581,K7*TARIFS!$D$4,IF($F$2<721,K7*TARIFS!$E$4,IF($F$2<901,K7*TARIFS!$F$4,IF($F$2<1201,K7*TARIFS!$G$4,IF($F$2<1501,K7*TARIFS!$H$4,K7*TARIFS!$I$4))))))) -> 14.03 | M7: =H8 -> 5 | N7: =IF($F$2<351,M7*TARIFS!$B$4,IF($F$2<476,M7*TARIFS!$C$4,IF($F$2<581,M7*TARIFS!$D$4,IF($F$2<721,M7*TARIFS!$E$4,IF($F$2<901,M7*TARIFS!$F$4,IF($F$2<1201,M7*TARIFS!$G$4,IF($F$2<1501,M7*TARIFS!$H$4,M7*TARIFS!$I$4))))))) -> 70.15 | O7: =H9 -> 0 | P7: =IF($F$2<351,O7*TARIFS!$B$4,IF($F$2<476,O7*TARIFS!$C$4,IF($F$2<581,O7*TARIFS!$D$4,IF($F$2<721,O7*TARIFS!$E$4,IF($F$2<901,O7*TARIFS!$F$4,IF($F$2<1201,O7*TARIFS!$G$4,IF($F$2<1501,O7*TARIFS!$H$4,O7*TARIFS!$I$4))))))) -> 0 | Q7: =H10 -> 0 | R7: =IF($F$2<351,Q7*TARIFS!$B$4,IF($F$2<476,Q7*TARIFS!$C$4,IF($F$2<581,Q7*TARIFS!$D$4,IF($F$2<721,Q7*TARIFS!$E$4,IF($F$2<901,Q7*TARIFS!$F$4,IF($F$2<1201,Q7*TARIFS!$G$4,IF($F$2<1501,Q7*TARIFS!$H$4,Q7*TARIFS!$I$4))))))) -> 0 | S7: =H11 -> 0 | T7: =IF($F$2<351,S7*TARIFS!$B$4,IF($F$2<476,S7*TARIFS!$C$4,IF($F$2<581,S7*TARIFS!$D$4,IF($F$2<721,S7*TARIFS!$E$4,IF($F$2<901,S7*TARIFS!$F$4,IF($F$2<1201,S7*TARIFS!$G$4,IF($F$2<1501,S7*TARIFS!$H$4,S7*TARIFS!$I$4))))))) -> 0
C8: 1 | D8: 1 | E8: 1 | F8: 1 | G8: 1 | H8: =SUM(C8:G8) -> 5 | J8: semaine 2 | K8: =H15 -> 1 | L8: =IF($F$2<351,K8*TARIFS!$B$4,IF($F$2<476,K8*TARIFS!$C$4,IF($F$2<581,K8*TARIFS!$D$4,IF($F$2<721,K8*TARIFS!$E$4,IF($F$2<901,K8*TARIFS!$F$4,IF($F$2<1201,K8*TARIFS!$G$4,IF($F$2<1501,K8*TARIFS!$H$4,K8*TARIFS!$I$4))))))) -> 14.03 | M8: =H16 -> 0 | N8: =IF($F$2<351,M8*TARIFS!$B$4,IF($F$2<476,M8*TARIFS!$C$4,IF($F$2<581,M8*TARIFS!$D$4,IF($F$2<721,M8*TARIFS!$E$4,IF($F$2<901,M8*TARIFS!$F$4,IF($F$2<1201,M8*TARIFS!$G$4,IF($F$2<1501,M8*TARIFS!$H$4,M8*TARIFS!$I$4))))))) -> 0 | O8: =H17 -> 0 | P8: =IF($F$2<351,O8*TARIFS!$B$4,IF($F$2<476,O8*TARIFS!$C$4,IF($F$2<581,O8*TARIFS!$D$4,IF($F$2<721,O8*TARIFS!$E$4,IF($F$2<901,O8*TARIFS!$F$4,IF($F$2<1201,O8*TARIFS!$G$4,IF($F$2<1501,O8*TARIFS!$H$4,O8*TARIFS!$I$4))))))) -> 0 | Q8: =H18 -> 0 | R8: =IF($F$2<351,Q8*TARIFS!$B$4,IF($F$2<476,Q8*TARIFS!$C$4,IF($F$2<581,Q8*TARIFS!$D$4,IF($F$2<721,Q8*TARIFS!$E$4,IF($F$2<901,Q8*TARIFS!$F$4,IF($F$2<1201,Q8*TARIFS!$G$4,IF($F$2<1501,Q8*TARIFS!$H$4,Q8*TARIFS!$I$4))))))) -> 0 | S8: =H19 -> 0 | T8: =IF($F$2<351,S8*TARIFS!$B$4,IF($F$2<476,S8*TARIFS!$C$4,IF($F$2<581,S8*TARIFS!$D$4,IF($F$2<721,S8*TARIFS!$E$4,IF($F$2<901,S8*TARIFS!$F$4,IF($F$2<1201,S8*TARIFS!$G$4,IF($F$2<1501,S8*TARIFS!$H$4,S8*TARIFS!$I$4))))))) -> 0
H9: =SUM(C9:G9) -> 0 | J9: semaine 3 | K9: =H23 -> 3 | L9: =IF($F$2<351,K9*TARIFS!$B$4,IF($F$2<476,K9*TARIFS!$C$4,IF($F$2<581,K9*TARIFS!$D$4,IF($F$2<721,K9*TARIFS!$E$4,IF($F$2<901,K9*TARIFS!$F$4,IF($F$2<1201,K9*TARIFS!$G$4,IF($F$2<1501,K9*TARIFS!$H$4,K9*TARIFS!$I$4))))))) -> 42.09 | M9: =H24 -> 0 | N9: =IF($F$2<351,M9*TARIFS!$B$4,IF($F$2<476,M9*TARIFS!$C$4,IF($F$2<581,M9*TARIFS!$D$4,IF($F$2<721,M9*TARIFS!$E$4,IF($F$2<901,M9*TARIFS!$F$4,IF($F$2<1201,M9*TARIFS!$G$4,IF($F$2<1501,M9*TARIFS!$H$4,M9*TARIFS!$I$4))))))) -> 0 | O9: =H25 -> 0 | P9: =IF($F$2<351,O9*TARIFS!$B$4,IF($F$2<476,O9*TARIFS!$C$4,IF($F$2<581,O9*TARIFS!$D$4,IF($F$2<721,O9*TARIFS!$E$4,IF($F$2<901,O9*TARIFS!$F$4,IF($F$2<1201,O9*TARIFS!$G$4,IF($F$2<1501,O9*TARIFS!$H$4,O9*TARIFS!$I$4))))))) -> 0 | Q9: =H26 -> 0 | R9: =IF($F$2<351,Q9*TARIFS!$B$4,IF($F$2<476,Q9*TARIFS!$C$4,IF($F$2<581,Q9*TARIFS!$D$4,IF($F$2<721,Q9*TARIFS!$E$4,IF($F$2<901,Q9*TARIFS!$F$4,IF($F$2<1201,Q9*TARIFS!$G$4,IF($F$2<1501,Q9*TARIFS!$H$4,Q9*TARIFS!$I$4))))))) -> 0 | S9: =H27 -> 0 | T9: =IF($F$2<351,S9*TARIFS!$B$4,IF($F$2<476,S9*TARIFS!$C$4,IF($F$2<581,S9*TARIFS!$D$4,IF($F$2<721,S9*TARIFS!$E$4,IF($F$2<901,S9*TARIFS!$F$4,IF($F$2<1201,S9*TARIFS!$G$4,IF($F$2<1501,S9*TARIFS!$H$4,S9*TARIFS!$I$4))))))) -> 0
H10: =SUM(C10:G10) -> 0 | J10: semaine 4 | K10: =H31 -> 0 | L10: =IF($F$2<351,K10*TARIFS!$B$4,IF($F$2<476,K10*TARIFS!$C$4,IF($F$2<581,K10*TARIFS!$D$4,IF($F$2<721,K10*TARIFS!$E$4,IF($F$2<901,K10*TARIFS!$F$4,IF($F$2<1201,K10*TARIFS!$G$4,IF($F$2<1501,K10*TARIFS!$H$4,K10*TARIFS!$I$4))))))) -> 0 | M10: =H32 -> 0 | N10: =IF($F$2<351,M10*TARIFS!$B$4,IF($F$2<476,M10*TARIFS!$C$4,IF($F$2<581,M10*TARIFS!$D$4,IF($F$2<721,M10*TARIFS!$E$4,IF($F$2<901,M10*TARIFS!$F$4,IF($F$2<1201,M10*TARIFS!$G$4,IF($F$2<1501,M10*TARIFS!$H$4,M10*TARIFS!$I$4))))))) -> 0 | O10: =H33 -> 0 | P10: =IF($F$2<351,O10*TARIFS!$B$4,IF($F$2<476,O10*TARIFS!$C$4,IF($F$2<581,O10*TARIFS!$D$4,IF($F$2<721,O10*TARIFS!$E$4,IF($F$2<901,O10*TARIFS!$F$4,IF($F$2<1201,O10*TARIFS!$G$4,IF($F$2<1501,O10*TARIFS!$H$4,O10*TARIFS!$I$4))))))) -> 0 | Q10: =H34 -> 0 | R10: =IF($F$2<351,Q10*TARIFS!$B$4,IF($F$2<476,Q10*TARIFS!$C$4,IF($F$2<581,Q10*TARIFS!$D$4,IF($F$2<721,Q10*TARIFS!$E$4,IF($F$2<901,Q10*TARIFS!$F$4,IF($F$2<1201,Q10*TARIFS!$G$4,IF($F$2<1501,Q10*TARIFS!$H$4,Q10*TARIFS!$I$4))))))) -> 0 | S10: =H35 -> 0 | T10: =IF($F$2<351,S10*TARIFS!$B$4,IF($F$2<476,S10*TARIFS!$C$4,IF($F$2<581,S10*TARIFS!$D$4,IF($F$2<721,S10*TARIFS!$E$4,IF($F$2<901,S10*TARIFS!$F$4,IF($F$2<1201,S10*TARIFS!$G$4,IF($F$2<1501,S10*TARIFS!$H$4,S10*TARIFS!$I$4))))))) -> 0
H11: =SUM(C11:G11) -> 0 | J11: TOTAL / enfant | K11: =SUM(K7:K10) -> 5 | L11: =K11*L7 -> 70.15 | M11: =SUM(M7:M10) -> 5 | N11: =M11*N7 -> 350.75 | O11: =SUM(O7:O10) -> 0 | P11: =O11*P7 -> 0 | Q11: =SUM(Q7:Q10) -> 0 | R11: =Q11*R7 -> 0 | S11: =SUM(S7:S10) -> 0 | T11: =S11*T7 -> 0
J12: TOTAL FAMILLE | K12: =L11+N11+P11+R11+T11 -> 420.9
A13: Nom | B13: Prénom | C13: Semaine 2 | H13: Total
C14: lundi | D14: mardi | E14: mercredi | F14: jeudi | G14: vendredi | J14: AIDES OBTENUES | N14: RESTE À CHARGE DE LA FAMILLE | O14: Mode de Règlement | P14: Date de règlement
G15: 1 | H15: =SUM(C15:G15) -> 1 | K15: montant | L15: nb de jours | M15: TOTAL | N15: Montant | O15: N° de chèque ou N° de reçu
H16: =SUM(C16:G16) -> 0 | J16: CAF | K16: =IF($F$2<351,TARIFS!B7,IF($F$2<476,TARIFS!C7,IF($F$2<581,TARIFS!D7,IF($F$2<721,TARIFS!E7,0)))) -> 0 | L16: =$K$11+$M$11+$O$11+$Q$11+$S$11 -> 10 | M16: =K16*L16 -> 0 | N16: =K12-M22 -> 381.616
H17: =SUM(C17:G17) -> 0 | J17: MSA | L17: =$K$11+$M$11+$O$11+$Q$11+$S$11 -> 10 | M17: =K17*L17 -> 0
H18: =SUM(C18:G18) -> 0 | J18: Employeur | L18: =$K$11+$M$11+$O$11+$Q$11+$S$11 -> 10 | M18: =K18*L18 -> 0
H19: =SUM(C19:G19) -> 0 | J19: ANCV | L19: =$K$11+$M$11+$O$11+$Q$11+$S$11 -> 10 | M19: =K19*L19 -> 0
J20: CCT | K20: =IF($F$2<351,TARIFS!B5,IF($F$2<476,TARIFS!C5,IF($F$2<581,TARIFS!D5,IF($F$2<721,TARIFS!E5,IF($F$2<901,TARIFS!F5,IF($F$2<1201,TARIFS!G5,IF($F$2<1501,TARIFS!H5,TARIFS!I5))))))) -> 3.9284 | L20: =$K$11+$M$11+$O$11+$Q$11+$S$11 -> 10 | M20: =K20*L20 -> 39.284
A21: Nom | B21: Prénom | C21: Semaine 3 | H21: Total | J21: Autres | L21: =$K$11+$M$11+$O$11+$Q$11+$S$11 -> 10 | M21: =K21*L21 -> 0
C22: lundi | D22: mardi | E22: mercredi | F22: jeudi | G22: vendredi | J22: TOTAL AIDES | M22: =SUM(M16:M21) -> 39.284
E23: 1 | F23: 1 | G23: 1 | H23: =SUM(C23:G23) -> 3
H24: =SUM(C24:G24) -> 0
H25: =SUM(C25:G25) -> 0
H26: =SUM(C26:G26) -> 0
H27: =SUM(C27:G27) -> 0
A29: Nom | B29: Prénom | C29: Semaine 4 | H29: Total
C30: lundi | D30: mardi | E30: mercredi | F30: jeudi | G30: vendredi
H31: =SUM(C31:G31) -> 0
H32: =SUM(C32:G32) -> 0
H33: =SUM(C33:G33) -> 0
H34: =SUM(C34:G34) -> 0
H35: =SUM(C35:G35) -> 0

Sheet Feuil16
A1: NOM | B1: DATE | C1: TELEPHONE(S) | D1: ADRESSE | E1: N° allocataire | F1: QF | G1: Nombre Enfants
A2: BECKER Alexandre et MASQUET Valérie | B2: 40360 | C2: 0475062803 0621840024 | D2: Les vignes 07270Gilhoc Sur Ormèze | E2: 200510841 | F2: 1220 | G2: 1
A5: Nom | B5: Prénom | C5: Semaine 1 | H5: Total | K5: enfant 1 | M5: enfant 2 | O5: enfant 3 | Q5: enfant 4 | S5: enfant 5
C6: lundi | D6: mardi | E6: mercredi | F6: jeudi | G6: vendredi | K6: nb jours présences | L6: cout total | M6: nb jours présences | N6: cout total | O6: nb jours présences | P6: cout total | Q6: nb jours présences | R6: cout total | S6: nb jours présences | T6: cout total
G7: 1 | H7: =SUM(C7:G7) -> 1 | J7: semaine 1 | K7: =H7 -> 1 | L7: =IF($F$2<351,K7*TARIFS!$B$4,IF($F$2<476,K7*TARIFS!$C$4,IF($F$2<581,K7*TARIFS!$D$4,IF($F$2<721,K7*TARIFS!$E$4,IF($F$2<901,K7*TARIFS!$F$4,IF($F$2<1201,K7*TARIFS!$G$4,IF($F$2<1501,K7*TARIFS!$H$4,K7*TARIFS!$I$4))))))) -> 14.03 | M7: =H8 -> 5 | N7: =IF($F$2<351,M7*TARIFS!$B$4,IF($F$2<476,M7*TARIFS!$C$4,IF($F$2<581,M7*TARIFS!$D$4,IF($F$2<721,M7*TARIFS!$E$4,IF($F$2<901,M7*TARIFS!$F$4,IF($F$2<1201,M7*TARIFS!$G$4,IF($F$2<1501,M7*TARIFS!$H$4,M7*TARIFS!$I$4))))))) -> 70.15 | O7: =H9 -> 0 | P7: =IF($F$2<351,O7*TARIFS!$B$4,IF($F$2<476,O7*TARIFS!$C$4,IF($F$2<581,O7*TARIFS!$D$4,IF($F$2<721,O7*TARIFS!$E$4,IF($F$2<901,O7*TARIFS!$F$4,IF($F$2<1201,O7*TARIFS!$G$4,IF($F$2<1501,O7*TARIFS!$H$4,O7*TARIFS!$I$4))))))) -> 0 | Q7: =H10 -> 0 | R7: =IF($F$2<351,Q7*TARIFS!$B$4,IF($F$2<476,Q7*TARIFS!$C$4,IF($F$2<581,Q7*TARIFS!$D$4,IF($F$2<721,Q7*TARIFS!$E$4,IF($F$2<901,Q7*TARIFS!$F$4,IF($F$2<1201,Q7*TARIFS!$G$4,IF($F$2<1501,Q7*TARIFS!$H$4,Q7*TARIFS!$I$4))))))) -> 0 | S7: =H11 -> 0 | T7: =IF($F$2<351,S7*TARIFS!$B$4,IF($F$2<476,S7*TARIFS!$C$4,IF($F$2<581,S7*TARIFS!$D$4,IF($F$2<721,S7*TARIFS!$E$4,IF($F$2<901,S7*TARIFS!$F$4,IF($F$2<1201,S7*TARIFS!$G$4,IF($F$2<1501,S7*TARIFS!$H$4,S7*TARIFS!$I$4))))))) -> 0
C8: 1 | D8: 1 | E8: 1 | F8: 1 | G8: 1 | H8: =SUM(C8:G8) -> 5 | J8: semaine 2 | K8: =H15 -> 1 | L8: =IF($F$2<351,K8*TARIFS!$B$4,IF($F$2<476,K8*TARIFS!$C$4,IF($F$2<581,K8*TARIFS!$D$4,IF($F$2<721,K8*TARIFS!$E$4,IF($F$2<901,K8*TARIFS!$F$4,IF($F$2<1201,K8*TARIFS!$G$4,IF($F$2<1501,K8*TARIFS!$H$4,K8*TARIFS!$I$4))))))) -> 14.03 | M8: =H16 -> 0 | N8: =IF($F$2<351,M8*TARIFS!$B$4,IF($F$2<476,M8*TARIFS!$C$4,IF($F$2<581,M8*TARIFS!$D$4,IF($F$2<721,M8*TARIFS!$E$4,IF($F$2<901,M8*TARIFS!$F$4,IF($F$2<1201,M8*TARIFS!$G$4,IF($F$2<1501,M8*TARIFS!$H$4,M8*TARIFS!$I$4))))))) -> 0 | O8: =H17 -> 0 | P8: =IF($F$2<351,O8*TARIFS!$B$4,IF($F$2<476,O8*TARIFS!$C$4,IF($F$2<581,O8*TARIFS!$D$4,IF($F$2<721,O8*TARIFS!$E$4,IF($F$2<901,O8*TARIFS!$F$4,IF($F$2<1201,O8*TARIFS!$G$4,IF($F$2<1501,O8*TARIFS!$H$4,O8*TARIFS!$I$4))))))) -> 0 | Q8: =H18 -> 0 | R8: =IF($F$2<351,Q8*TARIFS!$B$4,IF($F$2<476,Q8*TARIFS!$C$4,IF($F$2<581,Q8*TARIFS!$D$4,IF($F$2<721,Q8*TARIFS!$E$4,IF($F$2<901,Q8*TARIFS!$F$4,IF($F$2<1201,Q8*TARIFS!$G$4,IF($F$2<1501,Q8*TARIFS!$H$4,Q8*TARIFS!$I$4))))))) -> 0 | S8: =H19 -> 0 | T8: =IF($F$2<351,S8*TARIFS!$B$4,IF($F$2<476,S8*TARIFS!$C$4,IF($F$2<581,S8*TARIFS!$D$4,IF($F$2<721,S8*TARIFS!$E$4,IF($F$2<901,S8*TARIFS!$F$4,IF($F$2<1201,S8*TARIFS!$G$4,IF($F$2<1501,S8*TARIFS!$H$4,S8*TARIFS!$I$4))))))) -> 0
H9: =SUM(C9:G9) -> 0 | J9: semaine 3 | K9: =H23 -> 3 | L9: =IF($F$2<351,K9*TARIFS!$B$4,IF($F$2<476,K9*TARIFS!$C$4,IF($F$2<581,K9*TARIFS!$D$4,IF($F$2<721,K9*TARIFS!$E$4,IF($F$2<901,K9*TARIFS!$F$4,IF($F$2<1201,K9*TARIFS!$G$4,IF($F$2<1501,K9*TARIFS!$H$4,K9*TARIFS!$I$4))))))) -> 42.09 | M9: =H24 -> 0 | N9: =IF($F$2<351,M9*TARIFS!$B$4,IF($F$2<476,M9*TARIFS!$C$4,IF($F$2<581,M9*TARIFS!$D$4,IF($F$2<721,M9*TARIFS!$E$4,IF($F$2<901,M9*TARIFS!$F$4,IF($F$2<1201,M9*TARIFS!$G$4,IF($F$2<1501,M9*TARIFS!$H$4,M9*TARIFS!$I$4))))))) -> 0 | O9: =H25 -> 0 | P9: =IF($F$2<351,O9*TARIFS!$B$4,IF($F$2<476,O9*TARIFS!$C$4,IF($F$2<581,O9*TARIFS!$D$4,IF($F$2<721,O9*TARIFS!$E$4,IF($F$2<901,O9*TARIFS!$F$4,IF($F$2<1201,O9*TARIFS!$G$4,IF($F$2<1501,O9*TARIFS!$H$4,O9*TARIFS!$I$4))))))) -> 0 | Q9: =H26 -> 0 | R9: =IF($F$2<351,Q9*TARIFS!$B$4,IF($F$2<476,Q9*TARIFS!$C$4,IF($F$2<581,Q9*TARIFS!$D$4,IF($F$2<721,Q9*TARIFS!$E$4,IF($F$2<901,Q9*TARIFS!$F$4,IF($F$2<1201,Q9*TARIFS!$G$4,IF($F$2<1501,Q9*TARIFS!$H$4,Q9*TARIFS!$I$4))))))) -> 0 | S9: =H27 -> 0 | T9: =IF($F$2<351,S9*TARIFS!$B$4,IF($F$2<476,S9*TARIFS!$C$4,IF($F$2<581,S9*TARIFS!$D$4,IF($F$2<721,S9*TARIFS!$E$4,IF($F$2<901,S9*TARIFS!$F$4,IF($F$2<1201,S9*TARIFS!$G$4,IF($F$2<1501,S9*TARIFS!$H$4,S9*TARIFS!$I$4))))))) -> 0
H10: =SUM(C10:G10) -> 0 | J10: semaine 4 | K10: =H31 -> 0 | L10: =IF($F$2<351,K10*TARIFS!$B$4,IF($F$2<476,K10*TARIFS!$C$4,IF($F$2<581,K10*TARIFS!$D$4,IF($F$2<721,K10*TARIFS!$E$4,IF($F$2<901,K10*TARIFS!$F$4,IF($F$2<1201,K10*TARIFS!$G$4,IF($F$2<1501,K10*TARIFS!$H$4,K10*TARIFS!$I$4))))))) -> 0 | M10: =H32 -> 0 | N10: =IF($F$2<351,M10*TARIFS!$B$4,IF($F$2<476,M10*TARIFS!$C$4,IF($F$2<581,M10*TARIFS!$D$4,IF($F$2<721,M10*TARIFS!$E$4,IF($F$2<901,M10*TARIFS!$F$4,IF($F$2<1201,M10*TARIFS!$G$4,IF($F$2<1501,M10*TARIFS!$H$4,M10*TARIFS!$I$4))))))) -> 0 | O10: =H33 -> 0 | P10: =IF($F$2<351,O10*TARIFS!$B$4,IF($F$2<476,O10*TARIFS!$C$4,IF($F$2<581,O10*TARIFS!$D$4,IF($F$2<721,O10*TARIFS!$E$4,IF($F$2<901,O10*TARIFS!$F$4,IF($F$2<1201,O10*TARIFS!$G$4,IF($F$2<1501,O10*TARIFS!$H$4,O10*TARIFS!$I$4))))))) -> 0 | Q10: =H34 -> 0 | R10: =IF($F$2<351,Q10*TARIFS!$B$4,IF($F$2<476,Q10*TARIFS!$C$4,IF($F$2<581,Q10*TARIFS!$D$4,IF($F$2<721,Q10*TARIFS!$E$4,IF($F$2<901,Q10*TARIFS!$F$4,IF($F$2<1201,Q10*TARIFS!$G$4,IF($F$2<1501,Q10*TARIFS!$H$4,Q10*TARIFS!$I$4))))))) -> 0 | S10: =H35 -> 0 | T10: =IF($F$2<351,S10*TARIFS!$B$4,IF($F$2<476,S10*TARIFS!$C$4,IF($F$2<581,S10*TARIFS!$D$4,IF($F$2<721,S10*TARIFS!$E$4,IF($F$2<901,S10*TARIFS!$F$4,IF($F$2<1201,S10*TARIFS!$G$4,IF($F$2<1501,S10*TARIFS!$H$4,S10*TARIFS!$I$4))))))) -> 0
H11: =SUM(C11:G11) -> 0 | J11: TOTAL / enfant | K11: =SUM(K7:K10) -> 5 | L11: =K11*L7 -> 70.15 | M11: =SUM(M7:M10) -> 5 | N11: =M11*N7 -> 350.75 | O11: =SUM(O7:O10) -> 0 | P11: =O11*P7 -> 0 | Q11: =SUM(Q7:Q10) -> 0 | R11: =Q11*R7 -> 0 | S11: =SUM(S7:S10) -> 0 | T11: =S11*T7 -> 0
J12: TOTAL FAMILLE | K12: =L11+N11+P11+R11+T11 -> 420.9
A13: Nom | B13: Prénom | C13: Semaine 2 | H13: Total
C14: lundi | D14: mardi | E14: mercredi | F14: jeudi | G14: vendredi | J14: AIDES OBTENUES | N14: RESTE À CHARGE DE LA FAMILLE | O14: Mode de Règlement | P14: Date de règlement
G15: 1 | H15: =SUM(C15:G15) -> 1 | K15: montant | L15: nb de jours | M15: TOTAL | N15: Montant | O15: N° de chèque ou N° de reçu
H16: =SUM(C16:G16) -> 0 | J16: CAF | K16: =IF($F$2<351,TARIFS!B7,IF($F$2<476,TARIFS!C7,IF($F$2<581,TARIFS!D7,IF($F$2<721,TARIFS!E7,0)))) -> 0 | L16: =$K$11+$M$11+$O$11+$Q$11+$S$11 -> 10 | M16: =K16*L16 -> 0 | N16: =K12-M22 -> 381.616
H17: =SUM(C17:G17) -> 0 | J17: MSA | L17: =$K$11+$M$11+$O$11+$Q$11+$S$11 -> 10 | M17: =K17*L17 -> 0
H18: =SUM(C18:G18) -> 0 | J18: Employeur | L18: =$K$11+$M$11+$O$11+$Q$11+$S$11 -> 10 | M18: =K18*L18 -> 0
H19: =SUM(C19:G19) -> 0 | J19: ANCV | L19: =$K$11+$M$11+$O$11+$Q$11+$S$11 -> 10 | M19: =K19*L19 -> 0
J20: CCT | K20: =IF($F$2<351,TARIFS!B5,IF($F$2<476,TARIFS!C5,IF($F$2<581,TARIFS!D5,IF($F$2<721,TARIFS!E5,IF($F$2<901,TARIFS!F5,IF($F$2<1201,TARIFS!G5,IF($F$2<1501,TARIFS!H5,TARIFS!I5))))))) -> 3.9284 | L20: =$K$11+$M$11+$O$11+$Q$11+$S$11 -> 10 | M20: =K20*L20 -> 39.284
A21: Nom | B21: Prénom | C21: Semaine 3 | H21: Total | J21: Autres | L21: =$K$11+$M$11+$O$11+$Q$11+$S$11 -> 10 | M21: =K21*L21 -> 0
C22: lundi | D22: mardi | E22: mercredi | F22: jeudi | G22: vendredi | J22: TOTAL AIDES | M22: =SUM(M16:M21) -> 39.284
E23: 1 | F23: 1 | G23: 1 | H23: =SUM(C23:G23) -> 3
H24: =SUM(C24:G24) -> 0
H25: =SUM(C25:G25) -> 0
H26: =SUM(C26:G26) -> 0
H27: =SUM(C27:G27) -> 0
A29: Nom | B29: Prénom | C29: Semaine 4 | H29: Total
C30: lundi | D30: mardi | E30: mercredi | F30: jeudi | G30: vendredi
H31: =SUM(C31:G31) -> 0
H32: =SUM(C32:G32) -> 0
H33: =SUM(C33:G33) -> 0
H34: =SUM(C34:G34) -> 0
H35: =SUM(C35:G35) -> 0

Sheet Feuil17
A1: NOM | B1: DATE | C1: TELEPHONE(S) | D1: ADRESSE | E1: N° allocataire | F1: QF | G1: Nombre Enfants
A2: BECKER Alexandre et MASQUET Valérie | B2: 40360 | C2: 0475062803 0621840024 | D2: Les vignes 07270Gilhoc Sur Ormèze | E2: 200510841 | F2: 1220 | G2: 1
A5: Nom | B5: Prénom | C5: Semaine 1 | H5: Total | K5: enfant 1 | M5: enfant 2 | O5: enfant 3 | Q5: enfant 4 | S5: enfant 5
C6: lundi | D6: mardi | E6: mercredi | F6: jeudi | G6: vendredi | K6: nb jours présences | L6: cout total | M6: nb jours présences | N6: cout total | O6: nb jours présences | P6: cout total | Q6: nb jours présences | R6: cout total | S6: nb jours présences | T6: cout total
G7: 1 | H7: =SUM(C7:G7) -> 1 | J7: semaine 1 | K7: =H7 -> 1 | L7: =IF($F$2<351,K7*TARIFS!$B$4,IF($F$2<476,K7*TARIFS!$C$4,IF($F$2<581,K7*TARIFS!$D$4,IF($F$2<721,K7*TARIFS!$E$4,IF($F$2<901,K7*TARIFS!$F$4,IF($F$2<1201,K7*TARIFS!$G$4,IF($F$2<1501,K7*TARIFS!$H$4,K7*TARIFS!$I$4))))))) -> 14.03 | M7: =H8 -> 5 | N7: =IF($F$2<351,M7*TARIFS!$B$4,IF($F$2<476,M7*TARIFS!$C$4,IF($F$2<581,M7*TARIFS!$D$4,IF($F$2<721,M7*TARIFS!$E$4,IF($F$2<901,M7*TARIFS!$F$4,IF($F$2<1201,M7*TARIFS!$G$4,IF($F$2<1501,M7*TARIFS!$H$4,M7*TARIFS!$I$4))))))) -> 70.15 | O7: =H9 -> 0 | P7: =IF($F$2<351,O7*TARIFS!$B$4,IF($F$2<476,O7*TARIFS!$C$4,IF($F$2<581,O7*TARIFS!$D$4,IF($F$2<721,O7*TARIFS!$E$4,IF($F$2<901,O7*TARIFS!$F$4,IF($F$2<1201,O7*TARIFS!$G$4,IF($F$2<1501,O7*TARIFS!$H$4,O7*TARIFS!$I$4))))))) -> 0 | Q7: =H10 -> 0 | R7: =IF($F$2<351,Q7*TARIFS!$B$4,IF($F$2<476,Q7*TARIFS!$C$4,IF($F$2<581,Q7*TARIFS!$D$4,IF($F$2<721,Q7*TARIFS!$E$4,IF($F$2<901,Q7*TARIFS!$F$4,IF($F$2<1201,Q7*TARIFS!$G$4,IF($F$2<1501,Q7*TARIFS!$H$4,Q7*TARIFS!$I$4))))))) -> 0 | S7: =H11 -> 0 | T7: =IF($F$2<351,S7*TARIFS!$B$4,IF($F$2<476,S7*TARIFS!$C$4,IF($F$2<581,S7*TARIFS!$D$4,IF($F$2<721,S7*TARIFS!$E$4,IF($F$2<901,S7*TARIFS!$F$4,IF($F$2<1201,S7*TARIFS!$G$4,IF($F$2<1501,S7*TARIFS!$H$4,S7*TARIFS!$I$4))))))) -> 0
C8: 1 | D8: 1 | E8: 1 | F8: 1 | G8: 1 | H8: =SUM(C8:G8) -> 5 | J8: semaine 2 | K8: =H15 -> 1 | L8: =IF($F$2<351,K8*TARIFS!$B$4,IF($F$2<476,K8*TARIFS!$C$4,IF($F$2<581,K8*TARIFS!$D$4,IF($F$2<721,K8*TARIFS!$E$4,IF($F$2<901,K8*TARIFS!$F$4,IF($F$2<1201,K8*TARIFS!$G$4,IF($F$2<1501,K8*TARIFS!$H$4,K8*TARIFS!$I$4))))))) -> 14.03 | M8: =H16 -> 0 | N8: =IF($F$2<351,M8*TARIFS!$B$4,IF($F$2<476,M8*TARIFS!$C$4,IF($F$2<581,M8*TARIFS!$D$4,IF($F$2<721,M8*TARIFS!$E$4,IF($F$2<901,M8*TARIFS!$F$4,IF($F$2<1201,M8*TARIFS!$G$4,IF($F$2<1501,M8*TARIFS!$H$4,M8*TARIFS!$I$4))))))) -> 0 | O8: =H17 -> 0 | P8: =IF($F$2<351,O8*TARIFS!$B$4,IF($F$2<476,O8*TARIFS!$C$4,IF($F$2<581,O8*TARIFS!$D$4,IF($F$2<721,O8*TARIFS!$E$4,IF($F$2<901,O8*TARIFS!$F$4,IF($F$2<1201,O8*TARIFS!$G$4,IF($F$2<1501,O8*TARIFS!$H$4,O8*TARIFS!$I$4))))))) -> 0 | Q8: =H18 -> 0 | R8: =IF($F$2<351,Q8*TARIFS!$B$4,IF($F$2<476,Q8*TARIFS!$C$4,IF($F$2<581,Q8*TARIFS!$D$4,IF($F$2<721,Q8*TARIFS!$E$4,IF($F$2<901,Q8*TARIFS!$F$4,IF($F$2<1201,Q8*TARIFS!$G$4,IF($F$2<1501,Q8*TARIFS!$H$4,Q8*TARIFS!$I$4))))))) -> 0 | S8: =H19 -> 0 | T8: =IF($F$2<351,S8*TARIFS!$B$4,IF($F$2<476,S8*TARIFS!$C$4,IF($F$2<581,S8*TARIFS!$D$4,IF($F$2<721,S8*TARIFS!$E$4,IF($F$2<901,S8*TARIFS!$F$4,IF($F$2<1201,S8*TARIFS!$G$4,IF($F$2<1501,S8*TARIFS!$H$4,S8*TARIFS!$I$4))))))) -> 0
H9: =SUM(C9:G9) -> 0 | J9: semaine 3 | K9: =H23 -> 3 | L9: =IF($F$2<351,K9*TARIFS!$B$4,IF($F$2<476,K9*TARIFS!$C$4,IF($F$2<581,K9*TARIFS!$D$4,IF($F$2<721,K9*TARIFS!$E$4,IF($F$2<901,K9*TARIFS!$F$4,IF($F$2<1201,K9*TARIFS!$G$4,IF($F$2<1501,K9*TARIFS!$H$4,K9*TARIFS!$I$4))))))) -> 42.09 | M9: =H24 -> 0 | N9: =IF($F$2<351,M9*TARIFS!$B$4,IF($F$2<476,M9*TARIFS!$C$4,IF($F$2<581,M9*TARIFS!$D$4,IF($F$2<721,M9*TARIFS!$E$4,IF($F$2<901,M9*TARIFS!$F$4,IF($F$2<1201,M9*TARIFS!$G$4,IF($F$2<1501,M9*TARIFS!$H$4,M9*TARIFS!$I$4))))))) -> 0 | O9: =H25 -> 0 | P9: =IF($F$2<351,O9*TARIFS!$B$4,IF($F$2<476,O9*TARIFS!$C$4,IF($F$2<581,O9*TARIFS!$D$4,IF($F$2<721,O9*TARIFS!$E$4,IF($F$2<901,O9*TARIFS!$F$4,IF($F$2<1201,O9*TARIFS!$G$4,IF($F$2<1501,O9*TARIFS!$H$4,O9*TARIFS!$I$4))))))) -> 0 | Q9: =H26 -> 0 | R9: =IF($F$2<351,Q9*TARIFS!$B$4,IF($F$2<476,Q9*TARIFS!$C$4,IF($F$2<581,Q9*TARIFS!$D$4,IF($F$2<721,Q9*TARIFS!$E$4,IF($F$2<901,Q9*TARIFS!$F$4,IF($F$2<1201,Q9*TARIFS!$G$4,IF($F$2<1501,Q9*TARIFS!$H$4,Q9*TARIFS!$I$4))))))) -> 0 | S9: =H27 -> 0 | T9: =IF($F$2<351,S9*TARIFS!$B$4,IF($F$2<476,S9*TARIFS!$C$4,IF($F$2<581,S9*TARIFS!$D$4,IF($F$2<721,S9*TARIFS!$E$4,IF($F$2<901,S9*TARIFS!$F$4,IF($F$2<1201,S9*TARIFS!$G$4,IF($F$2<1501,S9*TARIFS!$H$4,S9*TARIFS!$I$4))))))) -> 0
H10: =SUM(C10:G10) -> 0 | J10: semaine 4 | K10: =H31 -> 0 | L10: =IF($F$2<351,K10*TARIFS!$B$4,IF($F$2<476,K10*TARIFS!$C$4,IF($F$2<581,K10*TARIFS!$D$4,IF($F$2<721,K10*TARIFS!$E$4,IF($F$2<901,K10*TARIFS!$F$4,IF($F$2<1201,K10*TARIFS!$G$4,IF($F$2<1501,K10*TARIFS!$H$4,K10*TARIFS!$I$4))))))) -> 0 | M10: =H32 -> 0 | N10: =IF($F$2<351,M10*TARIFS!$B$4,IF($F$2<476,M10*TARIFS!$C$4,IF($F$2<581,M10*TARIFS!$D$4,IF($F$2<721,M10*TARIFS!$E$4,IF($F$2<901,M10*TARIFS!$F$4,IF($F$2<1201,M10*TARIFS!$G$4,IF($F$2<1501,M10*TARIFS!$H$4,M10*TARIFS!$I$4))))))) -> 0 | O10: =H33 -> 0 | P10: =IF($F$2<351,O10*TARIFS!$B$4,IF($F$2<476,O10*TARIFS!$C$4,IF($F$2<581,O10*TARIFS!$D$4,IF($F$2<721,O10*TARIFS!$E$4,IF($F$2<901,O10*TARIFS!$F$4,IF($F$2<1201,O10*TARIFS!$G$4,IF($F$2<1501,O10*TARIFS!$H$4,O10*TARIFS!$I$4))))))) -> 0 | Q10: =H34 -> 0 | R10: =IF($F$2<351,Q10*TARIFS!$B$4,IF($F$2<476,Q10*TARIFS!$C$4,IF($F$2<581,Q10*TARIFS!$D$4,IF($F$2<721,Q10*TARIFS!$E$4,IF($F$2<901,Q10*TARIFS!$F$4,IF($F$2<1201,Q10*TARIFS!$G$4,IF($F$2<1501,Q10*TARIFS!$H$4,Q10*TARIFS!$I$4))))))) -> 0 | S10: =H35 -> 0 | T10: =IF($F$2<351,S10*TARIFS!$B$4,IF($F$2<476,S10*TARIFS!$C$4,IF($F$2<581,S10*TARIFS!$D$4,IF($F$2<721,S10*TARIFS!$E$4,IF($F$2<901,S10*TARIFS!$F$4,IF($F$2<1201,S10*TARIFS!$G$4,IF($F$2<1501,S10*TARIFS!$H$4,S10*TARIFS!$I$4))))))) -> 0
H11: =SUM(C11:G11) -> 0 | J11: TOTAL / enfant | K11: =SUM(K7:K10) -> 5 | L11: =K11*L7 -> 70.15 | M11: =SUM(M7:M10) -> 5 | N11: =M11*N7 -> 350.75 | O11: =SUM(O7:O10) -> 0 | P11: =O11*P7 -> 0 | Q11: =SUM(Q7:Q10) -> 0 | R11: =Q11*R7 -> 0 | S11: =SUM(S7:S10) -> 0 | T11: =S11*T7 -> 0
J12: TOTAL FAMILLE | K12: =L11+N11+P11+R11+T11 -> 420.9
A13: Nom | B13: Prénom | C13: Semaine 2 | H13: Total
C14: lundi | D14: mardi | E14: mercredi | F14: jeudi | G14: vendredi | J14: AIDES OBTENUES | N14: RESTE À CHARGE DE LA FAMILLE | O14: Mode de Règlement | P14: Date de règlement
G15: 1 | H15: =SUM(C15:G15) -> 1 | K15: montant | L15: nb de jours | M15: TOTAL | N15: Montant | O15: N° de chèque ou N° de reçu
H16: =SUM(C16:G16) -> 0 | J16: CAF | K16: =IF($F$2<351,TARIFS!B7,IF($F$2<476,TARIFS!C7,IF($F$2<581,TARIFS!D7,IF($F$2<721,TARIFS!E7,0)))) -> 0 | L16: =$K$11+$M$11+$O$11+$Q$11+$S$11 -> 10 | M16: =K16*L16 -> 0 | N16: =K12-M22 -> 381.616
H17: =SUM(C17:G17) -> 0 | J17: MSA | L17: =$K$11+$M$11+$O$11+$Q$11+$S$11 -> 10 | M17: =K17*L17 -> 0
H18: =SUM(C18:G18) -> 0 | J18: Employeur | L18: =$K$11+$M$11+$O$11+$Q$11+$S$11 -> 10 | M18: =K18*L18 -> 0
H19: =SUM(C19:G19) -> 0 | J19: ANCV | L19: =$K$11+$M$11+$O$11+$Q$11+$S$11 -> 10 | M19: =K19*L19 -> 0
J20: CCT | K20: =IF($F$2<351,TARIFS!B5,IF($F$2<476,TARIFS!C5,IF($F$2<581,TARIFS!D5,IF($F$2<721,TARIFS!E5,IF($F$2<901,TARIFS!F5,IF($F$2<1201,TARIFS!G5,IF($F$2<1501,TARIFS!H5,TARIFS!I5))))))) -> 3.9284 | L20: =$K$11+$M$11+$O$11+$Q$11+$S$11 -> 10 | M20: =K20*L20 -> 39.284
A21: Nom | B21: Prénom | C21: Semaine 3 | H21: Total | J21: Autres | L21: =$K$11+$M$11+$O$11+$Q$11+$S$11 -> 10 | M21: =K21*L21 -> 0
C22: lundi | D22: mardi | E22: mercredi | F22: jeudi | G22: vendredi | J22: TOTAL AIDES | M22: =SUM(M16:M21) -> 39.284
E23: 1 | F23: 1 | G23: 1 | H23: =SUM(C23:G23) -> 3
H24: =SUM(C24:G24) -> 0
H25: =SUM(C25:G25) -> 0
H26: =SUM(C26:G26) -> 0
H27: =SUM(C27:G27) -> 0
A29: Nom | B29: Prénom | C29: Semaine 4 | H29: Total
C30: lundi | D30: mardi | E30: mercredi | F30: jeudi | G30: vendredi
H31: =SUM(C31:G31) -> 0
H32: =SUM(C32:G32) -> 0
H33: =SUM(C33:G33) -> 0
H34: =SUM(C34:G34) -> 0
H35: =SUM(C35:G35) -> 0

Sheet Feuil18
A1: NOM | B1: DATE | C1: TELEPHONE(S) | D1: ADRESSE | E1: N° allocataire | F1: QF | G1: Nombre Enfants
A2: BECKER Alexandre et MASQUET Valérie | B2: 40360 | C2: 0475062803 0621840024 | D2: Les vignes 07270Gilhoc Sur Ormèze | E2: 200510841 | F2: 1220 | G2: 1
A5: Nom | B5: Prénom | C5: Semaine 1 | H5: Total | K5: enfant 1 | M5: enfant 2 | O5: enfant 3 | Q5: enfant 4 | S5: enfant 5
C6: lundi | D6: mardi | E6: mercredi | F6: jeudi | G6: vendredi | K6: nb jours présences | L6: cout total | M6: nb jours présences | N6: cout total | O6: nb jours présences | P6: cout total | Q6: nb jours présences | R6: cout total | S6: nb jours présences | T6: cout total
G7: 1 | H7: =SUM(C7:G7) -> 1 | J7: semaine 1 | K7: =H7 -> 1 | L7: =IF($F$2<351,K7*TARIFS!$B$4,IF($F$2<476,K7*TARIFS!$C$4,IF($F$2<581,K7*TARIFS!$D$4,IF($F$2<721,K7*TARIFS!$E$4,IF($F$2<901,K7*TARIFS!$F$4,IF($F$2<1201,K7*TARIFS!$G$4,IF($F$2<1501,K7*TARIFS!$H$4,K7*TARIFS!$I$4))))))) -> 14.03 | M7: =H8 -> 5 | N7: =IF($F$2<351,M7*TARIFS!$B$4,IF($F$2<476,M7*TARIFS!$C$4,IF($F$2<581,M7*TARIFS!$D$4,IF($F$2<721,M7*TARIFS!$E$4,IF($F$2<901,M7*TARIFS!$F$4,IF($F$2<1201,M7*TARIFS!$G$4,IF($F$2<1501,M7*TARIFS!$H$4,M7*TARIFS!$I$4))))))) -> 70.15 | O7: =H9 -> 0 | P7: =IF($F$2<351,O7*TARIFS!$B$4,IF($F$2<476,O7*TARIFS!$C$4,IF($F$2<581,O7*TARIFS!$D$4,IF($F$2<721,O7*TARIFS!$E$4,IF($F$2<901,O7*TARIFS!$F$4,IF($F$2<1201,O7*TARIFS!$G$4,IF($F$2<1501,O7*TARIFS!$H$4,O7*TARIFS!$I$4))))))) -> 0 | Q7: =H10 -> 0 | R7: =IF($F$2<351,Q7*TARIFS!$B$4,IF($F$2<476,Q7*TARIFS!$C$4,IF($F$2<581,Q7*TARIFS!$D$4,IF($F$2<721,Q7*TARIFS!$E$4,IF($F$2<901,Q7*TARIFS!$F$4,IF($F$2<1201,Q7*TARIFS!$G$4,IF($F$2<1501,Q7*TARIFS!$H$4,Q7*TARIFS!$I$4))))))) -> 0 | S7: =H11 -> 0 | T7: =IF($F$2<351,S7*TARIFS!$B$4,IF($F$2<476,S7*TARIFS!$C$4,IF($F$2<581,S7*TARIFS!$D$4,IF($F$2<721,S7*TARIFS!$E$4,IF($F$2<901,S7*TARIFS!$F$4,IF($F$2<1201,S7*TARIFS!$G$4,IF($F$2<1501,S7*TARIFS!$H$4,S7*TARIFS!$I$4))))))) -> 0
C8: 1 | D8: 1 | E8: 1 | F8: 1 | G8: 1 | H8: =SUM(C8:G8) -> 5 | J8: semaine 2 | K8: =H15 -> 1 | L8: =IF($F$2<351,K8*TARIFS!$B$4,IF($F$2<476,K8*TARIFS!$C$4,IF($F$2<581,K8*TARIFS!$D$4,IF($F$2<721,K8*TARIFS!$E$4,IF($F$2<901,K8*TARIFS!$F$4,IF($F$2<1201,K8*TARIFS!$G$4,IF($F$2<1501,K8*TARIFS!$H$4,K8*TARIFS!$I$4))))))) -> 14.03 | M8: =H16 -> 0 | N8: =IF($F$2<351,M8*TARIFS!$B$4,IF($F$2<476,M8*TARIFS!$C$4,IF($F$2<581,M8*TARIFS!$D$4,IF($F$2<721,M8*TARIFS!$E$4,IF($F$2<901,M8*TARIFS!$F$4,IF($F$2<1201,M8*TARIFS!$G$4,IF($F$2<1501,M8*TARIFS!$H$4,M8*TARIFS!$I$4))))))) -> 0 | O8: =H17 -> 0 | P8: =IF($F$2<351,O8*TARIFS!$B$4,IF($F$2<476,O8*TARIFS!$C$4,IF($F$2<581,O8*TARIFS!$D$4,IF($F$2<721,O8*TARIFS!$E$4,IF($F$2<901,O8*TARIFS!$F$4,IF($F$2<1201,O8*TARIFS!$G$4,IF($F$2<1501,O8*TARIFS!$H$4,O8*TARIFS!$I$4))))))) -> 0 | Q8: =H18 -> 0 | R8: =IF($F$2<351,Q8*TARIFS!$B$4,IF($F$2<476,Q8*TARIFS!$C$4,IF($F$2<581,Q8*TARIFS!$D$4,IF($F$2<721,Q8*TARIFS!$E$4,IF($F$2<901,Q8*TARIFS!$F$4,IF($F$2<1201,Q8*TARIFS!$G$4,IF($F$2<1501,Q8*TARIFS!$H$4,Q8*TARIFS!$I$4))))))) -> 0 | S8: =H19 -> 0 | T8: =IF($F$2<351,S8*TARIFS!$B$4,IF($F$2<476,S8*TARIFS!$C$4,IF($F$2<581,S8*TARIFS!$D$4,IF($F$2<721,S8*TARIFS!$E$4,IF($F$2<901,S8*TARIFS!$F$4,IF($F$2<1201,S8*TARIFS!$G$4,IF($F$2<1501,S8*TARIFS!$H$4,S8*TARIFS!$I$4))))))) -> 0
H9: =SUM(C9:G9) -> 0 | J9: semaine 3 | K9: =H23 -> 3 | L9: =IF($F$2<351,K9*TARIFS!$B$4,IF($F$2<476,K9*TARIFS!$C$4,IF($F$2<581,K9*TARIFS!$D$4,IF($F$2<721,K9*TARIFS!$E$4,IF($F$2<901,K9*TARIFS!$F$4,IF($F$2<1201,K9*TARIFS!$G$4,IF($F$2<1501,K9*TARIFS!$H$4,K9*TARIFS!$I$4))))))) -> 42.09 | M9: =H24 -> 0 | N9: =IF($F$2<351,M9*TARIFS!$B$4,IF($F$2<476,M9*TARIFS!$C$4,IF($F$2<581,M9*TARIFS!$D$4,IF($F$2<721,M9*TARIFS!$E$4,IF($F$2<901,M9*TARIFS!$F$4,IF($F$2<1201,M9*TARIFS!$G$4,IF($F$2<1501,M9*TARIFS!$H$4,M9*TARIFS!$I$4))))))) -> 0 | O9: =H25 -> 0 | P9: =IF($F$2<351,O9*TARIFS!$B$4,IF($F$2<476,O9*TARIFS!$C$4,IF($F$2<581,O9*TARIFS!$D$4,IF($F$2<721,O9*TARIFS!$E$4,IF($F$2<901,O9*TARIFS!$F$4,IF($F$2<1201,O9*TARIFS!$G$4,IF($F$2<1501,O9*TARIFS!$H$4,O9*TARIFS!$I$4))))))) -> 0 | Q9: =H26 -> 0 | R9: =IF($F$2<351,Q9*TARIFS!$B$4,IF($F$2<476,Q9*TARIFS!$C$4,IF($F$2<581,Q9*TARIFS!$D$4,IF($F$2<721,Q9*TARIFS!$E$4,IF($F$2<901,Q9*TARIFS!$F$4,IF($F$2<1201,Q9*TARIFS!$G$4,IF($F$2<1501,Q9*TARIFS!$H$4,Q9*TARIFS!$I$4))))))) -> 0 | S9: =H27 -> 0 | T9: =IF($F$2<351,S9*TARIFS!$B$4,IF($F$2<476,S9*TARIFS!$C$4,IF($F$2<581,S9*TARIFS!$D$4,IF($F$2<721,S9*TARIFS!$E$4,IF($F$2<901,S9*TARIFS!$F$4,IF($F$2<1201,S9*TARIFS!$G$4,IF($F$2<1501,S9*TARIFS!$H$4,S9*TARIFS!$I$4))))))) -> 0
H10: =SUM(C10:G10) -> 0 | J10: semaine 4 | K10: =H31 -> 0 | L10: =IF($F$2<351,K10*TARIFS!$B$4,IF($F$2<476,K10*TARIFS!$C$4,IF($F$2<581,K10*TARIFS!$D$4,IF($F$2<721,K10*TARIFS!$E$4,IF($F$2<901,K10*TARIFS!$F$4,IF($F$2<1201,K10*TARIFS!$G$4,IF($F$2<1501,K10*TARIFS!$H$4,K10*TARIFS!$I$4))))))) -> 0 | M10: =H32 -> 0 | N10: =IF($F$2<351,M10*TARIFS!$B$4,IF($F$2<476,M10*TARIFS!$C$4,IF($F$2<581,M10*TARIFS!$D$4,IF($F$2<721,M10*TARIFS!$E$4,IF($F$2<901,M10*TARIFS!$F$4,IF($F$2<1201,M10*TARIFS!$G$4,IF($F$2<1501,M10*TARIFS!$H$4,M10*TARIFS!$I$4))))))) -> 0 | O10: =H33 -> 0 | P10: =IF($F$2<351,O10*TARIFS!$B$4,IF($F$2<476,O10*TARIFS!$C$4,IF($F$2<581,O10*TARIFS!$D$4,IF($F$2<721,O10*TARIFS!$E$4,IF($F$2<901,O10*TARIFS!$F$4,IF($F$2<1201,O10*TARIFS!$G$4,IF($F$2<1501,O10*TARIFS!$H$4,O10*TARIFS!$I$4))))))) -> 0 | Q10: =H34 -> 0 | R10: =IF($F$2<351,Q10*TARIFS!$B$4,IF($F$2<476,Q10*TARIFS!$C$4,IF($F$2<581,Q10*TARIFS!$D$4,IF($F$2<721,Q10*TARIFS!$E$4,IF($F$2<901,Q10*TARIFS!$F$4,IF($F$2<1201,Q10*TARIFS!$G$4,IF($F$2<1501,Q10*TARIFS!$H$4,Q10*TARIFS!$I$4))))))) -> 0 | S10: =H35 -> 0 | T10: =IF($F$2<351,S10*TARIFS!$B$4,IF($F$2<476,S10*TARIFS!$C$4,IF($F$2<581,S10*TARIFS!$D$4,IF($F$2<721,S10*TARIFS!$E$4,IF($F$2<901,S10*TARIFS!$F$4,IF($F$2<1201,S10*TARIFS!$G$4,IF($F$2<1501,S10*TARIFS!$H$4,S10*TARIFS!$I$4))))))) -> 0
H11: =SUM(C11:G11) -> 0 | J11: TOTAL / enfant | K11: =SUM(K7:K10) -> 5 | L11: =K11*L7 -> 70.15 | M11: =SUM(M7:M10) -> 5 | N11: =M11*N7 -> 350.75 | O11: =SUM(O7:O10) -> 0 | P11: =O11*P7 -> 0 | Q11: =SUM(Q7:Q10) -> 0 | R11: =Q11*R7 -> 0 | S11: =SUM(S7:S10) -> 0 | T11: =S11*T7 -> 0
J12: TOTAL FAMILLE | K12: =L11+N11+P11+R11+T11 -> 420.9
A13: Nom | B13: Prénom | C13: Semaine 2 | H13: Total
C14: lundi | D14: mardi | E14: mercredi | F14: jeudi | G14: vendredi | J14: AIDES OBTENUES | N14: RESTE À CHARGE DE LA FAMILLE | O14: Mode de Règlement | P14: Date de règlement
G15: 1 | H15: =SUM(C15:G15) -> 1 | K15: montant | L15: nb de jours | M15: TOTAL | N15: Montant | O15: N° de chèque ou N° de reçu
H16: =SUM(C16:G16) -> 0 | J16: CAF | K16: =IF($F$2<351,TARIFS!B7,IF($F$2<476,TARIFS!C7,IF($F$2<581,TARIFS!D7,IF($F$2<721,TARIFS!E7,0)))) -> 0 | L16: =$K$11+$M$11+$O$11+$Q$11+$S$11 -> 10 | M16: =K16*L16 -> 0 | N16: =K12-M22 -> 381.616
H17: =SUM(C17:G17) -> 0 | J17: MSA | L17: =$K$11+$M$11+$O$11+$Q$11+$S$11 -> 10 | M17: =K17*L17 -> 0
H18: =SUM(C18:G18) -> 0 | J18: Employeur | L18: =$K$11+$M$11+$O$11+$Q$11+$S$11 -> 10 | M18: =K18*L18 -> 0
H19: =SUM(C19:G19) -> 0 | J19: ANCV | L19: =$K$11+$M$11+$O$11+$Q$11+$S$11 -> 10 | M19: =K19*L19 -> 0
J20: CCT | K20: =IF($F$2<351,TARIFS!B5,IF($F$2<476,TARIFS!C5,IF($F$2<581,TARIFS!D5,IF($F$2<721,TARIFS!E5,IF($F$2<901,TARIFS!F5,IF($F$2<1201,TARIFS!G5,IF($F$2<1501,TARIFS!H5,TARIFS!I5))))))) -> 3.9284 | L20: =$K$11+$M$11+$O$11+$Q$11+$S$11 -> 10 | M20: =K20*L20 -> 39.284
A21: Nom | B21: Prénom | C21: Semaine 3 | H21: Total | J21: Autres | L21: =$K$11+$M$11+$O$11+$Q$11+$S$11 -> 10 | M21: =K21*L21 -> 0
C22: lundi | D22: mardi | E22: mercredi | F22: jeudi | G22: vendredi | J22: TOTAL AIDES | M22: =SUM(M16:M21) -> 39.284
E23: 1 | F23: 1 | G23: 1 | H23: =SUM(C23:G23) -> 3
H24: =SUM(C24:G24) -> 0
H25: =SUM(C25:G25) -> 0
H26: =SUM(C26:G26) -> 0
H27: =SUM(C27:G27) -> 0
A29: Nom | B29: Prénom | C29: Semaine 4 | H29: Total
C30: lundi | D30: mardi | E30: mercredi | F30: jeudi | G30: vendredi
H31: =SUM(C31:G31) -> 0
H32: =SUM(C32:G32) -> 0
H33: =SUM(C33:G33) -> 0
H34: =SUM(C34:G34) -> 0
H35: =SUM(C35:G35) -> 0

Sheet Feuil19
A1: NOM | B1: DATE | C1: TELEPHONE(S) | D1: ADRESSE | E1: N° allocataire | F1: QF | G1: Nombre Enfants
A2: BECKER Alexandre et MASQUET Valérie | B2: 40360 | C2: 0475062803 0621840024 | D2: Les vignes 07270Gilhoc Sur Ormèze | E2: 200510841 | F2: 1220 | G2: 1
A5: Nom | B5: Prénom | C5: Semaine 1 | H5: Total | K5: enfant 1 | M5: enfant 2 | O5: enfant 3 | Q5: enfant 4 | S5: enfant 5
C6: lundi | D6: mardi | E6: mercredi | F6: jeudi | G6: vendredi | K6: nb jours présences | L6: cout total | M6: nb jours présences | N6: cout total | O6: nb jours présences | P6: cout total | Q6: nb jours présences | R6: cout total | S6: nb jours présences | T6: cout total
G7: 1 | H7: =SUM(C7:G7) -> 1 | J7: semaine 1 | K7: =H7 -> 1 | L7: =IF($F$2<351,K7*TARIFS!$B$4,IF($F$2<476,K7*TARIFS!$C$4,IF($F$2<581,K7*TARIFS!$D$4,IF($F$2<721,K7*TARIFS!$E$4,IF($F$2<901,K7*TARIFS!$F$4,IF($F$2<1201,K7*TARIFS!$G$4,IF($F$2<1501,K7*TARIFS!$H$4,K7*TARIFS!$I$4))))))) -> 14.03 | M7: =H8 -> 5 | N7: =IF($F$2<351,M7*TARIFS!$B$4,IF($F$2<476,M7*TARIFS!$C$4,IF($F$2<581,M7*TARIFS!$D$4,IF($F$2<721,M7*TARIFS!$E$4,IF($F$2<901,M7*TARIFS!$F$4,IF($F$2<1201,M7*TARIFS!$G$4,IF($F$2<1501,M7*TARIFS!$H$4,M7*TARIFS!$I$4))))))) -> 70.15 | O7: =H9 -> 0 | P7: =IF($F$2<351,O7*TARIFS!$B$4,IF($F$2<476,O7*TARIFS!$C$4,IF($F$2<581,O7*TARIFS!$D$4,IF($F$2<721,O7*TARIFS!$E$4,IF($F$2<901,O7*TARIFS!$F$4,IF($F$2<1201,O7*TARIFS!$G$4,IF($F$2<1501,O7*TARIFS!$H$4,O7*TARIFS!$I$4))))))) -> 0 | Q7: =H10 -> 0 | R7: =IF($F$2<351,Q7*TARIFS!$B$4,IF($F$2<476,Q7*TARIFS!$C$4,IF($F$2<581,Q7*TARIFS!$D$4,IF($F$2<721,Q7*TARIFS!$E$4,IF($F$2<901,Q7*TARIFS!$F$4,IF($F$2<1201,Q7*TARIFS!$G$4,IF($F$2<1501,Q7*TARIFS!$H$4,Q7*TARIFS!$I$4))))))) -> 0 | S7: =H11 -> 0 | T7: =IF($F$2<351,S7*TARIFS!$B$4,IF($F$2<476,S7*TARIFS!$C$4,IF($F$2<581,S7*TARIFS!$D$4,IF($F$2<721,S7*TARIFS!$E$4,IF($F$2<901,S7*TARIFS!$F$4,IF($F$2<1201,S7*TARIFS!$G$4,IF($F$2<1501,S7*TARIFS!$H$4,S7*TARIFS!$I$4))))))) -> 0
C8: 1 | D8: 1 | E8: 1 | F8: 1 | G8: 1 | H8: =SUM(C8:G8) -> 5 | J8: semaine 2 | K8: =H15 -> 1 | L8: =IF($F$2<351,K8*TARIFS!$B$4,IF($F$2<476,K8*TARIFS!$C$4,IF($F$2<581,K8*TARIFS!$D$4,IF($F$2<721,K8*TARIFS!$E$4,IF($F$2<901,K8*TARIFS!$F$4,IF($F$2<1201,K8*TARIFS!$G$4,IF($F$2<1501,K8*TARIFS!$H$4,K8*TARIFS!$I$4))))))) -> 14.03 | M8: =H16 -> 0 | N8: =IF($F$2<351,M8*TARIFS!$B$4,IF($F$2<476,M8*TARIFS!$C$4,IF($F$2<581,M8*TARIFS!$D$4,IF($F$2<721,M8*TARIFS!$E$4,IF($F$2<901,M8*TARIFS!$F$4,IF($F$2<1201,M8*TARIFS!$G$4,IF($F$2<1501,M8*TARIFS!$H$4,M8*TARIFS!$I$4))))))) -> 0 | O8: =H17 -> 0 | P8: =IF($F$2<351,O8*TARIFS!$B$4,IF($F$2<476,O8*TARIFS!$C$4,IF($F$2<581,O8*TARIFS!$D$4,IF($F$2<721,O8*TARIFS!$E$4,IF($F$2<901,O8*TARIFS!$F$4,IF($F$2<1201,O8*TARIFS!$G$4,IF($F$2<1501,O8*TARIFS!$H$4,O8*TARIFS!$I$4))))))) -> 0 | Q8: =H18 -> 0 | R8: =IF($F$2<351,Q8*TARIFS!$B$4,IF($F$2<476,Q8*TARIFS!$C$4,IF($F$2<581,Q8*TARIFS!$D$4,IF($F$2<721,Q8*TARIFS!$E$4,IF($F$2<901,Q8*TARIFS!$F$4,IF($F$2<1201,Q8*TARIFS!$G$4,IF($F$2<1501,Q8*TARIFS!$H$4,Q8*TARIFS!$I$4))))))) -> 0 | S8: =H19 -> 0 | T8: =IF($F$2<351,S8*TARIFS!$B$4,IF($F$2<476,S8*TARIFS!$C$4,IF($F$2<581,S8*TARIFS!$D$4,IF($F$2<721,S8*TARIFS!$E$4,IF($F$2<901,S8*TARIFS!$F$4,IF($F$2<1201,S8*TARIFS!$G$4,IF($F$2<1501,S8*TARIFS!$H$4,S8*TARIFS!$I$4))))))) -> 0
H9: =SUM(C9:G9) -> 0 | J9: semaine 3 | K9: =H23 -> 3 | L9: =IF($F$2<351,K9*TARIFS!$B$4,IF($F$2<476,K9*TARIFS!$C$4,IF($F$2<581,K9*TARIFS!$D$4,IF($F$2<721,K9*TARIFS!$E$4,IF($F$2<901,K9*TARIFS!$F$4,IF($F$2<1201,K9*TARIFS!$G$4,IF($F$2<1501,K9*TARIFS!$H$4,K9*TARIFS!$I$4))))))) -> 42.09 | M9: =H24 -> 0 | N9: =IF($F$2<351,M9*TARIFS!$B$4,IF($F$2<476,M9*TARIFS!$C$4,IF($F$2<581,M9*TARIFS!$D$4,IF($F$2<721,M9*TARIFS!$E$4,IF($F$2<901,M9*TARIFS!$F$4,IF($F$2<1201,M9*TARIFS!$G$4,IF($F$2<1501,M9*TARIFS!$H$4,M9*TARIFS!$I$4))))))) -> 0 | O9: =H25 -> 0 | P9: =IF($F$2<351,O9*TARIFS!$B$4,IF($F$2<476,O9*TARIFS!$C$4,IF($F$2<581,O9*TARIFS!$D$4,IF($F$2<721,O9*TARIFS!$E$4,IF($F$2<901,O9*TARIFS!$F$4,IF($F$2<1201,O9*TARIFS!$G$4,IF($F$2<1501,O9*TARIFS!$H$4,O9*TARIFS!$I$4))))))) -> 0 | Q9: =H26 -> 0 | R9: =IF($F$2<351,Q9*TARIFS!$B$4,IF($F$2<476,Q9*TARIFS!$C$4,IF($F$2<581,Q9*TARIFS!$D$4,IF($F$2<721,Q9*TARIFS!$E$4,IF($F$2<901,Q9*TARIFS!$F$4,IF($F$2<1201,Q9*TARIFS!$G$4,IF($F$2<1501,Q9*TARIFS!$H$4,Q9*TARIFS!$I$4))))))) -> 0 | S9: =H27 -> 0 | T9: =IF($F$2<351,S9*TARIFS!$B$4,IF($F$2<476,S9*TARIFS!$C$4,IF($F$2<581,S9*TARIFS!$D$4,IF($F$2<721,S9*TARIFS!$E$4,IF($F$2<901,S9*TARIFS!$F$4,IF($F$2<1201,S9*TARIFS!$G$4,IF($F$2<1501,S9*TARIFS!$H$4,S9*TARIFS!$I$4))))))) -> 0
H10: =SUM(C10:G10) -> 0 | J10: semaine 4 | K10: =H31 -> 0 | L10: =IF($F$2<351,K10*TARIFS!$B$4,IF($F$2<476,K10*TARIFS!$C$4,IF($F$2<581,K10*TARIFS!$D$4,IF($F$2<721,K10*TARIFS!$E$4,IF($F$2<901,K10*TARIFS!$F$4,IF($F$2<1201,K10*TARIFS!$G$4,IF($F$2<1501,K10*TARIFS!$H$4,K10*TARIFS!$I$4))))))) -> 0 | M10: =H32 -> 0 | N10: =IF($F$2<351,M10*TARIFS!$B$4,IF($F$2<476,M10*TARIFS!$C$4,IF($F$2<581,M10*TARIFS!$D$4,IF($F$2<721,M10*TARIFS!$E$4,IF($F$2<901,M10*TARIFS!$F$4,IF($F$2<1201,M10*TARIFS!$G$4,IF($F$2<1501,M10*TARIFS!$H$4,M10*TARIFS!$I$4))))))) -> 0 | O10: =H33 -> 0 | P10: =IF($F$2<351,O10*TARIFS!$B$4,IF($F$2<476,O10*TARIFS!$C$4,IF($F$2<581,O10*TARIFS!$D$4,IF($F$2<721,O10*TARIFS!$E$4,IF($F$2<901,O10*TARIFS!$F$4,IF($F$2<1201,O10*TARIFS!$G$4,IF($F$2<1501,O10*TARIFS!$H$4,O10*TARIFS!$I$4))))))) -> 0 | Q10: =H34 -> 0 | R10: =IF($F$2<351,Q10*TARIFS!$B$4,IF($F$2<476,Q10*TARIFS!$C$4,IF($F$2<581,Q10*TARIFS!$D$4,IF($F$2<721,Q10*TARIFS!$E$4,IF($F$2<901,Q10*TARIFS!$F$4,IF($F$2<1201,Q10*TARIFS!$G$4,IF($F$2<1501,Q10*TARIFS!$H$4,Q10*TARIFS!$I$4))))))) -> 0 | S10: =H35 -> 0 | T10: =IF($F$2<351,S10*TARIFS!$B$4,IF($F$2<476,S10*TARIFS!$C$4,IF($F$2<581,S10*TARIFS!$D$4,IF($F$2<721,S10*TARIFS!$E$4,IF($F$2<901,S10*TARIFS!$F$4,IF($F$2<1201,S10*TARIFS!$G$4,IF($F$2<1501,S10*TARIFS!$H$4,S10*TARIFS!$I$4))))))) -> 0
H11: =SUM(C11:G11) -> 0 | J11: TOTAL / enfant | K11: =SUM(K7:K10) -> 5 | L11: =K11*L7 -> 70.15 | M11: =SUM(M7:M10) -> 5 | N11: =M11*N7 -> 350.75 | O11: =SUM(O7:O10) -> 0 | P11: =O11*P7 -> 0 | Q11: =SUM(Q7:Q10) -> 0 | R11: =Q11*R7 -> 0 | S11: =SUM(S7:S10) -> 0 | T11: =S11*T7 -> 0
J12: TOTAL FAMILLE | K12: =L11+N11+P11+R11+T11 -> 420.9
A13: Nom | B13: Prénom | C13: Semaine 2 | H13: Total
C14: lundi | D14: mardi | E14: mercredi | F14: jeudi | G14: vendredi | J14: AIDES OBTENUES | N14: RESTE À CHARGE DE LA FAMILLE | O14: Mode de Règlement | P14: Date de règlement
G15: 1 | H15: =SUM(C15:G15) -> 1 | K15: montant | L15: nb de jours | M15: TOTAL | N15: Montant | O15: N° de chèque ou N° de reçu
H16: =SUM(C16:G16) -> 0 | J16: CAF | K16: =IF($F$2<351,TARIFS!B7,IF($F$2<476,TARIFS!C7,IF($F$2<581,TARIFS!D7,IF($F$2<721,TARIFS!E7,0)))) -> 0 | L16: =$K$11+$M$11+$O$11+$Q$11+$S$11 -> 10 | M16: =K16*L16 -> 0 | N16: =K12-M22 -> 381.616
H17: =SUM(C17:G17) -> 0 | J17: MSA | L17: =$K$11+$M$11+$O$11+$Q$11+$S$11 -> 10 | M17: =K17*L17 -> 0
H18: =SUM(C18:G18) -> 0 | J18: Employeur | L18: =$K$11+$M$11+$O$11+$Q$11+$S$11 -> 10 | M18: =K18*L18 -> 0
H19: =SUM(C19:G19) -> 0 | J19: ANCV | L19: =$K$11+$M$11+$O$11+$Q$11+$S$11 -> 10 | M19: =K19*L19 -> 0
J20: CCT | K20: =IF($F$2<351,TARIFS!B5,IF($F$2<476,TARIFS!C5,IF($F$2<581,TARIFS!D5,IF($F$2<721,TARIFS!E5,IF($F$2<901,TARIFS!F5,IF($F$2<1201,TARIFS!G5,IF($F$2<1501,TARIFS!H5,TARIFS!I5))))))) -> 3.9284 | L20: =$K$11+$M$11+$O$11+$Q$11+$S$11 -> 10 | M20: =K20*L20 -> 39.284
A21: Nom | B21: Prénom | C21: Semaine 3 | H21: Total | J21: Autres | L21: =$K$11+$M$11+$O$11+$Q$11+$S$11 -> 10 | M21: =K21*L21 -> 0
C22: lundi | D22: mardi | E22: mercredi | F22: jeudi | G22: vendredi | J22: TOTAL AIDES | M22: =SUM(M16:M21) -> 39.284
E23: 1 | F23: 1 | G23: 1 | H23: =SUM(C23:G23) -> 3
H24: =SUM(C24:G24) -> 0
H25: =SUM(C25:G25) -> 0
H26: =SUM(C26:G26) -> 0
H27: =SUM(C27:G27) -> 0
A29: Nom | B29: Prénom | C29: Semaine 4 | H29: Total
C30: lundi | D30: mardi | E30: mercredi | F30: jeudi | G30: vendredi
H31: =SUM(C31:G31) -> 0
H32: =SUM(C32:G32) -> 0
H33: =SUM(C33:G33) -> 0
H34: =SUM(C34:G34) -> 0
H35: =SUM(C35:G35) -> 0

Sheet Feuil20
A1: NOM | B1: DATE | C1: TELEPHONE(S) | D1: ADRESSE | E1: N° allocataire | F1: QF | G1: Nombre Enfants
A2: BECKER Alexandre et MASQUET Valérie | B2: 40360 | C2: 0475062803 0621840024 | D2: Les vignes 07270Gilhoc Sur Ormèze | E2: 200510841 | F2: 1220 | G2: 1
A5: Nom | B5: Prénom | C5: Semaine 1 | H5: Total | K5: enfant 1 | M5: enfant 2 | O5: enfant 3 | Q5: enfant 4 | S5: enfant 5
C6: lundi | D6: mardi | E6: mercredi | F6: jeudi | G6: vendredi | K6: nb jours présences | L6: cout total | M6: nb jours présences | N6: cout total | O6: nb jours présences | P6: cout total | Q6: nb jours présences | R6: cout total | S6: nb jours présences | T6: cout total
G7: 1 | H7: =SUM(C7:G7) -> 1 | J7: semaine 1 | K7: =H7 -> 1 | L7: =IF($F$2<351,K7*TARIFS!$B$4,IF($F$2<476,K7*TARIFS!$C$4,IF($F$2<581,K7*TARIFS!$D$4,IF($F$2<721,K7*TARIFS!$E$4,IF($F$2<901,K7*TARIFS!$F$4,IF($F$2<1201,K7*TARIFS!$G$4,IF($F$2<1501,K7*TARIFS!$H$4,K7*TARIFS!$I$4))))))) -> 14.03 | M7: =H8 -> 5 | N7: =IF($F$2<351,M7*TARIFS!$B$4,IF($F$2<476,M7*TARIFS!$C$4,IF($F$2<581,M7*TARIFS!$D$4,IF($F$2<721,M7*TARIFS!$E$4,IF($F$2<901,M7*TARIFS!$F$4,IF($F$2<1201,M7*TARIFS!$G$4,IF($F$2<1501,M7*TARIFS!$H$4,M7*TARIFS!$I$4))))))) -> 70.15 | O7: =H9 -> 0 | P7: =IF($F$2<351,O7*TARIFS!$B$4,IF($F$2<476,O7*TARIFS!$C$4,IF($F$2<581,O7*TARIFS!$D$4,IF($F$2<721,O7*TARIFS!$E$4,IF($F$2<901,O7*TARIFS!$F$4,IF($F$2<1201,O7*TARIFS!$G$4,IF($F$2<1501,O7*TARIFS!$H$4,O7*TARIFS!$I$4))))))) -> 0 | Q7: =H10 -> 0 | R7: =IF($F$2<351,Q7*TARIFS!$B$4,IF($F$2<476,Q7*TARIFS!$C$4,IF($F$2<581,Q7*TARIFS!$D$4,IF($F$2<721,Q7*TARIFS!$E$4,IF($F$2<901,Q7*TARIFS!$F$4,IF($F$2<1201,Q7*TARIFS!$G$4,IF($F$2<1501,Q7*TARIFS!$H$4,Q7*TARIFS!$I$4))))))) -> 0 | S7: =H11 -> 0 | T7: =IF($F$2<351,S7*TARIFS!$B$4,IF($F$2<476,S7*TARIFS!$C$4,IF($F$2<581,S7*TARIFS!$D$4,IF($F$2<721,S7*TARIFS!$E$4,IF($F$2<901,S7*TARIFS!$F$4,IF($F$2<1201,S7*TARIFS!$G$4,IF($F$2<1501,S7*TARIFS!$H$4,S7*TARIFS!$I$4))))))) -> 0
C8: 1 | D8: 1 | E8: 1 | F8: 1 | G8: 1 | H8: =SUM(C8:G8) -> 5 | J8: semaine 2 | K8: =H15 -> 1 | L8: =IF($F$2<351,K8*TARIFS!$B$4,IF($F$2<476,K8*TARIFS!$C$4,IF($F$2<581,K8*TARIFS!$D$4,IF($F$2<721,K8*TARIFS!$E$4,IF($F$2<901,K8*TARIFS!$F$4,IF($F$2<1201,K8*TARIFS!$G$4,IF($F$2<1501,K8*TARIFS!$H$4,K8*TARIFS!$I$4))))))) -> 14.03 | M8: =H16 -> 0 | N8: =IF($F$2<351,M8*TARIFS!$B$4,IF($F$2<476,M8*TARIFS!$C$4,IF($F$2<581,M8*TARIFS!$D$4,IF($F$2<721,M8*TARIFS!$E$4,IF($F$2<901,M8*TARIFS!$F$4,IF($F$2<1201,M8*TARIFS!$G$4,IF($F$2<1501,M8*TARIFS!$H$4,M8*TARIFS!$I$4))))))) -> 0 | O8: =H17 -> 0 | P8: =IF($F$2<351,O8*TARIFS!$B$4,IF($F$2<476,O8*TARIFS!$C$4,IF($F$2<581,O8*TARIFS!$D$4,IF($F$2<721,O8*TARIFS!$E$4,IF($F$2<901,O8*TARIFS!$F$4,IF($F$2<1201,O8*TARIFS!$G$4,IF($F$2<1501,O8*TARIFS!$H$4,O8*TARIFS!$I$4))))))) -> 0 | Q8: =H18 -> 0 | R8: =IF($F$2<351,Q8*TARIFS!$B$4,IF($F$2<476,Q8*TARIFS!$C$4,IF($F$2<581,Q8*TARIFS!$D$4,IF($F$2<721,Q8*TARIFS!$E$4,IF($F$2<901,Q8*TARIFS!$F$4,IF($F$2<1201,Q8*TARIFS!$G$4,IF($F$2<1501,Q8*TARIFS!$H$4,Q8*TARIFS!$I$4))))))) -> 0 | S8: =H19 -> 0 | T8: =IF($F$2<351,S8*TARIFS!$B$4,IF($F$2<476,S8*TARIFS!$C$4,IF($F$2<581,S8*TARIFS!$D$4,IF($F$2<721,S8*TARIFS!$E$4,IF($F$2<901,S8*TARIFS!$F$4,IF($F$2<1201,S8*TARIFS!$G$4,IF($F$2<1501,S8*TARIFS!$H$4,S8*TARIFS!$I$4))))))) -> 0
H9: =SUM(C9:G9) -> 0 | J9: semaine 3 | K9: =H23 -> 3 | L9: =IF($F$2<351,K9*TARIFS!$B$4,IF($F$2<476,K9*TARIFS!$C$4,IF($F$2<581,K9*TARIFS!$D$4,IF($F$2<721,K9*TARIFS!$E$4,IF($F$2<901,K9*TARIFS!$F$4,IF($F$2<1201,K9*TARIFS!$G$4,IF($F$2<1501,K9*TARIFS!$H$4,K9*TARIFS!$I$4))))))) -> 42.09 | M9: =H24 -> 0 | N9: =IF($F$2<351,M9*TARIFS!$B$4,IF($F$2<476,M9*TARIFS!$C$4,IF($F$2<581,M9*TARIFS!$D$4,IF($F$2<721,M9*TARIFS!$E$4,IF($F$2<901,M9*TARIFS!$F$4,IF($F$2<1201,M9*TARIFS!$G$4,IF($F$2<1501,M9*TARIFS!$H$4,M9*TARIFS!$I$4))))))) -> 0 | O9: =H25 -> 0 | P9: =IF($F$2<351,O9*TARIFS!$B$4,IF($F$2<476,O9*TARIFS!$C$4,IF($F$2<581,O9*TARIFS!$D$4,IF($F$2<721,O9*TARIFS!$E$4,IF($F$2<901,O9*TARIFS!$F$4,IF($F$2<1201,O9*TARIFS!$G$4,IF($F$2<1501,O9*TARIFS!$H$4,O9*TARIFS!$I$4))))))) -> 0 | Q9: =H26 -> 0 | R9: =IF($F$2<351,Q9*TARIFS!$B$4,IF($F$2<476,Q9*TARIFS!$C$4,IF($F$2<581,Q9*TARIFS!$D$4,IF($F$2<721,Q9*TARIFS!$E$4,IF($F$2<901,Q9*TARIFS!$F$4,IF($F$2<1201,Q9*TARIFS!$G$4,IF($F$2<1501,Q9*TARIFS!$H$4,Q9*TARIFS!$I$4))))))) -> 0 | S9: =H27 -> 0 | T9: =IF($F$2<351,S9*TARIFS!$B$4,IF($F$2<476,S9*TARIFS!$C$4,IF($F$2<581,S9*TARIFS!$D$4,IF($F$2<721,S9*TARIFS!$E$4,IF($F$2<901,S9*TARIFS!$F$4,IF($F$2<1201,S9*TARIFS!$G$4,IF($F$2<1501,S9*TARIFS!$H$4,S9*TARIFS!$I$4))))))) -> 0
H10: =SUM(C10:G10) -> 0 | J10: semaine 4 | K10: =H31 -> 0 | L10: =IF($F$2<351,K10*TARIFS!$B$4,IF($F$2<476,K10*TARIFS!$C$4,IF($F$2<581,K10*TARIFS!$D$4,IF($F$2<721,K10*TARIFS!$E$4,IF($F$2<901,K10*TARIFS!$F$4,IF($F$2<1201,K10*TARIFS!$G$4,IF($F$2<1501,K10*TARIFS!$H$4,K10*TARIFS!$I$4))))))) -> 0 | M10: =H32 -> 0 | N10: =IF($F$2<351,M10*TARIFS!$B$4,IF($F$2<476,M10*TARIFS!$C$4,IF($F$2<581,M10*TARIFS!$D$4,IF($F$2<721,M10*TARIFS!$E$4,IF($F$2<901,M10*TARIFS!$F$4,IF($F$2<1201,M10*TARIFS!$G$4,IF($F$2<1501,M10*TARIFS!$H$4,M10*TARIFS!$I$4))))))) -> 0 | O10: =H33 -> 0 | P10: =IF($F$2<351,O10*TARIFS!$B$4,IF($F$2<476,O10*TARIFS!$C$4,IF($F$2<581,O10*TARIFS!$D$4,IF($F$2<721,O10*TARIFS!$E$4,IF($F$2<901,O10*TARIFS!$F$4,IF($F$2<1201,O10*TARIFS!$G$4,IF($F$2<1501,O10*TARIFS!$H$4,O10*TARIFS!$I$4))))))) -> 0 | Q10: =H34 -> 0 | R10: =IF($F$2<351,Q10*TARIFS!$B$4,IF($F$2<476,Q10*TARIFS!$C$4,IF($F$2<581,Q10*TARIFS!$D$4,IF($F$2<721,Q10*TARIFS!$E$4,IF($F$2<901,Q10*TARIFS!$F$4,IF($F$2<1201,Q10*TARIFS!$G$4,IF($F$2<1501,Q10*TARIFS!$H$4,Q10*TARIFS!$I$4))))))) -> 0 | S10: =H35 -> 0 | T10: =IF($F$2<351,S10*TARIFS!$B$4,IF($F$2<476,S10*TARIFS!$C$4,IF($F$2<581,S10*TARIFS!$D$4,IF($F$2<721,S10*TARIFS!$E$4,IF($F$2<901,S10*TARIFS!$F$4,IF($F$2<1201,S10*TARIFS!$G$4,IF($F$2<1501,S10*TARIFS!$H$4,S10*TARIFS!$I$4))))))) -> 0
H11: =SUM(C11:G11) -> 0 | J11: TOTAL / enfant | K11: =SUM(K7:K10) -> 5 | L11: =K11*L7 -> 70.15 | M11: =SUM(M7:M10) -> 5 | N11: =M11*N7 -> 350.75 | O11: =SUM(O7:O10) -> 0 | P11: =O11*P7 -> 0 | Q11: =SUM(Q7:Q10) -> 0 | R11: =Q11*R7 -> 0 | S11: =SUM(S7:S10) -> 0 | T11: =S11*T7 -> 0
J12: TOTAL FAMILLE | K12: =L11+N11+P11+R11+T11 -> 420.9
A13: Nom | B13: Prénom | C13: Semaine 2 | H13: Total
C14: lundi | D14: mardi | E14: mercredi | F14: jeudi | G14: vendredi | J14: AIDES OBTENUES | N14: RESTE À CHARGE DE LA FAMILLE | O14: Mode de Règlement | P14: Date de règlement
G15: 1 | H15: =SUM(C15:G15) -> 1 | K15: montant | L15: nb de jours | M15: TOTAL | N15: Montant | O15: N° de chèque ou N° de reçu
H16: =SUM(C16:G16) -> 0 | J16: CAF | K16: =IF($F$2<351,TARIFS!B7,IF($F$2<476,TARIFS!C7,IF($F$2<581,TARIFS!D7,IF($F$2<721,TARIFS!E7,0)))) -> 0 | L16: =$K$11+$M$11+$O$11+$Q$11+$S$11 -> 10 | M16: =K16*L16 -> 0 | N16: =K12-M22 -> 381.616
H17: =SUM(C17:G17) -> 0 | J17: MSA | L17: =$K$11+$M$11+$O$11+$Q$11+$S$11 -> 10 | M17: =K17*L17 -> 0
H18: =SUM(C18:G18) -> 0 | J18: Employeur | L18: =$K$11+$M$11+$O$11+$Q$11+$S$11 -> 10 | M18: =K18*L18 -> 0
H19: =SUM(C19:G19) -> 0 | J19: ANCV | L19: =$K$11+$M$11+$O$11+$Q$11+$S$11 -> 10 | M19: =K19*L19 -> 0
J20: CCT | K20: =IF($F$2<351,TARIFS!B5,IF($F$2<476,TARIFS!C5,IF($F$2<581,TARIFS!D5,IF($F$2<721,TARIFS!E5,IF($F$2<901,TARIFS!F5,IF($F$2<1201,TARIFS!G5,IF($F$2<1501,TARIFS!H5,TARIFS!I5))))))) -> 3.9284 | L20: =$K$11+$M$11+$O$11+$Q$11+$S$11 -> 10 | M20: =K20*L20 -> 39.284
A21: Nom | B21: Prénom | C21: Semaine 3 | H21: Total | J21: Autres | L21: =$K$11+$M$11+$O$11+$Q$11+$S$11 -> 10 | M21: =K21*L21 -> 0
C22: lundi | D22: mardi | E22: mercredi | F22: jeudi | G22: vendredi | J22: TOTAL AIDES | M22: =SUM(M16:M21) -> 39.284
E23: 1 | F23: 1 | G23: 1 | H23: =SUM(C23:G23) -> 3
H24: =SUM(C24:G24) -> 0
H25: =SUM(C25:G25) -> 0
H26: =SUM(C26:G26) -> 0
H27: =SUM(C27:G27) -> 0
A29: Nom | B29: Prénom | C29: Semaine 4 | H29: Total
C30: lundi | D30: mardi | E30: mercredi | F30: jeudi | G30: vendredi
H31: =SUM(C31:G31) -> 0
H32: =SUM(C32:G32) -> 0
H33: =SUM(C33:G33) -> 0
H34: =SUM(C34:G34) -> 0
H35: =SUM(C35:G35) -> 0

Sheet Feuil21
A1: NOM | B1: DATE | C1: TELEPHONE(S) | D1: ADRESSE | E1: N° allocataire | F1: QF | G1: Nombre Enfants
A2: BECKER Alexandre et MASQUET Valérie | B2: 40360 | C2: 0475062803 0621840024 | D2: Les vignes 07270Gilhoc Sur Ormèze | E2: 200510841 | F2: 1220 | G2: 1
A5: Nom | B5: Prénom | C5: Semaine 1 | H5: Total | K5: enfant 1 | M5: enfant 2 | O5: enfant 3 | Q5: enfant 4 | S5: enfant 5
C6: lundi | D6: mardi | E6: mercredi | F6: jeudi | G6: vendredi | K6: nb jours présences | L6: cout total | M6: nb jours présences | N6: cout total | O6: nb jours présences | P6: cout total | Q6: nb jours présences | R6: cout total | S6: nb jours présences | T6: cout total
G7: 1 | H7: =SUM(C7:G7) -> 1 | J7: semaine 1 | K7: =H7 -> 1 | L7: =IF($F$2<351,K7*TARIFS!$B$4,IF($F$2<476,K7*TARIFS!$C$4,IF($F$2<581,K7*TARIFS!$D$4,IF($F$2<721,K7*TARIFS!$E$4,IF($F$2<901,K7*TARIFS!$F$4,IF($F$2<1201,K7*TARIFS!$G$4,IF($F$2<1501,K7*TARIFS!$H$4,K7*TARIFS!$I$4))))))) -> 14.03 | M7: =H8 -> 5 | N7: =IF($F$2<351,M7*TARIFS!$B$4,IF($F$2<476,M7*TARIFS!$C$4,IF($F$2<581,M7*TARIFS!$D$4,IF($F$2<721,M7*TARIFS!$E$4,IF($F$2<901,M7*TARIFS!$F$4,IF($F$2<1201,M7*TARIFS!$G$4,IF($F$2<1501,M7*TARIFS!$H$4,M7*TARIFS!$I$4))))))) -> 70.15 | O7: =H9 -> 0 | P7: =IF($F$2<351,O7*TARIFS!$B$4,IF($F$2<476,O7*TARIFS!$C$4,IF($F$2<581,O7*TARIFS!$D$4,IF($F$2<721,O7*TARIFS!$E$4,IF($F$2<901,O7*TARIFS!$F$4,IF($F$2<1201,O7*TARIFS!$G$4,IF($F$2<1501,O7*TARIFS!$H$4,O7*TARIFS!$I$4))))))) -> 0 | Q7: =H10 -> 0 | R7: =IF($F$2<351,Q7*TARIFS!$B$4,IF($F$2<476,Q7*TARIFS!$C$4,IF($F$2<581,Q7*TARIFS!$D$4,IF($F$2<721,Q7*TARIFS!$E$4,IF($F$2<901,Q7*TARIFS!$F$4,IF($F$2<1201,Q7*TARIFS!$G$4,IF($F$2<1501,Q7*TARIFS!$H$4,Q7*TARIFS!$I$4))))))) -> 0 | S7: =H11 -> 0 | T7: =IF($F$2<351,S7*TARIFS!$B$4,IF($F$2<476,S7*TARIFS!$C$4,IF($F$2<581,S7*TARIFS!$D$4,IF($F$2<721,S7*TARIFS!$E$4,IF($F$2<901,S7*TARIFS!$F$4,IF($F$2<1201,S7*TARIFS!$G$4,IF($F$2<1501,S7*TARIFS!$H$4,S7*TARIFS!$I$4))))))) -> 0
C8: 1 | D8: 1 | E8: 1 | F8: 1 | G8: 1 | H8: =SUM(C8:G8) -> 5 | J8: semaine 2 | K8: =H15 -> 1 | L8: =IF($F$2<351,K8*TARIFS!$B$4,IF($F$2<476,K8*TARIFS!$C$4,IF($F$2<581,K8*TARIFS!$D$4,IF($F$2<721,K8*TARIFS!$E$4,IF($F$2<901,K8*TARIFS!$F$4,IF($F$2<1201,K8*TARIFS!$G$4,IF($F$2<1501,K8*TARIFS!$H$4,K8*TARIFS!$I$4))))))) -> 14.03 | M8: =H16 -> 0 | N8: =IF($F$2<351,M8*TARIFS!$B$4,IF($F$2<476,M8*TARIFS!$C$4,IF($F$2<581,M8*TARIFS!$D$4,IF($F$2<721,M8*TARIFS!$E$4,IF($F$2<901,M8*TARIFS!$F$4,IF($F$2<1201,M8*TARIFS!$G$4,IF($F$2<1501,M8*TARIFS!$H$4,M8*TARIFS!$I$4))))))) -> 0 | O8: =H17 -> 0 | P8: =IF($F$2<351,O8*TARIFS!$B$4,IF($F$2<476,O8*TARIFS!$C$4,IF($F$2<581,O8*TARIFS!$D$4,IF($F$2<721,O8*TARIFS!$E$4,IF($F$2<901,O8*TARIFS!$F$4,IF($F$2<1201,O8*TARIFS!$G$4,IF($F$2<1501,O8*TARIFS!$H$4,O8*TARIFS!$I$4))))))) -> 0 | Q8: =H18 -> 0 | R8: =IF($F$2<351,Q8*TARIFS!$B$4,IF($F$2<476,Q8*TARIFS!$C$4,IF($F$2<581,Q8*TARIFS!$D$4,IF($F$2<721,Q8*TARIFS!$E$4,IF($F$2<901,Q8*TARIFS!$F$4,IF($F$2<1201,Q8*TARIFS!$G$4,IF($F$2<1501,Q8*TARIFS!$H$4,Q8*TARIFS!$I$4))))))) -> 0 | S8: =H19 -> 0 | T8: =IF($F$2<351,S8*TARIFS!$B$4,IF($F$2<476,S8*TARIFS!$C$4,IF($F$2<581,S8*TARIFS!$D$4,IF($F$2<721,S8*TARIFS!$E$4,IF($F$2<901,S8*TARIFS!$F$4,IF($F$2<1201,S8*TARIFS!$G$4,IF($F$2<1501,S8*TARIFS!$H$4,S8*TARIFS!$I$4))))))) -> 0
H9: =SUM(C9:G9) -> 0 | J9: semaine 3 | K9: =H23 -> 3 | L9: =IF($F$2<351,K9*TARIFS!$B$4,IF($F$2<476,K9*TARIFS!$C$4,IF($F$2<581,K9*TARIFS!$D$4,IF($F$2<721,K9*TARIFS!$E$4,IF($F$2<901,K9*TARIFS!$F$4,IF($F$2<1201,K9*TARIFS!$G$4,IF($F$2<1501,K9*TARIFS!$H$4,K9*TARIFS!$I$4))))))) -> 42.09 | M9: =H24 -> 0 | N9: =IF($F$2<351,M9*TARIFS!$B$4,IF($F$2<476,M9*TARIFS!$C$4,IF($F$2<581,M9*TARIFS!$D$4,IF($F$2<721,M9*TARIFS!$E$4,IF($F$2<901,M9*TARIFS!$F$4,IF($F$2<1201,M9*TARIFS!$G$4,IF($F$2<1501,M9*TARIFS!$H$4,M9*TARIFS!$I$4))))))) -> 0 | O9: =H25 -> 0 | P9: =IF($F$2<351,O9*TARIFS!$B$4,IF($F$2<476,O9*TARIFS!$C$4,IF($F$2<581,O9*TARIFS!$D$4,IF($F$2<721,O9*TARIFS!$E$4,IF($F$2<901,O9*TARIFS!$F$4,IF($F$2<1201,O9*TARIFS!$G$4,IF($F$2<1501,O9*TARIFS!$H$4,O9*TARIFS!$I$4))))))) -> 0 | Q9: =H26 -> 0 | R9: =IF($F$2<351,Q9*TARIFS!$B$4,IF($F$2<476,Q9*TARIFS!$C$4,IF($F$2<581,Q9*TARIFS!$D$4,IF($F$2<721,Q9*TARIFS!$E$4,IF($F$2<901,Q9*TARIFS!$F$4,IF($F$2<1201,Q9*TARIFS!$G$4,IF($F$2<1501,Q9*TARIFS!$H$4,Q9*TARIFS!$I$4))))))) -> 0 | S9: =H27 -> 0 | T9: =IF($F$2<351,S9*TARIFS!$B$4,IF($F$2<476,S9*TARIFS!$C$4,IF($F$2<581,S9*TARIFS!$D$4,IF($F$2<721,S9*TARIFS!$E$4,IF($F$2<901,S9*TARIFS!$F$4,IF($F$2<1201,S9*TARIFS!$G$4,IF($F$2<1501,S9*TARIFS!$H$4,S9*TARIFS!$I$4))))))) -> 0
H10: =SUM(C10:G10) -> 0 | J10: semaine 4 | K10: =H31 -> 0 | L10: =IF($F$2<351,K10*TARIFS!$B$4,IF($F$2<476,K10*TARIFS!$C$4,IF($F$2<581,K10*TARIFS!$D$4,IF($F$2<721,K10*TARIFS!$E$4,IF($F$2<901,K10*TARIFS!$F$4,IF($F$2<1201,K10*TARIFS!$G$4,IF($F$2<1501,K10*TARIFS!$H$4,K10*TARIFS!$I$4))))))) -> 0 | M10: =H32 -> 0 | N10: =IF($F$2<351,M10*TARIFS!$B$4,IF($F$2<476,M10*TARIFS!$C$4,IF($F$2<581,M10*TARIFS!$D$4,IF($F$2<721,M10*TARIFS!$E$4,IF($F$2<901,M10*TARIFS!$F$4,IF($F$2<1201,M10*TARIFS!$G$4,IF($F$2<1501,M10*TARIFS!$H$4,M10*TARIFS!$I$4))))))) -> 0 | O10: =H33 -> 0 | P10: =IF($F$2<351,O10*TARIFS!$B$4,IF($F$2<476,O10*TARIFS!$C$4,IF($F$2<581,O10*TARIFS!$D$4,IF($F$2<721,O10*TARIFS!$E$4,IF($F$2<901,O10*TARIFS!$F$4,IF($F$2<1201,O10*TARIFS!$G$4,IF($F$2<1501,O10*TARIFS!$H$4,O10*TARIFS!$I$4))))))) -> 0 | Q10: =H34 -> 0 | R10: =IF($F$2<351,Q10*TARIFS!$B$4,IF($F$2<476,Q10*TARIFS!$C$4,IF($F$2<581,Q10*TARIFS!$D$4,IF($F$2<721,Q10*TARIFS!$E$4,IF($F$2<901,Q10*TARIFS!$F$4,IF($F$2<1201,Q10*TARIFS!$G$4,IF($F$2<1501,Q10*TARIFS!$H$4,Q10*TARIFS!$I$4))))))) -> 0 | S10: =H35 -> 0 | T10: =IF($F$2<351,S10*TARIFS!$B$4,IF($F$2<476,S10*TARIFS!$C$4,IF($F$2<581,S10*TARIFS!$D$4,IF($F$2<721,S10*TARIFS!$E$4,IF($F$2<901,S10*TARIFS!$F$4,IF($F$2<1201,S10*TARIFS!$G$4,IF($F$2<1501,S10*TARIFS!$H$4,S10*TARIFS!$I$4))))))) -> 0
H11: =SUM(C11:G11) -> 0 | J11: TOTAL / enfant | K11: =SUM(K7:K10) -> 5 | L11: =K11*L7 -> 70.15 | M11: =SUM(M7:M10) -> 5 | N11: =M11*N7 -> 350.75 | O11: =SUM(O7:O10) -> 0 | P11: =O11*P7 -> 0 | Q11: =SUM(Q7:Q10) -> 0 | R11: =Q11*R7 -> 0 | S11: =SUM(S7:S10) -> 0 | T11: =S11*T7 -> 0
J12: TOTAL FAMILLE | K12: =L11+N11+P11+R11+T11 -> 420.9
A13: Nom | B13: Prénom | C13: Semaine 2 | H13: Total
C14: lundi | D14: mardi | E14: mercredi | F14: jeudi | G14: vendredi | J14: AIDES OBTENUES | N14: RESTE À CHARGE DE LA FAMILLE | O14: Mode de Règlement | P14: Date de règlement
G15: 1 | H15: =SUM(C15:G15) -> 1 | K15: montant | L15: nb de jours | M15: TOTAL | N15: Montant | O15: N° de chèque ou N° de reçu
H16: =SUM(C16:G16) -> 0 | J16: CAF | K16: =IF($F$2<351,TARIFS!B7,IF($F$2<476,TARIFS!C7,IF($F$2<581,TARIFS!D7,IF($F$2<721,TARIFS!E7,0)))) -> 0 | L16: =$K$11+$M$11+$O$11+$Q$11+$S$11 -> 10 | M16: =K16*L16 -> 0 | N16: =K12-M22 -> 381.616
H17: =SUM(C17:G17) -> 0 | J17: MSA | L17: =$K$11+$M$11+$O$11+$Q$11+$S$11 -> 10 | M17: =K17*L17 -> 0
H18: =SUM(C18:G18) -> 0 | J18: Employeur | L18: =$K$11+$M$11+$O$11+$Q$11+$S$11 -> 10 | M18: =K18*L18 -> 0
H19: =SUM(C19:G19) -> 0 | J19: ANCV | L19: =$K$11+$M$11+$O$11+$Q$11+$S$11 -> 10 | M19: =K19*L19 -> 0
J20: CCT | K20: =IF($F$2<351,TARIFS!B5,IF($F$2<476,TARIFS!C5,IF($F$2<581,TARIFS!D5,IF($F$2<721,TARIFS!E5,IF($F$2<901,TARIFS!F5,IF($F$2<1201,TARIFS!G5,IF($F$2<1501,TARIFS!H5,TARIFS!I5))))))) -> 3.9284 | L20: =$K$11+$M$11+$O$11+$Q$11+$S$11 -> 10 | M20: =K20*L20 -> 39.284
A21: Nom | B21: Prénom | C21: Semaine 3 | H21: Total | J21: Autres | L21: =$K$11+$M$11+$O$11+$Q$11+$S$11 -> 10 | M21: =K21*L21 -> 0
C22: lundi | D22: mardi | E22: mercredi | F22: jeudi | G22: vendredi | J22: TOTAL AIDES | M22: =SUM(M16:M21) -> 39.284
E23: 1 | F23: 1 | G23: 1 | H23: =SUM(C23:G23) -> 3
H24: =SUM(C24:G24) -> 0
H25: =SUM(C25:G25) -> 0
H26: =SUM(C26:G26) -> 0
H27: =SUM(C27:G27) -> 0
A29: Nom | B29: Prénom | C29: Semaine 4 | H29: Total
C30: lundi | D30: mardi | E30: mercredi | F30: jeudi | G30: vendredi
H31: =SUM(C31:G31) -> 0
H32: =SUM(C32:G32) -> 0
H33: =SUM(C33:G33) -> 0
H34: =SUM(C34:G34) -> 0
H35: =SUM(C35:G35) -> 0

Sheet Feuil22
A1: NOM | B1: DATE | C1: TELEPHONE(S) | D1: ADRESSE | E1: N° allocataire | F1: QF | G1: Nombre Enfants
A2: BECKER Alexandre et MASQUET Valérie | B2: 40360 | C2: 0475062803 0621840024 | D2: Les vignes 07270Gilhoc Sur Ormèze | E2: 200510841 | F2: 1220 | G2: 1
A5: Nom | B5: Prénom | C5: Semaine 1 | H5: Total | K5: enfant 1 | M5: enfant 2 | O5: enfant 3 | Q5: enfant 4 | S5: enfant 5
C6: lundi | D6: mardi | E6: mercredi | F6: jeudi | G6: vendredi | K6: nb jours présences | L6: cout total | M6: nb jours présences | N6: cout total | O6: nb jours présences | P6: cout total | Q6: nb jours présences | R6: cout total | S6: nb jours présences | T6: cout total
G7: 1 | H7: =SUM(C7:G7) -> 1 | J7: semaine 1 | K7: =H7 -> 1 | L7: =IF($F$2<351,K7*TARIFS!$B$4,IF($F$2<476,K7*TARIFS!$C$4,IF($F$2<581,K7*TARIFS!$D$4,IF($F$2<721,K7*TARIFS!$E$4,IF($F$2<901,K7*TARIFS!$F$4,IF($F$2<1201,K7*TARIFS!$G$4,IF($F$2<1501,K7*TARIFS!$H$4,K7*TARIFS!$I$4))))))) -> 14.03 | M7: =H8 -> 5 | N7: =IF($F$2<351,M7*TARIFS!$B$4,IF($F$2<476,M7*TARIFS!$C$4,IF($F$2<581,M7*TARIFS!$D$4,IF($F$2<721,M7*TARIFS!$E$4,IF($F$2<901,M7*TARIFS!$F$4,IF($F$2<1201,M7*TARIFS!$G$4,IF($F$2<1501,M7*TARIFS!$H$4,M7*TARIFS!$I$4))))))) -> 70.15 | O7: =H9 -> 0 | P7: =IF($F$2<351,O7*TARIFS!$B$4,IF($F$2<476,O7*TARIFS!$C$4,IF($F$2<581,O7*TARIFS!$D$4,IF($F$2<721,O7*TARIFS!$E$4,IF($F$2<901,O7*TARIFS!$F$4,IF($F$2<1201,O7*TARIFS!$G$4,IF($F$2<1501,O7*TARIFS!$H$4,O7*TARIFS!$I$4))))))) -> 0 | Q7: =H10 -> 0 | R7: =IF($F$2<351,Q7*TARIFS!$B$4,IF($F$2<476,Q7*TARIFS!$C$4,IF($F$2<581,Q7*TARIFS!$D$4,IF($F$2<721,Q7*TARIFS!$E$4,IF($F$2<901,Q7*TARIFS!$F$4,IF($F$2<1201,Q7*TARIFS!$G$4,IF($F$2<1501,Q7*TARIFS!$H$4,Q7*TARIFS!$I$4))))))) -> 0 | S7: =H11 -> 0 | T7: =IF($F$2<351,S7*TARIFS!$B$4,IF($F$2<476,S7*TARIFS!$C$4,IF($F$2<581,S7*TARIFS!$D$4,IF($F$2<721,S7*TARIFS!$E$4,IF($F$2<901,S7*TARIFS!$F$4,IF($F$2<1201,S7*TARIFS!$G$4,IF($F$2<1501,S7*TARIFS!$H$4,S7*TARIFS!$I$4))))))) -> 0
C8: 1 | D8: 1 | E8: 1 | F8: 1 | G8: 1 | H8: =SUM(C8:G8) -> 5 | J8: semaine 2 | K8: =H15 -> 1 | L8: =IF($F$2<351,K8*TARIFS!$B$4,IF($F$2<476,K8*TARIFS!$C$4,IF($F$2<581,K8*TARIFS!$D$4,IF($F$2<721,K8*TARIFS!$E$4,IF($F$2<901,K8*TARIFS!$F$4,IF($F$2<1201,K8*TARIFS!$G$4,IF($F$2<1501,K8*TARIFS!$H$4,K8*TARIFS!$I$4))))))) -> 14.03 | M8: =H16 -> 0 | N8: =IF($F$2<351,M8*TARIFS!$B$4,IF($F$2<476,M8*TARIFS!$C$4,IF($F$2<581,M8*TARIFS!$D$4,IF($F$2<721,M8*TARIFS!$E$4,IF($F$2<901,M8*TARIFS!$F$4,IF($F$2<1201,M8*TARIFS!$G$4,IF($F$2<1501,M8*TARIFS!$H$4,M8*TARIFS!$I$4))))))) -> 0 | O8: =H17 -> 0 | P8: =IF($F$2<351,O8*TARIFS!$B$4,IF($F$2<476,O8*TARIFS!$C$4,IF($F$2<581,O8*TARIFS!$D$4,IF($F$2<721,O8*TARIFS!$E$4,IF($F$2<901,O8*TARIFS!$F$4,IF($F$2<1201,O8*TARIFS!$G$4,IF($F$2<1501,O8*TARIFS!$H$4,O8*TARIFS!$I$4))))))) -> 0 | Q8: =H18 -> 0 | R8: =IF($F$2<351,Q8*TARIFS!$B$4,IF($F$2<476,Q8*TARIFS!$C$4,IF($F$2<581,Q8*TARIFS!$D$4,IF($F$2<721,Q8*TARIFS!$E$4,IF($F$2<901,Q8*TARIFS!$F$4,IF($F$2<1201,Q8*TARIFS!$G$4,IF($F$2<1501,Q8*TARIFS!$H$4,Q8*TARIFS!$I$4))))))) -> 0 | S8: =H19 -> 0 | T8: =IF($F$2<351,S8*TARIFS!$B$4,IF($F$2<476,S8*TARIFS!$C$4,IF($F$2<581,S8*TARIFS!$D$4,IF($F$2<721,S8*TARIFS!$E$4,IF($F$2<901,S8*TARIFS!$F$4,IF($F$2<1201,S8*TARIFS!$G$4,IF($F$2<1501,S8*TARIFS!$H$4,S8*TARIFS!$I$4))))))) -> 0
H9: =SUM(C9:G9) -> 0 | J9: semaine 3 | K9: =H23 -> 3 | L9: =IF($F$2<351,K9*TARIFS!$B$4,IF($F$2<476,K9*TARIFS!$C$4,IF($F$2<581,K9*TARIFS!$D$4,IF($F$2<721,K9*TARIFS!$E$4,IF($F$2<901,K9*TARIFS!$F$4,IF($F$2<1201,K9*TARIFS!$G$4,IF($F$2<1501,K9*TARIFS!$H$4,K9*TARIFS!$I$4))))))) -> 42.09 | M9: =H24 -> 0 | N9: =IF($F$2<351,M9*TARIFS!$B$4,IF($F$2<476,M9*TARIFS!$C$4,IF($F$2<581,M9*TARIFS!$D$4,IF($F$2<721,M9*TARIFS!$E$4,IF($F$2<901,M9*TARIFS!$F$4,IF($F$2<1201,M9*TARIFS!$G$4,IF($F$2<1501,M9*TARIFS!$H$4,M9*TARIFS!$I$4))))))) -> 0 | O9: =H25 -> 0 | P9: =IF($F$2<351,O9*TARIFS!$B$4,IF($F$2<476,O9*TARIFS!$C$4,IF($F$2<581,O9*TARIFS!$D$4,IF($F$2<721,O9*TARIFS!$E$4,IF($F$2<901,O9*TARIFS!$F$4,IF($F$2<1201,O9*TARIFS!$G$4,IF($F$2<1501,O9*TARIFS!$H$4,O9*TARIFS!$I$4))))))) -> 0 | Q9: =H26 -> 0 | R9: =IF($F$2<351,Q9*TARIFS!$B$4,IF($F$2<476,Q9*TARIFS!$C$4,IF($F$2<581,Q9*TARIFS!$D$4,IF($F$2<721,Q9*TARIFS!$E$4,IF($F$2<901,Q9*TARIFS!$F$4,IF($F$2<1201,Q9*TARIFS!$G$4,IF($F$2<1501,Q9*TARIFS!$H$4,Q9*TARIFS!$I$4))))))) -> 0 | S9: =H27 -> 0 | T9: =IF($F$2<351,S9*TARIFS!$B$4,IF($F$2<476,S9*TARIFS!$C$4,IF($F$2<581,S9*TARIFS!$D$4,IF($F$2<721,S9*TARIFS!$E$4,IF($F$2<901,S9*TARIFS!$F$4,IF($F$2<1201,S9*TARIFS!$G$4,IF($F$2<1501,S9*TARIFS!$H$4,S9*TARIFS!$I$4))))))) -> 0
H10: =SUM(C10:G10) -> 0 | J10: semaine 4 | K10: =H31 -> 0 | L10: =IF($F$2<351,K10*TARIFS!$B$4,IF($F$2<476,K10*TARIFS!$C$4,IF($F$2<581,K10*TARIFS!$D$4,IF($F$2<721,K10*TARIFS!$E$4,IF($F$2<901,K10*TARIFS!$F$4,IF($F$2<1201,K10*TARIFS!$G$4,IF($F$2<1501,K10*TARIFS!$H$4,K10*TARIFS!$I$4))))))) -> 0 | M10: =H32 -> 0 | N10: =IF($F$2<351,M10*TARIFS!$B$4,IF($F$2<476,M10*TARIFS!$C$4,IF($F$2<581,M10*TARIFS!$D$4,IF($F$2<721,M10*TARIFS!$E$4,IF($F$2<901,M10*TARIFS!$F$4,IF($F$2<1201,M10*TARIFS!$G$4,IF($F$2<1501,M10*TARIFS!$H$4,M10*TARIFS!$I$4))))))) -> 0 | O10: =H33 -> 0 | P10: =IF($F$2<351,O10*TARIFS!$B$4,IF($F$2<476,O10*TARIFS!$C$4,IF($F$2<581,O10*TARIFS!$D$4,IF($F$2<721,O10*TARIFS!$E$4,IF($F$2<901,O10*TARIFS!$F$4,IF($F$2<1201,O10*TARIFS!$G$4,IF($F$2<1501,O10*TARIFS!$H$4,O10*TARIFS!$I$4))))))) -> 0 | Q10: =H34 -> 0 | R10: =IF($F$2<351,Q10*TARIFS!$B$4,IF($F$2<476,Q10*TARIFS!$C$4,IF($F$2<581,Q10*TARIFS!$D$4,IF($F$2<721,Q10*TARIFS!$E$4,IF($F$2<901,Q10*TARIFS!$F$4,IF($F$2<1201,Q10*TARIFS!$G$4,IF($F$2<1501,Q10*TARIFS!$H$4,Q10*TARIFS!$I$4))))))) -> 0 | S10: =H35 -> 0 | T10: =IF($F$2<351,S10*TARIFS!$B$4,IF($F$2<476,S10*TARIFS!$C$4,IF($F$2<581,S10*TARIFS!$D$4,IF($F$2<721,S10*TARIFS!$E$4,IF($F$2<901,S10*TARIFS!$F$4,IF($F$2<1201,S10*TARIFS!$G$4,IF($F$2<1501,S10*TARIFS!$H$4,S10*TARIFS!$I$4))))))) -> 0
H11: =SUM(C11:G11) -> 0 | J11: TOTAL / enfant | K11: =SUM(K7:K10) -> 5 | L11: =K11*L7 -> 70.15 | M11: =SUM(M7:M10) -> 5 | N11: =M11*N7 -> 350.75 | O11: =SUM(O7:O10) -> 0 | P11: =O11*P7 -> 0 | Q11: =SUM(Q7:Q10) -> 0 | R11: =Q11*R7 -> 0 | S11: =SUM(S7:S10) -> 0 | T11: =S11*T7 -> 0
J12: TOTAL FAMILLE | K12: =L11+N11+P11+R11+T11 -> 420.9
A13: Nom | B13: Prénom | C13: Semaine 2 | H13: Total
C14: lundi | D14: mardi | E14: mercredi | F14: jeudi | G14: vendredi | J14: AIDES OBTENUES | N14: RESTE À CHARGE DE LA FAMILLE | O14: Mode de Règlement | P14: Date de règlement
G15: 1 | H15: =SUM(C15:G15) -> 1 | K15: montant | L15: nb de jours | M15: TOTAL | N15: Montant | O15: N° de chèque ou N° de reçu
H16: =SUM(C16:G16) -> 0 | J16: CAF | K16: =IF($F$2<351,TARIFS!B7,IF($F$2<476,TARIFS!C7,IF($F$2<581,TARIFS!D7,IF($F$2<721,TARIFS!E7,0)))) -> 0 | L16: =$K$11+$M$11+$O$11+$Q$11+$S$11 -> 10 | M16: =K16*L16 -> 0 | N16: =K12-M22 -> 381.616
H17: =SUM(C17:G17) -> 0 | J17: MSA | L17: =$K$11+$M$11+$O$11+$Q$11+$S$11 -> 10 | M17: =K17*L17 -> 0
H18: =SUM(C18:G18) -> 0 | J18: Employeur | L18: =$K$11+$M$11+$O$11+$Q$11+$S$11 -> 10 | M18: =K18*L18 -> 0
H19: =SUM(C19:G19) -> 0 | J19: ANCV | L19: =$K$11+$M$11+$O$11+$Q$11+$S$11 -> 10 | M19: =K19*L19 -> 0
J20: CCT | K20: =IF($F$2<351,TARIFS!B5,IF($F$2<476,TARIFS!C5,IF($F$2<581,TARIFS!D5,IF($F$2<721,TARIFS!E5,IF($F$2<901,TARIFS!F5,IF($F$2<1201,TARIFS!G5,IF($F$2<1501,TARIFS!H5,TARIFS!I5))))))) -> 3.9284 | L20: =$K$11+$M$11+$O$11+$Q$11+$S$11 -> 10 | M20: =K20*L20 -> 39.284
A21: Nom | B21: Prénom | C21: Semaine 3 | H21: Total | J21: Autres | L21: =$K$11+$M$11+$O$11+$Q$11+$S$11 -> 10 | M21: =K21*L21 -> 0
C22: lundi | D22: mardi | E22: mercredi | F22: jeudi | G22: vendredi | J22: TOTAL AIDES | M22: =SUM(M16:M21) -> 39.284
E23: 1 | F23: 1 | G23: 1 | H23: =SUM(C23:G23) -> 3
H24: =SUM(C24:G24) -> 0
H25: =SUM(C25:G25) -> 0
H26: =SUM(C26:G26) -> 0
H27: =SUM(C27:G27) -> 0
A29: Nom | B29: Prénom | C29: Semaine 4 | H29: Total
C30: lundi | D30: mardi | E30: mercredi | F30: jeudi | G30: vendredi
H31: =SUM(C31:G31) -> 0
H32: =SUM(C32:G32) -> 0
H33: =SUM(C33:G33) -> 0
H34: =SUM(C34:G34) -> 0
H35: =SUM(C35:G35) -> 0

Sheet Feuil23
A1: NOM | B1: DATE | C1: TELEPHONE(S) | D1: ADRESSE | E1: N° allocataire | F1: QF | G1: Nombre Enfants
A2: BECKER Alexandre et MASQUET Valérie | B2: 40360 | C2: 0475062803 0621840024 | D2: Les vignes 07270Gilhoc Sur Ormèze | E2: 200510841 | F2: 1220 | G2: 1
A5: Nom | B5: Prénom | C5: Semaine 1 | H5: Total | K5: enfant 1 | M5: enfant 2 | O5: enfant 3 | Q5: enfant 4 | S5: enfant 5
C6: lundi | D6: mardi | E6: mercredi | F6: jeudi | G6: vendredi | K6: nb jours présences | L6: cout total | M6: nb jours présences | N6: cout total | O6: nb jours présences | P6: cout total | Q6: nb jours présences | R6: cout total | S6: nb jours présences | T6: cout total
G7: 1 | H7: =SUM(C7:G7) -> 1 | J7: semaine 1 | K7: =H7 -> 1 | L7: =IF($F$2<351,K7*TARIFS!$B$4,IF($F$2<476,K7*TARIFS!$C$4,IF($F$2<581,K7*TARIFS!$D$4,IF($F$2<721,K7*TARIFS!$E$4,IF($F$2<901,K7*TARIFS!$F$4,IF($F$2<1201,K7*TARIFS!$G$4,IF($F$2<1501,K7*TARIFS!$H$4,K7*TARIFS!$I$4))))))) -> 14.03 | M7: =H8 -> 5 | N7: =IF($F$2<351,M7*TARIFS!$B$4,IF($F$2<476,M7*TARIFS!$C$4,IF($F$2<581,M7*TARIFS!$D$4,IF($F$2<721,M7*TARIFS!$E$4,IF($F$2<901,M7*TARIFS!$F$4,IF($F$2<1201,M7*TARIFS!$G$4,IF($F$2<1501,M7*TARIFS!$H$4,M7*TARIFS!$I$4))))))) -> 70.15 | O7: =H9 -> 0 | P7: =IF($F$2<351,O7*TARIFS!$B$4,IF($F$2<476,O7*TARIFS!$C$4,IF($F$2<581,O7*TARIFS!$D$4,IF($F$2<721,O7*TARIFS!$E$4,IF($F$2<901,O7*TARIFS!$F$4,IF($F$2<1201,O7*TARIFS!$G$4,IF($F$2<1501,O7*TARIFS!$H$4,O7*TARIFS!$I$4))))))) -> 0 | Q7: =H10 -> 0 | R7: =IF($F$2<351,Q7*TARIFS!$B$4,IF($F$2<476,Q7*TARIFS!$C$4,IF($F$2<581,Q7*TARIFS!$D$4,IF($F$2<721,Q7*TARIFS!$E$4,IF($F$2<901,Q7*TARIFS!$F$4,IF($F$2<1201,Q7*TARIFS!$G$4,IF($F$2<1501,Q7*TARIFS!$H$4,Q7*TARIFS!$I$4))))))) -> 0 | S7: =H11 -> 0 | T7: =IF($F$2<351,S7*TARIFS!$B$4,IF($F$2<476,S7*TARIFS!$C$4,IF($F$2<581,S7*TARIFS!$D$4,IF($F$2<721,S7*TARIFS!$E$4,IF($F$2<901,S7*TARIFS!$F$4,IF($F$2<1201,S7*TARIFS!$G$4,IF($F$2<1501,S7*TARIFS!$H$4,S7*TARIFS!$I$4))))))) -> 0
C8: 1 | D8: 1 | E8: 1 | F8: 1 | G8: 1 | H8: =SUM(C8:G8) -> 5 | J8: semaine 2 | K8: =H15 -> 1 | L8: =IF($F$2<351,K8*TARIFS!$B$4,IF($F$2<476,K8*TARIFS!$C$4,IF($F$2<581,K8*TARIFS!$D$4,IF($F$2<721,K8*TARIFS!$E$4,IF($F$2<901,K8*TARIFS!$F$4,IF($F$2<1201,K8*TARIFS!$G$4,IF($F$2<1501,K8*TARIFS!$H$4,K8*TARIFS!$I$4))))))) -> 14.03 | M8: =H16 -> 0 | N8: =IF($F$2<351,M8*TARIFS!$B$4,IF($F$2<476,M8*TARIFS!$C$4,IF($F$2<581,M8*TARIFS!$D$4,IF($F$2<721,M8*TARIFS!$E$4,IF($F$2<901,M8*TARIFS!$F$4,IF($F$2<1201,M8*TARIFS!$G$4,IF($F$2<1501,M8*TARIFS!$H$4,M8*TARIFS!$I$4))))))) -> 0 | O8: =H17 -> 0 | P8: =IF($F$2<351,O8*TARIFS!$B$4,IF($F$2<476,O8*TARIFS!$C$4,IF($F$2<581,O8*TARIFS!$D$4,IF($F$2<721,O8*TARIFS!$E$4,IF($F$2<901,O8*TARIFS!$F$4,IF($F$2<1201,O8*TARIFS!$G$4,IF($F$2<1501,O8*TARIFS!$H$4,O8*TARIFS!$I$4))))))) -> 0 | Q8: =H18 -> 0 | R8: =IF($F$2<351,Q8*TARIFS!$B$4,IF($F$2<476,Q8*TARIFS!$C$4,IF($F$2<581,Q8*TARIFS!$D$4,IF($F$2<721,Q8*TARIFS!$E$4,IF($F$2<901,Q8*TARIFS!$F$4,IF($F$2<1201,Q8*TARIFS!$G$4,IF($F$2<1501,Q8*TARIFS!$H$4,Q8*TARIFS!$I$4))))))) -> 0 | S8: =H19 -> 0 | T8: =IF($F$2<351,S8*TARIFS!$B$4,IF($F$2<476,S8*TARIFS!$C$4,IF($F$2<581,S8*TARIFS!$D$4,IF($F$2<721,S8*TARIFS!$E$4,IF($F$2<901,S8*TARIFS!$F$4,IF($F$2<1201,S8*TARIFS!$G$4,IF($F$2<1501,S8*TARIFS!$H$4,S8*TARIFS!$I$4))))))) -> 0
H9: =SUM(C9:G9) -> 0 | J9: semaine 3 | K9: =H23 -> 3 | L9: =IF($F$2<351,K9*TARIFS!$B$4,IF($F$2<476,K9*TARIFS!$C$4,IF($F$2<581,K9*TARIFS!$D$4,IF($F$2<721,K9*TARIFS!$E$4,IF($F$2<901,K9*TARIFS!$F$4,IF($F$2<1201,K9*TARIFS!$G$4,IF($F$2<1501,K9*TARIFS!$H$4,K9*TARIFS!$I$4))))))) -> 42.09 | M9: =H24 -> 0 | N9: =IF($F$2<351,M9*TARIFS!$B$4,IF($F$2<476,M9*TARIFS!$C$4,IF($F$2<581,M9*TARIFS!$D$4,IF($F$2<721,M9*TARIFS!$E$4,IF($F$2<901,M9*TARIFS!$F$4,IF($F$2<1201,M9*TARIFS!$G$4,IF($F$2<1501,M9*TARIFS!$H$4,M9*TARIFS!$I$4))))))) -> 0 | O9: =H25 -> 0 | P9: =IF($F$2<351,O9*TARIFS!$B$4,IF($F$2<476,O9*TARIFS!$C$4,IF($F$2<581,O9*TARIFS!$D$4,IF($F$2<721,O9*TARIFS!$E$4,IF($F$2<901,O9*TARIFS!$F$4,IF($F$2<1201,O9*TARIFS!$G$4,IF($F$2<1501,O9*TARIFS!$H$4,O9*TARIFS!$I$4))))))) -> 0 | Q9: =H26 -> 0 | R9: =IF($F$2<351,Q9*TARIFS!$B$4,IF($F$2<476,Q9*TARIFS!$C$4,IF($F$2<581,Q9*TARIFS!$D$4,IF($F$2<721,Q9*TARIFS!$E$4,IF($F$2<901,Q9*TARIFS!$F$4,IF($F$2<1201,Q9*TARIFS!$G$4,IF($F$2<1501,Q9*TARIFS!$H$4,Q9*TARIFS!$I$4))))))) -> 0 | S9: =H27 -> 0 | T9: =IF($F$2<351,S9*TARIFS!$B$4,IF($F$2<476,S9*TARIFS!$C$4,IF($F$2<581,S9*TARIFS!$D$4,IF($F$2<721,S9*TARIFS!$E$4,IF($F$2<901,S9*TARIFS!$F$4,IF($F$2<1201,S9*TARIFS!$G$4,IF($F$2<1501,S9*TARIFS!$H$4,S9*TARIFS!$I$4))))))) -> 0
H10: =SUM(C10:G10) -> 0 | J10: semaine 4 | K10: =H31 -> 0 | L10: =IF($F$2<351,K10*TARIFS!$B$4,IF($F$2<476,K10*TARIFS!$C$4,IF($F$2<581,K10*TARIFS!$D$4,IF($F$2<721,K10*TARIFS!$E$4,IF($F$2<901,K10*TARIFS!$F$4,IF($F$2<1201,K10*TARIFS!$G$4,IF($F$2<1501,K10*TARIFS!$H$4,K10*TARIFS!$I$4))))))) -> 0 | M10: =H32 -> 0 | N10: =IF($F$2<351,M10*TARIFS!$B$4,IF($F$2<476,M10*TARIFS!$C$4,IF($F$2<581,M10*TARIFS!$D$4,IF($F$2<721,M10*TARIFS!$E$4,IF($F$2<901,M10*TARIFS!$F$4,IF($F$2<1201,M10*TARIFS!$G$4,IF($F$2<1501,M10*TARIFS!$H$4,M10*TARIFS!$I$4))))))) -> 0 | O10: =H33 -> 0 | P10: =IF($F$2<351,O10*TARIFS!$B$4,IF($F$2<476,O10*TARIFS!$C$4,IF($F$2<581,O10*TARIFS!$D$4,IF($F$2<721,O10*TARIFS!$E$4,IF($F$2<901,O10*TARIFS!$F$4,IF($F$2<1201,O10*TARIFS!$G$4,IF($F$2<1501,O10*TARIFS!$H$4,O10*TARIFS!$I$4))))))) -> 0 | Q10: =H34 -> 0 | R10: =IF($F$2<351,Q10*TARIFS!$B$4,IF($F$2<476,Q10*TARIFS!$C$4,IF($F$2<581,Q10*TARIFS!$D$4,IF($F$2<721,Q10*TARIFS!$E$4,IF($F$2<901,Q10*TARIFS!$F$4,IF($F$2<1201,Q10*TARIFS!$G$4,IF($F$2<1501,Q10*TARIFS!$H$4,Q10*TARIFS!$I$4))))))) -> 0 | S10: =H35 -> 0 | T10: =IF($F$2<351,S10*TARIFS!$B$4,IF($F$2<476,S10*TARIFS!$C$4,IF($F$2<581,S10*TARIFS!$D$4,IF($F$2<721,S10*TARIFS!$E$4,IF($F$2<901,S10*TARIFS!$F$4,IF($F$2<1201,S10*TARIFS!$G$4,IF($F$2<1501,S10*TARIFS!$H$4,S10*TARIFS!$I$4))))))) -> 0
H11: =SUM(C11:G11) -> 0 | J11: TOTAL / enfant | K11: =SUM(K7:K10) -> 5 | L11: =K11*L7 -> 70.15 | M11: =SUM(M7:M10) -> 5 | N11: =M11*N7 -> 350.75 | O11: =SUM(O7:O10) -> 0 | P11: =O11*P7 -> 0 | Q11: =SUM(Q7:Q10) -> 0 | R11: =Q11*R7 -> 0 | S11: =SUM(S7:S10) -> 0 | T11: =S11*T7 -> 0
J12: TOTAL FAMILLE | K12: =L11+N11+P11+R11+T11 -> 420.9
A13: Nom | B13: Prénom | C13: Semaine 2 | H13: Total
C14: lundi | D14: mardi | E14: mercredi | F14: jeudi | G14: vendredi | J14: AIDES OBTENUES | N14: RESTE À CHARGE DE LA FAMILLE | O14: Mode de Règlement | P14: Date de règlement
G15: 1 | H15: =SUM(C15:G15) -> 1 | K15: montant | L15: nb de jours | M15: TOTAL | N15: Montant | O15: N° de chèque ou N° de reçu
H16: =SUM(C16:G16) -> 0 | J16: CAF | K16: =IF($F$2<351,TARIFS!B7,IF($F$2<476,TARIFS!C7,IF($F$2<581,TARIFS!D7,IF($F$2<721,TARIFS!E7,0)))) -> 0 | L16: =$K$11+$M$11+$O$11+$Q$11+$S$11 -> 10 | M16: =K16*L16 -> 0 | N16: =K12-M22 -> 381.616
H17: =SUM(C17:G17) -> 0 | J17: MSA | L17: =$K$11+$M$11+$O$11+$Q$11+$S$11 -> 10 | M17: =K17*L17 -> 0
H18: =SUM(C18:G18) -> 0 | J18: Employeur | L18: =$K$11+$M$11+$O$11+$Q$11+$S$11 -> 10 | M18: =K18*L18 -> 0
H19: =SUM(C19:G19) -> 0 | J19: ANCV | L19: =$K$11+$M$11+$O$11+$Q$11+$S$11 -> 10 | M19: =K19*L19 -> 0
J20: CCT | K20: =IF($F$2<351,TARIFS!B5,IF($F$2<476,TARIFS!C5,IF($F$2<581,TARIFS!D5,IF($F$2<721,TARIFS!E5,IF($F$2<901,TARIFS!F5,IF($F$2<1201,TARIFS!G5,IF($F$2<1501,TARIFS!H5,TARIFS!I5))))))) -> 3.9284 | L20: =$K$11+$M$11+$O$11+$Q$11+$S$11 -> 10 | M20: =K20*L20 -> 39.284
A21: Nom | B21: Prénom | C21: Semaine 3 | H21: Total | J21: Autres | L21: =$K$11+$M$11+$O$11+$Q$11+$S$11 -> 10 | M21: =K21*L21 -> 0
C22: lundi | D22: mardi | E22: mercredi | F22: jeudi | G22: vendredi | J22: TOTAL AIDES | M22: =SUM(M16:M21) -> 39.284
E23: 1 | F23: 1 | G23: 1 | H23: =SUM(C23:G23) -> 3
H24: =SUM(C24:G24) -> 0
H25: =SUM(C25:G25) -> 0
H26: =SUM(C26:G26) -> 0
H27: =SUM(C27:G27) -> 0
A29: Nom | B29: Prénom | C29: Semaine 4 | H29: Total
C30: lundi | D30: mardi | E30: mercredi | F30: jeudi | G30: vendredi
H31: =SUM(C31:G31) -> 0
H32: =SUM(C32:G32) -> 0
H33: =SUM(C33:G33) -> 0
H34: =SUM(C34:G34) -> 0
H35: =SUM(C35:G35) -> 0

Sheet Feuil24
A1: NOM | B1: DATE | C1: TELEPHONE(S) | D1: ADRESSE | E1: N° allocataire | F1: QF | G1: Nombre Enfants
A2: BECKER Alexandre et MASQUET Valérie | B2: 40360 | C2: 0475062803 0621840024 | D2: Les vignes 07270Gilhoc Sur Ormèze | E2: 200510841 | F2: 1220 | G2: 1
A5: Nom | B5: Prénom | C5: Semaine 1 | H5: Total | K5: enfant 1 | M5: enfant 2 | O5: enfant 3 | Q5: enfant 4 | S5: enfant 5
C6: lundi | D6: mardi | E6: mercredi | F6: jeudi | G6: vendredi | K6: nb jours présences | L6: cout total | M6: nb jours présences | N6: cout total | O6: nb jours présences | P6: cout total | Q6: nb jours présences | R6: cout total | S6: nb jours présences | T6: cout total
G7: 1 | H7: =SUM(C7:G7) -> 1 | J7: semaine 1 | K7: =H7 -> 1 | L7: =IF($F$2<351,K7*TARIFS!$B$4,IF($F$2<476,K7*TARIFS!$C$4,IF($F$2<581,K7*TARIFS!$D$4,IF($F$2<721,K7*TARIFS!$E$4,IF($F$2<901,K7*TARIFS!$F$4,IF($F$2<1201,K7*TARIFS!$G$4,IF($F$2<1501,K7*TARIFS!$H$4,K7*TARIFS!$I$4))))))) -> 14.03 | M7: =H8 -> 5 | N7: =IF($F$2<351,M7*TARIFS!$B$4,IF($F$2<476,M7*TARIFS!$C$4,IF($F$2<581,M7*TARIFS!$D$4,IF($F$2<721,M7*TARIFS!$E$4,IF($F$2<901,M7*TARIFS!$F$4,IF($F$2<1201,M7*TARIFS!$G$4,IF($F$2<1501,M7*TARIFS!$H$4,M7*TARIFS!$I$4))))))) -> 70.15 | O7: =H9 -> 0 | P7: =IF($F$2<351,O7*TARIFS!$B$4,IF($F$2<476,O7*TARIFS!$C$4,IF($F$2<581,O7*TARIFS!$D$4,IF($F$2<721,O7*TARIFS!$E$4,IF($F$2<901,O7*TARIFS!$F$4,IF($F$2<1201,O7*TARIFS!$G$4,IF($F$2<1501,O7*TARIFS!$H$4,O7*TARIFS!$I$4))))))) -> 0 | Q7: =H10 -> 0 | R7: =IF($F$2<351,Q7*TARIFS!$B$4,IF($F$2<476,Q7*TARIFS!$C$4,IF($F$2<581,Q7*TARIFS!$D$4,IF($F$2<721,Q7*TARIFS!$E$4,IF($F$2<901,Q7*TARIFS!$F$4,IF($F$2<1201,Q7*TARIFS!$G$4,IF($F$2<1501,Q7*TARIFS!$H$4,Q7*TARIFS!$I$4))))))) -> 0 | S7: =H11 -> 0 | T7: =IF($F$2<351,S7*TARIFS!$B$4,IF($F$2<476,S7*TARIFS!$C$4,IF($F$2<581,S7*TARIFS!$D$4,IF($F$2<721,S7*TARIFS!$E$4,IF($F$2<901,S7*TARIFS!$F$4,IF($F$2<1201,S7*TARIFS!$G$4,IF($F$2<1501,S7*TARIFS!$H$4,S7*TARIFS!$I$4))))))) -> 0
C8: 1 | D8: 1 | E8: 1 | F8: 1 | G8: 1 | H8: =SUM(C8:G8) -> 5 | J8: semaine 2 | K8: =H15 -> 1 | L8: =IF($F$2<351,K8*TARIFS!$B$4,IF($F$2<476,K8*TARIFS!$C$4,IF($F$2<581,K8*TARIFS!$D$4,IF($F$2<721,K8*TARIFS!$E$4,IF($F$2<901,K8*TARIFS!$F$4,IF($F$2<1201,K8*TARIFS!$G$4,IF($F$2<1501,K8*TARIFS!$H$4,K8*TARIFS!$I$4))))))) -> 14.03 | M8: =H16 -> 0 | N8: =IF($F$2<351,M8*TARIFS!$B$4,IF($F$2<476,M8*TARIFS!$C$4,IF($F$2<581,M8*TARIFS!$D$4,IF($F$2<721,M8*TARIFS!$E$4,IF($F$2<901,M8*TARIFS!$F$4,IF($F$2<1201,M8*TARIFS!$G$4,IF($F$2<1501,M8*TARIFS!$H$4,M8*TARIFS!$I$4))))))) -> 0 | O8: =H17 -> 0 | P8: =IF($F$2<351,O8*TARIFS!$B$4,IF($F$2<476,O8*TARIFS!$C$4,IF($F$2<581,O8*TARIFS!$D$4,IF($F$2<721,O8*TARIFS!$E$4,IF($F$2<901,O8*TARIFS!$F$4,IF($F$2<1201,O8*TARIFS!$G$4,IF($F$2<1501,O8*TARIFS!$H$4,O8*TARIFS!$I$4))))))) -> 0 | Q8: =H18 -> 0 | R8: =IF($F$2<351,Q8*TARIFS!$B$4,IF($F$2<476,Q8*TARIFS!$C$4,IF($F$2<581,Q8*TARIFS!$D$4,IF($F$2<721,Q8*TARIFS!$E$4,IF($F$2<901,Q8*TARIFS!$F$4,IF($F$2<1201,Q8*TARIFS!$G$4,IF($F$2<1501,Q8*TARIFS!$H$4,Q8*TARIFS!$I$4))))))) -> 0 | S8: =H19 -> 0 | T8: =IF($F$2<351,S8*TARIFS!$B$4,IF($F$2<476,S8*TARIFS!$C$4,IF($F$2<581,S8*TARIFS!$D$4,IF($F$2<721,S8*TARIFS!$E$4,IF($F$2<901,S8*TARIFS!$F$4,IF($F$2<1201,S8*TARIFS!$G$4,IF($F$2<1501,S8*TARIFS!$H$4,S8*TARIFS!$I$4))))))) -> 0
H9: =SUM(C9:G9) -> 0 | J9: semaine 3 | K9: =H23 -> 3 | L9: =IF($F$2<351,K9*TARIFS!$B$4,IF($F$2<476,K9*TARIFS!$C$4,IF($F$2<581,K9*TARIFS!$D$4,IF($F$2<721,K9*TARIFS!$E$4,IF($F$2<901,K9*TARIFS!$F$4,IF($F$2<1201,K9*TARIFS!$G$4,IF($F$2<1501,K9*TARIFS!$H$4,K9*TARIFS!$I$4))))))) -> 42.09 | M9: =H24 -> 0 | N9: =IF($F$2<351,M9*TARIFS!$B$4,IF($F$2<476,M9*TARIFS!$C$4,IF($F$2<581,M9*TARIFS!$D$4,IF($F$2<721,M9*TARIFS!$E$4,IF($F$2<901,M9*TARIFS!$F$4,IF($F$2<1201,M9*TARIFS!$G$4,IF($F$2<1501,M9*TARIFS!$H$4,M9*TARIFS!$I$4))))))) -> 0 | O9: =H25 -> 0 | P9: =IF($F$2<351,O9*TARIFS!$B$4,IF($F$2<476,O9*TARIFS!$C$4,IF($F$2<581,O9*TARIFS!$D$4,IF($F$2<721,O9*TARIFS!$E$4,IF($F$2<901,O9*TARIFS!$F$4,IF($F$2<1201,O9*TARIFS!$G$4,IF($F$2<1501,O9*TARIFS!$H$4,O9*TARIFS!$I$4))))))) -> 0 | Q9: =H26 -> 0 | R9: =IF($F$2<351,Q9*TARIFS!$B$4,IF($F$2<476,Q9*TARIFS!$C$4,IF($F$2<581,Q9*TARIFS!$D$4,IF($F$2<721,Q9*TARIFS!$E$4,IF($F$2<901,Q9*TARIFS!$F$4,IF($F$2<1201,Q9*TARIFS!$G$4,IF($F$2<1501,Q9*TARIFS!$H$4,Q9*TARIFS!$I$4))))))) -> 0 | S9: =H27 -> 0 | T9: =IF($F$2<351,S9*TARIFS!$B$4,IF($F$2<476,S9*TARIFS!$C$4,IF($F$2<581,S9*TARIFS!$D$4,IF($F$2<721,S9*TARIFS!$E$4,IF($F$2<901,S9*TARIFS!$F$4,IF($F$2<1201,S9*TARIFS!$G$4,IF($F$2<1501,S9*TARIFS!$H$4,S9*TARIFS!$I$4))))))) -> 0
H10: =SUM(C10:G10) -> 0 | J10: semaine 4 | K10: =H31 -> 0 | L10: =IF($F$2<351,K10*TARIFS!$B$4,IF($F$2<476,K10*TARIFS!$C$4,IF($F$2<581,K10*TARIFS!$D$4,IF($F$2<721,K10*TARIFS!$E$4,IF($F$2<901,K10*TARIFS!$F$4,IF($F$2<1201,K10*TARIFS!$G$4,IF($F$2<1501,K10*TARIFS!$H$4,K10*TARIFS!$I$4))))))) -> 0 | M10: =H32 -> 0 | N10: =IF($F$2<351,M10*TARIFS!$B$4,IF($F$2<476,M10*TARIFS!$C$4,IF($F$2<581,M10*TARIFS!$D$4,IF($F$2<721,M10*TARIFS!$E$4,IF($F$2<901,M10*TARIFS!$F$4,IF($F$2<1201,M10*TARIFS!$G$4,IF($F$2<1501,M10*TARIFS!$H$4,M10*TARIFS!$I$4))))))) -> 0 | O10: =H33 -> 0 | P10: =IF($F$2<351,O10*TARIFS!$B$4,IF($F$2<476,O10*TARIFS!$C$4,IF($F$2<581,O10*TARIFS!$D$4,IF($F$2<721,O10*TARIFS!$E$4,IF($F$2<901,O10*TARIFS!$F$4,IF($F$2<1201,O10*TARIFS!$G$4,IF($F$2<1501,O10*TARIFS!$H$4,O10*TARIFS!$I$4))))))) -> 0 | Q10: =H34 -> 0 | R10: =IF($F$2<351,Q10*TARIFS!$B$4,IF($F$2<476,Q10*TARIFS!$C$4,IF($F$2<581,Q10*TARIFS!$D$4,IF($F$2<721,Q10*TARIFS!$E$4,IF($F$2<901,Q10*TARIFS!$F$4,IF($F$2<1201,Q10*TARIFS!$G$4,IF($F$2<1501,Q10*TARIFS!$H$4,Q10*TARIFS!$I$4))))))) -> 0 | S10: =H35 -> 0 | T10: =IF($F$2<351,S10*TARIFS!$B$4,IF($F$2<476,S10*TARIFS!$C$4,IF($F$2<581,S10*TARIFS!$D$4,IF($F$2<721,S10*TARIFS!$E$4,IF($F$2<901,S10*TARIFS!$F$4,IF($F$2<1201,S10*TARIFS!$G$4,IF($F$2<1501,S10*TARIFS!$H$4,S10*TARIFS!$I$4))))))) -> 0
H11: =SUM(C11:G11) -> 0 | J11: TOTAL / enfant | K11: =SUM(K7:K10) -> 5 | L11: =K11*L7 -> 70.15 | M11: =SUM(M7:M10) -> 5 | N11: =M11*N7 -> 350.75 | O11: =SUM(O7:O10) -> 0 | P11: =O11*P7 -> 0 | Q11: =SUM(Q7:Q10) -> 0 | R11: =Q11*R7 -> 0 | S11: =SUM(S7:S10) -> 0 | T11: =S11*T7 -> 0
J12: TOTAL FAMILLE | K12: =L11+N11+P11+R11+T11 -> 420.9
A13: Nom | B13: Prénom | C13: Semaine 2 | H13: Total
C14: lundi | D14: mardi | E14: mercredi | F14: jeudi | G14: vendredi | J14: AIDES OBTENUES | N14: RESTE À CHARGE DE LA FAMILLE | O14: Mode de Règlement | P14: Date de règlement
G15: 1 | H15: =SUM(C15:G15) -> 1 | K15: montant | L15: nb de jours | M15: TOTAL | N15: Montant | O15: N° de chèque ou N° de reçu
H16: =SUM(C16:G16) -> 0 | J16: CAF | K16: =IF($F$2<351,TARIFS!B7,IF($F$2<476,TARIFS!C7,IF($F$2<581,TARIFS!D7,IF($F$2<721,TARIFS!E7,0)))) -> 0 | L16: =$K$11+$M$11+$O$11+$Q$11+$S$11 -> 10 | M16: =K16*L16 -> 0 | N16: =K12-M22 -> 381.616
H17: =SUM(C17:G17) -> 0 | J17: MSA | L17: =$K$11+$M$11+$O$11+$Q$11+$S$11 -> 10 | M17: =K17*L17 -> 0
H18: =SUM(C18:G18) -> 0 | J18: Employeur | L18: =$K$11+$M$11+$O$11+$Q$11+$S$11 -> 10 | M18: =K18*L18 -> 0
H19: =SUM(C19:G19) -> 0 | J19: ANCV | L19: =$K$11+$M$11+$O$11+$Q$11+$S$11 -> 10 | M19: =K19*L19 -> 0
J20: CCT | K20: =IF($F$2<351,TARIFS!B5,IF($F$2<476,TARIFS!C5,IF($F$2<581,TARIFS!D5,IF($F$2<721,TARIFS!E5,IF($F$2<901,TARIFS!F5,IF($F$2<1201,TARIFS!G5,IF($F$2<1501,TARIFS!H5,TARIFS!I5))))))) -> 3.9284 | L20: =$K$11+$M$11+$O$11+$Q$11+$S$11 -> 10 | M20: =K20*L20 -> 39.284
A21: Nom | B21: Prénom | C21: Semaine 3 | H21: Total | J21: Autres | L21: =$K$11+$M$11+$O$11+$Q$11+$S$11 -> 10 | M21: =K21*L21 -> 0
C22: lundi | D22: mardi | E22: mercredi | F22: jeudi | G22: vendredi | J22: TOTAL AIDES | M22: =SUM(M16:M21) -> 39.284
E23: 1 | F23: 1 | G23: 1 | H23: =SUM(C23:G23) -> 3
H24: =SUM(C24:G24) -> 0
H25: =SUM(C25:G25) -> 0
H26: =SUM(C26:G26) -> 0
H27: =SUM(C27:G27) -> 0
A29: Nom | B29: Prénom | C29: Semaine 4 | H29: Total
C30: lundi | D30: mardi | E30: mercredi | F30: jeudi | G30: vendredi
H31: =SUM(C31:G31) -> 0
H32: =SUM(C32:G32) -> 0
H33: =SUM(C33:G33) -> 0
H34: =SUM(C34:G34) -> 0
H35: =SUM(C35:G35) -> 0

Sheet Feuil25
A1: NOM | B1: DATE | C1: TELEPHONE(S) | D1: ADRESSE | E1: N° allocataire | F1: QF | G1: Nombre Enfants
A2: BECKER Alexandre et MASQUET Valérie | B2: 40360 | C2: 0475062803 0621840024 | D2: Les vignes 07270Gilhoc Sur Ormèze | E2: 200510841 | F2: 1220 | G2: 1
A5: Nom | B5: Prénom | C5: Semaine 1 | H5: Total | K5: enfant 1 | M5: enfant 2 | O5: enfant 3 | Q5: enfant 4 | S5: enfant 5
C6: lundi | D6: mardi | E6: mercredi | F6: jeudi | G6: vendredi | K6: nb jours présences | L6: cout total | M6: nb jours présences | N6: cout total | O6: nb jours présences | P6: cout total | Q6: nb jours présences | R6: cout total | S6: nb jours présences | T6: cout total
G7: 1 | H7: =SUM(C7:G7) -> 1 | J7: semaine 1 | K7: =H7 -> 1 | L7: =IF($F$2<351,K7*TARIFS!$B$4,IF($F$2<476,K7*TARIFS!$C$4,IF($F$2<581,K7*TARIFS!$D$4,IF($F$2<721,K7*TARIFS!$E$4,IF($F$2<901,K7*TARIFS!$F$4,IF($F$2<1201,K7*TARIFS!$G$4,IF($F$2<1501,K7*TARIFS!$H$4,K7*TARIFS!$I$4))))))) -> 14.03 | M7: =H8 -> 5 | N7: =IF($F$2<351,M7*TARIFS!$B$4,IF($F$2<476,M7*TARIFS!$C$4,IF($F$2<581,M7*TARIFS!$D$4,IF($F$2<721,M7*TARIFS!$E$4,IF($F$2<901,M7*TARIFS!$F$4,IF($F$2<1201,M7*TARIFS!$G$4,IF($F$2<1501,M7*TARIFS!$H$4,M7*TARIFS!$I$4))))))) -> 70.15 | O7: =H9 -> 0 | P7: =IF($F$2<351,O7*TARIFS!$B$4,IF($F$2<476,O7*TARIFS!$C$4,IF($F$2<581,O7*TARIFS!$D$4,IF($F$2<721,O7*TARIFS!$E$4,IF($F$2<901,O7*TARIFS!$F$4,IF($F$2<1201,O7*TARIFS!$G$4,IF($F$2<1501,O7*TARIFS!$H$4,O7*TARIFS!$I$4))))))) -> 0 | Q7: =H10 -> 0 | R7: =IF($F$2<351,Q7*TARIFS!$B$4,IF($F$2<476,Q7*TARIFS!$C$4,IF($F$2<581,Q7*TARIFS!$D$4,IF($F$2<721,Q7*TARIFS!$E$4,IF($F$2<901,Q7*TARIFS!$F$4,IF($F$2<1201,Q7*TARIFS!$G$4,IF($F$2<1501,Q7*TARIFS!$H$4,Q7*TARIFS!$I$4))))))) -> 0 | S7: =H11 -> 0 | T7: =IF($F$2<351,S7*TARIFS!$B$4,IF($F$2<476,S7*TARIFS!$C$4,IF($F$2<581,S7*TARIFS!$D$4,IF($F$2<721,S7*TARIFS!$E$4,IF($F$2<901,S7*TARIFS!$F$4,IF($F$2<1201,S7*TARIFS!$G$4,IF($F$2<1501,S7*TARIFS!$H$4,S7*TARIFS!$I$4))))))) -> 0
C8: 1 | D8: 1 | E8: 1 | F8: 1 | G8: 1 | H8: =SUM(C8:G8) -> 5 | J8: semaine 2 | K8: =H15 -> 1 | L8: =IF($F$2<351,K8*TARIFS!$B$4,IF($F$2<476,K8*TARIFS!$C$4,IF($F$2<581,K8*TARIFS!$D$4,IF($F$2<721,K8*TARIFS!$E$4,IF($F$2<901,K8*TARIFS!$F$4,IF($F$2<1201,K8*TARIFS!$G$4,IF($F$2<1501,K8*TARIFS!$H$4,K8*TARIFS!$I$4))))))) -> 14.03 | M8: =H16 -> 0 | N8: =IF($F$2<351,M8*TARIFS!$B$4,IF($F$2<476,M8*TARIFS!$C$4,IF($F$2<581,M8*TARIFS!$D$4,IF($F$2<721,M8*TARIFS!$E$4,IF($F$2<901,M8*TARIFS!$F$4,IF($F$2<1201,M8*TARIFS!$G$4,IF($F$2<1501,M8*TARIFS!$H$4,M8*TARIFS!$I$4))))))) -> 0 | O8: =H17 -> 0 | P8: =IF($F$2<351,O8*TARIFS!$B$4,IF($F$2<476,O8*TARIFS!$C$4,IF($F$2<581,O8*TARIFS!$D$4,IF($F$2<721,O8*TARIFS!$E$4,IF($F$2<901,O8*TARIFS!$F$4,IF($F$2<1201,O8*TARIFS!$G$4,IF($F$2<1501,O8*TARIFS!$H$4,O8*TARIFS!$I$4))))))) -> 0 | Q8: =H18 -> 0 | R8: =IF($F$2<351,Q8*TARIFS!$B$4,IF($F$2<476,Q8*TARIFS!$C$4,IF($F$2<581,Q8*TARIFS!$D$4,IF($F$2<721,Q8*TARIFS!$E$4,IF($F$2<901,Q8*TARIFS!$F$4,IF($F$2<1201,Q8*TARIFS!$G$4,IF($F$2<1501,Q8*TARIFS!$H$4,Q8*TARIFS!$I$4))))))) -> 0 | S8: =H19 -> 0 | T8: =IF($F$2<351,S8*TARIFS!$B$4,IF($F$2<476,S8*TARIFS!$C$4,IF($F$2<581,S8*TARIFS!$D$4,IF($F$2<721,S8*TARIFS!$E$4,IF($F$2<901,S8*TARIFS!$F$4,IF($F$2<1201,S8*TARIFS!$G$4,IF($F$2<1501,S8*TARIFS!$H$4,S8*TARIFS!$I$4))))))) -> 0
H9: =SUM(C9:G9) -> 0 | J9: semaine 3 | K9: =H23 -> 3 | L9: =IF($F$2<351,K9*TARIFS!$B$4,IF($F$2<476,K9*TARIFS!$C$4,IF($F$2<581,K9*TARIFS!$D$4,IF($F$2<721,K9*TARIFS!$E$4,IF($F$2<901,K9*TARIFS!$F$4,IF($F$2<1201,K9*TARIFS!$G$4,IF($F$2<1501,K9*TARIFS!$H$4,K9*TARIFS!$I$4))))))) -> 42.09 | M9: =H24 -> 0 | N9: =IF($F$2<351,M9*TARIFS!$B$4,IF($F$2<476,M9*TARIFS!$C$4,IF($F$2<581,M9*TARIFS!$D$4,IF($F$2<721,M9*TARIFS!$E$4,IF($F$2<901,M9*TARIFS!$F$4,IF($F$2<1201,M9*TARIFS!$G$4,IF($F$2<1501,M9*TARIFS!$H$4,M9*TARIFS!$I$4))))))) -> 0 | O9: =H25 -> 0 | P9: =IF($F$2<351,O9*TARIFS!$B$4,IF($F$2<476,O9*TARIFS!$C$4,IF($F$2<581,O9*TARIFS!$D$4,IF($F$2<721,O9*TARIFS!$E$4,IF($F$2<901,O9*TARIFS!$F$4,IF($F$2<1201,O9*TARIFS!$G$4,IF($F$2<1501,O9*TARIFS!$H$4,O9*TARIFS!$I$4))))))) -> 0 | Q9: =H26 -> 0 | R9: =IF($F$2<351,Q9*TARIFS!$B$4,IF($F$2<476,Q9*TARIFS!$C$4,IF($F$2<581,Q9*TARIFS!$D$4,IF($F$2<721,Q9*TARIFS!$E$4,IF($F$2<901,Q9*TARIFS!$F$4,IF($F$2<1201,Q9*TARIFS!$G$4,IF($F$2<1501,Q9*TARIFS!$H$4,Q9*TARIFS!$I$4))))))) -> 0 | S9: =H27 -> 0 | T9: =IF($F$2<351,S9*TARIFS!$B$4,IF($F$2<476,S9*TARIFS!$C$4,IF($F$2<581,S9*TARIFS!$D$4,IF($F$2<721,S9*TARIFS!$E$4,IF($F$2<901,S9*TARIFS!$F$4,IF($F$2<1201,S9*TARIFS!$G$4,IF($F$2<1501,S9*TARIFS!$H$4,S9*TARIFS!$I$4))))))) -> 0
H10: =SUM(C10:G10) -> 0 | J10: semaine 4 | K10: =H31 -> 0 | L10: =IF($F$2<351,K10*TARIFS!$B$4,IF($F$2<476,K10*TARIFS!$C$4,IF($F$2<581,K10*TARIFS!$D$4,IF($F$2<721,K10*TARIFS!$E$4,IF($F$2<901,K10*TARIFS!$F$4,IF($F$2<1201,K10*TARIFS!$G$4,IF($F$2<1501,K10*TARIFS!$H$4,K10*TARIFS!$I$4))))))) -> 0 | M10: =H32 -> 0 | N10: =IF($F$2<351,M10*TARIFS!$B$4,IF($F$2<476,M10*TARIFS!$C$4,IF($F$2<581,M10*TARIFS!$D$4,IF($F$2<721,M10*TARIFS!$E$4,IF($F$2<901,M10*TARIFS!$F$4,IF($F$2<1201,M10*TARIFS!$G$4,IF($F$2<1501,M10*TARIFS!$H$4,M10*TARIFS!$I$4))))))) -> 0 | O10: =H33 -> 0 | P10: =IF($F$2<351,O10*TARIFS!$B$4,IF($F$2<476,O10*TARIFS!$C$4,IF($F$2<581,O10*TARIFS!$D$4,IF($F$2<721,O10*TARIFS!$E$4,IF($F$2<901,O10*TARIFS!$F$4,IF($F$2<1201,O10*TARIFS!$G$4,IF($F$2<1501,O10*TARIFS!$H$4,O10*TARIFS!$I$4))))))) -> 0 | Q10: =H34 -> 0 | R10: =IF($F$2<351,Q10*TARIFS!$B$4,IF($F$2<476,Q10*TARIFS!$C$4,IF($F$2<581,Q10*TARIFS!$D$4,IF($F$2<721,Q10*TARIFS!$E$4,IF($F$2<901,Q10*TARIFS!$F$4,IF($F$2<1201,Q10*TARIFS!$G$4,IF($F$2<1501,Q10*TARIFS!$H$4,Q10*TARIFS!$I$4))))))) -> 0 | S10: =H35 -> 0 | T10: =IF($F$2<351,S10*TARIFS!$B$4,IF($F$2<476,S10*TARIFS!$C$4,IF($F$2<581,S10*TARIFS!$D$4,IF($F$2<721,S10*TARIFS!$E$4,IF($F$2<901,S10*TARIFS!$F$4,IF($F$2<1201,S10*TARIFS!$G$4,IF($F$2<1501,S10*TARIFS!$H$4,S10*TARIFS!$I$4))))))) -> 0
H11: =SUM(C11:G11) -> 0 | J11: TOTAL / enfant | K11: =SUM(K7:K10) -> 5 | L11: =K11*L7 -> 70.15 | M11: =SUM(M7:M10) -> 5 | N11: =M11*N7 -> 350.75 | O11: =SUM(O7:O10) -> 0 | P11: =O11*P7 -> 0 | Q11: =SUM(Q7:Q10) -> 0 | R11: =Q11*R7 -> 0 | S11: =SUM(S7:S10) -> 0 | T11: =S11*T7 -> 0
J12: TOTAL FAMILLE | K12: =L11+N11+P11+R11+T11 -> 420.9
A13: Nom | B13: Prénom | C13: Semaine 2 | H13: Total
C14: lundi | D14: mardi | E14: mercredi | F14: jeudi | G14: vendredi | J14: AIDES OBTENUES | N14: RESTE À CHARGE DE LA FAMILLE | O14: Mode de Règlement | P14: Date de règlement
G15: 1 | H15: =SUM(C15:G15) -> 1 | K15: montant | L15: nb de jours | M15: TOTAL | N15: Montant | O15: N° de chèque ou N° de reçu
H16: =SUM(C16:G16) -> 0 | J16: CAF | K16: =IF($F$2<351,TARIFS!B7,IF($F$2<476,TARIFS!C7,IF($F$2<581,TARIFS!D7,IF($F$2<721,TARIFS!E7,0)))) -> 0 | L16: =$K$11+$M$11+$O$11+$Q$11+$S$11 -> 10 | M16: =K16*L16 -> 0 | N16: =K12-M22 -> 381.616
H17: =SUM(C17:G17) -> 0 | J17: MSA | L17: =$K$11+$M$11+$O$11+$Q$11+$S$11 -> 10 | M17: =K17*L17 -> 0
H18: =SUM(C18:G18) -> 0 | J18: Employeur | L18: =$K$11+$M$11+$O$11+$Q$11+$S$11 -> 10 | M18: =K18*L18 -> 0
H19: =SUM(C19:G19) -> 0 | J19: ANCV | L19: =$K$11+$M$11+$O$11+$Q$11+$S$11 -> 10 | M19: =K19*L19 -> 0
J20: CCT | K20: =IF($F$2<351,TARIFS!B5,IF($F$2<476,TARIFS!C5,IF($F$2<581,TARIFS!D5,IF($F$2<721,TARIFS!E5,IF($F$2<901,TARIFS!F5,IF($F$2<1201,TARIFS!G5,IF($F$2<1501,TARIFS!H5,TARIFS!I5))))))) -> 3.9284 | L20: =$K$11+$M$11+$O$11+$Q$11+$S$11 -> 10 | M20: =K20*L20 -> 39.284
A21: Nom | B21: Prénom | C21: Semaine 3 | H21: Total | J21: Autres | L21: =$K$11+$M$11+$O$11+$Q$11+$S$11 -> 10 | M21: =K21*L21 -> 0
C22: lundi | D22: mardi | E22: mercredi | F22: jeudi | G22: vendredi | J22: TOTAL AIDES | M22: =SUM(M16:M21) -> 39.284
E23: 1 | F23: 1 | G23: 1 | H23: =SUM(C23:G23) -> 3
H24: =SUM(C24:G24) -> 0
H25: =SUM(C25:G25) -> 0
H26: =SUM(C26:G26) -> 0
H27: =SUM(C27:G27) -> 0
A29: Nom | B29: Prénom | C29: Semaine 4 | H29: Total
C30: lundi | D30: mardi | E30: mercredi | F30: jeudi | G30: vendredi
H31: =SUM(C31:G31) -> 0
H32: =SUM(C32:G32) -> 0
H33: =SUM(C33:G33) -> 0
H34: =SUM(C34:G34) -> 0
H35: =SUM(C35:G35) -> 0

Sheet Feuil26
A1: NOM | B1: DATE | C1: TELEPHONE(S) | D1: ADRESSE | E1: N° allocataire | F1: QF | G1: Nombre Enfants
A2: BECKER Alexandre et MASQUET Valérie | B2: 40360 | C2: 0475062803 0621840024 | D2: Les vignes 07270Gilhoc Sur Ormèze | E2: 200510841 | F2: 1220 | G2: 1
A5: Nom | B5: Prénom | C5: Semaine 1 | H5: Total | K5: enfant 1 | M5: enfant 2 | O5: enfant 3 | Q5: enfant 4 | S5: enfant 5
C6: lundi | D6: mardi | E6: mercredi | F6: jeudi | G6: vendredi | K6: nb jours présences | L6: cout total | M6: nb jours présences | N6: cout total | O6: nb jours présences | P6: cout total | Q6: nb jours présences | R6: cout total | S6: nb jours présences | T6: cout total
G7: 1 | H7: =SUM(C7:G7) -> 1 | J7: semaine 1 | K7: =H7 -> 1 | L7: =IF($F$2<351,K7*TARIFS!$B$4,IF($F$2<476,K7*TARIFS!$C$4,IF($F$2<581,K7*TARIFS!$D$4,IF($F$2<721,K7*TARIFS!$E$4,IF($F$2<901,K7*TARIFS!$F$4,IF($F$2<1201,K7*TARIFS!$G$4,IF($F$2<1501,K7*TARIFS!$H$4,K7*TARIFS!$I$4))))))) -> 14.03 | M7: =H8 -> 5 | N7: =IF($F$2<351,M7*TARIFS!$B$4,IF($F$2<476,M7*TARIFS!$C$4,IF($F$2<581,M7*TARIFS!$D$4,IF($F$2<721,M7*TARIFS!$E$4,IF($F$2<901,M7*TARIFS!$F$4,IF($F$2<1201,M7*TARIFS!$G$4,IF($F$2<1501,M7*TARIFS!$H$4,M7*TARIFS!$I$4))))))) -> 70.15 | O7: =H9 -> 0 | P7: =IF($F$2<351,O7*TARIFS!$B$4,IF($F$2<476,O7*TARIFS!$C$4,IF($F$2<581,O7*TARIFS!$D$4,IF($F$2<721,O7*TARIFS!$E$4,IF($F$2<901,O7*TARIFS!$F$4,IF($F$2<1201,O7*TARIFS!$G$4,IF($F$2<1501,O7*TARIFS!$H$4,O7*TARIFS!$I$4))))))) -> 0 | Q7: =H10 -> 0 | R7: =IF($F$2<351,Q7*TARIFS!$B$4,IF($F$2<476,Q7*TARIFS!$C$4,IF($F$2<581,Q7*TARIFS!$D$4,IF($F$2<721,Q7*TARIFS!$E$4,IF($F$2<901,Q7*TARIFS!$F$4,IF($F$2<1201,Q7*TARIFS!$G$4,IF($F$2<1501,Q7*TARIFS!$H$4,Q7*TARIFS!$I$4))))))) -> 0 | S7: =H11 -> 0 | T7: =IF($F$2<351,S7*TARIFS!$B$4,IF($F$2<476,S7*TARIFS!$C$4,IF($F$2<581,S7*TARIFS!$D$4,IF($F$2<721,S7*TARIFS!$E$4,IF($F$2<901,S7*TARIFS!$F$4,IF($F$2<1201,S7*TARIFS!$G$4,IF($F$2<1501,S7*TARIFS!$H$4,S7*TARIFS!$I$4))))))) -> 0
C8: 1 | D8: 1 | E8: 1 | F8: 1 | G8: 1 | H8: =SUM(C8:G8) -> 5 | J8: semaine 2 | K8: =H15 -> 1 | L8: =IF($F$2<351,K8*TARIFS!$B$4,IF($F$2<476,K8*TARIFS!$C$4,IF($F$2<581,K8*TARIFS!$D$4,IF($F$2<721,K8*TARIFS!$E$4,IF($F$2<901,K8*TARIFS!$F$4,IF($F$2<1201,K8*TARIFS!$G$4,IF($F$2<1501,K8*TARIFS!$H$4,K8*TARIFS!$I$4))))))) -> 14.03 | M8: =H16 -> 0 | N8: =IF($F$2<351,M8*TARIFS!$B$4,IF($F$2<476,M8*TARIFS!$C$4,IF($F$2<581,M8*TARIFS!$D$4,IF($F$2<721,M8*TARIFS!$E$4,IF($F$2<901,M8*TARIFS!$F$4,IF($F$2<1201,M8*TARIFS!$G$4,IF($F$2<1501,M8*TARIFS!$H$4,M8*TARIFS!$I$4))))))) -> 0 | O8: =H17 -> 0 | P8: =IF($F$2<351,O8*TARIFS!$B$4,IF($F$2<476,O8*TARIFS!$C$4,IF($F$2<581,O8*TARIFS!$D$4,IF($F$2<721,O8*TARIFS!$E$4,IF($F$2<901,O8*TARIFS!$F$4,IF($F$2<1201,O8*TARIFS!$G$4,IF($F$2<1501,O8*TARIFS!$H$4,O8*TARIFS!$I$4))))))) -> 0 | Q8: =H18 -> 0 | R8: =IF($F$2<351,Q8*TARIFS!$B$4,IF($F$2<476,Q8*TARIFS!$C$4,IF($F$2<581,Q8*TARIFS!$D$4,IF($F$2<721,Q8*TARIFS!$E$4,IF($F$2<901,Q8*TARIFS!$F$4,IF($F$2<1201,Q8*TARIFS!$G$4,IF($F$2<1501,Q8*TARIFS!$H$4,Q8*TARIFS!$I$4))))))) -> 0 | S8: =H19 -> 0 | T8: =IF($F$2<351,S8*TARIFS!$B$4,IF($F$2<476,S8*TARIFS!$C$4,IF($F$2<581,S8*TARIFS!$D$4,IF($F$2<721,S8*TARIFS!$E$4,IF($F$2<901,S8*TARIFS!$F$4,IF($F$2<1201,S8*TARIFS!$G$4,IF($F$2<1501,S8*TARIFS!$H$4,S8*TARIFS!$I$4))))))) -> 0
H9: =SUM(C9:G9) -> 0 | J9: semaine 3 | K9: =H23 -> 3 | L9: =IF($F$2<351,K9*TARIFS!$B$4,IF($F$2<476,K9*TARIFS!$C$4,IF($F$2<581,K9*TARIFS!$D$4,IF($F$2<721,K9*TARIFS!$E$4,IF($F$2<901,K9*TARIFS!$F$4,IF($F$2<1201,K9*TARIFS!$G$4,IF($F$2<1501,K9*TARIFS!$H$4,K9*TARIFS!$I$4))))))) -> 42.09 | M9: =H24 -> 0 | N9: =IF($F$2<351,M9*TARIFS!$B$4,IF($F$2<476,M9*TARIFS!$C$4,IF($F$2<581,M9*TARIFS!$D$4,IF($F$2<721,M9*TARIFS!$E$4,IF($F$2<901,M9*TARIFS!$F$4,IF($F$2<1201,M9*TARIFS!$G$4,IF($F$2<1501,M9*TARIFS!$H$4,M9*TARIFS!$I$4))))))) -> 0 | O9: =H25 -> 0 | P9: =IF($F$2<351,O9*TARIFS!$B$4,IF($F$2<476,O9*TARIFS!$C$4,IF($F$2<581,O9*TARIFS!$D$4,IF($F$2<721,O9*TARIFS!$E$4,IF($F$2<901,O9*TARIFS!$F$4,IF($F$2<1201,O9*TARIFS!$G$4,IF($F$2<1501,O9*TARIFS!$H$4,O9*TARIFS!$I$4))))))) -> 0 | Q9: =H26 -> 0 | R9: =IF($F$2<351,Q9*TARIFS!$B$4,IF($F$2<476,Q9*TARIFS!$C$4,IF($F$2<581,Q9*TARIFS!$D$4,IF($F$2<721,Q9*TARIFS!$E$4,IF($F$2<901,Q9*TARIFS!$F$4,IF($F$2<1201,Q9*TARIFS!$G$4,IF($F$2<1501,Q9*TARIFS!$H$4,Q9*TARIFS!$I$4))))))) -> 0 | S9: =H27 -> 0 | T9: =IF($F$2<351,S9*TARIFS!$B$4,IF($F$2<476,S9*TARIFS!$C$4,IF($F$2<581,S9*TARIFS!$D$4,IF($F$2<721,S9*TARIFS!$E$4,IF($F$2<901,S9*TARIFS!$F$4,IF($F$2<1201,S9*TARIFS!$G$4,IF($F$2<1501,S9*TARIFS!$H$4,S9*TARIFS!$I$4))))))) -> 0
H10: =SUM(C10:G10) -> 0 | J10: semaine 4 | K10: =H31 -> 0 | L10: =IF($F$2<351,K10*TARIFS!$B$4,IF($F$2<476,K10*TARIFS!$C$4,IF($F$2<581,K10*TARIFS!$D$4,IF($F$2<721,K10*TARIFS!$E$4,IF($F$2<901,K10*TARIFS!$F$4,IF($F$2<1201,K10*TARIFS!$G$4,IF($F$2<1501,K10*TARIFS!$H$4,K10*TARIFS!$I$4))))))) -> 0 | M10: =H32 -> 0 | N10: =IF($F$2<351,M10*TARIFS!$B$4,IF($F$2<476,M10*TARIFS!$C$4,IF($F$2<581,M10*TARIFS!$D$4,IF($F$2<721,M10*TARIFS!$E$4,IF($F$2<901,M10*TARIFS!$F$4,IF($F$2<1201,M10*TARIFS!$G$4,IF($F$2<1501,M10*TARIFS!$H$4,M10*TARIFS!$I$4))))))) -> 0 | O10: =H33 -> 0 | P10: =IF($F$2<351,O10*TARIFS!$B$4,IF($F$2<476,O10*TARIFS!$C$4,IF($F$2<581,O10*TARIFS!$D$4,IF($F$2<721,O10*TARIFS!$E$4,IF($F$2<901,O10*TARIFS!$F$4,IF($F$2<1201,O10*TARIFS!$G$4,IF($F$2<1501,O10*TARIFS!$H$4,O10*TARIFS!$I$4))))))) -> 0 | Q10: =H34 -> 0 | R10: =IF($F$2<351,Q10*TARIFS!$B$4,IF($F$2<476,Q10*TARIFS!$C$4,IF($F$2<581,Q10*TARIFS!$D$4,IF($F$2<721,Q10*TARIFS!$E$4,IF($F$2<901,Q10*TARIFS!$F$4,IF($F$2<1201,Q10*TARIFS!$G$4,IF($F$2<1501,Q10*TARIFS!$H$4,Q10*TARIFS!$I$4))))))) -> 0 | S10: =H35 -> 0 | T10: =IF($F$2<351,S10*TARIFS!$B$4,IF($F$2<476,S10*TARIFS!$C$4,IF($F$2<581,S10*TARIFS!$D$4,IF($F$2<721,S10*TARIFS!$E$4,IF($F$2<901,S10*TARIFS!$F$4,IF($F$2<1201,S10*TARIFS!$G$4,IF($F$2<1501,S10*TARIFS!$H$4,S10*TARIFS!$I$4))))))) -> 0
H11: =SUM(C11:G11) -> 0 | J11: TOTAL / enfant | K11: =SUM(K7:K10) -> 5 | L11: =K11*L7 -> 70.15 | M11: =SUM(M7:M10) -> 5 | N11: =M11*N7 -> 350.75 | O11: =SUM(O7:O10) -> 0 | P11: =O11*P7 -> 0 | Q11: =SUM(Q7:Q10) -> 0 | R11: =Q11*R7 -> 0 | S11: =SUM(S7:S10) -> 0 | T11: =S11*T7 -> 0
J12: TOTAL FAMILLE | K12: =L11+N11+P11+R11+T11 -> 420.9
A13: Nom | B13: Prénom | C13: Semaine 2 | H13: Total
C14: lundi | D14: mardi | E14: mercredi | F14: jeudi | G14: vendredi | J14: AIDES OBTENUES | N14: RESTE À CHARGE DE LA FAMILLE | O14: Mode de Règlement | P14: Date de règlement
G15: 1 | H15: =SUM(C15:G15) -> 1 | K15: montant | L15: nb de jours | M15: TOTAL | N15: Montant | O15: N° de chèque ou N° de reçu
H16: =SUM(C16:G16) -> 0 | J16: CAF | K16: =IF($F$2<351,TARIFS!B7,IF($F$2<476,TARIFS!C7,IF($F$2<581,TARIFS!D7,IF($F$2<721,TARIFS!E7,0)))) -> 0 | L16: =$K$11+$M$11+$O$11+$Q$11+$S$11 -> 10 | M16: =K16*L16 -> 0 | N16: =K12-M22 -> 381.616
H17: =SUM(C17:G17) -> 0 | J17: MSA | L17: =$K$11+$M$11+$O$11+$Q$11+$S$11 -> 10 | M17: =K17*L17 -> 0
H18: =SUM(C18:G18) -> 0 | J18: Employeur | L18: =$K$11+$M$11+$O$11+$Q$11+$S$11 -> 10 | M18: =K18*L18 -> 0
H19: =SUM(C19:G19) -> 0 | J19: ANCV | L19: =$K$11+$M$11+$O$11+$Q$11+$S$11 -> 10 | M19: =K19*L19 -> 0
J20: CCT | K20: =IF($F$2<351,TARIFS!B5,IF($F$2<476,TARIFS!C5,IF($F$2<581,TARIFS!D5,IF($F$2<721,TARIFS!E5,IF($F$2<901,TARIFS!F5,IF($F$2<1201,TARIFS!G5,IF($F$2<1501,TARIFS!H5,TARIFS!I5))))))) -> 3.9284 | L20: =$K$11+$M$11+$O$11+$Q$11+$S$11 -> 10 | M20: =K20*L20 -> 39.284
A21: Nom | B21: Prénom | C21: Semaine 3 | H21: Total | J21: Autres | L21: =$K$11+$M$11+$O$11+$Q$11+$S$11 -> 10 | M21: =K21*L21 -> 0
C22: lundi | D22: mardi | E22: mercredi | F22: jeudi | G22: vendredi | J22: TOTAL AIDES | M22: =SUM(M16:M21) -> 39.284
E23: 1 | F23: 1 | G23: 1 | H23: =SUM(C23:G23) -> 3
H24: =SUM(C24:G24) -> 0
H25: =SUM(C25:G25) -> 0
H26: =SUM(C26:G26) -> 0
H27: =SUM(C27:G27) -> 0
A29: Nom | B29: Prénom | C29: Semaine 4 | H29: Total
C30: lundi | D30: mardi | E30: mercredi | F30: jeudi | G30: vendredi
H31: =SUM(C31:G31) -> 0
H32: =SUM(C32:G32) -> 0
H33: =SUM(C33:G33) -> 0
H34: =SUM(C34:G34) -> 0
H35: =SUM(C35:G35) -> 0

Sheet Feuil27
A1: NOM | B1: DATE | C1: TELEPHONE(S) | D1: ADRESSE | E1: N° allocataire | F1: QF | G1: Nombre Enfants
A2: BECKER Alexandre et MASQUET Valérie | B2: 40360 | C2: 0475062803 0621840024 | D2: Les vignes 07270Gilhoc Sur Ormèze | E2: 200510841 | F2: 1220 | G2: 1
A5: Nom | B5: Prénom | C5: Semaine 1 | H5: Total | K5: enfant 1 | M5: enfant 2 | O5: enfant 3 | Q5: enfant 4 | S5: enfant 5
C6: lundi | D6: mardi | E6: mercredi | F6: jeudi | G6: vendredi | K6: nb jours présences | L6: cout total | M6: nb jours présences | N6: cout total | O6: nb jours présences | P6: cout total | Q6: nb jours présences | R6: cout total | S6: nb jours présences | T6: cout total
