Workbook

Sheet Feuil1
A1: Nom | B1: Prénom | C1: Anniv | D1: Adresse
A2: Nom 1 | B2: Prénom 1 | C2: =IF(AND(A2<>"",B2<>""),SUMPRODUCT((Feuil2!$A$2:$A$100=A2)*(Feuil2!$B$2:$B$100=B2)*Feuil2!$C$2:$C$100),"") -> 29505
A3: Nom 2 | B3: Prénom 2 | C3: =IF(AND(A3<>"",B3<>""),SUMPRODUCT((Feuil2!$A$2:$A$100=A3)*(Feuil2!$B$2:$B$100=B3)*Feuil2!$C$2:$C$100),"") -> 29506
A4: Nom 3 | B4: Prénom 3 | C4: =IF(AND(A4<>"",B4<>""),SUMPRODUCT((Feuil2!$A$2:$A$100=A4)*(Feuil2!$B$2:$B$100=B4)*Feuil2!$C$2:$C$100),"") -> 29507
A5: Nom 4 | B5: Prénom 5 | C5: =IF(AND(A5<>"",B5<>""),SUMPRODUCT((Feuil2!$A$2:$A$100=A5)*(Feuil2!$B$2:$B$100=B5)*Feuil2!$C$2:$C$100),"") -> 0
C6: =IF(AND(A6<>"",B6<>""),SUMPRODUCT((Feuil2!$A$2:$A$100=A6)*(Feuil2!$B$2:$B$100=B6)*Feuil2!$C$2:$C$100),"")
C7: =IF(AND(A7<>"",B7<>""),SUMPRODUCT((Feuil2!$A$2:$A$100=A7)*(Feuil2!$B$2:$B$100=B7)*Feuil2!$C$2:$C$100),"")
C8: =IF(AND(A8<>"",B8<>""),SUMPRODUCT((Feuil2!$A$2:$A$100=A8)*(Feuil2!$B$2:$B$100=B8)*Feuil2!$C$2:$C$100),"")
C9: =IF(AND(A9<>"",B9<>""),SUMPRODUCT((Feuil2!$A$2:$A$100=A9)*(Feuil2!$B$2:$B$100=B9)*Feuil2!$C$2:$C$100),"")
C10: =IF(AND(A10<>"",B10<>""),SUMPRODUCT((Feuil2!$A$2:$A$100=A10)*(Feuil2!$B$2:$B$100=B10)*Feuil2!$C$2:$C$100),"")
C11: =IF(AND(A11<>"",B11<>""),SUMPRODUCT((Feuil2!$A$2:$A$100=A11)*(Feuil2!$B$2:$B$100=B11)*Feuil2!$C$2:$C$100),"")
C12: =IF(AND(A12<>"",B12<>""),SUMPRODUCT((Feuil2!$A$2:$A$100=A12)*(Feuil2!$B$2:$B$100=B12)*Feuil2!$C$2:$C$100),"")
C13: =IF(AND(A13<>"",B13<>""),SUMPRODUCT((Feuil2!$A$2:$A$100=A13)*(Feuil2!$B$2:$B$100=B13)*Feuil2!$C$2:$C$100),"")
C14: =IF(AND(A14<>"",B14<>""),SUMPRODUCT((Feuil2!$A$2:$A$100=A14)*(Feuil2!$B$2:$B$100=B14)*Feuil2!$C$2:$C$100),"")
C15: =IF(AND(A15<>"",B15<>""),SUMPRODUCT((Feuil2!$A$2:$A$100=A15)*(Feuil2!$B$2:$B$100=B15)*Feuil2!$C$2:$C$100),"")
C16: =IF(AND(A16<>"",B16<>""),SUMPRODUCT((Feuil2!$A$2:$A$100=A16)*(Feuil2!$B$2:$B$100=B16)*Feuil2!$C$2:$C$100),"")
C17: =IF(AND(A17<>"",B17<>""),SUMPRODUCT((Feuil2!$A$2:$A$100=A17)*(Feuil2!$B$2:$B$100=B17)*Feuil2!$C$2:$C$100),"")
... C22: =IF(AND(A22<>"",B22<>""),SUMPRODUCT((Feuil2!$A$2:$A$100=A22)*(Feuil2!$B$2:$B$100=B22)*Feuil2!$C$2:$C$100),"")

Sheet Feuil2
A1: Nom | B1: Prénom | C1: Anniv
A2: Nom 1 | B2: Prénom 1 | C2: 29505
A3: Nom 2 | B3: Prénom 2 | C3: 29506
A4: Nom 3 | B4: Prénom 3 | C4: 29507
A5: Nom 4 | B5: Prénom 4 | C5: 29508
A6: Nom 5 | B6: Prénom 5 | C6: 29509
A7: Nom 6 | B7: Prénom 6 | C7: 29510
A8: Nom 7 | B8: Prénom 7 | C8: 29511
A9: Nom 8 | B9: Prénom 8 | C9: 29512
A10: Nom 9 | B10: Prénom 9 | C10: 29513
A11: Nom 10 | B11: Prénom 10 | C11: 29514
A12: Nom 11 | B12: Prénom 11 | C12: 29515
A13: Nom 12 | B13: Prénom 12 | C13: 29516
... A26: Nom 25 | B26: Prénom 25 | C26: 29529

Sheet Feuil3
