Workbook

Sheet 1
A4: voie | B4: numéro | C4: commune | D4: date | E4: bac | F4: conformité
A5: Rue anonyme | B5: 8c | C5: Commune A | D5: 43265 | E5: 240964 | F5: non
A6: Rue anonyme | B6: 8b | C6: Commune A | D6: 43265 | E6: 240965 | F6: non
A7: Rue anonyme | B7: 8c | C7: Commune A | D7: 43265 | E7: 240966 | F7: non
A8: Rue anonyme | B8: 8b | C8: Commune A | D8: 43265 | E8: 240968 | F8: non

Sheet 2
A2: voie | B2: numéro | C2: commune | D2: nom | E2: usager | F2: bac | G2: voie | H2: numéro | I2: commune | J2: date | K2: bac | L2: conformité
A3: rue anonyme | B3: 1 | C3: commune A | D3: Dupont | E3: Particulier | F3: 240571 | G3: =IFERROR(INDEX('1'!$A$5:$F$8,MATCH('2'!$F3*1,'1'!$E$5:$E$8,0),MATCH('2'!G$2,'1'!$A$4:$F$4,0)),"") | H3: =IFERROR(INDEX('1'!$A$5:$F$8,MATCH('2'!$F3*1,'1'!$E$5:$E$8,0),MATCH('2'!H$2,'1'!$A$4:$F$4,0)),"") | I3: =IFERROR(INDEX('1'!$A$5:$F$8,MATCH('2'!$F3*1,'1'!$E$5:$E$8,0),MATCH('2'!I$2,'1'!$A$4:$F$4,0)),"") | J3: =IFERROR(INDEX('1'!$A$5:$F$8,MATCH('2'!$F3*1,'1'!$E$5:$E$8,0),MATCH('2'!J$2,'1'!$A$4:$F$4,0)),"") | K3: =IFERROR(INDEX('1'!$A$5:$F$8,MATCH('2'!$F3*1,'1'!$E$5:$E$8,0),MATCH('2'!K$2,'1'!$A$4:$F$4,0)),"") | L3: =IFERROR(INDEX('1'!$A$5:$F$8,MATCH('2'!$F3*1,'1'!$E$5:$E$8,0),MATCH('2'!L$2,'1'!$A$4:$F$4,0)),"")
A4: rue anonyme | B4: 2 B | C4: commune A | D4: Dupond | E4: Particulier | F4: 240919 | G4: =IFERROR(INDEX('1'!$A$5:$F$8,MATCH('2'!$F4*1,'1'!$E$5:$E$8,0),MATCH('2'!G$2,'1'!$A$4:$F$4,0)),"") | H4: =IFERROR(INDEX('1'!$A$5:$F$8,MATCH('2'!$F4*1,'1'!$E$5:$E$8,0),MATCH('2'!H$2,'1'!$A$4:$F$4,0)),"") | I4: =IFERROR(INDEX('1'!$A$5:$F$8,MATCH('2'!$F4*1,'1'!$E$5:$E$8,0),MATCH('2'!I$2,'1'!$A$4:$F$4,0)),"") | J4: =IFERROR(INDEX('1'!$A$5:$F$8,MATCH('2'!$F4*1,'1'!$E$5:$E$8,0),MATCH('2'!J$2,'1'!$A$4:$F$4,0)),"") | K4: =IFERROR(INDEX('1'!$A$5:$F$8,MATCH('2'!$F4*1,'1'!$E$5:$E$8,0),MATCH('2'!K$2,'1'!$A$4:$F$4,0)),"") | L4: =IFERROR(INDEX('1'!$A$5:$F$8,MATCH('2'!$F4*1,'1'!$E$5:$E$8,0),MATCH('2'!L$2,'1'!$A$4:$F$4,0)),"")
A5: rue anonyme | B5: 92 A | C5: commune A | D5: Martin | E5: Particulier | F5: 240924 | G5: =IFERROR(INDEX('1'!$A$5:$F$8,MATCH('2'!$F5*1,'1'!$E$5:$E$8,0),MATCH('2'!G$2,'1'!$A$4:$F$4,0)),"") | H5: =IFERROR(INDEX('1'!$A$5:$F$8,MATCH('2'!$F5*1,'1'!$E$5:$E$8,0),MATCH('2'!H$2,'1'!$A$4:$F$4,0)),"") | I5: =IFERROR(INDEX('1'!$A$5:$F$8,MATCH('2'!$F5*1,'1'!$E$5:$E$8,0),MATCH('2'!I$2,'1'!$A$4:$F$4,0)),"") | J5: =IFERROR(INDEX('1'!$A$5:$F$8,MATCH('2'!$F5*1,'1'!$E$5:$E$8,0),MATCH('2'!J$2,'1'!$A$4:$F$4,0)),"") | K5: =IFERROR(INDEX('1'!$A$5:$F$8,MATCH('2'!$F5*1,'1'!$E$5:$E$8,0),MATCH('2'!K$2,'1'!$A$4:$F$4,0)),"") | L5: =IFERROR(INDEX('1'!$A$5:$F$8,MATCH('2'!$F5*1,'1'!$E$5:$E$8,0),MATCH('2'!L$2,'1'!$A$4:$F$4,0)),"")
A6: rue anonyme | B6: 30 | C6: commune A | D6: Schmitt | E6: Particulier | F6: 240925 | G6: =IFERROR(INDEX('1'!$A$5:$F$8,MATCH('2'!$F6*1,'1'!$E$5:$E$8,0),MATCH('2'!G$2,'1'!$A$4:$F$4,0)),"") | H6: =IFERROR(INDEX('1'!$A$5:$F$8,MATCH('2'!$F6*1,'1'!$E$5:$E$8,0),MATCH('2'!H$2,'1'!$A$4:$F$4,0)),"") | I6: =IFERROR(INDEX('1'!$A$5:$F$8,MATCH('2'!$F6*1,'1'!$E$5:$E$8,0),MATCH('2'!I$2,'1'!$A$4:$F$4,0)),"") | J6: =IFERROR(INDEX('1'!$A$5:$F$8,MATCH('2'!$F6*1,'1'!$E$5:$E$8,0),MATCH('2'!J$2,'1'!$A$4:$F$4,0)),"") | K6: =IFERROR(INDEX('1'!$A$5:$F$8,MATCH('2'!$F6*1,'1'!$E$5:$E$8,0),MATCH('2'!K$2,'1'!$A$4:$F$4,0)),"") | L6: =IFERROR(INDEX('1'!$A$5:$F$8,MATCH('2'!$F6*1,'1'!$E$5:$E$8,0),MATCH('2'!L$2,'1'!$A$4:$F$4,0)),"")
A7: rue anonyme | B7: 7 | C7: commune A | D7: Macron | E7: Particulier | F7: 240927 | G7: =IFERROR(INDEX('1'!$A$5:$F$8,MATCH('2'!$F7*1,'1'!$E$5:$E$8,0),MATCH('2'!G$2,'1'!$A$4:$F$4,0)),"") | H7: =IFERROR(INDEX('1'!$A$5:$F$8,MATCH('2'!$F7*1,'1'!$E$5:$E$8,0),MATCH('2'!H$2,'1'!$A$4:$F$4,0)),"") | I7: =IFERROR(INDEX('1'!$A$5:$F$8,MATCH('2'!$F7*1,'1'!$E$5:$E$8,0),MATCH('2'!I$2,'1'!$A$4:$F$4,0)),"") | J7: =IFERROR(INDEX('1'!$A$5:$F$8,MATCH('2'!$F7*1,'1'!$E$5:$E$8,0),MATCH('2'!J$2,'1'!$A$4:$F$4,0)),"") | K7: =IFERROR(INDEX('1'!$A$5:$F$8,MATCH('2'!$F7*1,'1'!$E$5:$E$8,0),MATCH('2'!K$2,'1'!$A$4:$F$4,0)),"") | L7: =IFERROR(INDEX('1'!$A$5:$F$8,MATCH('2'!$F7*1,'1'!$E$5:$E$8,0),MATCH('2'!L$2,'1'!$A$4:$F$4,0)),"")
A8: rue anonyme | B8: 8 B | C8: commune A | D8: IMMEUBLE | E8: Collectif | F8: 240964 | G8: =IFERROR(INDEX('1'!$A$5:$F$8,MATCH('2'!$F8*1,'1'!$E$5:$E$8,0),MATCH('2'!G$2,'1'!$A$4:$F$4,0)),"") -> Rue anonyme | H8: =IFERROR(INDEX('1'!$A$5:$F$8,MATCH('2'!$F8*1,'1'!$E$5:$E$8,0),MATCH('2'!H$2,'1'!$A$4:$F$4,0)),"") -> 8c | I8: =IFERROR(INDEX('1'!$A$5:$F$8,MATCH('2'!$F8*1,'1'!$E$5:$E$8,0),MATCH('2'!I$2,'1'!$A$4:$F$4,0)),"") -> Commune A | J8: =IFERROR(INDEX('1'!$A$5:$F$8,MATCH('2'!$F8*1,'1'!$E$5:$E$8,0),MATCH('2'!J$2,'1'!$A$4:$F$4,0)),"") -> 43265 | K8: =IFERROR(INDEX('1'!$A$5:$F$8,MATCH('2'!$F8*1,'1'!$E$5:$E$8,0),MATCH('2'!K$2,'1'!$A$4:$F$4,0)),"") -> 240964 | L8: =IFERROR(INDEX('1'!$A$5:$F$8,MATCH('2'!$F8*1,'1'!$E$5:$E$8,0),MATCH('2'!L$2,'1'!$A$4:$F$4,0)),"") -> non

Sheet Feuil2
