Workbook

Sheet Rec.Dép.
A2: Recettes | B2: Dépenses
A3: Client | B3: Fournisseur | C3: Montant
A4: C1 | C4: 562.52
A5: C2 | C5: 211.5
B6: F1 | C6: -175.04
A7: C3 | C7: 151.34
B8: F2 | C8: -1663.7
B9: F3 | C9: -865.543
A10: C4 | C10: 264.09
A11: C5 | C11: 1855
A12: C6 | C12: 424
B13: F4 | C13: -773.19
A14: C7 | C14: 420.11
A15: C8 | C15: 100
A16: C9 | C16: 842.94
B17: F5 | C17: -1003.78
A18: C10 | C18: 105.88
A19: C11 | C19: 1000.003
B20: F6 | C20: -168.35
A21: C12 | C21: 539

Sheet Trésorerie
C2: BNP | E2: SG | G2: CAISSE | L2: BNP | N2: SG | P2: CAISSE
A3: Montants | B3: Comptes | C3: Crédit BNP | D3: Débit BNP | E3: Crédit SG | F3: Débit SG | G3: Crédit Caisse | H3: Débit Caisse | J3: Montants | K3: Comptes | L3: BNP | M3: BNP | N3: SG | O3: SG | P3: Caisse | Q3: Caisse
A4: =Rec.Dép.!C4 -> 562.52 | B4: SG | C4: =IF(AND($B4=RIGHT(C$3,LEN($B4)),$A4>0),$A4,"") | D4: =IF(AND($B4=RIGHT(D$3,LEN($B4)),$A4<0),$A4,"") | E4: =IF(AND($B4=RIGHT(E$3,LEN($B4)),$A4>0),$A4,"") -> 562.52 | F4: =IF(AND($B4=RIGHT(F$3,LEN($B4)),$A4<0),$A4,"") | G4: =IF(AND($B4=RIGHT(G$3,LEN($B4)),$A4>0),$A4,"") | H4: =IF(AND($B4=RIGHT(H$3,LEN($B4)),$A4<0),$A4,"") | J4: =Rec.Dép.!C4 -> 562.52 | K4: SG | L4: =IF(AND($K4=L$3,$J4>0),$J4,"") | M4: =IF(AND($K4=M$3,$J4<0),$J4,"") | N4: =IF(AND($K4=N$3,$J4>0),$J4,"") -> 562.52 | O4: =IF(AND($K4=O$3,$J4<0),$J4,"") | P4: =IF(AND($K4=P$3,$J4>0),$J4,"") | Q4: =IF(AND($K4=Q$3,$J4<0),$J4,"")
A5: =Rec.Dép.!C5 -> 211.5 | B5: CAISSE | C5: =IF(AND($B5=RIGHT(C$3,LEN($B5)),$A5>0),$A5,"") | D5: =IF(AND($B5=RIGHT(D$3,LEN($B5)),$A5<0),$A5,"") | E5: =IF(AND($B5=RIGHT(E$3,LEN($B5)),$A5>0),$A5,"") | F5: =IF(AND($B5=RIGHT(F$3,LEN($B5)),$A5<0),$A5,"") | G5: =IF(AND($B5=RIGHT(G$3,LEN($B5)),$A5>0),$A5,"") -> 211.5 | H5: =IF(AND($B5=RIGHT(H$3,LEN($B5)),$A5<0),$A5,"") | J5: =Rec.Dép.!C5 -> 211.5 | K5: CAISSE | L5: =IF(AND($K5=L$3,$J5>0),$J5,"") | M5: =IF(AND($K5=M$3,$J5<0),$J5,"") | N5: =IF(AND($K5=N$3,$J5>0),$J5,"") | O5: =IF(AND($K5=O$3,$J5<0),$J5,"") | P5: =IF(AND($K5=P$3,$J5>0),$J5,"") -> 211.5 | Q5: =IF(AND($K5=Q$3,$J5<0),$J5,"")
A6: =Rec.Dép.!C6 -> -175.04 | B6: SG | C6: =IF(AND($B6=RIGHT(C$3,LEN($B6)),$A6>0),$A6,"") | D6: =IF(AND($B6=RIGHT(D$3,LEN($B6)),$A6<0),$A6,"") | E6: =IF(AND($B6=RIGHT(E$3,LEN($B6)),$A6>0),$A6,"") | F6: =IF(AND($B6=RIGHT(F$3,LEN($B6)),$A6<0),$A6,"") -> -175.04 | G6: =IF(AND($B6=RIGHT(G$3,LEN($B6)),$A6>0),$A6,"") | H6: =IF(AND($B6=RIGHT(H$3,LEN($B6)),$A6<0),$A6,"") | J6: =Rec.Dép.!C6 -> -175.04 | K6: SG | L6: =IF(AND($K6=L$3,$J6>0),$J6,"") | M6: =IF(AND($K6=M$3,$J6<0),$J6,"") | N6: =IF(AND($K6=N$3,$J6>0),$J6,"") | O6: =IF(AND($K6=O$3,$J6<0),$J6,"") -> -175.04 | P6: =IF(AND($K6=P$3,$J6>0),$J6,"") | Q6: =IF(AND($K6=Q$3,$J6<0),$J6,"")
A7: =Rec.Dép.!C7 -> 151.34 | B7: BNP | C7: =IF(AND($B7=RIGHT(C$3,LEN($B7)),$A7>0),$A7,"") -> 151.34 | D7: =IF(AND($B7=RIGHT(D$3,LEN($B7)),$A7<0),$A7,"") | E7: =IF(AND($B7=RIGHT(E$3,LEN($B7)),$A7>0),$A7,"") | F7: =IF(AND($B7=RIGHT(F$3,LEN($B7)),$A7<0),$A7,"") | G7: =IF(AND($B7=RIGHT(G$3,LEN($B7)),$A7>0),$A7,"") | H7: =IF(AND($B7=RIGHT(H$3,LEN($B7)),$A7<0),$A7,"") | J7: =Rec.Dép.!C7 -> 151.34 | K7: BNP | L7: =IF(AND($K7=L$3,$J7>0),$J7,"") -> 151.34 | M7: =IF(AND($K7=M$3,$J7<0),$J7,"") | N7: =IF(AND($K7=N$3,$J7>0),$J7,"") | O7: =IF(AND($K7=O$3,$J7<0),$J7,"") | P7: =IF(AND($K7=P$3,$J7>0),$J7,"") | Q7: =IF(AND($K7=Q$3,$J7<0),$J7,"")
A8: =Rec.Dép.!C8 -> -1663.7 | B8: BNP | C8: =IF(AND($B8=RIGHT(C$3,LEN($B8)),$A8>0),$A8,"") | D8: =IF(AND($B8=RIGHT(D$3,LEN($B8)),$A8<0),$A8,"") -> -1663.7 | E8: =IF(AND($B8=RIGHT(E$3,LEN($B8)),$A8>0),$A8,"") | F8: =IF(AND($B8=RIGHT(F$3,LEN($B8)),$A8<0),$A8,"") | G8: =IF(AND($B8=RIGHT(G$3,LEN($B8)),$A8>0),$A8,"") | H8: =IF(AND($B8=RIGHT(H$3,LEN($B8)),$A8<0),$A8,"") | J8: =Rec.Dép.!C8 -> -1663.7 | K8: BNP | L8: =IF(AND($K8=L$3,$J8>0),$J8,"") | M8: =IF(AND($K8=M$3,$J8<0),$J8,"") -> -1663.7 | N8: =IF(AND($K8=N$3,$J8>0),$J8,"") | O8: =IF(AND($K8=O$3,$J8<0),$J8,"") | P8: =IF(AND($K8=P$3,$J8>0),$J8,"") | Q8: =IF(AND($K8=Q$3,$J8<0),$J8,"")
A9: =Rec.Dép.!C9 -> -865.543 | B9: SG | C9: =IF(AND($B9=RIGHT(C$3,LEN($B9)),$A9>0),$A9,"") | D9: =IF(AND($B9=RIGHT(D$3,LEN($B9)),$A9<0),$A9,"") | E9: =IF(AND($B9=RIGHT(E$3,LEN($B9)),$A9>0),$A9,"") | F9: =IF(AND($B9=RIGHT(F$3,LEN($B9)),$A9<0),$A9,"") -> -865.543 | G9: =IF(AND($B9=RIGHT(G$3,LEN($B9)),$A9>0),$A9,"") | H9: =IF(AND($B9=RIGHT(H$3,LEN($B9)),$A9<0),$A9,"") | J9: =Rec.Dép.!C9 -> -865.543 | K9: SG | L9: =IF(AND($K9=L$3,$J9>0),$J9,"") | M9: =IF(AND($K9=M$3,$J9<0),$J9,"") | N9: =IF(AND($K9=N$3,$J9>0),$J9,"") | O9: =IF(AND($K9=O$3,$J9<0),$J9,"") -> -865.543 | P9: =IF(AND($K9=P$3,$J9>0),$J9,"") | Q9: =IF(AND($K9=Q$3,$J9<0),$J9,"")
A10: =Rec.Dép.!C10 -> 264.09 | B10: CAISSE | C10: =IF(AND($B10=RIGHT(C$3,LEN($B10)),$A10>0),$A10,"") | D10: =IF(AND($B10=RIGHT(D$3,LEN($B10)),$A10<0),$A10,"") | E10: =IF(AND($B10=RIGHT(E$3,LEN($B10)),$A10>0),$A10,"") | F10: =IF(AND($B10=RIGHT(F$3,LEN($B10)),$A10<0),$A10,"") | G10: =IF(AND($B10=RIGHT(G$3,LEN($B10)),$A10>0),$A10,"") -> 264.09 | H10: =IF(AND($B10=RIGHT(H$3,LEN($B10)),$A10<0),$A10,"") | J10: =Rec.Dép.!C10 -> 264.09 | K10: CAISSE | L10: =IF(AND($K10=L$3,$J10>0),$J10,"") | M10: =IF(AND($K10=M$3,$J10<0),$J10,"") | N10: =IF(AND($K10=N$3,$J10>0),$J10,"") | O10: =IF(AND($K10=O$3,$J10<0),$J10,"") | P10: =IF(AND($K10=P$3,$J10>0),$J10,"") -> 264.09 | Q10: =IF(AND($K10=Q$3,$J10<0),$J10,"")
A11: =Rec.Dép.!C11 -> 1855 | B11: SG | C11: =IF(AND($B11=RIGHT(C$3,LEN($B11)),$A11>0),$A11,"") | D11: =IF(AND($B11=RIGHT(D$3,LEN($B11)),$A11<0),$A11,"") | E11: =IF(AND($B11=RIGHT(E$3,LEN($B11)),$A11>0),$A11,"") -> 1855 | F11: =IF(AND($B11=RIGHT(F$3,LEN($B11)),$A11<0),$A11,"") | G11: =IF(AND($B11=RIGHT(G$3,LEN($B11)),$A11>0),$A11,"") | H11: =IF(AND($B11=RIGHT(H$3,LEN($B11)),$A11<0),$A11,"") | J11: =Rec.Dép.!C11 -> 1855 | K11: SG | L11: =IF(AND($K11=L$3,$J11>0),$J11,"") | M11: =IF(AND($K11=M$3,$J11<0),$J11,"") | N11: =IF(AND($K11=N$3,$J11>0),$J11,"") -> 1855 | O11: =IF(AND($K11=O$3,$J11<0),$J11,"") | P11: =IF(AND($K11=P$3,$J11>0),$J11,"") | Q11: =IF(AND($K11=Q$3,$J11<0),$J11,"")
A12: =Rec.Dép.!C12 -> 424 | B12: BNP | C12: =IF(AND($B12=RIGHT(C$3,LEN($B12)),$A12>0),$A12,"") -> 424 | D12: =IF(AND($B12=RIGHT(D$3,LEN($B12)),$A12<0),$A12,"") | E12: =IF(AND($B12=RIGHT(E$3,LEN($B12)),$A12>0),$A12,"") | F12: =IF(AND($B12=RIGHT(F$3,LEN($B12)),$A12<0),$A12,"") | G12: =IF(AND($B12=RIGHT(G$3,LEN($B12)),$A12>0),$A12,"") | H12: =IF(AND($B12=RIGHT(H$3,LEN($B12)),$A12<0),$A12,"") | J12: =Rec.Dép.!C12 -> 424 | K12: BNP | L12: =IF(AND($K12=L$3,$J12>0),$J12,"") -> 424 | M12: =IF(AND($K12=M$3,$J12<0),$J12,"") | N12: =IF(AND($K12=N$3,$J12>0),$J12,"") | O12: =IF(AND($K12=O$3,$J12<0),$J12,"") | P12: =IF(AND($K12=P$3,$J12>0),$J12,"") | Q12: =IF(AND($K12=Q$3,$J12<0),$J12,"")
A13: =Rec.Dép.!C13 -> -773.19 | B13: CAISSE | C13: =IF(AND($B13=RIGHT(C$3,LEN($B13)),$A13>0),$A13,"") | D13: =IF(AND($B13=RIGHT(D$3,LEN($B13)),$A13<0),$A13,"") | E13: =IF(AND($B13=RIGHT(E$3,LEN($B13)),$A13>0),$A13,"") | F13: =IF(AND($B13=RIGHT(F$3,LEN($B13)),$A13<0),$A13,"") | G13: =IF(AND($B13=RIGHT(G$3,LEN($B13)),$A13>0),$A13,"") | H13: =IF(AND($B13=RIGHT(H$3,LEN($B13)),$A13<0),$A13,"") -> -773.19 | J13: =Rec.Dép.!C13 -> -773.19 | K13: CAISSE | L13: =IF(AND($K13=L$3,$J13>0),$J13,"") | M13: =IF(AND($K13=M$3,$J13<0),$J13,"") | N13: =IF(AND($K13=N$3,$J13>0),$J13,"") | O13: =IF(AND($K13=O$3,$J13<0),$J13,"") | P13: =IF(AND($K13=P$3,$J13>0),$J13,"") | Q13: =IF(AND($K13=Q$3,$J13<0),$J13,"") -> -773.19
A14: =Rec.Dép.!C14 -> 420.11 | B14: BNP | C14: =IF(AND($B14=RIGHT(C$3,LEN($B14)),$A14>0),$A14,"") -> 420.11 | D14: =IF(AND($B14=RIGHT(D$3,LEN($B14)),$A14<0),$A14,"") | E14: =IF(AND($B14=RIGHT(E$3,LEN($B14)),$A14>0),$A14,"") | F14: =IF(AND($B14=RIGHT(F$3,LEN($B14)),$A14<0),$A14,"") | G14: =IF(AND($B14=RIGHT(G$3,LEN($B14)),$A14>0),$A14,"") | H14: =IF(AND($B14=RIGHT(H$3,LEN($B14)),$A14<0),$A14,"") | J14: =Rec.Dép.!C14 -> 420.11 | K14: BNP | L14: =IF(AND($K14=L$3,$J14>0),$J14,"") -> 420.11 | M14: =IF(AND($K14=M$3,$J14<0),$J14,"") | N14: =IF(AND($K14=N$3,$J14>0),$J14,"") | O14: =IF(AND($K14=O$3,$J14<0),$J14,"") | P14: =IF(AND($K14=P$3,$J14>0),$J14,"") | Q14: =IF(AND($K14=Q$3,$J14<0),$J14,"")
A15: =Rec.Dép.!C15 -> 100 | B15: SG | C15: =IF(AND($B15=RIGHT(C$3,LEN($B15)),$A15>0),$A15,"") | D15: =IF(AND($B15=RIGHT(D$3,LEN($B15)),$A15<0),$A15,"") | E15: =IF(AND($B15=RIGHT(E$3,LEN($B15)),$A15>0),$A15,"") -> 100 | F15: =IF(AND($B15=RIGHT(F$3,LEN($B15)),$A15<0),$A15,"") | G15: =IF(AND($B15=RIGHT(G$3,LEN($B15)),$A15>0),$A15,"") | H15: =IF(AND($B15=RIGHT(H$3,LEN($B15)),$A15<0),$A15,"") | J15: =Rec.Dép.!C15 -> 100 | K15: SG | L15: =IF(AND($K15=L$3,$J15>0),$J15,"") | M15: =IF(AND($K15=M$3,$J15<0),$J15,"") | N15: =IF(AND($K15=N$3,$J15>0),$J15,"") -> 100 | O15: =IF(AND($K15=O$3,$J15<0),$J15,"") | P15: =IF(AND($K15=P$3,$J15>0),$J15,"") | Q15: =IF(AND($K15=Q$3,$J15<0),$J15,"")
... A21: =Rec.Dép.!C21 -> 539 | B21: BNP | C21: =IF(AND($B21=RIGHT(C$3,LEN($B21)),$A21>0),$A21,"") -> 539 | D21: =IF(AND($B21=RIGHT(D$3,LEN($B21)),$A21<0),$A21,"") | E21: =IF(AND($B21=RIGHT(E$3,LEN($B21)),$A21>0),$A21,"") | F21: =IF(AND($B21=RIGHT(F$3,LEN($B21)),$A21<0),$A21,"") | G21: =IF(AND($B21=RIGHT(G$3,LEN($B21)),$A21>0),$A21,"") | H21: =IF(AND($B21=RIGHT(H$3,LEN($B21)),$A21<0),$A21,"") | J21: =Rec.Dép.!C21 -> 539 | K21: BNP | L21: =IF(AND($K21=L$3,$J21>0),$J21,"") -> 539 | M21: =IF(AND($K21=M$3,$J21<0),$J21,"") | N21: =IF(AND($K21=N$3,$J21>0),$J21,"") | O21: =IF(AND($K21=O$3,$J21<0),$J21,"") | P21: =IF(AND($K21=P$3,$J21>0),$J21,"") | Q21: =IF(AND($K21=Q$3,$J21<0),$J21,"")
J23: =SUM(J4:J22) -> 1826.78 | K23: TOTAL | L23: =SUM(L4:L21) -> 3377.393 | M23: =SUM(M4:M21) -> -2667.48 | N23: =SUM(N4:N21) -> 2517.52 | O23: =SUM(O4:O21) -> -1208.933 | P23: =SUM(P4:P21) -> 581.47 | Q23: =SUM(Q4:Q21) -> -773.19
L24: =SUM(L23:Q23) -> 1826.78
C26: Les formules ne fonctionnent pas | L26: Les formules fonctionnent
C27: voir les formules dans les cellules | L27: voir les formules dans les cellules
C29: comment faire pour que les formules contenues dans le tableau avec colonnes à listes déroulantes puissent fonctionner ? | L29: les formules contenues dans le tableau avec colonnes sans listes déroulantes fonctionnent bien
B31: Nota : Les montants de la colonne A proviennent de la feuille Rec.Dép. | K31: Nota : Les montants de la colonne J proviennent de la feuille Rec.Dép.
