Workbook

Sheet Feuil1
B1: 0 | C1: 1 | D1: 2 | E1: 3 | F1: 4 | G1: 5 | H1: 6
A2: 0 | C2: 404.81 | D2: 256.3 | E2: 985.62 | F2: 199.79 | G2: 496.77 | H2: 295.34
A3: 1 | B3: 481.99 | D3: 280.56 | E3: 677.34 | F3: 609.86 | G3: 566.27 | H3: 606.17
A4: 2 | B4: 880.73 | C4: 527.9 | E4: 542.42 | F4: 788.55 | G4: 587.7 | H4: 935.12
A5: 3 | B5: 321.6 | C5: 282.4 | D5: 973.69 | F5: 732.12 | G5: 130.88 | H5: 499.86
A6: 4 | B6: 192.02 | C6: 174.75 | D6: 143.62 | E6: 552.99 | G6: 552.79 | H6: 452.94
A7: 5 | B7: 273.13 | C7: 413.07 | D7: 856.89 | E7: 702.87 | F7: 475.31 | H7: 457
A8: 6 | B8: 221.45 | C8: 127.58 | D8: 108.16 | E8: 745.11 | F8: 618.66 | G8: 801.57

Sheet Feuil2
A1: 0 | B1: 5 | C1: 6 | D1: 5 | E1: 6 | F1: 3 | G1: 5 | H1: 4 | I1: 2 | J1: 1 | K1: 0 | V1: =OFFSET(Feuil1!$B$2,INDIRECT(ADDRESS(ROW(),(COLUMN()-21)*2)),INDIRECT(ADDRESS(ROW(),(COLUMN()-21)*2-1))) -> 273.13 | W1: =OFFSET(Feuil1!$B$2,INDIRECT(ADDRESS(ROW(),(COLUMN()-21)*2)),INDIRECT(ADDRESS(ROW(),(COLUMN()-21)*2-1))) -> 457 | X1: =OFFSET(Feuil1!$B$2,INDIRECT(ADDRESS(ROW(),(COLUMN()-21)*2)),INDIRECT(ADDRESS(ROW(),(COLUMN()-21)*2-1))) -> 499.86 | Y1: =OFFSET(Feuil1!$B$2,INDIRECT(ADDRESS(ROW(),(COLUMN()-21)*2)),INDIRECT(ADDRESS(ROW(),(COLUMN()-21)*2-1))) -> 552.79 | Z1: =OFFSET(Feuil1!$B$2,INDIRECT(ADDRESS(ROW(),(COLUMN()-21)*2)),INDIRECT(ADDRESS(ROW(),(COLUMN()-21)*2-1))) -> 280.56 | AA1: =OFFSET(Feuil1!$B$2,INDIRECT(ADDRESS(ROW(),(COLUMN()-21)*2)),INDIRECT(ADDRESS(ROW(),(COLUMN()-21)*2-1))) -> 0 | AB1: =OFFSET(Feuil1!$B$2,INDIRECT(ADDRESS(ROW(),(COLUMN()-21)*2)),INDIRECT(ADDRESS(ROW(),(COLUMN()-21)*2-1))) -> 0 | AC1: =OFFSET(Feuil1!$B$2,INDIRECT(ADDRESS(ROW(),(COLUMN()-21)*2)),INDIRECT(ADDRESS(ROW(),(COLUMN()-21)*2-1))) -> 0 | ... AE1: =OFFSET(Feuil1!$B$2,INDIRECT(ADDRESS(ROW(),(COLUMN()-21)*2)),INDIRECT(ADDRESS(ROW(),(COLUMN()-21)*2-1))) -> 0 | AF1: =SUM(V1:AE1) -> 2063.34
A2: 0 | B2: 4 | C2: 3 | D2: 4 | E2: 3 | F2: 4 | G2: 3 | H2: 2 | I2: 5 | J2: 6 | K2: 3 | L2: 2 | M2: 4 | N2: 5 | O2: 2 | P2: 6 | Q2: 3 | R2: 4 | S2: 2 | T2: 0 | V2: =OFFSET(Feuil1!$B$2,INDIRECT(ADDRESS(ROW(),(COLUMN()-21)*2)),INDIRECT(ADDRESS(ROW(),(COLUMN()-21)*2-1))) -> 192.02 | W2: =OFFSET(Feuil1!$B$2,INDIRECT(ADDRESS(ROW(),(COLUMN()-21)*2)),INDIRECT(ADDRESS(ROW(),(COLUMN()-21)*2-1))) -> 552.99 | X2: =OFFSET(Feuil1!$B$2,INDIRECT(ADDRESS(ROW(),(COLUMN()-21)*2)),INDIRECT(ADDRESS(ROW(),(COLUMN()-21)*2-1))) -> 552.99 | Y2: =OFFSET(Feuil1!$B$2,INDIRECT(ADDRESS(ROW(),(COLUMN()-21)*2)),INDIRECT(ADDRESS(ROW(),(COLUMN()-21)*2-1))) -> 542.42 | Z2: =OFFSET(Feuil1!$B$2,INDIRECT(ADDRESS(ROW(),(COLUMN()-21)*2)),INDIRECT(ADDRESS(ROW(),(COLUMN()-21)*2-1))) -> 801.57 | AA2: =OFFSET(Feuil1!$B$2,INDIRECT(ADDRESS(ROW(),(COLUMN()-21)*2)),INDIRECT(ADDRESS(ROW(),(COLUMN()-21)*2-1))) -> 542.42 | AB2: =OFFSET(Feuil1!$B$2,INDIRECT(ADDRESS(ROW(),(COLUMN()-21)*2)),INDIRECT(ADDRESS(ROW(),(COLUMN()-21)*2-1))) -> 475.31 | AC2: =OFFSET(Feuil1!$B$2,INDIRECT(ADDRESS(ROW(),(COLUMN()-21)*2)),INDIRECT(ADDRESS(ROW(),(COLUMN()-21)*2-1))) -> 108.16 | ... AE2: =OFFSET(Feuil1!$B$2,INDIRECT(ADDRESS(ROW(),(COLUMN()-21)*2)),INDIRECT(ADDRESS(ROW(),(COLUMN()-21)*2-1))) -> 256.3 | AF2: =SUM(V2:AE2) -> 4577.17
A3: 4 | B3: 5 | C3: 6 | D3: 3 | E3: 5 | F3: 0 | G3: 4 | H3: 1 | I3: 6 | J3: 4 | K3: 5 | L3: 2 | M3: 3 | N3: 2 | O3: 0 | P3: 0 | Q3: 6 | R3: 4 | S3: 0 | T3: 1 | V3: =OFFSET(Feuil1!$B$2,INDIRECT(ADDRESS(ROW(),(COLUMN()-21)*2)),INDIRECT(ADDRESS(ROW(),(COLUMN()-21)*2-1))) -> 475.31 | W3: =OFFSET(Feuil1!$B$2,INDIRECT(ADDRESS(ROW(),(COLUMN()-21)*2)),INDIRECT(ADDRESS(ROW(),(COLUMN()-21)*2-1))) -> 499.86 | X3: =OFFSET(Feuil1!$B$2,INDIRECT(ADDRESS(ROW(),(COLUMN()-21)*2)),INDIRECT(ADDRESS(ROW(),(COLUMN()-21)*2-1))) -> 496.77 | Y3: =OFFSET(Feuil1!$B$2,INDIRECT(ADDRESS(ROW(),(COLUMN()-21)*2)),INDIRECT(ADDRESS(ROW(),(COLUMN()-21)*2-1))) -> 609.86 | Z3: =OFFSET(Feuil1!$B$2,INDIRECT(ADDRESS(ROW(),(COLUMN()-21)*2)),INDIRECT(ADDRESS(ROW(),(COLUMN()-21)*2-1))) -> 452.94 | AA3: =OFFSET(Feuil1!$B$2,INDIRECT(ADDRESS(ROW(),(COLUMN()-21)*2)),INDIRECT(ADDRESS(ROW(),(COLUMN()-21)*2-1))) -> 587.7 | AB3: =OFFSET(Feuil1!$B$2,INDIRECT(ADDRESS(ROW(),(COLUMN()-21)*2)),INDIRECT(ADDRESS(ROW(),(COLUMN()-21)*2-1))) -> 542.42 | AC3: =OFFSET(Feuil1!$B$2,INDIRECT(ADDRESS(ROW(),(COLUMN()-21)*2)),INDIRECT(ADDRESS(ROW(),(COLUMN()-21)*2-1))) -> 0 | ... AE3: =OFFSET(Feuil1!$B$2,INDIRECT(ADDRESS(ROW(),(COLUMN()-21)*2)),INDIRECT(ADDRESS(ROW(),(COLUMN()-21)*2-1))) -> 481.99 | AF3: =SUM(V3:AE3) -> 4599.79
A4: 5 | B4: 2 | C4: 3 | D4: 2 | E4: 4 | F4: 6 | G4: 1 | H4: 6 | V4: =OFFSET(Feuil1!$B$2,INDIRECT(ADDRESS(ROW(),(COLUMN()-21)*2)),INDIRECT(ADDRESS(ROW(),(COLUMN()-21)*2-1))) -> 587.7 | W4: =OFFSET(Feuil1!$B$2,INDIRECT(ADDRESS(ROW(),(COLUMN()-21)*2)),INDIRECT(ADDRESS(ROW(),(COLUMN()-21)*2-1))) -> 542.42 | X4: =OFFSET(Feuil1!$B$2,INDIRECT(ADDRESS(ROW(),(COLUMN()-21)*2)),INDIRECT(ADDRESS(ROW(),(COLUMN()-21)*2-1))) -> 618.66 | Y4: =OFFSET(Feuil1!$B$2,INDIRECT(ADDRESS(ROW(),(COLUMN()-21)*2)),INDIRECT(ADDRESS(ROW(),(COLUMN()-21)*2-1))) -> 127.58 | Z4: =OFFSET(Feuil1!$B$2,INDIRECT(ADDRESS(ROW(),(COLUMN()-21)*2)),INDIRECT(ADDRESS(ROW(),(COLUMN()-21)*2-1))) -> 0 | AA4: =OFFSET(Feuil1!$B$2,INDIRECT(ADDRESS(ROW(),(COLUMN()-21)*2)),INDIRECT(ADDRESS(ROW(),(COLUMN()-21)*2-1))) -> 0 | AB4: =OFFSET(Feuil1!$B$2,INDIRECT(ADDRESS(ROW(),(COLUMN()-21)*2)),INDIRECT(ADDRESS(ROW(),(COLUMN()-21)*2-1))) -> 0 | AC4: =OFFSET(Feuil1!$B$2,INDIRECT(ADDRESS(ROW(),(COLUMN()-21)*2)),INDIRECT(ADDRESS(ROW(),(COLUMN()-21)*2-1))) -> 0 | ... AE4: =OFFSET(Feuil1!$B$2,INDIRECT(ADDRESS(ROW(),(COLUMN()-21)*2)),INDIRECT(ADDRESS(ROW(),(COLUMN()-21)*2-1))) -> 0 | AF4: =SUM(V4:AE4) -> 1876.36
A5: 6 | B5: 5 | C5: 3 | D5: 0 | E5: 5 | F5: 5 | G5: 1 | H5: 0 | I5: 0 | J5: 5 | K5: 2 | L5: 4 | M5: 5 | N5: 1 | O5: 2 | P5: 4 | Q5: 3 | R5: 0 | S5: 3 | T5: 5 | V5: =OFFSET(Feuil1!$B$2,INDIRECT(ADDRESS(ROW(),(COLUMN()-21)*2)),INDIRECT(ADDRESS(ROW(),(COLUMN()-21)*2-1))) -> 457 | W5: =OFFSET(Feuil1!$B$2,INDIRECT(ADDRESS(ROW(),(COLUMN()-21)*2)),INDIRECT(ADDRESS(ROW(),(COLUMN()-21)*2-1))) -> 985.62 | X5: =OFFSET(Feuil1!$B$2,INDIRECT(ADDRESS(ROW(),(COLUMN()-21)*2)),INDIRECT(ADDRESS(ROW(),(COLUMN()-21)*2-1))) -> 0 | Y5: =OFFSET(Feuil1!$B$2,INDIRECT(ADDRESS(ROW(),(COLUMN()-21)*2)),INDIRECT(ADDRESS(ROW(),(COLUMN()-21)*2-1))) -> 404.81 | Z5: =OFFSET(Feuil1!$B$2,INDIRECT(ADDRESS(ROW(),(COLUMN()-21)*2)),INDIRECT(ADDRESS(ROW(),(COLUMN()-21)*2-1))) -> 273.13 | AA5: =OFFSET(Feuil1!$B$2,INDIRECT(ADDRESS(ROW(),(COLUMN()-21)*2)),INDIRECT(ADDRESS(ROW(),(COLUMN()-21)*2-1))) -> 143.62 | AB5: =OFFSET(Feuil1!$B$2,INDIRECT(ADDRESS(ROW(),(COLUMN()-21)*2)),INDIRECT(ADDRESS(ROW(),(COLUMN()-21)*2-1))) -> 566.27 | AC5: =OFFSET(Feuil1!$B$2,INDIRECT(ADDRESS(ROW(),(COLUMN()-21)*2)),INDIRECT(ADDRESS(ROW(),(COLUMN()-21)*2-1))) -> 143.62 | ... AE5: =OFFSET(Feuil1!$B$2,INDIRECT(ADDRESS(ROW(),(COLUMN()-21)*2)),INDIRECT(ADDRESS(ROW(),(COLUMN()-21)*2-1))) -> 702.87 | AF5: =SUM(V5:AE5) -> 4662.56
A6: 4 | B6: 6 | C6: 2 | D6: 6 | E6: 0 | F6: 5 | V6: =OFFSET(Feuil1!$B$2,INDIRECT(ADDRESS(ROW(),(COLUMN()-21)*2)),INDIRECT(ADDRESS(ROW(),(COLUMN()-21)*2-1))) -> 618.66 | W6: =OFFSET(Feuil1!$B$2,INDIRECT(ADDRESS(ROW(),(COLUMN()-21)*2)),INDIRECT(ADDRESS(ROW(),(COLUMN()-21)*2-1))) -> 108.16 | X6: =OFFSET(Feuil1!$B$2,INDIRECT(ADDRESS(ROW(),(COLUMN()-21)*2)),INDIRECT(ADDRESS(ROW(),(COLUMN()-21)*2-1))) -> 273.13 | Y6: =OFFSET(Feuil1!$B$2,INDIRECT(ADDRESS(ROW(),(COLUMN()-21)*2)),INDIRECT(ADDRESS(ROW(),(COLUMN()-21)*2-1))) -> 0 | Z6: =OFFSET(Feuil1!$B$2,INDIRECT(ADDRESS(ROW(),(COLUMN()-21)*2)),INDIRECT(ADDRESS(ROW(),(COLUMN()-21)*2-1))) -> 0 | AA6: =OFFSET(Feuil1!$B$2,INDIRECT(ADDRESS(ROW(),(COLUMN()-21)*2)),INDIRECT(ADDRESS(ROW(),(COLUMN()-21)*2-1))) -> 0 | AB6: =OFFSET(Feuil1!$B$2,INDIRECT(ADDRESS(ROW(),(COLUMN()-21)*2)),INDIRECT(ADDRESS(ROW(),(COLUMN()-21)*2-1))) -> 0 | AC6: =OFFSET(Feuil1!$B$2,INDIRECT(ADDRESS(ROW(),(COLUMN()-21)*2)),INDIRECT(ADDRESS(ROW(),(COLUMN()-21)*2-1))) -> 0 | ... AE6: =OFFSET(Feuil1!$B$2,INDIRECT(ADDRESS(ROW(),(COLUMN()-21)*2)),INDIRECT(ADDRESS(ROW(),(COLUMN()-21)*2-1))) -> 0 | AF6: =SUM(V6:AE6) -> 999.95
A7: 6 | B7: 0 | C7: 1 | D7: 2 | E7: 2 | F7: 0 | G7: 0 | H7: 1 | I7: 6 | J7: 5 | K7: 0 | L7: 4 | M7: 5 | N7: 1 | O7: 5 | P7: 6 | Q7: 6 | R7: 6 | S7: 5 | T7: 1 | V7: =OFFSET(Feuil1!$B$2,INDIRECT(ADDRESS(ROW(),(COLUMN()-21)*2)),INDIRECT(ADDRESS(ROW(),(COLUMN()-21)*2-1))) -> 295.34 | W7: =OFFSET(Feuil1!$B$2,INDIRECT(ADDRESS(ROW(),(COLUMN()-21)*2)),INDIRECT(ADDRESS(ROW(),(COLUMN()-21)*2-1))) -> 527.9 | X7: =OFFSET(Feuil1!$B$2,INDIRECT(ADDRESS(ROW(),(COLUMN()-21)*2)),INDIRECT(ADDRESS(ROW(),(COLUMN()-21)*2-1))) -> 256.3 | Y7: =OFFSET(Feuil1!$B$2,INDIRECT(ADDRESS(ROW(),(COLUMN()-21)*2)),INDIRECT(ADDRESS(ROW(),(COLUMN()-21)*2-1))) -> 481.99 | Z7: =OFFSET(Feuil1!$B$2,INDIRECT(ADDRESS(ROW(),(COLUMN()-21)*2)),INDIRECT(ADDRESS(ROW(),(COLUMN()-21)*2-1))) -> 457 | AA7: =OFFSET(Feuil1!$B$2,INDIRECT(ADDRESS(ROW(),(COLUMN()-21)*2)),INDIRECT(ADDRESS(ROW(),(COLUMN()-21)*2-1))) -> 192.02 | AB7: =OFFSET(Feuil1!$B$2,INDIRECT(ADDRESS(ROW(),(COLUMN()-21)*2)),INDIRECT(ADDRESS(ROW(),(COLUMN()-21)*2-1))) -> 566.27 | AC7: =OFFSET(Feuil1!$B$2,INDIRECT(ADDRESS(ROW(),(COLUMN()-21)*2)),INDIRECT(ADDRESS(ROW(),(COLUMN()-21)*2-1))) -> 801.57 | ... AE7: =OFFSET(Feuil1!$B$2,INDIRECT(ADDRESS(ROW(),(COLUMN()-21)*2)),INDIRECT(ADDRESS(ROW(),(COLUMN()-21)*2-1))) -> 566.27 | AF7: =SUM(V7:AE7) -> 4144.66
A8: 1 | B8: 0 | C8: 4 | D8: 6 | E8: 6 | F8: 3 | G8: 2 | H8: 6 | I8: 3 | J8: 4 | K8: 4 | L8: 5 | M8: 5 | N8: 6 | O8: 1 | P8: 0 | Q8: 6 | R8: 0 | S8: 5 | T8: 1 | V8: =OFFSET(Feuil1!$B$2,INDIRECT(ADDRESS(ROW(),(COLUMN()-21)*2)),INDIRECT(ADDRESS(ROW(),(COLUMN()-21)*2-1))) -> 404.81 | W8: =OFFSET(Feuil1!$B$2,INDIRECT(ADDRESS(ROW(),(COLUMN()-21)*2)),INDIRECT(ADDRESS(ROW(),(COLUMN()-21)*2-1))) -> 618.66 | X8: =OFFSET(Feuil1!$B$2,INDIRECT(ADDRESS(ROW(),(COLUMN()-21)*2)),INDIRECT(ADDRESS(ROW(),(COLUMN()-21)*2-1))) -> 499.86 | Y8: =OFFSET(Feuil1!$B$2,INDIRECT(ADDRESS(ROW(),(COLUMN()-21)*2)),INDIRECT(ADDRESS(ROW(),(COLUMN()-21)*2-1))) -> 108.16 | Z8: =OFFSET(Feuil1!$B$2,INDIRECT(ADDRESS(ROW(),(COLUMN()-21)*2)),INDIRECT(ADDRESS(ROW(),(COLUMN()-21)*2-1))) -> 552.99 | AA8: =OFFSET(Feuil1!$B$2,INDIRECT(ADDRESS(ROW(),(COLUMN()-21)*2)),INDIRECT(ADDRESS(ROW(),(COLUMN()-21)*2-1))) -> 475.31 | AB8: =OFFSET(Feuil1!$B$2,INDIRECT(ADDRESS(ROW(),(COLUMN()-21)*2)),INDIRECT(ADDRESS(ROW(),(COLUMN()-21)*2-1))) -> 801.57 | AC8: =OFFSET(Feuil1!$B$2,INDIRECT(ADDRESS(ROW(),(COLUMN()-21)*2)),INDIRECT(ADDRESS(ROW(),(COLUMN()-21)*2-1))) -> 404.81 | ... AE8: =OFFSET(Feuil1!$B$2,INDIRECT(ADDRESS(ROW(),(COLUMN()-21)*2)),INDIRECT(ADDRESS(ROW(),(COLUMN()-21)*2-1))) -> 566.27 | AF8: =SUM(V8:AE8) -> 4727.78
A9: 6 | B9: 1 | C9: 5 | D9: 5 | E9: 6 | F9: 0 | G9: 5 | H9: 2 | I9: 5 | J9: 5 | K9: 0 | L9: 1 | V9: =OFFSET(Feuil1!$B$2,INDIRECT(ADDRESS(ROW(),(COLUMN()-21)*2)),INDIRECT(ADDRESS(ROW(),(COLUMN()-21)*2-1))) -> 606.17 | W9: =OFFSET(Feuil1!$B$2,INDIRECT(ADDRESS(ROW(),(COLUMN()-21)*2)),INDIRECT(ADDRESS(ROW(),(COLUMN()-21)*2-1))) -> 0 | X9: =OFFSET(Feuil1!$B$2,INDIRECT(ADDRESS(ROW(),(COLUMN()-21)*2)),INDIRECT(ADDRESS(ROW(),(COLUMN()-21)*2-1))) -> 295.34 | Y9: =OFFSET(Feuil1!$B$2,INDIRECT(ADDRESS(ROW(),(COLUMN()-21)*2)),INDIRECT(ADDRESS(ROW(),(COLUMN()-21)*2-1))) -> 587.7 | Z9: =OFFSET(Feuil1!$B$2,INDIRECT(ADDRESS(ROW(),(COLUMN()-21)*2)),INDIRECT(ADDRESS(ROW(),(COLUMN()-21)*2-1))) -> 0 | AA9: =OFFSET(Feuil1!$B$2,INDIRECT(ADDRESS(ROW(),(COLUMN()-21)*2)),INDIRECT(ADDRESS(ROW(),(COLUMN()-21)*2-1))) -> 481.99 | AB9: =OFFSET(Feuil1!$B$2,INDIRECT(ADDRESS(ROW(),(COLUMN()-21)*2)),INDIRECT(ADDRESS(ROW(),(COLUMN()-21)*2-1))) -> 0 | AC9: =OFFSET(Feuil1!$B$2,INDIRECT(ADDRESS(ROW(),(COLUMN()-21)*2)),INDIRECT(ADDRESS(ROW(),(COLUMN()-21)*2-1))) -> 0 | ... AE9: =OFFSET(Feuil1!$B$2,INDIRECT(ADDRESS(ROW(),(COLUMN()-21)*2)),INDIRECT(ADDRESS(ROW(),(COLUMN()-21)*2-1))) -> 0 | AF9: =SUM(V9:AE9) -> 1971.2
A10: 0 | B10: 4 | C10: 2 | D10: 0 | E10: 0 | F10: 5 | G10: 4 | H10: 1 | I10: 6 | J10: 5 | K10: 5 | L10: 6 | M10: 2 | N10: 0 | O10: 0 | P10: 6 | Q10: 1 | R10: 0 | S10: 2 | T10: 1 | V10: =OFFSET(Feuil1!$B$2,INDIRECT(ADDRESS(ROW(),(COLUMN()-21)*2)),INDIRECT(ADDRESS(ROW(),(COLUMN()-21)*2-1))) -> 192.02 | W10: =OFFSET(Feuil1!$B$2,INDIRECT(ADDRESS(ROW(),(COLUMN()-21)*2)),INDIRECT(ADDRESS(ROW(),(COLUMN()-21)*2-1))) -> 256.3 | X10: =OFFSET(Feuil1!$B$2,INDIRECT(ADDRESS(ROW(),(COLUMN()-21)*2)),INDIRECT(ADDRESS(ROW(),(COLUMN()-21)*2-1))) -> 273.13 | Y10: =OFFSET(Feuil1!$B$2,INDIRECT(ADDRESS(ROW(),(COLUMN()-21)*2)),INDIRECT(ADDRESS(ROW(),(COLUMN()-21)*2-1))) -> 609.86 | Z10: =OFFSET(Feuil1!$B$2,INDIRECT(ADDRESS(ROW(),(COLUMN()-21)*2)),INDIRECT(ADDRESS(ROW(),(COLUMN()-21)*2-1))) -> 457 | AA10: =OFFSET(Feuil1!$B$2,INDIRECT(ADDRESS(ROW(),(COLUMN()-21)*2)),INDIRECT(ADDRESS(ROW(),(COLUMN()-21)*2-1))) -> 801.57 | AB10: =OFFSET(Feuil1!$B$2,INDIRECT(ADDRESS(ROW(),(COLUMN()-21)*2)),INDIRECT(ADDRESS(ROW(),(COLUMN()-21)*2-1))) -> 256.3 | AC10: =OFFSET(Feuil1!$B$2,INDIRECT(ADDRESS(ROW(),(COLUMN()-21)*2)),INDIRECT(ADDRESS(ROW(),(COLUMN()-21)*2-1))) -> 221.45 | ... AE10: =OFFSET(Feuil1!$B$2,INDIRECT(ADDRESS(ROW(),(COLUMN()-21)*2)),INDIRECT(ADDRESS(ROW(),(COLUMN()-21)*2-1))) -> 280.56 | AF10: =SUM(V10:AE10) -> 3753
A11: 2 | B11: 0 | C11: 1 | D11: 5 | E11: 5 | F11: 6 | G11: 5 | H11: 1 | I11: 2 | J11: 0 | K11: 4 | L11: 4 | M11: 5 | N11: 1 | O11: 3 | P11: 0 | Q11: 6 | R11: 4 | S11: 2 | T11: 5 | V11: =OFFSET(Feuil1!$B$2,INDIRECT(ADDRESS(ROW(),(COLUMN()-21)*2)),INDIRECT(ADDRESS(ROW(),(COLUMN()-21)*2-1))) -> 256.3 | W11: =OFFSET(Feuil1!$B$2,INDIRECT(ADDRESS(ROW(),(COLUMN()-21)*2)),INDIRECT(ADDRESS(ROW(),(COLUMN()-21)*2-1))) -> 413.07 | X11: =OFFSET(Feuil1!$B$2,INDIRECT(ADDRESS(ROW(),(COLUMN()-21)*2)),INDIRECT(ADDRESS(ROW(),(COLUMN()-21)*2-1))) -> 801.57 | Y11: =OFFSET(Feuil1!$B$2,INDIRECT(ADDRESS(ROW(),(COLUMN()-21)*2)),INDIRECT(ADDRESS(ROW(),(COLUMN()-21)*2-1))) -> 566.27 | Z11: =OFFSET(Feuil1!$B$2,INDIRECT(ADDRESS(ROW(),(COLUMN()-21)*2)),INDIRECT(ADDRESS(ROW(),(COLUMN()-21)*2-1))) -> 256.3 | AA11: =OFFSET(Feuil1!$B$2,INDIRECT(ADDRESS(ROW(),(COLUMN()-21)*2)),INDIRECT(ADDRESS(ROW(),(COLUMN()-21)*2-1))) -> 0 | AB11: =OFFSET(Feuil1!$B$2,INDIRECT(ADDRESS(ROW(),(COLUMN()-21)*2)),INDIRECT(ADDRESS(ROW(),(COLUMN()-21)*2-1))) -> 566.27 | AC11: =OFFSET(Feuil1!$B$2,INDIRECT(ADDRESS(ROW(),(COLUMN()-21)*2)),INDIRECT(ADDRESS(ROW(),(COLUMN()-21)*2-1))) -> 985.62 | ... AE11: =OFFSET(Feuil1!$B$2,INDIRECT(ADDRESS(ROW(),(COLUMN()-21)*2)),INDIRECT(ADDRESS(ROW(),(COLUMN()-21)*2-1))) -> 856.89 | AF11: =SUM(V11:AE11) -> 5155.23
A12: 4 | B12: 3 | C12: 2 | D12: 0 | E12: 2 | F12: 4 | G12: 4 | H12: 4 | I12: 0 | J12: 5 | V12: =OFFSET(Feuil1!$B$2,INDIRECT(ADDRESS(ROW(),(COLUMN()-21)*2)),INDIRECT(ADDRESS(ROW(),(COLUMN()-21)*2-1))) -> 732.12 | W12: =OFFSET(Feuil1!$B$2,INDIRECT(ADDRESS(ROW(),(COLUMN()-21)*2)),INDIRECT(ADDRESS(ROW(),(COLUMN()-21)*2-1))) -> 256.3 | X12: =OFFSET(Feuil1!$B$2,INDIRECT(ADDRESS(ROW(),(COLUMN()-21)*2)),INDIRECT(ADDRESS(ROW(),(COLUMN()-21)*2-1))) -> 143.62 | Y12: =OFFSET(Feuil1!$B$2,INDIRECT(ADDRESS(ROW(),(COLUMN()-21)*2)),INDIRECT(ADDRESS(ROW(),(COLUMN()-21)*2-1))) -> 0 | Z12: =OFFSET(Feuil1!$B$2,INDIRECT(ADDRESS(ROW(),(COLUMN()-21)*2)),INDIRECT(ADDRESS(ROW(),(COLUMN()-21)*2-1))) -> 273.13 | AA12: =OFFSET(Feuil1!$B$2,INDIRECT(ADDRESS(ROW(),(COLUMN()-21)*2)),INDIRECT(ADDRESS(ROW(),(COLUMN()-21)*2-1))) -> 0 | AB12: =OFFSET(Feuil1!$B$2,INDIRECT(ADDRESS(ROW(),(COLUMN()-21)*2)),INDIRECT(ADDRESS(ROW(),(COLUMN()-21)*2-1))) -> 0 | AC12: =OFFSET(Feuil1!$B$2,INDIRECT(ADDRESS(ROW(),(COLUMN()-21)*2)),INDIRECT(ADDRESS(ROW(),(COLUMN()-21)*2-1))) -> 0 | ... AE12: =OFFSET(Feuil1!$B$2,INDIRECT(ADDRESS(ROW(),(COLUMN()-21)*2)),INDIRECT(ADDRESS(ROW(),(COLUMN()-21)*2-1))) -> 0 | AF12: =SUM(V12:AE12) -> 1405.17
A13: 5 | B13: 0 | C13: 4 | D13: 5 | E13: 4 | F13: 1 | G13: 1 | H13: 2 | I13: 2 | J13: 2 | K13: 0 | L13: 0 | M13: 5 | N13: 1 | O13: 5 | P13: 1 | Q13: 5 | R13: 6 | V13: =OFFSET(Feuil1!$B$2,INDIRECT(ADDRESS(ROW(),(COLUMN()-21)*2)),INDIRECT(ADDRESS(ROW(),(COLUMN()-21)*2-1))) -> 496.77 | W13: =OFFSET(Feuil1!$B$2,INDIRECT(ADDRESS(ROW(),(COLUMN()-21)*2)),INDIRECT(ADDRESS(ROW(),(COLUMN()-21)*2-1))) -> 475.31 | X13: =OFFSET(Feuil1!$B$2,INDIRECT(ADDRESS(ROW(),(COLUMN()-21)*2)),INDIRECT(ADDRESS(ROW(),(COLUMN()-21)*2-1))) -> 609.86 | Y13: =OFFSET(Feuil1!$B$2,INDIRECT(ADDRESS(ROW(),(COLUMN()-21)*2)),INDIRECT(ADDRESS(ROW(),(COLUMN()-21)*2-1))) -> 527.9 | Z13: =OFFSET(Feuil1!$B$2,INDIRECT(ADDRESS(ROW(),(COLUMN()-21)*2)),INDIRECT(ADDRESS(ROW(),(COLUMN()-21)*2-1))) -> 0 | AA13: =OFFSET(Feuil1!$B$2,INDIRECT(ADDRESS(ROW(),(COLUMN()-21)*2)),INDIRECT(ADDRESS(ROW(),(COLUMN()-21)*2-1))) -> 0 | AB13: =OFFSET(Feuil1!$B$2,INDIRECT(ADDRESS(ROW(),(COLUMN()-21)*2)),INDIRECT(ADDRESS(ROW(),(COLUMN()-21)*2-1))) -> 566.27 | AC13: =OFFSET(Feuil1!$B$2,INDIRECT(ADDRESS(ROW(),(COLUMN()-21)*2)),INDIRECT(ADDRESS(ROW(),(COLUMN()-21)*2-1))) -> 566.27 | ... AE13: =OFFSET(Feuil1!$B$2,INDIRECT(ADDRESS(ROW(),(COLUMN()-21)*2)),INDIRECT(ADDRESS(ROW(),(COLUMN()-21)*2-1))) -> 0 | AF13: =SUM(V13:AE13) -> 4043.95
A14: 4 | B14: 0 | C14: 6 | D14: 1 | E14: 4 | F14: 6 | G14: 5 | H14: 1 | I14: 6 | J14: 1 | K14: 3 | L14: 6 | M14: 5 | N14: 0 | O14: 6 | P14: 1 | Q14: 3 | R14: 1 | V14: =OFFSET(Feuil1!$B$2,INDIRECT(ADDRESS(ROW(),(COLUMN()-21)*2)),INDIRECT(ADDRESS(ROW(),(COLUMN()-21)*2-1))) -> 199.79 | W14: =OFFSET(Feuil1!$B$2,INDIRECT(ADDRESS(ROW(),(COLUMN()-21)*2)),INDIRECT(ADDRESS(ROW(),(COLUMN()-21)*2-1))) -> 606.17 | X14: =OFFSET(Feuil1!$B$2,INDIRECT(ADDRESS(ROW(),(COLUMN()-21)*2)),INDIRECT(ADDRESS(ROW(),(COLUMN()-21)*2-1))) -> 618.66 | Y14: =OFFSET(Feuil1!$B$2,INDIRECT(ADDRESS(ROW(),(COLUMN()-21)*2)),INDIRECT(ADDRESS(ROW(),(COLUMN()-21)*2-1))) -> 566.27 | Z14: =OFFSET(Feuil1!$B$2,INDIRECT(ADDRESS(ROW(),(COLUMN()-21)*2)),INDIRECT(ADDRESS(ROW(),(COLUMN()-21)*2-1))) -> 606.17 | AA14: =OFFSET(Feuil1!$B$2,INDIRECT(ADDRESS(ROW(),(COLUMN()-21)*2)),INDIRECT(ADDRESS(ROW(),(COLUMN()-21)*2-1))) -> 745.11 | AB14: =OFFSET(Feuil1!$B$2,INDIRECT(ADDRESS(ROW(),(COLUMN()-21)*2)),INDIRECT(ADDRESS(ROW(),(COLUMN()-21)*2-1))) -> 496.77 | AC14: =OFFSET(Feuil1!$B$2,INDIRECT(ADDRESS(ROW(),(COLUMN()-21)*2)),INDIRECT(ADDRESS(ROW(),(COLUMN()-21)*2-1))) -> 606.17 | ... AE14: =OFFSET(Feuil1!$B$2,INDIRECT(ADDRESS(ROW(),(COLUMN()-21)*2)),INDIRECT(ADDRESS(ROW(),(COLUMN()-21)*2-1))) -> 0 | AF14: =SUM(V14:AE14) -> 5122.45
A15: 5 | B15: 5 | C15: 3 | D15: 5 | E15: 0 | F15: 3 | G15: 2 | H15: 3 | I15: 5 | J15: 4 | K15: 4 | L15: 1 | V15: =OFFSET(Feuil1!$B$2,INDIRECT(ADDRESS(ROW(),(COLUMN()-21)*2)),INDIRECT(ADDRESS(ROW(),(COLUMN()-21)*2-1))) -> 0 | W15: =OFFSET(Feuil1!$B$2,INDIRECT(ADDRESS(ROW(),(COLUMN()-21)*2)),INDIRECT(ADDRESS(ROW(),(COLUMN()-21)*2-1))) -> 702.87 | X15: =OFFSET(Feuil1!$B$2,INDIRECT(ADDRESS(ROW(),(COLUMN()-21)*2)),INDIRECT(ADDRESS(ROW(),(COLUMN()-21)*2-1))) -> 321.6 | Y15: =OFFSET(Feuil1!$B$2,INDIRECT(ADDRESS(ROW(),(COLUMN()-21)*2)),INDIRECT(ADDRESS(ROW(),(COLUMN()-21)*2-1))) -> 973.69 | Z15: =OFFSET(Feuil1!$B$2,INDIRECT(ADDRESS(ROW(),(COLUMN()-21)*2)),INDIRECT(ADDRESS(ROW(),(COLUMN()-21)*2-1))) -> 552.79 | AA15: =OFFSET(Feuil1!$B$2,INDIRECT(ADDRESS(ROW(),(COLUMN()-21)*2)),INDIRECT(ADDRESS(ROW(),(COLUMN()-21)*2-1))) -> 609.86 | AB15: =OFFSET(Feuil1!$B$2,INDIRECT(ADDRESS(ROW(),(COLUMN()-21)*2)),INDIRECT(ADDRESS(ROW(),(COLUMN()-21)*2-1))) -> 0 | AC15: =OFFSET(Feuil1!$B$2,INDIRECT(ADDRESS(ROW(),(COLUMN()-21)*2)),INDIRECT(ADDRESS(ROW(),(COLUMN()-21)*2-1))) -> 0 | ... AE15: =OFFSET(Feuil1!$B$2,INDIRECT(ADDRESS(ROW(),(COLUMN()-21)*2)),INDIRECT(ADDRESS(ROW(),(COLUMN()-21)*2-1))) -> 0 | AF15: =SUM(V15:AE15) -> 3160.81
A16: 1 | B16: 1 | C16: 0 | D16: 4 | E16: 4 | F16: 6 | G16: 6 | H16: 4 | I16: 0 | J16: 6 | K16: 1 | L16: 4 | M16: 4 | N16: 2 | O16: 5 | P16: 6 | Q16: 0 | R16: 3 | V16: =OFFSET(Feuil1!$B$2,INDIRECT(ADDRESS(ROW(),(COLUMN()-21)*2)),INDIRECT(ADDRESS(ROW(),(COLUMN()-21)*2-1))) -> 0 | W16: =OFFSET(Feuil1!$B$2,INDIRECT(ADDRESS(ROW(),(COLUMN()-21)*2)),INDIRECT(ADDRESS(ROW(),(COLUMN()-21)*2-1))) -> 192.02 | X16: =OFFSET(Feuil1!$B$2,INDIRECT(ADDRESS(ROW(),(COLUMN()-21)*2)),INDIRECT(ADDRESS(ROW(),(COLUMN()-21)*2-1))) -> 618.66 | Y16: =OFFSET(Feuil1!$B$2,INDIRECT(ADDRESS(ROW(),(COLUMN()-21)*2)),INDIRECT(ADDRESS(ROW(),(COLUMN()-21)*2-1))) -> 452.94 | Z16: =OFFSET(Feuil1!$B$2,INDIRECT(ADDRESS(ROW(),(COLUMN()-21)*2)),INDIRECT(ADDRESS(ROW(),(COLUMN()-21)*2-1))) -> 221.45 | AA16: =OFFSET(Feuil1!$B$2,INDIRECT(ADDRESS(ROW(),(COLUMN()-21)*2)),INDIRECT(ADDRESS(ROW(),(COLUMN()-21)*2-1))) -> 174.75 | AB16: =OFFSET(Feuil1!$B$2,INDIRECT(ADDRESS(ROW(),(COLUMN()-21)*2)),INDIRECT(ADDRESS(ROW(),(COLUMN()-21)*2-1))) -> 788.55 | AC16: =OFFSET(Feuil1!$B$2,INDIRECT(ADDRESS(ROW(),(COLUMN()-21)*2)),INDIRECT(ADDRESS(ROW(),(COLUMN()-21)*2-1))) -> 801.57 | ... AE16: =OFFSET(Feuil1!$B$2,INDIRECT(ADDRESS(ROW(),(COLUMN()-21)*2)),INDIRECT(ADDRESS(ROW(),(COLUMN()-21)*2-1))) -> 0 | AF16: =SUM(V16:AE16) -> 3571.54
A17: 2 | B17: 4 | C17: 0 | D17: 6 | E17: 1 | F17: 0 | G17: 0 | H17: 0 | I17: 4 | J17: 2 | K17: 1 | L17: 2 | M17: 0 | N17: 1 | O17: 6 | P17: 3 | Q17: 3 | R17: 0 | V17: =OFFSET(Feuil1!$B$2,INDIRECT(ADDRESS(ROW(),(COLUMN()-21)*2)),INDIRECT(ADDRESS(ROW(),(COLUMN()-21)*2-1))) -> 143.62 | W17: =OFFSET(Feuil1!$B$2,INDIRECT(ADDRESS(ROW(),(COLUMN()-21)*2)),INDIRECT(ADDRESS(ROW(),(COLUMN()-21)*2-1))) -> 221.45 | X17: =OFFSET(Feuil1!$B$2,INDIRECT(ADDRESS(ROW(),(COLUMN()-21)*2)),INDIRECT(ADDRESS(ROW(),(COLUMN()-21)*2-1))) -> 404.81 | Y17: =OFFSET(Feuil1!$B$2,INDIRECT(ADDRESS(ROW(),(COLUMN()-21)*2)),INDIRECT(ADDRESS(ROW(),(COLUMN()-21)*2-1))) -> 0 | Z17: =OFFSET(Feuil1!$B$2,INDIRECT(ADDRESS(ROW(),(COLUMN()-21)*2)),INDIRECT(ADDRESS(ROW(),(COLUMN()-21)*2-1))) -> 788.55 | AA17: =OFFSET(Feuil1!$B$2,INDIRECT(ADDRESS(ROW(),(COLUMN()-21)*2)),INDIRECT(ADDRESS(ROW(),(COLUMN()-21)*2-1))) -> 527.9 | AB17: =OFFSET(Feuil1!$B$2,INDIRECT(ADDRESS(ROW(),(COLUMN()-21)*2)),INDIRECT(ADDRESS(ROW(),(COLUMN()-21)*2-1))) -> 481.99 | AC17: =OFFSET(Feuil1!$B$2,INDIRECT(ADDRESS(ROW(),(COLUMN()-21)*2)),INDIRECT(ADDRESS(ROW(),(COLUMN()-21)*2-1))) -> 499.86 | ... AE17: =OFFSET(Feuil1!$B$2,INDIRECT(ADDRESS(ROW(),(COLUMN()-21)*2)),INDIRECT(ADDRESS(ROW(),(COLUMN()-21)*2-1))) -> 0 | AF17: =SUM(V17:AE17) -> 4053.8
A18: 3 | B18: 6 | C18: 0 | D18: 5 | E18: 4 | F18: 2 | G18: 1 | H18: 1 | I18: 0 | J18: 4 | V18: =OFFSET(Feuil1!$B$2,INDIRECT(ADDRESS(ROW(),(COLUMN()-21)*2)),INDIRECT(ADDRESS(ROW(),(COLUMN()-21)*2-1))) -> 745.11 | W18: =OFFSET(Feuil1!$B$2,INDIRECT(ADDRESS(ROW(),(COLUMN()-21)*2)),INDIRECT(ADDRESS(ROW(),(COLUMN()-21)*2-1))) -> 273.13 | X18: =OFFSET(Feuil1!$B$2,INDIRECT(ADDRESS(ROW(),(COLUMN()-21)*2)),INDIRECT(ADDRESS(ROW(),(COLUMN()-21)*2-1))) -> 788.55 | Y18: =OFFSET(Feuil1!$B$2,INDIRECT(ADDRESS(ROW(),(COLUMN()-21)*2)),INDIRECT(ADDRESS(ROW(),(COLUMN()-21)*2-1))) -> 0 | Z18: =OFFSET(Feuil1!$B$2,INDIRECT(ADDRESS(ROW(),(COLUMN()-21)*2)),INDIRECT(ADDRESS(ROW(),(COLUMN()-21)*2-1))) -> 192.02 | AA18: =OFFSET(Feuil1!$B$2,INDIRECT(ADDRESS(ROW(),(COLUMN()-21)*2)),INDIRECT(ADDRESS(ROW(),(COLUMN()-21)*2-1))) -> 0 | AB18: =OFFSET(Feuil1!$B$2,INDIRECT(ADDRESS(ROW(),(COLUMN()-21)*2)),INDIRECT(ADDRESS(ROW(),(COLUMN()-21)*2-1))) -> 0 | AC18: =OFFSET(Feuil1!$B$2,INDIRECT(ADDRESS(ROW(),(COLUMN()-21)*2)),INDIRECT(ADDRESS(ROW(),(COLUMN()-21)*2-1))) -> 0 | ... AE18: =OFFSET(Feuil1!$B$2,INDIRECT(ADDRESS(ROW(),(COLUMN()-21)*2)),INDIRECT(ADDRESS(ROW(),(COLUMN()-21)*2-1))) -> 0 | AF18: =SUM(V18:AE18) -> 1998.81
A19: 6 | B19: 6 | C19: 5 | D19: 3 | E19: 5 | F19: 6 | G19: 2 | H19: 2 | I19: 3 | J19: 3 | K19: 1 | L19: 4 | M19: 2 | N19: 5 | O19: 1 | P19: 0 | Q19: 0 | R19: 4 | S19: 6 | T19: 4 | V19: =OFFSET(Feuil1!$B$2,INDIRECT(ADDRESS(ROW(),(COLUMN()-21)*2)),INDIRECT(ADDRESS(ROW(),(COLUMN()-21)*2-1))) -> 0 | W19: =OFFSET(Feuil1!$B$2,INDIRECT(ADDRESS(ROW(),(COLUMN()-21)*2)),INDIRECT(ADDRESS(ROW(),(COLUMN()-21)*2-1))) -> 130.88 | X19: =OFFSET(Feuil1!$B$2,INDIRECT(ADDRESS(ROW(),(COLUMN()-21)*2)),INDIRECT(ADDRESS(ROW(),(COLUMN()-21)*2-1))) -> 801.57 | Y19: =OFFSET(Feuil1!$B$2,INDIRECT(ADDRESS(ROW(),(COLUMN()-21)*2)),INDIRECT(ADDRESS(ROW(),(COLUMN()-21)*2-1))) -> 0 | Z19: =OFFSET(Feuil1!$B$2,INDIRECT(ADDRESS(ROW(),(COLUMN()-21)*2)),INDIRECT(ADDRESS(ROW(),(COLUMN()-21)*2-1))) -> 0 | AA19: =OFFSET(Feuil1!$B$2,INDIRECT(ADDRESS(ROW(),(COLUMN()-21)*2)),INDIRECT(ADDRESS(ROW(),(COLUMN()-21)*2-1))) -> 174.75 | AB19: =OFFSET(Feuil1!$B$2,INDIRECT(ADDRESS(ROW(),(COLUMN()-21)*2)),INDIRECT(ADDRESS(ROW(),(COLUMN()-21)*2-1))) -> 856.89 | AC19: =OFFSET(Feuil1!$B$2,INDIRECT(ADDRESS(ROW(),(COLUMN()-21)*2)),INDIRECT(ADDRESS(ROW(),(COLUMN()-21)*2-1))) -> 404.81 | ... AE19: =OFFSET(Feuil1!$B$2,INDIRECT(ADDRESS(ROW(),(COLUMN()-21)*2)),INDIRECT(ADDRESS(ROW(),(COLUMN()-21)*2-1))) -> 452.94 | AF19: =SUM(V19:AE19) -> 3013.86
A20: 2 | B20: 1 | C20: 2 | D20: 2 | E20: 3 | F20: 1 | G20: 5 | H20: 1 | I20: 1 | J20: 6 | K20: 1 | L20: 1 | V20: =OFFSET(Feuil1!$B$2,INDIRECT(ADDRESS(ROW(),(COLUMN()-21)*2)),INDIRECT(ADDRESS(ROW(),(COLUMN()-21)*2-1))) -> 280.56 | W20: =OFFSET(Feuil1!$B$2,INDIRECT(ADDRESS(ROW(),(COLUMN()-21)*2)),INDIRECT(ADDRESS(ROW(),(COLUMN()-21)*2-1))) -> 0 | X20: =OFFSET(Feuil1!$B$2,INDIRECT(ADDRESS(ROW(),(COLUMN()-21)*2)),INDIRECT(ADDRESS(ROW(),(COLUMN()-21)*2-1))) -> 677.34 | Y20: =OFFSET(Feuil1!$B$2,INDIRECT(ADDRESS(ROW(),(COLUMN()-21)*2)),INDIRECT(ADDRESS(ROW(),(COLUMN()-21)*2-1))) -> 566.27 | Z20: =OFFSET(Feuil1!$B$2,INDIRECT(ADDRESS(ROW(),(COLUMN()-21)*2)),INDIRECT(ADDRESS(ROW(),(COLUMN()-21)*2-1))) -> 127.58 | AA20: =OFFSET(Feuil1!$B$2,INDIRECT(ADDRESS(ROW(),(COLUMN()-21)*2)),INDIRECT(ADDRESS(ROW(),(COLUMN()-21)*2-1))) -> 0 | AB20: =OFFSET(Feuil1!$B$2,INDIRECT(ADDRESS(ROW(),(COLUMN()-21)*2)),INDIRECT(ADDRESS(ROW(),(COLUMN()-21)*2-1))) -> 0 | AC20: =OFFSET(Feuil1!$B$2,INDIRECT(ADDRESS(ROW(),(COLUMN()-21)*2)),INDIRECT(ADDRESS(ROW(),(COLUMN()-21)*2-1))) -> 0 | ... AE20: =OFFSET(Feuil1!$B$2,INDIRECT(ADDRESS(ROW(),(COLUMN()-21)*2)),INDIRECT(ADDRESS(ROW(),(COLUMN()-21)*2-1))) -> 0 | AF20: =SUM(V20:AE20) -> 1651.75
A21: 3 | B21: 6 | C21: 6 | D21: 0 | E21: 5 | F21: 6 | G21: 4 | H21: 1 | I21: 2 | J21: 3 | K21: 6 | L21: 5 | M21: 1 | N21: 0 | O21: 1 | P21: 6 | Q21: 2 | R21: 2 | S21: 5 | T21: 4 | V21: =OFFSET(Feuil1!$B$2,INDIRECT(ADDRESS(ROW(),(COLUMN()-21)*2)),INDIRECT(ADDRESS(ROW(),(COLUMN()-21)*2-1))) -> 745.11 | W21: =OFFSET(Feuil1!$B$2,INDIRECT(ADDRESS(ROW(),(COLUMN()-21)*2)),INDIRECT(ADDRESS(ROW(),(COLUMN()-21)*2-1))) -> 295.34 | X21: =OFFSET(Feuil1!$B$2,INDIRECT(ADDRESS(ROW(),(COLUMN()-21)*2)),INDIRECT(ADDRESS(ROW(),(COLUMN()-21)*2-1))) -> 801.57 | Y21: =OFFSET(Feuil1!$B$2,INDIRECT(ADDRESS(ROW(),(COLUMN()-21)*2)),INDIRECT(ADDRESS(ROW(),(COLUMN()-21)*2-1))) -> 609.86 | Z21: =OFFSET(Feuil1!$B$2,INDIRECT(ADDRESS(ROW(),(COLUMN()-21)*2)),INDIRECT(ADDRESS(ROW(),(COLUMN()-21)*2-1))) -> 973.69 | AA21: =OFFSET(Feuil1!$B$2,INDIRECT(ADDRESS(ROW(),(COLUMN()-21)*2)),INDIRECT(ADDRESS(ROW(),(COLUMN()-21)*2-1))) -> 457 | AB21: =OFFSET(Feuil1!$B$2,INDIRECT(ADDRESS(ROW(),(COLUMN()-21)*2)),INDIRECT(ADDRESS(ROW(),(COLUMN()-21)*2-1))) -> 404.81 | AC21: =OFFSET(Feuil1!$B$2,INDIRECT(ADDRESS(ROW(),(COLUMN()-21)*2)),INDIRECT(ADDRESS(ROW(),(COLUMN()-21)*2-1))) -> 127.58 | ... AE21: =OFFSET(Feuil1!$B$2,INDIRECT(ADDRESS(ROW(),(COLUMN()-21)*2)),INDIRECT(ADDRESS(ROW(),(COLUMN()-21)*2-1))) -> 552.79 | AF21: =SUM(V21:AE21) -> 4967.75
A23: 20 colonnes | V23: 10 colonnes | AF23: Somme
