Workbook

Sheet Feuil1
A1: ID | B1: Nom | C1: Prénom | D1: Age | E1: Couleur | F1: Pays | G1: Forme
A2: a.2021 | B2: Thomas | C2: Eric | D2: 18 | E2: =VLOOKUP($A2,Feuil2!$A$2:$D$29,2,0) -> Jaune | F2: =VLOOKUP($A2,Feuil2!$A$2:$D$29,3,0) -> France | G2: =VLOOKUP($A2,Feuil2!$A$2:$D$29,4,0) -> Carré
A3: a.2022 | B3: Mathieu | C3: Dubois | D3: =D2+1 -> 19 | E3: =VLOOKUP($A3,Feuil2!$A$2:$D$29,2,0) -> Vert | F3: =VLOOKUP($A3,Feuil2!$A$2:$D$29,3,0) -> France | G3: =VLOOKUP($A3,Feuil2!$A$2:$D$29,4,0) -> Carré
A4: a.2023 | B4: Thomas | C4: Delande | D4: =D3+1 -> 20 | E4: =VLOOKUP($A4,Feuil2!$A$2:$D$29,2,0) -> Bleu | F4: =VLOOKUP($A4,Feuil2!$A$2:$D$29,3,0) -> USA | G4: =VLOOKUP($A4,Feuil2!$A$2:$D$29,4,0) -> Carré
A5: a.2024 | B5: Thomas | C5: Lizion | D5: =D4+1 -> 21 | E5: =VLOOKUP($A5,Feuil2!$A$2:$D$29,2,0) -> Rouge | F5: =VLOOKUP($A5,Feuil2!$A$2:$D$29,3,0) -> USA | G5: =VLOOKUP($A5,Feuil2!$A$2:$D$29,4,0) -> Carré
A6: a.2025 | B6: Jacques | C6: Robert | D6: =D5+1 -> 22 | E6: =VLOOKUP($A6,Feuil2!$A$2:$D$29,2,0) -> Bleu | F6: =VLOOKUP($A6,Feuil2!$A$2:$D$29,3,0) -> USA | G6: =VLOOKUP($A6,Feuil2!$A$2:$D$29,4,0) -> Carré
A7: a.2026 | B7: Thomas | C7: James | D7: =D6+1 -> 23 | E7: =VLOOKUP($A7,Feuil2!$A$2:$D$29,2,0) -> Rose | F7: =VLOOKUP($A7,Feuil2!$A$2:$D$29,3,0) -> USA | G7: =VLOOKUP($A7,Feuil2!$A$2:$D$29,4,0) -> Rond
A8: a.2027 | B8: Jean | C8: Paul | D8: =D7+1 -> 24 | E8: =VLOOKUP($A8,Feuil2!$A$2:$D$29,2,0) -> Bleu | F8: =VLOOKUP($A8,Feuil2!$A$2:$D$29,3,0) -> Allemagne | G8: =VLOOKUP($A8,Feuil2!$A$2:$D$29,4,0) -> Carré
A9: a.2028 | B9: Pierre | C9: Doledec | D9: =D8+1 -> 25 | E9: =VLOOKUP($A9,Feuil2!$A$2:$D$29,2,0) -> Bleu | F9: =VLOOKUP($A9,Feuil2!$A$2:$D$29,3,0) -> USA | G9: =VLOOKUP($A9,Feuil2!$A$2:$D$29,4,0) -> Carré
A10: a.2029 | B10: Thomas | C10: Eric | D10: =D9+1 -> 26 | E10: =VLOOKUP($A10,Feuil2!$A$2:$D$29,2,0) -> Violet | F10: =VLOOKUP($A10,Feuil2!$A$2:$D$29,3,0) -> USA | G10: =VLOOKUP($A10,Feuil2!$A$2:$D$29,4,0) -> Carré
A11: a.2030 | B11: Eric | C11: Morin | D11: =D10+1 -> 27 | E11: =VLOOKUP($A11,Feuil2!$A$2:$D$29,2,0) -> Bleu | F11: =VLOOKUP($A11,Feuil2!$A$2:$D$29,3,0) -> MAROC | G11: =VLOOKUP($A11,Feuil2!$A$2:$D$29,4,0) -> Triangle
A12: a.2031 | B12: Thomas | C12: Eric | D12: =D11+1 -> 28 | E12: =VLOOKUP($A12,Feuil2!$A$2:$D$29,2,0) -> Bleu | F12: =VLOOKUP($A12,Feuil2!$A$2:$D$29,3,0) -> USA | G12: =VLOOKUP($A12,Feuil2!$A$2:$D$29,4,0) -> Carré
A13: a.2032 | B13: Thomas | C13: Bergala | D13: =D12+1 -> 29 | E13: =VLOOKUP($A13,Feuil2!$A$2:$D$29,2,0) -> Bleu | F13: =VLOOKUP($A13,Feuil2!$A$2:$D$29,3,0) -> USA | G13: =VLOOKUP($A13,Feuil2!$A$2:$D$29,4,0) -> Carré
A14: a.2033 | B14: Baptiste | C14: Eric | D14: =D13+1 -> 30 | E14: =VLOOKUP($A14,Feuil2!$A$2:$D$29,2,0) -> Bleu | F14: =VLOOKUP($A14,Feuil2!$A$2:$D$29,3,0) -> Mexique | G14: =VLOOKUP($A14,Feuil2!$A$2:$D$29,4,0) -> Carré
... A25: a.2044 | B25: Renan | C25: Tourier | D25: =D24+1 -> 41 | E25: =VLOOKUP($A25,Feuil2!$A$2:$D$29,2,0) -> Vert | F25: =VLOOKUP($A25,Feuil2!$A$2:$D$29,3,0) -> USA | G25: =VLOOKUP($A25,Feuil2!$A$2:$D$29,4,0) -> Carré

Sheet Feuil2
A1: ID | B1: Couleur | C1: Pays | D1: Forme
A2: a.2044 | B2: Vert | C2: USA | D2: Carré
A3: a.2043 | B3: Bleu | C3: USA | D3: Carré
A4: a.2042 | B4: Jaune | C4: NORVEGE | D4: Carré
A5: a.2041 | B5: Bleu | C5: USA | D5: Carré
A6: a.2040 | B6: Bleu | C6: USA | D6: Carré
A7: a.2039 | B7: Noir | C7: USA | D7: Lozange
A8: a.2038 | B8: Bleu | C8: ANGLETERRE | D8: Carré
A9: a.2037 | B9: Bleu | C9: USA | D9: Carré
A10: a.2036 | B10: Bleu | C10: USA | D10: Carré
A11: a.2035 | B11: Bleu | C11: BOLIVIE | D11: Carré
A12: a.2034 | B12: Marron | C12: USA | D12: Carré
... A29: a.2017 | B29: Rose | C29: Mexique | D29: Lozange
