Workbook
Name ARCPUBURL: ""
Name BPAGE: "1"
Name Chemin: "//lisa2010/D$/Partage/burcoomun_2"
Name CPAGE: "297"
Name CPNMB: "1"
Name CTIM2: "173933"
Name Data.Next: #REF!
Name Data.Next: #REF!
Name DATEJ: "07-01-13"
Name DVNAM: "QPQUPRFIL"
Name DVTYP: "PRINTER"
Name EPAGE: "64"
Name FMTYP: "*STD"
Name HEURE: "17:39:33"
Name IPATH: "F:\Partage\burcommun_2\Lisadis\compleo"
Name JBNAM: "LST_PROMO"
Name JBNMB: "562725"
Name NOMQRY: "Liste des commandes promo \ magasin"
Name OQLIB: "QGPL"
Name OQNAM: "COMPLEO"
Name PAGEW: "378"
Name PCDAT: "07/01/2013"
Name PCDAY: "07"
Name PCDT2: "20130107"
Name PCMON: "01"
Name PCTIM: "17:35:56"
Name PCYEA: "2013"
Name PRIOR: " 5"
Name SPATH: "LISADIS1:\QGPL\COMPLEO"
Name SPATH0: "LISADIS1:"
Name SPATH1: "QGPL"
Name SPATH10: ""
Name SPATH11: ""
Name SPATH12: ""
Name SPATH13: ""
Name SPATH14: ""
Name SPATH15: ""
Name SPATH16: ""
Name SPATH17: ""
Name SPATH18: ""
Name SPATH19: ""
Name SPATH2: "COMPLEO"
Name SPATH20: ""
Name SPATH21: ""
Name SPATH22: ""
Name SPATH23: ""
Name SPATH24: ""
Name SPATH25: ""
Name SPATH26: ""
Name SPATH27: ""
Name SPATH28: ""
Name SPATH29: ""
Name SPATH3: ""
Name SPATH4: ""
Name SPATH5: ""
Name SPATH6: ""
Name SPATH7: ""
Name SPATH8: ""
Name SPATH9: ""
Name SPDAT: "07/01/2013"

Sheet TAB SUIVI ACTIVITE CDS FY2014
A1: CDS | B1: CODE CLIENT | C1: CODE POSTAL | D1: BASSE-COUR CA FY2012 | E1: BASSE-COUR CA FY2013 | F1: EVOLUTION BC FY 2013 | G1: BASSE-COUR CA FY2014 | H1: EVOLUTION BC FY 2014 | I1: RAF POUR CA BC FY 2014 | J1: OBJECTIF BC FY2014 | K1: RAF POUR OBJ BC FY2014 | L1: PETFOOD CA FY2012 | M1: PETFOOD CA FY2013 | N1: EVOLUTION PET FY 2013 | O1: PETFOOD CA FY2014 | P1: EVOLUTION PET FY 2014 | Q1: RAF CA PET FY 2014 | R1: OBJECTIF PET FY2014 | S1: RAF POUR OBJ PET FY2014 | T1: BIOTOP CA FY2012 | U1: BIOTOP CA FY2013 | V1: EVOLUTION BIO FY 2013 | W1: BIOTOP CA FY2014 | X1: EVOLUTION BIO FY 2014 | Y1: RAF BIO FY 2014 | Z1: OBJECTIF BIO FY2014 | AA1: RAF POUR OBJ FY2014 | AB1: MYRIAD CA FY2012 | AC1: MYRIAD CA FY2013 | AD1: EVOLUTION MY FY 2013 | AE1: MYRIAD CA FY2014 | AF1: EVOLUTION MY FY 2014 | AG1: RAF MY FY 2014 | AH1: OBJECTIF MY FY2014 | AI1: RAF POUR OBJ FY2014 | AJ1: INSECTICIDE CA FY2012 | AK1: INSECTICIDE CA FY2013 | AL1: EVOLUTION INS FY 2013 | AM1: INSECTICIDE CA FY2014 | AN1: EVOLUTION INS FY 2014 | AO1: RAF INS FY 2014 | AP1: OBJECTIF INS FY2014 | AQ1: RAF POUR OBJ FY2014 | AR1: ELEVAGE CA FY2012 | AS1: ELEVAGE CA FY2013 | AT1: EVOLUTION ELV FY 2013 | AU1: ELEVAGE CA FY2014 | AV1: EVOLUTION ELV FY 2014 | AW1: RAF ELV FY 2014 | AX1: OBJECTIF ELV FY2014 | AY1: RAF POUR OBJ FY2014 | AZ1: HYGIENE CA FY2012 | BA1: HYGIENE CA FY2013 | BB1: EVOLUTION HY FY 2013 | BC1: HYGIENE CA FY2014 | BD1: EVOLUTION HY FY 2014 | BE1: RAF HY FY 2014 | BF1: OBJECTIF HYFY2014 | BG1: RAF POUR OBJ FY2014 | BH1: TOTAL FY2012 | BI1: TOTAL FY2013 | BJ1: EVOLUTION FY 2013 | BK1: TOTAL FY2014 | BL1: TOTAL EVOLUTION FY 2014 | BM1: RAF TOTAL FY 2014 | BN1: TOTAL OBJECTIF FY2014 | BO1: RAF POUR TOTAL OBJ FY2014
A2: =VLOOKUP(#REF!,'BASE CDS PAR DPT AU 17012013'!$A:$C,2,FALSE) -> #REF! | B2: 1030059 | C2: 30100 | D2: 559 | E2: 423.55 | F2: =IFERROR(IF(D2=""," ",(E2-D2)/D2),"") -> -0.24230769 | G2: =VLOOKUP(B2,'CA BASSE-COUR FY2013 30122013'!A:F,2,FALSE) -> #N/A | H2: =IFERROR(IF(E2=""," ",(G2-E2)/E2),"") | I2: =IFERROR(IF(G2<E2,(E2-G2),(-(G2-E2))),"") | J2: 800 | K2: =IFERROR(IF(J2="","",IF(G2>J2,+(J2-G2),J2-G2))," ") | N2: =IFERROR(IF(L2=""," ",(M2-L2)/L2),"") | O2: =VLOOKUP($B2,'CA PET FY2013 HORS MDD 30122013'!$A:$F,2,FALSE) -> #N/A | P2: =IFERROR(IF(M2=""," ",(O2-M2)/M2),"") | Q2: =IFERROR(IF(O2<M2,(M2-O2),(-(O2-M2))),"") | S2: =IFERROR(IF(R2="","",IF(O2>R2,+(R2-O2),R2-O2))," ") | V2: =IFERROR(IF(T2=""," ",(U2-T2)/T2),"") | W2: =VLOOKUP($B2,'CA BIOTOP FY2013'!$A:$F,2,FALSE) -> #N/A | X2: =IFERROR(IF(U2=""," ",(W2-U2)/U2),"") | Y2: =IFERROR(IF(W2<U2,(U2-W2),(-(W2-U2))),"") | AA2: =IFERROR(IF(Z2="","",IF(W2>Z2,+(Z2-W2),Z2-W2))," ") | AD2: =IFERROR(IF(AB2=""," ",(AC2-AB2)/AB2),"") | AE2: =VLOOKUP($B2,'CA MYRIAD FY2013 301220'!$A:$F,2,FALSE) -> #N/A | AF2: =IFERROR(IF(AC2=""," ",(AE2-AC2)/AC2),"") | AG2: =IFERROR(IF(AE2<AC2,(AC2-AE2),(-(AE2-AC2))),"") | AI2: =IFERROR(IF(AH2="","",IF(AE2>AH2,+(AH2-AE2),AH2-AE2))," ") | AL2: =IFERROR(IF(AJ2=""," ",(AK2-AJ2)/AJ2),"") | AM2: =VLOOKUP($B2,'CA INSECTICIDES FY2013 30122013'!$A:$F,2,FALSE) -> #N/A | AN2: =IFERROR(IF(AK2=""," ",(AM2-AK2)/AK2),"") | AO2: =IFERROR(IF(AM2<AK2,(AK2-AM2),(-(AM2-AK2))),"") | AQ2: =IFERROR(IF(AP2="","",IF(AM2>AP2,+(AP2-AM2),AP2-AM2))," ") | AS2: 288 | AT2: =IFERROR(IF(AR2=""," ",(AS2-AR2)/AR2),"") | AU2: =VLOOKUP($B2,'CA ANIM RENTE FY2013 30122013'!$A:$F,2,FALSE) -> #N/A | AV2: =IFERROR(IF(AS2=""," ",(AU2-AS2)/AS2),"") | AW2: =IFERROR(IF(AU2<AS2,(AS2-AU2),(-(AU2-AS2))),"") | AX2: 300 | AY2: =IFERROR(IF(AX2="","",IF(AU2>AX2,+(AX2-AU2),AX2-AU2))," ") | BB2: =IFERROR(IF(AY2=""," ",(BA2-AY2)/AY2),"") | BC2: =VLOOKUP($B2,'CA HYGIENE FY2013 30122013'!$A:$F,2,FALSE) -> #N/A | BD2: =IFERROR(IF(BA2=""," ",(BC2-BA2)/BA2),"") | BE2: =IFERROR(IF(BC2<BA2,(BA2-BC2),(-(BC2-BA2))),"") | BG2: =IFERROR(IF(BF2="","",IF(BC2>BF2,+(BF2-BC2),BF2-BC2))," ") | BH2: =IFERROR(D2+L2+T2+AB2+AJ2+AR2+AZ2,"") -> 559 | BI2: =IFERROR(E2+M2+U2+AC2+AK2+AS2+BA2,"") -> 711.55 | BJ2: =IFERROR(IF(BH2=""," ",(BI2-BH2)/BH2),"") -> 0.27289803 | BK2: =G2+O2+W2+AE2+AM2+AU2+BC2 -> #N/A | BL2: =IFERROR(IF(BI2=""," ",(BK2-BI2)/BI2),"") | BM2: =IFERROR(IF(BK2<BI2,(BI2-BK2),(-(BK2-BI2))),"") | BN2: =J2+R2+Z2+AH2+AP2+AX2+BF2 -> 1100 | BO2: =IFERROR(IF(BN2="","",IF(BK2>BN2,+(BN2-BK2),BN2-BK2))," ")
A3: =VLOOKUP(#REF!,'BASE CDS PAR DPT AU 17012013'!$A:$C,2,FALSE) -> #REF! | B3: 100681043 | C3: 13190 | F3: =IFERROR(IF(D3=""," ",(E3-D3)/D3),"") | G3: =VLOOKUP(B3,'CA BASSE-COUR FY2013 30122013'!A:F,2,FALSE) -> #N/A | H3: =IFERROR(IF(E3=""," ",(G3-E3)/E3),"") | I3: =IFERROR(IF(G3<E3,(E3-G3),(-(G3-E3))),"") | K3: =IFERROR(IF(J3="","",IF(G3>J3,+(J3-G3),J3-G3))," ") | N3: =IFERROR(IF(L3=""," ",(M3-L3)/L3),"") | O3: =VLOOKUP($B3,'CA PET FY2013 HORS MDD 30122013'!$A:$F,2,FALSE) -> #N/A | P3: =IFERROR(IF(M3=""," ",(O3-M3)/M3),"") | Q3: =IFERROR(IF(O3<M3,(M3-O3),(-(O3-M3))),"") | S3: =IFERROR(IF(R3="","",IF(O3>R3,+(R3-O3),R3-O3))," ") | V3: =IFERROR(IF(T3=""," ",(U3-T3)/T3),"") | W3: =VLOOKUP($B3,'CA BIOTOP FY2013'!$A:$F,2,FALSE) -> #N/A | X3: =IFERROR(IF(U3=""," ",(W3-U3)/U3),"") | Y3: =IFERROR(IF(W3<U3,(U3-W3),(-(W3-U3))),"") | AA3: =IFERROR(IF(Z3="","",IF(W3>Z3,+(Z3-W3),Z3-W3))," ") | AD3: =IFERROR(IF(AB3=""," ",(AC3-AB3)/AB3),"") | AE3: =VLOOKUP($B3,'CA MYRIAD FY2013 301220'!$A:$F,2,FALSE) -> #N/A | AF3: =IFERROR(IF(AC3=""," ",(AE3-AC3)/AC3),"") | AG3: =IFERROR(IF(AE3<AC3,(AC3-AE3),(-(AE3-AC3))),"") | AI3: =IFERROR(IF(AH3="","",IF(AE3>AH3,+(AH3-AE3),AH3-AE3))," ") | AL3: =IFERROR(IF(AJ3=""," ",(AK3-AJ3)/AJ3),"") | AM3: =VLOOKUP($B3,'CA INSECTICIDES FY2013 30122013'!$A:$F,2,FALSE) -> #N/A | AN3: =IFERROR(IF(AK3=""," ",(AM3-AK3)/AK3),"") | AO3: =IFERROR(IF(AM3<AK3,(AK3-AM3),(-(AM3-AK3))),"") | AQ3: =IFERROR(IF(AP3="","",IF(AM3>AP3,+(AP3-AM3),AP3-AM3))," ") | AS3: 288 | AT3: =IFERROR(IF(AR3=""," ",(AS3-AR3)/AR3),"") | AU3: =VLOOKUP($B3,'CA ANIM RENTE FY2013 30122013'!$A:$F,2,FALSE) -> #N/A | AV3: =IFERROR(IF(AS3=""," ",(AU3-AS3)/AS3),"") | AW3: =IFERROR(IF(AU3<AS3,(AS3-AU3),(-(AU3-AS3))),"") | AX3: 300 | AY3: =IFERROR(IF(AX3="","",IF(AU3>AX3,+(AX3-AU3),AX3-AU3))," ") | BB3: =IFERROR(IF(AY3=""," ",(BA3-AY3)/AY3),"") | BC3: =VLOOKUP($B3,'CA HYGIENE FY2013 30122013'!$A:$F,2,FALSE) -> #N/A | BD3: =IFERROR(IF(BA3=""," ",(BC3-BA3)/BA3),"") | BE3: =IFERROR(IF(BC3<BA3,(BA3-BC3),(-(BC3-BA3))),"") | BG3: =IFERROR(IF(BF3="","",IF(BC3>BF3,+(BF3-BC3),BF3-BC3))," ") | BH3: =IFERROR(D3+L3+T3+AB3+AJ3+AR3+AZ3,"") -> 0 | BI3: =IFERROR(E3+M3+U3+AC3+AK3+AS3+BA3,"") -> 288 | BJ3: =IFERROR(IF(BH3=""," ",(BI3-BH3)/BH3),"") | BK3: =G3+O3+W3+AE3+AM3+AU3+BC3 -> #N/A | BL3: =IFERROR(IF(BI3=""," ",(BK3-BI3)/BI3),"") | BM3: =IFERROR(IF(BK3<BI3,(BI3-BK3),(-(BK3-BI3))),"") | BN3: =J3+R3+Z3+AH3+AP3+AX3+BF3 -> 300 | BO3: =IFERROR(IF(BN3="","",IF(BK3>BN3,+(BN3-BK3),BN3-BK3))," ")
A4: =VLOOKUP(#REF!,'BASE CDS PAR DPT AU 17012013'!$A:$C,2,FALSE) -> #REF! | B4: 1022694 | C4: 6600 | F4: =IFERROR(IF(D4=""," ",(E4-D4)/D4),"") | G4: =VLOOKUP(B4,'CA BASSE-COUR FY2013 30122013'!A:F,2,FALSE) -> #N/A | H4: =IFERROR(IF(E4=""," ",(G4-E4)/E4),"") | I4: =IFERROR(IF(G4<E4,(E4-G4),(-(G4-E4))),"") | K4: =IFERROR(IF(J4="","",IF(G4>J4,+(J4-G4),J4-G4))," ") | N4: =IFERROR(IF(L4=""," ",(M4-L4)/L4),"") | O4: =VLOOKUP($B4,'CA PET FY2013 HORS MDD 30122013'!$A:$F,2,FALSE) -> #N/A | P4: =IFERROR(IF(M4=""," ",(O4-M4)/M4),"") | Q4: =IFERROR(IF(O4<M4,(M4-O4),(-(O4-M4))),"") | S4: =IFERROR(IF(R4="","",IF(O4>R4,+(R4-O4),R4-O4))," ") | V4: =IFERROR(IF(T4=""," ",(U4-T4)/T4),"") | W4: =VLOOKUP($B4,'CA BIOTOP FY2013'!$A:$F,2,FALSE) -> #N/A | X4: =IFERROR(IF(U4=""," ",(W4-U4)/U4),"") | Y4: =IFERROR(IF(W4<U4,(U4-W4),(-(W4-U4))),"") | AA4: =IFERROR(IF(Z4="","",IF(W4>Z4,+(Z4-W4),Z4-W4))," ") | AD4: =IFERROR(IF(AB4=""," ",(AC4-AB4)/AB4),"") | AE4: =VLOOKUP($B4,'CA MYRIAD FY2013 301220'!$A:$F,2,FALSE) -> 683.28 | AF4: =IFERROR(IF(AC4=""," ",(AE4-AC4)/AC4),"") | AG4: =IFERROR(IF(AE4<AC4,(AC4-AE4),(-(AE4-AC4))),"") -> -683.28 | AI4: =IFERROR(IF(AH4="","",IF(AE4>AH4,+(AH4-AE4),AH4-AE4))," ") | AL4: =IFERROR(IF(AJ4=""," ",(AK4-AJ4)/AJ4),"") | AM4: =VLOOKUP($B4,'CA INSECTICIDES FY2013 30122013'!$A:$F,2,FALSE) -> #N/A | AN4: =IFERROR(IF(AK4=""," ",(AM4-AK4)/AK4),"") | AO4: =IFERROR(IF(AM4<AK4,(AK4-AM4),(-(AM4-AK4))),"") | AQ4: =IFERROR(IF(AP4="","",IF(AM4>AP4,+(AP4-AM4),AP4-AM4))," ") | AS4: 288 | AT4: =IFERROR(IF(AR4=""," ",(AS4-AR4)/AR4),"") | AU4: =VLOOKUP($B4,'CA ANIM RENTE FY2013 30122013'!$A:$F,2,FALSE) -> #N/A | AV4: =IFERROR(IF(AS4=""," ",(AU4-AS4)/AS4),"") | AW4: =IFERROR(IF(AU4<AS4,(AS4-AU4),(-(AU4-AS4))),"") | AX4: 300 | AY4: =IFERROR(IF(AX4="","",IF(AU4>AX4,+(AX4-AU4),AX4-AU4))," ") | BB4: =IFERROR(IF(AY4=""," ",(BA4-AY4)/AY4),"") | BC4: =VLOOKUP($B4,'CA HYGIENE FY2013 30122013'!$A:$F,2,FALSE) -> #N/A | BD4: =IFERROR(IF(BA4=""," ",(BC4-BA4)/BA4),"") | BE4: =IFERROR(IF(BC4<BA4,(BA4-BC4),(-(BC4-BA4))),"") | BG4: =IFERROR(IF(BF4="","",IF(BC4>BF4,+(BF4-BC4),BF4-BC4))," ") | BH4: =IFERROR(D4+L4+T4+AB4+AJ4+AR4+AZ4,"") -> 0 | BI4: =IFERROR(E4+M4+U4+AC4+AK4+AS4+BA4,"") -> 288 | BJ4: =IFERROR(IF(BH4=""," ",(BI4-BH4)/BH4),"") | BK4: =G4+O4+W4+AE4+AM4+AU4+BC4 -> #N/A | BL4: =IFERROR(IF(BI4=""," ",(BK4-BI4)/BI4),"") | BM4: =IFERROR(IF(BK4<BI4,(BI4-BK4),(-(BK4-BI4))),"") | BN4: =J4+R4+Z4+AH4+AP4+AX4+BF4 -> 300 | BO4: =IFERROR(IF(BN4="","",IF(BK4>BN4,+(BN4-BK4),BN4-BK4))," ")
A5: =VLOOKUP(#REF!,'BASE CDS PAR DPT AU 17012013'!$A:$C,2,FALSE) -> #REF! | B5: 1011774 | C5: 6600 | D5: 135 | E5: 2076.99 | F5: =IFERROR(IF(D5=""," ",(E5-D5)/D5),"") -> 14.385111 | G5: =VLOOKUP(B5,'CA BASSE-COUR FY2013 30122013'!A:F,2,FALSE) -> 473.14 | H5: =IFERROR(IF(E5=""," ",(G5-E5)/E5),"") -> -0.77219919 | I5: =IFERROR(IF(G5<E5,(E5-G5),(-(G5-E5))),"") -> 1603.85 | J5: 1500 | K5: =IFERROR(IF(J5="","",IF(G5>J5,+(J5-G5),J5-G5))," ") -> 1026.86 | L5: 1043 | M5: 0 | N5: =IFERROR(IF(L5=""," ",(M5-L5)/L5),"") -> -1 | O5: =VLOOKUP($B5,'CA PET FY2013 HORS MDD 30122013'!$A:$F,2,FALSE) -> #N/A | P5: =IFERROR(IF(M5=""," ",(O5-M5)/M5),"") | Q5: =IFERROR(IF(O5<M5,(M5-O5),(-(O5-M5))),"") | S5: =IFERROR(IF(R5="","",IF(O5>R5,+(R5-O5),R5-O5))," ") | V5: =IFERROR(IF(T5=""," ",(U5-T5)/T5),"") | W5: =VLOOKUP($B5,'CA BIOTOP FY2013'!$A:$F,2,FALSE) -> 4307.29 | X5: =IFERROR(IF(U5=""," ",(W5-U5)/U5),"") | Y5: =IFERROR(IF(W5<U5,(U5-W5),(-(W5-U5))),"") -> -4307.29 | AA5: =IFERROR(IF(Z5="","",IF(W5>Z5,+(Z5-W5),Z5-W5))," ") | AD5: =IFERROR(IF(AB5=""," ",(AC5-AB5)/AB5),"") | AE5: =VLOOKUP($B5,'CA MYRIAD FY2013 301220'!$A:$F,2,FALSE) -> 3723.92 | AF5: =IFERROR(IF(AC5=""," ",(AE5-AC5)/AC5),"") | AG5: =IFERROR(IF(AE5<AC5,(AC5-AE5),(-(AE5-AC5))),"") -> -3723.92 | AI5: =IFERROR(IF(AH5="","",IF(AE5>AH5,+(AH5-AE5),AH5-AE5))," ") | AL5: =IFERROR(IF(AJ5=""," ",(AK5-AJ5)/AJ5),"") | AM5: =VLOOKUP($B5,'CA INSECTICIDES FY2013 30122013'!$A:$F,2,FALSE) -> 1314.94 | AN5: =IFERROR(IF(AK5=""," ",(AM5-AK5)/AK5),"") | AO5: =IFERROR(IF(AM5<AK5,(AK5-AM5),(-(AM5-AK5))),"") -> -1314.94 | AQ5: =IFERROR(IF(AP5="","",IF(AM5>AP5,+(AP5-AM5),AP5-AM5))," ") | AS5: 288 | AT5: =IFERROR(IF(AR5=""," ",(AS5-AR5)/AR5),"") | AU5: =VLOOKUP($B5,'CA ANIM RENTE FY2013 30122013'!$A:$F,2,FALSE) -> #N/A | AV5: =IFERROR(IF(AS5=""," ",(AU5-AS5)/AS5),"") | AW5: =IFERROR(IF(AU5<AS5,(AS5-AU5),(-(AU5-AS5))),"") | AX5: 300 | AY5: =IFERROR(IF(AX5="","",IF(AU5>AX5,+(AX5-AU5),AX5-AU5))," ") | BB5: =IFERROR(IF(AY5=""," ",(BA5-AY5)/AY5),"") | BC5: =VLOOKUP($B5,'CA HYGIENE FY2013 30122013'!$A:$F,2,FALSE) -> 3957.8 | BD5: =IFERROR(IF(BA5=""," ",(BC5-BA5)/BA5),"") | BE5: =IFERROR(IF(BC5<BA5,(BA5-BC5),(-(BC5-BA5))),"") -> -3957.8 | BF5: 6000 | BG5: =IFERROR(IF(BF5="","",IF(BC5>BF5,+(BF5-BC5),BF5-BC5))," ") -> 2042.2 | BH5: =IFERROR(D5+L5+T5+AB5+AJ5+AR5+AZ5,"") -> 1178 | BI5: =IFERROR(E5+M5+U5+AC5+AK5+AS5+BA5,"") -> 2364.99 | BJ5: =IFERROR(IF(BH5=""," ",(BI5-BH5)/BH5),"") -> 1.0076316 | BK5: =G5+O5+W5+AE5+AM5+AU5+BC5 -> #N/A | BL5: =IFERROR(IF(BI5=""," ",(BK5-BI5)/BI5),"") | BM5: =IFERROR(IF(BK5<BI5,(BI5-BK5),(-(BK5-BI5))),"") | BN5: =J5+R5+Z5+AH5+AP5+AX5+BF5 -> 7800 | BO5: =IFERROR(IF(BN5="","",IF(BK5>BN5,+(BN5-BK5),BN5-BK5))," ")
A6: =VLOOKUP(#REF!,'BASE CDS PAR DPT AU 17012013'!$A:$C,2,FALSE) -> #REF! | B6: 1015675 | C6: 38490 | F6: =IFERROR(IF(D6=""," ",(E6-D6)/D6),"") | G6: =VLOOKUP(B6,'CA BASSE-COUR FY2013 30122013'!A:F,2,FALSE) -> #N/A | H6: =IFERROR(IF(E6=""," ",(G6-E6)/E6),"") | I6: =IFERROR(IF(G6<E6,(E6-G6),(-(G6-E6))),"") | J6: 0 | K6: =IFERROR(IF(J6="","",IF(G6>J6,+(J6-G6),J6-G6))," ") | N6: =IFERROR(IF(L6=""," ",(M6-L6)/L6),"") | O6: =VLOOKUP($B6,'CA PET FY2013 HORS MDD 30122013'!$A:$F,2,FALSE) -> #N/A | P6: =IFERROR(IF(M6=""," ",(O6-M6)/M6),"") | Q6: =IFERROR(IF(O6<M6,(M6-O6),(-(O6-M6))),"") | S6: =IFERROR(IF(R6="","",IF(O6>R6,+(R6-O6),R6-O6))," ") | V6: =IFERROR(IF(T6=""," ",(U6-T6)/T6),"") | W6: =VLOOKUP($B6,'CA BIOTOP FY2013'!$A:$F,2,FALSE) -> #N/A | X6: =IFERROR(IF(U6=""," ",(W6-U6)/U6),"") | Y6: =IFERROR(IF(W6<U6,(U6-W6),(-(W6-U6))),"") | AA6: =IFERROR(IF(Z6="","",IF(W6>Z6,+(Z6-W6),Z6-W6))," ") | AD6: =IFERROR(IF(AB6=""," ",(AC6-AB6)/AB6),"") | AE6: =VLOOKUP($B6,'CA MYRIAD FY2013 301220'!$A:$F,2,FALSE) -> #N/A | AF6: =IFERROR(IF(AC6=""," ",(AE6-AC6)/AC6),"") | AG6: =IFERROR(IF(AE6<AC6,(AC6-AE6),(-(AE6-AC6))),"") | AI6: =IFERROR(IF(AH6="","",IF(AE6>AH6,+(AH6-AE6),AH6-AE6))," ") | AL6: =IFERROR(IF(AJ6=""," ",(AK6-AJ6)/AJ6),"") | AM6: =VLOOKUP($B6,'CA INSECTICIDES FY2013 30122013'!$A:$F,2,FALSE) -> #N/A | AN6: =IFERROR(IF(AK6=""," ",(AM6-AK6)/AK6),"") | AO6: =IFERROR(IF(AM6<AK6,(AK6-AM6),(-(AM6-AK6))),"") | AQ6: =IFERROR(IF(AP6="","",IF(AM6>AP6,+(AP6-AM6),AP6-AM6))," ") | AS6: 288 | AT6: =IFERROR(IF(AR6=""," ",(AS6-AR6)/AR6),"") | AU6: =VLOOKUP($B6,'CA ANIM RENTE FY2013 30122013'!$A:$F,2,FALSE) -> #N/A | AV6: =IFERROR(IF(AS6=""," ",(AU6-AS6)/AS6),"") | AW6: =IFERROR(IF(AU6<AS6,(AS6-AU6),(-(AU6-AS6))),"") | AX6: 300 | AY6: =IFERROR(IF(AX6="","",IF(AU6>AX6,+(AX6-AU6),AX6-AU6))," ") | BB6: =IFERROR(IF(AY6=""," ",(BA6-AY6)/AY6),"") | BC6: =VLOOKUP($B6,'CA HYGIENE FY2013 30122013'!$A:$F,2,FALSE) -> #N/A | BD6: =IFERROR(IF(BA6=""," ",(BC6-BA6)/BA6),"") | BE6: =IFERROR(IF(BC6<BA6,(BA6-BC6),(-(BC6-BA6))),"") | BF6: 0 | BG6: =IFERROR(IF(BF6="","",IF(BC6>BF6,+(BF6-BC6),BF6-BC6))," ") | BH6: =IFERROR(D6+L6+T6+AB6+AJ6+AR6+AZ6,"") -> 0 | BI6: =IFERROR(E6+M6+U6+AC6+AK6+AS6+BA6,"") -> 288 | BJ6: =IFERROR(IF(BH6=""," ",(BI6-BH6)/BH6),"") | BK6: =G6+O6+W6+AE6+AM6+AU6+BC6 -> #N/A | BL6: =IFERROR(IF(BI6=""," ",(BK6-BI6)/BI6),"") | BM6: =IFERROR(IF(BK6<BI6,(BI6-BK6),(-(BK6-BI6))),"") | BN6: =J6+R6+Z6+AH6+AP6+AX6+BF6 -> 300 | BO6: =IFERROR(IF(BN6="","",IF(BK6>BN6,+(BN6-BK6),BN6-BK6))," ")
A7: =VLOOKUP(#REF!,'BASE CDS PAR DPT AU 17012013'!$A:$C,2,FALSE) -> #REF! | B7: 1013985 | C7: 26400 | D7: 509 | E7: 1095.66 | F7: =IFERROR(IF(D7=""," ",(E7-D7)/D7),"") -> 1.1525737 | G7: =VLOOKUP(B7,'CA BASSE-COUR FY2013 30122013'!A:F,2,FALSE) -> 0 | H7: =IFERROR(IF(E7=""," ",(G7-E7)/E7),"") -> -1 | I7: =IFERROR(IF(G7<E7,(E7-G7),(-(G7-E7))),"") -> 1095.66 | J7: 1500 | K7: =IFERROR(IF(J7="","",IF(G7>J7,+(J7-G7),J7-G7))," ") -> 1500 | N7: =IFERROR(IF(L7=""," ",(M7-L7)/L7),"") | O7: =VLOOKUP($B7,'CA PET FY2013 HORS MDD 30122013'!$A:$F,2,FALSE) -> #N/A | P7: =IFERROR(IF(M7=""," ",(O7-M7)/M7),"") | Q7: =IFERROR(IF(O7<M7,(M7-O7),(-(O7-M7))),"") | S7: =IFERROR(IF(R7="","",IF(O7>R7,+(R7-O7),R7-O7))," ") | V7: =IFERROR(IF(T7=""," ",(U7-T7)/T7),"") | W7: =VLOOKUP($B7,'CA BIOTOP FY2013'!$A:$F,2,FALSE) -> #N/A | X7: =IFERROR(IF(U7=""," ",(W7-U7)/U7),"") | Y7: =IFERROR(IF(W7<U7,(U7-W7),(-(W7-U7))),"") | AA7: =IFERROR(IF(Z7="","",IF(W7>Z7,+(Z7-W7),Z7-W7))," ") | AD7: =IFERROR(IF(AB7=""," ",(AC7-AB7)/AB7),"") | AE7: =VLOOKUP($B7,'CA MYRIAD FY2013 301220'!$A:$F,2,FALSE) -> #N/A | AF7: =IFERROR(IF(AC7=""," ",(AE7-AC7)/AC7),"") | AG7: =IFERROR(IF(AE7<AC7,(AC7-AE7),(-(AE7-AC7))),"") | AI7: =IFERROR(IF(AH7="","",IF(AE7>AH7,+(AH7-AE7),AH7-AE7))," ") | AL7: =IFERROR(IF(AJ7=""," ",(AK7-AJ7)/AJ7),"") | AM7: =VLOOKUP($B7,'CA INSECTICIDES FY2013 30122013'!$A:$F,2,FALSE) -> #N/A | AN7: =IFERROR(IF(AK7=""," ",(AM7-AK7)/AK7),"") | AO7: =IFERROR(IF(AM7<AK7,(AK7-AM7),(-(AM7-AK7))),"") | AQ7: =IFERROR(IF(AP7="","",IF(AM7>AP7,+(AP7-AM7),AP7-AM7))," ") | AS7: 288 | AT7: =IFERROR(IF(AR7=""," ",(AS7-AR7)/AR7),"") | AU7: =VLOOKUP($B7,'CA ANIM RENTE FY2013 30122013'!$A:$F,2,FALSE) -> -18.86 | AV7: =IFERROR(IF(AS7=""," ",(AU7-AS7)/AS7),"") -> -1.0654861 | AW7: =IFERROR(IF(AU7<AS7,(AS7-AU7),(-(AU7-AS7))),"") -> 306.86 | AX7: 300 | AY7: =IFERROR(IF(AX7="","",IF(AU7>AX7,+(AX7-AU7),AX7-AU7))," ") -> 318.86 | BB7: =IFERROR(IF(AY7=""," ",(BA7-AY7)/AY7),"") -> -1 | BC7: =VLOOKUP($B7,'CA HYGIENE FY2013 30122013'!$A:$F,2,FALSE) -> #N/A | BD7: =IFERROR(IF(BA7=""," ",(BC7-BA7)/BA7),"") | BE7: =IFERROR(IF(BC7<BA7,(BA7-BC7),(-(BC7-BA7))),"") | BG7: =IFERROR(IF(BF7="","",IF(BC7>BF7,+(BF7-BC7),BF7-BC7))," ") | BH7: =IFERROR(D7+L7+T7+AB7+AJ7+AR7+AZ7,"") -> 509 | BI7: =IFERROR(E7+M7+U7+AC7+AK7+AS7+BA7,"") -> 1383.66 | BJ7: =IFERROR(IF(BH7=""," ",(BI7-BH7)/BH7),"") -> 1.718389 | BK7: =G7+O7+W7+AE7+AM7+AU7+BC7 -> #N/A | BL7: =IFERROR(IF(BI7=""," ",(BK7-BI7)/BI7),"") | BM7: =IFERROR(IF(BK7<BI7,(BI7-BK7),(-(BK7-BI7))),"") | BN7: =J7+R7+Z7+AH7+AP7+AX7+BF7 -> 1800 | BO7: =IFERROR(IF(BN7="","",IF(BK7>BN7,+(BN7-BK7),BN7-BK7))," ")
A8: =VLOOKUP(#REF!,'BASE CDS PAR DPT AU 17012013'!$A:$C,2,FALSE) -> #REF! | B8: 1028496 | C8: 69120 | D8: 895 | E8: 684.4 | F8: =IFERROR(IF(D8=""," ",(E8-D8)/D8),"") -> -0.23530726 | G8: =VLOOKUP(B8,'CA BASSE-COUR FY2013 30122013'!A:F,2,FALSE) -> 260.94 | H8: =IFERROR(IF(E8=""," ",(G8-E8)/E8),"") -> -0.61873174 | I8: =IFERROR(IF(G8<E8,(E8-G8),(-(G8-E8))),"") -> 423.46 | J8: 800 | K8: =IFERROR(IF(J8="","",IF(G8>J8,+(J8-G8),J8-G8))," ") -> 539.06 | N8: =IFERROR(IF(L8=""," ",(M8-L8)/L8),"") | O8: =VLOOKUP($B8,'CA PET FY2013 HORS MDD 30122013'!$A:$F,2,FALSE) -> 2310.45 | P8: =IFERROR(IF(M8=""," ",(O8-M8)/M8),"") | Q8: =IFERROR(IF(O8<M8,(M8-O8),(-(O8-M8))),"") -> -2310.45 | S8: =IFERROR(IF(R8="","",IF(O8>R8,+(R8-O8),R8-O8))," ") | V8: =IFERROR(IF(T8=""," ",(U8-T8)/T8),"") | W8: =VLOOKUP($B8,'CA BIOTOP FY2013'!$A:$F,2,FALSE) -> #N/A | X8: =IFERROR(IF(U8=""," ",(W8-U8)/U8),"") | Y8: =IFERROR(IF(W8<U8,(U8-W8),(-(W8-U8))),"") | AA8: =IFERROR(IF(Z8="","",IF(W8>Z8,+(Z8-W8),Z8-W8))," ") | AD8: =IFERROR(IF(AB8=""," ",(AC8-AB8)/AB8),"") | AE8: =VLOOKUP($B8,'CA MYRIAD FY2013 301220'!$A:$F,2,FALSE) -> #N/A | AF8: =IFERROR(IF(AC8=""," ",(AE8-AC8)/AC8),"") | AG8: =IFERROR(IF(AE8<AC8,(AC8-AE8),(-(AE8-AC8))),"") | AI8: =IFERROR(IF(AH8="","",IF(AE8>AH8,+(AH8-AE8),AH8-AE8))," ") | AL8: =IFERROR(IF(AJ8=""," ",(AK8-AJ8)/AJ8),"") | AM8: =VLOOKUP($B8,'CA INSECTICIDES FY2013 30122013'!$A:$F,2,FALSE) -> #N/A | AN8: =IFERROR(IF(AK8=""," ",(AM8-AK8)/AK8),"") | AO8: =IFERROR(IF(AM8<AK8,(AK8-AM8),(-(AM8-AK8))),"") | AQ8: =IFERROR(IF(AP8="","",IF(AM8>AP8,+(AP8-AM8),AP8-AM8))," ") | AS8: 288 | AT8: =IFERROR(IF(AR8=""," ",(AS8-AR8)/AR8),"") | AU8: =VLOOKUP($B8,'CA ANIM RENTE FY2013 30122013'!$A:$F,2,FALSE) -> 86.62 | AV8: =IFERROR(IF(AS8=""," ",(AU8-AS8)/AS8),"") -> -0.69923611 | AW8: =IFERROR(IF(AU8<AS8,(AS8-AU8),(-(AU8-AS8))),"") -> 201.38 | AX8: 300 | AY8: =IFERROR(IF(AX8="","",IF(AU8>AX8,+(AX8-AU8),AX8-AU8))," ") -> 213.38 | BB8: =IFERROR(IF(AY8=""," ",(BA8-AY8)/AY8),"") -> -1 | BC8: =VLOOKUP($B8,'CA HYGIENE FY2013 30122013'!$A:$F,2,FALSE) -> #N/A | BD8: =IFERROR(IF(BA8=""," ",(BC8-BA8)/BA8),"") | BE8: =IFERROR(IF(BC8<BA8,(BA8-BC8),(-(BC8-BA8))),"") | BF8: 0 | BG8: =IFERROR(IF(BF8="","",IF(BC8>BF8,+(BF8-BC8),BF8-BC8))," ") | BH8: =IFERROR(D8+L8+T8+AB8+AJ8+AR8+AZ8,"") -> 895 | BI8: =IFERROR(E8+M8+U8+AC8+AK8+AS8+BA8,"") -> 972.4 | BJ8: =IFERROR(IF(BH8=""," ",(BI8-BH8)/BH8),"") -> 0.086480447 | BK8: =G8+O8+W8+AE8+AM8+AU8+BC8 -> #N/A | BL8: =IFERROR(IF(BI8=""," ",(BK8-BI8)/BI8),"") | BM8: =IFERROR(IF(BK8<BI8,(BI8-BK8),(-(BK8-BI8))),"") | BN8: =J8+R8+Z8+AH8+AP8+AX8+BF8 -> 1100 | BO8: =IFERROR(IF(BN8="","",IF(BK8>BN8,+(BN8-BK8),BN8-BK8))," ")
A9: =VLOOKUP(#REF!,'BASE CDS PAR DPT AU 17012013'!$A:$C,2,FALSE) -> #REF! | B9: 1031728 | C9: 21150 | F9: =IFERROR(IF(D9=""," ",(E9-D9)/D9),"") | G9: =VLOOKUP(B9,'CA BASSE-COUR FY2013 30122013'!A:F,2,FALSE) -> #N/A | H9: =IFERROR(IF(E9=""," ",(G9-E9)/E9),"") | I9: =IFERROR(IF(G9<E9,(E9-G9),(-(G9-E9))),"") | K9: =IFERROR(IF(J9="","",IF(G9>J9,+(J9-G9),J9-G9))," ") | N9: =IFERROR(IF(L9=""," ",(M9-L9)/L9),"") | O9: =VLOOKUP($B9,'CA PET FY2013 HORS MDD 30122013'!$A:$F,2,FALSE) -> #N/A | P9: =IFERROR(IF(M9=""," ",(O9-M9)/M9),"") | Q9: =IFERROR(IF(O9<M9,(M9-O9),(-(O9-M9))),"") | S9: =IFERROR(IF(R9="","",IF(O9>R9,+(R9-O9),R9-O9))," ") | V9: =IFERROR(IF(T9=""," ",(U9-T9)/T9),"") | W9: =VLOOKUP($B9,'CA BIOTOP FY2013'!$A:$F,2,FALSE) -> #N/A | X9: =IFERROR(IF(U9=""," ",(W9-U9)/U9),"") | Y9: =IFERROR(IF(W9<U9,(U9-W9),(-(W9-U9))),"") | AA9: =IFERROR(IF(Z9="","",IF(W9>Z9,+(Z9-W9),Z9-W9))," ") | AD9: =IFERROR(IF(AB9=""," ",(AC9-AB9)/AB9),"") | AE9: =VLOOKUP($B9,'CA MYRIAD FY2013 301220'!$A:$F,2,FALSE) -> #N/A | AF9: =IFERROR(IF(AC9=""," ",(AE9-AC9)/AC9),"") | AG9: =IFERROR(IF(AE9<AC9,(AC9-AE9),(-(AE9-AC9))),"") | AI9: =IFERROR(IF(AH9="","",IF(AE9>AH9,+(AH9-AE9),AH9-AE9))," ") | AL9: =IFERROR(IF(AJ9=""," ",(AK9-AJ9)/AJ9),"") | AM9: =VLOOKUP($B9,'CA INSECTICIDES FY2013 30122013'!$A:$F,2,FALSE) -> #N/A | AN9: =IFERROR(IF(AK9=""," ",(AM9-AK9)/AK9),"") | AO9: =IFERROR(IF(AM9<AK9,(AK9-AM9),(-(AM9-AK9))),"") | AQ9: =IFERROR(IF(AP9="","",IF(AM9>AP9,+(AP9-AM9),AP9-AM9))," ") | AS9: 288 | AT9: =IFERROR(IF(AR9=""," ",(AS9-AR9)/AR9),"") | AU9: =VLOOKUP($B9,'CA ANIM RENTE FY2013 30122013'!$A:$F,2,FALSE) -> #N/A | AV9: =IFERROR(IF(AS9=""," ",(AU9-AS9)/AS9),"") | AW9: =IFERROR(IF(AU9<AS9,(AS9-AU9),(-(AU9-AS9))),"") | AX9: 300 | AY9: =IFERROR(IF(AX9="","",IF(AU9>AX9,+(AX9-AU9),AX9-AU9))," ") | BB9: =IFERROR(IF(AY9=""," ",(BA9-AY9)/AY9),"") | BC9: =VLOOKUP($B9,'CA HYGIENE FY2013 30122013'!$A:$F,2,FALSE) -> #N/A | BD9: =IFERROR(IF(BA9=""," ",(BC9-BA9)/BA9),"") | BE9: =IFERROR(IF(BC9<BA9,(BA9-BC9),(-(BC9-BA9))),"") | BG9: =IFERROR(IF(BF9="","",IF(BC9>BF9,+(BF9-BC9),BF9-BC9))," ") | BH9: =IFERROR(D9+L9+T9+AB9+AJ9+AR9+AZ9,"") -> 0 | BI9: =IFERROR(E9+M9+U9+AC9+AK9+AS9+BA9,"") -> 288 | BJ9: =IFERROR(IF(BH9=""," ",(BI9-BH9)/BH9),"") | BK9: =G9+O9+W9+AE9+AM9+AU9+BC9 -> #N/A | BL9: =IFERROR(IF(BI9=""," ",(BK9-BI9)/BI9),"") | BM9: =IFERROR(IF(BK9<BI9,(BI9-BK9),(-(BK9-BI9))),"") | BN9: =J9+R9+Z9+AH9+AP9+AX9+BF9 -> 300 | BO9: =IFERROR(IF(BN9="","",IF(BK9>BN9,+(BN9-BK9),BN9-BK9))," ")
A10: =VLOOKUP(#REF!,'BASE CDS PAR DPT AU 17012013'!$A:$C,2,FALSE) -> #REF! | B10: 1039429 | C10: 6140 | F10: =IFERROR(IF(D10=""," ",(E10-D10)/D10),"") | G10: =VLOOKUP(B10,'CA BASSE-COUR FY2013 30122013'!A:F,2,FALSE) -> #N/A | H10: =IFERROR(IF(E10=""," ",(G10-E10)/E10),"") | I10: =IFERROR(IF(G10<E10,(E10-G10),(-(G10-E10))),"") | K10: =IFERROR(IF(J10="","",IF(G10>J10,+(J10-G10),J10-G10))," ") | N10: =IFERROR(IF(L10=""," ",(M10-L10)/L10),"") | O10: =VLOOKUP($B10,'CA PET FY2013 HORS MDD 30122013'!$A:$F,2,FALSE) -> #N/A | P10: =IFERROR(IF(M10=""," ",(O10-M10)/M10),"") | Q10: =IFERROR(IF(O10<M10,(M10-O10),(-(O10-M10))),"") | S10: =IFERROR(IF(R10="","",IF(O10>R10,+(R10-O10),R10-O10))," ") | V10: =IFERROR(IF(T10=""," ",(U10-T10)/T10),"") | W10: =VLOOKUP($B10,'CA BIOTOP FY2013'!$A:$F,2,FALSE) -> #N/A | X10: =IFERROR(IF(U10=""," ",(W10-U10)/U10),"") | Y10: =IFERROR(IF(W10<U10,(U10-W10),(-(W10-U10))),"") | AA10: =IFERROR(IF(Z10="","",IF(W10>Z10,+(Z10-W10),Z10-W10))," ") | AD10: =IFERROR(IF(AB10=""," ",(AC10-AB10)/AB10),"") | AE10: =VLOOKUP($B10,'CA MYRIAD FY2013 301220'!$A:$F,2,FALSE) -> #N/A | AF10: =IFERROR(IF(AC10=""," ",(AE10-AC10)/AC10),"") | AG10: =IFERROR(IF(AE10<AC10,(AC10-AE10),(-(AE10-AC10))),"") | AI10: =IFERROR(IF(AH10="","",IF(AE10>AH10,+(AH10-AE10),AH10-AE10))," ") | AL10: =IFERROR(IF(AJ10=""," ",(AK10-AJ10)/AJ10),"") | AM10: =VLOOKUP($B10,'CA INSECTICIDES FY2013 30122013'!$A:$F,2,FALSE) -> #N/A | AN10: =IFERROR(IF(AK10=""," ",(AM10-AK10)/AK10),"") | AO10: =IFERROR(IF(AM10<AK10,(AK10-AM10),(-(AM10-AK10))),"") | AQ10: =IFERROR(IF(AP10="","",IF(AM10>AP10,+(AP10-AM10),AP10-AM10))," ") | AS10: 288 | AT10: =IFERROR(IF(AR10=""," ",(AS10-AR10)/AR10),"") | AU10: =VLOOKUP($B10,'CA ANIM RENTE FY2013 30122013'!$A:$F,2,FALSE) -> #N/A | AV10: =IFERROR(IF(AS10=""," ",(AU10-AS10)/AS10),"") | AW10: =IFERROR(IF(AU10<AS10,(AS10-AU10),(-(AU10-AS10))),"") | AX10: 300 | AY10: =IFERROR(IF(AX10="","",IF(AU10>AX10,+(AX10-AU10),AX10-AU10))," ") | BB10: =IFERROR(IF(AY10=""," ",(BA10-AY10)/AY10),"") | BC10: =VLOOKUP($B10,'CA HYGIENE FY2013 30122013'!$A:$F,2,FALSE) -> #N/A | BD10: =IFERROR(IF(BA10=""," ",(BC10-BA10)/BA10),"") | BE10: =IFERROR(IF(BC10<BA10,(BA10-BC10),(-(BC10-BA10))),"") | BG10: =IFERROR(IF(BF10="","",IF(BC10>BF10,+(BF10-BC10),BF10-BC10))," ") | BH10: =IFERROR(D10+L10+T10+AB10+AJ10+AR10+AZ10,"") -> 0 | BI10: =IFERROR(E10+M10+U10+AC10+AK10+AS10+BA10,"") -> 288 | BJ10: =IFERROR(IF(BH10=""," ",(BI10-BH10)/BH10),"") | BK10: =G10+O10+W10+AE10+AM10+AU10+BC10 -> #N/A | BL10: =IFERROR(IF(BI10=""," ",(BK10-BI10)/BI10),"") | BM10: =IFERROR(IF(BK10<BI10,(BI10-BK10),(-(BK10-BI10))),"") | BN10: =J10+R10+Z10+AH10+AP10+AX10+BF10 -> 300 | BO10: =IFERROR(IF(BN10="","",IF(BK10>BN10,+(BN10-BK10),BN10-BK10))," ")
A11: =VLOOKUP(#REF!,'BASE CDS PAR DPT AU 17012013'!$A:$C,2,FALSE) -> #REF! | B11: 1011796 | C11: 6140 | D11: 363 | E11: 1224.75 | F11: =IFERROR(IF(D11=""," ",(E11-D11)/D11),"") -> 2.3739669 | G11: =VLOOKUP(B11,'CA BASSE-COUR FY2013 30122013'!A:F,2,FALSE) -> 337.8 | H11: =IFERROR(IF(E11=""," ",(G11-E11)/E11),"") -> -0.72418861 | I11: =IFERROR(IF(G11<E11,(E11-G11),(-(G11-E11))),"") -> 886.95 | J11: 700 | K11: =IFERROR(IF(J11="","",IF(G11>J11,+(J11-G11),J11-G11))," ") -> 362.2 | L11: 11138 | M11: 10318 | N11: =IFERROR(IF(L11=""," ",(M11-L11)/L11),"") -> -0.073621835 | O11: =VLOOKUP($B11,'CA PET FY2013 HORS MDD 30122013'!$A:$F,2,FALSE) -> 3596.23 | P11: =IFERROR(IF(M11=""," ",(O11-M11)/M11),"") -> -0.65146055 | Q11: =IFERROR(IF(O11<M11,(M11-O11),(-(O11-M11))),"") -> 6721.77 | S11: =IFERROR(IF(R11="","",IF(O11>R11,+(R11-O11),R11-O11))," ") | V11: =IFERROR(IF(T11=""," ",(U11-T11)/T11),"") | W11: =VLOOKUP($B11,'CA BIOTOP FY2013'!$A:$F,2,FALSE) -> 2959.2 | X11: =IFERROR(IF(U11=""," ",(W11-U11)/U11),"") | Y11: =IFERROR(IF(W11<U11,(U11-W11),(-(W11-U11))),"") -> -2959.2 | AA11: =IFERROR(IF(Z11="","",IF(W11>Z11,+(Z11-W11),Z11-W11))," ") | AD11: =IFERROR(IF(AB11=""," ",(AC11-AB11)/AB11),"") | AE11: =VLOOKUP($B11,'CA MYRIAD FY2013 301220'!$A:$F,2,FALSE) -> 5614.15 | AF11: =IFERROR(IF(AC11=""," ",(AE11-AC11)/AC11),"") | AG11: =IFERROR(IF(AE11<AC11,(AC11-AE11),(-(AE11-AC11))),"") -> -5614.15 | AI11: =IFERROR(IF(AH11="","",IF(AE11>AH11,+(AH11-AE11),AH11-AE11))," ") | AL11: =IFERROR(IF(AJ11=""," ",(AK11-AJ11)/AJ11),"") | AM11: =VLOOKUP($B11,'CA INSECTICIDES FY2013 30122013'!$A:$F,2,FALSE) -> #N/A | AN11: =IFERROR(IF(AK11=""," ",(AM11-AK11)/AK11),"") | AO11: =IFERROR(IF(AM11<AK11,(AK11-AM11),(-(AM11-AK11))),"") | AQ11: =IFERROR(IF(AP11="","",IF(AM11>AP11,+(AP11-AM11),AP11-AM11))," ") | AS11: 288 | AT11: =IFERROR(IF(AR11=""," ",(AS11-AR11)/AR11),"") | AU11: =VLOOKUP($B11,'CA ANIM RENTE FY2013 30122013'!$A:$F,2,FALSE) -> 80.82 | AV11: =IFERROR(IF(AS11=""," ",(AU11-AS11)/AS11),"") -> -0.719375 | AW11: =IFERROR(IF(AU11<AS11,(AS11-AU11),(-(AU11-AS11))),"") -> 207.18 | AX11: 300 | AY11: =IFERROR(IF(AX11="","",IF(AU11>AX11,+(AX11-AU11),AX11-AU11))," ") -> 219.18 | BB11: =IFERROR(IF(AY11=""," ",(BA11-AY11)/AY11),"") -> -1 | BC11: =VLOOKUP($B11,'CA HYGIENE FY2013 30122013'!$A:$F,2,FALSE) -> 7340.64 | BD11: =IFERROR(IF(BA11=""," ",(BC11-BA11)/BA11),"") | BE11: =IFERROR(IF(BC11<BA11,(BA11-BC11),(-(BC11-BA11))),"") -> -7340.64 | BF11: 16000 | BG11: =IFERROR(IF(BF11="","",IF(BC11>BF11,+(BF11-BC11),BF11-BC11))," ") -> 8659.36 | BH11: =IFERROR(D11+L11+T11+AB11+AJ11+AR11+AZ11,"") -> 11501 | BI11: =IFERROR(E11+M11+U11+AC11+AK11+AS11+BA11,"") -> 11830.75 | BJ11: =IFERROR(IF(BH11=""," ",(BI11-BH11)/BH11),"") -> 0.02867142 | BK11: =G11+O11+W11+AE11+AM11+AU11+BC11 -> #N/A | BL11: =IFERROR(IF(BI11=""," ",(BK11-BI11)/BI11),"") | BM11: =IFERROR(IF(BK11<BI11,(BI11-BK11),(-(BK11-BI11))),"") | BN11: =J11+R11+Z11+AH11+AP11+AX11+BF11 -> 17000 | BO11: =IFERROR(IF(BN11="","",IF(BK11>BN11,+(BN11-BK11),BN11-BK11))," ")
A12: =VLOOKUP(#REF!,'BASE CDS PAR DPT AU 17012013'!$A:$C,2,FALSE) -> #REF! | B12: 100881005 | C12: 57970 | F12: =IFERROR(IF(D12=""," ",(E12-D12)/D12),"") | G12: =VLOOKUP(B12,'CA BASSE-COUR FY2013 30122013'!A:F,2,FALSE) -> #N/A | H12: =IFERROR(IF(E12=""," ",(G12-E12)/E12),"") | I12: =IFERROR(IF(G12<E12,(E12-G12),(-(G12-E12))),"") | K12: =IFERROR(IF(J12="","",IF(G12>J12,+(J12-G12),J12-G12))," ") | N12: =IFERROR(IF(L12=""," ",(M12-L12)/L12),"") | O12: =VLOOKUP($B12,'CA PET FY2013 HORS MDD 30122013'!$A:$F,2,FALSE) -> #N/A | P12: =IFERROR(IF(M12=""," ",(O12-M12)/M12),"") | Q12: =IFERROR(IF(O12<M12,(M12-O12),(-(O12-M12))),"") | S12: =IFERROR(IF(R12="","",IF(O12>R12,+(R12-O12),R12-O12))," ") | V12: =IFERROR(IF(T12=""," ",(U12-T12)/T12),"") | W12: =VLOOKUP($B12,'CA BIOTOP FY2013'!$A:$F,2,FALSE) -> #N/A | X12: =IFERROR(IF(U12=""," ",(W12-U12)/U12),"") | Y12: =IFERROR(IF(W12<U12,(U12-W12),(-(W12-U12))),"") | AA12: =IFERROR(IF(Z12="","",IF(W12>Z12,+(Z12-W12),Z12-W12))," ") | AD12: =IFERROR(IF(AB12=""," ",(AC12-AB12)/AB12),"") | AE12: =VLOOKUP($B12,'CA MYRIAD FY2013 301220'!$A:$F,2,FALSE) -> #N/A | AF12: =IFERROR(IF(AC12=""," ",(AE12-AC12)/AC12),"") | AG12: =IFERROR(IF(AE12<AC12,(AC12-AE12),(-(AE12-AC12))),"") | AI12: =IFERROR(IF(AH12="","",IF(AE12>AH12,+(AH12-AE12),AH12-AE12))," ") | AL12: =IFERROR(IF(AJ12=""," ",(AK12-AJ12)/AJ12),"") | AM12: =VLOOKUP($B12,'CA INSECTICIDES FY2013 30122013'!$A:$F,2,FALSE) -> #N/A | AN12: =IFERROR(IF(AK12=""," ",(AM12-AK12)/AK12),"") | AO12: =IFERROR(IF(AM12<AK12,(AK12-AM12),(-(AM12-AK12))),"") | AQ12: =IFERROR(IF(AP12="","",IF(AM12>AP12,+(AP12-AM12),AP12-AM12))," ") | AS12: 288 | AT12: =IFERROR(IF(AR12=""," ",(AS12-AR12)/AR12),"") | AU12: =VLOOKUP($B12,'CA ANIM RENTE FY2013 30122013'!$A:$F,2,FALSE) -> #N/A | AV12: =IFERROR(IF(AS12=""," ",(AU12-AS12)/AS12),"") | AW12: =IFERROR(IF(AU12<AS12,(AS12-AU12),(-(AU12-AS12))),"") | AX12: 300 | AY12: =IFERROR(IF(AX12="","",IF(AU12>AX12,+(AX12-AU12),AX12-AU12))," ") | BB12: =IFERROR(IF(AY12=""," ",(BA12-AY12)/AY12),"") | BC12: =VLOOKUP($B12,'CA HYGIENE FY2013 30122013'!$A:$F,2,FALSE) -> #N/A | BD12: =IFERROR(IF(BA12=""," ",(BC12-BA12)/BA12),"") | BE12: =IFERROR(IF(BC12<BA12,(BA12-BC12),(-(BC12-BA12))),"") | BG12: =IFERROR(IF(BF12="","",IF(BC12>BF12,+(BF12-BC12),BF12-BC12))," ") | BH12: =IFERROR(D12+L12+T12+AB12+AJ12+AR12+AZ12,"") -> 0 | BI12: =IFERROR(E12+M12+U12+AC12+AK12+AS12+BA12,"") -> 288 | BJ12: =IFERROR(IF(BH12=""," ",(BI12-BH12)/BH12),"") | BK12: =G12+O12+W12+AE12+AM12+AU12+BC12 -> #N/A | BL12: =IFERROR(IF(BI12=""," ",(BK12-BI12)/BI12),"") | BM12: =IFERROR(IF(BK12<BI12,(BI12-BK12),(-(BK12-BI12))),"") | BN12: =J12+R12+Z12+AH12+AP12+AX12+BF12 -> 300 | BO12: =IFERROR(IF(BN12="","",IF(BK12>BN12,+(BN12-BK12),BN12-BK12))," ")
A14: TOTAL ALAIN | D14: =SUM(D2:D7) -> 1203 | E14: =SUM(E2:E7) -> 3596.2 | F14: =IFERROR(IF(D14=""," ",(E14-D14)/D14),"") -> 1.9893599 | G14: =SUM(G2:G7) -> #N/A | H14: =IFERROR(IF(E14=""," ",(G14-E14)/E14),"") | I14: =IF(G14<E14,(E14-G14),(-(G14-E14))) -> #N/A | J14: =SUM(J2:J7) -> 3800 | K14: =IF(OR(J14={"",0}),0,IF(G14>J14,+(J14-G14),J14-G14)) -> #N/A | L14: =SUM(L2:L7) -> 1043 | M14: =SUM(M2:M7) -> 0 | N14: =IFERROR(IF(L14=""," ",(M14-L14)/L14),"") -> -1 | O14: =SUM(O2:O7) -> #N/A | P14: =IFERROR(IF(M14=""," ",(O14-M14)/M14),"") | Q14: =IF(O14<M14,(M14-O14),(-(O14-M14))) -> #N/A | R14: =SUM(R2:R7) -> 0 | S14: =IF(OR(R14={"",0}),0,IF(O14>R14,+(R14-O14),R14-O14)) -> 0 | T14: =SUM(T2:T7) -> 0 | U14: =SUM(U2:U7) -> 0 | V14: =IFERROR(IF(T14=""," ",(U14-T14)/T14),"") | W14: =SUM(W2:W7) -> #N/A | X14: =IFERROR(IF(U14=""," ",(W14-U14)/U14),"") | Y14: =IF(W14<U14,(U14-W14),(-(W14-U14))) -> #N/A | Z14: =SUM(Z2:Z7) -> 0 | AA14: =IF(OR(Z14={"",0}),0,IF(W14>Z14,+(Z14-W14),Z14-W14)) -> 0 | AB14: =SUM(AB2:AB7) -> 0 | AC14: =SUM(AC2:AC7) -> 0 | AD14: =IFERROR(IF(AB14=""," ",(AC14-AB14)/AB14),"") | AE14: =SUM(AE2:AE7) -> #N/A | AF14: =IFERROR(IF(AC14=""," ",(AE14-AC14)/AC14),"") | AG14: =IF(AE14<AC14,(AC14-AE14),(-(AE14-AC14))) -> #N/A | AH14: =SUM(AH2:AH7) -> 0 | AI14: =IF(OR(AH14={"",0}),0,IF(AE14>AH14,+(AH14-AE14),AH14-AE14)) -> 0 | AJ14: =SUM(AJ2:AJ7) -> 0 | AK14: =SUM(AK2:AK7) -> 0 | AL14: =IFERROR(IF(AJ14=""," ",(AK14-AJ14)/AJ14),"") | AM14: =SUM(AM2:AM7) -> #N/A | AN14: =IFERROR(IF(AK14=""," ",(AM14-AK14)/AK14),"") | AO14: =IF(AM14<AK14,(AK14-AM14),(-(AM14-AK14))) -> #N/A | AP14: =SUM(AP2:AP7) -> 0 | AQ14: =IF(OR(AP14={"",0}),0,IF(AM14>AP14,+(AP14-AM14),AP14-AM14)) -> 0 | AR14: =SUM(AR2:AR7) -> 0 | AS14: =SUM(AS2:AS7) -> 1728 | AT14: =IFERROR(IF(AR14=""," ",(AS14-AR14)/AR14),"") | AU14: =SUM(AU2:AU7) -> #N/A | AV14: =IFERROR(IF(AS14=""," ",(AU14-AS14)/AS14),"") | AW14: =IF(AU14<AS14,(AS14-AU14),(-(AU14-AS14))) -> #N/A | AX14: =SUM(AX2:AX7) -> 1800 | AY14: =IF(OR(AX14={"",0}),0,IF(AU14>AX14,+(AX14-AU14),AX14-AU14)) -> #N/A | AZ14: =SUM(AZ2:AZ7) -> 0 | BA14: =SUM(BA2:BA7) -> 0 | BB14: =IFERROR(IF(AZ14=""," ",(BA14-AZ14)/AZ14),"") | BC14: =SUM(BC2:BC7) -> #N/A | BD14: =IFERROR(IF(BA14=""," ",(BC14-BA14)/BA14),"") | BE14: =IF(BC14<BA14,(BA14-BC14),(-(BC14-BA14))) -> #N/A | BF14: =SUM(BF2:BF7) -> 6000 | BG14: =IF(OR(BF14={"",0}),0,IF(BC14>BF14,+(BF14-BC14),BF14-BC14)) -> #N/A | BH14: =SUM(BH2:BH7) -> 2246 | BI14: =SUM(BI2:BI7) -> 5324.2 | BJ14: =IFERROR(IF(BH14=""," ",(BI14-BH14)/BH14),"") -> 1.3705254 | BK14: =SUM(BK2:BK7) -> #N/A | BL14: =IFERROR(IF(BI14=""," ",(BK14-BI14)/BI14),"") | BM14: =IF(BK14<BI14,(BI14-BK14),(-(BK14-BI14))) -> #N/A | BN14: =SUM(BN2:BN7) -> 11600 | BO14: =IF(OR(BN14={"",0}),0,IF(BK14>BN14,+(BN14-BK14),BN14-BK14)) -> #N/A | BP14: =IF(BI14=""," ",(BN14-BI14)/BI14) -> 1.1787311
A15: TOTAL MARCEL | D15: =SUM(D8:D12) -> 1258 | E15: =SUM(E8:E12) -> 1909.15 | F15: =IFERROR(IF(D15=""," ",(E15-D15)/D15),"") -> 0.51760731 | G15: =SUM(G8:G12) -> #N/A | H15: =IFERROR(IF(E15=""," ",(G15-E15)/E15),"") | I15: =IF(G15<E15,(E15-G15),(-(G15-E15))) -> #N/A | J15: =SUM(J8:J12) -> 1500 | K15: =IF(OR(J15={"",0}),0,IF(G15>J15,+(J15-G15),J15-G15)) -> #N/A | L15: =SUM(L8:L12) -> 11138 | M15: =SUM(M8:M12) -> 10318 | N15: =IFERROR(IF(L15=""," ",(M15-L15)/L15),"") -> -0.073621835 | O15: =SUM(O8:O12) -> #N/A | P15: =IFERROR(IF(M15=""," ",(O15-M15)/M15),"") | Q15: =IF(O15<M15,(M15-O15),(-(O15-M15))) -> #N/A | R15: =SUM(R8:R12) -> 0 | S15: =IF(OR(R15={"",0}),0,IF(O15>R15,+(R15-O15),R15-O15)) -> 0 | T15: =SUM(T8:T12) -> 0 | U15: =SUM(U8:U12) -> 0 | V15: =IFERROR(IF(T15=""," ",(U15-T15)/T15),"") | W15: =SUM(W8:W12) -> #N/A | X15: =IFERROR(IF(U15=""," ",(W15-U15)/U15),"") | Y15: =IF(W15<U15,(U15-W15),(-(W15-U15))) -> #N/A | Z15: =SUM(Z8:Z12) -> 0 | AA15: =IF(OR(Z15={"",0}),0,IF(W15>Z15,+(Z15-W15),Z15-W15)) -> 0 | AB15: =SUM(AB8:AB12) -> 0 | AC15: =SUM(AC8:AC12) -> 0 | AD15: =IFERROR(IF(AB15=""," ",(AC15-AB15)/AB15),"") | AE15: =SUM(AE8:AE12) -> #N/A | AF15: =IFERROR(IF(AC15=""," ",(AE15-AC15)/AC15),"") | AG15: =IF(AE15<AC15,(AC15-AE15),(-(AE15-AC15))) -> #N/A | AH15: =SUM(AH8:AH12) -> 0 | AI15: =IF(OR(AH15={"",0}),0,IF(AE15>AH15,+(AH15-AE15),AH15-AE15)) -> 0 | AJ15: =SUM(AJ8:AJ12) -> 0 | AK15: =SUM(AK8:AK12) -> 0 | AL15: =IFERROR(IF(AJ15=""," ",(AK15-AJ15)/AJ15),"") | AM15: =SUM(AM8:AM12) -> #N/A | AN15: =IFERROR(IF(AK15=""," ",(AM15-AK15)/AK15),"") | AO15: =IF(AM15<AK15,(AK15-AM15),(-(AM15-AK15))) -> #N/A | AP15: =SUM(AP8:AP12) -> 0 | AQ15: =IF(OR(AP15={"",0}),0,IF(AM15>AP15,+(AP15-AM15),AP15-AM15)) -> 0 | AR15: =SUM(AR8:AR12) -> 0 | AS15: =SUM(AS8:AS12) -> 1440 | AT15: =IFERROR(IF(AR15=""," ",(AS15-AR15)/AR15),"") | AU15: =SUM(AU8:AU12) -> #N/A | AV15: =IFERROR(IF(AS15=""," ",(AU15-AS15)/AS15),"") | AW15: =IF(AU15<AS15,(AS15-AU15),(-(AU15-AS15))) -> #N/A | AX15: =SUM(AX8:AX12) -> 1500 | AY15: =IF(OR(AX15={"",0}),0,IF(AU15>AX15,+(AX15-AU15),AX15-AU15)) -> #N/A | AZ15: =SUM(AZ8:AZ12) -> 0 | BA15: =SUM(BA8:BA12) -> 0 | BB15: =IFERROR(IF(AZ15=""," ",(BA15-AZ15)/AZ15),"") | BC15: =SUM(BC8:BC12) -> #N/A | BD15: =IFERROR(IF(BA15=""," ",(BC15-BA15)/BA15),"") | BE15: =IF(BC15<BA15,(BA15-BC15),(-(BC15-BA15))) -> #N/A | BF15: =SUM(BF8:BF12) -> 16000 | BG15: =IF(OR(BF15={"",0}),0,IF(BC15>BF15,+(BF15-BC15),BF15-BC15)) -> #N/A | BH15: =SUM(BH8:BH12) -> 12396 | BI15: =SUM(BI8:BI12) -> 13667.15 | BJ15: =IFERROR(IF(BH15=""," ",(BI15-BH15)/BH15),"") -> 0.10254518 | BK15: =SUM(BK8:BK12) -> #N/A | BL15: =IFERROR(IF(BI15=""," ",(BK15-BI15)/BI15),"") | BM15: =IF(BK15<BI15,(BI15-BK15),(-(BK15-BI15))) -> #N/A | BN15: =SUM(BN8:BN12) -> 19000 | BO15: =IF(OR(BN15={"",0}),0,IF(BK15>BN15,+(BN15-BK15),BN15-BK15)) -> #N/A | BP15: =IF(BI15=""," ",(BN15-BI15)/BI15) -> 0.39019474
A16: SECTEUR CVR | D16: =SUM(D2:D12) -> 2461 | E16: =SUM(E2:E12) -> 5505.35 | F16: =IF(D16=""," ",(E16-D16)/D16) -> 1.2370378 | G16: =SUM(G2:G12) -> #N/A | H16: =IF(E16=""," ",(G16-E16)/E16) -> #N/A | I16: =SUM(I2:I12) -> 4009.92 | J16: =SUM(J8:J12) -> 1500 | K16: =SUM(K2:K12) -> 3428.12 | L16: =SUM(L2:L12) -> 12181 | M16: =SUM(M2:M12) -> 10318 | N16: =IF(L16=""," ",(M16-L16)/L16) -> -0.15294311 | O16: =SUM(O2:O12) -> #N/A | P16: =IF(M16=""," ",(O16-M16)/M16) -> #N/A | Q16: =SUM(Q2:Q12) -> 4411.32 | R16: =SUM(R2:R12) -> 0 | S16: =SUM(S2:S12) -> 0 | T16: =SUM(T2:T12) -> 0 | U16: =SUM(U2:U12) -> 0 | V16: =IF(T16=""," ",(U16-T16)/T16) -> #DIV/0! | W16: =SUM(W2:W12) -> #N/A | X16: =IF(U16=""," ",(W16-U16)/U16) -> #N/A | Y16: =SUM(Y2:Y12) -> -7266.49 | Z16: =SUM(Z2:Z12) -> 0 | AA16: =SUM(AA2:AA12) -> 0 | AB16: =SUM(AB2:AB12) -> 0 | AC16: =SUM(AC2:AC12) -> 0 | AD16: =IF(AB16=""," ",(AC16-AB16)/AB16) -> #DIV/0! | AE16: =SUM(AE2:AE12) -> #N/A | AF16: =IF(AC16=""," ",(AE16-AC16)/AC16) -> #N/A | AG16: =SUM(AG2:AG12) -> -10021.35 | AH16: =SUM(AH2:AH12) -> 0 | AI16: =SUM(AI2:AI12) -> 0 | AJ16: =SUM(AJ2:AJ12) -> 0 | AK16: =SUM(AK2:AK12) -> 0 | AL16: =IF(AJ16=""," ",(AK16-AJ16)/AJ16) -> #DIV/0! | AM16: =SUM(AM2:AM12) -> #N/A | AN16: =IF(AK16=""," ",(AM16-AK16)/AK16) -> #N/A | AO16: =SUM(AO2:AO12) -> -1314.94 | AP16: =SUM(AP2:AP12) -> 0 | AQ16: =SUM(AQ2:AQ12) -> 0 | AR16: =SUM(AR2:AR12) -> 0 | AS16: =SUM(AS2:AS12) -> 3168 | AT16: =IF(AR16=""," ",(AS16-AR16)/AR16) -> #DIV/0! | AU16: =SUM(AU2:AU12) -> #N/A | AV16: =IF(AS16=""," ",(AU16-AS16)/AS16) -> #N/A | AW16: =SUM(AW2:AW12) -> 715.42 | AX16: =SUM(AX2:AX12) -> 3300 | AY16: =SUM(AY2:AY12) -> 751.42 | AZ16: =SUM(AZ2:AZ12) -> 0 | BA16: =SUM(BA2:BA12) -> 0 | BB16: =IF(AZ16=""," ",(BA16-AZ16)/AZ16) -> #DIV/0! | BC16: =SUM(BC2:BC12) -> #N/A | BD16: =IF(BA16=""," ",(BC16-BA16)/BA16) -> #N/A | BE16: =SUM(BE2:BE12) -> -11298.44 | BF16: =SUM(BF2:BF12) -> 22000 | BG16: =SUM(BG2:BG12) -> 10701.56 | BH16: =SUM(BH2:BH12) -> 14642 | BI16: =SUM(BI2:BI12) -> 18991.35 | BJ16: =IF(BH16=""," ",(BI16-BH16)/BH16) -> 0.29704617 | BK16: =SUM(BK2:BK12) -> #N/A | BL16: =IF(BI16=""," ",(BK16-BI16)/BI16) -> #N/A | BM16: =SUM(BM2:BM12) -> 0 | BN16: =SUM(BN8:BN12) -> 19000 | BO16: =SUM(BO2:BO12) -> 0 | BP16: =IF(BI16=""," ",(BN16-BI16)/BI16) -> 0.00045547052

Sheet FICHIER CLIENT
A1: Nom | B1: Code | C1: Enseigne | D1: Ville | E1: CP1 | F1: CP | G1: Adresse
A2: SCA LIMAGRAIN | B2: 63001001 | C2: AUTRE | D2: AIGUEPERSE | E2: 63 | F2: 63260 | G2: 10 ROUTE DE CLERMONT FERRAND
A3: LA PERIER | B3: 1008123 | C3: BAOBAB | D3: AIMARGUES | E3: 30 | F3: 30470 | G3: ROUTE DU GRAU DU ROI
A4: SA DUCHOSAL - WELDOM | B4: 73167000 | C4: WELDOM | D4: AIME | E4: 73 | F4: 73210 | G4: 573 AVENUE DE TARENTAISE
A5: ALPHA | B5: 73007001 | C5: COMPTOIR DU VILLAGE | D5: AITON | E5: 73 | F5: 73220 | G5: RUE L'AMODRU
A6: AIX GARDEN | B6: 1008845 | C6: Sans enseigne | D6: AIX EN PROVENCE | E6: 13 | F6: 13090 | G6: 2025 RTE DES MILLES
A7: ANIMALERIE COTE TENDRESSE | B7: 100884002 | C7: Sans enseigne | D7: AIX EN PROVENCE | E7: 13 | F7: 13792 | G7: 900 RUE AMPERE
A8: QUINCAILLERIE AIXOISE | B8: 13227000 | D8: AIX EN PROVENCE CEDEX 3 | E8: 13 | F8: 13796 | G8: ZI DES MILLES
A9: LES JARDINIERS D AIX | B9: 1012262 | C9: BOTANIC | D9: AIX LES MILLES | E9: 13 | F9: 13290 | G9: LA PIOLINE
A10: MOLLIER | B10: 7005001 | D10: ALBA LA ROMAINE | E10: 7 | F10: 7400 | G10: QUARTIER ST PIERRE
A11: ALPHA | B11: 73011001 | C11: GAMM VERT | D11: ALBERTVILLE | E11: 73 | F11: 73200 | G11: 335 AV JOSEPH FONTANET
A12: COMPTOIR PLUS | B12: 26002001 | C12: PASSION NATURE | D12: ALBON | E12: 26 | F12: 26140 | G12: QUARTIER MARCOZ
A13: NATURA PRO | B13: 7007001 | C13: COMPTOIR DU VILLAGE | D13: ALBOUSSIERE | E13: 7 | F13: 7440 | G13: LE VILLAGE
A14: JURA MONT BLANC | B14: 74002001 | C14: GAMM VERT | D14: ALBY SUR CHERAN | E14: 74 | F14: 74540 | G14: RTE D'HÉRY
A15: ALESBRI - BRICOMARCHE | B15: 100681026 | C15: BRICOMARCHE | D15: ALES | E15: 30 | F15: 30100
A16: JARDIVERT | B16: 30180000 | C16: Sans enseigne | D16: ALES | E16: 30 | F16: 30100 | G16: 358, ROUTE D'UZES
A17: JARDI ALES | B17: 1030059 | C17: JARDILAND | D17: ALES | E17: 30 | F17: 30100 | G17: 121 RUE DES POMMIERS
A18: CALVET | B18: 30007001 | C18: FRANCE RURALE | D18: ALES | E18: 30 | F18: 30100 | G18: 109 RTE D'ANDUZE
A19: NATURA PRO | B19: 30007002 | C19: GAMM VERT | D19: ALES | E19: 30 | F19: 30100 | G19: 358 ROUTE D'UZES
A20: CHAMP VERT | B20: 100681043 | C20: KIRIEL | D20: ALLAUCH | E20: 13 | F20: 13190 | G20: ROUTE DES 4 SAISONS
A21: COMPTOIR PLUS | B21: 26006001 | C21: PASSION NATURE | D21: ALLEX | E21: 26 | F21: 26400
A22: JARDINS DE PROVENCE SAS | B22: 1033861 | C22: Sans enseigne | D22: ALTHEN DES PALUDS | E22: 84 | F22: 84210 | G22: RTE DE CARPENTRAS
A23: SOELIS | B23: 1004001 | C23: GAMM VERT | D23: AMBERIEU EN BUGEY | E23: 1 | F23: 1500 | G23: AVENUE ANDRE CITROEN
A24: ETS ASTIER IMBERT | B24: 1030082 | C24: KIRIEL | D24: AMBERT | E24: 63 | F24: 63600 | G24: 38 AV EMMANUEL CHABRIER
A25: DOM VERT | B25: 63003001 | C25: GAMM VERT | D25: AMBERT | E25: 63 | F25: 63600 | G25: RUE DE LA MASSE
A26: JARDINERIE LES ORCHIS | B26: 1008801 | C26: BAOBAB | D26: AMBRONAY | E26: 1 | F26: 1500 | G26: RTE DE GENEVE
A27: CBA-SICA | B27: 69006001 | C27: GAMM VERT | D27: AMPLEPUIS | E27: 69 | F27: 69550 | G27: ZI DE LA GAITÉ
A28: LOIRE HYGIENE | B28: 1022182 | C28: FRANCE RURALE | D28: ANDREZIEUX BOUTHEON | E28: 42 | F28: 42160 | G28: ZAC LES VOLONS
A29: IN & OUT SARL | B29: 1046571 | C29: BRICO LECLERC | D29: ANDREZIEUX BOUTHEON | E29: 42 | F29: 42160 | G29: ZI CENTRE VIE
A30: LISAPL | B30: 30010001 | C30: ESPACE JARDIN | D30: ANDUZE | E30: 30 | F30: 30140 | G30: QUARTIER ST HALARY
A31: BOTANIC ANNECY LE VIEUX | B31: 1002312 | C31: BOTANIC | D31: ANNECY LE VIEUX | E31: 74 | F31: 74940 | G31: 5-7 RUE DU PRE DE LA DANSE
A32: JARDI ANSE | B32: 1036518 | C32: JARDILAND | D32: ANSE | E32: 69 | F32: 69480 | G32: ZAC DU DOMAINE DE LA FONTAINE
A33: LISAPL | B33: 84002001 | C33: ESPACE JARDIN | D33: ANSOUIS | E33: 84 | F33: 84240 | G33: CAVE COOP VINICOISE
... A38: DECATHLON ANTIBES | B38: 1031213 | C38: DECATHLON | D38: ANTIBES | E38: 6 | F38: 6600 | G38: 1800 CHEMIN DES TERRIERS
A39: CTRE EURO MEDITERRANEEN | B39: 1011774 | D39: ANTIBES | E39: 6 | F39: 6600 | G39: 947 AV JULES GREC
A40: SAFRAX - LOGIMARCHE | B40: 1015675 | C40: BRICOMARCHE | D40: AOSTE | E40: 38 | F40: 38490 | G40: 43 RUE DE LA CHAPELIERE
A41: ACOCE BRICOMARCHE | B41: 1013985 | C41: BRICOMARCHE | D41: AOUSTE SUR SYE | E41: 26 | F41: 26400 | G41: CD93 QUARTIER MI VOIE
A42: SCA CEREALES DU SUD VAUCLUSE | B42: 1005566 | C42: Sans enseigne | D42: APT | E42: 84 | F42: 84400 | G42: 1062 QUARTIER LANCON
A43: CAILLOL DE PONCY | B43: 1003547 | D43: APT | E43: 84 | F43: 84400 | G43: 18 QUAI DU GENERAL LECLERC
A44: SARL MEJEAN DISTRIBUTION | B44: 100681000 | C44: Sans enseigne | D44: APT | E44: 84 | F44: 84400 | G44: 1062 AVENUE DE LANCON
A45: LES SERRES DU SALEVE | B45: 1029297 | C45: BOTANIC | D45: ARCHAMPS | E45: 74 | F45: 74166 | G45: PARC D AFFAIRE INTERNATIONAL
A46: DOMAGRI | B46: 63010002 | C46: Sans enseigne | D46: ARLANC | E46: 63 | F46: 63220 | G46: ROUTE NATIONALE
A47: BENOIT MATERIELS AGRICOLES | B47: 13004001 | C47: RURAL EXPERT | D47: ARLES | E47: 13 | F47: 13200 | G47: MAS COTTIN
A48: DISTRIMON | B48: 1046784 | C48: MR BRICOLAGE | D48: ARLES | E48: 13 | F48: 13200 | G48: AV DES ARCHES FOURCHON
A49: ANIMALIS | B49: 13005001 | C49: ANIMALIS | D49: AUBAGNE | E49: 13 | F49: 13400 | G49: CENTRE COMMERCIAL AUCHAN
A50: JARDINERIE LA MAIN VERTE SARL TIRAN | B50: 100884007 | C50: Sans enseigne | D50: AUBAGNE | E50: 13 | F50: 13400 | G50: CHEMIN DE GALLEGUES
A51: PEPINIERE CANADA | B51: 100884006 | C51: Sans enseigne | D51: AUBAGNE | E51: 13 | F51: 13400 | G51: L AUMONE CD2
A52: TRUFFAUT AUBAGNE-050AUB | B52: 1028580 | C52: TRUFFAUT | D52: AUBAGNE | E52: 13 | F52: 13400 | G52: RTE DE GEMENOS
A53: AGRI FALLEN | B53: 1012231 | C53: Sans enseigne | D53: AUBAGNE CEDEX | E53: 13 | F53: 13671 | G53: QUARTIER DE L AVELANEDE
A54: SCAG CANTON D AUBAGNE | B54: 13248000 | C54: Sans enseigne | D54: AUBAGNE CEDEX | E54: 13 | F54: 13671 | G54: QUARTIER DE L AVELANEDE
A55: NATURA PRO | B55: 7019001 | C55: GAMM VERT | D55: AUBENAS | E55: 7 | F55: 7200 | G55: PRÉ ST ANTOINE
... A59: BIOTOPE | B59: 1003545 | C59: Sans enseigne | D59: AVIGNON | E59: 84 | F59: 84000 | G59: 5 RTE DE LYON
A60: LISAPL SARL | B60: 1008266 | D60: AVIGNON CEDEX 1 | E60: 84 | F60: 84025 | G60: 92 RUE JOSEPH VERNET
A61: JUSTINESY SA | B61: 1024316 | D61: AVIGNON CEDEX 3 | E61: 84 | F61: 84034 | G61: ZI FONTCOUVERTE
A62: COOP DE BRESSE VEYLE | B62: 1025001 | C62: Sans enseigne | D62: BAGE LA VILLE | E62: 1 | F62: 1380 | G62: 1235 ROUTE DE MONTREVEL
A63: SOGEMA | B63: 30195000 | D63: BAGNOLS SUR CEZE | E63: 30 | F63: 30260 | G63: 55, AVENUE LEON BLUM
A64: COULANGE PIERRE | B64: 1033703 | C64: Sans enseigne | D64: BAGNOLS SUR CEZE | E64: 30 | F64: 30200 | G64: 10 PLACE DE LA GARE
A65: JARDINERIE JP BAGNOL | B65: 100884009 | C65: Sans enseigne | D65: BAGNOLS SUR CEZE | E65: 30 | F65: 30200 | G65: 1280 ROUTE DE TRESQUES
A66: PROCA - BRICOMARCHE | B66: 100681027 | C66: BRICOMARCHE | D66: BAGNOLS SUR CEZE | E66: 30 | F66: 30200
A67: LISAPL | B67: 30028002 | C67: Sans enseigne | D67: BAGNOLS SUR CEZE | E67: 30 | F67: 30200 | G67: 265 ROUTE D'AVIGNON
A68: MOURE & FILS | B68: 43018001 | C68: KIRIEL | D68: BAINS | E68: 43 | F68: 43370 | G68: ZA
A69: CBA-SICA | B69: 42011001 | C69: COMPTOIR DU VILLAGE | D69: BALBIGNY | E69: 42 | F69: 42510 | G69: RUE DES GLACIÈRES
A70: LISALP | B70: 5012001 | C70: GAMM VERT | D70: BARATIER | E70: 5 | F70: 5200 | G70: LE PETIT LIOU
A71: BEMARLIA - BRICOMARCHE | B71: 100681004 | C71: BRICOMARCHE | D71: BARATIER | E71: 5 | F71: 5200 | G71: RN 94
A72: SOC COOP AGRIC | B72: 1012232 | D72: BARBENTANE | E72: 13 | F72: 13570 | G72: 73 AV BERTHERIGUES
A73: LISALP | B73: 4019001 | C73: Sans enseigne | D73: BARCELONETTE | E73: 4 | F73: 4400
A74: JARDINERIE DU MOULIN | B74: 100884010 | C74: BAOBAB | D74: BARCOLONNETTE | E74: 4 | F74: 4400 | G74: ZONE COMMERCIALE DU PONT LONG
A75: NATURA PRO | B75: 30029001 | C75: COMPTOIR DU VILLAGE | D75: BARJAC | E75: 30 | F75: 30430 | G75: ROUTE D'ALES
A76: LISASUD | B76: 83012001 | C76: COMPTOIR DU VILLAGE | D76: BARJOLS | E76: 83 | F76: 83670 | G76: 618 CHEMIN ST LAZARE
A77: ANIMALIS | B77: 73031001 | C77: ANIMALIS | D77: BASSENS | E77: 73 | F77: 73000 | G77: ZONE COMMERCIALE CARREFOUR BASSENS
A78: LISAPL | B78: 30032001 | C78: ESPACE JARDIN | D78: BEAUCAIRE | E78: 30 | F78: 30300 | G78: 590 RTE DE FOURQUES
A79: SARL LISA VAL D'ALLIER | B79: 3019001 | C79: FRANCE RURALE | D79: BEAULON | E79: 3 | F79: 3230 | G79: LES ALLOUETTES
A80: SARL DES BALMES | B80: 1003591 | D80: BEAUMES DE VENISE | E80: 84 | F80: 84190 | G80: AV JULES FERRY
A81: BOTANIC BEAUMONT | B81: 1001440 | C81: BOTANIC | D81: BEAUMONT | E81: 63 | F81: 63110 | G81: PAE DU CHAMP MADAME
A82: ESD | B82: 38034003 | C82: POLE VERT | D82: BEAUREPAIRE | E82: 38 | F82: 38270 | G82: ZI DES FROMENTAUX
A83: ALPHA | B83: 38034001 | C83: COMPTOIR DU VILLAGE | D83: BEAUREPAIRE | E83: 38 | F83: 38270 | G83: AV LOUIS MICHEL VILLAZ
A84: LISAPL | B84: 84017001 | C84: ESPACE JARDIN | D84: BEDOIN | E84: 84 | F84: 84410 | G84: ROUTE DE CARPENTRAS
A85: LISA DU VAL DE SIOULE | B85: 3022001 | C85: COMPTOIR DU VILLAGE | D85: BELLENAVES | E85: 3 | F85: 3300 | G85: 12 ROUTE DE TAXAT SENAT
A86: JARDIRIVE | B86: 1011672 | C86: BAOBAB | D86: BELLERIVE SUR ALLIER | E86: 3 | F86: 3700 | G86: 3 ALL COLONEL HENRY ROL TANGUY
A87: SUCYBRI SA - BRICOMARCHE | B87: 100678001 | C87: BRICOMARCHE | D87: BELLEVILLE | E87: 69 | F87: 69220 | G87: LIEU DIT LES PRES DE LA CLOCHE
A88: IRIS | B88: 69019001 | C88: GAMM VERT | D88: BELLEVILLE | E88: 69 | F88: 69220 | G88: 9BIS RTE NATIONALE
A89: SOELIS | B89: 1034002 | C89: GAMM VERT | D89: BELLEY | E89: 1 | F89: 1300 | G89: ZAC DE L'OUSSON
A90: SOELIS | B90: 73039001 | C90: GAMM VERT | D90: BELMONT TRAMONET | E90: 73 | F90: 73330 | G90: LE GRAND PRÉ
A91: LOGIMARCHE SAS LOUBEON | B91: 1019046 | C91: BRICOMARCHE | D91: BEON | E91: 1 | F91: 1350 | G91: PARC D'ACTIVITES DES FOURS
A92: LISAPL DE L' EPINE | B92: 13014001 | C92: ESPACE JARDIN | D92: BERRE L'ETANG | E92: 13 | F92: 13130 | G92: AV DE SYNVANES ROUTE DE ST CHAMAS
... A100: JURA MONT BLANC | B100: 74042001 | C100: GAMM VERT | D100: BONNEVILLE | E100: 74 | F100: 74130 | G100: 296 PLACE DE LA GARE
A101: LISAPL | B101: 84020001 | C101: ESPACE JARDIN | D101: BONNIEUX | E101: 84 | F101: 84480
A102: LISASUD | B102: 30047001 | C102: GAMM VERT | D102: BOUILLARGUES | E102: 30 | F102: 30230 | G102: CHEMIN DES CANAUX
A103: SICA BOCAGE BOURBONNAIS | B103: 3036001 | C103: COMPTOIR DU VILLAGE | D103: BOURBON L'ARCHAMBAULT | E103: 3 | F103: 3160 | G103: RUE PIED DE FOURCHE
A104: NATURA PRO | B104: 42023001 | C104: GAMM VERT | D104: BOURG ARGENTAL | E104: 42 | F104: 42220 | G104: ZA DES RIVETS
A105: ALPHA | B105: 38052001 | C105: COMPTOIR DU VILLAGE | D105: BOURG D OISANS | E105: 38 | F105: 38520 | G105: ZI DU FOND DES ROCHES
A106: BREQUIN - BRICOMARCHE | B106: 100882002 | C106: BRICOMARCHE | D106: BOURG DE THIZY | E106: 69 | F106: 69240 | G106: LE BOIS BROCHET - ROUTE DE ROANNE
A107: AGRI SUD EST | B107: 69025001 | C107: COMPTOIR DU VILLAGE | D107: BOURG DE THIZY | E107: 69 | F107: 69240 | G107: LE BOIS BROCHET
A108: COOP DES 3 REGIONS | B108: 1053002 | C108: GAMM VERT | D108: BOURG EN BRESSE | E108: 1 | F108: 1000 | G108: 4 AV DU CHAMP DE FOIRE
A109: SARL JARD DE BROU - VILLAVERD | B109: 1053003 | C109: VILLAVERDE | D109: BOURG EN BRESSE | E109: 1 | F109: 1100 | G109: BOULEVARD DE LA BROU
A110: SA MATRION - VILLAVERDE | B110: 26058001 | C110: VILLAVERDE | D110: BOURG LES VALENCE | E110: 26 | F110: 26500 | G110: ALLEE DES SAPINS
A111: ETS BORNAND | B111: 73054001 | C111: FRANCE RURALE | D111: BOURG ST MAURICE | E111: 73 | F111: 73700 | G111: 29 AV DE LA HAUTE TARENTAISE
A112: DROGSPORT ARPIN | B112: 1002247 | D112: BOURG ST MAURICE | E112: 73 | F112: 73700 | G112: 201 GRANDE RUE
A113: DECATHLON | B113: 1030191 | C113: DECATHLON | D113: BOURGOIN JALLIEU | E113: 38 | F113: 38300 | G113: 8 RUE EDOUARD BRANLY
A114: ALPHA | B114: 38053001 | C114: GAMM VERT | D114: BOURGOIN JALLIEU | E114: 38 | F114: 38300 | G114: 15 AV HENRI BARBUSSE
...

Sheet BASE CENTRALES
A1: ENSEIGNE | B1: CENTRALE | C1: CIRCUIT
A2: JARDILAND | B2: JARDILAND | C2: JARDINERIES
A3: L'ESPRIT JARDILAND | B3: JARDILAND | C3: JARDINERIES
A4: TRUFFAUT | B4: TRUFFAUT | C4: JARDINERIES
A5: ANIMALIS | B5: TRUFFAUT | C5: JARDINERIES
A6: BRICO LECLERC | B6: GALEC | C6: JARDINERIES
A7: BRICO JARDI LECLERC | B7: GALEC | C7: JARDINERIES
A8: BRICO BATI JARDI LECLERC | B8: GALEC | C8: JARDINERIES
A9: JARDINA | B9: AUTRES | C9: DIVERS
A10: AMIS VERTS | B10: AUTRES | C10: DIVERS
A11: BAOBAB | B11: SEVEA | C11: JARDINERIES
A12: VILLAVERDE | B12: SEVEA | C12: JARDINERIES
... A36: VIVE LE JARDIN | B36: JARDILAND | C36: JARDINERIES

Sheet BASE CDS PAR DPT AU 17012013
A1: DPT | B1: CDS | C1: CVR
A2: 1 | B2: A. BELAUD | C2: J. BARANGER
A3: 2 | B3: P. MASSON | C3: B. THEVENOT
A4: 3 | B4: D. COTTIN | C4: J. BARANGER
A5: 4 | B5: M. MELLET | C5: J. BARANGER
A6: 5 | B6: M. MELLET | C6: J. BARANGER
A7: 6 | B7: M. MELLET | C7: J. BARANGER
A8: 7 | B8: D. COTTIN | C8: J. BARANGER
A9: 8 | B9: P. MASSON | C9: B. THEVENOT
A10: 9 | B10: C. VARSI | C10: E. MENTION
A11: 10 | B11: G. BEHAEGHEL | C11: B. THEVENOT
A12: 11 | B12: C. VARSI | C12: E. MENTION
A13: 12 | B13: E. BURDIN | C13: E. MENTION
... A94: 93 | B94: E. FEILLET | C94: B. THEVENOT
A95: LUX | B95: P. MASSON | C95: B. THEVENOT

Sheet TCD SUIVI OBJECTIFS
A2: VILLE | B2: (Tous)
A3: ENSEIGNE | B3: (Tous)
A4: CDS | B4: (Tous)
A6: Étiquettes de lignes | B6: TOTAL CA FY2013 | C6: TOTAL CA FY2014 | D6: TOTAL OBJ FY2014
A7: AUTRES | B7: 424188 | C7: 116552.79 | D7: 456514
A8: INEDIS | B8: 68459 | C8: 19460.56 | D8: 83540
A9: TRUFFAUT | B9: 30627 | C9: 8385 | D9: 33380
A10: JARDILAND | B10: 26669 | C10: 13780.45 | D10: 56650
A11: BRICOMARCHE | B11: 7068 | C11: 1997.95 | D11: 15600
A12: SEVEA | B12: 6485 | C12: 1476.81 | D12: 14330
A13: SAEE | B13: 4017 | C13: 358 | D13: 1600
A14: COTE NATURE | B14: 2572 | C14: 757.84 | D14: 3050
A15: MR BRICOLAGE | B15: 2349 | C15: 527 | D15: 800
A16: GALEC | B16: 1145 | C16: 1450 | D16: 1700
A17: NALOD'S | B17: 1031 | C17: 19 | D17: 700
A18: (vide) | B18: 924 | C18: 600 | D18: 600
... A25: Total général | B25: 576033 | C25: 165365.4 | D25: 668464

Sheet CA BASSE-COUR FY2013 30122013
A1: Code du client : | B1: Cumulé | C1: Cumulé - 1 | D1: Nom du client : | E1: CP : | F1: Ville :
A2: 1012238 | B2: 457.16 | C2: 82.56 | D2: EURL LA CIOTADIENNE | E2: 13600 | F2: LA CIOTAT
A3: 1015596 | C3: 148.01 | D3: ETS GAUTHIER | E3: 38790 | F3: CHARANTONNAY
A4: 1003476 | B4: 1222.26 | C4: 705.56 | D4: JARDICA | E4: 83260 | F4: LA CRAU
A5: 1012303 | B5: 1447.28 | C5: 1107.07 | D5: TRUFFAUT CABRIES-045CAB | E5: 13480 | F5: CABRIES
A6: 1013985 | C6: 686.59 | D6: ACOCE BRICOMARCHE | E6: 26400 | F6: AOUSTE SUR SYE
A7: 1019098 | B7: 279.6 | C7: 487.42 | D7: EURL VIGNOLIS | E7: 26111 | F7: NYONS CEDEX
A8: 1002305 | B8: 118.25 | D8: ETS BALLY | E8: 74500 | F8: EVIAN LES BAINS
A9: 1014444 | B9: 1712.52 | C9: 1381.29 | D9: TRUFFAUT NIMES-036NIM | E9: 30900 | F9: NIMES
A10: 1011746 | B10: 128.76 | D10: ALP AGRI | E10: 5300 | F10: LARAGNE
A11: 1011749 | B11: 1130.96 | C11: 1150.2 | D11: ELISA | E11: 5000 | F11: GAP
A12: 1011758 | B12: 317.25 | C12: 154.62 | D12: LMA | E12: 5100 | F12: BRIANCON
A13: 1011774 | B13: 473.14 | C13: 383.04 | D13: CTRE EURO MEDITERRANEEN | E13: 6600 | F13: ANTIBES
A14: 1011780 | B14: 238.49 | C14: 244.88 | D14: SCA DU MENTONNAIS | E14: 6380 | F14: SOSPEL
A15: 1011781 | B15: 1994.93 | C15: 1076.13 | D15: VALSIAGNE | E15: 6580 | F15: PEGOMAS
A16: 1011796 | B16: 337.8 | C16: 297.93 | D16: COOP AGRI 2000 | E16: 6140 | F16: VENCE
A17: 1013952 | B17: 228.27 | D17: TERROIRS ET JARDINS | E17: 26600 | F17: TAIN L HERMITAGE
A18: 1011634 | C18: 84.67 | D18: VILLAVERDE | E18: 3000 | F18: MOULINS
A19: 1006343 | B19: 1352.89 | C19: 813.02 | D19: CMA-CTRE MEDITERRANEEN DE | E19: 6510 | F19: CARROS
A20: 1003522 | B20: 301.6 | D20: ARCAGRI EURL | E20: 83460 | F20: LES ARCS SUR ARGENS
A21: 1003547 | B21: 103.13 | C21: 468.34 | D21: CAILLOL DE PONCY | E21: 84400 | F21: APT
A22: 1003548 | B22: 502.48 | D22: MEJEAN DISTRIBUTION | E22: 84250 | F22: LE THOR
A23: 1003562 | C23: 1057.67 | D23: LIGABUE PATRICK | E23: 84300 | F23: CAVAILLON
A24: 1003580 | B24: 418.64 | C24: 86 | D24: MAGASIN AGRIC DE COUSTELLET | E24: 84660 | F24: MAUBEC
A25: 1003491 | B25: 240.45 | D25: EURL LES ILAIRES | E25: 83980 | F25: LE LAVANDOU
A26: 1003586 | B26: 295.92 | C26: 117.29 | D26: LES JARDINS DE L UNION SARL | E26: 84210 | F26: PERNES LES FONTAINES
A27: 1022693 | B27: 334.71 | D27: PROMODOG | E27: 84210 | F27: PERNES LES FONTAINES
A28: 1024315 | B28: 431.28 | C28: 1006.68 | D28: AMBIANCE AU JARDIN | E28: 84160 | F28: CADENET
A29: 1029988 | B29: 140.34 | D29: COTE NATURE | E29: 69760 | F29: LIMONEST
A30: 1024257 | B30: 289.42 | C30: 307.14 | D30: ETS VILLAVERDE | E30: 69530 | F30: BRIGNAIS
A31: 1003505 | B31: 1017.1 | C31: 287.56 | D31: ESPACE JARDINERIE DU PAYS | E31: 83440 | F31: CALLIAN
A32: 1003475 | B32: 152.33 | C32: 276.48 | D32: SOPAVAR | E32: 83140 | F32: SIX FOURS LES PLAGES
A33: 1024260 | B33: 279.34 | C33: 1544.89 | D33: JARDI ISTRES | E33: 13800 | F33: ISTRES
A34: 1032667 | B34: 268.76 | D34: COTE NATURE CRAPONNE | E34: 69290 | F34: CRAPONNE
A35: 1031652 | C35: 305.83 | D35: GAUJAX | E35: 38160 | F35: ST SAUVEUR
A36: 1031448 | B36: 287.84 | D36: JARDILAND | E36: 1440 | F36: VIRIAT
A37: 1033885 | B37: 297.24 | D37: DANEVE SA | E37: 73800 | F37: MONTMELIAN
A38: 1033183 | C38: 413.85 | D38: BRICOMARCHE | E38: 3600 | F38: MALICORNE
A39: 1032103 | B39: 345.76 | C39: 410.35 | D39: JARDILAND LEMPDES | E39: 63370 | F39: LEMPDES
A40: 1006084 | B40: 337.23 | C40: 322.15 | D40: JARDINERIE BROIZAT | E40: 69760 | F40: ST BONNET DE MURE
A41: 1035645 | C41: 640.84 | D41: PREJOUX | E41: 1800 | F41: MEXIMIEUX
A42: 1007963 | B42: 810.44 | C42: 339.73 | D42: JARDI SALON | E42: 13450 | F42: GRANS
A43: 1034031 | B43: 533.66 | C43: 367.37 | D43: JARDILAND ORANGE | E43: 84100 | F43: ORANGE
A44: 1032164 | B44: 329.09 | D44: JARDI FREJUS SNC | E44: 83600 | F44: FREJUS
A45: 1034059 | B45: 314.48 | D45: PELLUAZ | E45: 42800 | F45: RIVE DE GIER
A46: 1046565 | B46: 685.23 | D46: SOPHIVO | E46: 38670 | F46: CHASSE SUR RHONE
A47: 1028555 | B47: 1372.33 | D47: JARDINEREY CARRIER | E47: 83600 | F47: FREJUS
A48: 1015643 | C48: 341.99 | D48: JARDINERIE BARATIER DENIS | E48: 38590 | F48: ST ETIENNE DE ST GEOIRS
A49: 1034683 | B49: 882.6 | C49: 1116.44 | D49: RAPIERE | E49: 84300 | F49: CAVAILLON
A50: 1028496 | B50: 260.94 | D50: JARDI CARRE DE SOIE | E50: 69120 | F50: VAULX EN VELIN
A51: 1031608 | B51: 459.37 | D51: JARDI NIMES SARL | E51: 30000 | F51: NIMES
A52: 1011817 | B52: 1056.31 | D52: CENTRE AGRIC GARELLI RICCI | E52: 6200 | F52: NICE
A53: 1031584 | B53: 328.37 | D53: JARDILAND | E53: 26200 | F53: MONTELIMAR
A54: 1010428 | B54: 1283.96 | D54: JEAN REY PEPINIERES | E54: 83250 | F54: LA LONDE LES MAURES
A55: 1028580 | B55: 387.94 | C55: 367.5 | D55: TRUFFAUT AUBAGNE-050AUB | E55: 13400 | F55: AUBAGNE
A56: 1001929 | B56: 347.46 | D56: LES JARDINS DU VAL D AZERGUES | E56: 69380 | F56: LOZANNE
A57: 1034160 | C57: 366.18 | D57: ANIMAL NUTRITION PROVENCE | E57: 13370 | F57: MALLEMORT
A58: 1036491 | B58: 283.26 | D58: DOLVAL | E58: 84600 | F58: VALREAS
A59: 1030972 | B59: 453.34 | D59: JARDI AVIGNON SNC | E59: 84140 | F59: MONTFAVET
A60: 1031151 | B60: 292.48 | C60: 402.46 | D60: LAGON SAS | E60: 38870 | F60: ST SIMEON DE BRISSIEUX
A61: 1011060 | B61: 713.14 | D61: GREEN SAS | E61: 1600 | F61: REYRIEUX
A62: 1047223 | B62: 367.18 | D62: DEBERJAC | E62: 13160 | F62: CHATEAURENARD
A63: TOTAL | B63: 28644.71 | C63: 19349.73

Sheet CA MYRIAD FY2013 301220
A1: Code du client : | B1: Cumulé | C1: Nom du client : | D1: CP : | E1: Ville :
A2: 1030082 | B2: 1622.93 | C2: ETS ASTIER IMBERT | D2: 63600 | E2: AMBERT
A3: 1022694 | B3: 683.28 | C3: PH 06 | D3: 6600 | E3: ANTIBES
A4: 1011774 | B4: 3723.92 | C4: CTRE EURO MEDITERRANEEN | D4: 6600 | E4: ANTIBES
A5: 1005566 | B5: 0 | C5: SCA CEREALES DU SUD VAUCLUSE | D5: 84400 | E5: APT
A6: 1014478 | B6: 0 | C6: ESCUDIER CHRISTIAN | D6: 30390 | E6: ARAMON
A7: 1003591 | B7: 800.38 | C7: SARL DES BALMES | D7: 84190 | E7: BEAUMES DE VENISE
A8: 1022708 | B8: 0 | C8: LA CENTRALE ANIMAL COMPAGNY | D8: 83170 | E8: BRIGNOLLES
A9: 1024315 | B9: 0 | C9: AMBIANCE AU JARDIN | D9: 84160 | E9: CADENET
A10: 1003505 | B10: 4204.04 | C10: ESPACE JARDINERIE DU PAYS | D10: 83440 | E10: CALLIAN
A11: 1006343 | B11: 7005.94 | C11: CMA-CTRE MEDITERRANEEN DE | D11: 6510 | E11: CARROS
A12: 1015596 | B12: 0 | C12: ETS GAUTHIER | D12: 38790 | E12: CHARANTONNAY
A13: 1034162 | B13: 0 | C13: AMBIANCE JARDIN | D13: 26400 | E13: CREST
... A44: 1011796 | B44: 5614.15 | C44: COOP AGRI 2000 | D44: 6140 | E44: VENCE
A45: 1014461 | C45: AGRI JARDIN | D45: 30400 | E45: VILLENEUVE LES AVIGNON
A46: TOTAL | B46: =SUM(B2:B45) -> 75962.49

Sheet CA PET FY2013 HORS MDD 30122013
A1: Code du client : | B1: Cumulé | C1: Cumulé - 1 | D1: CP : | E1: Ville : | F1: Nom du client :
A2: 1019098 | B2: 13775.31 | C2: 10897.98 | D2: 26111 | E2: NYONS CEDEX | F2: EURL VIGNOLIS
A3: 1011749 | B3: 2844.73 | C3: 5672.45 | D3: 5000 | E3: GAP | F3: ELISA
A4: 1011780 | B4: 4321.65 | C4: 7017.07 | D4: 6380 | E4: SOSPEL | F4: SCA DU MENTONNAIS
A5: 1011781 | B5: 1969.23 | C5: 1482.69 | D5: 6580 | E5: PEGOMAS | F5: VALSIAGNE
A6: 1011796 | B6: 3596.23 | C6: 4527.79 | D6: 6140 | E6: VENCE | F6: COOP AGRI 2000
A7: 1008615 | B7: 10280.75 | C7: 6999.54 | D7: 3300 | E7: CUSSET | F7: ETS MORLAT
A8: 1013952 | B8: 805.88 | D8: 26600 | E8: TAIN L HERMITAGE | F8: TERROIRS ET JARDINS
A9: 1011612 | B9: 2412.84 | C9: 811.25 | D9: 3130 | E9: LE DONJON | F9: COOP AGRIC DE
A10: 1006343 | C10: 575.28 | D10: 6510 | E10: CARROS | F10: CMA-CTRE MEDITERRANEEN DE
A11: 1003548 | B11: 1826.43 | C11: 3433.27 | D11: 84250 | E11: LE THOR | F11: MEJEAN DISTRIBUTION
A12: 1003580 | B12: 6177.29 | C12: 8371.89 | D12: 84660 | E12: MAUBEC | F12: MAGASIN AGRIC DE COUSTELLET
A13: 1016005 | B13: 2461.95 | C13: 3579.32 | D13: 43330 | E13: PONT SALOMON | F13: REVE DE CHIEN DISTRIBUTION
A14: 1015677 | B14: 1505.61 | C14: 2126.96 | D14: 38690 | E14: BIOL | F14: COCHARD PERE ET FILS
A15: 1003505 | B15: 14543.28 | C15: 12990.17 | D15: 83440 | E15: CALLIAN | F15: ESPACE JARDINERIE DU PAYS
A16: 1024260 | B16: 3157 | D16: 13800 | E16: ISTRES | F16: JARDI ISTRES
A17: 1035320 | C17: 1145.16 | D17: 83340 | E17: LE LUC | F17: SODILUC
A18: 1007963 | B18: 686.2 | D18: 13450 | E18: GRANS | F18: JARDI SALON
A19: 1032108 | B19: 632.58 | D19: 43230 | E19: SALZUIT | F19: LOU JARDI
A20: 1015643 | C20: 537.16 | D20: 38590 | E20: ST ETIENNE DE ST GEOIRS | F20: JARDINERIE BARATIER DENIS
A21: 1028496 | B21: 2310.45 | D21: 69120 | E21: VAULX EN VELIN | F21: JARDI CARRE DE SOIE
A22: 1031585 | B22: 552.96 | D22: 69360 | E22: SOLAIZE | F22: LES HAUTS DE SOLAIZE
A23: 1039480 | B23: 758.85 | D23: 73500 | E23: FRENEY | F23: LES JARDINS DU THABOR
A24: 1024317 | B24: 509.44 | D24: 84260 | E24: SARRIANS | F24: AGRI JARDIN FLEURS
A25: 1047223 | B25: 592.05 | D25: 13160 | E25: CHATEAURENARD | F25: DEBERJAC

Sheet CA BIOTOP FY2013
A1: Code du client : | B1: Cumulé | C1: Cumulé - 1 | D1: Nom du client : | E1: CP : | F1: Ville :
A2: 1012303 | B2: 2472.75 | C2: 2437.02 | D2: TRUFFAUT CABRIES-045CAB | E2: 13480 | F2: CABRIES
A3: 1014444 | B3: 6778.26 | C3: 5920.74 | D3: TRUFFAUT NIMES-036NIM | E3: 30900 | F3: NIMES
A4: 1011774 | B4: 4307.29 | C4: 5210.5 | D4: CTRE EURO MEDITERRANEEN | E4: 6600 | F4: ANTIBES
A5: 1011781 | B5: 3483.29 | C5: 1898.64 | D5: VALSIAGNE | E5: 6580 | F5: PEGOMAS
A6: 1011796 | B6: 2959.2 | C6: 2146.14 | D6: COOP AGRI 2000 | E6: 6140 | F6: VENCE
A7: 1006343 | C7: 115.2 | D7: CMA-CTRE MEDITERRANEEN DE | E7: 6510 | F7: CARROS
A8: 1003586 | B8: 281.7 | D8: LES JARDINS DE L UNION SARL | E8: 84210 | F8: PERNES LES FONTAINES
A9: 1024315 | C9: 144 | D9: AMBIANCE AU JARDIN | E9: 84160 | F9: CADENET
A10: 1014478 | C10: 384 | D10: ESCUDIER CHRISTIAN | E10: 30390 | F10: ARAMON
A11: 1003505 | B11: 3663.63 | C11: 1521.09 | D11: ESPACE JARDINERIE DU PAYS | E11: 83440 | F11: CALLIAN
A12: 1024037 | B12: 1415.7 | C12: 596.7 | D12: HMC | E12: 13380 | F12: PLAN DE CUQUES
A13: 1035624 | C13: 256 | D13: JEEM | E13: 30840 | F13: HEYNES
A14: 1008861 | C14: 117.9 | D14: PASSION JARDIN | E14: 13160 | F14: CHATEAURENARD
A15: 1007963 | C15: 132.3 | D15: JARDI SALON | E15: 13450 | F15: GRANS
A16: 1034031 | B16: 111.69 | D16: JARDILAND ORANGE | E16: 84100 | F16: ORANGE
A17: 1008207 | C17: 626.04 | D17: JARDINERIE DU LEMAN SAS | E17: 74200 | F17: ANTHY SUR LEMAN
A18: 1018977 | B18: 329.58 | C18: 681.3 | D18: JARDINERIE ROCCHIETTA | E18: 13590 | F18: MEYREUIL
A19: 1046571 | B19: 1450.65 | D19: IN & OUT SARL | E19: 42160 | F19: ANDREZIEUX BOUTHEON
A20: 1034411 | B20: 177.47 | D20: JARDINERIE GRINCARD | E20: 30700 | F20: UZES
A21: 1007970 | C21: 162 | D21: LES JARDINS DE MORZINE | E21: 74110 | F21: MORZINE
A22: 1029870 | B22: 802.35 | C22: 1299.78 | D22: MIRAHBEL | E22: 30250 | F22: AUJARGUES
A23: 1028580 | B23: 985.05 | C23: 5724.9 | D23: TRUFFAUT AUBAGNE-050AUB | E23: 13400 | F23: AUBAGNE
A24: 1003607 | C24: 1190.7 | D24: TRUFFAUT AVIGNON/SORGUES-056AVN | E24: 84700 | F24: SORGUES
A25: 1003509 | B25: 557.4 | C25: 1346.4 | D25: TARAMASCO | E25: 83190 | F25: OLLIOULES
A26: 1021329 | B26: 2143.38 | C26: 507.6 | D26: JARDINERIE DE ST JEAN | E26: 13600 | F26: LA CIOTAT
A27: 1022575 | B27: 1395.09 | C27: 918 | D27: TROPIC PLANTES | E27: 30820 | F27: CAVEIRAC
A28: 1028702 | C28: 119.52 | D28: LE JARDIN DES LAVANDIERES | E28: 31270 | F28: VILLENEUVE TOLOSANE
B29: TOTAL | C29: 33314.48 | D29: 33456.47

Sheet CA INSECTICIDES FY2013 30122013
A1: Code du client : | B1: Cumulé | C1: Cumulé - 1 | D1: CP : | E1: Ville : | F1: Nom du client :
A2: 1011774 | B2: 1314.94 | C2: 343.59 | D2: 6600 | E2: ANTIBES | F2: CTRE EURO MEDITERRANEEN
A3: 1003505 | B3: 370.44 | C3: 341.06 | D3: 83440 | E3: CALLIAN | F3: ESPACE JARDINERIE DU PAYS
A4: 1006343 | B4: 714.59 | D4: 6510 | E4: CARROS | F4: CMA-CTRE MEDITERRANEEN DE
A5: 1034162 | B5: 17.42 | D5: 26400 | E5: CREST | F5: AMBIANCE JARDIN
A6: 1011749 | B6: 212.07 | C6: 626.37 | D6: 5000 | E6: GAP | F6: ELISA
A7: 1012238 | B7: 282.02 | C7: 473.68 | D7: 13600 | E7: LA CIOTAT | F7: EURL LA CIOTADIENNE
A8: 1003476 | B8: 757.03 | C8: 819.93 | D8: 83260 | E8: LA CRAU | F8: JARDICA
A9: 1003548 | B9: 336.94 | D9: 84250 | E9: LE THOR | F9: MEJEAN DISTRIBUTION
A10: 1019181 | B10: 554.69 | D10: 63190 | E10: LEZOUX | F10: JARDI VERT
A11: 1003580 | B11: 989.91 | C11: 871.12 | D11: 84660 | E11: MAUBEC | F11: MAGASIN AGRIC DE COUSTELLET
A12: 1019098 | B12: 430.27 | C12: 291.06 | D12: 26111 | E12: NYONS CEDEX | F12: EURL VIGNOLIS
A13: 1011781 | B13: 1274.21 | C13: 88.56 | D13: 6580 | E13: PEGOMAS | F13: VALSIAGNE
A14: 1029606 | B14: 649.08 | D14: 63290 | E14: PUY GUILLAUME | F14: JARDIVERT AGRI
A15: 1003475 | B15: 925.03 | C15: 1017.39 | D15: 83140 | E15: SIX FOURS LES PLAGES | F15: SOPAVAR
A16: 1011780 | B16: 148.7 | C16: 123.63 | D16: 6380 | E16: SOSPEL | F16: SCA DU MENTONNAIS
A17: 1023946 | B17: 755.14 | D17: 84290 | E17: STE CECILE LES VIGNES | F17: EURL VIGNE ET JARDIN
A18: 1013952 | B18: -34.84 | D18: 26600 | E18: TAIN L HERMITAGE | F18: TERROIRS ET JARDINS
A19: 1011805 | B19: 657.56 | D19: 6220 | E19: VALLAURIS | F19: SARL NEROLIUM
A20: 1014461 | C20: 499.08 | D20: 30400 | E20: VILLENEUVE LES AVIGNON | F20: AGRI JARDIN
A21: TOTAL | B21: 10355.2 | C21: 5495.47

Sheet CA ANIM RENTE FY2013 30122013
A1: Code du client : | B1: Cumulé | C1: Cumulé - 1 | D1: Nom du client : | E1: CP : | F1: Ville :
A2: 1012238 | B2: 7.89 | C2: -7.6 | D2: EURL LA CIOTADIENNE | E2: 13600 | F2: LA CIOTAT
A3: 1015596 | C3: 195.35 | D3: ETS GAUTHIER | E3: 38790 | F3: CHARANTONNAY
A4: 1002247 | B4: 1435.57 | C4: 1094.98 | D4: DROGSPORT ARPIN | E4: 73700 | F4: BOURG ST MAURICE
A5: 1013985 | B5: -18.86 | D5: ACOCE BRICOMARCHE | E5: 26400 | F5: AOUSTE SUR SYE
A6: 1019098 | B6: 267.75 | C6: 408.88 | D6: EURL VIGNOLIS | E6: 26111 | F6: NYONS CEDEX
A7: 1002305 | B7: 623.76 | D7: ETS BALLY | E7: 74500 | F7: EVIAN LES BAINS
A8: 1014444 | C8: 98.13 | D8: TRUFFAUT NIMES-036NIM | E8: 30900 | F8: NIMES
A9: 1000576 | B9: 472.16 | D9: SCA CANTON DE LUZY ET ENVIRONS | E9: 58170 | F9: LUZY
A10: 1011746 | B10: 902.99 | D10: ALP AGRI | E10: 5300 | F10: LARAGNE
A11: 1011749 | B11: 1467.84 | C11: 1655.2 | D11: ELISA | E11: 5000 | F11: GAP
A12: 1011758 | B12: 96.57 | C12: 495.62 | D12: LMA | E12: 5100 | F12: BRIANCON
A13: 1011780 | B13: 90.82 | C13: 372.36 | D13: SCA DU MENTONNAIS | E13: 6380 | F13: SOSPEL
A14: 1011781 | B14: 23.81 | D14: VALSIAGNE | E14: 6580 | F14: PEGOMAS
A15: 1011796 | B15: 80.82 | C15: 65.57 | D15: COOP AGRI 2000 | E15: 6140 | F15: VENCE
A16: 1006343 | B16: 16.85 | C16: 74.86 | D16: CMA-CTRE MEDITERRANEEN DE | E16: 6510 | F16: CARROS
A17: 1003547 | B17: 1668.04 | C17: 1468.3 | D17: CAILLOL DE PONCY | E17: 84400 | F17: APT
A18: 1001415 | C18: 223.07 | D18: SARL VIGNERESSE | E18: 63620 | F18: GIAT
A19: 1029988 | B19: 11.51 | D19: COTE NATURE | E19: 69760 | F19: LIMONEST
A20: 1024260 | B20: 158.5 | C20: 4.75 | D20: JARDI ISTRES | E20: 13800 | F20: ISTRES
A21: 1032103 | C21: 109.64 | D21: JARDILAND LEMPDES | E21: 63370 | F21: LEMPDES
A22: 1007963 | B22: 14.76 | D22: JARDI SALON | E22: 13450 | F22: GRANS
A23: 1034031 | B23: 86.62 | C23: 86.62 | D23: JARDILAND ORANGE | E23: 84100 | F23: ORANGE
A24: 1036518 | B24: -69.07 | D24: JARDI ANSE | E24: 69480 | F24: ANSE
A25: 1028555 | B25: 180.02 | D25: JARDINEREY CARRIER | E25: 83600 | F25: FREJUS
A26: 1034683 | B26: 53.36 | C26: 69.05 | D26: RAPIERE | E26: 84300 | F26: CAVAILLON
A27: 1028496 | B27: 86.62 | D27: JARDI CARRE DE SOIE | E27: 69120 | F27: VAULX EN VELIN
A28: 1031608 | B28: 11.51 | D28: JARDI NIMES SARL | E28: 30000 | F28: NIMES
A29: 1011817 | B29: 49.33 | D29: CENTRE AGRIC GARELLI RICCI | E29: 6200 | F29: NICE
A30: 1031584 | B30: 23.66 | D30: JARDILAND | E30: 26200 | F30: MONTELIMAR
A31: 1010428 | B31: 177.04 | D31: JEAN REY PEPINIERES | E31: 83250 | F31: LA LONDE LES MAURES
A32: 1001929 | B32: 4.93 | D32: LES JARDINS DU VAL D AZERGUES | E32: 69380 | F32: LOZANNE
A33: 1030972 | B33: 121.15 | D33: JARDI AVIGNON SNC | E33: 84140 | F33: MONTFAVET
A34: TOTAL | B34: 8045.95 | C34: 6414.78
B50: 7125.34 | C50: 19058.89 | D50: TOTAL

Sheet CA HYGIENE FY2013 30122013
A1: Code du client : | B1: Cumulé | C1: Cumulé - 1 | D1: Nom du client : | E1: CP : | F1: Ville :
A2: 1046850 | B2: 777.86 | C2: 0 | D2: COMBRONDE DISTRI | E2: 63300 | F2: THIERS
A3: 1034162 | D3: AMBIANCE JARDIN | E3: 26400 | F3: CREST
A4: 1028285 | D4: LA MAIOUN DEI JARDINIE | E4: 6360 | F4: EZE
A5: 1027627 | B5: 623.01 | C5: 729.53 | D5: BOIRON PM | E5: 7200 | F5: ST PRIVAT
A6: 1023946 | B6: 1981.4 | C6: 611.92 | D6: EURL VIGNE ET JARDIN | E6: 84290 | F6: STE CECILE LES VIGNES
A7: 1019098 | B7: 4124.38 | C7: 4323.3 | D7: EURL VIGNOLIS | E7: 26111 | F7: NYONS CEDEX
A8: 1013952 | B8: 2138.03 | C8: 1261.6 | D8: TERROIRS ET JARDINS | E8: 26600 | F8: TAIN L HERMITAGE
A9: 1012238 | B9: 2385.46 | C9: 1913.08 | D9: EURL LA CIOTADIENNE | E9: 13600 | F9: LA CIOTAT
A10: 1011805 | D10: SARL NEROLIUM | E10: 6220 | F10: VALLAURIS
A11: 1011796 | B11: 7340.64 | C11: 6895.6 | D11: COOP AGRI 2000 | E11: 6140 | F11: VENCE
A12: 1011781 | B12: 5564.47 | C12: 4262.01 | D12: VALSIAGNE | E12: 6580 | F12: PEGOMAS
A13: 1011780 | B13: 2376.33 | C13: 1989.78 | D13: SCA DU MENTONNAIS | E13: 6380 | F13: SOSPEL
A14: 1011774 | B14: 3957.8 | C14: 2659.08 | D14: CTRE EURO MEDITERRANEEN | E14: 6600 | F14: ANTIBES
A15: 1011749 | B15: 1801.01 | C15: 1110.84 | D15: ELISA | E15: 5000 | F15: GAP
A16: 1011595 | B16: 795.74 | C16: 719 | D16: SOC PRODAGRICOLE | E16: 3110 | F16: CHARMEIL
A17: 1009030 | D17: JARDINERIE PONTIER ET FILS | E17: 7380 | F17: PRADES
A18: 1008615 | B18: 466.42 | C18: 0 | D18: ETS MORLAT | E18: 3300 | F18: CUSSET
A19: 1003591 | D19: SARL DES BALMES | E19: 84190 | F19: BEAUMES DE VENISE
A20: 1003586 | D20: LES JARDINS DE L UNION SARL | E20: 84210 | F20: PERNES LES FONTAINES
A21: 1003580 | B21: 3163.8 | C21: 1986.93 | D21: MAGASIN AGRIC DE COUSTELLET | E21: 84660 | F21: MAUBEC
A22: 1003548 | B22: 1279.57 | C22: 1113.54 | D22: MEJEAN DISTRIBUTION | E22: 84250 | F22: LE THOR
A23: 1003522 | D23: ARCAGRI EURL | E23: 83460 | F23: LES ARCS SUR ARGENS
A24: 1003505 | D24: ESPACE JARDINERIE DU PAYS | E24: 83440 | F24: CALLIAN
A25: 1003491 | D25: EURL LES ILAIRES | E25: 83980 | F25: LE LAVANDOU
A26: 1003476 | B26: 6863.89 | C26: 5040.58 | D26: JARDICA | E26: 83260 | F26: LA CRAU
A27: 1003475 | D27: SOPAVAR | E27: 83140 | F27: SIX FOURS LES PLAGES
A28: 1002305 | B28: 3012.11 | C28: 2582.63 | D28: ETS BALLY | E28: 74500 | F28: EVIAN LES BAINS
A29: 1001874 | B29: 1090.13 | C29: 1496.99 | D29: SARL JARDINS ROCHEFORT | E29: 69850 | F29: ST MARTIN EN HAUT
A30: 1001431 | D30: COMBRONDE AGRI | E30: 63300 | F30: THIERS
A31: 1001415 | B31: 1001.1 | C31: 3473.01 | D31: SARL VIGNERESSE | E31: 63620 | F31: GIAT
