Workbook
Name A: #REF!
Name A: #REF!
Name A9899699: #REF!
Name AA99999999: #REF!
Name AA9999999999999999999999999: #REF!

Sheet Menu
B2: SUIVI INDIVIDUALISE DE L’ELEVE | J2: =#REF! -> #REF!

Sheet Suivi TP
A1: =#REF! -> #REF! | G1: =#REF! -> #REF! | CT1: =#REF! -> #REF! | LZ1: =#REF! -> #REF!
E2: Synthèse | F2: tp | G2: Thème 0: Ce que je dois retenir | U2: =#REF! -> #REF! | Z2: =#REF! -> #REF! | AJ2: =#REF! -> #REF! | AO2: =#REF! -> #REF! | AU2: =#REF! -> #REF! | AZ2: =#REF! -> #REF! | BF2: =#REF! -> #REF! | BQ2: =#REF! -> #REF! | BU2: =#REF! -> #REF! | BY2: =#REF! -> #REF! | CH2: =#REF! -> #REF! | CO2: =#REF! -> #REF! | CT2: =#REF! -> #REF! | DX2: =#REF! -> #REF! | FB2: =#REF! -> #REF! | GF2: =#REF! -> #REF! | HJ2: =#REF! -> #REF! | IN2: =#REF! -> #REF! | JR2: =#REF! -> #REF! | KV2: =#REF! -> #REF! | LZ2: =#REF! -> #REF! | ND2: =#REF! -> #REF! | OH2: =#REF! -> #REF! | PL2: =#REF! -> #REF! | QP2: =#REF! -> #REF! | RT2: =#REF! -> #REF! | SX2: =#REF! -> #REF! | UB2: =#REF! -> #REF!
CT3: =#REF! -> #REF! | DX3: =#REF! -> #REF! | FB3: =#REF! -> #REF! | GF3: =#REF! -> #REF! | HJ3: =#REF! -> #REF! | IN3: =#REF! -> #REF! | JR3: =#REF! -> #REF! | KV3: =#REF! -> #REF! | LZ3: =#REF! -> #REF! | ND3: =#REF! -> #REF! | OH3: =#REF! -> #REF! | PL3: =#REF! -> #REF! | QP3: =#REF! -> #REF! | RT3: =#REF! -> #REF! | SX3: =#REF! -> #REF! | UB3: =#REF! -> #REF!
A4: =administratif!A3 -> groupe seconde | B4: =administratif!B3 -> groupe première | C4: =administratif!C3 -> groupe terminal | U4: =#REF! -> #REF! | V4: =#REF! -> #REF! | W4: =#REF! -> #REF! | X4: =#REF! -> #REF! | Y4: =#REF! -> #REF! | Z4: =#REF! -> #REF! | AA4: =#REF! -> #REF! | AB4: =#REF! -> #REF! | ... VE4: =#REF! -> #REF!
A5: =administratif!A4 -> gr1 | B5: =administratif!B4 -> 0 | C5: =administratif!C4 -> 0 | D5: =administratif!F4 -> 0 | E5: =COUNTIF(G5:VE5,"S") -> 0 | F5: =COUNTIF(G5:VE5,"F") + COUNTIF(G5:VE5,"n") + COUNTIF(G5:VE5,"C") -> 8 | AX5: n | BC5: n | BE5: n | BF5: n | BG5: n | BH5: n | BI5: n | BJ5: n
A6: =administratif!A5 -> gr1 | B6: =administratif!B5 -> 0 | C6: =administratif!C5 -> 0 | D6: =administratif!F5 -> 0 | E6: =COUNTIF(G6:VE6,"S") -> 0 | F6: =COUNTIF(G6:VE6,"F") + COUNTIF(G6:VE6,"n") + COUNTIF(G6:VE6,"C") -> 3 | BE6: f | BF6: n | BG6: n
A7: =administratif!A6 -> gr1 | B7: =administratif!B6 -> 0 | C7: =administratif!C6 -> 0 | D7: =administratif!F6 -> 0 | E7: =COUNTIF(G7:VE7,"S") -> 0 | F7: =COUNTIF(G7:VE7,"F") + COUNTIF(G7:VE7,"n") + COUNTIF(G7:VE7,"C") -> 7 | AY7: f | AZ7: n | BE7: n | BF7: n | BG7: n | BH7: n | BI7: n
A8: =administratif!A7 -> gr1 | B8: =administratif!B7 -> 0 | C8: =administratif!C7 -> 0 | D8: =administratif!F7 -> 0 | E8: =COUNTIF(G8:VE8,"S") -> 0 | F8: =COUNTIF(G8:VE8,"F") + COUNTIF(G8:VE8,"n") + COUNTIF(G8:VE8,"C") -> 3 | BE8: n | BF8: n | BG8: n
A9: =administratif!A8 -> gr1 | B9: =administratif!B8 -> 0 | C9: =administratif!C8 -> 0 | D9: =administratif!F8 -> 0 | E9: =COUNTIF(G9:VE9,"S") -> 0 | F9: =COUNTIF(G9:VE9,"F") + COUNTIF(G9:VE9,"n") + COUNTIF(G9:VE9,"C") -> 8 | AX9: n | BC9: n | BE9: n | BF9: n | BG9: n | BH9: n | BI9: n | BJ9: n
A10: =administratif!A9 -> gr1 | B10: =administratif!B9 -> 0 | C10: =administratif!C9 -> 0 | D10: =administratif!F9 -> 0 | E10: =COUNTIF(G10:VE10,"S") -> 0 | F10: =COUNTIF(G10:VE10,"F") + COUNTIF(G10:VE10,"n") + COUNTIF(G10:VE10,"C") -> 7 | AY10: n | AZ10: n | BE10: n | BF10: n | BG10: n | BH10: n | BI10: n
A11: =administratif!A10 -> gr1 | B11: =administratif!B10 -> 0 | C11: =administratif!C10 -> 0 | D11: =administratif!F10 -> 0 | E11: =COUNTIF(G11:VE11,"S") -> 0 | F11: =COUNTIF(G11:VE11,"F") + COUNTIF(G11:VE11,"n") + COUNTIF(G11:VE11,"C") -> 8 | AW11: n | AY11: f | AZ11: n | BE11: n | BF11: n | BG11: n | BH11: n | BI11: n
A12: =administratif!A11 -> gr1 | B12: =administratif!B11 -> 0 | C12: =administratif!C11 -> 0 | D12: =administratif!F11 -> 0 | E12: =COUNTIF(G12:VE12,"S") -> 0 | F12: =COUNTIF(G12:VE12,"F") + COUNTIF(G12:VE12,"n") + COUNTIF(G12:VE12,"C") -> 8 | AU12: n | AY12: n | AZ12: n | BE12: n | BF12: n | BG12: n | BH12: n | BI12: n
A13: =administratif!A12 -> gr1 | B13: =administratif!B12 -> 0 | C13: =administratif!C12 -> 0 | D13: =administratif!F12 -> 0 | E13: =COUNTIF(G13:VE13,"S") -> 0 | F13: =COUNTIF(G13:VE13,"F") + COUNTIF(G13:VE13,"n") + COUNTIF(G13:VE13,"C") -> 5 | BC13: n | BF13: n | BG13: n | BH13: n | BI13: n
A14: =administratif!A13 -> gr1 | B14: =administratif!B13 -> 0 | C14: =administratif!C13 -> 0 | D14: =administratif!F13 -> 0 | E14: =COUNTIF(G14:VE14,"S") -> 0 | F14: =COUNTIF(G14:VE14,"F") + COUNTIF(G14:VE14,"n") + COUNTIF(G14:VE14,"C") -> 8 | AV14: f | BB14: n | BC14: n | BE14: n | BF14: n | BG14: n | BH14: n | BI14: n
A15: =administratif!A14 -> gr2 | B15: =administratif!B14 -> 0 | C15: =administratif!C14 -> 0 | D15: =administratif!F14 -> 0 | E15: =COUNTIF(G15:VE15,"S") -> 0 | F15: =COUNTIF(G15:VE15,"F") + COUNTIF(G15:VE15,"n") + COUNTIF(G15:VE15,"C") -> 4 | BE15: f | BF15: n | BG15: n | BI15: f
A16: =administratif!A15 -> gr2 | B16: =administratif!B15 -> 0 | C16: =administratif!C15 -> 0 | D16: =administratif!F15 -> 0 | E16: =COUNTIF(G16:VE16,"S") -> 0 | F16: =COUNTIF(G16:VE16,"F") + COUNTIF(G16:VE16,"n") + COUNTIF(G16:VE16,"C") -> 3 | BE16: f | BF16: n | BG16: n
A17: =administratif!A16 -> gr2 | B17: =administratif!B16 -> 0 | C17: =administratif!C16 -> 0 | D17: =administratif!F16 -> 0 | E17: =COUNTIF(G17:VE17,"S") -> 0 | F17: =COUNTIF(G17:VE17,"F") + COUNTIF(G17:VE17,"n") + COUNTIF(G17:VE17,"C") -> 3 | BE17: f | BF17: n | BG17: n
A18: =administratif!A17 -> gr2 | B18: =administratif!B17 -> 0 | C18: =administratif!C17 -> 0 | D18: =administratif!F17 -> 0 | E18: =COUNTIF(G18:VE18,"S") -> 0 | F18: =COUNTIF(G18:VE18,"F") + COUNTIF(G18:VE18,"n") + COUNTIF(G18:VE18,"C") -> 9 | AU18: n | AW18: n | AY18: f | AZ18: n | BE18: n | BF18: n | BG18: n | BH18: n | BI18: n
A19: =administratif!A18 -> gr2 | B19: =administratif!B18 -> 0 | C19: =administratif!C18 -> 0 | D19: =administratif!F18 -> 0 | E19: =COUNTIF(G19:VE19,"S") -> 0 | F19: =COUNTIF(G19:VE19,"F") + COUNTIF(G19:VE19,"n") + COUNTIF(G19:VE19,"C") -> 3 | BE19: f | BF19: n | BG19: n
A20: =administratif!A19 -> gr2 | B20: =administratif!B19 -> 0 | C20: =administratif!C19 -> 0 | D20: =administratif!F19 -> 0 | E20: =COUNTIF(G20:VE20,"S") -> 0 | F20: =COUNTIF(G20:VE20,"F") + COUNTIF(G20:VE20,"n") + COUNTIF(G20:VE20,"C") -> 3 | BE20: f | BF20: n | BG20: n
A21: =administratif!A20 -> gr2 | B21: =administratif!B20 -> 0 | C21: =administratif!C20 -> 0 | D21: =administratif!F20 -> 0 | E21: =COUNTIF(G21:VE21,"S") -> 0 | F21: =COUNTIF(G21:VE21,"F") + COUNTIF(G21:VE21,"n") + COUNTIF(G21:VE21,"C") -> 3 | BE21: f | BF21: n | BG21: n
A22: =administratif!A21 -> gr2 | B22: =administratif!B21 -> 0 | C22: =administratif!C21 -> 0 | D22: =administratif!F21 -> 0 | E22: =COUNTIF(G22:VE22,"S") -> 0 | F22: =COUNTIF(G22:VE22,"F") + COUNTIF(G22:VE22,"n") + COUNTIF(G22:VE22,"C") -> 0
A23: =administratif!A22 -> 0 | B23: =administratif!B22 -> 0 | C23: =administratif!C22 -> 0 | D23: =administratif!F22 | E23: =COUNTIF(G23:VE23,"S") -> 0 | F23: =COUNTIF(G23:VE23,"F") + COUNTIF(G23:VE23,"n") + COUNTIF(G23:VE23,"C") -> 0
A24: =administratif!A23 -> 0 | B24: =administratif!B23 -> 0 | C24: =administratif!C23 -> 0 | D24: =administratif!F23 | E24: =COUNTIF(G24:VE24,"S") -> 0 | F24: =COUNTIF(G24:VE24,"F") + COUNTIF(G24:VE24,"n") + COUNTIF(G24:VE24,"C") -> 0
A25: =administratif!A24 -> 0 | B25: =administratif!B24 -> 0 | C25: =administratif!C24 -> 0 | D25: =administratif!F24 | E25: =COUNTIF(G25:VE25,"S") -> 0 | F25: =COUNTIF(G25:VE25,"F") + COUNTIF(G25:VE25,"n") + COUNTIF(G25:VE25,"C") -> 0
A26: =administratif!A25 -> 0 | B26: =administratif!B25 -> 0 | C26: =administratif!C25 -> 0 | D26: =administratif!F25 | E26: =COUNTIF(G26:VE26,"S") -> 0 | F26: =COUNTIF(G26:VE26,"F") + COUNTIF(G26:VE26,"n") + COUNTIF(G26:VE26,"C") -> 0
A27: =administratif!A26 -> 0 | B27: =administratif!B26 -> 0 | C27: =administratif!C26 -> 0 | D27: =administratif!F26 | E27: =COUNTIF(G27:VE27,"S") -> 0 | F27: =COUNTIF(G27:VE27,"F") + COUNTIF(G27:VE27,"n") + COUNTIF(G27:VE27,"C") -> 0
A28: =administratif!A27 -> 0 | B28: =administratif!B27 -> 0 | C28: =administratif!C27 -> 0 | D28: =administratif!F27 | E28: =COUNTIF(G28:VE28,"S") -> 0 | F28: =COUNTIF(G28:VE28,"F") + COUNTIF(G28:VE28,"n") + COUNTIF(G28:VE28,"C") -> 0
U30: C | V30: TP commencé | AE30: NE | AF30: Activité facultative non effectué par l'élève
U31: F | V31: TP fini | AE31: A | AF31: absent
U32: N | V32: TP noté | AE32: S | AF32: Synthèse effectué
D46: ce

Sheet plan de formation
A1: =#REF! -> #REF!
F2: Seconde | BG2: Première | DG2: Terminal
F3: 2018 | X3: =F3+1 -> 2019 | BY3: =X3+1 -> 2020 | DX3: =BY3+1 -> 2021
F4: SEPTEMBRE | K4: OCTOBRE | O4: NOVEMBRE | S4: DÉCEMBRE | X4: JANVIER | AB4: FÉVRIER | AF4: MARS | AK4: AVRIL | AO4: MAI | AS4: JUIN | AX4: JUILLET | BB4: AOUT | BG4: SEPTEMBRE | BL4: OCTOBRE | BP4: NOVEMBRE | BT4: DÉCEMBRE | BY4: JANVIER | CC4: FÉVRIER | CG4: MARS | CL4: AVRIL | CP4: MAI | CT4: JUIN | CX4: JUILLET | DB4: AOUT | DG4: SEPTEMBRE | DK4: OCTOBRE | DO4: NOVEMBRE | DT4: DECEMBRE | DX4: JANVIER | EC4: FEVRIER | EG4: MARS | EK4: AVRIL | EO4: MAI | ET4: JUIN | EX4: JUILLET | FB4: Aout | FK4: VACANCE
F5: 35 | G5: 36 | H5: 37 | I5: 38 | J5: 39 | K5: 40 | L5: 41 | M5: 42 | N5: 43 | O5: 44 | P5: 45 | Q5: 46 | R5: 47 | S5: 48 | T5: 49 | U5: 50 | V5: 51 | W5: 52 | X5: 1 | Y5: 2 | Z5: 3 | AA5: 4 | AB5: 5 | AC5: 6 | AD5: 7 | AE5: 8 | AF5: 9 | AG5: 10 | AH5: 11 | AI5: 12 | AJ5: 13 | AK5: 14 | AL5: 15 | AM5: 16 | AN5: 17 | AO5: 18 | AP5: 19 | AQ5: 20 | AR5: 21 | AS5: 22 | AT5: 23 | AU5: 24 | AV5: 25 | AW5: 26 | AX5: 27 | AY5: 28 | AZ5: 29 | BA5: 30 | BB5: 31 | BC5: 32 | BD5: 33 | BE5: 34 | BF5: 35 | BG5: 36 | BH5: 37 | BI5: 38 | BJ5: 39 | BK5: 40 | BL5: 41 | BM5: 42 | BN5: 43 | BO5: 44 | BP5: 45 | BQ5: 46 | BR5: 47 | BS5: 48 | BT5: 49 | BU5: 50 | BV5: 51 | BW5: 52 | BX5: 1 | BY5: 2 | BZ5: 3 | CA5: 4 | CB5: 5 | CC5: 6 | CD5: 7 | CE5: 8 | CF5: 9 | CG5: 10 | CH5: 11 | CI5: 12 | CJ5: 13 | CK5: 14 | CL5: 15 | CM5: 16 | CN5: 17 | CO5: 18 | CP5: 19 | CQ5: 20 | CR5: 21 | CS5: 22 | CT5: 23 | CU5: 24 | CV5: 25 | CW5: 26 | CX5: 27 | CY5: 28 | CZ5: 29 | DA5: 30 | DB5: 31 | DC5: 32 | DD5: 33 | DE5: 34 | DF5: 35 | DG5: 36 | DH5: 37 | DI5: 38 | DJ5: 39 | DK5: 40 | DL5: 41 | DM5: 42 | DN5: 43 | DO5: 44 | DP5: 45 | DQ5: 46 | DR5: 47 | DS5: 48 | DT5: 49 | DU5: 50 | DV5: 51 | DW5: 52 | DX5: 1 | DY5: 2 | DZ5: 3 | EA5: 4 | EB5: 5 | EC5: 6 | ED5: 7 | EE5: 8 | EF5: 9 | EG5: 10 | EH5: 11 | EI5: 12 | EJ5: 13 | EK5: 14 | EL5: 15 | EM5: 16 | EN5: 17 | EO5: 18 | EP5: 19 | EQ5: 20 | ER5: 21 | ES5: 22 | ET5: 23 | EU5: 24 | EV5: 25 | EW5: 26 | EX5: 27 | EY5: 28 | EZ5: 29 | FA5: 30 | FB5: 31 | FC5: 32 | FD5: 33 | FE5: 34 | FF5: 35
A6: TRANSPOSE(Liste Tp!G1:AAX5) | FK6: PFMP
FK8: JURY
A246: Première
A486: Terminal

Sheet administratif
A3: groupe seconde | B3: groupe première | C3: groupe terminal | D3: NOMS | E3: PRENOM
A4: gr1
A5: gr1
A6: gr1
A7: gr1
A8: gr1
A9: gr1
A10: gr1
A11: gr1
A12: gr1
A13: gr1
A14: gr2
A15: gr2
... A21: gr2
F22: =CONCATENATE(D22, " ", E22)
F23: =CONCATENATE(D23, " ", E23)
F24: =CONCATENATE(D24, " ", E24)
F25: =CONCATENATE(D25, " ", E25)
F26: =CONCATENATE(D26, " ", E26)
F27: =CONCATENATE(D27, " ", E27)
