Workbook

Sheet PRÉSENCE
A1: ÉTAT DE PRÉSENCE AG 2013 - CR FFME HAUTE-NORMANDIE - AG DU 28/09/2013
A3: STRUCTURE | B3: ETAT | C3: EFFECTIF | D3: REPAS | E3: QUI | I3: PART FIXE CR | J3: PAYÉE
A4: ALLAEB | B4: 2 | C4: 1 | D4: 1 | E4: Vincent Perruchet, (Solène Nedellec) | I4: 300 | J4: 0
A5: ASRUC SECTION MONT. ESC. | B5: 0 | C5: 1 | D5: 1 | E5: Jonathan Remoussin | I5: 300 | J5: 0
A6: BOLBEC ESCALADE CLUB | B6: 2 | C6: 2 | D6: 2 | E6: Anne Chabannier, Philippe Gueroult | I6: 300 | J6: 0
A7: CAF EVREUX COMPETITION | B7: 0 | C7: 0 | D7: 0 | I7: 300 | J7: 0
A8: CAF LE HAVRE COMPETITION | B8: 0 | C8: 0 | D8: 0 | I8: 300 | J8: 0
A9: CAF ROUEN COMPETITION | B9: 0 | C9: 0 | D9: 0 | I9: 300 | J9: 0
A10: CIEL | B10: 2 | C10: 2 | D10: 2 | E10: Bertrand David, Philippe Beguin | I10: 300 | J10: 0
A11: CIMES | B11: 2 | C11: 1 | D11: 1 | E11: ? | I11: 300 | J11: 0
A12: CLUB ESCALADE D'ALIZAY | B12: 2 | C12: 3 | D12: 3 | E12: Alain Cosneau, | I12: 300 | J12: 0
A13: ESCALAD'AND CAUX | B13: 2 | C13: 1 | D13: 1 | E13: Véronique Bocquel, (Patrice Lemoine) | I13: 300 | J13: 0
A14: ESCALAD'EURE | B14: 2 | C14: 3 | D14: 3 | E14: Yves Chardon, Michel Lacroix, Stéphane Durel | I14: 300 | J14: 0
A15: ESCALADAMVILLE | B15: 2 | C15: 1 | D15: 1 | E15: Benjamin Dauplet | I15: 300 | J15: 0
A16: FORGESCALADE | B16: 2 | C16: 1 | D16: 0 | E16: David Caillot | I16: 300 | J16: 0
A17: GRIMP & CAUX | B17: 2 | C17: 0 | D17: 0 | I17: 300 | J17: 0
A18: GRIMP'EURE | B18: 2 | C18: 3 | D18: 3 | E18: Daniel Gouyette, Guillaume Hourde, Cécile Clairet | I18: 300 | J18: 0
A19: LES CLOTIERS | B19: 0 | C19: 0 | D19: 0 | I19: 300 | J19: 0
A20: LES SEIGNEURS DES CIMES | B20: 2 | C20: 1 | D20: 0 | E20: David Baranes | I20: 300 | J20: 0
A21: MJC VERNEUIL SECTION ESC. | B21: 0 | C21: 0 | D21: 0 | I21: 300 | J21: 0
A22: ROC ET VOL | B22: 2 | C22: 2 | D22: 2 | E22: Céline Behlouli, Noëlle Claus | I22: 300 | J22: 0
A23: ROUMOIS EVASION VERTICALE | B23: 1 | C23: 0 | D23: 0 | I23: 300 | J23: 0
A24: SPID'EURE CLUB | B24: 1 | C24: 0 | D24: 0 | I24: 300 | J24: 0
A25: TETE EN L'AIR | B25: 2 | C25: 2 | D25: 0 | E25: Florent Albouy, Jérome Bouyssy | I25: 300 | J25: 0
A26: VERTIC'ALBÂTRE | B26: 2 | C26: 2 | D26: 2 | E26: Damien Chaumillon, Laure Luthaud | I26: 300 | J26: 0
A27: VERTICAL CITÉ | B27: 1 | C27: 0 | D27: 0 | I27: 300 | J27: 0
A28: VERTICAL EUDOIS | B28: 2 | C28: 1 | D28: 1 | E28: Valérie Dejeux (+procuration Grimp& Caux) | I28: 300 | J28: 0
I29: =SUM(I4:I28) -> 7500 | J29: =SUM(J4:J28) -> 0
A30: BUREAU et CA | B30: ETAT | C30: EFFECTIF | D30: REPAS | E30: QUI
A31: PRÉSIDENT | B31: 2 | C31: 1 | D31: 1 | E31: Thomas Filoque | I31: RESTE À PERCEVOIR
A32: TRESORIER | B32: 2 | C32: 1 | D32: 1 | E32: Frederique Haté | I32: =I29-J29 -> 7500
A33: SECRÉTAIRE GÉNÉRAL | B33: 0 | C33: 0 | D33: 0
A34: TRESORIER ADJOINT | B34: 0 | C34: 0 | D34: 0
A35: COMMISSION FORM. | B35: 2 | C35: 2 | D35: 2 | E35: Sabine Steenstrup, Cédric Fairand
A36: COMMISSION COMP. | B36: 2 | C36: 2 | D36: 2 | E36: Chloé Saint-Martin, Patrice Lemoine
A37: COMMISSION COM° | B37: 2 | C37: 1 | D37: 1 | E37: Solène Nedellec
A38: COMMISSION SITES et EQ. | B38: 2 | C38: 2 | D38: 2 | E38: François Maillard, Patty Maillard, Benjamin Dauplet
A40: CADRE ET SALARIÉ | B40: ETAT | C40: EFFECTIF | D40: REPAS | E40: QUI
A41: Sylvain Rauch | B41: 2 | C41: 1 | D41: 1
A43: AUTRE | B43: ETAT | C43: EFFECTIF | D43: REPAS | E43: QUI
A44: CD76 | B44: 1 | C44: 0 | D44: 0
A45: TOTAUX | C45: =SUM(C4:C44) -> 37 | D45: =SUM(D4:D44) -> 33
B52: 0 | C52: 1 | D52: 1 | E52: 2
B53: ABSENTS | C53: EXCUSÉS | D53: EXCUSÉS | E53: PRÉSENTS
E54: =SUM(C4:C44) -> 37

Sheet VOTE
A1: PROCÉDURE DE VOTE AG 2013 - CR FFME HAUTE-NORMANDIE - AG DU 28/09/2013
E3: VOTE
A4: STRUCTURE | B4: ACCÈS AU VOTE | C4: LICENCIÉS AU 31/08/2013 | D4: NOMBRE DE VOIX | E4: AG Extr. MAJ Statuts CR | H4: Rapport moral 2013 | K4: Rapport financier 2013 | N4: Budget prévisiionnel 2013-2014 | Q4: Plan d'évolution cotisation CR | T4: Commission FRDAMS | W4: Representant AG FFME 2014
E5: POUR | F5: CONTRE | G5: ABSTENTION | H5: POUR | I5: CONTRE | J5: ABSTENTION | K5: POUR | L5: CONTRE | M5: ABSTENTION | N5: POUR | O5: CONTRE | P5: ABSTENTION | Q5: POUR | R5: CONTRE | S5: ABSTENTION | T5: POUR | U5: CONTRE | V5: ABSTENTION | W5: POUR | X5: CONTRE | Y5: ABSTENTION
A6: ALLAEB | B6: =PRÉSENCE!B4 -> 2 | C6: 100 | D6: 7 | E6: 0 | F6: 0 | G6: 0 | H6: 0 | I6: 0 | J6: 0 | K6: 0 | L6: 0 | M6: 0 | N6: 0 | O6: 0 | P6: 0 | Q6: 0 | R6: 0 | S6: 0 | T6: 0 | U6: 0 | V6: 0 | W6: 0 | X6: 0 | Y6: 0
A7: ASRUC SECTION MONT. ESC. | B7: =PRÉSENCE!B5 -> 0 | C7: 70 | D7: 5 | E7: 0 | F7: 0 | G7: 0 | H7: 0 | I7: 0 | J7: 0 | K7: 0 | L7: 0 | M7: 0 | N7: 0 | O7: 0 | P7: 0 | Q7: 0 | R7: 0 | S7: 0 | T7: 0 | U7: 0 | V7: 0 | W7: 0 | X7: 0 | Y7: 0
A8: BOLBEC ESCALADE CLUB | B8: =PRÉSENCE!B6 -> 2 | C8: 76 | D8: 5 | E8: 0 | F8: 0 | G8: 0 | H8: 0 | I8: 0 | J8: 0 | K8: 0 | L8: 0 | M8: 0 | N8: 0 | O8: 0 | P8: 0 | Q8: 0 | R8: 0 | S8: 0 | T8: 0 | U8: 0 | V8: 0 | W8: 0 | X8: 0 | Y8: 0
A9: CAF EVREUX COMPETITION | B9: =PRÉSENCE!B7 -> 0 | C9: 6 | D9: 0 | E9: 0 | F9: 0 | G9: 0 | H9: 0 | I9: 0 | J9: 0 | K9: 0 | L9: 0 | M9: 0 | N9: 0 | O9: 0 | P9: 0 | Q9: 0 | R9: 0 | S9: 0 | T9: 0 | U9: 0 | V9: 0 | W9: 0 | X9: 0 | Y9: 0
A10: CAF LE HAVRE COMPETITION | B10: =PRÉSENCE!B8 -> 0 | C10: 8 | D10: 0 | E10: 0 | F10: 0 | G10: 0 | H10: 0 | I10: 0 | J10: 0 | K10: 0 | L10: 0 | M10: 0 | N10: 0 | O10: 0 | P10: 0 | Q10: 0 | R10: 0 | S10: 0 | T10: 0 | U10: 0 | V10: 0 | W10: 0 | X10: 0 | Y10: 0
A11: CAF ROUEN COMPETITION | B11: =PRÉSENCE!B9 -> 0 | C11: 20 | D11: 1 | E11: 0 | F11: 0 | G11: 0 | H11: 0 | I11: 0 | J11: 0 | K11: 0 | L11: 0 | M11: 0 | N11: 0 | O11: 0 | P11: 0 | Q11: 0 | R11: 0 | S11: 0 | T11: 0 | U11: 0 | V11: 0 | W11: 0 | X11: 0 | Y11: 0
A12: CIEL | B12: =PRÉSENCE!B10 -> 2 | C12: 96 | D12: 5 | E12: 0 | F12: 0 | G12: 0 | H12: 0 | I12: 0 | J12: 0 | K12: 0 | L12: 0 | M12: 0 | N12: 0 | O12: 0 | P12: 0 | Q12: 0 | R12: 0 | S12: 0 | T12: 0 | U12: 0 | V12: 0 | W12: 0 | X12: 0 | Y12: 0
A13: CIMES | B13: =PRÉSENCE!B11 -> 2 | C13: 126 | D13: 7 | E13: 0 | F13: 0 | G13: 0 | H13: 0 | I13: 0 | J13: 0 | K13: 0 | L13: 0 | M13: 0 | N13: 0 | O13: 0 | P13: 0 | Q13: 0 | R13: 0 | S13: 0 | T13: 0 | U13: 0 | V13: 0 | W13: 0 | X13: 0 | Y13: 0
A14: CLUB ESCALADE D'ALIZAY | B14: =PRÉSENCE!B12 -> 2 | C14: 65 | D14: 5 | E14: 0 | F14: 0 | G14: 0 | H14: 0 | I14: 0 | J14: 0 | K14: 0 | L14: 0 | M14: 0 | N14: 0 | O14: 0 | P14: 0 | Q14: 0 | R14: 0 | S14: 0 | T14: 0 | U14: 0 | V14: 0 | W14: 0 | X14: 0 | Y14: 0
A15: ESCALAD'AND CAUX | B15: =PRÉSENCE!B13 -> 2 | C15: 177 | D15: 7 | E15: 0 | F15: 0 | G15: 0 | H15: 0 | I15: 0 | J15: 0 | K15: 0 | L15: 0 | M15: 0 | N15: 0 | O15: 0 | P15: 0 | Q15: 0 | R15: 0 | S15: 0 | T15: 0 | U15: 0 | V15: 0 | W15: 0 | X15: 0 | Y15: 0
A16: ESCALAD'EURE | B16: =PRÉSENCE!B14 -> 2 | C16: 126 | D16: 7 | E16: 0 | F16: 0 | G16: 0 | H16: 0 | I16: 0 | J16: 0 | K16: 0 | L16: 0 | M16: 0 | N16: 0 | O16: 0 | P16: 0 | Q16: 0 | R16: 0 | S16: 0 | T16: 0 | U16: 0 | V16: 0 | W16: 0 | X16: 0 | Y16: 0
A17: ESCALADAMVILLE | B17: =PRÉSENCE!B15 -> 2 | C17: 54 | D17: 5 | E17: 0 | F17: 0 | G17: 0 | H17: 0 | I17: 0 | J17: 0 | K17: 0 | L17: 0 | M17: 0 | N17: 0 | O17: 0 | P17: 0 | Q17: 0 | R17: 0 | S17: 0 | T17: 0 | U17: 0 | V17: 0 | W17: 0 | X17: 0 | Y17: 0
... A30: VERTICAL EUDOIS | B30: =PRÉSENCE!B28 -> 2 | C30: 95 | D30: 5 | E30: 0 | F30: 0 | G30: 0 | H30: 0 | I30: 0 | J30: 0 | K30: 0 | L30: 0 | M30: 0 | N30: 0 | O30: 0 | P30: 0 | Q30: 0 | R30: 0 | S30: 0 | T30: 0 | U30: 0 | V30: 0 | W30: 0 | X30: 0 | Y30: 0
A31: TOTAUX | E31: =SUM(E6:E30) -> 0 | F31: =SUM(F6:F30) -> 0 | G31: =SUM(G6:G30) -> 0 | H31: =SUM(H6:H30) -> 0 | I31: =SUM(I6:I30) -> 0 | J31: =SUM(J6:J30) -> 0 | K31: =SUM(K6:K30) -> 0 | L31: =SUM(L6:L30) -> 0 | ... Y31: =SUM(Y6:Y30) -> 0
A32: TOTAL VOIX EXPRIMÉES | E32: =SUM(E6:G30) -> 0 | H32: =SUM(H6:J30) -> 0 | K32: =SUM(K6:M30) -> 0 | N32: =SUM(N6:P30) -> 0 | Q32: =SUM(Q6:S30) -> 0 | T32: =SUM(T6:V30) -> 0 | W32: =SUM(W6:Y30) -> 0
A33: RESULTATS
E36: =SUM(E6:G30) -> 0
