Workbook
Name _3T: OFFSET([1]RECAP!$B$9:$B$11,COUNTA([1]RECAP!$B$6:$B$65535)-3,,3,1)
Name MENSUEL: OFFSET([1]RECAP!$A$9:$A$11,COUNTA([1]RECAP!$A$6:$A$65535)-3,,3,1)
Name MOIS: OFFSET([1]RECAP!$A$9:$A$11,COUNTA([1]RECAP!$B$2:$B$65535)-3,,3,1)
Name PERIODE: OFFSET([1]RECAP!$A$2:$A$4,COUNTA([1]RECAP!$A$2:$A$65535)-3,,3,1)
Name PUR_3T: OFFSET([1]RECAP!$B$2,,,COUNTA([1]RECAP!$B:$B)-1)

Sheet TABLEAU
D1: FN CONCATENER | E1: FN Nb cuves | F1: LAVAGE
A2: DATE | B2: PRODUITS | C2: Colonne3 | D2: Colonne1 | E2: #VALEUR! | F2: Colonne2 | G2: Colonne4 | H2: Colonne5 | I2: Colonne6 | J2: Colonne7
A3: 41487.267 | B3: CREME | C3: CF04 | D3: =CONCATENATE(C3," - ",B3) -> CF04 - CREME | E3: =IF(#REF!<=1500,1,IF(#REF!<=3000,2,IF(#REF!<=4500,3,4))) -> #REF! | H3: =CONCATENATE(TABLEAU!#REF!," - ",F3) -> #REF!
A4: 41487.56 | B4: GELS | C4: CF06 | D4: =CONCATENATE(C4," - ",B4) -> CF06 - GELS | E4: =IF(#REF!<=1500,1,IF(#REF!<=3000,2,IF(#REF!<=4500,3,4))) -> #REF! | H4: =CONCATENATE(TABLEAU!$C4," - ",F4) -> CF06 -
A5: 41492.289 | B5: GELS | C5: CF06 | D5: =CONCATENATE(C5," - ",B5) -> CF06 - GELS | E5: =IF(#REF!<=1500,1,IF(#REF!<=3000,2,IF(#REF!<=4500,3,4))) -> #REF! | H5: =CONCATENATE(TABLEAU!$C5," - ",F5) -> CF06 -
A6: 41494.257 | B6: GELS | C6: CF05 | D6: =CONCATENATE(C6," - ",B6) -> CF05 - GELS | E6: =IF(#REF!<=1500,1,IF(#REF!<=3000,2,IF(#REF!<=4500,3,4))) -> #REF! | H6: =CONCATENATE(TABLEAU!$C6," - ",F6) -> CF05 -
A7: 41499.334 | B7: CREME | C7: CF06 | D7: =CONCATENATE(C7," - ",B7) -> CF06 - CREME | E7: =IF(#REF!<=1500,1,IF(#REF!<=3000,2,IF(#REF!<=4500,3,4))) -> #REF! | H7: =CONCATENATE(TABLEAU!$C7," - ",F7) -> CF06 -
A8: 41499.558 | B8: SOLAIRES | C8: CF03 | D8: =CONCATENATE(C8," - ",B8) -> CF03 - SOLAIRES | E8: =IF(#REF!<=1500,1,IF(#REF!<=3000,2,IF(#REF!<=4500,3,4))) -> #REF! | H8: =CONCATENATE(TABLEAU!$C8," - ",F8) -> CF03 -
A9: 41506.29 | B9: CREME 2 | C9: CF06 | D9: =CONCATENATE(C9," - ",B9) -> CF06 - CREME 2 | E9: =IF(#REF!<=1500,1,IF(#REF!<=3000,2,IF(#REF!<=4500,3,4))) -> #REF! | H9: =CONCATENATE(TABLEAU!$C9," - ",F9) -> CF06 -
A10: 41506.562 | B10: CREME 2 | C10: CF03 | D10: =CONCATENATE(C10," - ",B10) -> CF03 - CREME 2 | E10: =IF(#REF!<=1500,1,IF(#REF!<=3000,2,IF(#REF!<=4500,3,4))) -> #REF! | H10: =CONCATENATE(TABLEAU!$C10," - ",F10) -> CF03 -
A11: 41508.29 | B11: CREME 2 | C11: CF04 | D11: =CONCATENATE(C11," - ",B11) -> CF04 - CREME 2 | E11: =IF(#REF!<=1500,1,IF(#REF!<=3000,2,IF(#REF!<=4500,3,4))) -> #REF! | H11: =CONCATENATE(TABLEAU!$C11," - ",F11) -> CF04 -
A12: 41508.356 | B12: SAVON | C12: CF06 | D12: =CONCATENATE(C12," - ",B12) -> CF06 - SAVON | E12: =IF(#REF!<=1500,1,IF(#REF!<=3000,2,IF(#REF!<=4500,3,4))) -> #REF! | H12: =CONCATENATE(TABLEAU!$C12," - ",F12) -> CF06 -
A13: 41509.295 | B13: SAVON | C13: CF06 | D13: =CONCATENATE(C13," - ",B13) -> CF06 - SAVON | E13: =IF(#REF!<=1500,1,IF(#REF!<=3000,2,IF(#REF!<=4500,3,4))) -> #REF! | H13: =CONCATENATE(TABLEAU!$C13," - ",F13) -> CF06 -
A14: 41520 | B14: CREME 2 | C14: CF04 | D14: =CONCATENATE(C14," - ",B14) -> CF04 - CREME 2 | E14: =IF(#REF!<=1500,1,IF(#REF!<=3000,2,IF(#REF!<=4500,3,4))) -> #REF! | H14: =CONCATENATE(TABLEAU!$C14," - ",F14) -> CF04 - | M14: =IF(OR((#REF!="UP3CF04"),(#REF!="UP3CF05")),COUNTA(VLOOKUP(L14,$A$3:$C$1000,6,FALSE)),0) -> #REF!
A15: 41523 | B15: CREME 2 | C15: CF03 | D15: =CONCATENATE(C15," - ",B15) -> CF03 - CREME 2 | E15: =IF(#REF!<=1500,1,IF(#REF!<=3000,2,IF(#REF!<=4500,3,4))) -> #REF! | H15: =CONCATENATE(TABLEAU!$C15," - ",F15) -> CF03 -
A16: 41526 | B16: GELS | C16: CF03 | D16: =CONCATENATE(C16," - ",B16) -> CF03 - GELS | E16: =IF(#REF!<=1500,1,IF(#REF!<=3000,2,IF(#REF!<=4500,3,4))) -> #REF! | H16: =CONCATENATE(TABLEAU!$C16," - ",F16) -> CF03 -
A17: 41528 | B17: GELS | C17: CF05 | D17: =CONCATENATE(C17," - ",B17) -> CF05 - GELS | E17: =IF(#REF!<=1500,1,IF(#REF!<=3000,2,IF(#REF!<=4500,3,4))) -> #REF! | H17: =CONCATENATE(TABLEAU!$C17," - ",F17) -> CF05 -
A18: 41529 | B18: CREME 2 | C18: CF03 | D18: =CONCATENATE(C18," - ",B18) -> CF03 - CREME 2 | E18: =IF(#REF!<=1500,1,IF(#REF!<=3000,2,IF(#REF!<=4500,3,4))) -> #REF! | H18: =CONCATENATE(TABLEAU!$C18," - ",F18) -> CF03 -

Sheet SynthèseCF04CF05
B3: Nb de produits sur CF 04/CF05
A4: Aout | B4: =SUMPRODUCT(OR((TABLEAU!$A$3:$A$1000="CF04"),(TABLEAU!$A$3:$A$1000="CF05")),(MONTH(TABLEAU!A3:A1000)=8)*1) -> #VALUE!
A5: Septembre
