Workbook

Sheet Février
Y1: Repas décalé midi | Z1: repas soir | AA1: prime dimanche et férié | AB1: Prime férié | AC1: Prime deux vacations | AD1: Prime de Nuit Conducteurs | AE1: Heures sup (regroup RPAY+HDEP | AF1: Heure sans majoration | AG1: Heures supp à 25 % | AH1: Supplémentaire à 200 % | AI1: Repos compensateur | AJ1: Visite médicale | AK1: Heures de nuit | AL1: Heures de Nuit à Payer
B2: =Janvier!B2 -> Feuille de temps - Janvier 2024 | C2: =Janvier!C2 -> - | D2: février 2024
B4: =Janvier!B4 -> Nom :
B5: =Janvier!B5 -> Matricule :
B6: =Janvier!B6 -> Temps de travail/jour : | C6: =Janvier!C6 -> 0.31666667 | K6: =Janvier!K6 -> Temps de travail/mois : | O6: =Janvier!O6 -> 6.1805556
B7: =Janvier!B7 -> Temps de travail total : | C7: =SUM(X10:X38) -> 5.4555556 | K7: =Janvier!K7 -> Différence temps de travail : | O7: =C7-O6 -> -0.725
B9: Jour | C9: Service | D9: Ligne | E9: Véhicule | F9: Lieu | G9: Départ | H9: Arrivée | I9: Lieu | J9: Pause | K9: Ligne | L9: Véhicule | M9: Lieu | N9: Départ | O9: Arrivée | P9: Lieu | Q9: Pause | R9: Ligne | S9: Véhicule | T9: Lieu | U9: Départ | V9: Arrivée | W9: Lieu | X9: TTE | Y9: REPM | Z9: REPS | AA9: PDIM | AB9: PFERI | AC9: P2V | AD9: PNUIT | AE9: HSUP | AF9: HSM | AG9: HSU25 | AH9: HS200 | AI9: RC | AJ9: VM | AK9: HNUIT | AL9: HNUIP
B10: 45323 | C10: VX03 | D10: {=IFERROR(INDEX(SC!D:D,MATCH($C10,SC!$C:$C,0)),"")} -> F1 10 | E10: 5501 | F10: {=IFERROR(INDEX(SC!F:F,MATCH($C10,SC!$C:$C,0)),"")} -> Dépôt | G10: {=IFERROR(INDEX(SC!G:G,MATCH($C10,SC!$C:$C,0)),"")} -> 0.27430556 | H10: {=IFERROR(INDEX(SC!H:H,MATCH($C10,SC!$C:$C,0)),"")} -> 0.41180556 | I10: {=IFERROR(INDEX(SC!I:I,MATCH($C10,SC!$C:$C,0)),"")} -> Dépôt | J10: {=IFERROR(INDEX(SC!J:J,MATCH($C10,SC!$C:$C,0)),"")} | K10: {=IFERROR(INDEX(SC!K:K,MATCH($C10,SC!$C:$C,0)),"")} -> F2 08 | L10: 5513 | M10: {=IFERROR(INDEX(SC!M:M,MATCH($C10,SC!$C:$C,0)),"")} -> Dépôt | N10: {=IFERROR(INDEX(SC!N:N,MATCH($C10,SC!$C:$C,0)),"")} -> 0.64861111 | O10: {=IFERROR(INDEX(SC!O:O,MATCH($C10,SC!$C:$C,0)),"")} -> 0.79375 | P10: {=IFERROR(INDEX(SC!P:P,MATCH($C10,SC!$C:$C,0)),"")} -> Dépôt | Q10: {=IFERROR(INDEX(SC!Q:Q,MATCH($C10,SC!$C:$C,0)),"")} | R10: {=IFERROR(INDEX(SC!R:R,MATCH($C10,SC!$C:$C,0)),"")} | T10: {=IFERROR(INDEX(SC!T:T,MATCH($C10,SC!$C:$C,0)),"")} | U10: {=IFERROR(INDEX(SC!U:U,MATCH($C10,SC!$C:$C,0)),"")} | V10: {=IFERROR(INDEX(SC!V:V,MATCH($C10,SC!$C:$C,0)),"")} | W10: {=IFERROR(INDEX(SC!W:W,MATCH($C10,SC!$C:$C,0)),"")} | X10: =V10-U10+Q10+O10-N10+J10+H10-G10 -> 0.28263889 | Z10: =MIN(1,(H10>21.5/24)+(O10>21.5/24)+(V10>21.5/24)) -> 0 | AA10: =IFERROR(IF(AND(OR($H10<>"",$O10<>"",$V10<>""),OR(WEEKDAY($B10,2)=7,$AB10=1)),1,""),"") | AB10: =IFERROR(IF(AND($G10="",$N10="",$U10=""),"",IF(MATCH($B10,'Fériés'!$C$5:$C$16,0)>0,1,"")),"") | AC10: =MIN(1,(N10>H10+2/24)+(U10>O10+2/24)) -> 1 | AD10: =MIN(1,(G10<>"")*(G10<5/24)+(N10<>"")*(N10<5/24)+(U10<>"")*(U10<5/24)+(H10>22/24)+(O10>22/24)+(V10>22/24)) -> 0 | AK10: =abs(24*((G10<>"")*(G10<5/24)*(G10-5/24)+(N10<>"")*(N10<5/24)*(N10-5/24)+(U10<>"")*(U10<5/24)*(U10-5/24)+(H10>22/24)*(H10-22/24)+(O10>22/24)*(O10-22/24)+(V10>22/24)*(V10-22/24))) -> 0
B11: 45324 | C11: SP35 | D11: {=IFERROR(INDEX(SC!D:D,MATCH($C11,SC!$C:$C,0)),"")} -> F1 04 | E11: 5401 | F11: {=IFERROR(INDEX(SC!F:F,MATCH($C11,SC!$C:$C,0)),"")} -> Champ | G11: {=IFERROR(INDEX(SC!G:G,MATCH($C11,SC!$C:$C,0)),"")} -> 0.29375 | H11: {=IFERROR(INDEX(SC!H:H,MATCH($C11,SC!$C:$C,0)),"")} -> 0.46875 | I11: {=IFERROR(INDEX(SC!I:I,MATCH($C11,SC!$C:$C,0)),"")} -> Champ | J11: {=IFERROR(INDEX(SC!J:J,MATCH($C11,SC!$C:$C,0)),"")} | K11: {=IFERROR(INDEX(SC!K:K,MATCH($C11,SC!$C:$C,0)),"")} -> 15 07 | L11: 3119 | M11: {=IFERROR(INDEX(SC!M:M,MATCH($C11,SC!$C:$C,0)),"")} -> Dépôt | N11: {=IFERROR(INDEX(SC!N:N,MATCH($C11,SC!$C:$C,0)),"")} -> 0.65208333 | O11: {=IFERROR(INDEX(SC!O:O,MATCH($C11,SC!$C:$C,0)),"")} -> 0.80972222 | P11: {=IFERROR(INDEX(SC!P:P,MATCH($C11,SC!$C:$C,0)),"")} -> Dépôt | Q11: {=IFERROR(INDEX(SC!Q:Q,MATCH($C11,SC!$C:$C,0)),"")} | R11: {=IFERROR(INDEX(SC!R:R,MATCH($C11,SC!$C:$C,0)),"")} | T11: {=IFERROR(INDEX(SC!T:T,MATCH($C11,SC!$C:$C,0)),"")} | U11: {=IFERROR(INDEX(SC!U:U,MATCH($C11,SC!$C:$C,0)),"")} | V11: {=IFERROR(INDEX(SC!V:V,MATCH($C11,SC!$C:$C,0)),"")} | W11: {=IFERROR(INDEX(SC!W:W,MATCH($C11,SC!$C:$C,0)),"")} | X11: =V11-U11+Q11+O11-N11+J11+H11-G11 -> 0.33263889 | Z11: =MIN(1,(H11>21.5/24)+(O11>21.5/24)+(V11>21.5/24)) -> 0 | AA11: =IFERROR(IF(AND(OR($H11<>"",$O11<>"",$V11<>""),OR(WEEKDAY($B11,2)=7,$AB11=1)),1,""),"") | AB11: =IFERROR(IF(AND($G11="",$N11="",$U11=""),"",IF(MATCH($B11,'Fériés'!$C$5:$C$16,0)>0,1,"")),"") | AC11: =MIN(1,(N11>H11+2/24)+(U11>O11+2/24)) -> 1 | AD11: =MIN(1,(G11<>"")*(G11<5/24)+(N11<>"")*(N11<5/24)+(U11<>"")*(U11<5/24)+(H11>22/24)+(O11>22/24)+(V11>22/24)) -> 0 | AK11: =abs(24*((G11<>"")*(G11<5/24)*(G11-5/24)+(N11<>"")*(N11<5/24)*(N11-5/24)+(U11<>"")*(U11<5/24)*(U11-5/24)+(H11>22/24)*(H11-22/24)+(O11>22/24)*(O11-22/24)+(V11>22/24)*(V11-22/24))) -> 0
B12: 45325 | C12: K05s | D12: {=IFERROR(INDEX(SC!D:D,MATCH($C12,SC!$C:$C,0)),"")} -> F2 03 | E12: 5410 | F12: {=IFERROR(INDEX(SC!F:F,MATCH($C12,SC!$C:$C,0)),"")} -> HVR | G12: {=IFERROR(INDEX(SC!G:G,MATCH($C12,SC!$C:$C,0)),"")} -> 0.48680556 | H12: {=IFERROR(INDEX(SC!H:H,MATCH($C12,SC!$C:$C,0)),"")} -> 0.62430556 | I12: {=IFERROR(INDEX(SC!I:I,MATCH($C12,SC!$C:$C,0)),"")} -> HVR | J12: {=IFERROR(INDEX(SC!J:J,MATCH($C12,SC!$C:$C,0)),"")} -> 0.04375 | K12: {=IFERROR(INDEX(SC!K:K,MATCH($C12,SC!$C:$C,0)),"")} -> F2 09 | L12: 5412 | M12: {=IFERROR(INDEX(SC!M:M,MATCH($C12,SC!$C:$C,0)),"")} -> HVR | N12: {=IFERROR(INDEX(SC!N:N,MATCH($C12,SC!$C:$C,0)),"")} -> 0.66805556 | O12: {=IFERROR(INDEX(SC!O:O,MATCH($C12,SC!$C:$C,0)),"")} -> 0.80833333 | P12: {=IFERROR(INDEX(SC!P:P,MATCH($C12,SC!$C:$C,0)),"")} -> HVR | Q12: {=IFERROR(INDEX(SC!Q:Q,MATCH($C12,SC!$C:$C,0)),"")} | R12: {=IFERROR(INDEX(SC!R:R,MATCH($C12,SC!$C:$C,0)),"")} | T12: {=IFERROR(INDEX(SC!T:T,MATCH($C12,SC!$C:$C,0)),"")} | U12: {=IFERROR(INDEX(SC!U:U,MATCH($C12,SC!$C:$C,0)),"")} | V12: {=IFERROR(INDEX(SC!V:V,MATCH($C12,SC!$C:$C,0)),"")} | W12: {=IFERROR(INDEX(SC!W:W,MATCH($C12,SC!$C:$C,0)),"")} | X12: =V12-U12+Q12+O12-N12+J12+H12-G12 -> 0.32152778 | Y12: 1 | Z12: =MIN(1,(H12>21.5/24)+(O12>21.5/24)+(V12>21.5/24)) -> 0 | AA12: =IFERROR(IF(AND(OR($H12<>"",$O12<>"",$V12<>""),OR(WEEKDAY($B12,2)=7,$AB12=1)),1,""),"") | AB12: =IFERROR(IF(AND($G12="",$N12="",$U12=""),"",IF(MATCH($B12,'Fériés'!$C$5:$C$16,0)>0,1,"")),"") | AC12: =MIN(1,(N12>H12+2/24)+(U12>O12+2/24)) -> 0 | AD12: =MIN(1,(G12<>"")*(G12<5/24)+(N12<>"")*(N12<5/24)+(U12<>"")*(U12<5/24)+(H12>22/24)+(O12>22/24)+(V12>22/24)) -> 0 | AE12: 7.6 | AK12: =abs(24*((G12<>"")*(G12<5/24)*(G12-5/24)+(N12<>"")*(N12<5/24)*(N12-5/24)+(U12<>"")*(U12<5/24)*(U12-5/24)+(H12>22/24)*(H12-22/24)+(O12>22/24)*(O12-22/24)+(V12>22/24)*(V12-22/24))) -> 0
B13: 45326 | D13: {=IFERROR(INDEX(SC!D:D,MATCH($C13,SC!$C:$C,0)),"")} | F13: {=IFERROR(INDEX(SC!F:F,MATCH($C13,SC!$C:$C,0)),"")} | G13: {=IFERROR(INDEX(SC!G:G,MATCH($C13,SC!$C:$C,0)),"")} | H13: {=IFERROR(INDEX(SC!H:H,MATCH($C13,SC!$C:$C,0)),"")} | I13: {=IFERROR(INDEX(SC!I:I,MATCH($C13,SC!$C:$C,0)),"")} | J13: {=IFERROR(INDEX(SC!J:J,MATCH($C13,SC!$C:$C,0)),"")} | K13: {=IFERROR(INDEX(SC!K:K,MATCH($C13,SC!$C:$C,0)),"")} | M13: {=IFERROR(INDEX(SC!M:M,MATCH($C13,SC!$C:$C,0)),"")} | N13: {=IFERROR(INDEX(SC!N:N,MATCH($C13,SC!$C:$C,0)),"")} | O13: {=IFERROR(INDEX(SC!O:O,MATCH($C13,SC!$C:$C,0)),"")} | P13: {=IFERROR(INDEX(SC!P:P,MATCH($C13,SC!$C:$C,0)),"")} | Q13: {=IFERROR(INDEX(SC!Q:Q,MATCH($C13,SC!$C:$C,0)),"")} | R13: {=IFERROR(INDEX(SC!R:R,MATCH($C13,SC!$C:$C,0)),"")} | T13: {=IFERROR(INDEX(SC!T:T,MATCH($C13,SC!$C:$C,0)),"")} | U13: {=IFERROR(INDEX(SC!U:U,MATCH($C13,SC!$C:$C,0)),"")} | V13: {=IFERROR(INDEX(SC!V:V,MATCH($C13,SC!$C:$C,0)),"")} | W13: {=IFERROR(INDEX(SC!W:W,MATCH($C13,SC!$C:$C,0)),"")} | X13: =V13-U13+Q13+O13-N13+J13+H13-G13 -> 0 | Z13: =MIN(1,(H13>21.5/24)+(O13>21.5/24)+(V13>21.5/24)) -> 1 | AA13: =IFERROR(IF(AND(OR($H13<>"",$O13<>"",$V13<>""),OR(WEEKDAY($B13,2)=7,$AB13=1)),1,""),"") | AB13: =IFERROR(IF(AND($G13="",$N13="",$U13=""),"",IF(MATCH($B13,'Fériés'!$C$5:$C$16,0)>0,1,"")),"") | AC13: =MIN(1,(N13>H13+2/24)+(U13>O13+2/24)) -> 1 | AD13: =MIN(1,(G13<>"")*(G13<5/24)+(N13<>"")*(N13<5/24)+(U13<>"")*(U13<5/24)+(H13>22/24)+(O13>22/24)+(V13>22/24)) -> 1 | AK13: =abs(24*((G13<>"")*(G13<5/24)*(G13-5/24)+(N13<>"")*(N13<5/24)*(N13-5/24)+(U13<>"")*(U13<5/24)*(U13-5/24)+(H13>22/24)*(H13-22/24)+(O13>22/24)*(O13-22/24)+(V13>22/24)*(V13-22/24))) -> 66
B14: 45327 | C14: SP218 | D14: {=IFERROR(INDEX(SC!D:D,MATCH($C14,SC!$C:$C,0)),"")} -> F8 09 | E14: 3204 | F14: {=IFERROR(INDEX(SC!F:F,MATCH($C14,SC!$C:$C,0)),"")} -> Varen | G14: {=IFERROR(INDEX(SC!G:G,MATCH($C14,SC!$C:$C,0)),"")} -> 0.54722222 | H14: {=IFERROR(INDEX(SC!H:H,MATCH($C14,SC!$C:$C,0)),"")} -> 0.63958333 | I14: {=IFERROR(INDEX(SC!I:I,MATCH($C14,SC!$C:$C,0)),"")} -> Varen | J14: {=IFERROR(INDEX(SC!J:J,MATCH($C14,SC!$C:$C,0)),"")} -> 0.025694444 | K14: {=IFERROR(INDEX(SC!K:K,MATCH($C14,SC!$C:$C,0)),"")} -> 10 02 | L14: 3113 | M14: {=IFERROR(INDEX(SC!M:M,MATCH($C14,SC!$C:$C,0)),"")} -> Varen | N14: {=IFERROR(INDEX(SC!N:N,MATCH($C14,SC!$C:$C,0)),"")} -> 0.66527778 | O14: {=IFERROR(INDEX(SC!O:O,MATCH($C14,SC!$C:$C,0)),"")} -> 0.77083333 | P14: {=IFERROR(INDEX(SC!P:P,MATCH($C14,SC!$C:$C,0)),"")} -> Varen | Q14: {=IFERROR(INDEX(SC!Q:Q,MATCH($C14,SC!$C:$C,0)),"")} -> 0.020138889 | R14: {=IFERROR(INDEX(SC!R:R,MATCH($C14,SC!$C:$C,0)),"")} -> 43 02 | S14: 729 | T14: {=IFERROR(INDEX(SC!T:T,MATCH($C14,SC!$C:$C,0)),"")} -> Varen | U14: {=IFERROR(INDEX(SC!U:U,MATCH($C14,SC!$C:$C,0)),"")} -> 0.79097222 | V14: {=IFERROR(INDEX(SC!V:V,MATCH($C14,SC!$C:$C,0)),"")} -> 0.87222222 | W14: {=IFERROR(INDEX(SC!W:W,MATCH($C14,SC!$C:$C,0)),"")} -> Dépôt | X14: =V14-U14+Q14+O14-N14+J14+H14-G14 -> 0.325 | Z14: =MIN(1,(H14>21.5/24)+(O14>21.5/24)+(V14>21.5/24)) -> 0 | AA14: =IFERROR(IF(AND(OR($H14<>"",$O14<>"",$V14<>""),OR(WEEKDAY($B14,2)=7,$AB14=1)),1,""),"") | AB14: =IFERROR(IF(AND($G14="",$N14="",$U14=""),"",IF(MATCH($B14,'Fériés'!$C$5:$C$16,0)>0,1,"")),"") | AC14: =MIN(1,(N14>H14+2/24)+(U14>O14+2/24)) -> 0 | AD14: =MIN(1,(G14<>"")*(G14<5/24)+(N14<>"")*(N14<5/24)+(U14<>"")*(U14<5/24)+(H14>22/24)+(O14>22/24)+(V14>22/24)) -> 0 | AE14: 7.6 | AK14: =abs(24*((G14<>"")*(G14<5/24)*(G14-5/24)+(N14<>"")*(N14<5/24)*(N14-5/24)+(U14<>"")*(U14<5/24)*(U14-5/24)+(H14>22/24)*(H14-22/24)+(O14>22/24)*(O14-22/24)+(V14>22/24)*(V14-22/24))) -> 0
B15: 45328 | D15: {=IFERROR(INDEX(SC!D:D,MATCH($C15,SC!$C:$C,0)),"")} | F15: {=IFERROR(INDEX(SC!F:F,MATCH($C15,SC!$C:$C,0)),"")} | G15: {=IFERROR(INDEX(SC!G:G,MATCH($C15,SC!$C:$C,0)),"")} | H15: {=IFERROR(INDEX(SC!H:H,MATCH($C15,SC!$C:$C,0)),"")} | I15: {=IFERROR(INDEX(SC!I:I,MATCH($C15,SC!$C:$C,0)),"")} | J15: {=IFERROR(INDEX(SC!J:J,MATCH($C15,SC!$C:$C,0)),"")} | K15: {=IFERROR(INDEX(SC!K:K,MATCH($C15,SC!$C:$C,0)),"")} | M15: {=IFERROR(INDEX(SC!M:M,MATCH($C15,SC!$C:$C,0)),"")} | N15: {=IFERROR(INDEX(SC!N:N,MATCH($C15,SC!$C:$C,0)),"")} | O15: {=IFERROR(INDEX(SC!O:O,MATCH($C15,SC!$C:$C,0)),"")} | P15: {=IFERROR(INDEX(SC!P:P,MATCH($C15,SC!$C:$C,0)),"")} | Q15: {=IFERROR(INDEX(SC!Q:Q,MATCH($C15,SC!$C:$C,0)),"")} | R15: {=IFERROR(INDEX(SC!R:R,MATCH($C15,SC!$C:$C,0)),"")} | T15: {=IFERROR(INDEX(SC!T:T,MATCH($C15,SC!$C:$C,0)),"")} | U15: {=IFERROR(INDEX(SC!U:U,MATCH($C15,SC!$C:$C,0)),"")} | V15: {=IFERROR(INDEX(SC!V:V,MATCH($C15,SC!$C:$C,0)),"")} | W15: {=IFERROR(INDEX(SC!W:W,MATCH($C15,SC!$C:$C,0)),"")} | X15: =V15-U15+Q15+O15-N15+J15+H15-G15 -> 0 | Z15: =MIN(1,(H15>21.5/24)+(O15>21.5/24)+(V15>21.5/24)) -> 1 | AA15: =IFERROR(IF(AND(OR($H15<>"",$O15<>"",$V15<>""),OR(WEEKDAY($B15,2)=7,$AB15=1)),1,""),"") | AB15: =IFERROR(IF(AND($G15="",$N15="",$U15=""),"",IF(MATCH($B15,'Fériés'!$C$5:$C$16,0)>0,1,"")),"") | AC15: =MIN(1,(N15>H15+2/24)+(U15>O15+2/24)) -> 1 | AD15: =MIN(1,(G15<>"")*(G15<5/24)+(N15<>"")*(N15<5/24)+(U15<>"")*(U15<5/24)+(H15>22/24)+(O15>22/24)+(V15>22/24)) -> 1 | AK15: =abs(24*((G15<>"")*(G15<5/24)*(G15-5/24)+(N15<>"")*(N15<5/24)*(N15-5/24)+(U15<>"")*(U15<5/24)*(U15-5/24)+(H15>22/24)*(H15-22/24)+(O15>22/24)*(O15-22/24)+(V15>22/24)*(V15-22/24))) -> 66
B16: 45329 | C16: VX09 | D16: {=IFERROR(INDEX(SC!D:D,MATCH($C16,SC!$C:$C,0)),"")} -> F2 05 | E16: 5207 | F16: {=IFERROR(INDEX(SC!F:F,MATCH($C16,SC!$C:$C,0)),"")} -> HVR | G16: {=IFERROR(INDEX(SC!G:G,MATCH($C16,SC!$C:$C,0)),"")} -> 0.29583333 | H16: {=IFERROR(INDEX(SC!H:H,MATCH($C16,SC!$C:$C,0)),"")} -> 0.46666667 | I16: {=IFERROR(INDEX(SC!I:I,MATCH($C16,SC!$C:$C,0)),"")} -> HVR | J16: {=IFERROR(INDEX(SC!J:J,MATCH($C16,SC!$C:$C,0)),"")} | K16: {=IFERROR(INDEX(SC!K:K,MATCH($C16,SC!$C:$C,0)),"")} -> 15 06 | L16: 708 | M16: {=IFERROR(INDEX(SC!M:M,MATCH($C16,SC!$C:$C,0)),"")} -> Dépôt | N16: {=IFERROR(INDEX(SC!N:N,MATCH($C16,SC!$C:$C,0)),"")} -> 0.65069444 | O16: {=IFERROR(INDEX(SC!O:O,MATCH($C16,SC!$C:$C,0)),"")} -> 0.80902778 | P16: {=IFERROR(INDEX(SC!P:P,MATCH($C16,SC!$C:$C,0)),"")} -> Dépôt | Q16: {=IFERROR(INDEX(SC!Q:Q,MATCH($C16,SC!$C:$C,0)),"")} | R16: {=IFERROR(INDEX(SC!R:R,MATCH($C16,SC!$C:$C,0)),"")} | T16: {=IFERROR(INDEX(SC!T:T,MATCH($C16,SC!$C:$C,0)),"")} | U16: {=IFERROR(INDEX(SC!U:U,MATCH($C16,SC!$C:$C,0)),"")} | V16: {=IFERROR(INDEX(SC!V:V,MATCH($C16,SC!$C:$C,0)),"")} | W16: {=IFERROR(INDEX(SC!W:W,MATCH($C16,SC!$C:$C,0)),"")} | X16: =V16-U16+Q17+O16-N16+J16+H16-G16 -> 0.34305556 | Z16: =MIN(1,(H16>21.5/24)+(O16>21.5/24)+(V16>21.5/24)) -> 0 | AA16: =IFERROR(IF(AND(OR($H16<>"",$O16<>"",$V16<>""),OR(WEEKDAY($B16,2)=7,$AB16=1)),1,""),"") | AB16: =IFERROR(IF(AND($G16="",$N16="",$U16=""),"",IF(MATCH($B16,'Fériés'!$C$5:$C$16,0)>0,1,"")),"") | AC16: =MIN(1,(N16>H16+2/24)+(U16>O16+2/24)) -> 1 | AD16: =MIN(1,(G16<>"")*(G16<5/24)+(N16<>"")*(N16<5/24)+(U16<>"")*(U16<5/24)+(H16>22/24)+(O16>22/24)+(V16>22/24)) -> 0 | AK16: =abs(24*((G16<>"")*(G16<5/24)*(G16-5/24)+(N16<>"")*(N16<5/24)*(N16-5/24)+(U16<>"")*(U16<5/24)*(U16-5/24)+(H16>22/24)*(H16-22/24)+(O16>22/24)*(O16-22/24)+(V16>22/24)*(V16-22/24))) -> 0
B17: 45330 | C17: OA07 | D17: {=IFERROR(INDEX(SC!D:D,MATCH($C17,SC!$C:$C,0)),"")} -> F1 09 | E17: 5202 | F17: {=IFERROR(INDEX(SC!F:F,MATCH($C17,SC!$C:$C,0)),"")} -> Dépôt | G17: {=IFERROR(INDEX(SC!G:G,MATCH($C17,SC!$C:$C,0)),"")} -> 0.27152778 | H17: {=IFERROR(INDEX(SC!H:H,MATCH($C17,SC!$C:$C,0)),"")} -> 0.40486111 | I17: {=IFERROR(INDEX(SC!I:I,MATCH($C17,SC!$C:$C,0)),"")} -> Dépôt | J17: {=IFERROR(INDEX(SC!J:J,MATCH($C17,SC!$C:$C,0)),"")} | K17: {=IFERROR(INDEX(SC!K:K,MATCH($C17,SC!$C:$C,0)),"")} -> F1 12 | L17: 5405 | M17: {=IFERROR(INDEX(SC!M:M,MATCH($C17,SC!$C:$C,0)),"")} -> Champ | N17: {=IFERROR(INDEX(SC!N:N,MATCH($C17,SC!$C:$C,0)),"")} -> 0.57013889 | O17: {=IFERROR(INDEX(SC!O:O,MATCH($C17,SC!$C:$C,0)),"")} -> 0.64236111 | P17: {=IFERROR(INDEX(SC!P:P,MATCH($C17,SC!$C:$C,0)),"")} -> Champ | Q17: {=IFERROR(INDEX(SC!Q:Q,MATCH($C17,SC!$C:$C,0)),"")} -> 0.013888889 | R17: {=IFERROR(INDEX(SC!R:R,MATCH($C17,SC!$C:$C,0)),"")} -> F1 05 | S17: 5409 | T17: {=IFERROR(INDEX(SC!T:T,MATCH($C17,SC!$C:$C,0)),"")} -> Champ | U17: {=IFERROR(INDEX(SC!U:U,MATCH($C17,SC!$C:$C,0)),"")} -> 0.65625 | V17: {=IFERROR(INDEX(SC!V:V,MATCH($C17,SC!$C:$C,0)),"")} -> 0.76041667 | W17: {=IFERROR(INDEX(SC!W:W,MATCH($C17,SC!$C:$C,0)),"")} -> Champ | X17: =V17-U17+Q18+O17-N17+J17+H17-G17 -> 0.30972222 | Z17: =MIN(1,(H17>21.5/24)+(O17>21.5/24)+(V17>21.5/24)) -> 0 | AA17: =IFERROR(IF(AND(OR($H17<>"",$O17<>"",$V17<>""),OR(WEEKDAY($B17,2)=7,$AB17=1)),1,""),"") | AB17: =IFERROR(IF(AND($G17="",$N17="",$U17=""),"",IF(MATCH($B17,'Fériés'!$C$5:$C$16,0)>0,1,"")),"") | AC17: =MIN(1,(N17>H17+2/24)+(U17>O17+2/24)) -> 1 | AD17: =MIN(1,(G17<>"")*(G17<5/24)+(N17<>"")*(N17<5/24)+(U17<>"")*(U17<5/24)+(H17>22/24)+(O17>22/24)+(V17>22/24)) -> 0 | AK17: =abs(24*((G17<>"")*(G17<5/24)*(G17-5/24)+(N17<>"")*(N17<5/24)*(N17-5/24)+(U17<>"")*(U17<5/24)*(U17-5/24)+(H17>22/24)*(H17-22/24)+(O17>22/24)*(O17-22/24)+(V17>22/24)*(V17-22/24))) -> 0
B18: 45331 | C18: VX09 | D18: {=IFERROR(INDEX(SC!D:D,MATCH($C18,SC!$C:$C,0)),"")} -> F2 05 | E18: 5511 | F18: {=IFERROR(INDEX(SC!F:F,MATCH($C18,SC!$C:$C,0)),"")} -> HVR | G18: {=IFERROR(INDEX(SC!G:G,MATCH($C18,SC!$C:$C,0)),"")} -> 0.29583333 | H18: {=IFERROR(INDEX(SC!H:H,MATCH($C18,SC!$C:$C,0)),"")} -> 0.46666667 | I18: {=IFERROR(INDEX(SC!I:I,MATCH($C18,SC!$C:$C,0)),"")} -> HVR | J18: {=IFERROR(INDEX(SC!J:J,MATCH($C18,SC!$C:$C,0)),"")} | K18: {=IFERROR(INDEX(SC!K:K,MATCH($C18,SC!$C:$C,0)),"")} -> 15 06 | L18: 3151 | M18: {=IFERROR(INDEX(SC!M:M,MATCH($C18,SC!$C:$C,0)),"")} -> Dépôt | N18: {=IFERROR(INDEX(SC!N:N,MATCH($C18,SC!$C:$C,0)),"")} -> 0.65069444 | O18: {=IFERROR(INDEX(SC!O:O,MATCH($C18,SC!$C:$C,0)),"")} -> 0.80902778 | P18: {=IFERROR(INDEX(SC!P:P,MATCH($C18,SC!$C:$C,0)),"")} -> Dépôt | Q18: {=IFERROR(INDEX(SC!Q:Q,MATCH($C18,SC!$C:$C,0)),"")} | R18: {=IFERROR(INDEX(SC!R:R,MATCH($C18,SC!$C:$C,0)),"")} | T18: {=IFERROR(INDEX(SC!T:T,MATCH($C18,SC!$C:$C,0)),"")} | U18: {=IFERROR(INDEX(SC!U:U,MATCH($C18,SC!$C:$C,0)),"")} | V18: {=IFERROR(INDEX(SC!V:V,MATCH($C18,SC!$C:$C,0)),"")} | W18: {=IFERROR(INDEX(SC!W:W,MATCH($C18,SC!$C:$C,0)),"")} | X18: =V18-U18+Q19+O18-N18+J18+H18-G18 -> 0.32916667 | Z18: =MIN(1,(H18>21.5/24)+(O18>21.5/24)+(V18>21.5/24)) -> 0 | AA18: =IFERROR(IF(AND(OR($H18<>"",$O18<>"",$V18<>""),OR(WEEKDAY($B18,2)=7,$AB18=1)),1,""),"") | AB18: =IFERROR(IF(AND($G18="",$N18="",$U18=""),"",IF(MATCH($B18,'Fériés'!$C$5:$C$16,0)>0,1,"")),"") | AC18: =MIN(1,(N18>H18+2/24)+(U18>O18+2/24)) -> 1 | AD18: =MIN(1,(G18<>"")*(G18<5/24)+(N18<>"")*(N18<5/24)+(U18<>"")*(U18<5/24)+(H18>22/24)+(O18>22/24)+(V18>22/24)) -> 0 | AK18: =abs(24*((G18<>"")*(G18<5/24)*(G18-5/24)+(N18<>"")*(N18<5/24)*(N18-5/24)+(U18<>"")*(U18<5/24)*(U18-5/24)+(H18>22/24)*(H18-22/24)+(O18>22/24)*(O18-22/24)+(V18>22/24)*(V18-22/24))) -> 0
B19: 45332 | C19: SP212s | D19: {=IFERROR(INDEX(SC!D:D,MATCH($C19,SC!$C:$C,0)),"")} -> 43 03 | E19: 3102 | F19: {=IFERROR(INDEX(SC!F:F,MATCH($C19,SC!$C:$C,0)),"")} -> Varen | G19: {=IFERROR(INDEX(SC!G:G,MATCH($C19,SC!$C:$C,0)),"")} -> 0.58958333 | H19: {=IFERROR(INDEX(SC!H:H,MATCH($C19,SC!$C:$C,0)),"")} -> 0.74861111 | I19: {=IFERROR(INDEX(SC!I:I,MATCH($C19,SC!$C:$C,0)),"")} -> Varen | J19: {=IFERROR(INDEX(SC!J:J,MATCH($C19,SC!$C:$C,0)),"")} -> 0.038888889 | K19: {=IFERROR(INDEX(SC!K:K,MATCH($C19,SC!$C:$C,0)),"")} -> F8 07 | L19: 435 | M19: {=IFERROR(INDEX(SC!M:M,MATCH($C19,SC!$C:$C,0)),"")} -> Varen | N19: {=IFERROR(INDEX(SC!N:N,MATCH($C19,SC!$C:$C,0)),"")} -> 0.7875 | O19: {=IFERROR(INDEX(SC!O:O,MATCH($C19,SC!$C:$C,0)),"")} -> 0.92291667 | P19: {=IFERROR(INDEX(SC!P:P,MATCH($C19,SC!$C:$C,0)),"")} -> Varen | Q19: {=IFERROR(INDEX(SC!Q:Q,MATCH($C19,SC!$C:$C,0)),"")} | R19: {=IFERROR(INDEX(SC!R:R,MATCH($C19,SC!$C:$C,0)),"")} | T19: {=IFERROR(INDEX(SC!T:T,MATCH($C19,SC!$C:$C,0)),"")} | U19: {=IFERROR(INDEX(SC!U:U,MATCH($C19,SC!$C:$C,0)),"")} | V19: {=IFERROR(INDEX(SC!V:V,MATCH($C19,SC!$C:$C,0)),"")} | W19: {=IFERROR(INDEX(SC!W:W,MATCH($C19,SC!$C:$C,0)),"")} | X19: =V19-U19+Q19+O19-N19+J19+H19-G19 -> 0.33333333 | Z19: =MIN(1,(H19>21.5/24)+(O19>21.5/24)+(V19>21.5/24)) -> 1 | AA19: =IFERROR(IF(AND(OR($H19<>"",$O19<>"",$V19<>""),OR(WEEKDAY($B19,2)=7,$AB19=1)),1,""),"") | AB19: =IFERROR(IF(AND($G19="",$N19="",$U19=""),"",IF(MATCH($B19,'Fériés'!$C$5:$C$16,0)>0,1,"")),"") | AC19: =MIN(1,(N19>H19+2/24)+(U19>O19+2/24)) -> 0 | AD19: =MIN(1,(G19<>"")*(G19<5/24)+(N19<>"")*(N19<5/24)+(U19<>"")*(U19<5/24)+(H19>22/24)+(O19>22/24)+(V19>22/24)) -> 1 | AK19: =abs(24*((G19<>"")*(G19<5/24)*(G19-5/24)+(N19<>"")*(N19<5/24)*(N19-5/24)+(U19<>"")*(U19<5/24)*(U19-5/24)+(H19>22/24)*(H19-22/24)+(O19>22/24)*(O19-22/24)+(V19>22/24)*(V19-22/24))) -> 0.15
B20: 45333 | D20: {=IFERROR(INDEX(SC!D:D,MATCH($C20,SC!$C:$C,0)),"")} | F20: {=IFERROR(INDEX(SC!F:F,MATCH($C20,SC!$C:$C,0)),"")} | G20: {=IFERROR(INDEX(SC!G:G,MATCH($C20,SC!$C:$C,0)),"")} | H20: {=IFERROR(INDEX(SC!H:H,MATCH($C20,SC!$C:$C,0)),"")} | I20: {=IFERROR(INDEX(SC!I:I,MATCH($C20,SC!$C:$C,0)),"")} | J20: {=IFERROR(INDEX(SC!J:J,MATCH($C20,SC!$C:$C,0)),"")} | K20: {=IFERROR(INDEX(SC!K:K,MATCH($C20,SC!$C:$C,0)),"")} | M20: {=IFERROR(INDEX(SC!M:M,MATCH($C20,SC!$C:$C,0)),"")} | N20: {=IFERROR(INDEX(SC!N:N,MATCH($C20,SC!$C:$C,0)),"")} | O20: {=IFERROR(INDEX(SC!O:O,MATCH($C20,SC!$C:$C,0)),"")} | P20: {=IFERROR(INDEX(SC!P:P,MATCH($C20,SC!$C:$C,0)),"")} | Q20: {=IFERROR(INDEX(SC!Q:Q,MATCH($C20,SC!$C:$C,0)),"")} | R20: {=IFERROR(INDEX(SC!R:R,MATCH($C20,SC!$C:$C,0)),"")} | T20: {=IFERROR(INDEX(SC!T:T,MATCH($C20,SC!$C:$C,0)),"")} | U20: {=IFERROR(INDEX(SC!U:U,MATCH($C20,SC!$C:$C,0)),"")} | V20: {=IFERROR(INDEX(SC!V:V,MATCH($C20,SC!$C:$C,0)),"")} | W20: {=IFERROR(INDEX(SC!W:W,MATCH($C20,SC!$C:$C,0)),"")} | X20: =V20-U20+Q20+O20-N20+J20+H20-G20 -> 0 | Z20: =MIN(1,(H20>21.5/24)+(O20>21.5/24)+(V20>21.5/24)) -> 1 | AA20: =IFERROR(IF(AND(OR($H20<>"",$O20<>"",$V20<>""),OR(WEEKDAY($B20,2)=7,$AB20=1)),1,""),"") | AB20: =IFERROR(IF(AND($G20="",$N20="",$U20=""),"",IF(MATCH($B20,'Fériés'!$C$5:$C$16,0)>0,1,"")),"") | AC20: =MIN(1,(N20>H20+2/24)+(U20>O20+2/24)) -> 1 | AD20: =MIN(1,(G20<>"")*(G20<5/24)+(N20<>"")*(N20<5/24)+(U20<>"")*(U20<5/24)+(H20>22/24)+(O20>22/24)+(V20>22/24)) -> 1 | AK20: =abs(24*((G20<>"")*(G20<5/24)*(G20-5/24)+(N20<>"")*(N20<5/24)*(N20-5/24)+(U20<>"")*(U20<5/24)*(U20-5/24)+(H20>22/24)*(H20-22/24)+(O20>22/24)*(O20-22/24)+(V20>22/24)*(V20-22/24))) -> 66
B21: 45334 | C21: SP232 | D21: {=IFERROR(INDEX(SC!D:D,MATCH($C21,SC!$C:$C,0)),"")} -> 10 07 | E21: 3149 | F21: {=IFERROR(INDEX(SC!F:F,MATCH($C21,SC!$C:$C,0)),"")} -> Varen | G21: {=IFERROR(INDEX(SC!G:G,MATCH($C21,SC!$C:$C,0)),"")} -> 0.36458333 | H21: {=IFERROR(INDEX(SC!H:H,MATCH($C21,SC!$C:$C,0)),"")} -> 0.51319444 | I21: {=IFERROR(INDEX(SC!I:I,MATCH($C21,SC!$C:$C,0)),"")} -> Varen | J21: {=IFERROR(INDEX(SC!J:J,MATCH($C21,SC!$C:$C,0)),"")} | K21: {=IFERROR(INDEX(SC!K:K,MATCH($C21,SC!$C:$C,0)),"")} -> F8 05 | L21: 3118 | M21: {=IFERROR(INDEX(SC!M:M,MATCH($C21,SC!$C:$C,0)),"")} -> Dépôt | N21: {=IFERROR(INDEX(SC!N:N,MATCH($C21,SC!$C:$C,0)),"")} -> 0.63958333 | O21: {=IFERROR(INDEX(SC!O:O,MATCH($C21,SC!$C:$C,0)),"")} -> 0.81666667 | P21: {=IFERROR(INDEX(SC!P:P,MATCH($C21,SC!$C:$C,0)),"")} -> Dépôt | Q21: {=IFERROR(INDEX(SC!Q:Q,MATCH($C21,SC!$C:$C,0)),"")} | R21: {=IFERROR(INDEX(SC!R:R,MATCH($C21,SC!$C:$C,0)),"")} | T21: {=IFERROR(INDEX(SC!T:T,MATCH($C21,SC!$C:$C,0)),"")} | U21: {=IFERROR(INDEX(SC!U:U,MATCH($C21,SC!$C:$C,0)),"")} | V21: {=IFERROR(INDEX(SC!V:V,MATCH($C21,SC!$C:$C,0)),"")} | W21: {=IFERROR(INDEX(SC!W:W,MATCH($C21,SC!$C:$C,0)),"")} | X21: =V21-U21+Q21+O21-N21+J21+H21-G21 -> 0.32569444 | Z21: =MIN(1,(H21>21.5/24)+(O21>21.5/24)+(V21>21.5/24)) -> 0 | AA21: =IFERROR(IF(AND(OR($H21<>"",$O21<>"",$V21<>""),OR(WEEKDAY($B21,2)=7,$AB21=1)),1,""),"") | AB21: =IFERROR(IF(AND($G21="",$N21="",$U21=""),"",IF(MATCH($B21,'Fériés'!$C$5:$C$16,0)>0,1,"")),"") | AC21: =MIN(1,(N21>H21+2/24)+(U21>O21+2/24)) -> 1 | AD21: =MIN(1,(G21<>"")*(G21<5/24)+(N21<>"")*(N21<5/24)+(U21<>"")*(U21<5/24)+(H21>22/24)+(O21>22/24)+(V21>22/24)) -> 0 | AK21: =abs(24*((G21<>"")*(G21<5/24)*(G21-5/24)+(N21<>"")*(N21<5/24)*(N21-5/24)+(U21<>"")*(U21<5/24)*(U21-5/24)+(H21>22/24)*(H21-22/24)+(O21>22/24)*(O21-22/24)+(V21>22/24)*(V21-22/24))) -> 0
B22: 45335 | C22: VX09 | D22: {=IFERROR(INDEX(SC!D:D,MATCH($C22,SC!$C:$C,0)),"")} -> F2 05 | E22: 5512 | F22: {=IFERROR(INDEX(SC!F:F,MATCH($C22,SC!$C:$C,0)),"")} -> HVR | G22: {=IFERROR(INDEX(SC!G:G,MATCH($C22,SC!$C:$C,0)),"")} -> 0.29583333 | H22: {=IFERROR(INDEX(SC!H:H,MATCH($C22,SC!$C:$C,0)),"")} -> 0.46666667 | I22: {=IFERROR(INDEX(SC!I:I,MATCH($C22,SC!$C:$C,0)),"")} -> HVR | J22: {=IFERROR(INDEX(SC!J:J,MATCH($C22,SC!$C:$C,0)),"")} | K22: {=IFERROR(INDEX(SC!K:K,MATCH($C22,SC!$C:$C,0)),"")} -> 15 06 | L22: 3136 | M22: {=IFERROR(INDEX(SC!M:M,MATCH($C22,SC!$C:$C,0)),"")} -> Dépôt | N22: {=IFERROR(INDEX(SC!N:N,MATCH($C22,SC!$C:$C,0)),"")} -> 0.65069444 | O22: {=IFERROR(INDEX(SC!O:O,MATCH($C22,SC!$C:$C,0)),"")} -> 0.80902778 | P22: {=IFERROR(INDEX(SC!P:P,MATCH($C22,SC!$C:$C,0)),"")} -> Dépôt | Q22: {=IFERROR(INDEX(SC!Q:Q,MATCH($C22,SC!$C:$C,0)),"")} | R22: {=IFERROR(INDEX(SC!R:R,MATCH($C22,SC!$C:$C,0)),"")} | T22: {=IFERROR(INDEX(SC!T:T,MATCH($C22,SC!$C:$C,0)),"")} | U22: {=IFERROR(INDEX(SC!U:U,MATCH($C22,SC!$C:$C,0)),"")} | V22: {=IFERROR(INDEX(SC!V:V,MATCH($C22,SC!$C:$C,0)),"")} | W22: {=IFERROR(INDEX(SC!W:W,MATCH($C22,SC!$C:$C,0)),"")} | X22: =V22-U22+Q22+O22-N22+J22+H22-G22 -> 0.32916667 | Z22: =MIN(1,(H22>21.5/24)+(O22>21.5/24)+(V22>21.5/24)) -> 0 | AA22: =IFERROR(IF(AND(OR($H22<>"",$O22<>"",$V22<>""),OR(WEEKDAY($B22,2)=7,$AB22=1)),1,""),"") | AB22: =IFERROR(IF(AND($G22="",$N22="",$U22=""),"",IF(MATCH($B22,'Fériés'!$C$5:$C$16,0)>0,1,"")),"") | AC22: =MIN(1,(N22>H22+2/24)+(U22>O22+2/24)) -> 1 | AD22: =MIN(1,(G22<>"")*(G22<5/24)+(N22<>"")*(N22<5/24)+(U22<>"")*(U22<5/24)+(H22>22/24)+(O22>22/24)+(V22>22/24)) -> 0 | AK22: =abs(24*((G22<>"")*(G22<5/24)*(G22-5/24)+(N22<>"")*(N22<5/24)*(N22-5/24)+(U22<>"")*(U22<5/24)*(U22-5/24)+(H22>22/24)*(H22-22/24)+(O22>22/24)*(O22-22/24)+(V22>22/24)*(V22-22/24))) -> 0
B23: 45336 | C23: K01 | D23: {=IFERROR(INDEX(SC!D:D,MATCH($C23,SC!$C:$C,0)),"")} -> F2 10 | E23: 5308 | F23: {=IFERROR(INDEX(SC!F:F,MATCH($C23,SC!$C:$C,0)),"")} -> Dépôt | G23: {=IFERROR(INDEX(SC!G:G,MATCH($C23,SC!$C:$C,0)),"")} -> 0.27291667 | H23: {=IFERROR(INDEX(SC!H:H,MATCH($C23,SC!$C:$C,0)),"")} -> 0.40277778 | I23: {=IFERROR(INDEX(SC!I:I,MATCH($C23,SC!$C:$C,0)),"")} -> Dépôt | J23: {=IFERROR(INDEX(SC!J:J,MATCH($C23,SC!$C:$C,0)),"")} | K23: {=IFERROR(INDEX(SC!K:K,MATCH($C23,SC!$C:$C,0)),"")} -> F2 05 | L23: 5404 | M23: {=IFERROR(INDEX(SC!M:M,MATCH($C23,SC!$C:$C,0)),"")} -> HVR | N23: {=IFERROR(INDEX(SC!N:N,MATCH($C23,SC!$C:$C,0)),"")} -> 0.57152778 | O23: {=IFERROR(INDEX(SC!O:O,MATCH($C23,SC!$C:$C,0)),"")} -> 0.74375 | P23: {=IFERROR(INDEX(SC!P:P,MATCH($C23,SC!$C:$C,0)),"")} -> HVR | Q23: {=IFERROR(INDEX(SC!Q:Q,MATCH($C23,SC!$C:$C,0)),"")} | R23: {=IFERROR(INDEX(SC!R:R,MATCH($C23,SC!$C:$C,0)),"")} | T23: {=IFERROR(INDEX(SC!T:T,MATCH($C23,SC!$C:$C,0)),"")} | U23: {=IFERROR(INDEX(SC!U:U,MATCH($C23,SC!$C:$C,0)),"")} | V23: {=IFERROR(INDEX(SC!V:V,MATCH($C23,SC!$C:$C,0)),"")} | W23: {=IFERROR(INDEX(SC!W:W,MATCH($C23,SC!$C:$C,0)),"")} | X23: =V23-U23+Q23+O23-N23+J23+H23-G23 -> 0.30208333 | Z23: =MIN(1,(H23>21.5/24)+(O23>21.5/24)+(V23>21.5/24)) -> 0 | AA23: =IFERROR(IF(AND(OR($H23<>"",$O23<>"",$V23<>""),OR(WEEKDAY($B23,2)=7,$AB23=1)),1,""),"") | AB23: =IFERROR(IF(AND($G23="",$N23="",$U23=""),"",IF(MATCH($B23,'Fériés'!$C$5:$C$16,0)>0,1,"")),"") | AC23: =MIN(1,(N23>H23+2/24)+(U23>O23+2/24)) -> 1 | AD23: =MIN(1,(G23<>"")*(G23<5/24)+(N23<>"")*(N23<5/24)+(U23<>"")*(U23<5/24)+(H23>22/24)+(O23>22/24)+(V23>22/24)) -> 0 | AK23: =abs(24*((G23<>"")*(G23<5/24)*(G23-5/24)+(N23<>"")*(N23<5/24)*(N23-5/24)+(U23<>"")*(U23<5/24)*(U23-5/24)+(H23>22/24)*(H23-22/24)+(O23>22/24)*(O23-22/24)+(V23>22/24)*(V23-22/24))) -> 0
B24: 45337 | C24: BX08 | D24: {=IFERROR(INDEX(SC!D:D,MATCH($C24,SC!$C:$C,0)),"")} -> F8 04 | E24: 3134 | F24: {=IFERROR(INDEX(SC!F:F,MATCH($C24,SC!$C:$C,0)),"")} -> Varen | G24: {=IFERROR(INDEX(SC!G:G,MATCH($C24,SC!$C:$C,0)),"")} -> 0.34722222 | H24: {=IFERROR(INDEX(SC!H:H,MATCH($C24,SC!$C:$C,0)),"")} -> 0.51458333 | I24: {=IFERROR(INDEX(SC!I:I,MATCH($C24,SC!$C:$C,0)),"")} -> Varen | J24: {=IFERROR(INDEX(SC!J:J,MATCH($C24,SC!$C:$C,0)),"")} | K24: {=IFERROR(INDEX(SC!K:K,MATCH($C24,SC!$C:$C,0)),"")} -> F8 09 | L24: 3117 | M24: {=IFERROR(INDEX(SC!M:M,MATCH($C24,SC!$C:$C,0)),"")} -> Varen | N24: {=IFERROR(INDEX(SC!N:N,MATCH($C24,SC!$C:$C,0)),"")} -> 0.63680556 | O24: {=IFERROR(INDEX(SC!O:O,MATCH($C24,SC!$C:$C,0)),"")} -> 0.78263889 | P24: {=IFERROR(INDEX(SC!P:P,MATCH($C24,SC!$C:$C,0)),"")} -> Varen | Q24: {=IFERROR(INDEX(SC!Q:Q,MATCH($C24,SC!$C:$C,0)),"")} | R24: {=IFERROR(INDEX(SC!R:R,MATCH($C24,SC!$C:$C,0)),"")} | T24: {=IFERROR(INDEX(SC!T:T,MATCH($C24,SC!$C:$C,0)),"")} | U24: {=IFERROR(INDEX(SC!U:U,MATCH($C24,SC!$C:$C,0)),"")} | V24: {=IFERROR(INDEX(SC!V:V,MATCH($C24,SC!$C:$C,0)),"")} | W24: {=IFERROR(INDEX(SC!W:W,MATCH($C24,SC!$C:$C,0)),"")} | X24: =V24-U24+Q24+O24-N24+J24+H24-G24 -> 0.31319444 | Z24: =MIN(1,(H24>21.5/24)+(O24>21.5/24)+(V24>21.5/24)) -> 0 | AA24: =IFERROR(IF(AND(OR($H24<>"",$O24<>"",$V24<>""),OR(WEEKDAY($B24,2)=7,$AB24=1)),1,""),"") | AB24: =IFERROR(IF(AND($G24="",$N24="",$U24=""),"",IF(MATCH($B24,'Fériés'!$C$5:$C$16,0)>0,1,"")),"") | AC24: =MIN(1,(N24>H24+2/24)+(U24>O24+2/24)) -> 1 | AD24: =MIN(1,(G24<>"")*(G24<5/24)+(N24<>"")*(N24<5/24)+(U24<>"")*(U24<5/24)+(H24>22/24)+(O24>22/24)+(V24>22/24)) -> 0 | AK24: =abs(24*((G24<>"")*(G24<5/24)*(G24-5/24)+(N24<>"")*(N24<5/24)*(N24-5/24)+(U24<>"")*(U24<5/24)*(U24-5/24)+(H24>22/24)*(H24-22/24)+(O24>22/24)*(O24-22/24)+(V24>22/24)*(V24-22/24))) -> 0
B25: 45338 | C25: UX04 | D25: {=IFERROR(INDEX(SC!D:D,MATCH($C25,SC!$C:$C,0)),"")} -> F2 14 | E25: 5201 | F25: {=IFERROR(INDEX(SC!F:F,MATCH($C25,SC!$C:$C,0)),"")} -> Dépôt | G25: {=IFERROR(INDEX(SC!G:G,MATCH($C25,SC!$C:$C,0)),"")} -> 0.3 | H25: {=IFERROR(INDEX(SC!H:H,MATCH($C25,SC!$C:$C,0)),"")} -> 0.43194444 | I25: {=IFERROR(INDEX(SC!I:I,MATCH($C25,SC!$C:$C,0)),"")} -> Dépôt | J25: {=IFERROR(INDEX(SC!J:J,MATCH($C25,SC!$C:$C,0)),"")} | K25: {=IFERROR(INDEX(SC!K:K,MATCH($C25,SC!$C:$C,0)),"")} -> F2 14 | L25: 5201 | M25: {=IFERROR(INDEX(SC!M:M,MATCH($C25,SC!$C:$C,0)),"")} -> Dépôt | N25: {=IFERROR(INDEX(SC!N:N,MATCH($C25,SC!$C:$C,0)),"")} -> 0.63611111 | O25: {=IFERROR(INDEX(SC!O:O,MATCH($C25,SC!$C:$C,0)),"")} -> 0.81041667 | P25: {=IFERROR(INDEX(SC!P:P,MATCH($C25,SC!$C:$C,0)),"")} -> Dépôt | Q25: {=IFERROR(INDEX(SC!Q:Q,MATCH($C25,SC!$C:$C,0)),"")} | R25: {=IFERROR(INDEX(SC!R:R,MATCH($C25,SC!$C:$C,0)),"")} | T25: {=IFERROR(INDEX(SC!T:T,MATCH($C25,SC!$C:$C,0)),"")} | U25: {=IFERROR(INDEX(SC!U:U,MATCH($C25,SC!$C:$C,0)),"")} | V25: {=IFERROR(INDEX(SC!V:V,MATCH($C25,SC!$C:$C,0)),"")} | W25: {=IFERROR(INDEX(SC!W:W,MATCH($C25,SC!$C:$C,0)),"")} | X25: =V25-U25+Q25+O25-N25+J25+H25-G25 -> 0.30625 | Z25: =MIN(1,(H25>21.5/24)+(O25>21.5/24)+(V25>21.5/24)) -> 0 | AA25: =IFERROR(IF(AND(OR($H25<>"",$O25<>"",$V25<>""),OR(WEEKDAY($B25,2)=7,$AB25=1)),1,""),"") | AB25: =IFERROR(IF(AND($G25="",$N25="",$U25=""),"",IF(MATCH($B25,'Fériés'!$C$5:$C$16,0)>0,1,"")),"") | AC25: =MIN(1,(N25>H25+2/24)+(U25>O25+2/24)) -> 1 | AD25: =MIN(1,(G25<>"")*(G25<5/24)+(N25<>"")*(N25<5/24)+(U25<>"")*(U25<5/24)+(H25>22/24)+(O25>22/24)+(V25>22/24)) -> 0 | AK25: =abs(24*((G25<>"")*(G25<5/24)*(G25-5/24)+(N25<>"")*(N25<5/24)*(N25-5/24)+(U25<>"")*(U25<5/24)*(U25-5/24)+(H25>22/24)*(H25-22/24)+(O25>22/24)*(O25-22/24)+(V25>22/24)*(V25-22/24))) -> 0
B26: 45339 | D26: {=IFERROR(INDEX(SC!D:D,MATCH($C26,SC!$C:$C,0)),"")} | F26: {=IFERROR(INDEX(SC!F:F,MATCH($C26,SC!$C:$C,0)),"")} | G26: {=IFERROR(INDEX(SC!G:G,MATCH($C26,SC!$C:$C,0)),"")} | H26: {=IFERROR(INDEX(SC!H:H,MATCH($C26,SC!$C:$C,0)),"")} | I26: {=IFERROR(INDEX(SC!I:I,MATCH($C26,SC!$C:$C,0)),"")} | J26: {=IFERROR(INDEX(SC!J:J,MATCH($C26,SC!$C:$C,0)),"")} | K26: {=IFERROR(INDEX(SC!K:K,MATCH($C26,SC!$C:$C,0)),"")} | M26: {=IFERROR(INDEX(SC!M:M,MATCH($C26,SC!$C:$C,0)),"")} | N26: {=IFERROR(INDEX(SC!N:N,MATCH($C26,SC!$C:$C,0)),"")} | O26: {=IFERROR(INDEX(SC!O:O,MATCH($C26,SC!$C:$C,0)),"")} | P26: {=IFERROR(INDEX(SC!P:P,MATCH($C26,SC!$C:$C,0)),"")} | Q26: {=IFERROR(INDEX(SC!Q:Q,MATCH($C26,SC!$C:$C,0)),"")} | R26: {=IFERROR(INDEX(SC!R:R,MATCH($C26,SC!$C:$C,0)),"")} | T26: {=IFERROR(INDEX(SC!T:T,MATCH($C26,SC!$C:$C,0)),"")} | U26: {=IFERROR(INDEX(SC!U:U,MATCH($C26,SC!$C:$C,0)),"")} | V26: {=IFERROR(INDEX(SC!V:V,MATCH($C26,SC!$C:$C,0)),"")} | W26: {=IFERROR(INDEX(SC!W:W,MATCH($C26,SC!$C:$C,0)),"")} | X26: =V26-U26+Q26+O26-N26+J26+H26-G26 -> 0 | Z26: =MIN(1,(H26>21.5/24)+(O26>21.5/24)+(V26>21.5/24)) -> 1 | AA26: =IFERROR(IF(AND(OR($H26<>"",$O26<>"",$V26<>""),OR(WEEKDAY($B26,2)=7,$AB26=1)),1,""),"") | AB26: =IFERROR(IF(AND($G26="",$N26="",$U26=""),"",IF(MATCH($B26,'Fériés'!$C$5:$C$16,0)>0,1,"")),"") | AC26: =MIN(1,(N26>H26+2/24)+(U26>O26+2/24)) -> 1 | AD26: =MIN(1,(G26<>"")*(G26<5/24)+(N26<>"")*(N26<5/24)+(U26<>"")*(U26<5/24)+(H26>22/24)+(O26>22/24)+(V26>22/24)) -> 1 | AK26: =abs(24*((G26<>"")*(G26<5/24)*(G26-5/24)+(N26<>"")*(N26<5/24)*(N26-5/24)+(U26<>"")*(U26<5/24)*(U26-5/24)+(H26>22/24)*(H26-22/24)+(O26>22/24)*(O26-22/24)+(V26>22/24)*(V26-22/24))) -> 66
B27: 45340 | D27: {=IFERROR(INDEX(SC!D:D,MATCH($C27,SC!$C:$C,0)),"")} | F27: {=IFERROR(INDEX(SC!F:F,MATCH($C27,SC!$C:$C,0)),"")} | G27: {=IFERROR(INDEX(SC!G:G,MATCH($C27,SC!$C:$C,0)),"")} | H27: {=IFERROR(INDEX(SC!H:H,MATCH($C27,SC!$C:$C,0)),"")} | I27: {=IFERROR(INDEX(SC!I:I,MATCH($C27,SC!$C:$C,0)),"")} | J27: {=IFERROR(INDEX(SC!J:J,MATCH($C27,SC!$C:$C,0)),"")} | K27: {=IFERROR(INDEX(SC!K:K,MATCH($C27,SC!$C:$C,0)),"")} | M27: {=IFERROR(INDEX(SC!M:M,MATCH($C27,SC!$C:$C,0)),"")} | N27: {=IFERROR(INDEX(SC!N:N,MATCH($C27,SC!$C:$C,0)),"")} | O27: {=IFERROR(INDEX(SC!O:O,MATCH($C27,SC!$C:$C,0)),"")} | P27: {=IFERROR(INDEX(SC!P:P,MATCH($C27,SC!$C:$C,0)),"")} | Q27: {=IFERROR(INDEX(SC!Q:Q,MATCH($C27,SC!$C:$C,0)),"")} | R27: {=IFERROR(INDEX(SC!R:R,MATCH($C27,SC!$C:$C,0)),"")} | T27: {=IFERROR(INDEX(SC!T:T,MATCH($C27,SC!$C:$C,0)),"")} | U27: {=IFERROR(INDEX(SC!U:U,MATCH($C27,SC!$C:$C,0)),"")} | V27: {=IFERROR(INDEX(SC!V:V,MATCH($C27,SC!$C:$C,0)),"")} | W27: {=IFERROR(INDEX(SC!W:W,MATCH($C27,SC!$C:$C,0)),"")} | X27: =V27-U27+Q27+O27-N27+J27+H27-G27 -> 0 | Z27: =MIN(1,(H27>21.5/24)+(O27>21.5/24)+(V27>21.5/24)) -> 1 | AA27: =IFERROR(IF(AND(OR($H27<>"",$O27<>"",$V27<>""),OR(WEEKDAY($B27,2)=7,$AB27=1)),1,""),"") | AB27: =IFERROR(IF(AND($G27="",$N27="",$U27=""),"",IF(MATCH($B27,'Fériés'!$C$5:$C$16,0)>0,1,"")),"") | AC27: =MIN(1,(N27>H27+2/24)+(U27>O27+2/24)) -> 1 | AD27: =MIN(1,(G27<>"")*(G27<5/24)+(N27<>"")*(N27<5/24)+(U27<>"")*(U27<5/24)+(H27>22/24)+(O27>22/24)+(V27>22/24)) -> 1 | AK27: =abs(24*((G27<>"")*(G27<5/24)*(G27-5/24)+(N27<>"")*(N27<5/24)*(N27-5/24)+(U27<>"")*(U27<5/24)*(U27-5/24)+(H27>22/24)*(H27-22/24)+(O27>22/24)*(O27-22/24)+(V27>22/24)*(V27-22/24))) -> 66
B28: 45341 | C28: K07 | D28: {=IFERROR(INDEX(SC!D:D,MATCH($C28,SC!$C:$C,0)),"")} -> F2 02 | F28: {=IFERROR(INDEX(SC!F:F,MATCH($C28,SC!$C:$C,0)),"")} -> HVR | G28: {=IFERROR(INDEX(SC!G:G,MATCH($C28,SC!$C:$C,0)),"")} -> 0.33333333 | H28: {=IFERROR(INDEX(SC!H:H,MATCH($C28,SC!$C:$C,0)),"")} -> 0.49930556 | I28: {=IFERROR(INDEX(SC!I:I,MATCH($C28,SC!$C:$C,0)),"")} -> HVR | J28: {=IFERROR(INDEX(SC!J:J,MATCH($C28,SC!$C:$C,0)),"")} | K28: {=IFERROR(INDEX(SC!K:K,MATCH($C28,SC!$C:$C,0)),"")} -> F2 10 | M28: {=IFERROR(INDEX(SC!M:M,MATCH($C28,SC!$C:$C,0)),"")} -> Dépôt | N28: {=IFERROR(INDEX(SC!N:N,MATCH($C28,SC!$C:$C,0)),"")} -> 0.65694444 | O28: {=IFERROR(INDEX(SC!O:O,MATCH($C28,SC!$C:$C,0)),"")} -> 0.82777778 | P28: {=IFERROR(INDEX(SC!P:P,MATCH($C28,SC!$C:$C,0)),"")} -> Dépôt | Q28: {=IFERROR(INDEX(SC!Q:Q,MATCH($C28,SC!$C:$C,0)),"")} | R28: {=IFERROR(INDEX(SC!R:R,MATCH($C28,SC!$C:$C,0)),"")} | T28: {=IFERROR(INDEX(SC!T:T,MATCH($C28,SC!$C:$C,0)),"")} | U28: {=IFERROR(INDEX(SC!U:U,MATCH($C28,SC!$C:$C,0)),"")} | V28: {=IFERROR(INDEX(SC!V:V,MATCH($C28,SC!$C:$C,0)),"")} | W28: {=IFERROR(INDEX(SC!W:W,MATCH($C28,SC!$C:$C,0)),"")} | X28: =V28-U28+Q28+O28-N28+J28+H28-G28 -> 0.33680556 | Z28: =MIN(1,(H28>21.5/24)+(O28>21.5/24)+(V28>21.5/24)) -> 0 | AA28: =IFERROR(IF(AND(OR($H28<>"",$O28<>"",$V28<>""),OR(WEEKDAY($B28,2)=7,$AB28=1)),1,""),"") | AB28: =IFERROR(IF(AND($G28="",$N28="",$U28=""),"",IF(MATCH($B28,'Fériés'!$C$5:$C$16,0)>0,1,"")),"") | AC28: =MIN(1,(N28>H28+2/24)+(U28>O28+2/24)) -> 1 | AD28: =MIN(1,(G28<>"")*(G28<5/24)+(N28<>"")*(N28<5/24)+(U28<>"")*(U28<5/24)+(H28>22/24)+(O28>22/24)+(V28>22/24)) -> 0 | AK28: =abs(24*((G28<>"")*(G28<5/24)*(G28-5/24)+(N28<>"")*(N28<5/24)*(N28-5/24)+(U28<>"")*(U28<5/24)*(U28-5/24)+(H28>22/24)*(H28-22/24)+(O28>22/24)*(O28-22/24)+(V28>22/24)*(V28-22/24))) -> 0
B29: 45342 | C29: SP35 | D29: {=IFERROR(INDEX(SC!D:D,MATCH($C29,SC!$C:$C,0)),"")} -> F1 04 | F29: {=IFERROR(INDEX(SC!F:F,MATCH($C29,SC!$C:$C,0)),"")} -> Champ | G29: {=IFERROR(INDEX(SC!G:G,MATCH($C29,SC!$C:$C,0)),"")} -> 0.29375 | H29: {=IFERROR(INDEX(SC!H:H,MATCH($C29,SC!$C:$C,0)),"")} -> 0.46875 | I29: {=IFERROR(INDEX(SC!I:I,MATCH($C29,SC!$C:$C,0)),"")} -> Champ | J29: {=IFERROR(INDEX(SC!J:J,MATCH($C29,SC!$C:$C,0)),"")} | K29: {=IFERROR(INDEX(SC!K:K,MATCH($C29,SC!$C:$C,0)),"")} -> 15 07 | M29: {=IFERROR(INDEX(SC!M:M,MATCH($C29,SC!$C:$C,0)),"")} -> Dépôt | N29: {=IFERROR(INDEX(SC!N:N,MATCH($C29,SC!$C:$C,0)),"")} -> 0.65208333 | O29: {=IFERROR(INDEX(SC!O:O,MATCH($C29,SC!$C:$C,0)),"")} -> 0.80972222 | P29: {=IFERROR(INDEX(SC!P:P,MATCH($C29,SC!$C:$C,0)),"")} -> Dépôt | Q29: {=IFERROR(INDEX(SC!Q:Q,MATCH($C29,SC!$C:$C,0)),"")} | R29: {=IFERROR(INDEX(SC!R:R,MATCH($C29,SC!$C:$C,0)),"")} | T29: {=IFERROR(INDEX(SC!T:T,MATCH($C29,SC!$C:$C,0)),"")} | U29: {=IFERROR(INDEX(SC!U:U,MATCH($C29,SC!$C:$C,0)),"")} | V29: {=IFERROR(INDEX(SC!V:V,MATCH($C29,SC!$C:$C,0)),"")} | W29: {=IFERROR(INDEX(SC!W:W,MATCH($C29,SC!$C:$C,0)),"")} | X29: =V29-U29+Q29+O29-N29+J29+H29-G29 -> 0.33263889 | Z29: =MIN(1,(H29>21.5/24)+(O29>21.5/24)+(V29>21.5/24)) -> 0 | AA29: =IFERROR(IF(AND(OR($H29<>"",$O29<>"",$V29<>""),OR(WEEKDAY($B29,2)=7,$AB29=1)),1,""),"") | AB29: =IFERROR(IF(AND($G29="",$N29="",$U29=""),"",IF(MATCH($B29,'Fériés'!$C$5:$C$16,0)>0,1,"")),"") | AC29: =MIN(1,(N29>H29+2/24)+(U29>O29+2/24)) -> 1 | AD29: =MIN(1,(G29<>"")*(G29<5/24)+(N29<>"")*(N29<5/24)+(U29<>"")*(U29<5/24)+(H29>22/24)+(O29>22/24)+(V29>22/24)) -> 0 | AK29: =abs(24*((G29<>"")*(G29<5/24)*(G29-5/24)+(N29<>"")*(N29<5/24)*(N29-5/24)+(U29<>"")*(U29<5/24)*(U29-5/24)+(H29>22/24)*(H29-22/24)+(O29>22/24)*(O29-22/24)+(V29>22/24)*(V29-22/24))) -> 0
B30: 45343 | D30: {=IFERROR(INDEX(SC!D:D,MATCH($C30,SC!$C:$C,0)),"")} | F30: {=IFERROR(INDEX(SC!F:F,MATCH($C30,SC!$C:$C,0)),"")} | G30: {=IFERROR(INDEX(SC!G:G,MATCH($C30,SC!$C:$C,0)),"")} | H30: {=IFERROR(INDEX(SC!H:H,MATCH($C30,SC!$C:$C,0)),"")} | I30: {=IFERROR(INDEX(SC!I:I,MATCH($C30,SC!$C:$C,0)),"")} | J30: {=IFERROR(INDEX(SC!J:J,MATCH($C30,SC!$C:$C,0)),"")} | K30: {=IFERROR(INDEX(SC!K:K,MATCH($C30,SC!$C:$C,0)),"")} | M30: {=IFERROR(INDEX(SC!M:M,MATCH($C30,SC!$C:$C,0)),"")} | N30: {=IFERROR(INDEX(SC!N:N,MATCH($C30,SC!$C:$C,0)),"")} | O30: {=IFERROR(INDEX(SC!O:O,MATCH($C30,SC!$C:$C,0)),"")} | P30: {=IFERROR(INDEX(SC!P:P,MATCH($C30,SC!$C:$C,0)),"")} | Q30: {=IFERROR(INDEX(SC!Q:Q,MATCH($C30,SC!$C:$C,0)),"")} | R30: {=IFERROR(INDEX(SC!R:R,MATCH($C30,SC!$C:$C,0)),"")} | T30: {=IFERROR(INDEX(SC!T:T,MATCH($C30,SC!$C:$C,0)),"")} | U30: {=IFERROR(INDEX(SC!U:U,MATCH($C30,SC!$C:$C,0)),"")} | V30: {=IFERROR(INDEX(SC!V:V,MATCH($C30,SC!$C:$C,0)),"")} | W30: {=IFERROR(INDEX(SC!W:W,MATCH($C30,SC!$C:$C,0)),"")} | X30: =V30-U30+Q30+O30-N30+J30+H30-G30 -> 0 | Z30: =MIN(1,(H30>21.5/24)+(O30>21.5/24)+(V30>21.5/24)) -> 1 | AA30: =IFERROR(IF(AND(OR($H30<>"",$O30<>"",$V30<>""),OR(WEEKDAY($B30,2)=7,$AB30=1)),1,""),"") | AB30: =IFERROR(IF(AND($G30="",$N30="",$U30=""),"",IF(MATCH($B30,'Fériés'!$C$5:$C$16,0)>0,1,"")),"") | AC30: =MIN(1,(N30>H30+2/24)+(U30>O30+2/24)) -> 1 | AD30: =MIN(1,(G30<>"")*(G30<5/24)+(N30<>"")*(N30<5/24)+(U30<>"")*(U30<5/24)+(H30>22/24)+(O30>22/24)+(V30>22/24)) -> 1 | AK30: =abs(24*((G30<>"")*(G30<5/24)*(G30-5/24)+(N30<>"")*(N30<5/24)*(N30-5/24)+(U30<>"")*(U30<5/24)*(U30-5/24)+(H30>22/24)*(H30-22/24)+(O30>22/24)*(O30-22/24)+(V30>22/24)*(V30-22/24))) -> 66
B31: 45344 | D31: {=IFERROR(INDEX(SC!D:D,MATCH($C31,SC!$C:$C,0)),"")} | F31: {=IFERROR(INDEX(SC!F:F,MATCH($C31,SC!$C:$C,0)),"")} | G31: {=IFERROR(INDEX(SC!G:G,MATCH($C31,SC!$C:$C,0)),"")} | H31: {=IFERROR(INDEX(SC!H:H,MATCH($C31,SC!$C:$C,0)),"")} | I31: {=IFERROR(INDEX(SC!I:I,MATCH($C31,SC!$C:$C,0)),"")} | J31: {=IFERROR(INDEX(SC!J:J,MATCH($C31,SC!$C:$C,0)),"")} | K31: {=IFERROR(INDEX(SC!K:K,MATCH($C31,SC!$C:$C,0)),"")} | M31: {=IFERROR(INDEX(SC!M:M,MATCH($C31,SC!$C:$C,0)),"")} | N31: {=IFERROR(INDEX(SC!N:N,MATCH($C31,SC!$C:$C,0)),"")} | O31: {=IFERROR(INDEX(SC!O:O,MATCH($C31,SC!$C:$C,0)),"")} | P31: {=IFERROR(INDEX(SC!P:P,MATCH($C31,SC!$C:$C,0)),"")} | Q31: {=IFERROR(INDEX(SC!Q:Q,MATCH($C31,SC!$C:$C,0)),"")} | R31: {=IFERROR(INDEX(SC!R:R,MATCH($C31,SC!$C:$C,0)),"")} | T31: {=IFERROR(INDEX(SC!T:T,MATCH($C31,SC!$C:$C,0)),"")} | U31: {=IFERROR(INDEX(SC!U:U,MATCH($C31,SC!$C:$C,0)),"")} | V31: {=IFERROR(INDEX(SC!V:V,MATCH($C31,SC!$C:$C,0)),"")} | W31: {=IFERROR(INDEX(SC!W:W,MATCH($C31,SC!$C:$C,0)),"")} | X31: =V31-U31+Q31+O31-N31+J31+H31-G31 -> 0 | Z31: =MIN(1,(H31>21.5/24)+(O31>21.5/24)+(V31>21.5/24)) -> 1 | AA31: =IFERROR(IF(AND(OR($H31<>"",$O31<>"",$V31<>""),OR(WEEKDAY($B31,2)=7,$AB31=1)),1,""),"") | AB31: =IFERROR(IF(AND($G31="",$N31="",$U31=""),"",IF(MATCH($B31,'Fériés'!$C$5:$C$16,0)>0,1,"")),"") | AC31: =MIN(1,(N31>H31+2/24)+(U31>O31+2/24)) -> 1 | AD31: =MIN(1,(G31<>"")*(G31<5/24)+(N31<>"")*(N31<5/24)+(U31<>"")*(U31<5/24)+(H31>22/24)+(O31>22/24)+(V31>22/24)) -> 1 | AK31: =abs(24*((G31<>"")*(G31<5/24)*(G31-5/24)+(N31<>"")*(N31<5/24)*(N31-5/24)+(U31<>"")*(U31<5/24)*(U31-5/24)+(H31>22/24)*(H31-22/24)+(O31>22/24)*(O31-22/24)+(V31>22/24)*(V31-22/24))) -> 66
B32: 45345 | C32: SP35 | D32: {=IFERROR(INDEX(SC!D:D,MATCH($C32,SC!$C:$C,0)),"")} -> F1 04 | F32: {=IFERROR(INDEX(SC!F:F,MATCH($C32,SC!$C:$C,0)),"")} -> Champ | G32: {=IFERROR(INDEX(SC!G:G,MATCH($C32,SC!$C:$C,0)),"")} -> 0.29375 | H32: {=IFERROR(INDEX(SC!H:H,MATCH($C32,SC!$C:$C,0)),"")} -> 0.46875 | I32: {=IFERROR(INDEX(SC!I:I,MATCH($C32,SC!$C:$C,0)),"")} -> Champ | J32: {=IFERROR(INDEX(SC!J:J,MATCH($C32,SC!$C:$C,0)),"")} | K32: {=IFERROR(INDEX(SC!K:K,MATCH($C32,SC!$C:$C,0)),"")} -> 15 07 | M32: {=IFERROR(INDEX(SC!M:M,MATCH($C32,SC!$C:$C,0)),"")} -> Dépôt | N32: {=IFERROR(INDEX(SC!N:N,MATCH($C32,SC!$C:$C,0)),"")} -> 0.65208333 | O32: {=IFERROR(INDEX(SC!O:O,MATCH($C32,SC!$C:$C,0)),"")} -> 0.80972222 | P32: {=IFERROR(INDEX(SC!P:P,MATCH($C32,SC!$C:$C,0)),"")} -> Dépôt | Q32: {=IFERROR(INDEX(SC!Q:Q,MATCH($C32,SC!$C:$C,0)),"")} | R32: {=IFERROR(INDEX(SC!R:R,MATCH($C32,SC!$C:$C,0)),"")} | T32: {=IFERROR(INDEX(SC!T:T,MATCH($C32,SC!$C:$C,0)),"")} | U32: {=IFERROR(INDEX(SC!U:U,MATCH($C32,SC!$C:$C,0)),"")} | V32: {=IFERROR(INDEX(SC!V:V,MATCH($C32,SC!$C:$C,0)),"")} | W32: {=IFERROR(INDEX(SC!W:W,MATCH($C32,SC!$C:$C,0)),"")} | X32: =V32-U32+Q32+O32-N32+J32+H32-G32 -> 0.33263889 | Z32: =MIN(1,(H32>21.5/24)+(O32>21.5/24)+(V32>21.5/24)) -> 0 | AA32: =IFERROR(IF(AND(OR($H32<>"",$O32<>"",$V32<>""),OR(WEEKDAY($B32,2)=7,$AB32=1)),1,""),"") | AB32: =IFERROR(IF(AND($G32="",$N32="",$U32=""),"",IF(MATCH($B32,'Fériés'!$C$5:$C$16,0)>0,1,"")),"") | AC32: =MIN(1,(N32>H32+2/24)+(U32>O32+2/24)) -> 1 | AD32: =MIN(1,(G32<>"")*(G32<5/24)+(N32<>"")*(N32<5/24)+(U32<>"")*(U32<5/24)+(H32>22/24)+(O32>22/24)+(V32>22/24)) -> 0 | AK32: =abs(24*((G32<>"")*(G32<5/24)*(G32-5/24)+(N32<>"")*(N32<5/24)*(N32-5/24)+(U32<>"")*(U32<5/24)*(U32-5/24)+(H32>22/24)*(H32-22/24)+(O32>22/24)*(O32-22/24)+(V32>22/24)*(V32-22/24))) -> 0
B33: 45346 | C33: CA10s | D33: {=IFERROR(INDEX(SC!D:D,MATCH($C33,SC!$C:$C,0)),"")} -> 10 06 | F33: {=IFERROR(INDEX(SC!F:F,MATCH($C33,SC!$C:$C,0)),"")} -> Varen | G33: {=IFERROR(INDEX(SC!G:G,MATCH($C33,SC!$C:$C,0)),"")} -> 0.58472222 | H33: {=IFERROR(INDEX(SC!H:H,MATCH($C33,SC!$C:$C,0)),"")} -> 0.75416667 | I33: {=IFERROR(INDEX(SC!I:I,MATCH($C33,SC!$C:$C,0)),"")} -> Varen | J33: {=IFERROR(INDEX(SC!J:J,MATCH($C33,SC!$C:$C,0)),"")} -> 0.026388889 | K33: {=IFERROR(INDEX(SC!K:K,MATCH($C33,SC!$C:$C,0)),"")} -> 43 03 | M33: {=IFERROR(INDEX(SC!M:M,MATCH($C33,SC!$C:$C,0)),"")} -> Varen | N33: {=IFERROR(INDEX(SC!N:N,MATCH($C33,SC!$C:$C,0)),"")} -> 0.78055556 | O33: {=IFERROR(INDEX(SC!O:O,MATCH($C33,SC!$C:$C,0)),"")} -> 0.88472222 | P33: {=IFERROR(INDEX(SC!P:P,MATCH($C33,SC!$C:$C,0)),"")} -> Dépôt | Q33: {=IFERROR(INDEX(SC!Q:Q,MATCH($C33,SC!$C:$C,0)),"")} | R33: {=IFERROR(INDEX(SC!R:R,MATCH($C33,SC!$C:$C,0)),"")} | T33: {=IFERROR(INDEX(SC!T:T,MATCH($C33,SC!$C:$C,0)),"")} | U33: {=IFERROR(INDEX(SC!U:U,MATCH($C33,SC!$C:$C,0)),"")} | V33: {=IFERROR(INDEX(SC!V:V,MATCH($C33,SC!$C:$C,0)),"")} | W33: {=IFERROR(INDEX(SC!W:W,MATCH($C33,SC!$C:$C,0)),"")} | X33: =V33-U33+Q33+O33-N33+J33+H33-G33 -> 0.3 | Z33: =MIN(1,(H33>21.5/24)+(O33>21.5/24)+(V33>21.5/24)) -> 0 | AA33: =IFERROR(IF(AND(OR($H33<>"",$O33<>"",$V33<>""),OR(WEEKDAY($B33,2)=7,$AB33=1)),1,""),"") | AB33: =IFERROR(IF(AND($G33="",$N33="",$U33=""),"",IF(MATCH($B33,'Fériés'!$C$5:$C$16,0)>0,1,"")),"") | AC33: =MIN(1,(N33>H33+2/24)+(U33>O33+2/24)) -> 0 | AD33: =MIN(1,(G33<>"")*(G33<5/24)+(N33<>"")*(N33<5/24)+(U33<>"")*(U33<5/24)+(H33>22/24)+(O33>22/24)+(V33>22/24)) -> 0 | AK33: =abs(24*((G33<>"")*(G33<5/24)*(G33-5/24)+(N33<>"")*(N33<5/24)*(N33-5/24)+(U33<>"")*(U33<5/24)*(U33-5/24)+(H33>22/24)*(H33-22/24)+(O33>22/24)*(O33-22/24)+(V33>22/24)*(V33-22/24))) -> 0
B34: 45347 | D34: {=IFERROR(INDEX(SC!D:D,MATCH($C34,SC!$C:$C,0)),"")} | F34: {=IFERROR(INDEX(SC!F:F,MATCH($C34,SC!$C:$C,0)),"")} | G34: {=IFERROR(INDEX(SC!G:G,MATCH($C34,SC!$C:$C,0)),"")} | H34: {=IFERROR(INDEX(SC!H:H,MATCH($C34,SC!$C:$C,0)),"")} | I34: {=IFERROR(INDEX(SC!I:I,MATCH($C34,SC!$C:$C,0)),"")} | J34: {=IFERROR(INDEX(SC!J:J,MATCH($C34,SC!$C:$C,0)),"")} | K34: {=IFERROR(INDEX(SC!K:K,MATCH($C34,SC!$C:$C,0)),"")} | M34: {=IFERROR(INDEX(SC!M:M,MATCH($C34,SC!$C:$C,0)),"")} | N34: {=IFERROR(INDEX(SC!N:N,MATCH($C34,SC!$C:$C,0)),"")} | O34: {=IFERROR(INDEX(SC!O:O,MATCH($C34,SC!$C:$C,0)),"")} | P34: {=IFERROR(INDEX(SC!P:P,MATCH($C34,SC!$C:$C,0)),"")} | Q34: {=IFERROR(INDEX(SC!Q:Q,MATCH($C34,SC!$C:$C,0)),"")} | R34: {=IFERROR(INDEX(SC!R:R,MATCH($C34,SC!$C:$C,0)),"")} | T34: {=IFERROR(INDEX(SC!T:T,MATCH($C34,SC!$C:$C,0)),"")} | U34: {=IFERROR(INDEX(SC!U:U,MATCH($C34,SC!$C:$C,0)),"")} | V34: {=IFERROR(INDEX(SC!V:V,MATCH($C34,SC!$C:$C,0)),"")} | W34: {=IFERROR(INDEX(SC!W:W,MATCH($C34,SC!$C:$C,0)),"")} | X34: =V34-U34+Q34+O34-N34+J34+H34-G34 -> 0 | Z34: =MIN(1,(H34>21.5/24)+(O34>21.5/24)+(V34>21.5/24)) -> 1 | AA34: =IFERROR(IF(AND(OR($H34<>"",$O34<>"",$V34<>""),OR(WEEKDAY($B34,2)=7,$AB34=1)),1,""),"") | AB34: =IFERROR(IF(AND($G34="",$N34="",$U34=""),"",IF(MATCH($B34,'Fériés'!$C$5:$C$16,0)>0,1,"")),"") | AC34: =MIN(1,(N34>H34+2/24)+(U34>O34+2/24)) -> 1 | AD34: =MIN(1,(G34<>"")*(G34<5/24)+(N34<>"")*(N34<5/24)+(U34<>"")*(U34<5/24)+(H34>22/24)+(O34>22/24)+(V34>22/24)) -> 1 | AK34: =abs(24*((G34<>"")*(G34<5/24)*(G34-5/24)+(N34<>"")*(N34<5/24)*(N34-5/24)+(U34<>"")*(U34<5/24)*(U34-5/24)+(H34>22/24)*(H34-22/24)+(O34>22/24)*(O34-22/24)+(V34>22/24)*(V34-22/24))) -> 66
B35: 45348 | D35: {=IFERROR(INDEX(SC!D:D,MATCH($C35,SC!$C:$C,0)),"")} | F35: {=IFERROR(INDEX(SC!F:F,MATCH($C35,SC!$C:$C,0)),"")} | G35: {=IFERROR(INDEX(SC!G:G,MATCH($C35,SC!$C:$C,0)),"")} | H35: {=IFERROR(INDEX(SC!H:H,MATCH($C35,SC!$C:$C,0)),"")} | I35: {=IFERROR(INDEX(SC!I:I,MATCH($C35,SC!$C:$C,0)),"")} | J35: {=IFERROR(INDEX(SC!J:J,MATCH($C35,SC!$C:$C,0)),"")} | K35: {=IFERROR(INDEX(SC!K:K,MATCH($C35,SC!$C:$C,0)),"")} | M35: {=IFERROR(INDEX(SC!M:M,MATCH($C35,SC!$C:$C,0)),"")} | N35: {=IFERROR(INDEX(SC!N:N,MATCH($C35,SC!$C:$C,0)),"")} | O35: {=IFERROR(INDEX(SC!O:O,MATCH($C35,SC!$C:$C,0)),"")} | P35: {=IFERROR(INDEX(SC!P:P,MATCH($C35,SC!$C:$C,0)),"")} | Q35: {=IFERROR(INDEX(SC!Q:Q,MATCH($C35,SC!$C:$C,0)),"")} | R35: {=IFERROR(INDEX(SC!R:R,MATCH($C35,SC!$C:$C,0)),"")} | T35: {=IFERROR(INDEX(SC!T:T,MATCH($C35,SC!$C:$C,0)),"")} | U35: {=IFERROR(INDEX(SC!U:U,MATCH($C35,SC!$C:$C,0)),"")} | V35: {=IFERROR(INDEX(SC!V:V,MATCH($C35,SC!$C:$C,0)),"")} | W35: {=IFERROR(INDEX(SC!W:W,MATCH($C35,SC!$C:$C,0)),"")} | X35: =V35-U35+Q35+O35-N35+J35+H35-G35 -> 0 | Z35: =MIN(1,(H35>21.5/24)+(O35>21.5/24)+(V35>21.5/24)) -> 1 | AA35: =IFERROR(IF(AND(OR($H35<>"",$O35<>"",$V35<>""),OR(WEEKDAY($B35,2)=7,$AB35=1)),1,""),"") | AB35: =IFERROR(IF(AND($G35="",$N35="",$U35=""),"",IF(MATCH($B35,'Fériés'!$C$5:$C$16,0)>0,1,"")),"") | AC35: =MIN(1,(N35>H35+2/24)+(U35>O35+2/24)) -> 1 | AD35: =MIN(1,(G35<>"")*(G35<5/24)+(N35<>"")*(N35<5/24)+(U35<>"")*(U35<5/24)+(H35>22/24)+(O35>22/24)+(V35>22/24)) -> 1 | AK35: =abs(24*((G35<>"")*(G35<5/24)*(G35-5/24)+(N35<>"")*(N35<5/24)*(N35-5/24)+(U35<>"")*(U35<5/24)*(U35-5/24)+(H35>22/24)*(H35-22/24)+(O35>22/24)*(O35-22/24)+(V35>22/24)*(V35-22/24))) -> 66
B36: 45349 | D36: {=IFERROR(INDEX(SC!D:D,MATCH($C36,SC!$C:$C,0)),"")} | F36: {=IFERROR(INDEX(SC!F:F,MATCH($C36,SC!$C:$C,0)),"")} | G36: {=IFERROR(INDEX(SC!G:G,MATCH($C36,SC!$C:$C,0)),"")} | H36: {=IFERROR(INDEX(SC!H:H,MATCH($C36,SC!$C:$C,0)),"")} | I36: {=IFERROR(INDEX(SC!I:I,MATCH($C36,SC!$C:$C,0)),"")} | J36: {=IFERROR(INDEX(SC!J:J,MATCH($C36,SC!$C:$C,0)),"")} | K36: {=IFERROR(INDEX(SC!K:K,MATCH($C36,SC!$C:$C,0)),"")} | M36: {=IFERROR(INDEX(SC!M:M,MATCH($C36,SC!$C:$C,0)),"")} | N36: {=IFERROR(INDEX(SC!N:N,MATCH($C36,SC!$C:$C,0)),"")} | O36: {=IFERROR(INDEX(SC!O:O,MATCH($C36,SC!$C:$C,0)),"")} | P36: {=IFERROR(INDEX(SC!P:P,MATCH($C36,SC!$C:$C,0)),"")} | Q36: {=IFERROR(INDEX(SC!Q:Q,MATCH($C36,SC!$C:$C,0)),"")} | R36: {=IFERROR(INDEX(SC!R:R,MATCH($C36,SC!$C:$C,0)),"")} | T36: {=IFERROR(INDEX(SC!T:T,MATCH($C36,SC!$C:$C,0)),"")} | U36: {=IFERROR(INDEX(SC!U:U,MATCH($C36,SC!$C:$C,0)),"")} | V36: {=IFERROR(INDEX(SC!V:V,MATCH($C36,SC!$C:$C,0)),"")} | W36: {=IFERROR(INDEX(SC!W:W,MATCH($C36,SC!$C:$C,0)),"")} | X36: =V36-U36+Q36+O36-N36+J36+H36-G36 -> 0 | Z36: =MIN(1,(H36>21.5/24)+(O36>21.5/24)+(V36>21.5/24)) -> 1 | AA36: =IFERROR(IF(AND(OR($H36<>"",$O36<>"",$V36<>""),OR(WEEKDAY($B36,2)=7,$AB36=1)),1,""),"") | AB36: =IFERROR(IF(AND($G36="",$N36="",$U36=""),"",IF(MATCH($B36,'Fériés'!$C$5:$C$16,0)>0,1,"")),"") | AC36: =MIN(1,(N36>H36+2/24)+(U36>O36+2/24)) -> 1 | AD36: =MIN(1,(G36<>"")*(G36<5/24)+(N36<>"")*(N36<5/24)+(U36<>"")*(U36<5/24)+(H36>22/24)+(O36>22/24)+(V36>22/24)) -> 1 | AK36: =abs(24*((G36<>"")*(G36<5/24)*(G36-5/24)+(N36<>"")*(N36<5/24)*(N36-5/24)+(U36<>"")*(U36<5/24)*(U36-5/24)+(H36>22/24)*(H36-22/24)+(O36>22/24)*(O36-22/24)+(V36>22/24)*(V36-22/24))) -> 66
B37: 45350 | D37: {=IFERROR(INDEX(SC!D:D,MATCH($C37,SC!$C:$C,0)),"")} | F37: {=IFERROR(INDEX(SC!F:F,MATCH($C37,SC!$C:$C,0)),"")} | G37: {=IFERROR(INDEX(SC!G:G,MATCH($C37,SC!$C:$C,0)),"")} | H37: {=IFERROR(INDEX(SC!H:H,MATCH($C37,SC!$C:$C,0)),"")} | I37: {=IFERROR(INDEX(SC!I:I,MATCH($C37,SC!$C:$C,0)),"")} | J37: {=IFERROR(INDEX(SC!J:J,MATCH($C37,SC!$C:$C,0)),"")} | K37: {=IFERROR(INDEX(SC!K:K,MATCH($C37,SC!$C:$C,0)),"")} | M37: {=IFERROR(INDEX(SC!M:M,MATCH($C37,SC!$C:$C,0)),"")} | N37: {=IFERROR(INDEX(SC!N:N,MATCH($C37,SC!$C:$C,0)),"")} | O37: {=IFERROR(INDEX(SC!O:O,MATCH($C37,SC!$C:$C,0)),"")} | P37: {=IFERROR(INDEX(SC!P:P,MATCH($C37,SC!$C:$C,0)),"")} | Q37: {=IFERROR(INDEX(SC!Q:Q,MATCH($C37,SC!$C:$C,0)),"")} | R37: {=IFERROR(INDEX(SC!R:R,MATCH($C37,SC!$C:$C,0)),"")} | T37: {=IFERROR(INDEX(SC!T:T,MATCH($C37,SC!$C:$C,0)),"")} | U37: {=IFERROR(INDEX(SC!U:U,MATCH($C37,SC!$C:$C,0)),"")} | V37: {=IFERROR(INDEX(SC!V:V,MATCH($C37,SC!$C:$C,0)),"")} | W37: {=IFERROR(INDEX(SC!W:W,MATCH($C37,SC!$C:$C,0)),"")} | X37: =V37-U37+Q37+O37-N37+J37+H37-G37 -> 0 | Z37: =MIN(1,(H37>21.5/24)+(O37>21.5/24)+(V37>21.5/24)) -> 1 | AA37: =IFERROR(IF(AND(OR($H37<>"",$O37<>"",$V37<>""),OR(WEEKDAY($B37,2)=7,$AB37=1)),1,""),"") | AB37: =IFERROR(IF(AND($G37="",$N37="",$U37=""),"",IF(MATCH($B37,'Fériés'!$C$5:$C$16,0)>0,1,"")),"") | AC37: =MIN(1,(N37>H37+2/24)+(U37>O37+2/24)) -> 1 | AD37: =MIN(1,(G37<>"")*(G37<5/24)+(N37<>"")*(N37<5/24)+(U37<>"")*(U37<5/24)+(H37>22/24)+(O37>22/24)+(V37>22/24)) -> 1 | AK37: =abs(24*((G37<>"")*(G37<5/24)*(G37-5/24)+(N37<>"")*(N37<5/24)*(N37-5/24)+(U37<>"")*(U37<5/24)*(U37-5/24)+(H37>22/24)*(H37-22/24)+(O37>22/24)*(O37-22/24)+(V37>22/24)*(V37-22/24))) -> 66
B38: 45351 | D38: {=IFERROR(INDEX(SC!D:D,MATCH($C38,SC!$C:$C,0)),"")} | F38: {=IFERROR(INDEX(SC!F:F,MATCH($C38,SC!$C:$C,0)),"")} | G38: {=IFERROR(INDEX(SC!G:G,MATCH($C38,SC!$C:$C,0)),"")} | H38: {=IFERROR(INDEX(SC!H:H,MATCH($C38,SC!$C:$C,0)),"")} | I38: {=IFERROR(INDEX(SC!I:I,MATCH($C38,SC!$C:$C,0)),"")} | J38: {=IFERROR(INDEX(SC!J:J,MATCH($C38,SC!$C:$C,0)),"")} | K38: {=IFERROR(INDEX(SC!K:K,MATCH($C38,SC!$C:$C,0)),"")} | M38: {=IFERROR(INDEX(SC!M:M,MATCH($C38,SC!$C:$C,0)),"")} | N38: {=IFERROR(INDEX(SC!N:N,MATCH($C38,SC!$C:$C,0)),"")} | O38: {=IFERROR(INDEX(SC!O:O,MATCH($C38,SC!$C:$C,0)),"")} | P38: {=IFERROR(INDEX(SC!P:P,MATCH($C38,SC!$C:$C,0)),"")} | Q38: {=IFERROR(INDEX(SC!Q:Q,MATCH($C38,SC!$C:$C,0)),"")} | R38: {=IFERROR(INDEX(SC!R:R,MATCH($C38,SC!$C:$C,0)),"")} | T38: {=IFERROR(INDEX(SC!T:T,MATCH($C38,SC!$C:$C,0)),"")} | U38: {=IFERROR(INDEX(SC!U:U,MATCH($C38,SC!$C:$C,0)),"")} | V38: {=IFERROR(INDEX(SC!V:V,MATCH($C38,SC!$C:$C,0)),"")} | W38: {=IFERROR(INDEX(SC!W:W,MATCH($C38,SC!$C:$C,0)),"")} | X38: =V38-U38+Q38+O38-N38+J38+H38-G38 -> 0 | Z38: =MIN(1,(H38>21.5/24)+(O38>21.5/24)+(V38>21.5/24)) -> 1 | AA38: =IFERROR(IF(AND(OR($H38<>"",$O38<>"",$V38<>""),OR(WEEKDAY($B38,2)=7,$AB38=1)),1,""),"") | AB38: =IFERROR(IF(AND($G38="",$N38="",$U38=""),"",IF(MATCH($B38,'Fériés'!$C$5:$C$16,0)>0,1,"")),"") | AC38: =MIN(1,(N38>H38+2/24)+(U38>O38+2/24)) -> 1 | AD38: =MIN(1,(G38<>"")*(G38<5/24)+(N38<>"")*(N38<5/24)+(U38<>"")*(U38<5/24)+(H38>22/24)+(O38>22/24)+(V38>22/24)) -> 1 | AK38: =abs(24*((G38<>"")*(G38<5/24)*(G38-5/24)+(N38<>"")*(N38<5/24)*(N38-5/24)+(U38<>"")*(U38<5/24)*(U38-5/24)+(H38>22/24)*(H38-22/24)+(O38>22/24)*(O38-22/24)+(V38>22/24)*(V38-22/24))) -> 66
V40: TOTAL | Y40: =SUM(Y10:Y38) -> 1 | Z40: =SUM(Z10:Z38) -> 13 | AA40: =SUM(AA10:AA38) -> 0 | AB40: =SUM(AB10:AB38) -> 0 | AC40: =SUM(AC10:AC38) -> 25 | AD40: =SUM(AD10:AD38) -> 13 | AE40: =SUM(AE10:AE38) -> 15.2 | AF40: =SUM(AF10:AF38) -> 0 | ... AL40: =SUM(AL10:AL38) -> 0

Sheet SC
B1: Jour | C1: Service | D1: Ligne | E1: Véhicule | F1: Lieu | G1: Départ | H1: Arrivée | I1: Lieu | J1: Pause | K1: Ligne | L1: Véhicule | M1: Lieu | N1: Départ | O1: Arrivée | P1: Lieu | Q1: Pause | R1: Ligne | S1: Véhicule | T1: Lieu | U1: Départ | V1: Arrivée | W1: Lieu | X1: TTE
B2: Lundi au vendredi | C2: BX08 | D2: F8 04 | F2: Varen | G2: 0.34722222 | H2: 0.51458333 | I2: Varen | J2: =IF(N2="","",(IF(N2-H2>0.08,"",N2-H2))) | K2: F8 09 | M2: Varen | N2: 0.63680556 | O2: 0.78263889 | P2: Varen | Q2: =IF(U2="","",(IF(U2-O2>0.08,"",U2-O2))) | X2: =V2-U2+Q2+O2-N2+J2+H2-G2 -> 0.31319444
B3: Samedi | C3: CA09 | D3: A | F3: Dépôt | G3: 0.54583333 | H3: 0.62152778 | I3: Dépôt | J3: =IF(N3="","",(IF(N3-H3>0.08,"",N3-H3))) -> 0.022222222 | K3: 10 06 | M3: Dépôt | N3: 0.64375 | O3: 0.78263889 | P3: Varen | Q3: =IF(U3="","",(IF(U3-O3>0.08,"",U3-O3))) -> 0.019444444 | R3: 10 05 | T3: Varen | U3: 0.80208333 | V3: 0.85138889 | W3: Dépôt | X3: =V3-U3+Q3+O3-N3+J3+H3-G3 -> 0.30555556
B4: Dimanche | C4: CA09b | D4: 10 04 | E4: 3146 | F4: Varen | G4: 0.5 | H4: 0.59652778 | I4: Varen | J4: 0.0090277778 | K4: 43 04 | L4: 722 | M4: Varen | N4: 0.60555556 | O4: 0.62986111 | P4: Varen | Q4: 0.027083333 | R4: 10 02 | S4: 3104 | T4: Varen | U4: 0.65694444 | V4: 0.81180556 | W4: Varen | X4: =V4-U4+Q4+O4-N4+J4+H4-G4 -> 0.31180556
C5: CA10s | D5: 10 06 | F5: Varen | G5: 0.58472222 | H5: 0.75416667 | I5: Varen | J5: 0.026388889 | K5: 43 03 | M5: Varen | N5: 0.78055556 | O5: 0.88472222 | P5: Dépôt | Q5: =IF(U5="","",(IF(U5-O5>0.08,"",U5-O5))) | X5: =V5-U5+Q5+O5-N5+J5+H5-G5 -> 0.3
C6: CM01 | D6: F8 01 | E6: 430 | F6: Dépôt | G6: 0.22430556 | H6: 0.34652778 | I6: Varen | J6: 0.026388889 | K6: 43 02 | L6: 728 | M6: Varen | N6: 0.37291667 | O6: 0.51388889 | P6: Varen | Q6: 0.0048611111 | R6: Dépl | T6: Varen | U6: 0.51875 | V6: 0.53402778 | W6: Dépôt | X6: =V6-U6+Q6+O6-N6+J6+H6-G6 -> 0.30972222
C7: CM01j | D7: 10 04 | E7: 3149 | F7: Dépôt | G7: 0.27083333 | H7: 0.40138889 | I7: Varen | J7: 0.024305556 | K7: 43 01 | L7: 707 | M7: Varen | N7: 0.42569444 | O7: 0.58819444 | P7: Dépôt | X7: =V7-U7+Q7+O7-N7+J7+H7-G7 -> 0.31736111
C8: CM05b | D8: 08 03 | E8: 729 | F8: Dépôt | G8: 0.23541667 | H8: 0.3625 | I8: Varen | J8: 0.025694444 | K8: 08 03 | L8: 729 | M8: Varen | N8: 0.38819444 | O8: 0.55138889 | P8: Dépôt | X8: =V8-U8+Q9+O8-N8+J8+H8-G8 -> 0.31597222
C9: CM08 | D9: F8 02 | F9: Dépôt | G9: 0.23194444 | H9: 0.36388889 | I9: Varen | J9: =IF(N9="","",(IF(N9-H9>0.08,"",N9-H9))) -> 0.025694444 | K9: F8 09 | M9: Varen | N9: 0.38958333 | O9: 0.55 | P9: Varen | Q9: =IF(U9="","",(IF(U9-O9>0.08,"",U9-O9))) | X9: =V9-U9+Q10+O9-N9+J9+H9-G9 -> 0.31805556
C10: CM09j | D10: F8 03 | F10: Dépôt | G10: 0.23541667 | H10: 0.36111111 | I10: Varen | J10: =IF(N10="","",(IF(N10-H10>0.08,"",N10-H10))) -> 0.025 | K10: F8 03 | M10: Varen | N10: 0.38611111 | O10: 0.54305556 | P10: Dépôt | Q10: =IF(U10="","",(IF(U10-O10>0.08,"",U10-O10))) | X10: =V10-U10+Q11+O10-N10+J10+H10-G10 -> 0.30763889
C11: K01 | D11: F2 10 | F11: Dépôt | G11: 0.27291667 | H11: 0.40277778 | I11: Dépôt | J11: =IF(N11="","",(IF(N11-H11>0.08,"",N11-H11))) | K11: F2 05 | M11: HVR | N11: 0.57152778 | O11: 0.74375 | P11: HVR | Q11: =IF(U11="","",(IF(U11-O11>0.08,"",U11-O11))) | X11: =V11-U11+Q11+O11-N11+J11+H11-G11 -> 0.30208333
C12: K05d | D12: F2 02 | F12: HVR | G12: 0.50902778 | H12: 0.66736111 | I12: HVR | J12: =IF(N12="","",(IF(N12-H12>0.08,"",N12-H12))) -> 0.020833333 | K12: F2 03 | M12: HVR | N12: 0.68819444 | O12: 0.72430556 | P12: HVR | Q12: =IF(U12="","",(IF(U12-O12>0.08,"",U12-O12))) -> 0.0090277778 | R12: F2 02 | T12: HVR | U12: 0.73333333 | V12: 0.80208333 | W12: HVR | X12: =V12-U12+Q12+O12-N12+J12+H12-G12 -> 0.29305556
C13: K05s | D13: F2 03 | E13: 5410 | F13: HVR | G13: 0.48680556 | H13: 0.62430556 | I13: HVR | J13: 0.04375 | K13: F2 09 | L13: 5412 | M13: HVR | N13: 0.66805556 | O13: 0.80833333 | P13: HVR | Q13: =IF(U13="","",(IF(U13-O13>0.08,"",U13-O13))) | X13: =V13-U13+Q13+O13-N13+J13+H13-G13 -> 0.32152778
C14: K07 | D14: F2 02 | F14: HVR | G14: 0.33333333 | H14: 0.49930556 | I14: HVR | J14: =IF(N14="","",(IF(N14-H14>0.08,"",N14-H14))) | K14: F2 10 | M14: Dépôt | N14: 0.65694444 | O14: 0.82777778 | P14: Dépôt | Q14: =IF(U14="","",(IF(U14-O14>0.08,"",U14-O14))) | X14: =V14-U14+Q14+O14-N14+J14+H14-G14 -> 0.33680556
C15: K08d | D15: B 1 | E15: 22 | F15: Dépôt | G15: 0.72083333 | H15: 0.76041667 | I15: Dépôt | J15: 0.0034722222 | K15: Dépl | M15: Dépôt | N15: 0.76388889 | O15: 0.77291667 | P15: HVR | Q15: 0.027777778 | R15: F2 02 | S15: 5502 | T15: HVR | U15: 0.80069444 | V15: 0.93819444 | W15: Dépôt | X15: =V15-U15+Q15+O15-N15+J15+H15-G15 -> 0.21736111
C16: K08s | D16: F2 08 | E16: 5318 | F16: Dépôt | G16: 0.53333333 | H16: 0.70833333 | I16: HVR | J16: 0.027083333 | K16: F2 08 | L16: 5318 | M16: HVR | N16: 0.73541667 | O16: 0.84097222 | P16: Dépôt | X16: =V16-U16+Q16+O16-N16+J16+H16-G16 -> 0.30763889
C17: L02b | D17: 15 02 | E17: 711 | F17: Dépôt | G17: 0.23611111 | H17: 0.36805556 | I17: HVR | J17: 0.017361111 | K17: 11 03 | L17: 716 | M17: HVR | N17: 0.38541667 | O17: 0.54305556 | P17: HVR | X17: =V17-U17+Q17+O17-N17+J17+H17-G17 -> 0.30694444
C18: OA07 | D18: F1 09 | F18: Dépôt | G18: 0.27152778 | H18: 0.40486111 | I18: Dépôt | J18: =IF(N18="","",(IF(N18-H18>0.08,"",N18-H18))) | K18: F1 12 | M18: Champ | N18: 0.57013889 | O18: 0.64236111 | P18: Champ | Q18: =IF(U18="","",(IF(U18-O18>0.08,"",U18-O18))) -> 0.013888889 | R18: F1 05 | T18: Champ | U18: 0.65625 | V18: 0.76041667 | W18: Champ | X18: =V18-U18+Q18+O18-N18+J18+H18-G18 -> 0.32361111
C19: P08s | D19: F1 05 | E19: 5315 | F19: Champ | G19: 0.56944444 | H19: 0.73888889 | I19: Champ | J19: 0.033333333 | K19: F1 08 | L19: 5507 | M19: Champ | N19: 0.77222222 | O19: 0.88472222 | P19: Dépôt | Q19: =IF(U19="","",(IF(U19-O19>0.08,"",U19-O19))) | X19: =V19-U19+Q19+O19-N19+J19+H19-G19 -> 0.31527778
C20: SP212s | D20: 43 03 | E20: 703 | F20: Varen | G20: 0.58958333 | H20: 0.74861111 | I20: Varen | J20: 0.038888889 | K20: F8 07 | L20: 3116 | M20: Varen | N20: 0.7875 | O20: 0.92291667 | P20: Varen | Q20: =IF(U20="","",(IF(U20-O20>0.08,"",U20-O20))) | X20: =V20-U20+Q20+O20-N20+J20+H20-G20 -> 0.33333333
C21: SP214 | D21: 10 02 | F21: Varen | G21: 0.52361111 | H21: 0.62152778 | I21: Varen | J21: =IF(N21="","",(IF(N21-H21>0.08,"",N21-H21))) -> 0.025694444 | K21: F8 03 | M21: Varen | N21: 0.64722222 | O21: 0.75902778 | P21: Varen | Q21: =IF(U21="","",(IF(U21-O21>0.08,"",U21-O21))) -> 0.022222222 | R21: 10 06 | T21: Varen | U21: 0.78125 | V21: 0.86041667 | W21: Dépôt | X21: =V21-U21+Q21+O21-N21+J21+H21-G21 -> 0.33680556
C22: SP218 | D22: F8 09 | F22: Varen | G22: 0.54722222 | H22: 0.63958333 | I22: Varen | J22: =IF(N22="","",(IF(N22-H22>0.08,"",N22-H22))) -> 0.025694444 | K22: 10 02 | M22: Varen | N22: 0.66527778 | O22: 0.77083333 | P22: Varen | Q22: =IF(U22="","",(IF(U22-O22>0.08,"",U22-O22))) -> 0.020138889 | R22: 43 02 | T22: Varen | U22: 0.79097222 | V22: 0.87222222 | W22: Dépôt | X22: =V22-U22+Q22+O22-N22+J22+H22-G22 -> 0.325
C23: SP221b | D23: 10 01 | E23: 3203 | F23: Varen | G23: 0.50416667 | H23: 0.65277778 | I23: Varen | J23: 0.023611111 | K23: 10 05 | L23: 430 | M23: Varen | N23: 0.67638889 | O23: 0.73333333 | P23: Varen | Q23: 0.028472222 | R23: F8 07 | S23: 719 | T23: Varen | U23: 0.76180556 | V23: 0.83194444 | W23: Dépôt | X23: =V23-U23+Q23+O23-N23+J23+H23-G23 -> 0.32777778
C24: SP232 | D24: 10 07 | F24: Varen | G24: 0.36458333 | H24: 0.51319444 | I24: Varen | J24: =IF(N24="","",(IF(N24-H24>0.08,"",N24-H24))) | K24: F8 05 | M24: Dépôt | N24: 0.63958333 | O24: 0.81666667 | P24: Dépôt | Q24: =IF(U24="","",(IF(U24-O24>0.08,"",U24-O24))) | X24: =V24-U24+Q24+O24-N24+J24+H24-G24 -> 0.32569444
C25: SP35 | D25: F1 04 | F25: Champ | G25: 0.29375 | H25: 0.46875 | I25: Champ | J25: =IF(N25="","",(IF(N25-H25>0.08,"",N25-H25))) | K25: 15 07 | M25: Dépôt | N25: 0.65208333 | O25: 0.80972222 | P25: Dépôt | Q25: =IF(U25="","",(IF(U25-O25>0.08,"",U25-O25))) | X25: =V25-U25+Q25+O25-N25+J25+H25-G25 -> 0.33263889
C26: UX04 | D26: F2 14 | F26: Dépôt | G26: 0.3 | H26: 0.43194444 | I26: Dépôt | J26: =IF(N26="","",(IF(N26-H26>0.08,"",N26-H26))) | K26: F2 14 | M26: Dépôt | N26: 0.63611111 | O26: 0.81041667 | P26: Dépôt | Q26: =IF(U26="","",(IF(U26-O26>0.08,"",U26-O26))) | X26: =V26-U26+Q26+O26-N26+J26+H26-G26 -> 0.30625
C27: VX03 | D27: F1 10 | F27: Dépôt | G27: 0.27430556 | H27: 0.41180556 | I27: Dépôt | J27: =IF(N27="","",(IF(N27-H27>0.08,"",N27-H27))) | K27: F2 08 | M27: Dépôt | N27: 0.64861111 | O27: 0.79375 | P27: Dépôt | Q27: =IF(U27="","",(IF(U27-O27>0.08,"",U27-O27))) | X27: =V27-U27+Q27+O27-N27+J27+H27-G27 -> 0.28263889
C28: VX09 | D28: F2 05 | F28: HVR | G28: 0.29583333 | H28: 0.46666667 | I28: HVR | J28: =IF(N28="","",(IF(N28-H28>0.08,"",N28-H28))) | K28: 15 06 | M28: Dépôt | N28: 0.65069444 | O28: 0.80902778 | P28: Dépôt | Q28: =IF(U28="","",(IF(U28-O28>0.08,"",U28-O28))) | X28: =V28-U28+Q28+O28-N28+J28+H28-G28 -> 0.32916667
J29: =IF(N29="","",(IF(N29-H29>0.08,"",N29-H29))) | Q29: =IF(U29="","",(IF(U29-O29>0.08,"",U29-O29))) | X29: =V29-U29+Q29+O29-N29+J29+H29-G29 -> 0
J30: =IF(N30="","",(IF(N30-H30>0.08,"",N30-H30))) | Q30: =IF(U30="","",(IF(U30-O30>0.08,"",U30-O30))) | X30: =V30-U30+Q30+O30-N30+J30+H30-G30 -> 0
J31: =IF(N31="","",(IF(N31-H31>0.08,"",N31-H31))) | Q31: =IF(U31="","",(IF(U31-O31>0.08,"",U31-O31))) | X31: =V31-U31+Q31+O31-N31+J31+H31-G31 -> 0
J32: =IF(N32="","",(IF(N32-H32>0.08,"",N32-H32))) | Q32: =IF(U32="","",(IF(U32-O32>0.08,"",U32-O32))) | X32: =V32-U32+Q32+O32-N32+J32+H32-G32 -> 0
J33: =IF(N33="","",(IF(N33-H33>0.08,"",N33-H33))) | Q33: =IF(U33="","",(IF(U33-O33>0.08,"",U33-O33))) | X33: =V33-U33+Q33+O33-N33+J33+H33-G33 -> 0
J34: =IF(N34="","",(IF(N34-H34>0.08,"",N34-H34))) | Q34: =IF(U34="","",(IF(U34-O34>0.08,"",U34-O34))) | X34: =V34-U34+Q34+O34-N34+J34+H34-G34 -> 0
J35: =IF(N35="","",(IF(N35-H35>0.08,"",N35-H35))) | Q35: =IF(U35="","",(IF(U35-O35>0.08,"",U35-O35))) | X35: =V35-U35+Q35+O35-N35+J35+H35-G35 -> 0
J36: =IF(N36="","",(IF(N36-H36>0.08,"",N36-H36))) | Q36: =IF(U36="","",(IF(U36-O36>0.08,"",U36-O36))) | X36: =V36-U36+Q36+O36-N36+J36+H36-G36 -> 0
J37: =IF(N37="","",(IF(N37-H37>0.08,"",N37-H37))) | Q37: =IF(U37="","",(IF(U37-O37>0.08,"",U37-O37))) | X37: =V37-U37+Q37+O37-N37+J37+H37-G37 -> 0
J38: =IF(N38="","",(IF(N38-H38>0.08,"",N38-H38))) | Q38: =IF(U38="","",(IF(U38-O38>0.08,"",U38-O38))) | X38: =V38-U38+Q38+O38-N38+J38+H38-G38 -> 0
J39: =IF(N39="","",(IF(N39-H39>0.08,"",N39-H39))) | Q39: =IF(U39="","",(IF(U39-O39>0.08,"",U39-O39))) | X39: =V39-U39+Q39+O39-N39+J39+H39-G39 -> 0
J40: =IF(N40="","",(IF(N40-H40>0.08,"",N40-H40))) | Q40: =IF(U40="","",(IF(U40-O40>0.08,"",U40-O40))) | X40: =V40-U40+Q40+O40-N40+J40+H40-G40 -> 0
... J78: =IF(N78="","",(IF(N78-H78>0.08,"",N78-H78))) | Q78: =IF(U78="","",(IF(U78-O78>0.08,"",U78-O78))) | X78: =V78-U78+Q78+O78-N78+J78+H78-G78 -> 0

Sheet Janvier
Y1: Repas décalé midi | Z1: repas soir | AA1: prime dimanche et férié | AB1: Prime férié | AC1: Prime deux vacations | AD1: Prime de Nuit Conducteurs | AE1: Heures sup (regroup RPAY+HDEP | AF1: Heure sans majoration | AG1: Heures supp à 25 % | AH1: Supplémentaire à 200 % | AI1: Repos compensateur | AJ1: Visite médicale | AK1: Heures de nuit | AL1: Heures de Nuit à Payer
B2: Feuille de temps - Janvier 2024 | C2: - | D2: 45292
B4: Nom :
B5: Matricule :
B6: Temps de travail/jour : | C6: 0.31666667 | K6: Temps de travail/mois : | O6: 6.1805556
B7: Temps de travail total : | C7: =SUM(X10:X40) -> 6.9055556 | K7: Différence temps de travail : | O7: =C7-O6 -> 0.725
B9: Jour | C9: Service | D9: Ligne | E9: Véhicule | F9: Lieu | G9: Départ | H9: Arrivée | I9: Lieu | J9: Pause | K9: Ligne | L9: Véhicule | M9: Lieu | N9: Départ | O9: Arrivée | P9: Lieu | Q9: Pause | R9: Ligne | S9: Véhicule | T9: Lieu | U9: Départ | V9: Arrivée | W9: Lieu | X9: TTE | Y9: REPM | Z9: REPS | AA9: PDIM | AB9: PFERI | AC9: P2V | AD9: PNUIT | AE9: HSUP | AF9: HSM | AG9: HSU25 | AH9: HS200 | AI9: RC | AJ9: VM | AK9: HNUIT | AL9: HNUIP
B10: 45292 | C10: K08d | D10: {=IFERROR(INDEX(SC!D:D,MATCH($C10,SC!$C:$C,0)),"")} -> B 1 | E10: 22 | F10: {=IFERROR(INDEX(SC!F:F,MATCH($C10,SC!$C:$C,0)),"")} -> Dépôt | G10: {=IFERROR(INDEX(SC!G:G,MATCH($C10,SC!$C:$C,0)),"")} -> 0.72083333 | H10: {=IFERROR(INDEX(SC!H:H,MATCH($C10,SC!$C:$C,0)),"")} -> 0.76041667 | I10: {=IFERROR(INDEX(SC!I:I,MATCH($C10,SC!$C:$C,0)),"")} -> Dépôt | J10: {=IFERROR(INDEX(SC!J:J,MATCH($C10,SC!$C:$C,0)),"")} -> 0.0034722222 | K10: {=IFERROR(INDEX(SC!K:K,MATCH($C10,SC!$C:$C,0)),"")} -> Dépl | M10: {=IFERROR(INDEX(SC!M:M,MATCH($C10,SC!$C:$C,0)),"")} -> Dépôt | N10: {=IFERROR(INDEX(SC!N:N,MATCH($C10,SC!$C:$C,0)),"")} -> 0.76388889 | O10: {=IFERROR(INDEX(SC!O:O,MATCH($C10,SC!$C:$C,0)),"")} -> 0.77291667 | P10: {=IFERROR(INDEX(SC!P:P,MATCH($C10,SC!$C:$C,0)),"")} -> HVR | Q10: {=IFERROR(INDEX(SC!Q:Q,MATCH($C10,SC!$C:$C,0)),"")} -> 0.027777778 | R10: {=IFERROR(INDEX(SC!R:R,MATCH($C10,SC!$C:$C,0)),"")} -> F2 02 | S10: 5502 | T10: {=IFERROR(INDEX(SC!T:T,MATCH($C10,SC!$C:$C,0)),"")} -> HVR | U10: {=IFERROR(INDEX(SC!U:U,MATCH($C10,SC!$C:$C,0)),"")} -> 0.80069444 | V10: {=IFERROR(INDEX(SC!V:V,MATCH($C10,SC!$C:$C,0)),"")} -> 0.93819444 | W10: {=IFERROR(INDEX(SC!W:W,MATCH($C10,SC!$C:$C,0)),"")} -> Dépôt | X10: =V10-U10+Q10+O10-N10+J10+H10-G10 -> 0.21736111 | Z10: =MIN(1,(H10>21.5/24)+(O10>21.5/24)+(V10>21.5/24)) -> 1 | AA10: =IFERROR(IF(AND(OR($H10<>"",$O10<>"",$V10<>""),OR(WEEKDAY($B10,2)=7,$AB10=1)),1,""),"") -> 1 | AB10: =IFERROR(IF(AND($G10="",$N10="",$U10=""),"",IF(MATCH($B10,'Fériés'!$C$5:$C$16,0)>0,1,"")),"") -> 1 | AC10: =MIN(1,(N10>H10+2/24)+(U10>O10+2/24)) -> 0 | AD10: =MIN(1,(G10<>"")*(G10<5/24)+(N10<>"")*(N10<5/24)+(U10<>"")*(U10<5/24)+(H10>22/24)+(O10>22/24)+(V10>22/24)) -> 1 | AK10: =abs(24*((G10<>"")*(G10<5/24)*(G10-5/24)+(N10<>"")*(N10<5/24)*(N10-5/24)+(U10<>"")*(U10<5/24)*(U10-5/24)+(H10>22/24)*(H10-22/24)+(O10>22/24)*(O10-22/24)+(V10>22/24)*(V10-22/24))) -> 0.51666667 | AL10: =abs(24*((G10<>"")*(G10<5/24)*(G10-5/24)+(N10<>"")*(N10<5/24)*(N10-5/24)+(U10<>"")*(U10<5/24)*(U10-5/24)+(H10>26/24)*(H10-26/24)+(O10>26/24)*(O10-26/24)+(V10>26/24)*(V10-26/24))) -> 0
B11: 45293 | C11: SP221b | D11: {=IFERROR(INDEX(SC!D:D,MATCH($C11,SC!$C:$C,0)),"")} -> 10 01 | E11: 3203 | F11: {=IFERROR(INDEX(SC!F:F,MATCH($C11,SC!$C:$C,0)),"")} -> Varen | G11: {=IFERROR(INDEX(SC!G:G,MATCH($C11,SC!$C:$C,0)),"")} -> 0.50416667 | H11: {=IFERROR(INDEX(SC!H:H,MATCH($C11,SC!$C:$C,0)),"")} -> 0.65277778 | I11: {=IFERROR(INDEX(SC!I:I,MATCH($C11,SC!$C:$C,0)),"")} -> Varen | J11: {=IFERROR(INDEX(SC!J:J,MATCH($C11,SC!$C:$C,0)),"")} -> 0.023611111 | K11: {=IFERROR(INDEX(SC!K:K,MATCH($C11,SC!$C:$C,0)),"")} -> 10 05 | L11: 430 | M11: {=IFERROR(INDEX(SC!M:M,MATCH($C11,SC!$C:$C,0)),"")} -> Varen | N11: {=IFERROR(INDEX(SC!N:N,MATCH($C11,SC!$C:$C,0)),"")} -> 0.67638889 | O11: {=IFERROR(INDEX(SC!O:O,MATCH($C11,SC!$C:$C,0)),"")} -> 0.73333333 | P11: {=IFERROR(INDEX(SC!P:P,MATCH($C11,SC!$C:$C,0)),"")} -> Varen | Q11: {=IFERROR(INDEX(SC!Q:Q,MATCH($C11,SC!$C:$C,0)),"")} -> 0.028472222 | R11: {=IFERROR(INDEX(SC!R:R,MATCH($C11,SC!$C:$C,0)),"")} -> F8 07 | S11: 719 | T11: {=IFERROR(INDEX(SC!T:T,MATCH($C11,SC!$C:$C,0)),"")} -> Varen | U11: {=IFERROR(INDEX(SC!U:U,MATCH($C11,SC!$C:$C,0)),"")} -> 0.76180556 | V11: {=IFERROR(INDEX(SC!V:V,MATCH($C11,SC!$C:$C,0)),"")} -> 0.83194444 | W11: {=IFERROR(INDEX(SC!W:W,MATCH($C11,SC!$C:$C,0)),"")} -> Dépôt | X11: =V11-U11+Q11+O11-N11+J11+H11-G11 -> 0.32777778 | Y11: 1 | Z11: =MIN(1,(H11>21.5/24)+(O11>21.5/24)+(V11>21.5/24)) -> 0 | AA11: =IFERROR(IF(AND(OR($H11<>"",$O11<>"",$V11<>""),OR(WEEKDAY($B11,2)=7,$AB11=1)),1,""),"") | AB11: =IFERROR(IF(AND($G11="",$N11="",$U11=""),"",IF(MATCH($B11,'Fériés'!$C$5:$C$16,0)>0,1,"")),"") | AC11: =MIN(1,(N11>H11+2/24)+(U11>O11+2/24)) -> 0 | AD11: =MIN(1,(G11<>"")*(G11<5/24)+(N11<>"")*(N11<5/24)+(U11<>"")*(U11<5/24)+(H11>22/24)+(O11>22/24)+(V11>22/24)) -> 0 | AK11: =abs(24*((G11<>"")*(G11<5/24)*(G11-5/24)+(N11<>"")*(N11<5/24)*(N11-5/24)+(U11<>"")*(U11<5/24)*(U11-5/24)+(H11>22/24)*(H11-22/24)+(O11>22/24)*(O11-22/24)+(V11>22/24)*(V11-22/24))) -> 0 | AL11: =abs(24*((G11<>"")*(G11<5/24)*(G11-5/24)+(N11<>"")*(N11<5/24)*(N11-5/24)+(U11<>"")*(U11<5/24)*(U11-5/24)+(H11>26/24)*(H11-26/24)+(O11>26/24)*(O11-26/24)+(V11>26/24)*(V11-26/24))) -> 0
B12: 45294 | C12: CA09b | D12: {=IFERROR(INDEX(SC!D:D,MATCH($C12,SC!$C:$C,0)),"")} -> 10 04 | E12: 3146 | F12: {=IFERROR(INDEX(SC!F:F,MATCH($C12,SC!$C:$C,0)),"")} -> Varen | G12: {=IFERROR(INDEX(SC!G:G,MATCH($C12,SC!$C:$C,0)),"")} -> 0.5 | H12: {=IFERROR(INDEX(SC!H:H,MATCH($C12,SC!$C:$C,0)),"")} -> 0.59652778 | I12: {=IFERROR(INDEX(SC!I:I,MATCH($C12,SC!$C:$C,0)),"")} -> Varen | J12: {=IFERROR(INDEX(SC!J:J,MATCH($C12,SC!$C:$C,0)),"")} -> 0.0090277778 | K12: {=IFERROR(INDEX(SC!K:K,MATCH($C12,SC!$C:$C,0)),"")} -> 43 04 | L12: 722 | M12: {=IFERROR(INDEX(SC!M:M,MATCH($C12,SC!$C:$C,0)),"")} -> Varen | N12: {=IFERROR(INDEX(SC!N:N,MATCH($C12,SC!$C:$C,0)),"")} -> 0.60555556 | O12: {=IFERROR(INDEX(SC!O:O,MATCH($C12,SC!$C:$C,0)),"")} -> 0.62986111 | P12: {=IFERROR(INDEX(SC!P:P,MATCH($C12,SC!$C:$C,0)),"")} -> Varen | Q12: {=IFERROR(INDEX(SC!Q:Q,MATCH($C12,SC!$C:$C,0)),"")} -> 0.027083333 | R12: {=IFERROR(INDEX(SC!R:R,MATCH($C12,SC!$C:$C,0)),"")} -> 10 02 | S12: 3104 | T12: {=IFERROR(INDEX(SC!T:T,MATCH($C12,SC!$C:$C,0)),"")} -> Varen | U12: {=IFERROR(INDEX(SC!U:U,MATCH($C12,SC!$C:$C,0)),"")} -> 0.65694444 | V12: {=IFERROR(INDEX(SC!V:V,MATCH($C12,SC!$C:$C,0)),"")} -> 0.81180556 | W12: {=IFERROR(INDEX(SC!W:W,MATCH($C12,SC!$C:$C,0)),"")} -> Varen | X12: =V12-U12+Q12+O12-N12+J12+H12-G12 -> 0.31180556 | Y12: 1 | Z12: =MIN(1,(H12>21.5/24)+(O12>21.5/24)+(V12>21.5/24)) -> 0 | AA12: =IFERROR(IF(AND(OR($H12<>"",$O12<>"",$V12<>""),OR(WEEKDAY($B12,2)=7,$AB12=1)),1,""),"") | AB12: =IFERROR(IF(AND($G12="",$N12="",$U12=""),"",IF(MATCH($B12,'Fériés'!$C$5:$C$16,0)>0,1,"")),"") | AC12: =MIN(1,(N12>H12+2/24)+(U12>O12+2/24)) -> 0 | AD12: =MIN(1,(G12<>"")*(G12<5/24)+(N12<>"")*(N12<5/24)+(U12<>"")*(U12<5/24)+(H12>22/24)+(O12>22/24)+(V12>22/24)) -> 0 | AK12: =abs(24*((G12<>"")*(G12<5/24)*(G12-5/24)+(N12<>"")*(N12<5/24)*(N12-5/24)+(U12<>"")*(U12<5/24)*(U12-5/24)+(H12>22/24)*(H12-22/24)+(O12>22/24)*(O12-22/24)+(V12>22/24)*(V12-22/24))) -> 0 | AL12: =abs(24*((G12<>"")*(G12<5/24)*(G12-5/24)+(N12<>"")*(N12<5/24)*(N12-5/24)+(U12<>"")*(U12<5/24)*(U12-5/24)+(H12>26/24)*(H12-26/24)+(O12>26/24)*(O12-26/24)+(V12>26/24)*(V12-26/24))) -> 0
B13: 45295 | C13: CM05b | D13: {=IFERROR(INDEX(SC!D:D,MATCH($C13,SC!$C:$C,0)),"")} -> 08 03 | E13: 729 | F13: {=IFERROR(INDEX(SC!F:F,MATCH($C13,SC!$C:$C,0)),"")} -> Dépôt | G13: {=IFERROR(INDEX(SC!G:G,MATCH($C13,SC!$C:$C,0)),"")} -> 0.23541667 | H13: {=IFERROR(INDEX(SC!H:H,MATCH($C13,SC!$C:$C,0)),"")} -> 0.3625 | I13: {=IFERROR(INDEX(SC!I:I,MATCH($C13,SC!$C:$C,0)),"")} -> Varen | J13: {=IFERROR(INDEX(SC!J:J,MATCH($C13,SC!$C:$C,0)),"")} -> 0.025694444 | K13: {=IFERROR(INDEX(SC!K:K,MATCH($C13,SC!$C:$C,0)),"")} -> 08 03 | L13: 729 | M13: {=IFERROR(INDEX(SC!M:M,MATCH($C13,SC!$C:$C,0)),"")} -> Varen | N13: {=IFERROR(INDEX(SC!N:N,MATCH($C13,SC!$C:$C,0)),"")} -> 0.38819444 | O13: {=IFERROR(INDEX(SC!O:O,MATCH($C13,SC!$C:$C,0)),"")} -> 0.55138889 | P13: {=IFERROR(INDEX(SC!P:P,MATCH($C13,SC!$C:$C,0)),"")} -> Dépôt | Q13: {=IFERROR(INDEX(SC!Q:Q,MATCH($C13,SC!$C:$C,0)),"")} | R13: {=IFERROR(INDEX(SC!R:R,MATCH($C13,SC!$C:$C,0)),"")} | T13: {=IFERROR(INDEX(SC!T:T,MATCH($C13,SC!$C:$C,0)),"")} | U13: {=IFERROR(INDEX(SC!U:U,MATCH($C13,SC!$C:$C,0)),"")} | V13: {=IFERROR(INDEX(SC!V:V,MATCH($C13,SC!$C:$C,0)),"")} | W13: {=IFERROR(INDEX(SC!W:W,MATCH($C13,SC!$C:$C,0)),"")} | X13: =V13-U13+Q13+O13-N13+J13+H13-G13 -> 0.31597222 | Z13: =MIN(1,(H13>21.5/24)+(O13>21.5/24)+(V13>21.5/24)) -> 0 | AA13: =IFERROR(IF(AND(OR($H13<>"",$O13<>"",$V13<>""),OR(WEEKDAY($B13,2)=7,$AB13=1)),1,""),"") | AB13: =IFERROR(IF(AND($G13="",$N13="",$U13=""),"",IF(MATCH($B13,'Fériés'!$C$5:$C$16,0)>0,1,"")),"") | AC13: =MIN(1,(N13>H13+2/24)+(U13>O13+2/24)) -> 0 | AD13: =MIN(1,(G13<>"")*(G13<5/24)+(N13<>"")*(N13<5/24)+(U13<>"")*(U13<5/24)+(H13>22/24)+(O13>22/24)+(V13>22/24)) -> 0 | AK13: =abs(24*((G13<>"")*(G13<5/24)*(G13-5/24)+(N13<>"")*(N13<5/24)*(N13-5/24)+(U13<>"")*(U13<5/24)*(U13-5/24)+(H13>22/24)*(H13-22/24)+(O13>22/24)*(O13-22/24)+(V13>22/24)*(V13-22/24))) -> 0 | AL13: =abs(24*((G13<>"")*(G13<5/24)*(G13-5/24)+(N13<>"")*(N13<5/24)*(N13-5/24)+(U13<>"")*(U13<5/24)*(U13-5/24)+(H13>26/24)*(H13-26/24)+(O13>26/24)*(O13-26/24)+(V13>26/24)*(V13-26/24))) -> 0
B14: 45296 | C14: L02b | D14: {=IFERROR(INDEX(SC!D:D,MATCH($C14,SC!$C:$C,0)),"")} -> 15 02 | E14: 711 | F14: {=IFERROR(INDEX(SC!F:F,MATCH($C14,SC!$C:$C,0)),"")} -> Dépôt | G14: {=IFERROR(INDEX(SC!G:G,MATCH($C14,SC!$C:$C,0)),"")} -> 0.23611111 | H14: {=IFERROR(INDEX(SC!H:H,MATCH($C14,SC!$C:$C,0)),"")} -> 0.36805556 | I14: {=IFERROR(INDEX(SC!I:I,MATCH($C14,SC!$C:$C,0)),"")} -> HVR | J14: {=IFERROR(INDEX(SC!J:J,MATCH($C14,SC!$C:$C,0)),"")} -> 0.017361111 | K14: {=IFERROR(INDEX(SC!K:K,MATCH($C14,SC!$C:$C,0)),"")} -> 11 03 | L14: 716 | M14: {=IFERROR(INDEX(SC!M:M,MATCH($C14,SC!$C:$C,0)),"")} -> HVR | N14: {=IFERROR(INDEX(SC!N:N,MATCH($C14,SC!$C:$C,0)),"")} -> 0.38541667 | O14: {=IFERROR(INDEX(SC!O:O,MATCH($C14,SC!$C:$C,0)),"")} -> 0.54305556 | P14: {=IFERROR(INDEX(SC!P:P,MATCH($C14,SC!$C:$C,0)),"")} -> HVR | Q14: {=IFERROR(INDEX(SC!Q:Q,MATCH($C14,SC!$C:$C,0)),"")} | R14: {=IFERROR(INDEX(SC!R:R,MATCH($C14,SC!$C:$C,0)),"")} | T14: {=IFERROR(INDEX(SC!T:T,MATCH($C14,SC!$C:$C,0)),"")} | U14: {=IFERROR(INDEX(SC!U:U,MATCH($C14,SC!$C:$C,0)),"")} | V14: {=IFERROR(INDEX(SC!V:V,MATCH($C14,SC!$C:$C,0)),"")} | W14: {=IFERROR(INDEX(SC!W:W,MATCH($C14,SC!$C:$C,0)),"")} | X14: =V14-U14+Q14+O14-N14+J14+H14-G14 -> 0.30694444 | Z14: =MIN(1,(H14>21.5/24)+(O14>21.5/24)+(V14>21.5/24)) -> 0 | AA14: =IFERROR(IF(AND(OR($H14<>"",$O14<>"",$V14<>""),OR(WEEKDAY($B14,2)=7,$AB14=1)),1,""),"") | AB14: =IFERROR(IF(AND($G14="",$N14="",$U14=""),"",IF(MATCH($B14,'Fériés'!$C$5:$C$16,0)>0,1,"")),"") | AC14: =MIN(1,(N14>H14+2/24)+(U14>O14+2/24)) -> 0 | AD14: =MIN(1,(G14<>"")*(G14<5/24)+(N14<>"")*(N14<5/24)+(U14<>"")*(U14<5/24)+(H14>22/24)+(O14>22/24)+(V14>22/24)) -> 0 | AK14: =abs(24*((G14<>"")*(G14<5/24)*(G14-5/24)+(N14<>"")*(N14<5/24)*(N14-5/24)+(U14<>"")*(U14<5/24)*(U14-5/24)+(H14>22/24)*(H14-22/24)+(O14>22/24)*(O14-22/24)+(V14>22/24)*(V14-22/24))) -> 0 | AL14: =abs(24*((G14<>"")*(G14<5/24)*(G14-5/24)+(N14<>"")*(N14<5/24)*(N14-5/24)+(U14<>"")*(U14<5/24)*(U14-5/24)+(H14>26/24)*(H14-26/24)+(O14>26/24)*(O14-26/24)+(V14>26/24)*(V14-26/24))) -> 0
B15: 45297 | D15: {=IFERROR(INDEX(SC!D:D,MATCH($C15,SC!$C:$C,0)),"")} | F15: {=IFERROR(INDEX(SC!F:F,MATCH($C15,SC!$C:$C,0)),"")} | G15: {=IFERROR(INDEX(SC!G:G,MATCH($C15,SC!$C:$C,0)),"")} | H15: {=IFERROR(INDEX(SC!H:H,MATCH($C15,SC!$C:$C,0)),"")} | I15: {=IFERROR(INDEX(SC!I:I,MATCH($C15,SC!$C:$C,0)),"")} | J15: {=IFERROR(INDEX(SC!J:J,MATCH($C15,SC!$C:$C,0)),"")} | K15: {=IFERROR(INDEX(SC!K:K,MATCH($C15,SC!$C:$C,0)),"")} | M15: {=IFERROR(INDEX(SC!M:M,MATCH($C15,SC!$C:$C,0)),"")} | N15: {=IFERROR(INDEX(SC!N:N,MATCH($C15,SC!$C:$C,0)),"")} | O15: {=IFERROR(INDEX(SC!O:O,MATCH($C15,SC!$C:$C,0)),"")} | P15: {=IFERROR(INDEX(SC!P:P,MATCH($C15,SC!$C:$C,0)),"")} | Q15: {=IFERROR(INDEX(SC!Q:Q,MATCH($C15,SC!$C:$C,0)),"")} | R15: {=IFERROR(INDEX(SC!R:R,MATCH($C15,SC!$C:$C,0)),"")} | T15: {=IFERROR(INDEX(SC!T:T,MATCH($C15,SC!$C:$C,0)),"")} | U15: {=IFERROR(INDEX(SC!U:U,MATCH($C15,SC!$C:$C,0)),"")} | V15: {=IFERROR(INDEX(SC!V:V,MATCH($C15,SC!$C:$C,0)),"")} | W15: {=IFERROR(INDEX(SC!W:W,MATCH($C15,SC!$C:$C,0)),"")} | X15: =V15-U15+Q15+O15-N15+J15+H15-G15 -> 0 | Z15: =MIN(1,(H15>21.5/24)+(O15>21.5/24)+(V15>21.5/24)) -> 1 | AA15: =IFERROR(IF(AND(OR($H15<>"",$O15<>"",$V15<>""),OR(WEEKDAY($B15,2)=7,$AB15=1)),1,""),"") | AB15: =IFERROR(IF(AND($G15="",$N15="",$U15=""),"",IF(MATCH($B15,'Fériés'!$C$5:$C$16,0)>0,1,"")),"") | AC15: =MIN(1,(N15>H15+2/24)+(U15>O15+2/24)) -> 1 | AD15: =MIN(1,(G15<>"")*(G15<5/24)+(N15<>"")*(N15<5/24)+(U15<>"")*(U15<5/24)+(H15>22/24)+(O15>22/24)+(V15>22/24)) -> 1 | AK15: =abs(24*((G15<>"")*(G15<5/24)*(G15-5/24)+(N15<>"")*(N15<5/24)*(N15-5/24)+(U15<>"")*(U15<5/24)*(U15-5/24)+(H15>22/24)*(H15-22/24)+(O15>22/24)*(O15-22/24)+(V15>22/24)*(V15-22/24))) -> 66 | AL15: =abs(24*((G15<>"")*(G15<5/24)*(G15-5/24)+(N15<>"")*(N15<5/24)*(N15-5/24)+(U15<>"")*(U15<5/24)*(U15-5/24)+(H15>26/24)*(H15-26/24)+(O15>26/24)*(O15-26/24)+(V15>26/24)*(V15-26/24))) -> 78
B16: 45298 | D16: {=IFERROR(INDEX(SC!D:D,MATCH($C16,SC!$C:$C,0)),"")} | F16: {=IFERROR(INDEX(SC!F:F,MATCH($C16,SC!$C:$C,0)),"")} | G16: {=IFERROR(INDEX(SC!G:G,MATCH($C16,SC!$C:$C,0)),"")} | H16: {=IFERROR(INDEX(SC!H:H,MATCH($C16,SC!$C:$C,0)),"")} | I16: {=IFERROR(INDEX(SC!I:I,MATCH($C16,SC!$C:$C,0)),"")} | J16: {=IFERROR(INDEX(SC!J:J,MATCH($C16,SC!$C:$C,0)),"")} | K16: {=IFERROR(INDEX(SC!K:K,MATCH($C16,SC!$C:$C,0)),"")} | M16: {=IFERROR(INDEX(SC!M:M,MATCH($C16,SC!$C:$C,0)),"")} | N16: {=IFERROR(INDEX(SC!N:N,MATCH($C16,SC!$C:$C,0)),"")} | O16: {=IFERROR(INDEX(SC!O:O,MATCH($C16,SC!$C:$C,0)),"")} | P16: {=IFERROR(INDEX(SC!P:P,MATCH($C16,SC!$C:$C,0)),"")} | Q16: {=IFERROR(INDEX(SC!Q:Q,MATCH($C16,SC!$C:$C,0)),"")} | R16: {=IFERROR(INDEX(SC!R:R,MATCH($C16,SC!$C:$C,0)),"")} | T16: {=IFERROR(INDEX(SC!T:T,MATCH($C16,SC!$C:$C,0)),"")} | U16: {=IFERROR(INDEX(SC!U:U,MATCH($C16,SC!$C:$C,0)),"")} | V16: {=IFERROR(INDEX(SC!V:V,MATCH($C16,SC!$C:$C,0)),"")} | W16: {=IFERROR(INDEX(SC!W:W,MATCH($C16,SC!$C:$C,0)),"")} | X16: =V16-U16+Q17+O16-N16+J16+H16-G16 -> 0 | Z16: =MIN(1,(H16>21.5/24)+(O16>21.5/24)+(V16>21.5/24)) -> 1 | AA16: =IFERROR(IF(AND(OR($H16<>"",$O16<>"",$V16<>""),OR(WEEKDAY($B16,2)=7,$AB16=1)),1,""),"") | AB16: =IFERROR(IF(AND($G16="",$N16="",$U16=""),"",IF(MATCH($B16,'Fériés'!$C$5:$C$16,0)>0,1,"")),"") | AC16: =MIN(1,(N16>H16+2/24)+(U16>O16+2/24)) -> 1 | AD16: =MIN(1,(G16<>"")*(G16<5/24)+(N16<>"")*(N16<5/24)+(U16<>"")*(U16<5/24)+(H16>22/24)+(O16>22/24)+(V16>22/24)) -> 1 | AK16: =abs(24*((G16<>"")*(G16<5/24)*(G16-5/24)+(N16<>"")*(N16<5/24)*(N16-5/24)+(U16<>"")*(U16<5/24)*(U16-5/24)+(H16>22/24)*(H16-22/24)+(O16>22/24)*(O16-22/24)+(V16>22/24)*(V16-22/24))) -> 66 | AL16: =abs(24*((G16<>"")*(G16<5/24)*(G16-5/24)+(N16<>"")*(N16<5/24)*(N16-5/24)+(U16<>"")*(U16<5/24)*(U16-5/24)+(H16>26/24)*(H16-26/24)+(O16>26/24)*(O16-26/24)+(V16>26/24)*(V16-26/24))) -> 78
B17: 45299 | D17: {=IFERROR(INDEX(SC!D:D,MATCH($C17,SC!$C:$C,0)),"")} | F17: {=IFERROR(INDEX(SC!F:F,MATCH($C17,SC!$C:$C,0)),"")} | G17: {=IFERROR(INDEX(SC!G:G,MATCH($C17,SC!$C:$C,0)),"")} | H17: {=IFERROR(INDEX(SC!H:H,MATCH($C17,SC!$C:$C,0)),"")} | I17: {=IFERROR(INDEX(SC!I:I,MATCH($C17,SC!$C:$C,0)),"")} | J17: {=IFERROR(INDEX(SC!J:J,MATCH($C17,SC!$C:$C,0)),"")} | K17: {=IFERROR(INDEX(SC!K:K,MATCH($C17,SC!$C:$C,0)),"")} | M17: {=IFERROR(INDEX(SC!M:M,MATCH($C17,SC!$C:$C,0)),"")} | N17: {=IFERROR(INDEX(SC!N:N,MATCH($C17,SC!$C:$C,0)),"")} | O17: {=IFERROR(INDEX(SC!O:O,MATCH($C17,SC!$C:$C,0)),"")} | P17: {=IFERROR(INDEX(SC!P:P,MATCH($C17,SC!$C:$C,0)),"")} | Q17: {=IFERROR(INDEX(SC!Q:Q,MATCH($C17,SC!$C:$C,0)),"")} | R17: {=IFERROR(INDEX(SC!R:R,MATCH($C17,SC!$C:$C,0)),"")} | T17: {=IFERROR(INDEX(SC!T:T,MATCH($C17,SC!$C:$C,0)),"")} | U17: {=IFERROR(INDEX(SC!U:U,MATCH($C17,SC!$C:$C,0)),"")} | V17: {=IFERROR(INDEX(SC!V:V,MATCH($C17,SC!$C:$C,0)),"")} | W17: {=IFERROR(INDEX(SC!W:W,MATCH($C17,SC!$C:$C,0)),"")} | X17: =V17-U17+Q18+O17-N17+J17+H17-G17 -> 0 | Z17: =MIN(1,(H17>21.5/24)+(O17>21.5/24)+(V17>21.5/24)) -> 1 | AA17: =IFERROR(IF(AND(OR($H17<>"",$O17<>"",$V17<>""),OR(WEEKDAY($B17,2)=7,$AB17=1)),1,""),"") | AB17: =IFERROR(IF(AND($G17="",$N17="",$U17=""),"",IF(MATCH($B17,'Fériés'!$C$5:$C$16,0)>0,1,"")),"") | AC17: =MIN(1,(N17>H17+2/24)+(U17>O17+2/24)) -> 1 | AD17: =MIN(1,(G17<>"")*(G17<5/24)+(N17<>"")*(N17<5/24)+(U17<>"")*(U17<5/24)+(H17>22/24)+(O17>22/24)+(V17>22/24)) -> 1 | AK17: =abs(24*((G17<>"")*(G17<5/24)*(G17-5/24)+(N17<>"")*(N17<5/24)*(N17-5/24)+(U17<>"")*(U17<5/24)*(U17-5/24)+(H17>22/24)*(H17-22/24)+(O17>22/24)*(O17-22/24)+(V17>22/24)*(V17-22/24))) -> 66 | AL17: =abs(24*((G17<>"")*(G17<5/24)*(G17-5/24)+(N17<>"")*(N17<5/24)*(N17-5/24)+(U17<>"")*(U17<5/24)*(U17-5/24)+(H17>26/24)*(H17-26/24)+(O17>26/24)*(O17-26/24)+(V17>26/24)*(V17-26/24))) -> 78
B18: 45300 | D18: {=IFERROR(INDEX(SC!D:D,MATCH($C18,SC!$C:$C,0)),"")} | F18: {=IFERROR(INDEX(SC!F:F,MATCH($C18,SC!$C:$C,0)),"")} | G18: {=IFERROR(INDEX(SC!G:G,MATCH($C18,SC!$C:$C,0)),"")} | H18: {=IFERROR(INDEX(SC!H:H,MATCH($C18,SC!$C:$C,0)),"")} | I18: {=IFERROR(INDEX(SC!I:I,MATCH($C18,SC!$C:$C,0)),"")} | J18: {=IFERROR(INDEX(SC!J:J,MATCH($C18,SC!$C:$C,0)),"")} | K18: {=IFERROR(INDEX(SC!K:K,MATCH($C18,SC!$C:$C,0)),"")} | M18: {=IFERROR(INDEX(SC!M:M,MATCH($C18,SC!$C:$C,0)),"")} | N18: {=IFERROR(INDEX(SC!N:N,MATCH($C18,SC!$C:$C,0)),"")} | O18: {=IFERROR(INDEX(SC!O:O,MATCH($C18,SC!$C:$C,0)),"")} | P18: {=IFERROR(INDEX(SC!P:P,MATCH($C18,SC!$C:$C,0)),"")} | Q18: {=IFERROR(INDEX(SC!Q:Q,MATCH($C18,SC!$C:$C,0)),"")} | R18: {=IFERROR(INDEX(SC!R:R,MATCH($C18,SC!$C:$C,0)),"")} | T18: {=IFERROR(INDEX(SC!T:T,MATCH($C18,SC!$C:$C,0)),"")} | U18: {=IFERROR(INDEX(SC!U:U,MATCH($C18,SC!$C:$C,0)),"")} | V18: {=IFERROR(INDEX(SC!V:V,MATCH($C18,SC!$C:$C,0)),"")} | W18: {=IFERROR(INDEX(SC!W:W,MATCH($C18,SC!$C:$C,0)),"")} | X18: =V18-U18+Q19+O18-N18+J18+H18-G18 -> 0.022222222 | Z18: =MIN(1,(H18>21.5/24)+(O18>21.5/24)+(V18>21.5/24)) -> 1 | AA18: =IFERROR(IF(AND(OR($H18<>"",$O18<>"",$V18<>""),OR(WEEKDAY($B18,2)=7,$AB18=1)),1,""),"") | AB18: =IFERROR(IF(AND($G18="",$N18="",$U18=""),"",IF(MATCH($B18,'Fériés'!$C$5:$C$16,0)>0,1,"")),"") | AC18: =MIN(1,(N18>H18+2/24)+(U18>O18+2/24)) -> 1 | AD18: =MIN(1,(G18<>"")*(G18<5/24)+(N18<>"")*(N18<5/24)+(U18<>"")*(U18<5/24)+(H18>22/24)+(O18>22/24)+(V18>22/24)) -> 1 | AK18: =abs(24*((G18<>"")*(G18<5/24)*(G18-5/24)+(N18<>"")*(N18<5/24)*(N18-5/24)+(U18<>"")*(U18<5/24)*(U18-5/24)+(H18>22/24)*(H18-22/24)+(O18>22/24)*(O18-22/24)+(V18>22/24)*(V18-22/24))) -> 66 | AL18: =abs(24*((G18<>"")*(G18<5/24)*(G18-5/24)+(N18<>"")*(N18<5/24)*(N18-5/24)+(U18<>"")*(U18<5/24)*(U18-5/24)+(H18>26/24)*(H18-26/24)+(O18>26/24)*(O18-26/24)+(V18>26/24)*(V18-26/24))) -> 78
B19: 45301 | C19: SP214 | D19: {=IFERROR(INDEX(SC!D:D,MATCH($C19,SC!$C:$C,0)),"")} -> 10 02 | E19: 3145 | F19: {=IFERROR(INDEX(SC!F:F,MATCH($C19,SC!$C:$C,0)),"")} -> Varen | G19: {=IFERROR(INDEX(SC!G:G,MATCH($C19,SC!$C:$C,0)),"")} -> 0.52361111 | H19: {=IFERROR(INDEX(SC!H:H,MATCH($C19,SC!$C:$C,0)),"")} -> 0.62152778 | I19: {=IFERROR(INDEX(SC!I:I,MATCH($C19,SC!$C:$C,0)),"")} -> Varen | J19: {=IFERROR(INDEX(SC!J:J,MATCH($C19,SC!$C:$C,0)),"")} -> 0.025694444 | K19: {=IFERROR(INDEX(SC!K:K,MATCH($C19,SC!$C:$C,0)),"")} -> F8 03 | L19: 432 | M19: {=IFERROR(INDEX(SC!M:M,MATCH($C19,SC!$C:$C,0)),"")} -> Varen | N19: {=IFERROR(INDEX(SC!N:N,MATCH($C19,SC!$C:$C,0)),"")} -> 0.64722222 | O19: {=IFERROR(INDEX(SC!O:O,MATCH($C19,SC!$C:$C,0)),"")} -> 0.75902778 | P19: {=IFERROR(INDEX(SC!P:P,MATCH($C19,SC!$C:$C,0)),"")} -> Varen | Q19: {=IFERROR(INDEX(SC!Q:Q,MATCH($C19,SC!$C:$C,0)),"")} -> 0.022222222 | R19: {=IFERROR(INDEX(SC!R:R,MATCH($C19,SC!$C:$C,0)),"")} -> 10 06 | S19: 3203 | T19: {=IFERROR(INDEX(SC!T:T,MATCH($C19,SC!$C:$C,0)),"")} -> Varen | U19: {=IFERROR(INDEX(SC!U:U,MATCH($C19,SC!$C:$C,0)),"")} -> 0.78125 | V19: {=IFERROR(INDEX(SC!V:V,MATCH($C19,SC!$C:$C,0)),"")} -> 0.86041667 | W19: {=IFERROR(INDEX(SC!W:W,MATCH($C19,SC!$C:$C,0)),"")} -> Dépôt | X19: =V19-U19+Q19+O19-N19+J19+H19-G19 -> 0.33680556 | Z19: =MIN(1,(H19>21.5/24)+(O19>21.5/24)+(V19>21.5/24)) -> 0 | AA19: =IFERROR(IF(AND(OR($H19<>"",$O19<>"",$V19<>""),OR(WEEKDAY($B19,2)=7,$AB19=1)),1,""),"") | AB19: =IFERROR(IF(AND($G19="",$N19="",$U19=""),"",IF(MATCH($B19,'Fériés'!$C$5:$C$16,0)>0,1,"")),"") | AC19: =MIN(1,(N19>H19+2/24)+(U19>O19+2/24)) -> 0 | AD19: =MIN(1,(G19<>"")*(G19<5/24)+(N19<>"")*(N19<5/24)+(U19<>"")*(U19<5/24)+(H19>22/24)+(O19>22/24)+(V19>22/24)) -> 0 | AK19: =abs(24*((G19<>"")*(G19<5/24)*(G19-5/24)+(N19<>"")*(N19<5/24)*(N19-5/24)+(U19<>"")*(U19<5/24)*(U19-5/24)+(H19>22/24)*(H19-22/24)+(O19>22/24)*(O19-22/24)+(V19>22/24)*(V19-22/24))) -> 0 | AL19: =abs(24*((G19<>"")*(G19<5/24)*(G19-5/24)+(N19<>"")*(N19<5/24)*(N19-5/24)+(U19<>"")*(U19<5/24)*(U19-5/24)+(H19>26/24)*(H19-26/24)+(O19>26/24)*(O19-26/24)+(V19>26/24)*(V19-26/24))) -> 0
B20: 45302 | C20: SP232 | D20: {=IFERROR(INDEX(SC!D:D,MATCH($C20,SC!$C:$C,0)),"")} -> 10 07 | E20: 714 | F20: {=IFERROR(INDEX(SC!F:F,MATCH($C20,SC!$C:$C,0)),"")} -> Varen | G20: {=IFERROR(INDEX(SC!G:G,MATCH($C20,SC!$C:$C,0)),"")} -> 0.36458333 | H20: {=IFERROR(INDEX(SC!H:H,MATCH($C20,SC!$C:$C,0)),"")} -> 0.51319444 | I20: {=IFERROR(INDEX(SC!I:I,MATCH($C20,SC!$C:$C,0)),"")} -> Varen | J20: {=IFERROR(INDEX(SC!J:J,MATCH($C20,SC!$C:$C,0)),"")} | K20: {=IFERROR(INDEX(SC!K:K,MATCH($C20,SC!$C:$C,0)),"")} -> F8 05 | L20: 3151 | M20: {=IFERROR(INDEX(SC!M:M,MATCH($C20,SC!$C:$C,0)),"")} -> Dépôt | N20: {=IFERROR(INDEX(SC!N:N,MATCH($C20,SC!$C:$C,0)),"")} -> 0.63958333 | O20: {=IFERROR(INDEX(SC!O:O,MATCH($C20,SC!$C:$C,0)),"")} -> 0.81666667 | P20: {=IFERROR(INDEX(SC!P:P,MATCH($C20,SC!$C:$C,0)),"")} -> Dépôt | Q20: {=IFERROR(INDEX(SC!Q:Q,MATCH($C20,SC!$C:$C,0)),"")} | R20: {=IFERROR(INDEX(SC!R:R,MATCH($C20,SC!$C:$C,0)),"")} | T20: {=IFERROR(INDEX(SC!T:T,MATCH($C20,SC!$C:$C,0)),"")} | U20: {=IFERROR(INDEX(SC!U:U,MATCH($C20,SC!$C:$C,0)),"")} | V20: {=IFERROR(INDEX(SC!V:V,MATCH($C20,SC!$C:$C,0)),"")} | W20: {=IFERROR(INDEX(SC!W:W,MATCH($C20,SC!$C:$C,0)),"")} | X20: =V20-U20+Q20+O20-N20+J20+H20-G20 -> 0.32569444 | Z20: =MIN(1,(H20>21.5/24)+(O20>21.5/24)+(V20>21.5/24)) -> 0 | AA20: =IFERROR(IF(AND(OR($H20<>"",$O20<>"",$V20<>""),OR(WEEKDAY($B20,2)=7,$AB20=1)),1,""),"") | AB20: =IFERROR(IF(AND($G20="",$N20="",$U20=""),"",IF(MATCH($B20,'Fériés'!$C$5:$C$16,0)>0,1,"")),"") | AC20: =MIN(1,(N20>H20+2/24)+(U20>O20+2/24)) -> 1 | AD20: =MIN(1,(G20<>"")*(G20<5/24)+(N20<>"")*(N20<5/24)+(U20<>"")*(U20<5/24)+(H20>22/24)+(O20>22/24)+(V20>22/24)) -> 0 | AK20: =abs(24*((G20<>"")*(G20<5/24)*(G20-5/24)+(N20<>"")*(N20<5/24)*(N20-5/24)+(U20<>"")*(U20<5/24)*(U20-5/24)+(H20>22/24)*(H20-22/24)+(O20>22/24)*(O20-22/24)+(V20>22/24)*(V20-22/24))) -> 0 | AL20: =abs(24*((G20<>"")*(G20<5/24)*(G20-5/24)+(N20<>"")*(N20<5/24)*(N20-5/24)+(U20<>"")*(U20<5/24)*(U20-5/24)+(H20>26/24)*(H20-26/24)+(O20>26/24)*(O20-26/24)+(V20>26/24)*(V20-26/24))) -> 0
B21: 45303 | C21: SP232 | D21: {=IFERROR(INDEX(SC!D:D,MATCH($C21,SC!$C:$C,0)),"")} -> 10 07 | F21: {=IFERROR(INDEX(SC!F:F,MATCH($C21,SC!$C:$C,0)),"")} -> Varen | G21: {=IFERROR(INDEX(SC!G:G,MATCH($C21,SC!$C:$C,0)),"")} -> 0.36458333 | H21: {=IFERROR(INDEX(SC!H:H,MATCH($C21,SC!$C:$C,0)),"")} -> 0.51319444 | I21: {=IFERROR(INDEX(SC!I:I,MATCH($C21,SC!$C:$C,0)),"")} -> Varen | J21: {=IFERROR(INDEX(SC!J:J,MATCH($C21,SC!$C:$C,0)),"")} | K21: {=IFERROR(INDEX(SC!K:K,MATCH($C21,SC!$C:$C,0)),"")} -> F8 05 | L21: 732 | M21: {=IFERROR(INDEX(SC!M:M,MATCH($C21,SC!$C:$C,0)),"")} -> Dépôt | N21: {=IFERROR(INDEX(SC!N:N,MATCH($C21,SC!$C:$C,0)),"")} -> 0.63958333 | O21: {=IFERROR(INDEX(SC!O:O,MATCH($C21,SC!$C:$C,0)),"")} -> 0.81666667 | P21: {=IFERROR(INDEX(SC!P:P,MATCH($C21,SC!$C:$C,0)),"")} -> Dépôt | Q21: {=IFERROR(INDEX(SC!Q:Q,MATCH($C21,SC!$C:$C,0)),"")} | R21: {=IFERROR(INDEX(SC!R:R,MATCH($C21,SC!$C:$C,0)),"")} | T21: {=IFERROR(INDEX(SC!T:T,MATCH($C21,SC!$C:$C,0)),"")} | U21: {=IFERROR(INDEX(SC!U:U,MATCH($C21,SC!$C:$C,0)),"")} | V21: {=IFERROR(INDEX(SC!V:V,MATCH($C21,SC!$C:$C,0)),"")} | W21: {=IFERROR(INDEX(SC!W:W,MATCH($C21,SC!$C:$C,0)),"")} | X21: =V21-U21+Q21+O21-N21+J21+H21-G21 -> 0.32569444 | Z21: =MIN(1,(H21>21.5/24)+(O21>21.5/24)+(V21>21.5/24)) -> 0 | AA21: =IFERROR(IF(AND(OR($H21<>"",$O21<>"",$V21<>""),OR(WEEKDAY($B21,2)=7,$AB21=1)),1,""),"") | AB21: =IFERROR(IF(AND($G21="",$N21="",$U21=""),"",IF(MATCH($B21,'Fériés'!$C$5:$C$16,0)>0,1,"")),"") | AC21: =MIN(1,(N21>H21+2/24)+(U21>O21+2/24)) -> 1 | AD21: =MIN(1,(G21<>"")*(G21<5/24)+(N21<>"")*(N21<5/24)+(U21<>"")*(U21<5/24)+(H21>22/24)+(O21>22/24)+(V21>22/24)) -> 0 | AK21: =abs(24*((G21<>"")*(G21<5/24)*(G21-5/24)+(N21<>"")*(N21<5/24)*(N21-5/24)+(U21<>"")*(U21<5/24)*(U21-5/24)+(H21>22/24)*(H21-22/24)+(O21>22/24)*(O21-22/24)+(V21>22/24)*(V21-22/24))) -> 0 | AL21: =abs(24*((G21<>"")*(G21<5/24)*(G21-5/24)+(N21<>"")*(N21<5/24)*(N21-5/24)+(U21<>"")*(U21<5/24)*(U21-5/24)+(H21>26/24)*(H21-26/24)+(O21>26/24)*(O21-26/24)+(V21>26/24)*(V21-26/24))) -> 0
B22: 45304 | C22: P08s | D22: {=IFERROR(INDEX(SC!D:D,MATCH($C22,SC!$C:$C,0)),"")} -> F1 05 | E22: 5315 | F22: {=IFERROR(INDEX(SC!F:F,MATCH($C22,SC!$C:$C,0)),"")} -> Champ | G22: {=IFERROR(INDEX(SC!G:G,MATCH($C22,SC!$C:$C,0)),"")} -> 0.56944444 | H22: {=IFERROR(INDEX(SC!H:H,MATCH($C22,SC!$C:$C,0)),"")} -> 0.73888889 | I22: {=IFERROR(INDEX(SC!I:I,MATCH($C22,SC!$C:$C,0)),"")} -> Champ | J22: {=IFERROR(INDEX(SC!J:J,MATCH($C22,SC!$C:$C,0)),"")} -> 0.033333333 | K22: {=IFERROR(INDEX(SC!K:K,MATCH($C22,SC!$C:$C,0)),"")} -> F1 08 | L22: 5507 | M22: {=IFERROR(INDEX(SC!M:M,MATCH($C22,SC!$C:$C,0)),"")} -> Champ | N22: {=IFERROR(INDEX(SC!N:N,MATCH($C22,SC!$C:$C,0)),"")} -> 0.77222222 | O22: {=IFERROR(INDEX(SC!O:O,MATCH($C22,SC!$C:$C,0)),"")} -> 0.88472222 | P22: {=IFERROR(INDEX(SC!P:P,MATCH($C22,SC!$C:$C,0)),"")} -> Dépôt | Q22: {=IFERROR(INDEX(SC!Q:Q,MATCH($C22,SC!$C:$C,0)),"")} | R22: {=IFERROR(INDEX(SC!R:R,MATCH($C22,SC!$C:$C,0)),"")} | T22: {=IFERROR(INDEX(SC!T:T,MATCH($C22,SC!$C:$C,0)),"")} | U22: {=IFERROR(INDEX(SC!U:U,MATCH($C22,SC!$C:$C,0)),"")} | V22: {=IFERROR(INDEX(SC!V:V,MATCH($C22,SC!$C:$C,0)),"")} | W22: {=IFERROR(INDEX(SC!W:W,MATCH($C22,SC!$C:$C,0)),"")} | X22: =V22-U22+Q22+O22-N22+J22+H22-G22 -> 0.31527778 | Z22: =MIN(1,(H22>21.5/24)+(O22>21.5/24)+(V22>21.5/24)) -> 0 | AA22: =IFERROR(IF(AND(OR($H22<>"",$O22<>"",$V22<>""),OR(WEEKDAY($B22,2)=7,$AB22=1)),1,""),"") | AB22: =IFERROR(IF(AND($G22="",$N22="",$U22=""),"",IF(MATCH($B22,'Fériés'!$C$5:$C$16,0)>0,1,"")),"") | AC22: =MIN(1,(N22>H22+2/24)+(U22>O22+2/24)) -> 0 | AD22: =MIN(1,(G22<>"")*(G22<5/24)+(N22<>"")*(N22<5/24)+(U22<>"")*(U22<5/24)+(H22>22/24)+(O22>22/24)+(V22>22/24)) -> 0 | AK22: =abs(24*((G22<>"")*(G22<5/24)*(G22-5/24)+(N22<>"")*(N22<5/24)*(N22-5/24)+(U22<>"")*(U22<5/24)*(U22-5/24)+(H22>22/24)*(H22-22/24)+(O22>22/24)*(O22-22/24)+(V22>22/24)*(V22-22/24))) -> 0 | AL22: =abs(24*((G22<>"")*(G22<5/24)*(G22-5/24)+(N22<>"")*(N22<5/24)*(N22-5/24)+(U22<>"")*(U22<5/24)*(U22-5/24)+(H22>26/24)*(H22-26/24)+(O22>26/24)*(O22-26/24)+(V22>26/24)*(V22-26/24))) -> 0
B23: 45305 | D23: {=IFERROR(INDEX(SC!D:D,MATCH($C23,SC!$C:$C,0)),"")} | F23: {=IFERROR(INDEX(SC!F:F,MATCH($C23,SC!$C:$C,0)),"")} | G23: {=IFERROR(INDEX(SC!G:G,MATCH($C23,SC!$C:$C,0)),"")} | H23: {=IFERROR(INDEX(SC!H:H,MATCH($C23,SC!$C:$C,0)),"")} | I23: {=IFERROR(INDEX(SC!I:I,MATCH($C23,SC!$C:$C,0)),"")} | J23: {=IFERROR(INDEX(SC!J:J,MATCH($C23,SC!$C:$C,0)),"")} | K23: {=IFERROR(INDEX(SC!K:K,MATCH($C23,SC!$C:$C,0)),"")} | M23: {=IFERROR(INDEX(SC!M:M,MATCH($C23,SC!$C:$C,0)),"")} | N23: {=IFERROR(INDEX(SC!N:N,MATCH($C23,SC!$C:$C,0)),"")} | O23: {=IFERROR(INDEX(SC!O:O,MATCH($C23,SC!$C:$C,0)),"")} | P23: {=IFERROR(INDEX(SC!P:P,MATCH($C23,SC!$C:$C,0)),"")} | Q23: {=IFERROR(INDEX(SC!Q:Q,MATCH($C23,SC!$C:$C,0)),"")} | R23: {=IFERROR(INDEX(SC!R:R,MATCH($C23,SC!$C:$C,0)),"")} | T23: {=IFERROR(INDEX(SC!T:T,MATCH($C23,SC!$C:$C,0)),"")} | U23: {=IFERROR(INDEX(SC!U:U,MATCH($C23,SC!$C:$C,0)),"")} | V23: {=IFERROR(INDEX(SC!V:V,MATCH($C23,SC!$C:$C,0)),"")} | W23: {=IFERROR(INDEX(SC!W:W,MATCH($C23,SC!$C:$C,0)),"")} | X23: =V23-U23+Q23+O23-N23+J23+H23-G23 -> 0 | Z23: =MIN(1,(H23>21.5/24)+(O23>21.5/24)+(V23>21.5/24)) -> 1 | AA23: =IFERROR(IF(AND(OR($H23<>"",$O23<>"",$V23<>""),OR(WEEKDAY($B23,2)=7,$AB23=1)),1,""),"") | AB23: =IFERROR(IF(AND($G23="",$N23="",$U23=""),"",IF(MATCH($B23,'Fériés'!$C$5:$C$16,0)>0,1,"")),"") | AC23: =MIN(1,(N23>H23+2/24)+(U23>O23+2/24)) -> 1 | AD23: =MIN(1,(G23<>"")*(G23<5/24)+(N23<>"")*(N23<5/24)+(U23<>"")*(U23<5/24)+(H23>22/24)+(O23>22/24)+(V23>22/24)) -> 1 | AK23: =abs(24*((G23<>"")*(G23<5/24)*(G23-5/24)+(N23<>"")*(N23<5/24)*(N23-5/24)+(U23<>"")*(U23<5/24)*(U23-5/24)+(H23>22/24)*(H23-22/24)+(O23>22/24)*(O23-22/24)+(V23>22/24)*(V23-22/24))) -> 66 | AL23: =abs(24*((G23<>"")*(G23<5/24)*(G23-5/24)+(N23<>"")*(N23<5/24)*(N23-5/24)+(U23<>"")*(U23<5/24)*(U23-5/24)+(H23>26/24)*(H23-26/24)+(O23>26/24)*(O23-26/24)+(V23>26/24)*(V23-26/24))) -> 78
B24: 45306 | C24: SP35 | D24: {=IFERROR(INDEX(SC!D:D,MATCH($C24,SC!$C:$C,0)),"")} -> F1 04 | E24: 5503 | F24: {=IFERROR(INDEX(SC!F:F,MATCH($C24,SC!$C:$C,0)),"")} -> Champ | G24: {=IFERROR(INDEX(SC!G:G,MATCH($C24,SC!$C:$C,0)),"")} -> 0.29375 | H24: {=IFERROR(INDEX(SC!H:H,MATCH($C24,SC!$C:$C,0)),"")} -> 0.46875 | I24: {=IFERROR(INDEX(SC!I:I,MATCH($C24,SC!$C:$C,0)),"")} -> Champ | J24: {=IFERROR(INDEX(SC!J:J,MATCH($C24,SC!$C:$C,0)),"")} | K24: {=IFERROR(INDEX(SC!K:K,MATCH($C24,SC!$C:$C,0)),"")} -> 15 07 | L24: 3149-3113 | M24: {=IFERROR(INDEX(SC!M:M,MATCH($C24,SC!$C:$C,0)),"")} -> Dépôt | N24: {=IFERROR(INDEX(SC!N:N,MATCH($C24,SC!$C:$C,0)),"")} -> 0.65208333 | O24: {=IFERROR(INDEX(SC!O:O,MATCH($C24,SC!$C:$C,0)),"")} -> 0.80972222 | P24: {=IFERROR(INDEX(SC!P:P,MATCH($C24,SC!$C:$C,0)),"")} -> Dépôt | Q24: {=IFERROR(INDEX(SC!Q:Q,MATCH($C24,SC!$C:$C,0)),"")} | R24: {=IFERROR(INDEX(SC!R:R,MATCH($C24,SC!$C:$C,0)),"")} | T24: {=IFERROR(INDEX(SC!T:T,MATCH($C24,SC!$C:$C,0)),"")} | U24: {=IFERROR(INDEX(SC!U:U,MATCH($C24,SC!$C:$C,0)),"")} | V24: {=IFERROR(INDEX(SC!V:V,MATCH($C24,SC!$C:$C,0)),"")} | W24: {=IFERROR(INDEX(SC!W:W,MATCH($C24,SC!$C:$C,0)),"")} | X24: =V24-U24+Q24+O24-N24+J24+H24-G24 -> 0.33263889 | Z24: =MIN(1,(H24>21.5/24)+(O24>21.5/24)+(V24>21.5/24)) -> 0 | AA24: =IFERROR(IF(AND(OR($H24<>"",$O24<>"",$V24<>""),OR(WEEKDAY($B24,2)=7,$AB24=1)),1,""),"") | AB24: =IFERROR(IF(AND($G24="",$N24="",$U24=""),"",IF(MATCH($B24,'Fériés'!$C$5:$C$16,0)>0,1,"")),"") | AC24: =MIN(1,(N24>H24+2/24)+(U24>O24+2/24)) -> 1 | AD24: =MIN(1,(G24<>"")*(G24<5/24)+(N24<>"")*(N24<5/24)+(U24<>"")*(U24<5/24)+(H24>22/24)+(O24>22/24)+(V24>22/24)) -> 0 | AK24: =abs(24*((G24<>"")*(G24<5/24)*(G24-5/24)+(N24<>"")*(N24<5/24)*(N24-5/24)+(U24<>"")*(U24<5/24)*(U24-5/24)+(H24>22/24)*(H24-22/24)+(O24>22/24)*(O24-22/24)+(V24>22/24)*(V24-22/24))) -> 0 | AL24: =abs(24*((G24<>"")*(G24<5/24)*(G24-5/24)+(N24<>"")*(N24<5/24)*(N24-5/24)+(U24<>"")*(U24<5/24)*(U24-5/24)+(H24>26/24)*(H24-26/24)+(O24>26/24)*(O24-26/24)+(V24>26/24)*(V24-26/24))) -> 0
B25: 45307 | C25: K01 | D25: {=IFERROR(INDEX(SC!D:D,MATCH($C25,SC!$C:$C,0)),"")} -> F2 10 | E25: Pas de bus | F25: {=IFERROR(INDEX(SC!F:F,MATCH($C25,SC!$C:$C,0)),"")} -> Dépôt | G25: {=IFERROR(INDEX(SC!G:G,MATCH($C25,SC!$C:$C,0)),"")} -> 0.27291667 | H25: {=IFERROR(INDEX(SC!H:H,MATCH($C25,SC!$C:$C,0)),"")} -> 0.40277778 | I25: {=IFERROR(INDEX(SC!I:I,MATCH($C25,SC!$C:$C,0)),"")} -> Dépôt | J25: {=IFERROR(INDEX(SC!J:J,MATCH($C25,SC!$C:$C,0)),"")} | K25: {=IFERROR(INDEX(SC!K:K,MATCH($C25,SC!$C:$C,0)),"")} -> F2 05 | L25: 5412 | M25: {=IFERROR(INDEX(SC!M:M,MATCH($C25,SC!$C:$C,0)),"")} -> HVR | N25: {=IFERROR(INDEX(SC!N:N,MATCH($C25,SC!$C:$C,0)),"")} -> 0.57152778 | O25: {=IFERROR(INDEX(SC!O:O,MATCH($C25,SC!$C:$C,0)),"")} -> 0.74375 | P25: {=IFERROR(INDEX(SC!P:P,MATCH($C25,SC!$C:$C,0)),"")} -> HVR | Q25: {=IFERROR(INDEX(SC!Q:Q,MATCH($C25,SC!$C:$C,0)),"")} | R25: {=IFERROR(INDEX(SC!R:R,MATCH($C25,SC!$C:$C,0)),"")} | T25: {=IFERROR(INDEX(SC!T:T,MATCH($C25,SC!$C:$C,0)),"")} | U25: {=IFERROR(INDEX(SC!U:U,MATCH($C25,SC!$C:$C,0)),"")} | V25: {=IFERROR(INDEX(SC!V:V,MATCH($C25,SC!$C:$C,0)),"")} | W25: {=IFERROR(INDEX(SC!W:W,MATCH($C25,SC!$C:$C,0)),"")} | X25: =V25-U25+Q25+O25-N25+J25+H25-G25 -> 0.30208333 | Z25: =MIN(1,(H25>21.5/24)+(O25>21.5/24)+(V25>21.5/24)) -> 0 | AA25: =IFERROR(IF(AND(OR($H25<>"",$O25<>"",$V25<>""),OR(WEEKDAY($B25,2)=7,$AB25=1)),1,""),"") | AB25: =IFERROR(IF(AND($G25="",$N25="",$U25=""),"",IF(MATCH($B25,'Fériés'!$C$5:$C$16,0)>0,1,"")),"") | AC25: =MIN(1,(N25>H25+2/24)+(U25>O25+2/24)) -> 1 | AD25: =MIN(1,(G25<>"")*(G25<5/24)+(N25<>"")*(N25<5/24)+(U25<>"")*(U25<5/24)+(H25>22/24)+(O25>22/24)+(V25>22/24)) -> 0 | AK25: =abs(24*((G25<>"")*(G25<5/24)*(G25-5/24)+(N25<>"")*(N25<5/24)*(N25-5/24)+(U25<>"")*(U25<5/24)*(U25-5/24)+(H25>22/24)*(H25-22/24)+(O25>22/24)*(O25-22/24)+(V25>22/24)*(V25-22/24))) -> 0 | AL25: =abs(24*((G25<>"")*(G25<5/24)*(G25-5/24)+(N25<>"")*(N25<5/24)*(N25-5/24)+(U25<>"")*(U25<5/24)*(U25-5/24)+(H25>26/24)*(H25-26/24)+(O25>26/24)*(O25-26/24)+(V25>26/24)*(V25-26/24))) -> 0
B26: 45308 | C26: OA07 | D26: {=IFERROR(INDEX(SC!D:D,MATCH($C26,SC!$C:$C,0)),"")} -> F1 09 | E26: 5503 | F26: {=IFERROR(INDEX(SC!F:F,MATCH($C26,SC!$C:$C,0)),"")} -> Dépôt | G26: {=IFERROR(INDEX(SC!G:G,MATCH($C26,SC!$C:$C,0)),"")} -> 0.27152778 | H26: {=IFERROR(INDEX(SC!H:H,MATCH($C26,SC!$C:$C,0)),"")} -> 0.40486111 | I26: {=IFERROR(INDEX(SC!I:I,MATCH($C26,SC!$C:$C,0)),"")} -> Dépôt | J26: {=IFERROR(INDEX(SC!J:J,MATCH($C26,SC!$C:$C,0)),"")} | K26: {=IFERROR(INDEX(SC!K:K,MATCH($C26,SC!$C:$C,0)),"")} -> F1 12 | L26: 728 | M26: {=IFERROR(INDEX(SC!M:M,MATCH($C26,SC!$C:$C,0)),"")} -> Champ | N26: {=IFERROR(INDEX(SC!N:N,MATCH($C26,SC!$C:$C,0)),"")} -> 0.57013889 | O26: {=IFERROR(INDEX(SC!O:O,MATCH($C26,SC!$C:$C,0)),"")} -> 0.64236111 | P26: {=IFERROR(INDEX(SC!P:P,MATCH($C26,SC!$C:$C,0)),"")} -> Champ | Q26: {=IFERROR(INDEX(SC!Q:Q,MATCH($C26,SC!$C:$C,0)),"")} -> 0.013888889 | R26: {=IFERROR(INDEX(SC!R:R,MATCH($C26,SC!$C:$C,0)),"")} -> F1 05 | S26: 5502 | T26: {=IFERROR(INDEX(SC!T:T,MATCH($C26,SC!$C:$C,0)),"")} -> Champ | U26: {=IFERROR(INDEX(SC!U:U,MATCH($C26,SC!$C:$C,0)),"")} -> 0.65625 | V26: {=IFERROR(INDEX(SC!V:V,MATCH($C26,SC!$C:$C,0)),"")} -> 0.76041667 | W26: {=IFERROR(INDEX(SC!W:W,MATCH($C26,SC!$C:$C,0)),"")} -> Champ | X26: =V26-U26+Q26+O26-N26+J26+H26-G26 -> 0.32361111 | Z26: =MIN(1,(H26>21.5/24)+(O26>21.5/24)+(V26>21.5/24)) -> 0 | AA26: =IFERROR(IF(AND(OR($H26<>"",$O26<>"",$V26<>""),OR(WEEKDAY($B26,2)=7,$AB26=1)),1,""),"") | AB26: =IFERROR(IF(AND($G26="",$N26="",$U26=""),"",IF(MATCH($B26,'Fériés'!$C$5:$C$16,0)>0,1,"")),"") | AC26: =MIN(1,(N26>H26+2/24)+(U26>O26+2/24)) -> 1 | AD26: =MIN(1,(G26<>"")*(G26<5/24)+(N26<>"")*(N26<5/24)+(U26<>"")*(U26<5/24)+(H26>22/24)+(O26>22/24)+(V26>22/24)) -> 0 | AK26: =abs(24*((G26<>"")*(G26<5/24)*(G26-5/24)+(N26<>"")*(N26<5/24)*(N26-5/24)+(U26<>"")*(U26<5/24)*(U26-5/24)+(H26>22/24)*(H26-22/24)+(O26>22/24)*(O26-22/24)+(V26>22/24)*(V26-22/24))) -> 0 | AL26: =abs(24*((G26<>"")*(G26<5/24)*(G26-5/24)+(N26<>"")*(N26<5/24)*(N26-5/24)+(U26<>"")*(U26<5/24)*(U26-5/24)+(H26>26/24)*(H26-26/24)+(O26>26/24)*(O26-26/24)+(V26>26/24)*(V26-26/24))) -> 0
B27: 45309 | C27: OA07 | D27: {=IFERROR(INDEX(SC!D:D,MATCH($C27,SC!$C:$C,0)),"")} -> F1 09 | E27: 5503 | F27: {=IFERROR(INDEX(SC!F:F,MATCH($C27,SC!$C:$C,0)),"")} -> Dépôt | G27: {=IFERROR(INDEX(SC!G:G,MATCH($C27,SC!$C:$C,0)),"")} -> 0.27152778 | H27: {=IFERROR(INDEX(SC!H:H,MATCH($C27,SC!$C:$C,0)),"")} -> 0.40486111 | I27: {=IFERROR(INDEX(SC!I:I,MATCH($C27,SC!$C:$C,0)),"")} -> Dépôt | J27: {=IFERROR(INDEX(SC!J:J,MATCH($C27,SC!$C:$C,0)),"")} | K27: {=IFERROR(INDEX(SC!K:K,MATCH($C27,SC!$C:$C,0)),"")} -> F1 12 | L27: 5502 | M27: {=IFERROR(INDEX(SC!M:M,MATCH($C27,SC!$C:$C,0)),"")} -> Champ | N27: {=IFERROR(INDEX(SC!N:N,MATCH($C27,SC!$C:$C,0)),"")} -> 0.57013889 | O27: {=IFERROR(INDEX(SC!O:O,MATCH($C27,SC!$C:$C,0)),"")} -> 0.64236111 | P27: {=IFERROR(INDEX(SC!P:P,MATCH($C27,SC!$C:$C,0)),"")} -> Champ | Q27: {=IFERROR(INDEX(SC!Q:Q,MATCH($C27,SC!$C:$C,0)),"")} -> 0.013888889 | R27: {=IFERROR(INDEX(SC!R:R,MATCH($C27,SC!$C:$C,0)),"")} -> F1 05 | S27: 5506 | T27: {=IFERROR(INDEX(SC!T:T,MATCH($C27,SC!$C:$C,0)),"")} -> Champ | U27: {=IFERROR(INDEX(SC!U:U,MATCH($C27,SC!$C:$C,0)),"")} -> 0.65625 | V27: {=IFERROR(INDEX(SC!V:V,MATCH($C27,SC!$C:$C,0)),"")} -> 0.76041667 | W27: {=IFERROR(INDEX(SC!W:W,MATCH($C27,SC!$C:$C,0)),"")} -> Champ | X27: =V27-U27+Q27+O27-N27+J27+H27-G27 -> 0.32361111 | Z27: =MIN(1,(H27>21.5/24)+(O27>21.5/24)+(V27>21.5/24)) -> 0 | AA27: =IFERROR(IF(AND(OR($H27<>"",$O27<>"",$V27<>""),OR(WEEKDAY($B27,2)=7,$AB27=1)),1,""),"") | AB27: =IFERROR(IF(AND($G27="",$N27="",$U27=""),"",IF(MATCH($B27,'Fériés'!$C$5:$C$16,0)>0,1,"")),"") | AC27: =MIN(1,(N27>H27+2/24)+(U27>O27+2/24)) -> 1 | AD27: =MIN(1,(G27<>"")*(G27<5/24)+(N27<>"")*(N27<5/24)+(U27<>"")*(U27<5/24)+(H27>22/24)+(O27>22/24)+(V27>22/24)) -> 0 | AK27: =abs(24*((G27<>"")*(G27<5/24)*(G27-5/24)+(N27<>"")*(N27<5/24)*(N27-5/24)+(U27<>"")*(U27<5/24)*(U27-5/24)+(H27>22/24)*(H27-22/24)+(O27>22/24)*(O27-22/24)+(V27>22/24)*(V27-22/24))) -> 0 | AL27: =abs(24*((G27<>"")*(G27<5/24)*(G27-5/24)+(N27<>"")*(N27<5/24)*(N27-5/24)+(U27<>"")*(U27<5/24)*(U27-5/24)+(H27>26/24)*(H27-26/24)+(O27>26/24)*(O27-26/24)+(V27>26/24)*(V27-26/24))) -> 0
B28: 45310 | C28: VX03 | D28: {=IFERROR(INDEX(SC!D:D,MATCH($C28,SC!$C:$C,0)),"")} -> F1 10 | E28: 5203 | F28: {=IFERROR(INDEX(SC!F:F,MATCH($C28,SC!$C:$C,0)),"")} -> Dépôt | G28: {=IFERROR(INDEX(SC!G:G,MATCH($C28,SC!$C:$C,0)),"")} -> 0.27430556 | H28: {=IFERROR(INDEX(SC!H:H,MATCH($C28,SC!$C:$C,0)),"")} -> 0.41180556 | I28: {=IFERROR(INDEX(SC!I:I,MATCH($C28,SC!$C:$C,0)),"")} -> Dépôt | J28: {=IFERROR(INDEX(SC!J:J,MATCH($C28,SC!$C:$C,0)),"")} | K28: {=IFERROR(INDEX(SC!K:K,MATCH($C28,SC!$C:$C,0)),"")} -> F2 08 | L28: 5411 | M28: {=IFERROR(INDEX(SC!M:M,MATCH($C28,SC!$C:$C,0)),"")} -> Dépôt | N28: {=IFERROR(INDEX(SC!N:N,MATCH($C28,SC!$C:$C,0)),"")} -> 0.64861111 | O28: {=IFERROR(INDEX(SC!O:O,MATCH($C28,SC!$C:$C,0)),"")} -> 0.79375 | P28: {=IFERROR(INDEX(SC!P:P,MATCH($C28,SC!$C:$C,0)),"")} -> Dépôt | Q28: {=IFERROR(INDEX(SC!Q:Q,MATCH($C28,SC!$C:$C,0)),"")} | R28: {=IFERROR(INDEX(SC!R:R,MATCH($C28,SC!$C:$C,0)),"")} | T28: {=IFERROR(INDEX(SC!T:T,MATCH($C28,SC!$C:$C,0)),"")} | U28: {=IFERROR(INDEX(SC!U:U,MATCH($C28,SC!$C:$C,0)),"")} | V28: {=IFERROR(INDEX(SC!V:V,MATCH($C28,SC!$C:$C,0)),"")} | W28: {=IFERROR(INDEX(SC!W:W,MATCH($C28,SC!$C:$C,0)),"")} | X28: =V28-U28+Q28+O28-N28+J28+H28-G28 -> 0.28263889 | Z28: =MIN(1,(H28>21.5/24)+(O28>21.5/24)+(V28>21.5/24)) -> 0 | AA28: =IFERROR(IF(AND(OR($H28<>"",$O28<>"",$V28<>""),OR(WEEKDAY($B28,2)=7,$AB28=1)),1,""),"") | AB28: =IFERROR(IF(AND($G28="",$N28="",$U28=""),"",IF(MATCH($B28,'Fériés'!$C$5:$C$16,0)>0,1,"")),"") | AC28: =MIN(1,(N28>H28+2/24)+(U28>O28+2/24)) -> 1 | AD28: =MIN(1,(G28<>"")*(G28<5/24)+(N28<>"")*(N28<5/24)+(U28<>"")*(U28<5/24)+(H28>22/24)+(O28>22/24)+(V28>22/24)) -> 0 | AK28: =abs(24*((G28<>"")*(G28<5/24)*(G28-5/24)+(N28<>"")*(N28<5/24)*(N28-5/24)+(U28<>"")*(U28<5/24)*(U28-5/24)+(H28>22/24)*(H28-22/24)+(O28>22/24)*(O28-22/24)+(V28>22/24)*(V28-22/24))) -> 0 | AL28: =abs(24*((G28<>"")*(G28<5/24)*(G28-5/24)+(N28<>"")*(N28<5/24)*(N28-5/24)+(U28<>"")*(U28<5/24)*(U28-5/24)+(H28>26/24)*(H28-26/24)+(O28>26/24)*(O28-26/24)+(V28>26/24)*(V28-26/24))) -> 0
B29: 45311 | D29: {=IFERROR(INDEX(SC!D:D,MATCH($C29,SC!$C:$C,0)),"")} | F29: {=IFERROR(INDEX(SC!F:F,MATCH($C29,SC!$C:$C,0)),"")} | G29: {=IFERROR(INDEX(SC!G:G,MATCH($C29,SC!$C:$C,0)),"")} | H29: {=IFERROR(INDEX(SC!H:H,MATCH($C29,SC!$C:$C,0)),"")} | I29: {=IFERROR(INDEX(SC!I:I,MATCH($C29,SC!$C:$C,0)),"")} | J29: {=IFERROR(INDEX(SC!J:J,MATCH($C29,SC!$C:$C,0)),"")} | K29: {=IFERROR(INDEX(SC!K:K,MATCH($C29,SC!$C:$C,0)),"")} | M29: {=IFERROR(INDEX(SC!M:M,MATCH($C29,SC!$C:$C,0)),"")} | N29: {=IFERROR(INDEX(SC!N:N,MATCH($C29,SC!$C:$C,0)),"")} | O29: {=IFERROR(INDEX(SC!O:O,MATCH($C29,SC!$C:$C,0)),"")} | P29: {=IFERROR(INDEX(SC!P:P,MATCH($C29,SC!$C:$C,0)),"")} | Q29: {=IFERROR(INDEX(SC!Q:Q,MATCH($C29,SC!$C:$C,0)),"")} | R29: {=IFERROR(INDEX(SC!R:R,MATCH($C29,SC!$C:$C,0)),"")} | T29: {=IFERROR(INDEX(SC!T:T,MATCH($C29,SC!$C:$C,0)),"")} | U29: {=IFERROR(INDEX(SC!U:U,MATCH($C29,SC!$C:$C,0)),"")} | V29: {=IFERROR(INDEX(SC!V:V,MATCH($C29,SC!$C:$C,0)),"")} | W29: {=IFERROR(INDEX(SC!W:W,MATCH($C29,SC!$C:$C,0)),"")} | X29: =V29-U29+Q29+O29-N29+J29+H29-G29 -> 0 | Z29: =MIN(1,(H29>21.5/24)+(O29>21.5/24)+(V29>21.5/24)) -> 1 | AA29: =IFERROR(IF(AND(OR($H29<>"",$O29<>"",$V29<>""),OR(WEEKDAY($B29,2)=7,$AB29=1)),1,""),"") | AB29: =IFERROR(IF(AND($G29="",$N29="",$U29=""),"",IF(MATCH($B29,'Fériés'!$C$5:$C$16,0)>0,1,"")),"") | AC29: =MIN(1,(N29>H29+2/24)+(U29>O29+2/24)) -> 1 | AD29: =MIN(1,(G29<>"")*(G29<5/24)+(N29<>"")*(N29<5/24)+(U29<>"")*(U29<5/24)+(H29>22/24)+(O29>22/24)+(V29>22/24)) -> 1 | AK29: =abs(24*((G29<>"")*(G29<5/24)*(G29-5/24)+(N29<>"")*(N29<5/24)*(N29-5/24)+(U29<>"")*(U29<5/24)*(U29-5/24)+(H29>22/24)*(H29-22/24)+(O29>22/24)*(O29-22/24)+(V29>22/24)*(V29-22/24))) -> 66 | AL29: =abs(24*((G29<>"")*(G29<5/24)*(G29-5/24)+(N29<>"")*(N29<5/24)*(N29-5/24)+(U29<>"")*(U29<5/24)*(U29-5/24)+(H29>26/24)*(H29-26/24)+(O29>26/24)*(O29-26/24)+(V29>26/24)*(V29-26/24))) -> 78
B30: 45312 | D30: {=IFERROR(INDEX(SC!D:D,MATCH($C30,SC!$C:$C,0)),"")} | F30: {=IFERROR(INDEX(SC!F:F,MATCH($C30,SC!$C:$C,0)),"")} | G30: {=IFERROR(INDEX(SC!G:G,MATCH($C30,SC!$C:$C,0)),"")} | H30: {=IFERROR(INDEX(SC!H:H,MATCH($C30,SC!$C:$C,0)),"")} | I30: {=IFERROR(INDEX(SC!I:I,MATCH($C30,SC!$C:$C,0)),"")} | J30: {=IFERROR(INDEX(SC!J:J,MATCH($C30,SC!$C:$C,0)),"")} | K30: {=IFERROR(INDEX(SC!K:K,MATCH($C30,SC!$C:$C,0)),"")} | M30: {=IFERROR(INDEX(SC!M:M,MATCH($C30,SC!$C:$C,0)),"")} | N30: {=IFERROR(INDEX(SC!N:N,MATCH($C30,SC!$C:$C,0)),"")} | O30: {=IFERROR(INDEX(SC!O:O,MATCH($C30,SC!$C:$C,0)),"")} | P30: {=IFERROR(INDEX(SC!P:P,MATCH($C30,SC!$C:$C,0)),"")} | Q30: {=IFERROR(INDEX(SC!Q:Q,MATCH($C30,SC!$C:$C,0)),"")} | R30: {=IFERROR(INDEX(SC!R:R,MATCH($C30,SC!$C:$C,0)),"")} | T30: {=IFERROR(INDEX(SC!T:T,MATCH($C30,SC!$C:$C,0)),"")} | U30: {=IFERROR(INDEX(SC!U:U,MATCH($C30,SC!$C:$C,0)),"")} | V30: {=IFERROR(INDEX(SC!V:V,MATCH($C30,SC!$C:$C,0)),"")} | W30: {=IFERROR(INDEX(SC!W:W,MATCH($C30,SC!$C:$C,0)),"")} | X30: =V30-U30+Q30+O30-N30+J30+H30-G30 -> 0 | Z30: =MIN(1,(H30>21.5/24)+(O30>21.5/24)+(V30>21.5/24)) -> 1 | AA30: =IFERROR(IF(AND(OR($H30<>"",$O30<>"",$V30<>""),OR(WEEKDAY($B30,2)=7,$AB30=1)),1,""),"") | AB30: =IFERROR(IF(AND($G30="",$N30="",$U30=""),"",IF(MATCH($B30,'Fériés'!$C$5:$C$16,0)>0,1,"")),"") | AC30: =MIN(1,(N30>H30+2/24)+(U30>O30+2/24)) -> 1 | AD30: =MIN(1,(G30<>"")*(G30<5/24)+(N30<>"")*(N30<5/24)+(U30<>"")*(U30<5/24)+(H30>22/24)+(O30>22/24)+(V30>22/24)) -> 1 | AK30: =abs(24*((G30<>"")*(G30<5/24)*(G30-5/24)+(N30<>"")*(N30<5/24)*(N30-5/24)+(U30<>"")*(U30<5/24)*(U30-5/24)+(H30>22/24)*(H30-22/24)+(O30>22/24)*(O30-22/24)+(V30>22/24)*(V30-22/24))) -> 66 | AL30: =abs(24*((G30<>"")*(G30<5/24)*(G30-5/24)+(N30<>"")*(N30<5/24)*(N30-5/24)+(U30<>"")*(U30<5/24)*(U30-5/24)+(H30>26/24)*(H30-26/24)+(O30>26/24)*(O30-26/24)+(V30>26/24)*(V30-26/24))) -> 78
B31: 45313 | C31: K01 | D31: {=IFERROR(INDEX(SC!D:D,MATCH($C31,SC!$C:$C,0)),"")} -> F2 10 | E31: 5210 | F31: {=IFERROR(INDEX(SC!F:F,MATCH($C31,SC!$C:$C,0)),"")} -> Dépôt | G31: {=IFERROR(INDEX(SC!G:G,MATCH($C31,SC!$C:$C,0)),"")} -> 0.27291667 | H31: {=IFERROR(INDEX(SC!H:H,MATCH($C31,SC!$C:$C,0)),"")} -> 0.40277778 | I31: {=IFERROR(INDEX(SC!I:I,MATCH($C31,SC!$C:$C,0)),"")} -> Dépôt | J31: {=IFERROR(INDEX(SC!J:J,MATCH($C31,SC!$C:$C,0)),"")} | K31: {=IFERROR(INDEX(SC!K:K,MATCH($C31,SC!$C:$C,0)),"")} -> F2 05 | L31: 5505 | M31: {=IFERROR(INDEX(SC!M:M,MATCH($C31,SC!$C:$C,0)),"")} -> HVR | N31: {=IFERROR(INDEX(SC!N:N,MATCH($C31,SC!$C:$C,0)),"")} -> 0.57152778 | O31: {=IFERROR(INDEX(SC!O:O,MATCH($C31,SC!$C:$C,0)),"")} -> 0.74375 | P31: {=IFERROR(INDEX(SC!P:P,MATCH($C31,SC!$C:$C,0)),"")} -> HVR | Q31: {=IFERROR(INDEX(SC!Q:Q,MATCH($C31,SC!$C:$C,0)),"")} | R31: {=IFERROR(INDEX(SC!R:R,MATCH($C31,SC!$C:$C,0)),"")} | T31: {=IFERROR(INDEX(SC!T:T,MATCH($C31,SC!$C:$C,0)),"")} | U31: {=IFERROR(INDEX(SC!U:U,MATCH($C31,SC!$C:$C,0)),"")} | V31: {=IFERROR(INDEX(SC!V:V,MATCH($C31,SC!$C:$C,0)),"")} | W31: {=IFERROR(INDEX(SC!W:W,MATCH($C31,SC!$C:$C,0)),"")} | X31: =V31-U31+Q31+O31-N31+J31+H31-G31 -> 0.30208333 | Z31: =MIN(1,(H31>21.5/24)+(O31>21.5/24)+(V31>21.5/24)) -> 0 | AA31: =IFERROR(IF(AND(OR($H31<>"",$O31<>"",$V31<>""),OR(WEEKDAY($B31,2)=7,$AB31=1)),1,""),"") | AB31: =IFERROR(IF(AND($G31="",$N31="",$U31=""),"",IF(MATCH($B31,'Fériés'!$C$5:$C$16,0)>0,1,"")),"") | AC31: =MIN(1,(N31>H31+2/24)+(U31>O31+2/24)) -> 1 | AD31: =MIN(1,(G31<>"")*(G31<5/24)+(N31<>"")*(N31<5/24)+(U31<>"")*(U31<5/24)+(H31>22/24)+(O31>22/24)+(V31>22/24)) -> 0 | AK31: =abs(24*((G31<>"")*(G31<5/24)*(G31-5/24)+(N31<>"")*(N31<5/24)*(N31-5/24)+(U31<>"")*(U31<5/24)*(U31-5/24)+(H31>22/24)*(H31-22/24)+(O31>22/24)*(O31-22/24)+(V31>22/24)*(V31-22/24))) -> 0 | AL31: =abs(24*((G31<>"")*(G31<5/24)*(G31-5/24)+(N31<>"")*(N31<5/24)*(N31-5/24)+(U31<>"")*(U31<5/24)*(U31-5/24)+(H31>26/24)*(H31-26/24)+(O31>26/24)*(O31-26/24)+(V31>26/24)*(V31-26/24))) -> 0
B32: 45314 | C32: OA07 | D32: {=IFERROR(INDEX(SC!D:D,MATCH($C32,SC!$C:$C,0)),"")} -> F1 09 | E32: 5204 | F32: {=IFERROR(INDEX(SC!F:F,MATCH($C32,SC!$C:$C,0)),"")} -> Dépôt | G32: {=IFERROR(INDEX(SC!G:G,MATCH($C32,SC!$C:$C,0)),"")} -> 0.27152778 | H32: {=IFERROR(INDEX(SC!H:H,MATCH($C32,SC!$C:$C,0)),"")} -> 0.40486111 | I32: {=IFERROR(INDEX(SC!I:I,MATCH($C32,SC!$C:$C,0)),"")} -> Dépôt | J32: {=IFERROR(INDEX(SC!J:J,MATCH($C32,SC!$C:$C,0)),"")} | K32: {=IFERROR(INDEX(SC!K:K,MATCH($C32,SC!$C:$C,0)),"")} -> F1 12 | L32: 5411 | M32: {=IFERROR(INDEX(SC!M:M,MATCH($C32,SC!$C:$C,0)),"")} -> Champ | N32: {=IFERROR(INDEX(SC!N:N,MATCH($C32,SC!$C:$C,0)),"")} -> 0.57013889 | O32: {=IFERROR(INDEX(SC!O:O,MATCH($C32,SC!$C:$C,0)),"")} -> 0.64236111 | P32: {=IFERROR(INDEX(SC!P:P,MATCH($C32,SC!$C:$C,0)),"")} -> Champ | Q32: {=IFERROR(INDEX(SC!Q:Q,MATCH($C32,SC!$C:$C,0)),"")} -> 0.013888889 | R32: {=IFERROR(INDEX(SC!R:R,MATCH($C32,SC!$C:$C,0)),"")} -> F1 05 | S32: 5201 | T32: {=IFERROR(INDEX(SC!T:T,MATCH($C32,SC!$C:$C,0)),"")} -> Champ | U32: {=IFERROR(INDEX(SC!U:U,MATCH($C32,SC!$C:$C,0)),"")} -> 0.65625 | V32: {=IFERROR(INDEX(SC!V:V,MATCH($C32,SC!$C:$C,0)),"")} -> 0.76041667 | W32: {=IFERROR(INDEX(SC!W:W,MATCH($C32,SC!$C:$C,0)),"")} -> Champ | X32: =V32-U32+Q32+O32-N32+J32+H32-G32 -> 0.32361111 | Z32: =MIN(1,(H32>21.5/24)+(O32>21.5/24)+(V32>21.5/24)) -> 0 | AA32: =IFERROR(IF(AND(OR($H32<>"",$O32<>"",$V32<>""),OR(WEEKDAY($B32,2)=7,$AB32=1)),1,""),"") | AB32: =IFERROR(IF(AND($G32="",$N32="",$U32=""),"",IF(MATCH($B32,'Fériés'!$C$5:$C$16,0)>0,1,"")),"") | AC32: =MIN(1,(N32>H32+2/24)+(U32>O32+2/24)) -> 1 | AD32: =MIN(1,(G32<>"")*(G32<5/24)+(N32<>"")*(N32<5/24)+(U32<>"")*(U32<5/24)+(H32>22/24)+(O32>22/24)+(V32>22/24)) -> 0 | AK32: =abs(24*((G32<>"")*(G32<5/24)*(G32-5/24)+(N32<>"")*(N32<5/24)*(N32-5/24)+(U32<>"")*(U32<5/24)*(U32-5/24)+(H32>22/24)*(H32-22/24)+(O32>22/24)*(O32-22/24)+(V32>22/24)*(V32-22/24))) -> 0 | AL32: =abs(24*((G32<>"")*(G32<5/24)*(G32-5/24)+(N32<>"")*(N32<5/24)*(N32-5/24)+(U32<>"")*(U32<5/24)*(U32-5/24)+(H32>26/24)*(H32-26/24)+(O32>26/24)*(O32-26/24)+(V32>26/24)*(V32-26/24))) -> 0
B33: 45315 | C33: UX04 | D33: {=IFERROR(INDEX(SC!D:D,MATCH($C33,SC!$C:$C,0)),"")} -> F2 14 | E33: 3141 | F33: {=IFERROR(INDEX(SC!F:F,MATCH($C33,SC!$C:$C,0)),"")} -> Dépôt | G33: {=IFERROR(INDEX(SC!G:G,MATCH($C33,SC!$C:$C,0)),"")} -> 0.3 | H33: {=IFERROR(INDEX(SC!H:H,MATCH($C33,SC!$C:$C,0)),"")} -> 0.43194444 | I33: {=IFERROR(INDEX(SC!I:I,MATCH($C33,SC!$C:$C,0)),"")} -> Dépôt | J33: {=IFERROR(INDEX(SC!J:J,MATCH($C33,SC!$C:$C,0)),"")} | K33: {=IFERROR(INDEX(SC!K:K,MATCH($C33,SC!$C:$C,0)),"")} -> F2 14 | L33: 3141 | M33: {=IFERROR(INDEX(SC!M:M,MATCH($C33,SC!$C:$C,0)),"")} -> Dépôt | N33: {=IFERROR(INDEX(SC!N:N,MATCH($C33,SC!$C:$C,0)),"")} -> 0.63611111 | O33: {=IFERROR(INDEX(SC!O:O,MATCH($C33,SC!$C:$C,0)),"")} -> 0.81041667 | P33: {=IFERROR(INDEX(SC!P:P,MATCH($C33,SC!$C:$C,0)),"")} -> Dépôt | Q33: {=IFERROR(INDEX(SC!Q:Q,MATCH($C33,SC!$C:$C,0)),"")} | R33: {=IFERROR(INDEX(SC!R:R,MATCH($C33,SC!$C:$C,0)),"")} | T33: {=IFERROR(INDEX(SC!T:T,MATCH($C33,SC!$C:$C,0)),"")} | U33: {=IFERROR(INDEX(SC!U:U,MATCH($C33,SC!$C:$C,0)),"")} | V33: {=IFERROR(INDEX(SC!V:V,MATCH($C33,SC!$C:$C,0)),"")} | W33: {=IFERROR(INDEX(SC!W:W,MATCH($C33,SC!$C:$C,0)),"")} | X33: =V33-U33+Q33+O33-N33+J33+H33-G33 -> 0.30625 | Z33: =MIN(1,(H33>21.5/24)+(O33>21.5/24)+(V33>21.5/24)) -> 0 | AA33: =IFERROR(IF(AND(OR($H33<>"",$O33<>"",$V33<>""),OR(WEEKDAY($B33,2)=7,$AB33=1)),1,""),"") | AB33: =IFERROR(IF(AND($G33="",$N33="",$U33=""),"",IF(MATCH($B33,'Fériés'!$C$5:$C$16,0)>0,1,"")),"") | AC33: =MIN(1,(N33>H33+2/24)+(U33>O33+2/24)) -> 1 | AD33: =MIN(1,(G33<>"")*(G33<5/24)+(N33<>"")*(N33<5/24)+(U33<>"")*(U33<5/24)+(H33>22/24)+(O33>22/24)+(V33>22/24)) -> 0 | AK33: =abs(24*((G33<>"")*(G33<5/24)*(G33-5/24)+(N33<>"")*(N33<5/24)*(N33-5/24)+(U33<>"")*(U33<5/24)*(U33-5/24)+(H33>22/24)*(H33-22/24)+(O33>22/24)*(O33-22/24)+(V33>22/24)*(V33-22/24))) -> 0 | AL33: =abs(24*((G33<>"")*(G33<5/24)*(G33-5/24)+(N33<>"")*(N33<5/24)*(N33-5/24)+(U33<>"")*(U33<5/24)*(U33-5/24)+(H33>26/24)*(H33-26/24)+(O33>26/24)*(O33-26/24)+(V33>26/24)*(V33-26/24))) -> 0
B34: 45316 | C34: RTT | D34: {=IFERROR(INDEX(SC!D:D,MATCH($C34,SC!$C:$C,0)),"")} | F34: {=IFERROR(INDEX(SC!F:F,MATCH($C34,SC!$C:$C,0)),"")} | G34: {=IFERROR(INDEX(SC!G:G,MATCH($C34,SC!$C:$C,0)),"")} | H34: {=IFERROR(INDEX(SC!H:H,MATCH($C34,SC!$C:$C,0)),"")} | I34: {=IFERROR(INDEX(SC!I:I,MATCH($C34,SC!$C:$C,0)),"")} | J34: {=IFERROR(INDEX(SC!J:J,MATCH($C34,SC!$C:$C,0)),"")} | K34: {=IFERROR(INDEX(SC!K:K,MATCH($C34,SC!$C:$C,0)),"")} | M34: {=IFERROR(INDEX(SC!M:M,MATCH($C34,SC!$C:$C,0)),"")} | N34: {=IFERROR(INDEX(SC!N:N,MATCH($C34,SC!$C:$C,0)),"")} | O34: {=IFERROR(INDEX(SC!O:O,MATCH($C34,SC!$C:$C,0)),"")} | P34: {=IFERROR(INDEX(SC!P:P,MATCH($C34,SC!$C:$C,0)),"")} | Q34: {=IFERROR(INDEX(SC!Q:Q,MATCH($C34,SC!$C:$C,0)),"")} | R34: {=IFERROR(INDEX(SC!R:R,MATCH($C34,SC!$C:$C,0)),"")} | T34: {=IFERROR(INDEX(SC!T:T,MATCH($C34,SC!$C:$C,0)),"")} | U34: {=IFERROR(INDEX(SC!U:U,MATCH($C34,SC!$C:$C,0)),"")} | V34: {=IFERROR(INDEX(SC!V:V,MATCH($C34,SC!$C:$C,0)),"")} | W34: {=IFERROR(INDEX(SC!W:W,MATCH($C34,SC!$C:$C,0)),"")} | X34: =V34-U34+Q34+O34-N34+J34+H34-G34 -> 0 | Z34: =MIN(1,(H34>21.5/24)+(O34>21.5/24)+(V34>21.5/24)) -> 1 | AA34: =IFERROR(IF(AND(OR($H34<>"",$O34<>"",$V34<>""),OR(WEEKDAY($B34,2)=7,$AB34=1)),1,""),"") | AB34: =IFERROR(IF(AND($G34="",$N34="",$U34=""),"",IF(MATCH($B34,'Fériés'!$C$5:$C$16,0)>0,1,"")),"") | AC34: =MIN(1,(N34>H34+2/24)+(U34>O34+2/24)) -> 1 | AD34: =MIN(1,(G34<>"")*(G34<5/24)+(N34<>"")*(N34<5/24)+(U34<>"")*(U34<5/24)+(H34>22/24)+(O34>22/24)+(V34>22/24)) -> 1 | AK34: =abs(24*((G34<>"")*(G34<5/24)*(G34-5/24)+(N34<>"")*(N34<5/24)*(N34-5/24)+(U34<>"")*(U34<5/24)*(U34-5/24)+(H34>22/24)*(H34-22/24)+(O34>22/24)*(O34-22/24)+(V34>22/24)*(V34-22/24))) -> 66 | AL34: =abs(24*((G34<>"")*(G34<5/24)*(G34-5/24)+(N34<>"")*(N34<5/24)*(N34-5/24)+(U34<>"")*(U34<5/24)*(U34-5/24)+(H34>26/24)*(H34-26/24)+(O34>26/24)*(O34-26/24)+(V34>26/24)*(V34-26/24))) -> 78
B35: 45317 | C35: VX09 | D35: {=IFERROR(INDEX(SC!D:D,MATCH($C35,SC!$C:$C,0)),"")} -> F2 05 | E35: 5502 | F35: {=IFERROR(INDEX(SC!F:F,MATCH($C35,SC!$C:$C,0)),"")} -> HVR | G35: {=IFERROR(INDEX(SC!G:G,MATCH($C35,SC!$C:$C,0)),"")} -> 0.29583333 | H35: {=IFERROR(INDEX(SC!H:H,MATCH($C35,SC!$C:$C,0)),"")} -> 0.46666667 | I35: {=IFERROR(INDEX(SC!I:I,MATCH($C35,SC!$C:$C,0)),"")} -> HVR | J35: {=IFERROR(INDEX(SC!J:J,MATCH($C35,SC!$C:$C,0)),"")} | K35: {=IFERROR(INDEX(SC!K:K,MATCH($C35,SC!$C:$C,0)),"")} -> 15 06 | L35: 3136 | M35: {=IFERROR(INDEX(SC!M:M,MATCH($C35,SC!$C:$C,0)),"")} -> Dépôt | N35: {=IFERROR(INDEX(SC!N:N,MATCH($C35,SC!$C:$C,0)),"")} -> 0.65069444 | O35: {=IFERROR(INDEX(SC!O:O,MATCH($C35,SC!$C:$C,0)),"")} -> 0.80902778 | P35: {=IFERROR(INDEX(SC!P:P,MATCH($C35,SC!$C:$C,0)),"")} -> Dépôt | Q35: {=IFERROR(INDEX(SC!Q:Q,MATCH($C35,SC!$C:$C,0)),"")} | R35: {=IFERROR(INDEX(SC!R:R,MATCH($C35,SC!$C:$C,0)),"")} | T35: {=IFERROR(INDEX(SC!T:T,MATCH($C35,SC!$C:$C,0)),"")} | U35: {=IFERROR(INDEX(SC!U:U,MATCH($C35,SC!$C:$C,0)),"")} | V35: {=IFERROR(INDEX(SC!V:V,MATCH($C35,SC!$C:$C,0)),"")} | W35: {=IFERROR(INDEX(SC!W:W,MATCH($C35,SC!$C:$C,0)),"")} | X35: =V35-U35+Q35+O35-N35+J35+H35-G35 -> 0.32916667 | Z35: =MIN(1,(H35>21.5/24)+(O35>21.5/24)+(V35>21.5/24)) -> 0 | AA35: =IFERROR(IF(AND(OR($H35<>"",$O35<>"",$V35<>""),OR(WEEKDAY($B35,2)=7,$AB35=1)),1,""),"") | AB35: =IFERROR(IF(AND($G35="",$N35="",$U35=""),"",IF(MATCH($B35,'Fériés'!$C$5:$C$16,0)>0,1,"")),"") | AC35: =MIN(1,(N35>H35+2/24)+(U35>O35+2/24)) -> 1 | AD35: =MIN(1,(G35<>"")*(G35<5/24)+(N35<>"")*(N35<5/24)+(U35<>"")*(U35<5/24)+(H35>22/24)+(O35>22/24)+(V35>22/24)) -> 0 | AE35: 7.6 | AK35: =abs(24*((G35<>"")*(G35<5/24)*(G35-5/24)+(N35<>"")*(N35<5/24)*(N35-5/24)+(U35<>"")*(U35<5/24)*(U35-5/24)+(H35>22/24)*(H35-22/24)+(O35>22/24)*(O35-22/24)+(V35>22/24)*(V35-22/24))) -> 0 | AL35: =abs(24*((G35<>"")*(G35<5/24)*(G35-5/24)+(N35<>"")*(N35<5/24)*(N35-5/24)+(U35<>"")*(U35<5/24)*(U35-5/24)+(H35>26/24)*(H35-26/24)+(O35>26/24)*(O35-26/24)+(V35>26/24)*(V35-26/24))) -> 0
B36: 45318 | C36: SP212s | D36: {=IFERROR(INDEX(SC!D:D,MATCH($C36,SC!$C:$C,0)),"")} -> 43 03 | E36: 703 | F36: {=IFERROR(INDEX(SC!F:F,MATCH($C36,SC!$C:$C,0)),"")} -> Varen | G36: {=IFERROR(INDEX(SC!G:G,MATCH($C36,SC!$C:$C,0)),"")} -> 0.58958333 | H36: {=IFERROR(INDEX(SC!H:H,MATCH($C36,SC!$C:$C,0)),"")} -> 0.74861111 | I36: {=IFERROR(INDEX(SC!I:I,MATCH($C36,SC!$C:$C,0)),"")} -> Varen | J36: {=IFERROR(INDEX(SC!J:J,MATCH($C36,SC!$C:$C,0)),"")} -> 0.038888889 | K36: {=IFERROR(INDEX(SC!K:K,MATCH($C36,SC!$C:$C,0)),"")} -> F8 07 | L36: 3116 | M36: {=IFERROR(INDEX(SC!M:M,MATCH($C36,SC!$C:$C,0)),"")} -> Varen | N36: {=IFERROR(INDEX(SC!N:N,MATCH($C36,SC!$C:$C,0)),"")} -> 0.7875 | O36: {=IFERROR(INDEX(SC!O:O,MATCH($C36,SC!$C:$C,0)),"")} -> 0.92291667 | P36: {=IFERROR(INDEX(SC!P:P,MATCH($C36,SC!$C:$C,0)),"")} -> Varen | Q36: {=IFERROR(INDEX(SC!Q:Q,MATCH($C36,SC!$C:$C,0)),"")} | R36: {=IFERROR(INDEX(SC!R:R,MATCH($C36,SC!$C:$C,0)),"")} | T36: {=IFERROR(INDEX(SC!T:T,MATCH($C36,SC!$C:$C,0)),"")} | U36: {=IFERROR(INDEX(SC!U:U,MATCH($C36,SC!$C:$C,0)),"")} | V36: {=IFERROR(INDEX(SC!V:V,MATCH($C36,SC!$C:$C,0)),"")} | W36: {=IFERROR(INDEX(SC!W:W,MATCH($C36,SC!$C:$C,0)),"")} | X36: =V36-U36+Q36+O36-N36+J36+H36-G36 -> 0.33333333 | Z36: =MIN(1,(H36>21.5/24)+(O36>21.5/24)+(V36>21.5/24)) -> 1 | AA36: =IFERROR(IF(AND(OR($H36<>"",$O36<>"",$V36<>""),OR(WEEKDAY($B36,2)=7,$AB36=1)),1,""),"") | AB36: =IFERROR(IF(AND($G36="",$N36="",$U36=""),"",IF(MATCH($B36,'Fériés'!$C$5:$C$16,0)>0,1,"")),"") | AC36: =MIN(1,(N36>H36+2/24)+(U36>O36+2/24)) -> 0 | AD36: =MIN(1,(G36<>"")*(G36<5/24)+(N36<>"")*(N36<5/24)+(U36<>"")*(U36<5/24)+(H36>22/24)+(O36>22/24)+(V36>22/24)) -> 1 | AK36: =abs(24*((G36<>"")*(G36<5/24)*(G36-5/24)+(N36<>"")*(N36<5/24)*(N36-5/24)+(U36<>"")*(U36<5/24)*(U36-5/24)+(H36>22/24)*(H36-22/24)+(O36>22/24)*(O36-22/24)+(V36>22/24)*(V36-22/24))) -> 0.15 | AL36: =abs(24*((G36<>"")*(G36<5/24)*(G36-5/24)+(N36<>"")*(N36<5/24)*(N36-5/24)+(U36<>"")*(U36<5/24)*(U36-5/24)+(H36>26/24)*(H36-26/24)+(O36>26/24)*(O36-26/24)+(V36>26/24)*(V36-26/24))) -> 0
B37: 45319 | D37: {=IFERROR(INDEX(SC!D:D,MATCH($C37,SC!$C:$C,0)),"")} | F37: {=IFERROR(INDEX(SC!F:F,MATCH($C37,SC!$C:$C,0)),"")} | G37: {=IFERROR(INDEX(SC!G:G,MATCH($C37,SC!$C:$C,0)),"")} | H37: {=IFERROR(INDEX(SC!H:H,MATCH($C37,SC!$C:$C,0)),"")} | I37: {=IFERROR(INDEX(SC!I:I,MATCH($C37,SC!$C:$C,0)),"")} | J37: {=IFERROR(INDEX(SC!J:J,MATCH($C37,SC!$C:$C,0)),"")} | K37: {=IFERROR(INDEX(SC!K:K,MATCH($C37,SC!$C:$C,0)),"")} | M37: {=IFERROR(INDEX(SC!M:M,MATCH($C37,SC!$C:$C,0)),"")} | N37: {=IFERROR(INDEX(SC!N:N,MATCH($C37,SC!$C:$C,0)),"")} | O37: {=IFERROR(INDEX(SC!O:O,MATCH($C37,SC!$C:$C,0)),"")} | P37: {=IFERROR(INDEX(SC!P:P,MATCH($C37,SC!$C:$C,0)),"")} | Q37: {=IFERROR(INDEX(SC!Q:Q,MATCH($C37,SC!$C:$C,0)),"")} | R37: {=IFERROR(INDEX(SC!R:R,MATCH($C37,SC!$C:$C,0)),"")} | T37: {=IFERROR(INDEX(SC!T:T,MATCH($C37,SC!$C:$C,0)),"")} | U37: {=IFERROR(INDEX(SC!U:U,MATCH($C37,SC!$C:$C,0)),"")} | V37: {=IFERROR(INDEX(SC!V:V,MATCH($C37,SC!$C:$C,0)),"")} | W37: {=IFERROR(INDEX(SC!W:W,MATCH($C37,SC!$C:$C,0)),"")} | X37: =V37-U37+Q37+O37-N37+J37+H37-G37 -> 0 | Z37: =MIN(1,(H37>21.5/24)+(O37>21.5/24)+(V37>21.5/24)) -> 1 | AA37: =IFERROR(IF(AND(OR($H37<>"",$O37<>"",$V37<>""),OR(WEEKDAY($B37,2)=7,$AB37=1)),1,""),"") | AB37: =IFERROR(IF(AND($G37="",$N37="",$U37=""),"",IF(MATCH($B37,'Fériés'!$C$5:$C$16,0)>0,1,"")),"") | AC37: =MIN(1,(N37>H37+2/24)+(U37>O37+2/24)) -> 1 | AD37: =MIN(1,(G37<>"")*(G37<5/24)+(N37<>"")*(N37<5/24)+(U37<>"")*(U37<5/24)+(H37>22/24)+(O37>22/24)+(V37>22/24)) -> 1 | AK37: =abs(24*((G37<>"")*(G37<5/24)*(G37-5/24)+(N37<>"")*(N37<5/24)*(N37-5/24)+(U37<>"")*(U37<5/24)*(U37-5/24)+(H37>22/24)*(H37-22/24)+(O37>22/24)*(O37-22/24)+(V37>22/24)*(V37-22/24))) -> 66 | AL37: =abs(24*((G37<>"")*(G37<5/24)*(G37-5/24)+(N37<>"")*(N37<5/24)*(N37-5/24)+(U37<>"")*(U37<5/24)*(U37-5/24)+(H37>26/24)*(H37-26/24)+(O37>26/24)*(O37-26/24)+(V37>26/24)*(V37-26/24))) -> 78
B38: 45320 | C38: SP35 | D38: {=IFERROR(INDEX(SC!D:D,MATCH($C38,SC!$C:$C,0)),"")} -> F1 04 | E38: 5507 | F38: {=IFERROR(INDEX(SC!F:F,MATCH($C38,SC!$C:$C,0)),"")} -> Champ | G38: {=IFERROR(INDEX(SC!G:G,MATCH($C38,SC!$C:$C,0)),"")} -> 0.29375 | H38: {=IFERROR(INDEX(SC!H:H,MATCH($C38,SC!$C:$C,0)),"")} -> 0.46875 | I38: {=IFERROR(INDEX(SC!I:I,MATCH($C38,SC!$C:$C,0)),"")} -> Champ | J38: {=IFERROR(INDEX(SC!J:J,MATCH($C38,SC!$C:$C,0)),"")} | K38: {=IFERROR(INDEX(SC!K:K,MATCH($C38,SC!$C:$C,0)),"")} -> 15 07 | L38: 736 | M38: {=IFERROR(INDEX(SC!M:M,MATCH($C38,SC!$C:$C,0)),"")} -> Dépôt | N38: {=IFERROR(INDEX(SC!N:N,MATCH($C38,SC!$C:$C,0)),"")} -> 0.65208333 | O38: {=IFERROR(INDEX(SC!O:O,MATCH($C38,SC!$C:$C,0)),"")} -> 0.80972222 | P38: {=IFERROR(INDEX(SC!P:P,MATCH($C38,SC!$C:$C,0)),"")} -> Dépôt | Q38: {=IFERROR(INDEX(SC!Q:Q,MATCH($C38,SC!$C:$C,0)),"")} | R38: {=IFERROR(INDEX(SC!R:R,MATCH($C38,SC!$C:$C,0)),"")} | T38: {=IFERROR(INDEX(SC!T:T,MATCH($C38,SC!$C:$C,0)),"")} | U38: {=IFERROR(INDEX(SC!U:U,MATCH($C38,SC!$C:$C,0)),"")} | V38: {=IFERROR(INDEX(SC!V:V,MATCH($C38,SC!$C:$C,0)),"")} | W38: {=IFERROR(INDEX(SC!W:W,MATCH($C38,SC!$C:$C,0)),"")} | X38: =V38-U38+Q38+O38-N38+J38+H38-G38 -> 0.33263889 | Z38: =MIN(1,(H38>21.5/24)+(O38>21.5/24)+(V38>21.5/24)) -> 0 | AA38: =IFERROR(IF(AND(OR($H38<>"",$O38<>"",$V38<>""),OR(WEEKDAY($B38,2)=7,$AB38=1)),1,""),"") | AB38: =IFERROR(IF(AND($G38="",$N38="",$U38=""),"",IF(MATCH($B38,'Fériés'!$C$5:$C$16,0)>0,1,"")),"") | AC38: =MIN(1,(N38>H38+2/24)+(U38>O38+2/24)) -> 1 | AD38: =MIN(1,(G38<>"")*(G38<5/24)+(N38<>"")*(N38<5/24)+(U38<>"")*(U38<5/24)+(H38>22/24)+(O38>22/24)+(V38>22/24)) -> 0 | AK38: =abs(24*((G38<>"")*(G38<5/24)*(G38-5/24)+(N38<>"")*(N38<5/24)*(N38-5/24)+(U38<>"")*(U38<5/24)*(U38-5/24)+(H38>22/24)*(H38-22/24)+(O38>22/24)*(O38-22/24)+(V38>22/24)*(V38-22/24))) -> 0 | AL38: =abs(24*((G38<>"")*(G38<5/24)*(G38-5/24)+(N38<>"")*(N38<5/24)*(N38-5/24)+(U38<>"")*(U38<5/24)*(U38-5/24)+(H38>26/24)*(H38-26/24)+(O38>26/24)*(O38-26/24)+(V38>26/24)*(V38-26/24))) -> 0
B39: 45321 | C39: VX03 | D39: {=IFERROR(INDEX(SC!D:D,MATCH($C39,SC!$C:$C,0)),"")} -> F1 10 | E39: 5506 | F39: {=IFERROR(INDEX(SC!F:F,MATCH($C39,SC!$C:$C,0)),"")} -> Dépôt | G39: {=IFERROR(INDEX(SC!G:G,MATCH($C39,SC!$C:$C,0)),"")} -> 0.27430556 | H39: {=IFERROR(INDEX(SC!H:H,MATCH($C39,SC!$C:$C,0)),"")} -> 0.41180556 | I39: {=IFERROR(INDEX(SC!I:I,MATCH($C39,SC!$C:$C,0)),"")} -> Dépôt | J39: {=IFERROR(INDEX(SC!J:J,MATCH($C39,SC!$C:$C,0)),"")} | K39: {=IFERROR(INDEX(SC!K:K,MATCH($C39,SC!$C:$C,0)),"")} -> F2 08 | L39: 5504 | M39: {=IFERROR(INDEX(SC!M:M,MATCH($C39,SC!$C:$C,0)),"")} -> Dépôt | N39: {=IFERROR(INDEX(SC!N:N,MATCH($C39,SC!$C:$C,0)),"")} -> 0.64861111 | O39: {=IFERROR(INDEX(SC!O:O,MATCH($C39,SC!$C:$C,0)),"")} -> 0.79375 | P39: {=IFERROR(INDEX(SC!P:P,MATCH($C39,SC!$C:$C,0)),"")} -> Dépôt | Q39: {=IFERROR(INDEX(SC!Q:Q,MATCH($C39,SC!$C:$C,0)),"")} | R39: {=IFERROR(INDEX(SC!R:R,MATCH($C39,SC!$C:$C,0)),"")} | T39: {=IFERROR(INDEX(SC!T:T,MATCH($C39,SC!$C:$C,0)),"")} | U39: {=IFERROR(INDEX(SC!U:U,MATCH($C39,SC!$C:$C,0)),"")} | V39: {=IFERROR(INDEX(SC!V:V,MATCH($C39,SC!$C:$C,0)),"")} | W39: {=IFERROR(INDEX(SC!W:W,MATCH($C39,SC!$C:$C,0)),"")} | X39: =V39-U39+Q39+O39-N39+J39+H39-G39 -> 0.28263889 | Z39: =MIN(1,(H39>21.5/24)+(O39>21.5/24)+(V39>21.5/24)) -> 0 | AA39: =IFERROR(IF(AND(OR($H39<>"",$O39<>"",$V39<>""),OR(WEEKDAY($B39,2)=7,$AB39=1)),1,""),"") | AB39: =IFERROR(IF(AND($G39="",$N39="",$U39=""),"",IF(MATCH($B39,'Fériés'!$C$5:$C$16,0)>0,1,"")),"") | AC39: =MIN(1,(N39>H39+2/24)+(U39>O39+2/24)) -> 1 | AD39: =MIN(1,(G39<>"")*(G39<5/24)+(N39<>"")*(N39<5/24)+(U39<>"")*(U39<5/24)+(H39>22/24)+(O39>22/24)+(V39>22/24)) -> 0 | AK39: =abs(24*((G39<>"")*(G39<5/24)*(G39-5/24)+(N39<>"")*(N39<5/24)*(N39-5/24)+(U39<>"")*(U39<5/24)*(U39-5/24)+(H39>22/24)*(H39-22/24)+(O39>22/24)*(O39-22/24)+(V39>22/24)*(V39-22/24))) -> 0 | AL39: =abs(24*((G39<>"")*(G39<5/24)*(G39-5/24)+(N39<>"")*(N39<5/24)*(N39-5/24)+(U39<>"")*(U39<5/24)*(U39-5/24)+(H39>26/24)*(H39-26/24)+(O39>26/24)*(O39-26/24)+(V39>26/24)*(V39-26/24))) -> 0
B40: 45322 | C40: SP232 | D40: {=IFERROR(INDEX(SC!D:D,MATCH($C40,SC!$C:$C,0)),"")} -> 10 07 | E40: 713 | F40: {=IFERROR(INDEX(SC!F:F,MATCH($C40,SC!$C:$C,0)),"")} -> Varen | G40: {=IFERROR(INDEX(SC!G:G,MATCH($C40,SC!$C:$C,0)),"")} -> 0.36458333 | H40: {=IFERROR(INDEX(SC!H:H,MATCH($C40,SC!$C:$C,0)),"")} -> 0.51319444 | I40: {=IFERROR(INDEX(SC!I:I,MATCH($C40,SC!$C:$C,0)),"")} -> Varen | J40: {=IFERROR(INDEX(SC!J:J,MATCH($C40,SC!$C:$C,0)),"")} | K40: {=IFERROR(INDEX(SC!K:K,MATCH($C40,SC!$C:$C,0)),"")} -> F8 05 | L40: 421 | M40: {=IFERROR(INDEX(SC!M:M,MATCH($C40,SC!$C:$C,0)),"")} -> Dépôt | N40: {=IFERROR(INDEX(SC!N:N,MATCH($C40,SC!$C:$C,0)),"")} -> 0.63958333 | O40: {=IFERROR(INDEX(SC!O:O,MATCH($C40,SC!$C:$C,0)),"")} -> 0.81666667 | P40: {=IFERROR(INDEX(SC!P:P,MATCH($C40,SC!$C:$C,0)),"")} -> Dépôt | Q40: {=IFERROR(INDEX(SC!Q:Q,MATCH($C40,SC!$C:$C,0)),"")} | R40: {=IFERROR(INDEX(SC!R:R,MATCH($C40,SC!$C:$C,0)),"")} | T40: {=IFERROR(INDEX(SC!T:T,MATCH($C40,SC!$C:$C,0)),"")} | U40: {=IFERROR(INDEX(SC!U:U,MATCH($C40,SC!$C:$C,0)),"")} | V40: {=IFERROR(INDEX(SC!V:V,MATCH($C40,SC!$C:$C,0)),"")} | W40: {=IFERROR(INDEX(SC!W:W,MATCH($C40,SC!$C:$C,0)),"")} | X40: =V40-U40+Q40+O40-N40+J40+H40-G40 -> 0.32569444 | Z40: =MIN(1,(H40>21.5/24)+(O40>21.5/24)+(V40>21.5/24)) -> 0 | AA40: =IFERROR(IF(AND(OR($H40<>"",$O40<>"",$V40<>""),OR(WEEKDAY($B40,2)=7,$AB40=1)),1,""),"") | AB40: =IFERROR(IF(AND($G40="",$N40="",$U40=""),"",IF(MATCH($B40,'Fériés'!$C$5:$C$16,0)>0,1,"")),"") | AC40: =MIN(1,(N40>H40+2/24)+(U40>O40+2/24)) -> 1 | AD40: =MIN(1,(G40<>"")*(G40<5/24)+(N40<>"")*(N40<5/24)+(U40<>"")*(U40<5/24)+(H40>22/24)+(O40>22/24)+(V40>22/24)) -> 0 | AK40: =abs(24*((G40<>"")*(G40<5/24)*(G40-5/24)+(N40<>"")*(N40<5/24)*(N40-5/24)+(U40<>"")*(U40<5/24)*(U40-5/24)+(H40>22/24)*(H40-22/24)+(O40>22/24)*(O40-22/24)+(V40>22/24)*(V40-22/24))) -> 0 | AL40: =abs(24*((G40<>"")*(G40<5/24)*(G40-5/24)+(N40<>"")*(N40<5/24)*(N40-5/24)+(U40<>"")*(U40<5/24)*(U40-5/24)+(H40>26/24)*(H40-26/24)+(O40>26/24)*(O40-26/24)+(V40>26/24)*(V40-26/24))) -> 0
V42: TOTAL | Y42: =SUM(Y10:Y40) -> 2 | Z42: =SUM(Z10:Z40) -> 11 | AA42: =SUM(AA10:AA40) -> 1 | AB42: =SUM(AB10:AB40) -> 1 | AC42: =SUM(AC10:AC40) -> 23 | AD42: =SUM(AD10:AD40) -> 11 | AE42: =SUM(AE10:AE40) -> 7.6 | AF42: =SUM(AF10:AF40) -> 0 | ... AL42: =SUM(AL10:AL40) -> 702

Sheet Décembre 2023
Y1: Repas décalé midi | Z1: repas soir | AA1: prime dimanche et férié | AB1: Prime férié | AC1: Prime deux vacations | AD1: Prime de Nuit Conducteurs | AE1: Heures sup (regroup RPAY+HDEP | AF1: Heure sans majoration | AG1: Heures supp à 25 % | AH1: Supplémentaire à 200 % | AI1: Repos compensateur | AJ1: Visite médicale | AK1: Heures de nuit | AL1: Heures de Nuit à Payer
B2: Feuille de temps - Janvier 2024 | C2: - | D2: 45261
B4: Nom :
B5: Matricule :
B6: Temps de travail/jour : | C6: 0.31666667 | K6: Temps de travail/mois : | O6: 136:80
B7: Temps de travail total : | C7: =SUM(X10:X37) -> 6.2416667 | K7: Différence temps de travail : | O7: =C7-O6 -> 0.51944444
B9: Jour | C9: Service | D9: Ligne | E9: Véhicule | F9: Lieu | G9: Départ | H9: Arrivée | I9: Lieu | J9: Pause | K9: Ligne | L9: Véhicule | M9: Lieu | N9: Départ | O9: Arrivée | P9: Lieu | Q9: Pause | R9: Ligne | S9: Véhicule | T9: Lieu | U9: Départ | V9: Arrivée | W9: Lieu | X9: TTE | Y9: REPM | Z9: REPS | AA9: PDIM | AB9: PFERI | AC9: P2V | AD9: PNUIT | AE9: HSUP | AF9: HSM | AG9: HSU25 | AH9: HS200 | AI9: RC | AJ9: VM | AK9: HNUIT | AL9: HNUIP
B10: 45264 | G10: 0.33333333 | H10: 0.49166667 | N10: 0.58333333 | O10: 0.74166667 | X10: =V10-U10+Q10+O10-N10+J10+H10-G10 -> 0.31666667 | Z10: =MIN(1,(H10>21.5/24)+(O10>21.5/24)+(V10>21.5/24)) -> 0 | AA10: =MIN(1,(WEEKDAY(B10,2)=7)+AB10) -> 0 | AB10: =IFERROR(IF(AND($G10="",$N10="",$U10=""),"",IF(MATCH($B10,'Fériés'!$C$5:$C$16,0)>0,1,"")),"") | AD10: =MIN(1,(G10<>"")*(G10<5/24)+(N10<>"")*(N10<5/24)+(U10<>"")*(U10<5/24)+(H10>22/24)+(O10>22/24)+(V10>22/24)) -> 0 | AK10: =abs(24*((G10<>"")*(G10<5/24)*(G10-5/24)+(N10<>"")*(N10<5/24)*(N10-5/24)+(U10<>"")*(U10<5/24)*(U10-5/24)+(H10>22/24)*(H10-22/24)+(O10>22/24)*(O10-22/24)+(V10>22/24)*(V10-22/24))) -> 0
B11: 45265 | G11: 0.33333333 | H11: 0.49166667 | N11: 0.58333333 | O11: 0.74166667 | X11: =V11-U11+Q11+O11-N11+J11+H11-G11 -> 0.31666667 | Z11: =MIN(1,(H11>21.5/24)+(O11>21.5/24)+(V11>21.5/24)) -> 0 | AA11: =IFERROR(IF(AND(OR($H11<>"",$O11<>"",$V11<>""),OR(WEEKDAY($B11,2)=7,$AB11=1)),1,""),"") | AB11: =IFERROR(IF(AND($G11="",$N11="",$U11=""),"",IF(MATCH($B11,'Fériés'!$C$5:$C$16,0)>0,1,"")),"") | AD11: =MIN(1,(G11<>"")*(G11<5/24)+(N11<>"")*(N11<5/24)+(U11<>"")*(U11<5/24)+(H11>22/24)+(O11>22/24)+(V11>22/24)) -> 0 | AK11: =abs(24*((G11<>"")*(G11<5/24)*(G11-5/24)+(N11<>"")*(N11<5/24)*(N11-5/24)+(U11<>"")*(U11<5/24)*(U11-5/24)+(H11>22/24)*(H11-22/24)+(O11>22/24)*(O11-22/24)+(V11>22/24)*(V11-22/24))) -> 0
B12: 45266 | G12: 0.33333333 | H12: 0.49166667 | N12: 0.58333333 | O12: 0.74166667 | X12: =V12-U12+Q12+O12-N12+J12+H12-G12 -> 0.31666667 | Z12: =MIN(1,(H12>21.5/24)+(O12>21.5/24)+(V12>21.5/24)) -> 0 | AA12: =IFERROR(IF(AND(OR($H12<>"",$O12<>"",$V12<>""),OR(WEEKDAY($B12,2)=7,$AB12=1)),1,""),"") | AB12: =IFERROR(IF(AND($G12="",$N12="",$U12=""),"",IF(MATCH($B12,'Fériés'!$C$5:$C$16,0)>0,1,"")),"") | AD12: =MIN(1,(G12<>"")*(G12<5/24)+(N12<>"")*(N12<5/24)+(U12<>"")*(U12<5/24)+(H12>22/24)+(O12>22/24)+(V12>22/24)) -> 0 | AK12: =abs(24*((G12<>"")*(G12<5/24)*(G12-5/24)+(N12<>"")*(N12<5/24)*(N12-5/24)+(U12<>"")*(U12<5/24)*(U12-5/24)+(H12>22/24)*(H12-22/24)+(O12>22/24)*(O12-22/24)+(V12>22/24)*(V12-22/24))) -> 0
B13: 45267 | G13: 0.33333333 | H13: 0.49166667 | N13: 0.58333333 | O13: 0.74166667 | X13: =V13-U13+Q13+O13-N13+J13+H13-G13 -> 0.31666667 | Z13: =MIN(1,(H13>21.5/24)+(O13>21.5/24)+(V13>21.5/24)) -> 0 | AA13: =IFERROR(IF(AND(OR($H13<>"",$O13<>"",$V13<>""),OR(WEEKDAY($B13,2)=7,$AB13=1)),1,""),"") | AB13: =IFERROR(IF(AND($G13="",$N13="",$U13=""),"",IF(MATCH($B13,'Fériés'!$C$5:$C$16,0)>0,1,"")),"") | AD13: =MIN(1,(G13<>"")*(G13<5/24)+(N13<>"")*(N13<5/24)+(U13<>"")*(U13<5/24)+(H13>22/24)+(O13>22/24)+(V13>22/24)) -> 0 | AK13: =abs(24*((G13<>"")*(G13<5/24)*(G13-5/24)+(N13<>"")*(N13<5/24)*(N13-5/24)+(U13<>"")*(U13<5/24)*(U13-5/24)+(H13>22/24)*(H13-22/24)+(O13>22/24)*(O13-22/24)+(V13>22/24)*(V13-22/24))) -> 0
B14: 45268 | G14: 0.33333333 | H14: 0.49166667 | N14: 0.58333333 | O14: 0.74166667 | X14: =V14-U14+Q14+O14-N14+J14+H14-G14 -> 0.31666667 | Z14: =MIN(1,(H14>21.5/24)+(O14>21.5/24)+(V14>21.5/24)) -> 0 | AA14: =IFERROR(IF(AND(OR($H14<>"",$O14<>"",$V14<>""),OR(WEEKDAY($B14,2)=7,$AB14=1)),1,""),"") | AB14: =IFERROR(IF(AND($G14="",$N14="",$U14=""),"",IF(MATCH($B14,'Fériés'!$C$5:$C$16,0)>0,1,"")),"") | AD14: =MIN(1,(G14<>"")*(G14<5/24)+(N14<>"")*(N14<5/24)+(U14<>"")*(U14<5/24)+(H14>22/24)+(O14>22/24)+(V14>22/24)) -> 0 | AK14: =abs(24*((G14<>"")*(G14<5/24)*(G14-5/24)+(N14<>"")*(N14<5/24)*(N14-5/24)+(U14<>"")*(U14<5/24)*(U14-5/24)+(H14>22/24)*(H14-22/24)+(O14>22/24)*(O14-22/24)+(V14>22/24)*(V14-22/24))) -> 0
B15: 45269 | X15: =V15-U15+Q15+O15-N15+J15+H15-G15 -> 0 | Z15: =MIN(1,(H15>21.5/24)+(O15>21.5/24)+(V15>21.5/24)) -> 0 | AA15: =IFERROR(IF(AND(OR($H15<>"",$O15<>"",$V15<>""),OR(WEEKDAY($B15,2)=7,$AB15=1)),1,""),"") | AB15: =IFERROR(IF(AND($G15="",$N15="",$U15=""),"",IF(MATCH($B15,'Fériés'!$C$5:$C$16,0)>0,1,"")),"") | AD15: =MIN(1,(G15<>"")*(G15<5/24)+(N15<>"")*(N15<5/24)+(U15<>"")*(U15<5/24)+(H15>22/24)+(O15>22/24)+(V15>22/24)) -> 0 | AK15: =abs(24*((G15<>"")*(G15<5/24)*(G15-5/24)+(N15<>"")*(N15<5/24)*(N15-5/24)+(U15<>"")*(U15<5/24)*(U15-5/24)+(H15>22/24)*(H15-22/24)+(O15>22/24)*(O15-22/24)+(V15>22/24)*(V15-22/24))) -> 0
B16: 45270 | X16: =V16-U16+Q17+O16-N16+J16+H16-G16 -> 0 | Z16: =MIN(1,(H16>21.5/24)+(O16>21.5/24)+(V16>21.5/24)) -> 0 | AA16: =IFERROR(IF(AND(OR($H16<>"",$O16<>"",$V16<>""),OR(WEEKDAY($B16,2)=7,$AB16=1)),1,""),"") | AB16: =IFERROR(IF(AND($G16="",$N16="",$U16=""),"",IF(MATCH($B16,'Fériés'!$C$5:$C$16,0)>0,1,"")),"") | AD16: =MIN(1,(G16<>"")*(G16<5/24)+(N16<>"")*(N16<5/24)+(U16<>"")*(U16<5/24)+(H16>22/24)+(O16>22/24)+(V16>22/24)) -> 0 | AK16: =abs(24*((G16<>"")*(G16<5/24)*(G16-5/24)+(N16<>"")*(N16<5/24)*(N16-5/24)+(U16<>"")*(U16<5/24)*(U16-5/24)+(H16>22/24)*(H16-22/24)+(O16>22/24)*(O16-22/24)+(V16>22/24)*(V16-22/24))) -> 0
B17: 45271 | G17: 0.33333333 | H17: 0.49166667 | N17: 0.58333333 | O17: 0.74166667 | X17: =V17-U17+Q18+O17-N17+J17+H17-G17 -> 0.31666667 | Z17: =MIN(1,(H17>21.5/24)+(O17>21.5/24)+(V17>21.5/24)) -> 0 | AA17: =IFERROR(IF(AND(OR($H17<>"",$O17<>"",$V17<>""),OR(WEEKDAY($B17,2)=7,$AB17=1)),1,""),"") | AB17: =IFERROR(IF(AND($G17="",$N17="",$U17=""),"",IF(MATCH($B17,'Fériés'!$C$5:$C$16,0)>0,1,"")),"") | AD17: =MIN(1,(G17<>"")*(G17<5/24)+(N17<>"")*(N17<5/24)+(U17<>"")*(U17<5/24)+(H17>22/24)+(O17>22/24)+(V17>22/24)) -> 0 | AK17: =abs(24*((G17<>"")*(G17<5/24)*(G17-5/24)+(N17<>"")*(N17<5/24)*(N17-5/24)+(U17<>"")*(U17<5/24)*(U17-5/24)+(H17>22/24)*(H17-22/24)+(O17>22/24)*(O17-22/24)+(V17>22/24)*(V17-22/24))) -> 0
B18: 45272 | G18: 0.33333333 | H18: 0.49166667 | N18: 0.58333333 | O18: 0.74166667 | X18: =V18-U18+Q19+O18-N18+J18+H18-G18 -> 0.31666667 | Z18: =MIN(1,(H18>21.5/24)+(O18>21.5/24)+(V18>21.5/24)) -> 0 | AA18: =IFERROR(IF(AND(OR($H18<>"",$O18<>"",$V18<>""),OR(WEEKDAY($B18,2)=7,$AB18=1)),1,""),"") | AB18: =IFERROR(IF(AND($G18="",$N18="",$U18=""),"",IF(MATCH($B18,'Fériés'!$C$5:$C$16,0)>0,1,"")),"") | AD18: =MIN(1,(G18<>"")*(G18<5/24)+(N18<>"")*(N18<5/24)+(U18<>"")*(U18<5/24)+(H18>22/24)+(O18>22/24)+(V18>22/24)) -> 0 | AK18: =abs(24*((G18<>"")*(G18<5/24)*(G18-5/24)+(N18<>"")*(N18<5/24)*(N18-5/24)+(U18<>"")*(U18<5/24)*(U18-5/24)+(H18>22/24)*(H18-22/24)+(O18>22/24)*(O18-22/24)+(V18>22/24)*(V18-22/24))) -> 0
B19: 45273 | G19: 0.33333333 | H19: 0.49166667 | N19: 0.58333333 | O19: 0.74166667 | X19: =V19-U19+Q19+O19-N19+J19+H19-G19 -> 0.31666667 | Z19: =MIN(1,(H19>21.5/24)+(O19>21.5/24)+(V19>21.5/24)) -> 0 | AA19: =IFERROR(IF(AND(OR($H19<>"",$O19<>"",$V19<>""),OR(WEEKDAY($B19,2)=7,$AB19=1)),1,""),"") | AB19: =IFERROR(IF(AND($G19="",$N19="",$U19=""),"",IF(MATCH($B19,'Fériés'!$C$5:$C$16,0)>0,1,"")),"") | AD19: =MIN(1,(G19<>"")*(G19<5/24)+(N19<>"")*(N19<5/24)+(U19<>"")*(U19<5/24)+(H19>22/24)+(O19>22/24)+(V19>22/24)) -> 0 | AK19: =abs(24*((G19<>"")*(G19<5/24)*(G19-5/24)+(N19<>"")*(N19<5/24)*(N19-5/24)+(U19<>"")*(U19<5/24)*(U19-5/24)+(H19>22/24)*(H19-22/24)+(O19>22/24)*(O19-22/24)+(V19>22/24)*(V19-22/24))) -> 0
B20: 45274 | G20: 0.33333333 | H20: 0.49166667 | N20: 0.58333333 | O20: 0.74166667 | X20: =V20-U20+Q20+O20-N20+J20+H20-G20 -> 0.31666667 | Z20: =MIN(1,(H20>21.5/24)+(O20>21.5/24)+(V20>21.5/24)) -> 0 | AA20: =IFERROR(IF(AND(OR($H20<>"",$O20<>"",$V20<>""),OR(WEEKDAY($B20,2)=7,$AB20=1)),1,""),"") | AB20: =IFERROR(IF(AND($G20="",$N20="",$U20=""),"",IF(MATCH($B20,'Fériés'!$C$5:$C$16,0)>0,1,"")),"") | AD20: =MIN(1,(G20<>"")*(G20<5/24)+(N20<>"")*(N20<5/24)+(U20<>"")*(U20<5/24)+(H20>22/24)+(O20>22/24)+(V20>22/24)) -> 0 | AK20: =abs(24*((G20<>"")*(G20<5/24)*(G20-5/24)+(N20<>"")*(N20<5/24)*(N20-5/24)+(U20<>"")*(U20<5/24)*(U20-5/24)+(H20>22/24)*(H20-22/24)+(O20>22/24)*(O20-22/24)+(V20>22/24)*(V20-22/24))) -> 0
B21: 45275 | G21: 0.33333333 | H21: 0.49166667 | N21: 0.58333333 | O21: 0.74166667 | X21: =V21-U21+Q21+O21-N21+J21+H21-G21 -> 0.31666667 | Z21: =MIN(1,(H21>21.5/24)+(O21>21.5/24)+(V21>21.5/24)) -> 0 | AA21: =IFERROR(IF(AND(OR($H21<>"",$O21<>"",$V21<>""),OR(WEEKDAY($B21,2)=7,$AB21=1)),1,""),"") | AB21: =IFERROR(IF(AND($G21="",$N21="",$U21=""),"",IF(MATCH($B21,'Fériés'!$C$5:$C$16,0)>0,1,"")),"") | AD21: =MIN(1,(G21<>"")*(G21<5/24)+(N21<>"")*(N21<5/24)+(U21<>"")*(U21<5/24)+(H21>22/24)+(O21>22/24)+(V21>22/24)) -> 0 | AK21: =abs(24*((G21<>"")*(G21<5/24)*(G21-5/24)+(N21<>"")*(N21<5/24)*(N21-5/24)+(U21<>"")*(U21<5/24)*(U21-5/24)+(H21>22/24)*(H21-22/24)+(O21>22/24)*(O21-22/24)+(V21>22/24)*(V21-22/24))) -> 0
B22: 45276 | X22: =V22-U22+Q22+O22-N22+J22+H22-G22 -> 0 | Z22: =MIN(1,(H22>21.5/24)+(O22>21.5/24)+(V22>21.5/24)) -> 0 | AA22: =IFERROR(IF(AND(OR($H22<>"",$O22<>"",$V22<>""),OR(WEEKDAY($B22,2)=7,$AB22=1)),1,""),"") | AB22: =IFERROR(IF(AND($G22="",$N22="",$U22=""),"",IF(MATCH($B22,'Fériés'!$C$5:$C$16,0)>0,1,"")),"") | AC22: =MIN(1,(N22>H22+2/24)+(U22>O22+2/24)) -> 0 | AD22: =MIN(1,(G22<>"")*(G22<5/24)+(N22<>"")*(N22<5/24)+(U22<>"")*(U22<5/24)+(H22>22/24)+(O22>22/24)+(V22>22/24)) -> 0 | AK22: =abs(24*((G22<>"")*(G22<5/24)*(G22-5/24)+(N22<>"")*(N22<5/24)*(N22-5/24)+(U22<>"")*(U22<5/24)*(U22-5/24)+(H22>22/24)*(H22-22/24)+(O22>22/24)*(O22-22/24)+(V22>22/24)*(V22-22/24))) -> 0
B23: 45277 | X23: =V23-U23+Q23+O23-N23+J23+H23-G23 -> 0 | Z23: =MIN(1,(H23>21.5/24)+(O23>21.5/24)+(V23>21.5/24)) -> 0 | AA23: =IFERROR(IF(AND(OR($H23<>"",$O23<>"",$V23<>""),OR(WEEKDAY($B23,2)=7,$AB23=1)),1,""),"") | AB23: =IFERROR(IF(AND($G23="",$N23="",$U23=""),"",IF(MATCH($B23,'Fériés'!$C$5:$C$16,0)>0,1,"")),"") | AC23: =MIN(1,(N23>H23+2/24)+(U23>O23+2/24)) -> 0 | AD23: =MIN(1,(G23<>"")*(G23<5/24)+(N23<>"")*(N23<5/24)+(U23<>"")*(U23<5/24)+(H23>22/24)+(O23>22/24)+(V23>22/24)) -> 0 | AK23: =abs(24*((G23<>"")*(G23<5/24)*(G23-5/24)+(N23<>"")*(N23<5/24)*(N23-5/24)+(U23<>"")*(U23<5/24)*(U23-5/24)+(H23>22/24)*(H23-22/24)+(O23>22/24)*(O23-22/24)+(V23>22/24)*(V23-22/24))) -> 0
B24: 45278 | C24: CM08 | D24: {=IFERROR(INDEX(SC!D:D,MATCH($C24,SC!$C:$C,0)),"")} -> F8 02 | E24: 3028 | F24: {=IFERROR(INDEX(SC!F:F,MATCH($C24,SC!$C:$C,0)),"")} -> Dépôt | G24: {=IFERROR(INDEX(SC!G:G,MATCH($C24,SC!$C:$C,0)),"")} -> 0.23194444 | H24: {=IFERROR(INDEX(SC!H:H,MATCH($C24,SC!$C:$C,0)),"")} -> 0.36388889 | I24: {=IFERROR(INDEX(SC!I:I,MATCH($C24,SC!$C:$C,0)),"")} -> Varen | J24: {=IFERROR(INDEX(SC!J:J,MATCH($C24,SC!$C:$C,0)),"")} -> 0.025694444 | K24: {=IFERROR(INDEX(SC!K:K,MATCH($C24,SC!$C:$C,0)),"")} -> F8 09 | L24: 3113 | M24: {=IFERROR(INDEX(SC!M:M,MATCH($C24,SC!$C:$C,0)),"")} -> Varen | N24: {=IFERROR(INDEX(SC!N:N,MATCH($C24,SC!$C:$C,0)),"")} -> 0.38958333 | O24: {=IFERROR(INDEX(SC!O:O,MATCH($C24,SC!$C:$C,0)),"")} -> 0.55 | P24: {=IFERROR(INDEX(SC!P:P,MATCH($C24,SC!$C:$C,0)),"")} -> Varen | Q24: {=IFERROR(INDEX(SC!Q:Q,MATCH($C24,SC!$C:$C,0)),"")} | R24: {=IFERROR(INDEX(SC!R:R,MATCH($C24,SC!$C:$C,0)),"")} | T24: {=IFERROR(INDEX(SC!T:T,MATCH($C24,SC!$C:$C,0)),"")} | U24: {=IFERROR(INDEX(SC!U:U,MATCH($C24,SC!$C:$C,0)),"")} | V24: {=IFERROR(INDEX(SC!V:V,MATCH($C24,SC!$C:$C,0)),"")} | W24: {=IFERROR(INDEX(SC!W:W,MATCH($C24,SC!$C:$C,0)),"")} | X24: =V24-U24+Q24+O24-N24+J24+H24-G24 -> 0.31805556 | Z24: =MIN(1,(H24>21.5/24)+(O24>21.5/24)+(V24>21.5/24)) -> 0 | AA24: =IFERROR(IF(AND(OR($H24<>"",$O24<>"",$V24<>""),OR(WEEKDAY($B24,2)=7,$AB24=1)),1,""),"") | AB24: =IFERROR(IF(AND($G24="",$N24="",$U24=""),"",IF(MATCH($B24,'Fériés'!$C$5:$C$16,0)>0,1,"")),"") | AC24: =MIN(1,(N24>H24+2/24)+(U24>O24+2/24)) -> 0 | AD24: =MIN(1,(G24<>"")*(G24<5/24)+(N24<>"")*(N24<5/24)+(U24<>"")*(U24<5/24)+(H24>22/24)+(O24>22/24)+(V24>22/24)) -> 0 | AK24: =abs(24*((G24<>"")*(G24<5/24)*(G24-5/24)+(N24<>"")*(N24<5/24)*(N24-5/24)+(U24<>"")*(U24<5/24)*(U24-5/24)+(H24>22/24)*(H24-22/24)+(O24>22/24)*(O24-22/24)+(V24>22/24)*(V24-22/24))) -> 0
B25: 45279 | C25: CM01 | D25: {=IFERROR(INDEX(SC!D:D,MATCH($C25,SC!$C:$C,0)),"")} -> F8 01 | E25: 430 | F25: {=IFERROR(INDEX(SC!F:F,MATCH($C25,SC!$C:$C,0)),"")} -> Dépôt | G25: {=IFERROR(INDEX(SC!G:G,MATCH($C25,SC!$C:$C,0)),"")} -> 0.22430556 | H25: {=IFERROR(INDEX(SC!H:H,MATCH($C25,SC!$C:$C,0)),"")} -> 0.34652778 | I25: {=IFERROR(INDEX(SC!I:I,MATCH($C25,SC!$C:$C,0)),"")} -> Varen | J25: {=IFERROR(INDEX(SC!J:J,MATCH($C25,SC!$C:$C,0)),"")} -> 0.026388889 | K25: {=IFERROR(INDEX(SC!K:K,MATCH($C25,SC!$C:$C,0)),"")} -> 43 02 | L25: 728 | M25: {=IFERROR(INDEX(SC!M:M,MATCH($C25,SC!$C:$C,0)),"")} -> Varen | N25: {=IFERROR(INDEX(SC!N:N,MATCH($C25,SC!$C:$C,0)),"")} -> 0.37291667 | O25: {=IFERROR(INDEX(SC!O:O,MATCH($C25,SC!$C:$C,0)),"")} -> 0.51388889 | P25: {=IFERROR(INDEX(SC!P:P,MATCH($C25,SC!$C:$C,0)),"")} -> Varen | Q25: {=IFERROR(INDEX(SC!Q:Q,MATCH($C25,SC!$C:$C,0)),"")} -> 0.0048611111 | R25: {=IFERROR(INDEX(SC!R:R,MATCH($C25,SC!$C:$C,0)),"")} -> Dépl | T25: {=IFERROR(INDEX(SC!T:T,MATCH($C25,SC!$C:$C,0)),"")} -> Varen | U25: {=IFERROR(INDEX(SC!U:U,MATCH($C25,SC!$C:$C,0)),"")} -> 0.51875 | V25: {=IFERROR(INDEX(SC!V:V,MATCH($C25,SC!$C:$C,0)),"")} -> 0.53402778 | W25: {=IFERROR(INDEX(SC!W:W,MATCH($C25,SC!$C:$C,0)),"")} -> Dépôt | X25: =V25-U25+Q25+O25-N25+J25+H25-G25 -> 0.30972222 | Z25: =MIN(1,(H25>21.5/24)+(O25>21.5/24)+(V25>21.5/24)) -> 0 | AA25: =IFERROR(IF(AND(OR($H25<>"",$O25<>"",$V25<>""),OR(WEEKDAY($B25,2)=7,$AB25=1)),1,""),"") | AB25: =IFERROR(IF(AND($G25="",$N25="",$U25=""),"",IF(MATCH($B25,'Fériés'!$C$5:$C$16,0)>0,1,"")),"") | AC25: =MIN(1,(N25>H25+2/24)+(U25>O25+2/24)) -> 0 | AD25: =MIN(1,(G25<>"")*(G25<5/24)+(N25<>"")*(N25<5/24)+(U25<>"")*(U25<5/24)+(H25>22/24)+(O25>22/24)+(V25>22/24)) -> 0 | AK25: =abs(24*((G25<>"")*(G25<5/24)*(G25-5/24)+(N25<>"")*(N25<5/24)*(N25-5/24)+(U25<>"")*(U25<5/24)*(U25-5/24)+(H25>22/24)*(H25-22/24)+(O25>22/24)*(O25-22/24)+(V25>22/24)*(V25-22/24))) -> 0
B26: 45280 | C26: CA09 | D26: {=IFERROR(INDEX(SC!D:D,MATCH($C26,SC!$C:$C,0)),"")} -> A | F26: {=IFERROR(INDEX(SC!F:F,MATCH($C26,SC!$C:$C,0)),"")} -> Dépôt | G26: {=IFERROR(INDEX(SC!G:G,MATCH($C26,SC!$C:$C,0)),"")} -> 0.54583333 | H26: {=IFERROR(INDEX(SC!H:H,MATCH($C26,SC!$C:$C,0)),"")} -> 0.62152778 | I26: {=IFERROR(INDEX(SC!I:I,MATCH($C26,SC!$C:$C,0)),"")} -> Dépôt | J26: {=IFERROR(INDEX(SC!J:J,MATCH($C26,SC!$C:$C,0)),"")} -> 0.022222222 | K26: {=IFERROR(INDEX(SC!K:K,MATCH($C26,SC!$C:$C,0)),"")} -> 10 06 | L26: 3112 | M26: {=IFERROR(INDEX(SC!M:M,MATCH($C26,SC!$C:$C,0)),"")} -> Dépôt | N26: {=IFERROR(INDEX(SC!N:N,MATCH($C26,SC!$C:$C,0)),"")} -> 0.64375 | O26: {=IFERROR(INDEX(SC!O:O,MATCH($C26,SC!$C:$C,0)),"")} -> 0.78263889 | P26: {=IFERROR(INDEX(SC!P:P,MATCH($C26,SC!$C:$C,0)),"")} -> Varen | Q26: {=IFERROR(INDEX(SC!Q:Q,MATCH($C26,SC!$C:$C,0)),"")} -> 0.019444444 | R26: {=IFERROR(INDEX(SC!R:R,MATCH($C26,SC!$C:$C,0)),"")} -> 10 05 | T26: {=IFERROR(INDEX(SC!T:T,MATCH($C26,SC!$C:$C,0)),"")} -> Varen | U26: {=IFERROR(INDEX(SC!U:U,MATCH($C26,SC!$C:$C,0)),"")} -> 0.80208333 | V26: {=IFERROR(INDEX(SC!V:V,MATCH($C26,SC!$C:$C,0)),"")} -> 0.85138889 | W26: {=IFERROR(INDEX(SC!W:W,MATCH($C26,SC!$C:$C,0)),"")} -> Dépôt | X26: =V26-U26+Q26+O26-N26+J26+H26-G26 -> 0.30555556 | Z26: =MIN(1,(H26>21.5/24)+(O26>21.5/24)+(V26>21.5/24)) -> 0 | AA26: =IFERROR(IF(AND(OR($H26<>"",$O26<>"",$V26<>""),OR(WEEKDAY($B26,2)=7,$AB26=1)),1,""),"") | AB26: =IFERROR(IF(AND($G26="",$N26="",$U26=""),"",IF(MATCH($B26,'Fériés'!$C$5:$C$16,0)>0,1,"")),"") | AC26: =MIN(1,(N26>H26+2/24)+(U26>O26+2/24)) -> 0 | AD26: =MIN(1,(G26<>"")*(G26<5/24)+(N26<>"")*(N26<5/24)+(U26<>"")*(U26<5/24)+(H26>22/24)+(O26>22/24)+(V26>22/24)) -> 0 | AK26: =abs(24*((G26<>"")*(G26<5/24)*(G26-5/24)+(N26<>"")*(N26<5/24)*(N26-5/24)+(U26<>"")*(U26<5/24)*(U26-5/24)+(H26>22/24)*(H26-22/24)+(O26>22/24)*(O26-22/24)+(V26>22/24)*(V26-22/24))) -> 0
B27: 45281 | C27: UX04 | D27: {=IFERROR(INDEX(SC!D:D,MATCH($C27,SC!$C:$C,0)),"")} -> F2 14 | E27: 5407-5404 | F27: {=IFERROR(INDEX(SC!F:F,MATCH($C27,SC!$C:$C,0)),"")} -> Dépôt | G27: {=IFERROR(INDEX(SC!G:G,MATCH($C27,SC!$C:$C,0)),"")} -> 0.3 | H27: {=IFERROR(INDEX(SC!H:H,MATCH($C27,SC!$C:$C,0)),"")} -> 0.43194444 | I27: {=IFERROR(INDEX(SC!I:I,MATCH($C27,SC!$C:$C,0)),"")} -> Dépôt | J27: {=IFERROR(INDEX(SC!J:J,MATCH($C27,SC!$C:$C,0)),"")} | K27: {=IFERROR(INDEX(SC!K:K,MATCH($C27,SC!$C:$C,0)),"")} -> F2 14 | L27: 5404 | M27: {=IFERROR(INDEX(SC!M:M,MATCH($C27,SC!$C:$C,0)),"")} -> Dépôt | N27: {=IFERROR(INDEX(SC!N:N,MATCH($C27,SC!$C:$C,0)),"")} -> 0.63611111 | O27: {=IFERROR(INDEX(SC!O:O,MATCH($C27,SC!$C:$C,0)),"")} -> 0.81041667 | P27: {=IFERROR(INDEX(SC!P:P,MATCH($C27,SC!$C:$C,0)),"")} -> Dépôt | Q27: {=IFERROR(INDEX(SC!Q:Q,MATCH($C27,SC!$C:$C,0)),"")} | R27: {=IFERROR(INDEX(SC!R:R,MATCH($C27,SC!$C:$C,0)),"")} | T27: {=IFERROR(INDEX(SC!T:T,MATCH($C27,SC!$C:$C,0)),"")} | U27: {=IFERROR(INDEX(SC!U:U,MATCH($C27,SC!$C:$C,0)),"")} | V27: {=IFERROR(INDEX(SC!V:V,MATCH($C27,SC!$C:$C,0)),"")} | W27: {=IFERROR(INDEX(SC!W:W,MATCH($C27,SC!$C:$C,0)),"")} | X27: =V27-U27+Q27+O27-N27+J27+H27-G27 -> 0.30625 | Z27: =MIN(1,(H27>21.5/24)+(O27>21.5/24)+(V27>21.5/24)) -> 0 | AA27: =IFERROR(IF(AND(OR($H27<>"",$O27<>"",$V27<>""),OR(WEEKDAY($B27,2)=7,$AB27=1)),1,""),"") | AB27: =IFERROR(IF(AND($G27="",$N27="",$U27=""),"",IF(MATCH($B27,'Fériés'!$C$5:$C$16,0)>0,1,"")),"") | AC27: =MIN(1,(N27>H27+2/24)+(U27>O27+2/24)) -> 1 | AD27: =MIN(1,(G27<>"")*(G27<5/24)+(N27<>"")*(N27<5/24)+(U27<>"")*(U27<5/24)+(H27>22/24)+(O27>22/24)+(V27>22/24)) -> 0 | AK27: =abs(24*((G27<>"")*(G27<5/24)*(G27-5/24)+(N27<>"")*(N27<5/24)*(N27-5/24)+(U27<>"")*(U27<5/24)*(U27-5/24)+(H27>22/24)*(H27-22/24)+(O27>22/24)*(O27-22/24)+(V27>22/24)*(V27-22/24))) -> 0
B28: 45282 | C28: K01 | D28: {=IFERROR(INDEX(SC!D:D,MATCH($C28,SC!$C:$C,0)),"")} -> F2 10 | E28: 5307 | F28: {=IFERROR(INDEX(SC!F:F,MATCH($C28,SC!$C:$C,0)),"")} -> Dépôt | G28: {=IFERROR(INDEX(SC!G:G,MATCH($C28,SC!$C:$C,0)),"")} -> 0.27291667 | H28: {=IFERROR(INDEX(SC!H:H,MATCH($C28,SC!$C:$C,0)),"")} -> 0.40277778 | I28: {=IFERROR(INDEX(SC!I:I,MATCH($C28,SC!$C:$C,0)),"")} -> Dépôt | J28: {=IFERROR(INDEX(SC!J:J,MATCH($C28,SC!$C:$C,0)),"")} | K28: {=IFERROR(INDEX(SC!K:K,MATCH($C28,SC!$C:$C,0)),"")} -> F2 05 | L28: 7238 | M28: {=IFERROR(INDEX(SC!M:M,MATCH($C28,SC!$C:$C,0)),"")} -> HVR | N28: {=IFERROR(INDEX(SC!N:N,MATCH($C28,SC!$C:$C,0)),"")} -> 0.57152778 | O28: {=IFERROR(INDEX(SC!O:O,MATCH($C28,SC!$C:$C,0)),"")} -> 0.74375 | P28: {=IFERROR(INDEX(SC!P:P,MATCH($C28,SC!$C:$C,0)),"")} -> HVR | Q28: {=IFERROR(INDEX(SC!Q:Q,MATCH($C28,SC!$C:$C,0)),"")} | R28: {=IFERROR(INDEX(SC!R:R,MATCH($C28,SC!$C:$C,0)),"")} | T28: {=IFERROR(INDEX(SC!T:T,MATCH($C28,SC!$C:$C,0)),"")} | U28: {=IFERROR(INDEX(SC!U:U,MATCH($C28,SC!$C:$C,0)),"")} | V28: {=IFERROR(INDEX(SC!V:V,MATCH($C28,SC!$C:$C,0)),"")} | W28: {=IFERROR(INDEX(SC!W:W,MATCH($C28,SC!$C:$C,0)),"")} | X28: =V28-U28+Q28+O28-N28+J28+H28-G28 -> 0.30208333 | Z28: =MIN(1,(H28>21.5/24)+(O28>21.5/24)+(V28>21.5/24)) -> 0 | AA28: =IFERROR(IF(AND(OR($H28<>"",$O28<>"",$V28<>""),OR(WEEKDAY($B28,2)=7,$AB28=1)),1,""),"") | AB28: =IFERROR(IF(AND($G28="",$N28="",$U28=""),"",IF(MATCH($B28,'Fériés'!$C$5:$C$16,0)>0,1,"")),"") | AC28: =MIN(1,(N28>H28+2/24)+(U28>O28+2/24)) -> 1 | AD28: =MIN(1,(G28<>"")*(G28<5/24)+(N28<>"")*(N28<5/24)+(U28<>"")*(U28<5/24)+(H28>22/24)+(O28>22/24)+(V28>22/24)) -> 0 | AK28: =abs(24*((G28<>"")*(G28<5/24)*(G28-5/24)+(N28<>"")*(N28<5/24)*(N28-5/24)+(U28<>"")*(U28<5/24)*(U28-5/24)+(H28>22/24)*(H28-22/24)+(O28>22/24)*(O28-22/24)+(V28>22/24)*(V28-22/24))) -> 0
B29: 45283 | D29: {=IFERROR(INDEX(SC!D:D,MATCH($C29,SC!$C:$C,0)),"")} | F29: {=IFERROR(INDEX(SC!F:F,MATCH($C29,SC!$C:$C,0)),"")} | G29: {=IFERROR(INDEX(SC!G:G,MATCH($C29,SC!$C:$C,0)),"")} | H29: {=IFERROR(INDEX(SC!H:H,MATCH($C29,SC!$C:$C,0)),"")} | I29: {=IFERROR(INDEX(SC!I:I,MATCH($C29,SC!$C:$C,0)),"")} | J29: {=IFERROR(INDEX(SC!J:J,MATCH($C29,SC!$C:$C,0)),"")} | K29: {=IFERROR(INDEX(SC!K:K,MATCH($C29,SC!$C:$C,0)),"")} | M29: {=IFERROR(INDEX(SC!M:M,MATCH($C29,SC!$C:$C,0)),"")} | N29: {=IFERROR(INDEX(SC!N:N,MATCH($C29,SC!$C:$C,0)),"")} | O29: {=IFERROR(INDEX(SC!O:O,MATCH($C29,SC!$C:$C,0)),"")} | P29: {=IFERROR(INDEX(SC!P:P,MATCH($C29,SC!$C:$C,0)),"")} | Q29: {=IFERROR(INDEX(SC!Q:Q,MATCH($C29,SC!$C:$C,0)),"")} | R29: {=IFERROR(INDEX(SC!R:R,MATCH($C29,SC!$C:$C,0)),"")} | T29: {=IFERROR(INDEX(SC!T:T,MATCH($C29,SC!$C:$C,0)),"")} | U29: {=IFERROR(INDEX(SC!U:U,MATCH($C29,SC!$C:$C,0)),"")} | V29: {=IFERROR(INDEX(SC!V:V,MATCH($C29,SC!$C:$C,0)),"")} | W29: {=IFERROR(INDEX(SC!W:W,MATCH($C29,SC!$C:$C,0)),"")} | X29: =V29-U29+Q29+O29-N29+J29+H29-G29 -> 0 | Z29: =MIN(1,(H29>21.5/24)+(O29>21.5/24)+(V29>21.5/24)) -> 1 | AA29: =IFERROR(IF(AND(OR($H29<>"",$O29<>"",$V29<>""),OR(WEEKDAY($B29,2)=7,$AB29=1)),1,""),"") | AB29: =IFERROR(IF(AND($G29="",$N29="",$U29=""),"",IF(MATCH($B29,'Fériés'!$C$5:$C$16,0)>0,1,"")),"") | AC29: =MIN(1,(N29>H29+2/24)+(U29>O29+2/24)) -> 1 | AD29: =MIN(1,(G29<>"")*(G29<5/24)+(N29<>"")*(N29<5/24)+(U29<>"")*(U29<5/24)+(H29>22/24)+(O29>22/24)+(V29>22/24)) -> 1 | AK29: =abs(24*((G29<>"")*(G29<5/24)*(G29-5/24)+(N29<>"")*(N29<5/24)*(N29-5/24)+(U29<>"")*(U29<5/24)*(U29-5/24)+(H29>22/24)*(H29-22/24)+(O29>22/24)*(O29-22/24)+(V29>22/24)*(V29-22/24))) -> 66
B30: 45284 | D30: {=IFERROR(INDEX(SC!D:D,MATCH($C30,SC!$C:$C,0)),"")} | F30: {=IFERROR(INDEX(SC!F:F,MATCH($C30,SC!$C:$C,0)),"")} | G30: {=IFERROR(INDEX(SC!G:G,MATCH($C30,SC!$C:$C,0)),"")} | H30: {=IFERROR(INDEX(SC!H:H,MATCH($C30,SC!$C:$C,0)),"")} | I30: {=IFERROR(INDEX(SC!I:I,MATCH($C30,SC!$C:$C,0)),"")} | J30: {=IFERROR(INDEX(SC!J:J,MATCH($C30,SC!$C:$C,0)),"")} | K30: {=IFERROR(INDEX(SC!K:K,MATCH($C30,SC!$C:$C,0)),"")} | M30: {=IFERROR(INDEX(SC!M:M,MATCH($C30,SC!$C:$C,0)),"")} | N30: {=IFERROR(INDEX(SC!N:N,MATCH($C30,SC!$C:$C,0)),"")} | O30: {=IFERROR(INDEX(SC!O:O,MATCH($C30,SC!$C:$C,0)),"")} | P30: {=IFERROR(INDEX(SC!P:P,MATCH($C30,SC!$C:$C,0)),"")} | Q30: {=IFERROR(INDEX(SC!Q:Q,MATCH($C30,SC!$C:$C,0)),"")} | R30: {=IFERROR(INDEX(SC!R:R,MATCH($C30,SC!$C:$C,0)),"")} | T30: {=IFERROR(INDEX(SC!T:T,MATCH($C30,SC!$C:$C,0)),"")} | U30: {=IFERROR(INDEX(SC!U:U,MATCH($C30,SC!$C:$C,0)),"")} | V30: {=IFERROR(INDEX(SC!V:V,MATCH($C30,SC!$C:$C,0)),"")} | W30: {=IFERROR(INDEX(SC!W:W,MATCH($C30,SC!$C:$C,0)),"")} | X30: =V30-U30+Q30+O30-N30+J30+H30-G30 -> 0 | Z30: =MIN(1,(H30>21.5/24)+(O30>21.5/24)+(V30>21.5/24)) -> 1 | AA30: =IFERROR(IF(AND(OR($H30<>"",$O30<>"",$V30<>""),OR(WEEKDAY($B30,2)=7,$AB30=1)),1,""),"") | AB30: =IFERROR(IF(AND($G30="",$N30="",$U30=""),"",IF(MATCH($B30,'Fériés'!$C$5:$C$16,0)>0,1,"")),"") | AC30: =MIN(1,(N30>H30+2/24)+(U30>O30+2/24)) -> 1 | AD30: =MIN(1,(G30<>"")*(G30<5/24)+(N30<>"")*(N30<5/24)+(U30<>"")*(U30<5/24)+(H30>22/24)+(O30>22/24)+(V30>22/24)) -> 1 | AK30: =abs(24*((G30<>"")*(G30<5/24)*(G30-5/24)+(N30<>"")*(N30<5/24)*(N30-5/24)+(U30<>"")*(U30<5/24)*(U30-5/24)+(H30>22/24)*(H30-22/24)+(O30>22/24)*(O30-22/24)+(V30>22/24)*(V30-22/24))) -> 66
B31: 45285 | C31: K05d | D31: {=IFERROR(INDEX(SC!D:D,MATCH($C31,SC!$C:$C,0)),"")} -> F2 02 | E31: 5502 | F31: {=IFERROR(INDEX(SC!F:F,MATCH($C31,SC!$C:$C,0)),"")} -> HVR | G31: {=IFERROR(INDEX(SC!G:G,MATCH($C31,SC!$C:$C,0)),"")} -> 0.50902778 | H31: {=IFERROR(INDEX(SC!H:H,MATCH($C31,SC!$C:$C,0)),"")} -> 0.66736111 | I31: {=IFERROR(INDEX(SC!I:I,MATCH($C31,SC!$C:$C,0)),"")} -> HVR | J31: {=IFERROR(INDEX(SC!J:J,MATCH($C31,SC!$C:$C,0)),"")} -> 0.020833333 | K31: {=IFERROR(INDEX(SC!K:K,MATCH($C31,SC!$C:$C,0)),"")} -> F2 03 | L31: 5314 | M31: {=IFERROR(INDEX(SC!M:M,MATCH($C31,SC!$C:$C,0)),"")} -> HVR | N31: {=IFERROR(INDEX(SC!N:N,MATCH($C31,SC!$C:$C,0)),"")} -> 0.68819444 | O31: {=IFERROR(INDEX(SC!O:O,MATCH($C31,SC!$C:$C,0)),"")} -> 0.72430556 | P31: {=IFERROR(INDEX(SC!P:P,MATCH($C31,SC!$C:$C,0)),"")} -> HVR | Q31: {=IFERROR(INDEX(SC!Q:Q,MATCH($C31,SC!$C:$C,0)),"")} -> 0.0090277778 | R31: {=IFERROR(INDEX(SC!R:R,MATCH($C31,SC!$C:$C,0)),"")} -> F2 02 | S31: 5502 | T31: {=IFERROR(INDEX(SC!T:T,MATCH($C31,SC!$C:$C,0)),"")} -> HVR | U31: {=IFERROR(INDEX(SC!U:U,MATCH($C31,SC!$C:$C,0)),"")} -> 0.73333333 | V31: {=IFERROR(INDEX(SC!V:V,MATCH($C31,SC!$C:$C,0)),"")} -> 0.80208333 | W31: {=IFERROR(INDEX(SC!W:W,MATCH($C31,SC!$C:$C,0)),"")} -> HVR | X31: =V31-U31+Q31+O31-N31+J31+H31-G31 -> 0.29305556 | Y31: 1 | Z31: =MIN(1,(H31>21.5/24)+(O31>21.5/24)+(V31>21.5/24)) -> 0 | AA31: =IFERROR(IF(AND(OR($H31<>"",$O31<>"",$V31<>""),OR(WEEKDAY($B31,2)=7,$AB31=1)),1,""),"") -> 1 | AB31: =IFERROR(IF(AND($G31="",$N31="",$U31=""),"",IF(MATCH($B31,'Fériés'!$C$5:$C$16,0)>0,1,"")),"") -> 1 | AC31: =MIN(1,(N31>H31+2/24)+(U31>O31+2/24)) -> 0 | AD31: =MIN(1,(G31<>"")*(G31<5/24)+(N31<>"")*(N31<5/24)+(U31<>"")*(U31<5/24)+(H31>22/24)+(O31>22/24)+(V31>22/24)) -> 0 | AK31: =abs(24*((G31<>"")*(G31<5/24)*(G31-5/24)+(N31<>"")*(N31<5/24)*(N31-5/24)+(U31<>"")*(U31<5/24)*(U31-5/24)+(H31>22/24)*(H31-22/24)+(O31>22/24)*(O31-22/24)+(V31>22/24)*(V31-22/24))) -> 0
B32: 45286 | C32: CM09j | D32: {=IFERROR(INDEX(SC!D:D,MATCH($C32,SC!$C:$C,0)),"")} -> F8 03 | E32: 434 | F32: {=IFERROR(INDEX(SC!F:F,MATCH($C32,SC!$C:$C,0)),"")} -> Dépôt | G32: {=IFERROR(INDEX(SC!G:G,MATCH($C32,SC!$C:$C,0)),"")} -> 0.23541667 | H32: {=IFERROR(INDEX(SC!H:H,MATCH($C32,SC!$C:$C,0)),"")} -> 0.36111111 | I32: {=IFERROR(INDEX(SC!I:I,MATCH($C32,SC!$C:$C,0)),"")} -> Varen | J32: {=IFERROR(INDEX(SC!J:J,MATCH($C32,SC!$C:$C,0)),"")} -> 0.025 | K32: {=IFERROR(INDEX(SC!K:K,MATCH($C32,SC!$C:$C,0)),"")} -> F8 03 | L32: 434 | M32: {=IFERROR(INDEX(SC!M:M,MATCH($C32,SC!$C:$C,0)),"")} -> Varen | N32: {=IFERROR(INDEX(SC!N:N,MATCH($C32,SC!$C:$C,0)),"")} -> 0.38611111 | O32: {=IFERROR(INDEX(SC!O:O,MATCH($C32,SC!$C:$C,0)),"")} -> 0.54305556 | P32: {=IFERROR(INDEX(SC!P:P,MATCH($C32,SC!$C:$C,0)),"")} -> Dépôt | Q32: {=IFERROR(INDEX(SC!Q:Q,MATCH($C32,SC!$C:$C,0)),"")} | R32: {=IFERROR(INDEX(SC!R:R,MATCH($C32,SC!$C:$C,0)),"")} | T32: {=IFERROR(INDEX(SC!T:T,MATCH($C32,SC!$C:$C,0)),"")} | U32: {=IFERROR(INDEX(SC!U:U,MATCH($C32,SC!$C:$C,0)),"")} | V32: {=IFERROR(INDEX(SC!V:V,MATCH($C32,SC!$C:$C,0)),"")} | W32: {=IFERROR(INDEX(SC!W:W,MATCH($C32,SC!$C:$C,0)),"")} | X32: =V32-U32+Q32+O32-N32+J32+H32-G32 -> 0.30763889 | Z32: =MIN(1,(H32>21.5/24)+(O32>21.5/24)+(V32>21.5/24)) -> 0 | AA32: =IFERROR(IF(AND(OR($H32<>"",$O32<>"",$V32<>""),OR(WEEKDAY($B32,2)=7,$AB32=1)),1,""),"") | AB32: =IFERROR(IF(AND($G32="",$N32="",$U32=""),"",IF(MATCH($B32,'Fériés'!$C$5:$C$16,0)>0,1,"")),"") | AC32: =MIN(1,(N32>H32+2/24)+(U32>O32+2/24)) -> 0 | AD32: =MIN(1,(G32<>"")*(G32<5/24)+(N32<>"")*(N32<5/24)+(U32<>"")*(U32<5/24)+(H32>22/24)+(O32>22/24)+(V32>22/24)) -> 0 | AK32: =abs(24*((G32<>"")*(G32<5/24)*(G32-5/24)+(N32<>"")*(N32<5/24)*(N32-5/24)+(U32<>"")*(U32<5/24)*(U32-5/24)+(H32>22/24)*(H32-22/24)+(O32>22/24)*(O32-22/24)+(V32>22/24)*(V32-22/24))) -> 0
B33: 45287 | C33: CM01j | D33: {=IFERROR(INDEX(SC!D:D,MATCH($C33,SC!$C:$C,0)),"")} -> 10 04 | E33: 3149 | F33: {=IFERROR(INDEX(SC!F:F,MATCH($C33,SC!$C:$C,0)),"")} -> Dépôt | G33: {=IFERROR(INDEX(SC!G:G,MATCH($C33,SC!$C:$C,0)),"")} -> 0.27083333 | H33: {=IFERROR(INDEX(SC!H:H,MATCH($C33,SC!$C:$C,0)),"")} -> 0.40138889 | I33: {=IFERROR(INDEX(SC!I:I,MATCH($C33,SC!$C:$C,0)),"")} -> Varen | J33: {=IFERROR(INDEX(SC!J:J,MATCH($C33,SC!$C:$C,0)),"")} -> 0.024305556 | K33: {=IFERROR(INDEX(SC!K:K,MATCH($C33,SC!$C:$C,0)),"")} -> 43 01 | L33: 707 | M33: {=IFERROR(INDEX(SC!M:M,MATCH($C33,SC!$C:$C,0)),"")} -> Varen | N33: {=IFERROR(INDEX(SC!N:N,MATCH($C33,SC!$C:$C,0)),"")} -> 0.42569444 | O33: {=IFERROR(INDEX(SC!O:O,MATCH($C33,SC!$C:$C,0)),"")} -> 0.58819444 | P33: {=IFERROR(INDEX(SC!P:P,MATCH($C33,SC!$C:$C,0)),"")} -> Dépôt | Q33: {=IFERROR(INDEX(SC!Q:Q,MATCH($C33,SC!$C:$C,0)),"")} | R33: {=IFERROR(INDEX(SC!R:R,MATCH($C33,SC!$C:$C,0)),"")} | T33: {=IFERROR(INDEX(SC!T:T,MATCH($C33,SC!$C:$C,0)),"")} | U33: {=IFERROR(INDEX(SC!U:U,MATCH($C33,SC!$C:$C,0)),"")} | V33: {=IFERROR(INDEX(SC!V:V,MATCH($C33,SC!$C:$C,0)),"")} | W33: {=IFERROR(INDEX(SC!W:W,MATCH($C33,SC!$C:$C,0)),"")} | X33: =V33-U33+Q33+O33-N33+J33+H33-G33 -> 0.31736111 | Y33: 1 | Z33: =MIN(1,(H33>21.5/24)+(O33>21.5/24)+(V33>21.5/24)) -> 0 | AA33: =IFERROR(IF(AND(OR($H33<>"",$O33<>"",$V33<>""),OR(WEEKDAY($B33,2)=7,$AB33=1)),1,""),"") | AB33: =IFERROR(IF(AND($G33="",$N33="",$U33=""),"",IF(MATCH($B33,'Fériés'!$C$5:$C$16,0)>0,1,"")),"") | AC33: =MIN(1,(N33>H33+2/24)+(U33>O33+2/24)) -> 0 | AD33: =MIN(1,(G33<>"")*(G33<5/24)+(N33<>"")*(N33<5/24)+(U33<>"")*(U33<5/24)+(H33>22/24)+(O33>22/24)+(V33>22/24)) -> 0 | AE33: 7.6 | AK33: =abs(24*((G33<>"")*(G33<5/24)*(G33-5/24)+(N33<>"")*(N33<5/24)*(N33-5/24)+(U33<>"")*(U33<5/24)*(U33-5/24)+(H33>22/24)*(H33-22/24)+(O33>22/24)*(O33-22/24)+(V33>22/24)*(V33-22/24))) -> 0
B34: 45288 | C34: RTT | D34: {=IFERROR(INDEX(SC!D:D,MATCH($C34,SC!$C:$C,0)),"")} | F34: {=IFERROR(INDEX(SC!F:F,MATCH($C34,SC!$C:$C,0)),"")} | G34: {=IFERROR(INDEX(SC!G:G,MATCH($C34,SC!$C:$C,0)),"")} | H34: {=IFERROR(INDEX(SC!H:H,MATCH($C34,SC!$C:$C,0)),"")} | I34: {=IFERROR(INDEX(SC!I:I,MATCH($C34,SC!$C:$C,0)),"")} | J34: {=IFERROR(INDEX(SC!J:J,MATCH($C34,SC!$C:$C,0)),"")} | K34: {=IFERROR(INDEX(SC!K:K,MATCH($C34,SC!$C:$C,0)),"")} | M34: {=IFERROR(INDEX(SC!M:M,MATCH($C34,SC!$C:$C,0)),"")} | N34: {=IFERROR(INDEX(SC!N:N,MATCH($C34,SC!$C:$C,0)),"")} | O34: {=IFERROR(INDEX(SC!O:O,MATCH($C34,SC!$C:$C,0)),"")} | P34: {=IFERROR(INDEX(SC!P:P,MATCH($C34,SC!$C:$C,0)),"")} | Q34: {=IFERROR(INDEX(SC!Q:Q,MATCH($C34,SC!$C:$C,0)),"")} | R34: {=IFERROR(INDEX(SC!R:R,MATCH($C34,SC!$C:$C,0)),"")} | T34: {=IFERROR(INDEX(SC!T:T,MATCH($C34,SC!$C:$C,0)),"")} | U34: {=IFERROR(INDEX(SC!U:U,MATCH($C34,SC!$C:$C,0)),"")} | V34: {=IFERROR(INDEX(SC!V:V,MATCH($C34,SC!$C:$C,0)),"")} | W34: {=IFERROR(INDEX(SC!W:W,MATCH($C34,SC!$C:$C,0)),"")} | X34: =V34-U34+Q34+O34-N34+J34+H34-G34 -> 0 | Z34: =MIN(1,(H34>21.5/24)+(O34>21.5/24)+(V34>21.5/24)) -> 1 | AA34: =IFERROR(IF(AND(OR($H34<>"",$O34<>"",$V34<>""),OR(WEEKDAY($B34,2)=7,$AB34=1)),1,""),"") | AB34: =IFERROR(IF(AND($G34="",$N34="",$U34=""),"",IF(MATCH($B34,'Fériés'!$C$5:$C$16,0)>0,1,"")),"") | AC34: =MIN(1,(N34>H34+2/24)+(U34>O34+2/24)) -> 1 | AD34: =MIN(1,(G34<>"")*(G34<5/24)+(N34<>"")*(N34<5/24)+(U34<>"")*(U34<5/24)+(H34>22/24)+(O34>22/24)+(V34>22/24)) -> 1 | AK34: =abs(24*((G34<>"")*(G34<5/24)*(G34-5/24)+(N34<>"")*(N34<5/24)*(N34-5/24)+(U34<>"")*(U34<5/24)*(U34-5/24)+(H34>22/24)*(H34-22/24)+(O34>22/24)*(O34-22/24)+(V34>22/24)*(V34-22/24))) -> 66
B35: 45289 | C35: CM09j | D35: {=IFERROR(INDEX(SC!D:D,MATCH($C35,SC!$C:$C,0)),"")} -> F8 03 | E35: 421 | F35: {=IFERROR(INDEX(SC!F:F,MATCH($C35,SC!$C:$C,0)),"")} -> Dépôt | G35: {=IFERROR(INDEX(SC!G:G,MATCH($C35,SC!$C:$C,0)),"")} -> 0.23541667 | H35: {=IFERROR(INDEX(SC!H:H,MATCH($C35,SC!$C:$C,0)),"")} -> 0.36111111 | I35: {=IFERROR(INDEX(SC!I:I,MATCH($C35,SC!$C:$C,0)),"")} -> Varen | J35: {=IFERROR(INDEX(SC!J:J,MATCH($C35,SC!$C:$C,0)),"")} -> 0.025 | K35: {=IFERROR(INDEX(SC!K:K,MATCH($C35,SC!$C:$C,0)),"")} -> F8 03 | L35: 421 | M35: {=IFERROR(INDEX(SC!M:M,MATCH($C35,SC!$C:$C,0)),"")} -> Varen | N35: {=IFERROR(INDEX(SC!N:N,MATCH($C35,SC!$C:$C,0)),"")} -> 0.38611111 | O35: {=IFERROR(INDEX(SC!O:O,MATCH($C35,SC!$C:$C,0)),"")} -> 0.54305556 | P35: {=IFERROR(INDEX(SC!P:P,MATCH($C35,SC!$C:$C,0)),"")} -> Dépôt | Q35: {=IFERROR(INDEX(SC!Q:Q,MATCH($C35,SC!$C:$C,0)),"")} | R35: {=IFERROR(INDEX(SC!R:R,MATCH($C35,SC!$C:$C,0)),"")} | T35: {=IFERROR(INDEX(SC!T:T,MATCH($C35,SC!$C:$C,0)),"")} | U35: {=IFERROR(INDEX(SC!U:U,MATCH($C35,SC!$C:$C,0)),"")} | V35: {=IFERROR(INDEX(SC!V:V,MATCH($C35,SC!$C:$C,0)),"")} | W35: {=IFERROR(INDEX(SC!W:W,MATCH($C35,SC!$C:$C,0)),"")} | X35: =V35-U35+Q35+O35-N35+J35+H35-G35 -> 0.30763889 | Z35: =MIN(1,(H35>21.5/24)+(O35>21.5/24)+(V35>21.5/24)) -> 0 | AA35: =IFERROR(IF(AND(OR($H35<>"",$O35<>"",$V35<>""),OR(WEEKDAY($B35,2)=7,$AB35=1)),1,""),"") | AB35: =IFERROR(IF(AND($G35="",$N35="",$U35=""),"",IF(MATCH($B35,'Fériés'!$C$5:$C$16,0)>0,1,"")),"") | AC35: =MIN(1,(N35>H35+2/24)+(U35>O35+2/24)) -> 0 | AD35: =MIN(1,(G35<>"")*(G35<5/24)+(N35<>"")*(N35<5/24)+(U35<>"")*(U35<5/24)+(H35>22/24)+(O35>22/24)+(V35>22/24)) -> 0 | AK35: =abs(24*((G35<>"")*(G35<5/24)*(G35-5/24)+(N35<>"")*(N35<5/24)*(N35-5/24)+(U35<>"")*(U35<5/24)*(U35-5/24)+(H35>22/24)*(H35-22/24)+(O35>22/24)*(O35-22/24)+(V35>22/24)*(V35-22/24))) -> 0
B36: 45290 | C36: K08s | D36: {=IFERROR(INDEX(SC!D:D,MATCH($C36,SC!$C:$C,0)),"")} -> F2 08 | E36: 5318 | F36: {=IFERROR(INDEX(SC!F:F,MATCH($C36,SC!$C:$C,0)),"")} -> Dépôt | G36: {=IFERROR(INDEX(SC!G:G,MATCH($C36,SC!$C:$C,0)),"")} -> 0.53333333 | H36: {=IFERROR(INDEX(SC!H:H,MATCH($C36,SC!$C:$C,0)),"")} -> 0.70833333 | I36: {=IFERROR(INDEX(SC!I:I,MATCH($C36,SC!$C:$C,0)),"")} -> HVR | J36: {=IFERROR(INDEX(SC!J:J,MATCH($C36,SC!$C:$C,0)),"")} -> 0.027083333 | K36: {=IFERROR(INDEX(SC!K:K,MATCH($C36,SC!$C:$C,0)),"")} -> F2 08 | L36: 5318 | M36: {=IFERROR(INDEX(SC!M:M,MATCH($C36,SC!$C:$C,0)),"")} -> HVR | N36: {=IFERROR(INDEX(SC!N:N,MATCH($C36,SC!$C:$C,0)),"")} -> 0.73541667 | O36: {=IFERROR(INDEX(SC!O:O,MATCH($C36,SC!$C:$C,0)),"")} -> 0.84097222 | P36: {=IFERROR(INDEX(SC!P:P,MATCH($C36,SC!$C:$C,0)),"")} -> Dépôt | Q36: {=IFERROR(INDEX(SC!Q:Q,MATCH($C36,SC!$C:$C,0)),"")} | R36: {=IFERROR(INDEX(SC!R:R,MATCH($C36,SC!$C:$C,0)),"")} | T36: {=IFERROR(INDEX(SC!T:T,MATCH($C36,SC!$C:$C,0)),"")} | U36: {=IFERROR(INDEX(SC!U:U,MATCH($C36,SC!$C:$C,0)),"")} | V36: {=IFERROR(INDEX(SC!V:V,MATCH($C36,SC!$C:$C,0)),"")} | W36: {=IFERROR(INDEX(SC!W:W,MATCH($C36,SC!$C:$C,0)),"")} | X36: =V36-U36+Q36+O36-N36+J36+H36-G36 -> 0.30763889 | Z36: =MIN(1,(H36>21.5/24)+(O36>21.5/24)+(V36>21.5/24)) -> 0 | AA36: =IFERROR(IF(AND(OR($H36<>"",$O36<>"",$V36<>""),OR(WEEKDAY($B36,2)=7,$AB36=1)),1,""),"") | AB36: =IFERROR(IF(AND($G36="",$N36="",$U36=""),"",IF(MATCH($B36,'Fériés'!$C$5:$C$16,0)>0,1,"")),"") | AC36: =MIN(1,(N36>H36+2/24)+(U36>O36+2/24)) -> 0 | AD36: =MIN(1,(G36<>"")*(G36<5/24)+(N36<>"")*(N36<5/24)+(U36<>"")*(U36<5/24)+(H36>22/24)+(O36>22/24)+(V36>22/24)) -> 0 | AK36: =abs(24*((G36<>"")*(G36<5/24)*(G36-5/24)+(N36<>"")*(N36<5/24)*(N36-5/24)+(U36<>"")*(U36<5/24)*(U36-5/24)+(H36>22/24)*(H36-22/24)+(O36>22/24)*(O36-22/24)+(V36>22/24)*(V36-22/24))) -> 0
B37: 45291 | D37: {=IFERROR(INDEX(SC!D:D,MATCH($C37,SC!$C:$C,0)),"")} | F37: {=IFERROR(INDEX(SC!F:F,MATCH($C37,SC!$C:$C,0)),"")} | G37: {=IFERROR(INDEX(SC!G:G,MATCH($C37,SC!$C:$C,0)),"")} | H37: {=IFERROR(INDEX(SC!H:H,MATCH($C37,SC!$C:$C,0)),"")} | I37: {=IFERROR(INDEX(SC!I:I,MATCH($C37,SC!$C:$C,0)),"")} | J37: {=IFERROR(INDEX(SC!J:J,MATCH($C37,SC!$C:$C,0)),"")} | K37: {=IFERROR(INDEX(SC!K:K,MATCH($C37,SC!$C:$C,0)),"")} | M37: {=IFERROR(INDEX(SC!M:M,MATCH($C37,SC!$C:$C,0)),"")} | N37: {=IFERROR(INDEX(SC!N:N,MATCH($C37,SC!$C:$C,0)),"")} | O37: {=IFERROR(INDEX(SC!O:O,MATCH($C37,SC!$C:$C,0)),"")} | P37: {=IFERROR(INDEX(SC!P:P,MATCH($C37,SC!$C:$C,0)),"")} | Q37: {=IFERROR(INDEX(SC!Q:Q,MATCH($C37,SC!$C:$C,0)),"")} | R37: {=IFERROR(INDEX(SC!R:R,MATCH($C37,SC!$C:$C,0)),"")} | T37: {=IFERROR(INDEX(SC!T:T,MATCH($C37,SC!$C:$C,0)),"")} | U37: {=IFERROR(INDEX(SC!U:U,MATCH($C37,SC!$C:$C,0)),"")} | V37: {=IFERROR(INDEX(SC!V:V,MATCH($C37,SC!$C:$C,0)),"")} | W37: {=IFERROR(INDEX(SC!W:W,MATCH($C37,SC!$C:$C,0)),"")} | X37: =V37-U37+Q37+O37-N37+J37+H37-G37 -> 0 | Z37: =MIN(1,(H37>21.5/24)+(O37>21.5/24)+(V37>21.5/24)) -> 1 | AA37: =IFERROR(IF(AND(OR($H37<>"",$O37<>"",$V37<>""),OR(WEEKDAY($B37,2)=7,$AB37=1)),1,""),"") | AB37: =IFERROR(IF(AND($G37="",$N37="",$U37=""),"",IF(MATCH($B37,'Fériés'!$C$5:$C$16,0)>0,1,"")),"") | AC37: =MIN(1,(N37>H37+2/24)+(U37>O37+2/24)) -> 1 | AD37: =MIN(1,(G37<>"")*(G37<5/24)+(N37<>"")*(N37<5/24)+(U37<>"")*(U37<5/24)+(H37>22/24)+(O37>22/24)+(V37>22/24)) -> 1 | AK37: =abs(24*((G37<>"")*(G37<5/24)*(G37-5/24)+(N37<>"")*(N37<5/24)*(N37-5/24)+(U37<>"")*(U37<5/24)*(U37-5/24)+(H37>22/24)*(H37-22/24)+(O37>22/24)*(O37-22/24)+(V37>22/24)*(V37-22/24))) -> 66
V39: TOTAL | Y39: =SUM(Y10:Y37) -> 2 | Z39: =SUM(Z10:Z37) -> 4 | AA39: =SUM(AA10:AA37) -> 1 | AB39: =SUM(AB10:AB37) -> 1 | AC39: =SUM(AC10:AC37) -> 6 | AD39: =SUM(AD10:AD37) -> 4 | AE39: =SUM(AE10:AE37) -> 7.6 | AF39: =SUM(AF10:AF37) -> 0 | ... AL39: =SUM(AL10:AL37) -> 0

Sheet Fériés
B2: Année | C2: 2023-2024
B4: Libellé | C4: Date
B5: Noël | C5: 45285
B6: Jour de l’an | C6: 45292
B7: Lundi de Pâques | C7: 45383
B8: Fête du travail | C8: 45413
B9: Victoire de 1945 | C9: 45420
B10: Jeudi de l'Ascension | C10: =C7+38 -> 45421
B11: Lundi de Pentecôte | C11: =C7+49 -> 45432
B12: Fête nationale | C12: 45487
B13: Assomption | C13: 45519
B14: Toussaint | C14: 45597
B15: Armistice de 1918 | C15: 45607
B16: Noël | C16: 45651
