Workbook

Sheet F,Demayage
A1: ECOGEMA 2012 | C1: FICHE GENRAL DES STOCKS: SECTION FOUR | I1: =+NOW() -> 41535.377
A3: CODE | B3: REFERENCE | C3: DESIGNATION | E3: STOCK 1 | G3: ENTRE | I3: SORTIE | K3: RETOUR | M3: STOCK fin
D4: UNITE | E4: Q / Carton | F4: Quan / kg | G4: Q / Carton | H4: Quan / kg | I4: Q / Carton | J4: Quan / kg | K4: Q / Carton | L4: Quan / kg | M4: Q / Carton | N4: Quan / kg | O4: Unité
A5: F,1 | B5: =+'F,1Bleu'!C4 -> FF161/5005/3S | C5: =+'F,1Bleu'!C3 -> Bleu de sècuritè brillant 1 | E5: =+'F,1Bleu'!C8 -> 174 | F5: =+'F,1Bleu'!D8 -> 3480 | G5: =+'F,1Bleu'!C200 -> 160 | H5: =+'F,1Bleu'!D200 -> 3200 | I5: =+'F,1Bleu'!F200 -> 280.5 | J5: =+'F,1Bleu'!G200 -> 5610 | K5: =+'F,1Bleu'!H200 -> 14.5 | L5: =+'F,1Bleu'!I200 -> 290 | M5: =+'F,1Bleu'!J200 -> 68 | N5: =+'F,1Bleu'!K200 -> 1360 | O5: Carton
A6: F,1 | B6: =+'F,2Jaune'!C4 -> FF161/1033/1C | C6: =+'F,2Jaune'!C3 -> Jaune dahlia brillant 1 | E6: =+'F,2Jaune'!C8 -> 42.5 | F6: =+'F,2Jaune'!D8 -> 850 | G6: =+'F,2Jaune'!C200 -> 225 | H6: =+'F,2Jaune'!D200 -> 4500 | I6: =+'F,2Jaune'!F200 -> 242.5 | J6: =+'F,2Jaune'!G200 -> 4850 | K6: =+'F,2Jaune'!H200 -> 9 | L6: =+'F,2Jaune'!I200 -> 180 | M6: =+'F,2Jaune'!J200 -> 34 | N6: =+'F,2Jaune'!K200 -> 680 | O6: Carton
A7: F,2 | B7: =+'F,3Vert,m'!C4 -> FF160/6120/3C | C7: =+'F,3Vert,m'!C3 -> Vert militaire 2 | E7: =+'F,3Vert,m'!C8 -> 24.5 | F7: =+'F,3Vert,m'!D8 -> 490 | G7: =+'F,3Vert,m'!C200 -> 0 | H7: =+'F,3Vert,m'!D200 -> 0 | I7: =+'F,3Vert,m'!F200 -> 0.5 | J7: =+'F,3Vert,m'!G200 -> 10 | K7: =+'F,3Vert,m'!H200 -> 0 | L7: =+'F,3Vert,m'!I200 -> 0 | M7: =+'F,3Vert,m'!J200 -> 24 | N7: =+'F,3Vert,m'!K200 -> 480 | O7: Carton
A8: F,2 | B8: =+'F,4Noir'!C4 -> F6/700/2CC | C8: =+'F,4Noir'!C3 -> Noir mat 2 | E8: =+'F,4Noir'!C8 -> 30.5 | F8: =+'F,4Noir'!D8 -> 610 | G8: =+'F,4Noir'!C200 -> 5 | H8: =+'F,4Noir'!D200 -> 100 | I8: =+'F,4Noir'!F200 -> 20.5 | J8: =+'F,4Noir'!G200 -> 410 | K8: =+'F,4Noir'!H200 -> 13 | L8: =+'F,4Noir'!I200 -> 260 | M8: =+'F,4Noir'!J200 -> 28 | N8: =+'F,4Noir'!K200 -> 560 | O8: Carton
A9: F,2 | B9: =+'F,5Bleu,ciel'!C4 -> FF112/5015/3C | C9: =+'F,5Bleu,ciel'!C3 -> Bleu ciel brillant 2 | E9: =+'F,5Bleu,ciel'!C8 -> 12 | F9: =+'F,5Bleu,ciel'!D8 -> 240 | G9: =+'F,5Bleu,ciel'!C200 -> 0 | H9: ='F,5Bleu,ciel'!D200 -> 0 | I9: =+'F,5Bleu,ciel'!F200 -> 18 | J9: =+'F,5Bleu,ciel'!G200 -> 360 | K9: =+'F,5Bleu,ciel'!H200 -> 6 | L9: =+'F,5Bleu,ciel'!I200 -> 120 | M9: =+'F,5Bleu,ciel'!J200 -> 0 | N9: =+'F,5Bleu,ciel'!K200 -> 0 | O9: Carton
A10: F,2 | B10: =+'F,6Divers'!C4 -> 0 | C10: =+'F,6Divers'!C3 -> divers couleurs 2 | E10: =+'F,6Divers'!C8 -> 56 | F10: =+'F,6Divers'!D8 -> 1120 | G10: =+'F,6Divers'!C200 -> 0 | H10: =+'F,6Divers'!D200 -> 0 | I10: =+'F,6Divers'!F200 -> 2 | J10: =+'F,6Divers'!G200 -> 40 | K10: =+'F,6Divers'!H200 -> 0 | L10: =+'F,6Divers'!I200 -> 0 | M10: =+'F,6Divers'!J200 -> 54 | N10: =+'F,6Divers'!K200 -> 1080 | O10: Carton
A11: F,3 | B11: =+'F,7Chocolat'!C4 -> FF160/8017/10C | C11: =+'F,7Chocolat'!C3 -> Brun chocolat 3 | E11: =+'F,7Chocolat'!C8 -> 118.5 | F11: =+'F,7Chocolat'!D8 -> 2370 | G11: =+'F,7Chocolat'!C200 -> 5 | H11: =+'F,7Chocolat'!D200 -> 100 | I11: =+'F,7Chocolat'!F200 -> 109.5 | J11: =+'F,7Chocolat'!G200 -> 2190 | K11: =+'F,7Chocolat'!H200 -> 22 | L11: =+'F,7Chocolat'!I200 -> 440 | M11: =+'F,7Chocolat'!J200 -> 36 | N11: =+'F,7Chocolat'!K200 -> 720 | O11: Carton
A12: F,4 | B12: =+'F,8Vert,opale'!C4 -> FF161/6026/2C | C12: =+'F,8Vert,opale'!C3 -> Vert opale brillant 4 | E12: =+'F,8Vert,opale'!C8 -> 50 | F12: =+'F,8Vert,opale'!D8 -> 1000 | G12: =+'F,8Vert,opale'!C200 -> 50 | H12: =+'F,8Vert,opale'!D200 -> 1000 | I12: =+'F,8Vert,opale'!F200 -> 82 | J12: =+'F,8Vert,opale'!G200 -> 1640 | K12: =+'F,8Vert,opale'!H200 -> 12 | L12: =+'F,8Vert,opale'!I200 -> 240 | M12: =+'F,8Vert,opale'!J200 -> 30 | N12: =+'F,8Vert,opale'!K200 -> 600 | O12: Carton
A13: F,4 | B13: =+'F,9Rouge'!C4 -> FF112/3020/6C | C13: =+'F,9Rouge'!C3 -> Rouge signalisation brillant 4 | E13: =+'F,9Rouge'!C8 -> 58 | F13: =+'F,9Rouge'!D8 -> 1160 | G13: =+'F,9Rouge'!C200 -> 50 | H13: =+'F,9Rouge'!D200 -> 1000 | I13: =+'F,9Rouge'!F200 -> 54 | J13: =+'F,9Rouge'!G200 -> 1080 | K13: =+'F,9Rouge'!H200 -> 15 | L13: =+'F,9Rouge'!I200 -> 300 | M13: =+'F,9Rouge'!J200 -> 69 | N13: =+'F,9Rouge'!K200 -> 1380 | O13: Carton
A14: F,4 | B14: =+'F,10 Gris'!C4 -> FF160/711/4C | C14: =+'F,10 Gris'!C3 -> Gris 4 | E14: =+'F,10 Gris'!C8 -> 8 | F14: =+'F,10 Gris'!D8 -> 160 | G14: =+'F,10 Gris'!C200 -> 0 | H14: =+'F,10 Gris'!D200 -> 0 | I14: =+'F,10 Gris'!F200 -> 6 | J14: =+'F,10 Gris'!G200 -> 120 | K14: =+'F,10 Gris'!H200 -> 5 | L14: =+'F,10 Gris'!I200 -> 100 | M14: =+'F,10 Gris'!J200 -> 7 | N14: =+'F,10 Gris'!K200 -> 140 | O14: Carton
B15: =+Saboune!C4 -> اسيد | C15: =+Saboune!C3 -> Novaphos,F687 | E15: =+Saboune!C8 -> 5 | F15: =+Saboune!D8 -> 5000 | G15: =+Saboune!C200 -> 0 | H15: =+Saboune!D200 -> 0 | I15: =+Saboune!F200 -> 0 | J15: =+Saboune!G200 -> 0 | K15: =+Saboune!H200 -> 0 | L15: =+Saboune!I200 -> 0 | M15: =+Saboune!J200 -> 5 | N15: =+Saboune!K200 -> 5000 | O15: fut
B16: =+'Asude,CA'!C4 -> صا بون | C16: =+'Asude,CA'!C3 -> Synegic,CA | E16: =+'Asude,CA'!C8 -> 2 | F16: =+'Asude,CA'!D8 -> 2000 | G16: =+'Asude,CA'!C200 -> 0 | H16: =+'Asude,CA'!D200 -> 0 | I16: =+'Asude,CA'!F200 -> 0 | J16: =+'Asude,CA'!G200 -> 0 | K16: =+'Asude,CA'!H200 -> 0 | L16: =+'Asude,CA'!I200 -> 0 | M16: =+'Asude,CA'!J200 -> 2 | N16: =+'Asude,CA'!K200 -> 2000 | O16: fut

Sheet F,1Bleu
B1: FICH DE STOCK | F1: Carton / KG
B3: INTITULE | C3: Bleu de sècuritè brillant 1
B4: CODE | C4: FF161/5005/3S
B6: ENTRE | E6: N°.B.B | F6: SORTIE | H6: RETOUR | J6: STOCK
B7: Date | C7: Q / Carton | D7: Quan / kg | F7: Q / Carton | G7: Quan / kg | H7: Q / Carton | I7: Quan / kg | J7: Q / Carton | K7: Quan / kg
B8: 41274 | C8: 174 | D8: =+C8*20 -> 3480 | E8: STOCK,1 | G8: =+F8*20 -> 0 | I8: =+H8*20 -> 0 | J8: =+C8-F8+H8 -> 174 | K8: =+D8-G8+I8 -> 3480
B9: 41277 | D9: =+C9*20 -> 0 | E9: 4912 | G9: =+F9*20 -> 0 | H9: 0.5 | I9: =+H9*20 -> 10 | J9: =+J8+C9-F9+H9 -> 174.5 | K9: =+K8+D9-G9+I9 -> 3490
B10: 41289 | D10: =+C10*20 -> 0 | E10: 4913 | F10: 5 | G10: =+F10*20 -> 100 | I10: =+H10*20 -> 0 | J10: =+J9+C10-F10+H10 -> 169.5 | K10: =+K9+D10-G10+I10 -> 3390
B11: 41290 | D11: =+C11*20 -> 0 | E11: 4916 | F11: 5 | G11: =+F11*20 -> 100 | I11: =+H11*20 -> 0 | J11: =+J10+C11-F11+H11 -> 164.5 | K11: =+K10+D11-G11+I11 -> 3290
B12: 41291 | D12: =+C12*20 -> 0 | E12: 4919 | F12: 5 | G12: =+F12*20 -> 100 | I12: =+H12*20 -> 0 | J12: =+J11+C12-F12+H12 -> 159.5 | K12: =+K11+D12-G12+I12 -> 3190
B13: 41292 | D13: =+C13*20 -> 0 | E13: 4921 | F13: 5 | G13: =+F13*20 -> 100 | I13: =+H13*20 -> 0 | J13: =+J12+C13-F13+H13 -> 154.5 | K13: =+K12+D13-G13+I13 -> 3090
B14: 41303 | D14: =+C14*20 -> 0 | E14: 4924 | F14: 3 | G14: =+F14*20 -> 60 | I14: =+H14*20 -> 0 | J14: =+J13+C14-F14+H14 -> 151.5 | K14: =+K13+D14-G14+I14 -> 3030
B15: 41304 | D15: =+C15*20 -> 0 | E15: 4925 | F15: 5 | G15: =+F15*20 -> 100 | I15: =+H15*20 -> 0 | J15: =+J14+C15-F15+H15 -> 146.5 | K15: =+K14+D15-G15+I15 -> 2930
B16: 41305 | D16: =+C16*20 -> 0 | E16: 4926 | F16: 6 | G16: =+F16*20 -> 120 | I16: =+H16*20 -> 0 | J16: =+J15+C16-F16+H16 -> 140.5 | K16: =+K15+D16-G16+I16 -> 2810
B17: 41306 | D17: =+C17*20 -> 0 | E17: 4927 | F17: 5 | G17: =+F17*20 -> 100 | I17: =+H17*20 -> 0 | J17: =+J16+C17-F17+H17 -> 135.5 | K17: =+K16+D17-G17+I17 -> 2710
B18: 41318 | D18: =+C18*20 -> 0 | E18: 4929 | F18: 1 | G18: =+F18*20 -> 20 | I18: =+H18*20 -> 0 | J18: =+J17+C18-F18+H18 -> 134.5 | K18: =+K17+D18-G18+I18 -> 2690
B19: 41324 | D19: =+C19*20 -> 0 | E19: 4936 | G19: =+F19*20 -> 0 | H19: 3 | I19: =+H19*20 -> 60 | J19: =+J18+C19-F19+H19 -> 137.5 | K19: =+K18+D19-G19+I19 -> 2750
B20: 41326 | D20: =+C20*20 -> 0 | E20: 4937 | F20: 4 | G20: =+F20*20 -> 80 | I20: =+H20*20 -> 0 | J20: =+J19+C20-F20+H20 -> 133.5 | K20: =+K19+D20-G20+I20 -> 2670
B21: 41334 | D21: =+C21*20 -> 0 | E21: 4942 | F21: 3 | G21: =+F21*20 -> 60 | I21: =+H21*20 -> 0 | J21: =+J20+C21-F21+H21 -> 130.5 | K21: =+K20+D21-G21+I21 -> 2610
B22: 41347 | D22: =+C22*20 -> 0 | E22: 4944 | F22: 0.5 | G22: =+F22*20 -> 10 | I22: =+H22*20 -> 0 | J22: =+J21+C22-F22+H22 -> 130 | K22: =+K21+D22-G22+I22 -> 2600
B23: 41360 | D23: =+C23*20 -> 0 | E23: four | F23: 1 | G23: =+F23*20 -> 20 | I23: =+H23*20 -> 0 | J23: =+J22+C23-F23+H23 -> 129 | K23: =+K22+D23-G23+I23 -> 2580
B24: 41335 | D24: =+C24*20 -> 0 | E24: 4405 | F24: 5 | G24: =+F24*20 -> 100 | I24: =+H24*20 -> 0 | J24: =+J23+C24-F24+H24 -> 124 | K24: =+K23+D24-G24+I24 -> 2480
B25: 41367 | C25: 50 | D25: =+C25*20 -> 1000 | G25: =+F25*20 -> 0 | I25: =+H25*20 -> 0 | J25: =+J24+C25-F25+H25 -> 174 | K25: =+K24+D25-G25+I25 -> 3480
B26: 41367 | D26: =+C26*20 -> 0 | E26: 4406 | F26: 5 | G26: =+F26*20 -> 100 | I26: =+H26*20 -> 0 | J26: =+J25+C26-F26+H26 -> 169 | K26: =+K25+D26-G26+I26 -> 3380
B27: 41368 | D27: =+C27*20 -> 0 | E27: 4407 | F27: 8 | G27: =+F27*20 -> 160 | I27: =+H27*20 -> 0 | J27: =+J26+C27-F27+H27 -> 161 | K27: =+K26+D27-G27+I27 -> 3220
B28: 41369 | D28: =+C28*20 -> 0 | E28: 4408 | F28: 5 | G28: =+F28*20 -> 100 | I28: =+H28*20 -> 0 | J28: =+J27+C28-F28+H28 -> 156 | K28: =+K27+D28-G28+I28 -> 3120
B29: 41373 | D29: =+C29*20 -> 0 | E29: 4410 | F29: 7 | G29: =+F29*20 -> 140 | I29: =+H29*20 -> 0 | J29: =+J28+C29-F29+H29 -> 149 | K29: =+K28+D29-G29+I29 -> 2980
B30: 41374 | D30: =+C30*20 -> 0 | E30: 4411 | F30: 10 | G30: =+F30*20 -> 200 | I30: =+H30*20 -> 0 | J30: =+J29+C30-F30+H30 -> 139 | K30: =+K29+D30-G30+I30 -> 2780
B31: 41375 | D31: =+C31*20 -> 0 | E31: 4413 | F31: 8 | G31: =+F31*20 -> 160 | I31: =+H31*20 -> 0 | J31: =+J30+C31-F31+H31 -> 131 | K31: =+K30+D31-G31+I31 -> 2620
B32: 41379 | D32: =+C32*20 -> 0 | E32: 4414 | F32: 6 | G32: =+F32*20 -> 120 | I32: =+H32*20 -> 0 | J32: =+J31+C32-F32+H32 -> 125 | K32: =+K31+D32-G32+I32 -> 2500
B33: 41380 | D33: =+C33*20 -> 0 | E33: 4415 | F33: 9 | G33: =+F33*20 -> 180 | I33: =+H33*20 -> 0 | J33: =+J32+C33-F33+H33 -> 116 | K33: =+K32+D33-G33+I33 -> 2320
B34: 41381 | D34: =+C34*20 -> 0 | E34: 4416 | F34: 8 | G34: =+F34*20 -> 160 | I34: =+H34*20 -> 0 | J34: =+J33+C34-F34+H34 -> 108 | K34: =+K33+D34-G34+I34 -> 2160
B35: 41382 | D35: =+C35*20 -> 0 | E35: 4417 | F35: 4 | G35: =+F35*20 -> 80 | I35: =+H35*20 -> 0 | J35: =+J34+C35-F35+H35 -> 104 | K35: =+K34+D35-G35+I35 -> 2080
B36: 41392 | D36: =+C36*20 -> 0 | G36: =+F36*20 -> 0 | H36: 3 | I36: =+H36*20 -> 60 | J36: =+J35+C36-F36+H36 -> 107 | K36: =+K35+D36-G36+I36 -> 2140
B37: 41394 | D37: =+C37*20 -> 0 | E37: 4425 | F37: 6 | G37: =+F37*20 -> 120 | I37: =+H37*20 -> 0 | J37: =+J36+C37-F37+H37 -> 101 | K37: =+K36+D37-G37+I37 -> 2020
B38: 41402 | D38: =+C38*20 -> 0 | E38: 4431 | F38: 13 | G38: =+F38*20 -> 260 | I38: =+H38*20 -> 0 | J38: =+J37+C38-F38+H38 -> 88 | K38: =+K37+D38-G38+I38 -> 1760
B39: 41403 | D39: =+C39*20 -> 0 | E39: 4432 | F39: 8 | G39: =+F39*20 -> 160 | I39: =+H39*20 -> 0 | J39: =+J38+C39-F39+H39 -> 80 | K39: =+K38+D39-G39+I39 -> 1600
B40: 41408 | D40: =+C40*20 -> 0 | E40: 4434 | F40: 6 | G40: =+F40*20 -> 120 | I40: =+H40*20 -> 0 | J40: =+J39+C40-F40+H40 -> 74 | K40: =+K39+D40-G40+I40 -> 1480
B41: 41411 | D41: =+C41*20 -> 0 | E41: 4436 | F41: 2 | G41: =+F41*20 -> 40 | I41: =+H41*20 -> 0 | J41: =+J40+C41-F41+H41 -> 72 | K41: =+K40+D41-G41+I41 -> 1440
B42: 41414 | D42: =+C42*20 -> 0 | E42: 4438 | F42: 2 | G42: =+F42*20 -> 40 | I42: =+H42*20 -> 0 | J42: =+J41+C42-F42+H42 -> 70 | K42: =+K41+D42-G42+I42 -> 1400
...

Sheet F,2Jaune
B1: FICH DE STOCK
B3: INTITULE | C3: Jaune dahlia brillant 1
B4: CODE | C4: FF161/1033/1C
B6: ENTRE | E6: N°.B.B | F6: SORTIE | H6: RETOUR | J6: STOCK
B7: Date | C7: Q / Carton | D7: Quan / kg | F7: Q / Carton | G7: Quan / kg | H7: Q / Carton | I7: Quan / kg | J7: Q / Carton | K7: Quan / kg
B8: 41274 | C8: 42.5 | D8: =+C8*20 -> 850 | E8: STOCK,1 | G8: =+F8*20 -> 0 | I8: =+H8*20 -> 0 | J8: =+C8-F8+H8 -> 42.5 | K8: =+D8-G8+I8 -> 850
B9: 41309 | D9: =+C9*20 -> 0 | E9: 4928 | F9: 5 | G9: =+F9*20 -> 100 | I9: =+H9*20 -> 0 | J9: =+J8+C9-F9+H9 -> 37.5 | K9: =+K8+D9-G9+I9 -> 750
B10: 41324 | D10: =+C10*20 -> 0 | E10: 4936 | G10: =+F10*20 -> 0 | H10: 4 | I10: =+H10*20 -> 80 | J10: =+J9+C10-F10+H10 -> 41.5 | K10: =+K9+D10-G10+I10 -> 830
B11: 41330 | D11: =+C11*20 -> 0 | E11: 4938 | F11: 5 | G11: =+F11*20 -> 100 | I11: =+H11*20 -> 0 | J11: =+J10+C11-F11+H11 -> 36.5 | K11: =+K10+D11-G11+I11 -> 730
B12: 41333 | D12: =+C12*20 -> 0 | E12: 4941 | F12: 1 | G12: =+F12*20 -> 20 | I12: =+H12*20 -> 0 | J12: =+J11+C12-F12+H12 -> 35.5 | K12: =+K11+D12-G12+I12 -> 710
B13: 41348 | D13: =+C13*20 -> 0 | E13: 4945 | F13: 3 | G13: =+F13*20 -> 60 | I13: =+H13*20 -> 0 | J13: =+J12+C13-F13+H13 -> 32.5 | K13: =+K12+D13-G13+I13 -> 650
B14: 41358 | D14: =+C14*20 -> 0 | E14: four | F14: 2 | G14: =+F14*20 -> 40 | I14: =+H14*20 -> 0 | J14: =+J13+C14-F14+H14 -> 30.5 | K14: =+K13+D14-G14+I14 -> 610
B15: 41360 | D15: =+C15*20 -> 0 | E15: four | F15: 1 | G15: =+F15*20 -> 20 | I15: =+H15*20 -> 0 | J15: =+J14+C15-F15+H15 -> 29.5 | K15: =+K14+D15-G15+I15 -> 590
B16: 41361 | D16: =+C16*20 -> 0 | E16: 4401 | F16: 2 | G16: =+F16*20 -> 40 | I16: =+H16*20 -> 0 | J16: =+J15+C16-F16+H16 -> 27.5 | K16: =+K15+D16-G16+I16 -> 550
B17: 41362 | D17: =+C17*20 -> 0 | E17: 4402 | F17: 8 | G17: =+F17*20 -> 160 | I17: =+H17*20 -> 0 | J17: =+J16+C17-F17+H17 -> 19.5 | K17: =+K16+D17-G17+I17 -> 390
B18: 41365 | D18: =+C18*20 -> 0 | E18: 4403 | F18: 5 | G18: =+F18*20 -> 100 | I18: =+H18*20 -> 0 | J18: =+J17+C18-F18+H18 -> 14.5 | K18: =+K17+D18-G18+I18 -> 290
B19: 41366 | D19: =+C19*20 -> 0 | E19: 4404 | F19: 8 | G19: =+F19*20 -> 160 | I19: =+H19*20 -> 0 | J19: =+J18+C19-F19+H19 -> 6.5 | K19: =+K18+D19-G19+I19 -> 130
B20: 41366 | D20: =+C20*20 -> 0 | E20: 4405 | F20: 1.5 | G20: =+F20*20 -> 30 | I20: =+H20*20 -> 0 | J20: =+J19+C20-F20+H20 -> 5 | K20: =+K19+D20-G20+I20 -> 100
B21: 41367 | C21: 125 | D21: =+C21*20 -> 2500 | G21: =+F21*20 -> 0 | I21: =+H21*20 -> 0 | J21: =+J20+C21-F21+H21 -> 130 | K21: =+K20+D21-G21+I21 -> 2600
B22: 41372 | D22: =+C22*20 -> 0 | E22: 4409 | F22: 2 | G22: =+F22*20 -> 40 | I22: =+H22*20 -> 0 | J22: =+J21+C22-F22+H22 -> 128 | K22: =+K21+D22-G22+I22 -> 2560
B23: 41374 | D23: =+C23*20 -> 0 | E23: 4412 | G23: =+F23*20 -> 0 | H23: 1 | I23: =+H23*20 -> 20 | J23: =+J22+C23-F23+H23 -> 129 | K23: =+K22+D23-G23+I23 -> 2580
B24: 41383 | D24: =+C24*20 -> 0 | E24: 4418 | F24: 6 | G24: =+F24*20 -> 120 | I24: =+H24*20 -> 0 | J24: =+J23+C24-F24+H24 -> 123 | K24: =+K23+D24-G24+I24 -> 2460
B25: 41388 | D25: =+C25*20 -> 0 | E25: 4422 | F25: 5 | G25: =+F25*20 -> 100 | I25: =+H25*20 -> 0 | J25: =+J24+C25-F25+H25 -> 118 | K25: =+K24+D25-G25+I25 -> 2360
B26: 41390 | D26: =+C26*20 -> 0 | E26: 4424 | F26: 12 | G26: =+F26*20 -> 240 | I26: =+H26*20 -> 0 | J26: =+J25+C26-F26+H26 -> 106 | K26: =+K25+D26-G26+I26 -> 2120
B27: 41394 | D27: =+C27*20 -> 0 | E27: 4425 | F27: 2 | G27: =+F27*20 -> 40 | I27: =+H27*20 -> 0 | J27: =+J26+C27-F27+H27 -> 104 | K27: =+K26+D27-G27+I27 -> 2080
B28: 41396 | D28: =+C28*20 -> 0 | E28: 4427 | F28: 7 | G28: =+F28*20 -> 140 | I28: =+H28*20 -> 0 | J28: =+J27+C28-F28+H28 -> 97 | K28: =+K27+D28-G28+I28 -> 1940
B29: 41407 | D29: =+C29*20 -> 0 | E29: 4433 | F29: 2 | G29: =+F29*20 -> 40 | I29: =+H29*20 -> 0 | J29: =+J28+C29-F29+H29 -> 95 | K29: =+K28+D29-G29+I29 -> 1900
B30: 41347 | D30: =+C30*20 -> 0 | E30: 4434 | F30: 1 | G30: =+F30*20 -> 20 | I30: =+H30*20 -> 0 | J30: =+J29+C30-F30+H30 -> 94 | K30: =+K29+D30-G30+I30 -> 1880
B31: 41410 | D31: =+C31*20 -> 0 | E31: 4437 | F31: 1 | G31: =+F31*20 -> 20 | I31: =+H31*20 -> 0 | J31: =+J30+C31-F31+H31 -> 93 | K31: =+K30+D31-G31+I31 -> 1860
B32: 41414 | D32: =+C32*20 -> 0 | E32: 4438 | F32: 4 | G32: =+F32*20 -> 80 | I32: =+H32*20 -> 0 | J32: =+J31+C32-F32+H32 -> 89 | K32: =+K31+D32-G32+I32 -> 1780
B33: 41416 | D33: =+C33*20 -> 0 | E33: 4439 | F33: 8 | G33: =+F33*20 -> 160 | I33: =+H33*20 -> 0 | J33: =+J32+C33-F33+H33 -> 81 | K33: =+K32+D33-G33+I33 -> 1620
B34: 41424 | D34: =+C34*20 -> 0 | E34: 4445 | F34: 1 | G34: =+F34*20 -> 20 | I34: =+H34*20 -> 0 | J34: =+J33+C34-F34+H34 -> 80 | K34: =+K33+D34-G34+I34 -> 1600
B35: 41425 | D35: =+C35*20 -> 0 | E35: 4446 | F35: 1 | G35: =+F35*20 -> 20 | I35: =+H35*20 -> 0 | J35: =+J34+C35-F35+H35 -> 79 | K35: =+K34+D35-G35+I35 -> 1580
... B42: 41466 | D42: =+C42*20 -> 0 | E42: 5264 | F42: 6 | G42: =+F42*20 -> 120 | I42: =+H42*20 -> 0 | J42: =+J41+C42-F42+H42 -> 33 | K42: =+K41+D42-G42+I42 -> 660
B43: 41470 | D43: =+C43*20 -> 0 | E43: 5266 | F43: 4 | G43: =+F43*20 -> 80 | H43: 4 | I43: =+H43*20 -> 80 | J43: =+J42+C43-F43+H43 -> 33 | K43: =+K42+D43-G43+I43 -> 660
B44: 41478 | D44: =+C44*20 -> 0 | E44: 5271 | F44: 2 | G44: =+F44*20 -> 40 | I44: =+H44*20 -> 0 | J44: =+J43+C44-F44+H44 -> 31 | K44: =+K43+D44-G44+I44 -> 620
B45: 41479 | D45: =+C45*20 -> 0 | E45: 5272 | F45: 3 | G45: =+F45*20 -> 60 | I45: =+H45*20 -> 0 | J45: =+J44+C45-F45+H45 -> 28 | K45: =+K44+D45-G45+I45 -> 560
B46: 41480 | D46: =+C46*20 -> 0 | E46: 5274 | F46: 2 | G46: =+F46*20 -> 40 | I46: =+H46*20 -> 0 | J46: =+J45+C46-F46+H46 -> 26 | K46: =+K45+D46-G46+I46 -> 520
B47: 41492 | D47: =+C47*20 -> 0 | E47: 5281 | F47: 3 | G47: =+F47*20 -> 60 | I47: =+H47*20 -> 0 | J47: =+J46+C47-F47+H47 -> 23 | K47: =+K46+D47-G47+I47 -> 460
B48: 41493 | D48: =+C48*20 -> 0 | E48: 5282 | F48: 1 | G48: =+F48*20 -> 20 | I48: =+H48*20 -> 0 | J48: =+J47+C48-F48+H48 -> 22 | K48: =+K47+D48-G48+I48 -> 440
...

Sheet F,3Vert,m
B1: FICH DE STOCK
B3: INTITULE | C3: Vert militaire 2
B4: CODE | C4: FF160/6120/3C
B6: ENTRE | E6: N°.B.B | F6: SORTIE | H6: RETOUR | J6: STOCK
B7: Date | C7: Q / Carton | D7: Quan / kg | F7: Q / Carton | G7: Quan / kg | H7: Q / Carton | I7: Quan / kg | J7: Q / Carton | K7: Quan / kg
B8: 41274 | C8: 24.5 | D8: =+C8*20 -> 490 | E8: STOCK,1 | G8: =+F8*20 -> 0 | I8: =+H8*20 -> 0 | J8: =+C8-F8+H8 -> 24.5 | K8: =+D8-G8+I8 -> 490
B9: 41520 | D9: =+C9*20 -> 0 | E9: 5284 | F9: 0.5 | G9: =+F9*20 -> 10 | I9: =+H9*20 -> 0 | J9: =+J8+C9-F9+H9 -> 24 | K9: =+K8+D9-G9+I9 -> 480
D10: =+C10*20 -> 0 | G10: =+F10*20 -> 0 | I10: =+H10*20 -> 0 | J10: =+J9+C10-F10+H10 -> 24 | K10: =+K9+D10-G10+I10 -> 480
D11: =+C11*20 -> 0 | G11: =+F11*20 -> 0 | I11: =+H11*20 -> 0 | J11: =+J10+C11-F11+H11 -> 24 | K11: =+K10+D11-G11+I11 -> 480
D12: =+C12*20 -> 0 | G12: =+F12*20 -> 0 | I12: =+H12*20 -> 0 | J12: =+J11+C12-F12+H12 -> 24 | K12: =+K11+D12-G12+I12 -> 480
D13: =+C13*20 -> 0 | G13: =+F13*20 -> 0 | I13: =+H13*20 -> 0 | J13: =+J12+C13-F13+H13 -> 24 | K13: =+K12+D13-G13+I13 -> 480
D14: =+C14*20 -> 0 | G14: =+F14*20 -> 0 | I14: =+H14*20 -> 0 | J14: =+J13+C14-F14+H14 -> 24 | K14: =+K13+D14-G14+I14 -> 480
D15: =+C15*20 -> 0 | G15: =+F15*20 -> 0 | I15: =+H15*20 -> 0 | J15: =+J14+C15-F15+H15 -> 24 | K15: =+K14+D15-G15+I15 -> 480
D16: =+C16*20 -> 0 | G16: =+F16*20 -> 0 | I16: =+H16*20 -> 0 | J16: =+J15+C16-F16+H16 -> 24 | K16: =+K15+D16-G16+I16 -> 480
D17: =+C17*20 -> 0 | G17: =+F17*20 -> 0 | I17: =+H17*20 -> 0 | J17: =+J16+C17-F17+H17 -> 24 | K17: =+K16+D17-G17+I17 -> 480
D18: =+C18*20 -> 0 | G18: =+F18*20 -> 0 | I18: =+H18*20 -> 0 | J18: =+J17+C18-F18+H18 -> 24 | K18: =+K17+D18-G18+I18 -> 480
D19: =+C19*20 -> 0 | G19: =+F19*20 -> 0 | I19: =+H19*20 -> 0 | J19: =+J18+C19-F19+H19 -> 24 | K19: =+K18+D19-G19+I19 -> 480
D20: =+C20*20 -> 0 | G20: =+F20*20 -> 0 | I20: =+H20*20 -> 0 | J20: =+J19+C20-F20+H20 -> 24 | K20: =+K19+D20-G20+I20 -> 480
D21: =+C21*20 -> 0 | G21: =+F21*20 -> 0 | I21: =+H21*20 -> 0 | J21: =+J20+C21-F21+H21 -> 24 | K21: =+K20+D21-G21+I21 -> 480
... D199: =+C199*20 -> 0 | G199: =+F199*20 -> 0 | I199: =+H199*20 -> 0 | J199: =+J198+C199-F199+H199 -> 24 | K199: =+K198+D199-G199+I199 -> 480
B200: TOTAL | C200: =SUM(C9:C199) -> 0 | D200: =SUM(D9:D199) -> 0 | E200: N°.B.B | F200: =SUM(F9:F199) -> 0.5 | G200: =SUM(G9:G199) -> 10 | H200: =SUM(H9:H199) -> 0 | I200: =SUM(I9:I199) -> 0 | J200: =+C200-F200+H200+C8 -> 24 | K200: =+D200-G200+I200+D8 -> 480

Sheet F,4Noir
B1: FICH DE STOCK
B3: INTITULE | C3: Noir mat 2
B4: CODE | C4: F6/700/2CC
B6: ENTRE | E6: N°.B.B | F6: SORTIE | H6: RETOUR | J6: STOCK
B7: Date | C7: Q / Carton | D7: Quan / kg | F7: Q / Carton | G7: Quan / kg | H7: Q / Carton | I7: Quan / kg | J7: Q / Carton | K7: Quan / kg
B8: 41274 | C8: 30.5 | D8: =+C8*20 -> 610 | E8: STOCK,1 | G8: =+F8*20 -> 0 | I8: =+H8*20 -> 0 | J8: =+C8-F8+H8 -> 30.5 | K8: =+D8-G8+I8 -> 610
B9: 41303 | D9: =+C9*20 -> 0 | E9: 4923 | F9: 1 | G9: =+F9*20 -> 20 | I9: =+H9*20 -> 0 | J9: =+J8+C9-F9+H9 -> 29.5 | K9: =+K8+D9-G9+I9 -> 590
D10: =+C10*20 -> 0 | E10: divers c | G10: =+F10*20 -> 0 | H10: 5 | I10: =+H10*20 -> 100 | J10: =+J9+C10-F10+H10 -> 34.5 | K10: =+K9+D10-G10+I10 -> 690
B11: 41324 | D11: =+C11*20 -> 0 | E11: 4936 | G11: =+F11*20 -> 0 | H11: 2 | I11: =+H11*20 -> 40 | J11: =+J10+C11-F11+H11 -> 36.5 | K11: =+K10+D11-G11+I11 -> 730
B12: 41331 | D12: =+C12*20 -> 0 | E12: 4939 | F12: 1 | G12: =+F12*20 -> 20 | I12: =+H12*20 -> 0 | J12: =+J11+C12-F12+H12 -> 35.5 | K12: =+K11+D12-G12+I12 -> 710
B13: 41348 | D13: =+C13*20 -> 0 | E13: 4945 | F13: 1 | G13: =+F13*20 -> 20 | I13: =+H13*20 -> 0 | J13: =+J12+C13-F13+H13 -> 34.5 | K13: =+K12+D13-G13+I13 -> 690
B14: 41351 | D14: =+C14*20 -> 0 | E14: 4946 | F14: 4 | G14: =+F14*20 -> 80 | I14: =+H14*20 -> 0 | J14: =+J13+C14-F14+H14 -> 30.5 | K14: =+K13+D14-G14+I14 -> 610
B15: 41354 | D15: =+C15*20 -> 0 | E15: 4947 | F15: 1 | G15: =+F15*20 -> 20 | I15: =+H15*20 -> 0 | J15: =+J14+C15-F15+H15 -> 29.5 | K15: =+K14+D15-G15+I15 -> 590
B16: 41358 | D16: =+C16*20 -> 0 | E16: four | F16: 4 | G16: =+F16*20 -> 80 | I16: =+H16*20 -> 0 | J16: =+J15+C16-F16+H16 -> 25.5 | K16: =+K15+D16-G16+I16 -> 510
B17: 41360 | D17: =+C17*20 -> 0 | E17: four | F17: 0.5 | G17: =+F17*20 -> 10 | I17: =+H17*20 -> 0 | J17: =+J16+C17-F17+H17 -> 25 | K17: =+K16+D17-G17+I17 -> 500
B18: 41372 | D18: =+C18*20 -> 0 | E18: 4409 | F18: 3 | G18: =+F18*20 -> 60 | I18: =+H18*20 -> 0 | J18: =+J17+C18-F18+H18 -> 22 | K18: =+K17+D18-G18+I18 -> 440
B19: 41374 | D19: =+C19*20 -> 0 | E19: 4412 | G19: =+F19*20 -> 0 | H19: 1 | I19: =+H19*20 -> 20 | J19: =+J18+C19-F19+H19 -> 23 | K19: =+K18+D19-G19+I19 -> 460
B20: 41392 | D20: =+C20*20 -> 0 | G20: =+F20*20 -> 0 | H20: 2 | I20: =+H20*20 -> 40 | J20: =+J19+C20-F20+H20 -> 25 | K20: =+K19+D20-G20+I20 -> 500
B21: 41394 | D21: =+C21*20 -> 0 | E21: 4426 | F21: 1 | G21: =+F21*20 -> 20 | I21: =+H21*20 -> 0 | J21: =+J20+C21-F21+H21 -> 24 | K21: =+K20+D21-G21+I21 -> 480
B22: 41417 | D22: =+C22*20 -> 0 | E22: 4440 | F22: 2 | G22: =+F22*20 -> 40 | I22: =+H22*20 -> 0 | J22: =+J21+C22-F22+H22 -> 22 | K22: =+K21+D22-G22+I22 -> 440
B23: 41478 | D23: =+C23*20 -> 0 | E23: 5271 | F23: 1 | G23: =+F23*20 -> 20 | I23: =+H23*20 -> 0 | J23: =+J22+C23-F23+H23 -> 21 | K23: =+K22+D23-G23+I23 -> 420
B24: 41521 | C24: 5 | D24: =+C24*20 -> 100 | G24: =+F24*20 -> 0 | I24: =+H24*20 -> 0 | J24: =+J23+C24-F24+H24 -> 26 | K24: =+K23+D24-G24+I24 -> 520
B25: 41527 | D25: =+C25*20 -> 0 | E25: 5290 | G25: =+F25*20 -> 0 | H25: 3 | I25: =+H25*20 -> 60 | J25: =+J24+C25-F25+H25 -> 29 | K25: =+K24+D25-G25+I25 -> 580
B26: 41533 | D26: =+C26*20 -> 0 | E26: 5295 | F26: 1 | G26: =+F26*20 -> 20 | I26: =+H26*20 -> 0 | J26: =+J25+C26-F26+H26 -> 28 | K26: =+K25+D26-G26+I26 -> 560
D27: =+C27*20 -> 0 | G27: =+F27*20 -> 0 | I27: =+H27*20 -> 0 | J27: =+J26+C27-F27+H27 -> 28 | K27: =+K26+D27-G27+I27 -> 560
D28: =+C28*20 -> 0 | G28: =+F28*20 -> 0 | I28: =+H28*20 -> 0 | J28: =+J27+C28-F28+H28 -> 28 | K28: =+K27+D28-G28+I28 -> 560
D29: =+C29*20 -> 0 | G29: =+F29*20 -> 0 | I29: =+H29*20 -> 0 | J29: =+J28+C29-F29+H29 -> 28 | K29: =+K28+D29-G29+I29 -> 560
D30: =+C30*20 -> 0 | G30: =+F30*20 -> 0 | I30: =+H30*20 -> 0 | J30: =+J29+C30-F30+H30 -> 28 | K30: =+K29+D30-G30+I30 -> 560
D31: =+C31*20 -> 0 | G31: =+F31*20 -> 0 | I31: =+H31*20 -> 0 | J31: =+J30+C31-F31+H31 -> 28 | K31: =+K30+D31-G31+I31 -> 560
D32: =+C32*20 -> 0 | G32: =+F32*20 -> 0 | I32: =+H32*20 -> 0 | J32: =+J31+C32-F32+H32 -> 28 | K32: =+K31+D32-G32+I32 -> 560
D33: =+C33*20 -> 0 | G33: =+F33*20 -> 0 | I33: =+H33*20 -> 0 | J33: =+J32+C33-F33+H33 -> 28 | K33: =+K32+D33-G33+I33 -> 560
D34: =+C34*20 -> 0 | G34: =+F34*20 -> 0 | I34: =+H34*20 -> 0 | J34: =+J33+C34-F34+H34 -> 28 | K34: =+K33+D34-G34+I34 -> 560
D35: =+C35*20 -> 0 | G35: =+F35*20 -> 0 | I35: =+H35*20 -> 0 | J35: =+J34+C35-F35+H35 -> 28 | K35: =+K34+D35-G35+I35 -> 560
D36: =+C36*20 -> 0 | G36: =+F36*20 -> 0 | I36: =+H36*20 -> 0 | J36: =+J35+C36-F36+H36 -> 28 | K36: =+K35+D36-G36+I36 -> 560
D37: =+C37*20 -> 0 | G37: =+F37*20 -> 0 | I37: =+H37*20 -> 0 | J37: =+J36+C37-F37+H37 -> 28 | K37: =+K36+D37-G37+I37 -> 560
D38: =+C38*20 -> 0 | G38: =+F38*20 -> 0 | I38: =+H38*20 -> 0 | J38: =+J37+C38-F38+H38 -> 28 | K38: =+K37+D38-G38+I38 -> 560
... D199: =+C199*20 -> 0 | G199: =+F199*20 -> 0 | I199: =+H199*20 -> 0 | J199: =+J198+C199-F199+H199 -> 28 | K199: =+K198+D199-G199+I199 -> 560
B200: TOTAL | C200: =SUM(C9:C199) -> 5 | D200: =SUM(D9:D199) -> 100 | E200: N°.B.B | F200: =SUM(F9:F199) -> 20.5 | G200: =SUM(G9:G199) -> 410 | H200: =SUM(H9:H199) -> 13 | I200: =SUM(I9:I199) -> 260 | J200: =+C200-F200+H200+C8 -> 28 | K200: =+D200-G200+I200+D8 -> 560

Sheet F,5Bleu,ciel
B1: FICH DE STOCK
B3: INTITULE | C3: Bleu ciel brillant 2
B4: CODE | C4: FF112/5015/3C
B6: ENTRE | E6: N°.B.B | F6: SORTIE | H6: RETOUR | J6: STOCK
B7: Date | C7: Q / Carton | D7: Quan / kg | F7: Q / Carton | G7: Quan / kg | H7: Q / Carton | I7: Quan / kg | J7: Q / Carton | K7: Quan / kg
B8: 41274 | C8: 12 | D8: =+C8*20 -> 240 | E8: STOCK,1 | I8: =+H8*20 -> 0 | J8: =+C8-F8+H8 -> 12 | K8: =+D8-G8+I8 -> 240
B9: 41276 | D9: =+C9*20 -> 0 | E9: 4909 | F9: 4 | G9: =+F9*20 -> 80 | I9: =+H9*20 -> 0 | J9: =+J8+C9-F9+H9 -> 8 | K9: =+K8+D9-G9+I9 -> 160
B10: 41276 | D10: =+C10*20 -> 0 | E10: 4910 | F10: 2 | G10: =+F10*20 -> 40 | I10: =+H10*20 -> 0 | J10: =+J9+C10-F10+H10 -> 6 | K10: =+K9+D10-G10+I10 -> 120
B11: 41276 | D11: =+C11*20 -> 0 | E11: 4911 | F11: 1 | G11: =+F11*20 -> 20 | I11: =+H11*20 -> 0 | J11: =+J10+C11-F11+H11 -> 5 | K11: =+K10+D11-G11+I11 -> 100
B12: 41277 | D12: =+C12*20 -> 0 | E12: 4912 | G12: =+F12*20 -> 0 | H12: 3.5 | I12: =+H12*20 -> 70 | J12: =+J11+C12-F12+H12 -> 8.5 | K12: =+K11+D12-G12+I12 -> 170
B13: 41303 | D13: =+C13*20 -> 0 | E13: 4923 | F13: 8 | G13: =+F13*20 -> 160 | I13: =+H13*20 -> 0 | J13: =+J12+C13-F13+H13 -> 0.5 | K13: =+K12+D13-G13+I13 -> 10
B14: 41307 | D14: =+C14*20 -> 0 | G14: =+F14*20 -> 0 | H14: 1.5 | I14: =+H14*20 -> 30 | J14: =+J13+C14-F14+H14 -> 2 | K14: =+K13+D14-G14+I14 -> 40
B15: 41324 | D15: =+C15*20 -> 0 | E15: 4936 | G15: =+F15*20 -> 0 | H15: 1 | I15: =+H15*20 -> 20 | J15: =+J14+C15-F15+H15 -> 3 | K15: =+K14+D15-G15+I15 -> 60
B16: 41481 | D16: =+C16*20 -> 0 | E16: 5275 | F16: 3 | G16: =+F16*20 -> 60 | I16: =+H16*20 -> 0 | J16: =+J15+C16-F16+H16 -> 0 | K16: =+K15+D16-G16+I16 -> 0
D17: =+C17*20 -> 0 | G17: =+F17*20 -> 0 | I17: =+H17*20 -> 0 | J17: =+J16+C17-F17+H17 -> 0 | K17: =+K16+D17-G17+I17 -> 0
D18: =+C18*20 -> 0 | G18: =+F18*20 -> 0 | I18: =+H18*20 -> 0 | J18: =+J17+C18-F18+H18 -> 0 | K18: =+K17+D18-G18+I18 -> 0
D19: =+C19*20 -> 0 | G19: =+F19*20 -> 0 | I19: =+H19*20 -> 0 | J19: =+J18+C19-F19+H19 -> 0 | K19: =+K18+D19-G19+I19 -> 0
D20: =+C20*20 -> 0 | G20: =+F20*20 -> 0 | I20: =+H20*20 -> 0 | J20: =+J19+C20-F20+H20 -> 0 | K20: =+K19+D20-G20+I20 -> 0
D21: =+C21*20 -> 0 | G21: =+F21*20 -> 0 | I21: =+H21*20 -> 0 | J21: =+J20+C21-F21+H21 -> 0 | K21: =+K20+D21-G21+I21 -> 0
D22: =+C22*20 -> 0 | G22: =+F22*20 -> 0 | I22: =+H22*20 -> 0 | J22: =+J21+C22-F22+H22 -> 0 | K22: =+K21+D22-G22+I22 -> 0
D23: =+C23*20 -> 0 | G23: =+F23*20 -> 0 | I23: =+H23*20 -> 0 | J23: =+J22+C23-F23+H23 -> 0 | K23: =+K22+D23-G23+I23 -> 0
D24: =+C24*20 -> 0 | G24: =+F24*20 -> 0 | I24: =+H24*20 -> 0 | J24: =+J23+C24-F24+H24 -> 0 | K24: =+K23+D24-G24+I24 -> 0
D25: =+C25*20 -> 0 | G25: =+F25*20 -> 0 | I25: =+H25*20 -> 0 | J25: =+J24+C25-F25+H25 -> 0 | K25: =+K24+D25-G25+I25 -> 0
D26: =+C26*20 -> 0 | G26: =+F26*20 -> 0 | I26: =+H26*20 -> 0 | J26: =+J25+C26-F26+H26 -> 0 | K26: =+K25+D26-G26+I26 -> 0
D27: =+C27*20 -> 0 | G27: =+F27*20 -> 0 | I27: =+H27*20 -> 0 | J27: =+J26+C27-F27+H27 -> 0 | K27: =+K26+D27-G27+I27 -> 0
D28: =+C28*20 -> 0 | G28: =+F28*20 -> 0 | I28: =+H28*20 -> 0 | J28: =+J27+C28-F28+H28 -> 0 | K28: =+K27+D28-G28+I28 -> 0
... D199: =+C199*20 -> 0 | G199: =+F199*20 -> 0 | I199: =+H199*20 -> 0 | J199: =+J198+C199-F199+H199 -> 0 | K199: =+K198+D199-G199+I199 -> 0
B200: TOTAL | C200: =SUM(C9:C199) -> 0 | D200: =SUM(D9:D199) -> 0 | E200: N°.B.B | F200: =SUM(F9:F199) -> 18 | G200: =SUM(G9:G199) -> 360 | H200: =SUM(H9:H199) -> 6 | I200: =SUM(I9:I199) -> 120 | J200: =+C200-F200+H200+C8 -> 0 | K200: =+D200-G200+I200+D8 -> 0

Sheet F,6Divers
B1: FICH DE STOCK
B3: INTITULE | C3: divers couleurs 2
B4: CODE
B6: ENTRE | E6: N°.B.B | F6: SORTIE | H6: RETOUR | J6: STOCK
B7: Date | C7: Q / Carton | D7: Quan / kg | F7: Q / Carton | G7: Quan / kg | H7: Q / Carton | I7: Quan / kg | J7: Q / Carton | K7: Quan / kg
B8: 41274 | C8: 56 | D8: =+C8*20 -> 1120 | E8: STOCK,1 | G8: =+F8*20 -> 0 | I8: =+H8*20 -> 0 | J8: =+C8-F8+H8 -> 56 | K8: =+D8-G8+I8 -> 1120
D9: =+C9*20 -> 0 | E9: Noir decor | G9: =+F9*20 -> 0 | I9: =+H9*20 -> 0 | J9: =+J8+C9-F9+H9 -> 56 | K9: =+K8+D9-G9+I9 -> 1120
B10: 41394 | D10: =+C10*20 -> 0 | E10: 4426 | F10: 1 | G10: =+F10*20 -> 20 | I10: =+H10*20 -> 0 | J10: =+J9+C10-F10+H10 -> 55 | K10: =+K9+D10-G10+I10 -> 1100
B11: 41401 | D11: =+C11*20 -> 0 | E11: 4430 | F11: 1 | G11: =+F11*20 -> 20 | I11: =+H11*20 -> 0 | J11: =+J10+C11-F11+H11 -> 54 | K11: =+K10+D11-G11+I11 -> 1080
D12: =+C12*20 -> 0 | G12: =+F12*20 -> 0 | I12: =+H12*20 -> 0 | J12: =+J11+C12-F12+H12 -> 54 | K12: =+K11+D12-G12+I12 -> 1080
D13: =+C13*20 -> 0 | G13: =+F13*20 -> 0 | I13: =+H13*20 -> 0 | J13: =+J12+C13-F13+H13 -> 54 | K13: =+K12+D13-G13+I13 -> 1080
D14: =+C14*20 -> 0 | G14: =+F14*20 -> 0 | I14: =+H14*20 -> 0 | J14: =+J13+C14-F14+H14 -> 54 | K14: =+K13+D14-G14+I14 -> 1080
D15: =+C15*20 -> 0 | G15: =+F15*20 -> 0 | I15: =+H15*20 -> 0 | J15: =+J14+C15-F15+H15 -> 54 | K15: =+K14+D15-G15+I15 -> 1080
D16: =+C16*20 -> 0 | G16: =+F16*20 -> 0 | I16: =+H16*20 -> 0 | J16: =+J15+C16-F16+H16 -> 54 | K16: =+K15+D16-G16+I16 -> 1080
D17: =+C17*20 -> 0 | G17: =+F17*20 -> 0 | I17: =+H17*20 -> 0 | J17: =+J16+C17-F17+H17 -> 54 | K17: =+K16+D17-G17+I17 -> 1080
D18: =+C18*20 -> 0 | G18: =+F18*20 -> 0 | I18: =+H18*20 -> 0 | J18: =+J17+C18-F18+H18 -> 54 | K18: =+K17+D18-G18+I18 -> 1080
D19: =+C19*20 -> 0 | G19: =+F19*20 -> 0 | I19: =+H19*20 -> 0 | J19: =+J18+C19-F19+H19 -> 54 | K19: =+K18+D19-G19+I19 -> 1080
D20: =+C20*20 -> 0 | G20: =+F20*20 -> 0 | I20: =+H20*20 -> 0 | J20: =+J19+C20-F20+H20 -> 54 | K20: =+K19+D20-G20+I20 -> 1080
D21: =+C21*20 -> 0 | G21: =+F21*20 -> 0 | I21: =+H21*20 -> 0 | J21: =+J20+C21-F21+H21 -> 54 | K21: =+K20+D21-G21+I21 -> 1080
D22: =+C22*20 -> 0 | G22: =+F22*20 -> 0 | I22: =+H22*20 -> 0 | J22: =+J21+C22-F22+H22 -> 54 | K22: =+K21+D22-G22+I22 -> 1080
D23: =+C23*20 -> 0 | G23: =+F23*20 -> 0 | I23: =+H23*20 -> 0 | J23: =+J22+C23-F23+H23 -> 54 | K23: =+K22+D23-G23+I23 -> 1080
... D199: =+C199*20 -> 0 | G199: =+F199*20 -> 0 | I199: =+H199*20 -> 0 | J199: =+J198+C199-F199+H199 -> 54 | K199: =+K198+D199-G199+I199 -> 1080
B200: TOTAL | C200: =SUM(C9:C199) -> 0 | D200: =SUM(D9:D199) -> 0 | E200: N°.B.B | F200: =SUM(F9:F199) -> 2 | G200: =SUM(G9:G199) -> 40 | H200: =SUM(H9:H199) -> 0 | I200: =SUM(I9:I199) -> 0 | J200: =+C200-F200+H200+C8 -> 54 | K200: =+D200-G200+I200+D8 -> 1080

Sheet F,7Chocolat
B1: FICH DE STOCK
B3: INTITULE | C3: Brun chocolat 3
B4: CODE | C4: FF160/8017/10C
B6: ENTRE | E6: N°.B.B | F6: SORTIE | H6: RETOUR | J6: STOCK
B7: Date | C7: Q / Carton | D7: Quan / kg | F7: Q / Carton | G7: Quan / kg | H7: Q / Carton | I7: Quan / kg | J7: Q / Carton | K7: Quan / kg
B8: 41274 | C8: 118.5 | D8: =+C8*20 -> 2370 | E8: STOCK,1 | I8: =+H8*20 -> 0 | J8: =+C8-F8+H8 -> 118.5 | K8: =+D8-G8+I8 -> 2370
B9: 41276 | D9: =+C9*20 -> 0 | E9: 4911 | F9: 4 | G9: =+F9*20 -> 80 | I9: =+H9*20 -> 0 | J9: =+J8+C9-F9+H9 -> 114.5 | K9: =+K8+D9-G9+I9 -> 2290
B10: 41277 | D10: =+C10*20 -> 0 | E10: 4912 | G10: =+F10*20 -> 0 | H10: 2.5 | I10: =+H10*20 -> 50 | J10: =+J9+C10-F10+H10 -> 117 | K10: =+K9+D10-G10+I10 -> 2340
B11: 41289 | D11: =+C11*20 -> 0 | E11: 4914 | G11: =+F11*20 -> 0 | H11: 1.5 | I11: =+H11*20 -> 30 | J11: =+J10+C11-F11+H11 -> 118.5 | K11: =+K10+D11-G11+I11 -> 2370
B12: 41303 | D12: =+C12*20 -> 0 | E12: 4923 | F12: 2 | G12: =+F12*20 -> 40 | I12: =+H12*20 -> 0 | J12: =+J11+C12-F12+H12 -> 116.5 | K12: =+K11+D12-G12+I12 -> 2330
B13: 41309 | D13: =+C13*20 -> 0 | E13: 4928 | F13: 1 | G13: =+F13*20 -> 20 | I13: =+H13*20 -> 0 | J13: =+J12+C13-F13+H13 -> 115.5 | K13: =+K12+D13-G13+I13 -> 2310
B14: 41318 | D14: =+C14*20 -> 0 | E14: 4929 | F14: 5 | G14: =+F14*20 -> 100 | I14: =+H14*20 -> 0 | J14: =+J13+C14-F14+H14 -> 110.5 | K14: =+K13+D14-G14+I14 -> 2210
B15: 41319 | D15: =+C15*20 -> 0 | E15: 4931 | F15: 8 | G15: =+F15*20 -> 160 | I15: =+H15*20 -> 0 | J15: =+J14+C15-F15+H15 -> 102.5 | K15: =+K14+D15-G15+I15 -> 2050
B16: 41319 | D16: =+C16*20 -> 0 | E16: 4932 | F16: 1 | G16: =+F16*20 -> 20 | I16: =+H16*20 -> 0 | J16: =+J15+C16-F16+H16 -> 101.5 | K16: =+K15+D16-G16+I16 -> 2030
B17: 41320 | D17: =+C17*20 -> 0 | E17: 4933 | F17: 8 | G17: =+F17*20 -> 160 | I17: =+H17*20 -> 0 | J17: =+J16+C17-F17+H17 -> 93.5 | K17: =+K16+D17-G17+I17 -> 1870
B18: 41323 | D18: =+C18*20 -> 0 | E18: 4934 | F18: 5 | G18: =+F18*20 -> 100 | I18: =+H18*20 -> 0 | J18: =+J17+C18-F18+H18 -> 88.5 | K18: =+K17+D18-G18+I18 -> 1770
B19: 41324 | D19: =+C19*20 -> 0 | E19: 4935 | F19: 3.5 | G19: =+F19*20 -> 70 | I19: =+H19*20 -> 0 | J19: =+J18+C19-F19+H19 -> 85 | K19: =+K18+D19-G19+I19 -> 1700
B20: 41331 | D20: =+C20*20 -> 0 | E20: 4939 | F20: 4 | G20: =+F20*20 -> 80 | I20: =+H20*20 -> 0 | J20: =+J19+C20-F20+H20 -> 81 | K20: =+K19+D20-G20+I20 -> 1620
B21: 41332 | D21: =+C21*20 -> 0 | E21: 4940 | F21: 2 | G21: =+F21*20 -> 40 | I21: =+H21*20 -> 0 | J21: =+J20+C21-F21+H21 -> 79 | K21: =+K20+D21-G21+I21 -> 1580
B22: 41333 | D22: =+C22*20 -> 0 | E22: 4941 | F22: 4 | G22: =+F22*20 -> 80 | I22: =+H22*20 -> 0 | J22: =+J21+C22-F22+H22 -> 75 | K22: =+K21+D22-G22+I22 -> 1500
B23: 41334 | D23: =+C23*20 -> 0 | E23: 4942 | F23: 3 | G23: =+F23*20 -> 60 | I23: =+H23*20 -> 0 | J23: =+J22+C23-F23+H23 -> 72 | K23: =+K22+D23-G23+I23 -> 1440
... B25: 41354 | D25: =+C25*20 -> 0 | E25: 4947 | F25: 1 | G25: =+F25*20 -> 20 | I25: =+H25*20 -> 0 | J25: =+J24+C25-F25+H25 -> 67 | K25: =+K24+D25-G25+I25 -> 1340
B26: 41360 | D26: =+C26*20 -> 0 | E26: four | F26: 2 | G26: =+F26*20 -> 40 | I26: =+H26*20 -> 0 | J26: =+J25+C26-F26+H26 -> 65 | K26: =+K25+D26-G26+I26 -> 1300
B27: 41396 | D27: =+C27*20 -> 0 | E27: 4427 | F27: 5 | G27: =+F27*20 -> 100 | I27: =+H27*20 -> 0 | J27: =+J26+C27-F27+H27 -> 60 | K27: =+K26+D27-G27+I27 -> 1200
B28: 41397 | D28: =+C28*20 -> 0 | E28: 4428 | F28: 8 | G28: =+F28*20 -> 160 | I28: =+H28*20 -> 0 | J28: =+J27+C28-F28+H28 -> 52 | K28: =+K27+D28-G28+I28 -> 1040
B29: 41400 | D29: =+C29*20 -> 0 | E29: 4429 | F29: 8 | G29: =+F29*20 -> 160 | I29: =+H29*20 -> 0 | J29: =+J28+C29-F29+H29 -> 44 | K29: =+K28+D29-G29+I29 -> 880
B30: 41401 | D30: =+C30*20 -> 0 | E30: 4430 | F30: 6 | G30: =+F30*20 -> 120 | I30: =+H30*20 -> 0 | J30: =+J29+C30-F30+H30 -> 38 | K30: =+K29+D30-G30+I30 -> 760
B31: 41404 | D31: =+C31*20 -> 0 | G31: =+F31*20 -> 0 | H31: 5 | I31: =+H31*20 -> 100 | J31: =+J30+C31-F31+H31 -> 43 | K31: =+K30+D31-G31+I31 -> 860
B32: 41411 | D32: =+C32*20 -> 0 | E32: 4436 | F32: 4 | G32: =+F32*20 -> 80 | I32: =+H32*20 -> 0 | J32: =+J31+C32-F32+H32 -> 39 | K32: =+K31+D32-G32+I32 -> 780
B33: 41423 | D33: =+C33*20 -> 0 | E33: 4443 | F33: 2 | G33: =+F33*20 -> 40 | I33: =+H33*20 -> 0 | J33: =+J32+C33-F33+H33 -> 37 | K33: =+K32+D33-G33+I33 -> 740
B34: 41428 | D34: =+C34*20 -> 0 | E34: 4447 | F34: 2 | G34: =+F34*20 -> 40 | I34: =+H34*20 -> 0 | J34: =+J33+C34-F34+H34 -> 35 | K34: =+K33+D34-G34+I34 -> 700
B35: 41451 | D35: =+C35*20 -> 0 | E35: 5259 | F35: 1 | G35: =+F35*20 -> 20 | I35: =+H35*20 -> 0 | J35: =+J34+C35-F35+H35 -> 34 | K35: =+K34+D35-G35+I35 -> 680
B36: 41459 | D36: =+C36*20 -> 0 | E36: 5260 | F36: 4 | G36: =+F36*20 -> 80 | I36: =+H36*20 -> 0 | J36: =+J35+C36-F36+H36 -> 30 | K36: =+K35+D36-G36+I36 -> 600
B37: 41460 | D37: =+C37*20 -> 0 | E37: 5261 | F37: 8 | G37: =+F37*20 -> 160 | H37: 8 | I37: =+H37*20 -> 160 | J37: =+J36+C37-F37+H37 -> 30 | K37: =+K36+D37-G37+I37 -> 600
B38: 41466 | D38: =+C38*20 -> 0 | E38: 5264 | F38: 2 | G38: =+F38*20 -> 40 | H38: 2 | I38: =+H38*20 -> 40 | J38: =+J37+C38-F38+H38 -> 30 | K38: =+K37+D38-G38+I38 -> 600
B39: 41472 | D39: =+C39*20 -> 0 | E39: 5268 | F39: 1 | G39: =+F39*20 -> 20 | I39: =+H39*20 -> 0 | J39: =+J38+C39-F39+H39 -> 29 | K39: =+K38+D39-G39+I39 -> 580
B40: 41521 | C40: 5 | D40: =+C40*20 -> 100 | G40: =+F40*20 -> 0 | I40: =+H40*20 -> 0 | J40: =+J39+C40-F40+H40 -> 34 | K40: =+K39+D40-G40+I40 -> 680
B41: 41524 | D41: =+C41*20 -> 0 | E41: 5288 | F41: 1 | G41: =+F41*20 -> 20 | I41: =+H41*20 -> 0 | J41: =+J40+C41-F41+H41 -> 33 | K41: =+K40+D41-G41+I41 -> 660
B42: 41527 | D42: =+C42*20 -> 0 | E42: 5290 | G42: =+F42*20 -> 0 | H42: 3 | I42: =+H42*20 -> 60 | J42: =+J41+C42-F42+H42 -> 36 | K42: =+K41+D42-G42+I42 -> 720
D43: =+C43*20 -> 0 | G43: =+F43*20 -> 0 | I43: =+H43*20 -> 0 | J43: =+J42+C43-F43+H43 -> 36 | K43: =+K42+D43-G43+I43 -> 720
...

Sheet F,8Vert,opale
B1: FICH DE STOCK
B3: INTITULE | C3: Vert opale brillant 4
B4: CODE | C4: FF161/6026/2C
B6: ENTRE | E6: N°.B.B | F6: SORTIE | H6: RETOUR | J6: STOCK
B7: Date | C7: Q / Carton | D7: Quan / kg | F7: Q / Carton | G7: Quan / kg | H7: Q / Carton | I7: Quan / kg | J7: Q / Carton | K7: Quan / kg
B8: 41274 | C8: 50 | D8: =+C8*20 -> 1000 | E8: STOCK,1 | G8: =+F8*20 -> 0 | I8: =+H8*20 -> 0 | J8: =+C8-F8+H8 -> 50 | K8: =+D8-G8+I8 -> 1000
B9: 41309 | D9: =+C9*20 -> 0 | E9: 4928 | F9: 4 | G9: =+F9*20 -> 80 | I9: =+H9*20 -> 0 | J9: =+J8+C9-F9+H9 -> 46 | K9: =+K8+D9-G9+I9 -> 920
B10: 41324 | D10: =+C10*20 -> 0 | E10: 4936 | G10: =+F10*20 -> 0 | H10: 2 | I10: =+H10*20 -> 40 | J10: =+J9+C10-F10+H10 -> 48 | K10: =+K9+D10-G10+I10 -> 960
B11: 41354 | D11: =+C11*20 -> 0 | E11: 4947 | F11: 5 | G11: =+F11*20 -> 100 | I11: =+H11*20 -> 0 | J11: =+J10+C11-F11+H11 -> 43 | K11: =+K10+D11-G11+I11 -> 860
B12: 41355 | D12: =+C12*20 -> 0 | E12: 4948 | F12: 4 | G12: =+F12*20 -> 80 | I12: =+H12*20 -> 0 | J12: =+J11+C12-F12+H12 -> 39 | K12: =+K11+D12-G12+I12 -> 780
B13: 41358 | D13: =+C13*20 -> 0 | E13: four | F13: 4 | G13: =+F13*20 -> 80 | I13: =+H13*20 -> 0 | J13: =+J12+C13-F13+H13 -> 35 | K13: =+K12+D13-G13+I13 -> 700
B14: 41367 | C14: 25 | D14: =+C14*20 -> 500 | G14: =+F14*20 -> 0 | I14: =+H14*20 -> 0 | J14: =+J13+C14-F14+H14 -> 60 | K14: =+K13+D14-G14+I14 -> 1200
B15: 41392 | D15: =+C15*20 -> 0 | G15: =+F15*20 -> 0 | H15: 8 | I15: =+H15*20 -> 160 | J15: =+J14+C15-F15+H15 -> 68 | K15: =+K14+D15-G15+I15 -> 1360
B16: 41394 | D16: =+C16*20 -> 0 | E16: 4425 | F16: 1 | G16: =+F16*20 -> 20 | I16: =+H16*20 -> 0 | J16: =+J15+C16-F16+H16 -> 67 | K16: =+K15+D16-G16+I16 -> 1340
B17: 41409 | D17: =+C17*20 -> 0 | E17: 4435 | F17: 4 | G17: =+F17*20 -> 80 | I17: =+H17*20 -> 0 | J17: =+J16+C17-F17+H17 -> 63 | K17: =+K16+D17-G17+I17 -> 1260
B18: 41410 | D18: =+C18*20 -> 0 | E18: 4437 | F18: 1 | G18: =+F18*20 -> 20 | I18: =+H18*20 -> 0 | J18: =+J17+C18-F18+H18 -> 62 | K18: =+K17+D18-G18+I18 -> 1240
B19: 41425 | D19: =+C19*20 -> 0 | E19: 4446 | F19: 3 | G19: =+F19*20 -> 60 | I19: =+H19*20 -> 0 | J19: =+J18+C19-F19+H19 -> 59 | K19: =+K18+D19-G19+I19 -> 1180
B20: 41432 | D20: =+C20*20 -> 0 | E20: four | F20: 6 | G20: =+F20*20 -> 120 | I20: =+H20*20 -> 0 | J20: =+J19+C20-F20+H20 -> 53 | K20: =+K19+D20-G20+I20 -> 1060
B21: 41435 | D21: =+C21*20 -> 0 | E21: four | F21: 6 | G21: =+F21*20 -> 120 | I21: =+H21*20 -> 0 | J21: =+J20+C21-F21+H21 -> 47 | K21: =+K20+D21-G21+I21 -> 940
B22: 41436 | D22: =+C22*20 -> 0 | E22: 5252 | F22: 6 | G22: =+F22*20 -> 120 | I22: =+H22*20 -> 0 | J22: =+J21+C22-F22+H22 -> 41 | K22: =+K21+D22-G22+I22 -> 820
B23: 41437 | D23: =+C23*20 -> 0 | E23: 5251 | F23: 7 | G23: =+F23*20 -> 140 | I23: =+H23*20 -> 0 | J23: =+J22+C23-F23+H23 -> 34 | K23: =+K22+D23-G23+I23 -> 680
B24: 41439 | D24: =+C24*20 -> 0 | E24: 5254 | F24: 3 | G24: =+F24*20 -> 60 | I24: =+H24*20 -> 0 | J24: =+J23+C24-F24+H24 -> 31 | K24: =+K23+D24-G24+I24 -> 620
B25: 41446 | D25: =+C25*20 -> 0 | E25: 5257 | F25: 1 | G25: =+F25*20 -> 20 | I25: =+H25*20 -> 0 | J25: =+J24+C25-F25+H25 -> 30 | K25: =+K24+D25-G25+I25 -> 600
B26: 41460 | D26: =+C26*20 -> 0 | E26: 5261 | F26: 1 | G26: =+F26*20 -> 20 | I26: =+H26*20 -> 0 | J26: =+J25+C26-F26+H26 -> 29 | K26: =+K25+D26-G26+I26 -> 580
B27: 41471 | D27: =+C27*20 -> 0 | E27: 5267 | F27: 2 | G27: =+F27*20 -> 40 | H27: 2 | I27: =+H27*20 -> 40 | J27: =+J26+C27-F27+H27 -> 29 | K27: =+K26+D27-G27+I27 -> 580
B28: 41481 | D28: =+C28*20 -> 0 | E28: 5275 | F28: 3 | G28: =+F28*20 -> 60 | I28: =+H28*20 -> 0 | J28: =+J27+C28-F28+H28 -> 26 | K28: =+K27+D28-G28+I28 -> 520
B29: 41486 | D29: =+C29*20 -> 0 | E29: 5277 | F29: 1 | G29: =+F29*20 -> 20 | I29: =+H29*20 -> 0 | J29: =+J28+C29-F29+H29 -> 25 | K29: =+K28+D29-G29+I29 -> 500
B30: 41487 | D30: =+C30*20 -> 0 | E30: 5278 | F30: 2 | G30: =+F30*20 -> 40 | I30: =+H30*20 -> 0 | J30: =+J29+C30-F30+H30 -> 23 | K30: =+K29+D30-G30+I30 -> 460
B31: 41493 | D31: =+C31*20 -> 0 | E31: 5282 | F31: 1 | G31: =+F31*20 -> 20 | I31: =+H31*20 -> 0 | J31: =+J30+C31-F31+H31 -> 22 | K31: =+K30+D31-G31+I31 -> 440
B32: 41520 | D32: =+C32*20 -> 0 | E32: 5284 | F32: 6 | G32: =+F32*20 -> 120 | I32: =+H32*20 -> 0 | J32: =+J31+C32-F32+H32 -> 16 | K32: =+K31+D32-G32+I32 -> 320
B33: 41521 | C33: 25 | D33: =+C33*20 -> 500 | G33: =+F33*20 -> 0 | I33: =+H33*20 -> 0 | J33: =+J32+C33-F33+H33 -> 41 | K33: =+K32+D33-G33+I33 -> 820
B34: 41528 | D34: =+C34*20 -> 0 | E34: 5291 | F34: 4 | G34: =+F34*20 -> 80 | I34: =+H34*20 -> 0 | J34: =+J33+C34-F34+H34 -> 37 | K34: =+K33+D34-G34+I34 -> 740
B35: 41529 | D35: =+C35*20 -> 0 | E35: 5293 | F35: 6 | G35: =+F35*20 -> 120 | I35: =+H35*20 -> 0 | J35: =+J34+C35-F35+H35 -> 31 | K35: =+K34+D35-G35+I35 -> 620
B36: 41533 | D36: =+C36*20 -> 0 | E36: 5295 | F36: 1 | G36: =+F36*20 -> 20 | I36: =+H36*20 -> 0 | J36: =+J35+C36-F36+H36 -> 30 | K36: =+K35+D36-G36+I36 -> 600
D37: =+C37*20 -> 0 | G37: =+F37*20 -> 0 | I37: =+H37*20 -> 0 | J37: =+J36+C37-F37+H37 -> 30 | K37: =+K36+D37-G37+I37 -> 600
D38: =+C38*20 -> 0 | G38: =+F38*20 -> 0 | I38: =+H38*20 -> 0 | J38: =+J37+C38-F38+H38 -> 30 | K38: =+K37+D38-G38+I38 -> 600
D39: =+C39*20 -> 0 | G39: =+F39*20 -> 0 | I39: =+H39*20 -> 0 | J39: =+J38+C39-F39+H39 -> 30 | K39: =+K38+D39-G39+I39 -> 600
D40: =+C40*20 -> 0 | G40: =+F40*20 -> 0 | I40: =+H40*20 -> 0 | J40: =+J39+C40-F40+H40 -> 30 | K40: =+K39+D40-G40+I40 -> 600
D41: =+C41*20 -> 0 | G41: =+F41*20 -> 0 | I41: =+H41*20 -> 0 | J41: =+J40+C41-F41+H41 -> 30 | K41: =+K40+D41-G41+I41 -> 600
D42: =+C42*20 -> 0 | G42: =+F42*20 -> 0 | I42: =+H42*20 -> 0 | J42: =+J41+C42-F42+H42 -> 30 | K42: =+K41+D42-G42+I42 -> 600
...

Sheet F,9Rouge
B1: FICH DE STOCK
B3: INTITULE | C3: Rouge signalisation brillant 4
B4: CODE | C4: FF112/3020/6C
B6: ENTRE | E6: N°.B.B | F6: SORTIE | H6: RETOUR | J6: STOCK
B7: Date | C7: Q / Carton | D7: Quan / kg | F7: Q / Carton | G7: Quan / kg | H7: Q / Carton | I7: Quan / kg | J7: Q / Carton | K7: Quan / kg
B8: 41274 | C8: 58 | D8: =+C8*20 -> 1160 | E8: STOCK,1 | G8: =+F8*20 -> 0 | I8: =+H8*20 -> 0 | J8: =+C8-F8+H8 -> 58 | K8: =+D8-G8+I8 -> 1160
B9: 41334 | D9: =+C9*20 -> 0 | E9: 4943 | F9: 1 | G9: =+F9*20 -> 20 | I9: =+H9*20 -> 0 | J9: =+J8+C9-F9+H9 -> 57 | K9: =+K8+D9-G9+I9 -> 1140
B10: 41383 | D10: =+C10*20 -> 0 | E10: 4419 | F10: 1 | G10: =+F10*20 -> 20 | I10: =+H10*20 -> 0 | J10: =+J9+C10-F10+H10 -> 56 | K10: =+K9+D10-G10+I10 -> 1120
B11: 41392 | D11: =+C11*20 -> 0 | G11: =+F11*20 -> 0 | H11: 2 | I11: =+H11*20 -> 40 | J11: =+J10+C11-F11+H11 -> 58 | K11: =+K10+D11-G11+I11 -> 1160
B12: 41394 | D12: =+C12*20 -> 0 | E12: 4426 | F12: 3 | G12: =+F12*20 -> 60 | I12: =+H12*20 -> 0 | J12: =+J11+C12-F12+H12 -> 55 | K12: =+K11+D12-G12+I12 -> 1100
B13: 41404 | D13: =+C13*20 -> 0 | G13: =+F13*20 -> 0 | H13: 2 | I13: =+H13*20 -> 40 | J13: =+J12+C13-F13+H13 -> 57 | K13: =+K12+D13-G13+I13 -> 1140
B14: 41410 | D14: =+C14*20 -> 0 | E14: 4437 | F14: 6 | G14: =+F14*20 -> 120 | I14: =+H14*20 -> 0 | J14: =+J13+C14-F14+H14 -> 51 | K14: =+K13+D14-G14+I14 -> 1020
B15: 41425 | D15: =+C15*20 -> 0 | E15: 4446 | F15: 1 | G15: =+F15*20 -> 20 | I15: =+H15*20 -> 0 | J15: =+J14+C15-F15+H15 -> 50 | K15: =+K14+D15-G15+I15 -> 1000
B16: 41437 | D16: =+C16*20 -> 0 | E16: 5251 | F16: 1 | G16: =+F16*20 -> 20 | I16: =+H16*20 -> 0 | J16: =+J15+C16-F16+H16 -> 49 | K16: =+K15+D16-G16+I16 -> 980
B17: 41438 | D17: =+C17*20 -> 0 | E17: 5253 | F17: 9 | G17: =+F17*20 -> 180 | I17: =+H17*20 -> 0 | J17: =+J16+C17-F17+H17 -> 40 | K17: =+K16+D17-G17+I17 -> 800
B18: 41446 | D18: =+C18*20 -> 0 | E18: 5257 | F18: 1 | G18: =+F18*20 -> 20 | I18: =+H18*20 -> 0 | J18: =+J17+C18-F18+H18 -> 39 | K18: =+K17+D18-G18+I18 -> 780
B19: 41452 | D19: =+C19*20 -> 0 | E19: 5258 | F19: 1 | G19: =+F19*20 -> 20 | I19: =+H19*20 -> 0 | J19: =+J18+C19-F19+H19 -> 38 | K19: =+K18+D19-G19+I19 -> 760
B20: 41460 | D20: =+C20*20 -> 0 | E20: 5261 | F20: 6 | G20: =+F20*20 -> 120 | H20: 4 | I20: =+H20*20 -> 80 | J20: =+J19+C20-F20+H20 -> 36 | K20: =+K19+D20-G20+I20 -> 720
B21: 41478 | D21: =+C21*20 -> 0 | E21: 5271 | F21: 1 | G21: =+F21*20 -> 20 | I21: =+H21*20 -> 0 | J21: =+J20+C21-F21+H21 -> 35 | K21: =+K20+D21-G21+I21 -> 700
B22: 41479 | D22: =+C22*20 -> 0 | E22: 5272 | F22: 1 | G22: =+F22*20 -> 20 | I22: =+H22*20 -> 0 | J22: =+J21+C22-F22+H22 -> 34 | K22: =+K21+D22-G22+I22 -> 680
B23: 41480 | D23: =+C23*20 -> 0 | E23: 5274 | F23: 1 | G23: =+F23*20 -> 20 | I23: =+H23*20 -> 0 | J23: =+J22+C23-F23+H23 -> 33 | K23: =+K22+D23-G23+I23 -> 660
B24: 41481 | D24: =+C24*20 -> 0 | E24: 5275 | F24: 3 | G24: =+F24*20 -> 60 | I24: =+H24*20 -> 0 | J24: =+J23+C24-F24+H24 -> 30 | K24: =+K23+D24-G24+I24 -> 600
B25: 41486 | D25: =+C25*20 -> 0 | E25: 5277 | F25: 2 | G25: =+F25*20 -> 40 | I25: =+H25*20 -> 0 | J25: =+J24+C25-F25+H25 -> 28 | K25: =+K24+D25-G25+I25 -> 560
B26: 41488 | D26: =+C26*20 -> 0 | E26: 5279 | F26: 4 | G26: =+F26*20 -> 80 | I26: =+H26*20 -> 0 | J26: =+J25+C26-F26+H26 -> 24 | K26: =+K25+D26-G26+I26 -> 480
B27: 41491 | D27: =+C27*20 -> 0 | E27: 5280 | F27: 4 | G27: =+F27*20 -> 80 | I27: =+H27*20 -> 0 | J27: =+J26+C27-F27+H27 -> 20 | K27: =+K26+D27-G27+I27 -> 400
B28: 41519 | D28: =+C28*20 -> 0 | E28: 5283 | F28: 3 | G28: =+F28*20 -> 60 | I28: =+H28*20 -> 0 | J28: =+J27+C28-F28+H28 -> 17 | K28: =+K27+D28-G28+I28 -> 340
B29: 41521 | C29: 50 | D29: =+C29*20 -> 1000 | G29: =+F29*20 -> 0 | I29: =+H29*20 -> 0 | J29: =+J28+C29-F29+H29 -> 67 | K29: =+K28+D29-G29+I29 -> 1340
B30: 41527 | D30: =+C30*20 -> 0 | E30: 5290 | G30: =+F30*20 -> 0 | H30: 7 | I30: =+H30*20 -> 140 | J30: =+J29+C30-F30+H30 -> 74 | K30: =+K29+D30-G30+I30 -> 1480
B31: 41529 | D31: =+C31*20 -> 0 | E31: 5293 | F31: 4 | G31: =+F31*20 -> 80 | I31: =+H31*20 -> 0 | J31: =+J30+C31-F31+H31 -> 70 | K31: =+K30+D31-G31+I31 -> 1400
B32: 41533 | D32: =+C32*20 -> 0 | E32: 5295 | F32: 1 | G32: =+F32*20 -> 20 | I32: =+H32*20 -> 0 | J32: =+J31+C32-F32+H32 -> 69 | K32: =+K31+D32-G32+I32 -> 1380
D33: =+C33*20 -> 0 | G33: =+F33*20 -> 0 | I33: =+H33*20 -> 0 | J33: =+J32+C33-F33+H33 -> 69 | K33: =+K32+D33-G33+I33 -> 1380
D34: =+C34*20 -> 0 | G34: =+F34*20 -> 0 | I34: =+H34*20 -> 0 | J34: =+J33+C34-F34+H34 -> 69 | K34: =+K33+D34-G34+I34 -> 1380
D35: =+C35*20 -> 0 | G35: =+F35*20 -> 0 | I35: =+H35*20 -> 0 | J35: =+J34+C35-F35+H35 -> 69 | K35: =+K34+D35-G35+I35 -> 1380
D36: =+C36*20 -> 0 | G36: =+F36*20 -> 0 | I36: =+H36*20 -> 0 | J36: =+J35+C36-F36+H36 -> 69 | K36: =+K35+D36-G36+I36 -> 1380
D37: =+C37*20 -> 0 | G37: =+F37*20 -> 0 | I37: =+H37*20 -> 0 | J37: =+J36+C37-F37+H37 -> 69 | K37: =+K36+D37-G37+I37 -> 1380
D38: =+C38*20 -> 0 | G38: =+F38*20 -> 0 | I38: =+H38*20 -> 0 | J38: =+J37+C38-F38+H38 -> 69 | K38: =+K37+D38-G38+I38 -> 1380
D39: =+C39*20 -> 0 | G39: =+F39*20 -> 0 | I39: =+H39*20 -> 0 | J39: =+J38+C39-F39+H39 -> 69 | K39: =+K38+D39-G39+I39 -> 1380
D40: =+C40*20 -> 0 | G40: =+F40*20 -> 0 | I40: =+H40*20 -> 0 | J40: =+J39+C40-F40+H40 -> 69 | K40: =+K39+D40-G40+I40 -> 1380
D41: =+C41*20 -> 0 | G41: =+F41*20 -> 0 | I41: =+H41*20 -> 0 | J41: =+J40+C41-F41+H41 -> 69 | K41: =+K40+D41-G41+I41 -> 1380
D42: =+C42*20 -> 0 | G42: =+F42*20 -> 0 | I42: =+H42*20 -> 0 | J42: =+J41+C42-F42+H42 -> 69 | K42: =+K41+D42-G42+I42 -> 1380
...

Sheet F,10 Gris
B1: FICH DE STOCK
B3: INTITULE | C3: Gris 4
B4: CODE | C4: FF160/711/4C
B6: ENTRE | E6: N°.B.B | F6: SORTIE | H6: RETOUR | J6: STOCK
B7: Date | C7: Q / Carton | D7: Quan / kg | F7: Q / Carton | G7: Quan / kg | H7: Q / Carton | I7: Quan / kg | J7: Q / Carton | K7: Quan / kg
B8: 41274 | C8: 8 | D8: =+C8*20 -> 160 | E8: STOCK,1 | G8: =+F8*20 -> 0 | I8: =+H8*20 -> 0 | J8: =+C8-F8+H8 -> 8 | K8: =+D8-G8+I8 -> 160
B9: 41355 | D9: =+C9*20 -> 0 | E9: 4948 | F9: 1 | G9: =+F9*20 -> 20 | I9: =+H9*20 -> 0 | J9: =+J8+C9-F9+H9 -> 7 | K9: =+K8+D9-G9+I9 -> 140
B10: 41383 | D10: =+C10*20 -> 0 | E10: 4418 | F10: 3 | G10: =+F10*20 -> 60 | I10: =+H10*20 -> 0 | J10: =+J9+C10-F10+H10 -> 4 | K10: =+K9+D10-G10+I10 -> 80
B11: 41417 | D11: =+C11*20 -> 0 | E11: 4440 | F11: 1 | G11: =+F11*20 -> 20 | I11: =+H11*20 -> 0 | J11: =+J10+C11-F11+H11 -> 3 | K11: =+K10+D11-G11+I11 -> 60
B12: 41425 | D12: =+C12*20 -> 0 | G12: =+F12*20 -> 0 | H12: 2 | I12: =+H12*20 -> 40 | J12: =+J11+C12-F12+H12 -> 5 | K12: =+K11+D12-G12+I12 -> 100
B13: 41472 | D13: =+C13*20 -> 0 | G13: =+F13*20 -> 0 | H13: 2 | I13: =+H13*20 -> 40 | J13: =+J12+C13-F13+H13 -> 7 | K13: =+K12+D13-G13+I13 -> 140
B14: 41479 | D14: =+C14*20 -> 0 | E14: 5272 | F14: 1 | G14: =+F14*20 -> 20 | I14: =+H14*20 -> 0 | J14: =+J13+C14-F14+H14 -> 6 | K14: =+K13+D14-G14+I14 -> 120
B15: 41527 | D15: =+C15*20 -> 0 | E15: 5290 | G15: =+F15*20 -> 0 | H15: 1 | I15: =+H15*20 -> 20 | J15: =+J14+C15-F15+H15 -> 7 | K15: =+K14+D15-G15+I15 -> 140
D16: =+C16*20 -> 0 | G16: =+F16*20 -> 0 | I16: =+H16*20 -> 0 | J16: =+J15+C16-F16+H16 -> 7 | K16: =+K15+D16-G16+I16 -> 140
D17: =+C17*20 -> 0 | G17: =+F17*20 -> 0 | I17: =+H17*20 -> 0 | J17: =+J16+C17-F17+H17 -> 7 | K17: =+K16+D17-G17+I17 -> 140
D18: =+C18*20 -> 0 | G18: =+F18*20 -> 0 | I18: =+H18*20 -> 0 | J18: =+J17+C18-F18+H18 -> 7 | K18: =+K17+D18-G18+I18 -> 140
D19: =+C19*20 -> 0 | G19: =+F19*20 -> 0 | I19: =+H19*20 -> 0 | J19: =+J18+C19-F19+H19 -> 7 | K19: =+K18+D19-G19+I19 -> 140
D20: =+C20*20 -> 0 | G20: =+F20*20 -> 0 | I20: =+H20*20 -> 0 | J20: =+J19+C20-F20+H20 -> 7 | K20: =+K19+D20-G20+I20 -> 140
D21: =+C21*20 -> 0 | G21: =+F21*20 -> 0 | I21: =+H21*20 -> 0 | J21: =+J20+C21-F21+H21 -> 7 | K21: =+K20+D21-G21+I21 -> 140
D22: =+C22*20 -> 0 | G22: =+F22*20 -> 0 | I22: =+H22*20 -> 0 | J22: =+J21+C22-F22+H22 -> 7 | K22: =+K21+D22-G22+I22 -> 140
D23: =+C23*20 -> 0 | G23: =+F23*20 -> 0 | I23: =+H23*20 -> 0 | J23: =+J22+C23-F23+H23 -> 7 | K23: =+K22+D23-G23+I23 -> 140
D24: =+C24*20 -> 0 | G24: =+F24*20 -> 0 | I24: =+H24*20 -> 0 | J24: =+J23+C24-F24+H24 -> 7 | K24: =+K23+D24-G24+I24 -> 140
D25: =+C25*20 -> 0 | G25: =+F25*20 -> 0 | I25: =+H25*20 -> 0 | J25: =+J24+C25-F25+H25 -> 7 | K25: =+K24+D25-G25+I25 -> 140
D26: =+C26*20 -> 0 | G26: =+F26*20 -> 0 | I26: =+H26*20 -> 0 | J26: =+J25+C26-F26+H26 -> 7 | K26: =+K25+D26-G26+I26 -> 140
D27: =+C27*20 -> 0 | G27: =+F27*20 -> 0 | I27: =+H27*20 -> 0 | J27: =+J26+C27-F27+H27 -> 7 | K27: =+K26+D27-G27+I27 -> 140
... D199: =+C199*20 -> 0 | G199: =+F199*20 -> 0 | I199: =+H199*20 -> 0 | J199: =+J198+C199-F199+H199 -> 7 | K199: =+K198+D199-G199+I199 -> 140
B200: TOTAL | C200: =SUM(C9:C199) -> 0 | D200: =SUM(D9:D199) -> 0 | E200: N°.B.B | F200: =SUM(F9:F199) -> 6 | G200: =SUM(G9:G199) -> 120 | H200: =SUM(H9:H199) -> 5 | I200: =SUM(I9:I199) -> 100 | J200: =+C200-F200+H200+C8 -> 7 | K200: =+D200-G200+I200+D8 -> 140

Sheet Saboune
B1: FICH DE STOCK
B3: INTITULE | C3: Novaphos,F687
B4: CODE | C4: اسيد
B6: ENTRE | E6: N°.B.B | F6: SORTIE | H6: RETOUR | J6: STOCK
B7: Date | C7: Q / Carton | D7: Quan / kg | F7: Q / Carton | G7: Quan / kg | H7: Q / Carton | I7: Quan / kg | J7: Q / Carton | K7: Quan / kg
B8: 41358 | C8: 5 | D8: =+C8*1000 -> 5000 | E8: STOCK,1 | J8: =+C8-F8+H8 -> 5 | K8: =+D8-G8+I8 -> 5000
J9: =+J8+C9-F9+H9 -> 5 | K9: =+K8+D9-G9+I9 -> 5000
J10: =+J9+C10-F10+H10 -> 5 | K10: =+K9+D10-G10+I10 -> 5000
J11: =+J10+C11-F11+H11 -> 5 | K11: =+K10+D11-G11+I11 -> 5000
J12: =+J11+C12-F12+H12 -> 5 | K12: =+K11+D12-G12+I12 -> 5000
J13: =+J12+C13-F13+H13 -> 5 | K13: =+K12+D13-G13+I13 -> 5000
J14: =+J13+C14-F14+H14 -> 5 | K14: =+K13+D14-G14+I14 -> 5000
J15: =+J14+C15-F15+H15 -> 5 | K15: =+K14+D15-G15+I15 -> 5000
J16: =+J15+C16-F16+H16 -> 5 | K16: =+K15+D16-G16+I16 -> 5000
J17: =+J16+C17-F17+H17 -> 5 | K17: =+K16+D17-G17+I17 -> 5000
J18: =+J17+C18-F18+H18 -> 5 | K18: =+K17+D18-G18+I18 -> 5000
J19: =+J18+C19-F19+H19 -> 5 | K19: =+K18+D19-G19+I19 -> 5000
J20: =+J19+C20-F20+H20 -> 5 | K20: =+K19+D20-G20+I20 -> 5000
... J199: =+J198+C199-F199+H199 -> 5 | K199: =+K198+D199-G199+I199 -> 5000
B200: TOTAL | C200: =SUM(C9:C199) -> 0 | D200: =SUM(D9:D199) -> 0 | E200: N°.B.B | F200: =SUM(F9:F199) -> 0 | G200: =SUM(G9:G199) -> 0 | H200: =SUM(H9:H199) -> 0 | I200: =SUM(I9:I199) -> 0 | J200: =+C200-F200+H200+C8 -> 5 | K200: =+D200-G200+I200+D8 -> 5000

Sheet Asude,CA
B1: FICH DE STOCK
B3: INTITULE | C3: Synegic,CA
B4: CODE | C4: صا بون
B6: ENTRE | E6: N°.B.B | F6: SORTIE | H6: RETOUR | J6: STOCK
B7: Date | C7: Q / Carton | D7: Quan / kg | F7: Q / Carton | G7: Quan / kg | H7: Q / Carton | I7: Quan / kg | J7: Q / Carton | K7: Quan / kg
B8: 41358 | C8: 2 | D8: =+C8*1000 -> 2000 | E8: STOCK,1 | J8: =+C8-F8+H8 -> 2 | K8: =+D8-G8+I8 -> 2000
J9: =+J8+C9-F9+H9 -> 2 | K9: =+K8+D9-G9+I9 -> 2000
J10: =+J9+C10-F10+H10 -> 2 | K10: =+K9+D10-G10+I10 -> 2000
J11: =+J10+C11-F11+H11 -> 2 | K11: =+K10+D11-G11+I11 -> 2000
J12: =+J11+C12-F12+H12 -> 2 | K12: =+K11+D12-G12+I12 -> 2000
J13: =+J12+C13-F13+H13 -> 2 | K13: =+K12+D13-G13+I13 -> 2000
J14: =+J13+C14-F14+H14 -> 2 | K14: =+K13+D14-G14+I14 -> 2000
J15: =+J14+C15-F15+H15 -> 2 | K15: =+K14+D15-G15+I15 -> 2000
J16: =+J15+C16-F16+H16 -> 2 | K16: =+K15+D16-G16+I16 -> 2000
J17: =+J16+C17-F17+H17 -> 2 | K17: =+K16+D17-G17+I17 -> 2000
J18: =+J17+C18-F18+H18 -> 2 | K18: =+K17+D18-G18+I18 -> 2000
J19: =+J18+C19-F19+H19 -> 2 | K19: =+K18+D19-G19+I19 -> 2000
J20: =+J19+C20-F20+H20 -> 2 | K20: =+K19+D20-G20+I20 -> 2000
... J199: =+J198+C199-F199+H199 -> 2 | K199: =+K198+D199-G199+I199 -> 2000
B200: TOTAL | C200: =SUM(C9:C199) -> 0 | D200: =SUM(D9:D199) -> 0 | E200: N°.B.B | F200: =SUM(F9:F199) -> 0 | G200: =SUM(G9:G199) -> 0 | H200: =SUM(H9:H199) -> 0 | I200: =SUM(I9:I199) -> 0 | J200: =+C200-F200+H200+C8 -> 2 | K200: =+D200-G200+I200+D8 -> 2000
