Workbook

Sheet Synthèse
B2: Temps supplémentaire rémunéré
B3: =ts!Y7 -> 41510
D4: RÉEL | J4: Total annuel
D5: Réel au: | E5: Réel au: | F5: Différenciel | G5: % Différenciel | J5: Réel | K5: Réel et projection | L5: Différenciel | M5: % Différenciel
B6: Divisions | C6: Sous-sections | D6: =+B3-365 -> 41145 | E6: =+B3 -> 41510 | F6: 2013 vs 2012 | G6: 2013 vs 2012 | J6: Global 2012 | K6: Global 2013 | L6: 2013 vs 2012 | M6: 2013 vs 2012
B7: Gendarmerie | C7: Totaux | D7: =ts!X11+ts!X47 -> 289480.19 | E7: =ts!Y11+ts!Y47 -> 314972.69 | F7: =+E7-D7 -> 25492.5 | G7: =+F7/D7 -> 0.088063021 | I7: =+G7 -> 0.088063021 | J7: =ts!U11+ts!V47 -> 654417.41 | K7: =ts!AC11 -> 677133.88 | L7: =+K7-J7 -> 22716.469 | M7: =+L7/J7 -> 0.034712508 | N7: =-M7 -> -0.034712508
B9: Enquètes criminelles | C9: D.E.C. | D9: =ts!X9+ts!X23+ts!X45 -> 300596.97 | E9: =ts!Y9+ts!Y23+ts!Y45 -> 341924.18 | F9: =+E9-D9 -> 41327.208 | G9: =+F9/D9 -> 0.13748378 | I9: =G9 -> 0.13748378 | J9: =ts!U9+ts!U23+ts!V45 -> 573792.67 | K9: =ts!AC9+ts!AE45+ts!AE23 -> 585577.23 | L9: =+K9-J9 -> 11784.561 | M9: =+L9/J9 -> 0.020538012 | N9: =-M9 -> -0.020538012
C10: Cours | D10: =ts!X20+ts!X21+ts!X22+ts!X58 -> 161432.59 | E10: =ts!Y20+ts!Y21+ts!Y22+ts!Y58 -> 202405.99 | F10: =+E10-D10 -> 40973.4 | G10: =+F10/D10 -> 0.2538112 | I10: =-G10 -> -0.2538112 | J10: =ts!U20+ts!U21+ts!U22+ts!V58 -> 277518.79 | K10: =ts!AC20+ts!AC21+ts!AC22 -> 346777.72 | L10: =+K10-J10 -> 69258.928 | M10: =+L10/J10 -> 0.24956482 | N10: =-M10 -> -0.24956482
C11: Totaux | D11: =+D10+D9 -> 462029.56 | E11: =+E10+E9 -> 544330.17 | F11: =+F10+F9 -> 82300.608 | G11: =+F11/D11 -> 0.17812845 | I11: =-G11 -> -0.17812845 | J11: =+J10+J9 -> 851311.46 | K11: =+K10+K9 -> 932354.95 | L11: =+L10+L9 -> 81043.489 | M11: =+L11/J11 -> 0.0951984 | N11: =-M11 -> -0.0951984
B13: Soutien opérationnel | C13: Totaux | D13: =ts!X10+ts!X13+ts!X14+ts!X18+ts!X19+ts!X24+ts!X57+ts!X56 -> 387125.5 | E13: =ts!Y10+ts!Y13+ts!Y14+ts!Y18+ts!Y19+ts!Y24+ts!Y57+ts!Y56 -> 68310.904 | F13: =+E13-D13 -> -318814.6 | G13: =+F13/D13 -> -0.82354326 | I13: =-G13 -> 0.82354326 | J13: =ts!U10+ts!U13+ts!U14+ts!U18+ts!U19+ts!U24+ts!V57+ts!V56 -> 457091.39 | K13: =ts!AC10+ts!AE13+ts!AE14+ts!AE18+ts!AE19+ts!AE24 -> 145184.55 | L13: =+K13-J13 -> -311906.84 | M13: =+L13/J13 -> -0.68237304 | N13: =-M13 -> 0.68237304
B15: Développement | C15: Ressources hum. | D15: =ts!X17 -> 111514.83 | E15: =ts!Y17 -> 185355.32 | F15: =+E15-D15 -> 73840.491 | G15: =+F15/D15 -> 0.66215849 | I15: =-G15 -> -0.66215849 | J15: =ts!U17 -> 199777.69 | K15: =ts!AC17 -> 250000 | L15: =+K15-J15 -> 50222.31 | M15: =+L15/J15 -> 0.25139098 | N15: =-M15 -> -0.25139098
C16: C.A.U. | D16: =ts!X48+ts!X49 -> 85027.34 | E16: =ts!Y48+ts!Y49 -> 53112.28 | F16: =+E16-D16 -> -31915.06 | G16: =+F16/D16 -> -0.37535056 | I16: =-G16 -> 0.37535056 | J16: =ts!V48+ts!V49 -> 133513.26 | K16: =ts!AC48+ts!AC49 -> 86041.324 | L16: =+K16-J16 -> -47471.936 | M16: =+L16/J16 -> -0.35555971 | N16: =-M16 -> 0.35555971
C17: Soutien | D17: =ts!X15+ts!X44+ts!X50+ts!X51+ts!X8 -> 13370.38 | E17: =ts!Y15+ts!Y44+ts!Y50+ts!Y51+ts!Y8 -> 14744.994 | F17: =+E17-D17 -> 1374.614 | G17: =+F17/D17 -> 0.10281039 | I17: =-G17 -> -0.10281039 | J17: =ts!U15+ts!V44+ts!V50+ts!V51+ts!U8+ts!V52 -> 17318.43 | K17: =ts!AE8+ts!AE15+ts!AC51+ts!AE52+ts!AE44 -> 21704.399 | L17: =+K17-J17 -> 4385.9689 | M17: =+L17/J17 -> 0.25325442 | N17: =-M17 -> -0.25325442
C18: Dev. et Recherches | D18: =ts!X55 -> 0 | E18: =ts!Y55 -> 32.05 | F18: =+E18-D18 -> 32.05 | G18: 1 | I18: =-G18 -> -1 | J18: =ts!V55 -> 0 | K18: =ts!AE55 -> 49.568856 | L18: =+K18-J18 -> 49.568856 | M18: 1 | N18: =-M18 -> -1
C19: Plan | D19: =ts!X16 -> 85599.84 | E19: =ts!Y16 -> 128589.74 | F19: =+E19-D19 -> 42989.9 | G19: =+F19/D19 -> 0.5022194 | I19: =-G19 -> -0.5022194 | J19: =ts!U16 -> 127168.21 | K19: =ts!AC16 -> 238009.15 | L19: =+K19-J19 -> 110840.94 | M19: =+L19/J19 -> 0.87160888 | N19: =-M19 -> -0.87160888
D20: =SUM(D15:D19) -> 295512.39 | E20: =SUM(E15:E19) -> 381834.39 | F20: =SUM(F14:F19) -> 86321.995 | G20: =+F20/D20 -> 0.29210956 | I20: =-G20 -> -0.29210956 | J20: =SUM(J15:J19) -> 477777.59 | K20: =SUM(K15:K19) -> 595804.44 | L20: =SUM(L14:L19) -> 118026.85 | M20: =+L20/J20 -> 0.24703305 | N20: =-M20 -> -0.24703305
B22: POLICE | C22: Totaux | D22: =+D7+D11+D13+D20 -> 1434147.6 | E22: =+E7+E11+E13+E20 -> 1309448.1 | F22: =+F7+F11+F13+F20 -> -124699.49 | G22: =+F22/D22 -> -0.086950248 | I22: =-G22 -> 0.086950248 | J22: =+J7+J11+J13+J20 -> 2440597.9 | K22: =+K7+K11+K13+K20 -> 2350477.8 | L22: =+L7+L11+L13+L20 -> -90120.032 | M22: =+L22/J22 -> -0.036925392 | N22: =-M22 -> 0.036925392
B24: STATIONNEMENT | C24: Totaux | D24: ='ts stationnements'!W16 -> 15614.03 | E24: ='ts stationnements'!X16 -> 18605.23 | F24: =+E24-D24 -> 2991.2 | G24: =+F24/D24 -> 0.1915713 | I24: =-G24 -> -0.1915713 | J24: ='ts stationnements'!U16 -> 25062.99 | K24: ='ts stationnements'!AA19 -> 29990.133 | L24: =+K24-J24 -> 4927.1434 | M24: =+L24/J24 -> 0.19659041 | N24: =-M24 -> -0.19659041
E29: 2013 | F29: Budget, réel et projection | I29: Budget vs Réel
F30: POLICE | I30: =ts!W62-Synthèse!K22 -> 51792.182 | J30: =I30 -> 51792.182
F31: STATION. ( inclus animaux) | I31: ='ts stationnements'!V16-Synthèse!K24 -> 69.866556 | J31: =I31 -> 69.866556
I32: =+I31+I30 -> 51862.048
B49: Temps supplémentaire codes de raison (rémunéré et temps)
B50: =B3 -> 41510
D51: =D4 -> RÉEL
D52: Réel au: | E52: Réel au: | F52: Différenciel | G52: % Différenciel
B53: Divisions | C53: Sous-sections | D53: =+B50-365 -> 41145 | E53: =+B50 -> 41510 | F53: 2013 vs 2012 | G53: 2013 vs 2012
B54: Gendarmerie | C54: Totaux | D54: =GETPIVOTDATA("Somme de $ TRANS 2012",#REF!,"Division","Gendarmerie") -> #REF! | E54: =GETPIVOTDATA("Somme de $ TRANS 2013",#REF!,"Division","Gendarmerie") -> #REF! | F54: =+E54-D54 -> #REF! | G54: =+F54/D54 -> #REF! | I54: =-G54 -> #REF!
B56: Enquètes criminelles | C56: D.E.C. | D56: =GETPIVOTDATA("Somme de $ TRANS 2012",#REF!,"Division","B.E.C.")+GETPIVOTDATA("Somme de $ TRANS 2012",#REF!,"Division","Liaison") -> #REF! | E56: =GETPIVOTDATA("Somme de $ TRANS 2013",#REF!,"Division","B.E.C.")+GETPIVOTDATA("Somme de $ TRANS 2013",#REF!,"Division","Liaison") -> #REF! | F56: =+E56-D56 -> #REF! | G56: =+F56/D56 -> #REF! | I56: =-G56 -> #REF!
C57: Cours | D57: =GETPIVOTDATA("Somme de $ TRANS 2012",#REF!,"Division","cour") -> #REF! | E57: =GETPIVOTDATA("Somme de $ TRANS 2013",#REF!,"Division","cour") -> #REF! | F57: =+E57-D57 -> #REF! | G57: =+F57/D57 -> #REF! | I57: =-G57 -> #REF!
C58: Totaux | D58: =+D57+D56 -> #REF! | E58: =+E57+E56 -> #REF! | F58: =+F57+F56 -> #REF! | G58: =+F58/D58 -> #REF! | I58: =-G58 -> #REF!
B60: Soutien opérationnel | C60: Totaux | D60: =GETPIVOTDATA("Somme de $ TRANS 2012",#REF!,"Division","Circulation")+GETPIVOTDATA("Somme de $ TRANS 2012",#REF!,"Division","Communautaires") -> #REF! | E60: =GETPIVOTDATA("Somme de $ TRANS 2013",#REF!,"Division","Circulation")+GETPIVOTDATA("Somme de $ TRANS 2013",#REF!,"Division","Communautaires") -> #REF! | F60: =+E60-D60 -> #REF! | G60: =+F60/D60 -> #REF! | I60: =-G60 -> #REF!
B62: Développement | C62: Ressources hum. | D62: =GETPIVOTDATA("Somme de $ TRANS 2012",#REF!,"Division","Direction-rh") -> #REF! | E62: =GETPIVOTDATA("Somme de $ TRANS 2013",#REF!,"Division","Direction-rh") -> #REF! | F62: =+E62-D62 -> #REF! | G62: =+F62/D62 -> #REF! | I62: =-G62 -> #REF!
C63: C.A.U. | D63: =GETPIVOTDATA("Somme de $ TRANS 2012",#REF!,"Division","9-1-1") -> #REF! | E63: =GETPIVOTDATA("Somme de $ TRANS 2013",#REF!,"Division","9-1-1") -> #REF! | F63: =+E63-D63 -> #REF! | G63: =+F63/D63 -> #REF! | I63: =-G63 -> #REF!
C64: Soutien | D64: =GETPIVOTDATA("Somme de $ TRANS 2012",#REF!,"Division","Soutien")+GETPIVOTDATA("Somme de $ TRANS 2012",#REF!,"Division","Direction") -> #REF! | E64: =GETPIVOTDATA("Somme de $ TRANS 2013",#REF!,"Division","Soutien")+GETPIVOTDATA("Somme de $ TRANS 2013",#REF!,"Division","Direction") -> #REF! | F64: =+E64-D64 -> #REF! | G64: =+F64/D64 -> #REF! | I64: =-G64 -> #REF!
C65: Déonto | D65: =GETPIVOTDATA("Somme de $ TRANS 2012",#REF!,"Division","Direction-déonto") -> #REF! | E65: =GETPIVOTDATA("Somme de $ TRANS 2013",#REF!,"Division","Direction-déonto") -> #REF! | F65: =+E65-D65 -> #REF! | G65: =+F65/D65 -> #REF! | I65: =-G65 -> #REF!
C66: Dev. et Recherches | D66: =ts!X97 -> 0 | E66: =ts!Y97 -> 0 | F66: =+E66-D66 -> 0 | G66: 0 | I66: =-G66 -> 0
D67: =SUM(D62:D66) -> #REF! | E67: =SUM(E62:E66) -> #REF! | F67: =SUM(F61:F66) -> #REF! | G67: =+F67/D67 -> #REF! | I67: =-G67 -> #REF!
B69: Stationnement | C69: Totaux | D69: =GETPIVOTDATA("Somme de $ TRANS 2012",#REF!,"Division","Stationnements")+GETPIVOTDATA("Somme de $ TRANS 2012",#REF!,"Division","Contrôle animalier") -> #REF! | E69: =GETPIVOTDATA("Somme de $ TRANS 2013",#REF!,"Division","Stationnements")+GETPIVOTDATA("Somme de $ TRANS 2013",#REF!,"Division","Contrôle animalier") -> #REF! | F69: =+E69-D69 -> #REF! | G69: =+F69/D69 -> #REF! | I69: =-G69 -> #REF!
B71: TOTAUX | D71: =+D54+D58+D60+D67+D69 -> #REF! | E71: =+E54+E58+E60+E67+E69 -> #REF! | F71: =+F54+F58+F60+F67+F69 -> #REF! | G71: =+F71/D71 -> #REF! | I71: =-G71 -> #REF!

Sheet ts
A1: SERVICE DE POLICE | AP1: 41275 | AQ1: =+Y7-AP1+1 -> 236
A2: T.S. rémunéré - POLICE | AB2: Paiment banque | AC2: =287224.64*0.9 -> 258502.18
A3: 2007, 2008, 2009, 2010, 2011, 2012 et 2013 | AB3: 2013 | AC3: selon la
AC4: proportion 2012 | AD4: selon moyenne paye | AE4: selon une regle
A5: T.S. policiers ( permanents et temporaires) ( objets 121 et 141 ) | AC5: ( dép.sans ajust.) | AE5: de trois ( 3)
B6: POSTE | C6: OBJET | D6: Budget modifé | E6: Dépenses | F6: Dépenses | G6: + / - | I6: Budget | J6: 2007 vs 2006 | K6: Dépenses | L6: solde | M6: % d'util. | N6: 2008 vs 2007 | O6: Budgets | P6: Dépenses | Q6: Solde | R6: % d'util | S6: Dépenses | T6: Dépenses | U6: Dépenses | V6: Dépenses | W6: Budget modifié | X6: dépenses au: | Y6: dépenses au: | AA6: solde au : | AB6: % d'utilisation | AC6: prévisions | AE6: prévisions | AF6: Écart 2013 | AG6: Écart 2013 | AH6: Écart 2013
D7: =+F7 -> 2008 | E7: 2007 | F7: 2008 | G7: 2007 | I7: 2008 | K7: 2009 | L7: =+K7 -> 2009 | M7: du budget | O7: 2009 | P7: 2010 | Q7: 2009 | R7: 2009 | S7: 2011 | T7: 2011 ( sans ajust. 2011) | U7: 2012 | V7: 2012 sans ajustement | W7: 2013 | X7: 41145 | Y7: 41510 | AA7: =+Y7 -> 41510 | AB7: budget 2013 | AC7: 2013 | AE7: 2013 | AF7: budget vs prév. | AG7: =+AF7 -> budget vs prév. | AH7: =+AG7 -> budget vs prév. | AI7: virement à faire
A8: Direction | B8: 21100 | C8: 121 | D8: 1720 | E8: 1980.84 | F8: 9709.27 | G8: =+D8-F8 -> -7989.27 | I8: 9260 | J8: =+F8-E8 -> 7728.43 | K8: 812.79 | L8: =+I8-K8 -> 8447.21 | M8: =1-K8/I8 -> 0.9122257 | N8: =+K8-F8 -> -8896.48 | P8: 163.22 | Q8: =+O8-P8 -> -163.22 | U8: 1859.23 | V8: 1859.23 | W8: 7000 | X8: 1774.72 | Y8: 8105.46 | Z8: =(+Y8-X8)/X8 -> 3.5671768 | AA8: =+W8-Y8 -> -1105.46 | AB8: =+Y8/W8 -> 1.1579229 | AC8: =(Y8/X8*V8) -> 8491.4321 | AE8: =+Y8*365/$AQ$1 -> 12535.987 | AF8: =+W8-AE8 -> -5535.9869 | AG8: =+W8-AE8 -> -5535.9869 | AH8: =W8-AE8 -> -5535.9869 | AI8: -4800
A9: Enquetes | B9: 21200 | C9: 121 | D9: 425000 | E9: 442256.99 | F9: 582128.18 | G9: =+D9-F9 -> -157128.18 | I9: 532130 | J9: =+F9-E9 -> 139871.19 | K9: 473330 | L9: =+I9-K9 -> 58800 | M9: =1-K9/I9 -> 0.11049931 | N9: =+K9-F9 -> -108798.18 | O9: 425000 | P9: 389462 | Q9: =+O9-P9 -> 35538 | R9: =1-Q9/O9 -> 0.91638118 | S9: 526038.46 | T9: =+S9-66965.2 -> 459073.26 | U9: =517403.5 -> 517403.5 | V9: =517403.5-96393 -> 421010.5 | W9: 505000 | X9: =373326.34-96393 -> 276933.34 | Y9: =361639.96-71757.28*0.9 -> 297058.41 | Z9: =(+Y9-X9)/X9 -> 0.072671163 | AA9: =+W9-Y9 -> 207941.59 | AB9: =+Y9/W9 -> 0.58823447 | AC9: =(Y9/X9*V9)+71757.28*0.9 -> 516187.37 | AD9: =Y9/6*26 -> 1287253.1 | AE9: =+Y9*365/$AQ$1+(71757.28*0.9) -> 524015.11 | AF9: =+W9-AC9 -> -11187.375 | AG9: =+W9-AE9 -> -19015.107 | AH9: =W9-AC9 -> -11187.375 | AI9: 57000
A10: Communautaires | B10: 21300 | C10: 121 | D10: 36490 | E10: 35462.52 | F10: 36256.33 | G10: =+D10-F10 -> 233.67 | I10: 37980 | J10: =+F10-E10 -> 793.81 | K10: 46891.12 | L10: =+I10-K10 -> -8911.12 | M10: =1-K10/I10 -> -0.23462665 | N10: =+K10-F10 -> 10634.79 | O10: 36490 | P10: 36198 | Q10: =+O10-P10 -> 292 | R10: =1-Q10/O10 -> 0.99199781 | S10: 42332.48 | T10: =+S10-4622.8 -> 37709.68 | U10: =37230.53 -> 37230.53 | V10: =37230.53-6373.76 -> 30856.77 | W10: 40500 | X10: =19175.38-6373.76 -> 12801.62 | Y10: =17451.83-7284.7*0.9 -> 10895.6 | Z10: =(+Y10-X10)/X10 -> -0.14888897 | AA10: =+W10-Y10 -> 29604.4 | AB10: =+Y10/W10 -> 0.26902716 | AC10: =(Y10/X10*V10)+7284.7*0.9 -> 32818.767 | AD10: =Y10/6*26 -> 47214.267 | AE10: =+Y10*365/$AQ$1+7284.7*0.9 -> 23407.476 | AF10: =+W10-AC10 -> 7681.2327 | AG10: =+W10-AE10 -> 17092.524 | AH10: =W10-AC10 -> 7681.2327 | AI10: -7200
A11: Gendarmerie | B11: 21400 | C11: 121 | D11: 606780 | E11: 700126.31 | F11: 729597.05 | G11: =+D11-F11 -> -122817.05 | I11: 639370 | J11: =+F11-E11 -> 29470.74 | K11: 739852 | L11: =+I11-K11 -> -100482 | M11: =1-K11/I11 -> -0.15715783 | N11: =+K11-F11 -> 10254.95 | O11: =606780+10000 -> 616780 | P11: 518351 | Q11: =+O11-P11 -> 98429 | R11: =1-Q11/O11 -> 0.84041473 | S11: 620211.81 | T11: =+S11-86682.7 -> 533529.11 | U11: =654410.83 -> 654410.83 | V11: =654410.83-143592 -> 510818.83 | W11: 631050 | X11: =433072.19-143592 -> 289480.19 | Y11: =436303.49-134812*0.9 -> 314972.69 | Z11: =(+Y11-X11)/X11 -> 0.088063021 | AA11: =+W11-Y11 -> 316077.31 | AB11: =+Y11/W11 -> 0.49912478 | AC11: =(Y11/X11*V11)+134812*0.9 -> 677133.88 | AD11: =Y11/6*26 -> 1364881.7 | AE11: =+Y11*365/$AQ$1+134812*0.9 -> 608470.77 | AF11: =+W11-AC11 -> -46083.879 | AG11: =+W11-AE11 -> 22579.235 | AH11: =W11-AC11 -> -46083.879 | AI11: -176700
B12: 21400 | C12: 141 | W12: 2000 | X12: 0 | Y12: 0 | Z12: =(+Y12-X12)/X12 -> #DIV/0! | AG12: =+W12-AE12 -> 2000 | AH12: =W12-AC12 -> 2000
A13: Motard | B13: 21420 | C13: 121 | D13: 16000 | E13: 4610.01 | F13: 2082.52 | G13: =+D13-F13 -> 13917.48 | I13: 4110 | J13: =+F13-E13 -> -2527.49 | K13: 4515.43 | L13: =+I13-K13 -> -405.43 | M13: =1-K13/I13 -> -0.098644769 | N13: =+K13-F13 -> 2432.91 | O13: 16000 | P13: 16884 | Q13: =+O13-P13 -> -884 | R13: =1-Q13/O13 -> 1.05525 | S13: 12546.16 | T13: =+S13-2626.89 -> 9919.27 | U13: =13054.19 -> 13054.19 | V13: =13054.19 -> 13054.19 | W13: 18980 | X13: =7495.87-1242.47 -> 6253.4 | Y13: =8098.96-547.44*0.9 -> 7606.264 | Z13: =(+Y13-X13)/X13 -> 0.21634055 | AA13: =+W13-Y13 -> 11373.736 | AB13: =+Y13/W13 -> 0.40075153 | AC13: =(Y13/X13*T13)+547.44*0.9 -> 12557.906 | AD13: =Y13/6*26 -> 32960.477 | AE13: 18980 | AF13: =+W13-AC13 -> 6422.0937 | AG13: =+W13-AE13 -> 0 | AH13: =W13-AE13 -> 0 | AI13: -9400
A14: Circulation | B14: 21421 | C14: 121 | F14: 4060 | I14: 12000 | J14: =+F14-E14 -> 4060 | K14: 16787.5 | L14: =+I14-K14 -> -4787.5 | M14: =1-K14/I14 -> -0.39895833 | N14: =+K14-F14 -> 12727.5 | O14: 25000 | P14: 27980 | Q14: =+O14-P14 -> -2980 | R14: =1-Q14/O14 -> 1.1192 | S14: 58485.47 | T14: =+S14-24650.24 -> 33835.23 | U14: =38451.53 -> 38451.53 | V14: =38451.53-8300 -> 30151.53 | W14: 29660 | X14: =30671.74-8300 -> 22371.74 | Y14: =27450.37-10476.97*0.9 -> 18021.097 | Z14: =(+Y14-X14)/X14 -> -0.19447048 | AA14: =+W14-Y14 -> 11638.903 | AB14: =+Y14/W14 -> 0.60758924 | AC14: =(Y14/X14*T14)+10476.97*0.9 -> 36684.55 | AD14: =Y14/6*26 -> 78091.42 | AE14: =W14 -> 29660 | AF14: =+W14-AC14 -> -7024.5496 | AG14: =+W14-AE14 -> 0 | AH14: =W14-AE14 -> 0 | AI14: 3500
A15: Soutien | B15: 21600 | C15: 121 | D15: 305630 | E15: 271988.07 | F15: 276906.57 | G15: =+D15-F15 -> 28723.43 | I15: 228750 | J15: =+F15-E15 -> 4918.5 | K15: 119466.01 | L15: =+I15-K15 -> 109283.99 | M15: =1-K15/I15 -> 0.47774422 | N15: =+K15-F15 -> -157440.56 | O15: 178310 | P15: 151196 | Q15: =+O15-P15 -> 27114 | R15: =1-Q15/O15 -> 0.84793898 | U15: =7407.19 -> 7407.19 | V15: =7407.19 -> 7407.19 | W15: 2750 | X15: 4540.26 | Y15: =2375.8-968.94*0.9 -> 1503.754 | Z15: =(+Y15-X15)/X15 -> -0.66879562 | AA15: =+W15-Y15 -> 1246.246 | AB15: =+Y15/W15 -> 0.54681964 | AC15: =(Y15/X15*T15)+968.94*0.9 -> 872.046 | AD15: =Y15/6*26 -> 6516.2673 | AE15: =+Y15*365/$AQ$1+969.94*0.9 -> 3198.6672 | AF15: =+W15-AC15 -> 1877.954 | AG15: =+W15-AE15 -> -448.66723 | AH15: =W15-AE15 -> -448.66723 | AI15: 500
A16: Plan d'effectifs policiers | B16: 21602 | C16: 121 | P16: 19606 | S16: 72305.8 | T16: =+S16-7738.49 -> 64567.31 | U16: =127168.21 -> 127168.21 | V16: =127168.21 -> 127168.21 | W16: 339950 | X16: 85599.84 | Y16: =175564.34-52194*0.9 -> 128589.74 | Z16: =(+Y16-X16)/X16 -> 0.5022194 | AA16: =+W16-Y16 -> 211360.26 | AB16: =+Y16/W16 -> 0.37826074 | AC16: =(Y16/X16*V16)+52194*0.9 -> 238009.15 | AD16: =Y16/6*26 -> 557222.21 | AE16: =+Y16*365/$AQ$1+52194*0.9 -> 245852.8 | AF16: =+W16-AC16 -> 101940.85 | AG16: =+W16-AE16 -> 94097.2 | AH16: =W16-AC16 -> 101940.85 | AI16: -165400
A17: Ressources humaines | B17: 21603 | C17: 121 | K17: 142000 | S17: 127249.33 | T17: =+S17-1119.6 -> 126129.73 | U17: 199777.69 | V17: 199777.69 | W17: 200000 | X17: 111514.83 | Y17: =190011.39-5173.41*0.9 -> 185355.32 | Z17: =(+Y17-X17)/X17 -> 0.66215849 | AA17: =+W17-Y17 -> 14644.679 | AB17: =+Y17/W17 -> 0.92677661 | AC17: 250000 | AE17: =+Y17*365/$AQ$1+5173.41*0.9 -> 291328.49 | AF17: =+W17-AC17 -> -50000 | AG17: =+W17-AE17 -> -91328.493 | AH17: =W17-AC17 -> -50000 | AI17: 5000
A18: Évenements spéciaux | B18: 21610 | C18: 121 | D18: 23910 | E18: 112781.43 | F18: 17736.65 | G18: =+D18-F18 -> 6173.35 | I18: 24750 | J18: =+F18-E18 -> -95044.78 | K18: 29496 | L18: =+I18-K18 -> -4746 | M18: =1-K18/I18 -> -0.19175758 | N18: =+K18-F18 -> 11759.35 | O18: 23910 | P18: 45080 | Q18: =+O18-P18 -> -21170 | R18: =1-Q18/O18 -> 1.8854036 | S18: 20697.17 | T18: =+S18 -> 20697.17 | U18: 274596.74 | V18: 274596.74 | W18: 29000 | X18: 283417.9 | Y18: 9335.11 | Z18: =(+Y18-X18)/X18 -> -0.96706238 | AA18: =+W18-Y18 -> 19664.89 | AB18: =+Y18/W18 -> 0.32190034 | AC18: =(Y18/X18*T18)+5173.41*0.9 -> 5337.7844 | AD18: =Y18/6*26 -> 40452.143 | AE18: 29000 | AF18: =+W18-AC18 -> 23662.216 | AG18: =+W18-AE18 -> 0 | AH18: =W18-AE18 -> 0 | AI18: =387000-12600 -> 374400
A19: Contrôle de foule | B19: 21611 | C19: 121 | D19: 71460 | E19: 27274.64 | F19: 463.62 | G19: =+D19-F19 -> 70996.38 | I19: 25000 | J19: =+F19-E19 -> -26811.02 | K19: 6625.15 | L19: =+I19-K19 -> 18374.85 | M19: =1-K19/I19 -> 0.734994 | N19: =+K19-F19 -> 6161.53 | O19: 71460 | P19: 30979 | Q19: =+O19-P19 -> 40481 | R19: =1-Q19/O19 -> 0.43351525 | S19: 12629.46 | T19: =+S19 -> 12629.46 | U19: 80899.67 | V19: 80899.67 | W19: 78290 | X19: 60673.24 | Y19: 10336.66 | Z19: =(+Y19-X19)/X19 -> -0.82963395 | AA19: =+W19-Y19 -> 67953.34 | AB19: =+Y19/W19 -> 0.1320304 | AD19: =Y19/6*26 -> 44792.193 | AE19: =+Y19*365/$AQ$1 -> 15986.783 | AF19: =+W19-AC19 -> 78290 | AG19: =+W19-AE19 -> 62303.217 | AH19: =W19-AE19 -> 62303.217 | AI19: 5300
A20: Cour municipale | B20: 21620 | C20: 121 | D20: 70290 | E20: 89795.83 | F20: 104611.78 | G20: =+D20-F20 -> -34321.78 | I20: 75050 | J20: =+F20-E20 -> 14815.95 | K20: 110173.26 | L20: =+I20-K20 -> -35123.26 | M20: =1-K20/I20 -> -0.46799813 | N20: =+K20-F20 -> 5561.48 | O20: 70290 | P20: 101399 | Q20: =+O20-P20 -> -31109 | R20: =1-Q20/O20 -> 1.4425807 | S20: 100302.16 | T20: =+S20 -> 100302.16 | U20: 74791.86 | V20: 74791.86 | W20: 78560 | X20: 44839 | Y20: 54201.81 | Z20: =(+Y20-X20)/X20 -> 0.20880952 | AA20: =+W20-Y20 -> 24358.19 | AB20: =+Y20/W20 -> 0.68994157 | AC20: =(Y20/X20*V20) -> 90409.112 | AD20: =Y20/6*26 -> 234874.51 | AE20: =+Y20*365/$AQ$1 -> 83829.071 | AF20: =+W20-AC20 -> -11849.112 | AG20: =+W20-AE20 -> -5269.0706 | AH20: =W20-AC20 -> -11849.112 | AI20: -2300
A21: Cour provinciale | B21: 21621 | C21: 121 | D21: 200000 | E21: 239471.39 | F21: 194532.56 | G21: =+D21-F21 -> 5467.44 | I21: 209470 | J21: =+F21-E21 -> -44938.83 | K21: 266547.88 | L21: =+I21-K21 -> -57077.88 | M21: =1-K21/I21 -> -0.27248713 | N21: =+K21-F21 -> 72015.32 | O21: 200000 | P21: 300155 | Q21: =+O21-P21 -> -100155 | R21: =1-Q21/O21 -> 1.500775 | S21: 231757.46 | T21: =+S21 -> 231757.46 | U21: 187162.66 | V21: 187162.66 | W21: 200550 | X21: 109631.52 | Y21: 142553.75 | Z21: =(+Y21-X21)/X21 -> 0.30029895 | AA21: =+W21-Y21 -> 57996.25 | AB21: =+Y21/W21 -> 0.71081401 | AC21: =(Y21/X21*V21) -> 243367.41 | AD21: =Y21/6*26 -> 617732.92 | AE21: =+Y21*365/$AQ$1 -> 220475.08 | AF21: =+W21-AC21 -> -42817.41 | AG21: =+W21-AE21 -> -19925.079 | AH21: =W21-AC21 -> -42817.41 | AI21: -60000
A22: Autres cours | B22: 21622 | C22: 121 | D22: 15000 | E22: 10922.09 | F22: 14627.09 | G22: =+D22-F22 -> 372.91 | I22: 15600 | J22: =+F22-E22 -> 3705 | K22: 14849 | L22: =+I22-K22 -> 751 | M22: =1-K22/I22 -> 0.048141026 | N22: =+K22-F22 -> 221.91 | O22: 15000 | P22: 24304 | Q22: =+O22-P22 -> -9304 | R22: =1-Q22/O22 -> 1.6202667 | S22: 18898.95 | T22: =+S22 -> 18898.95 | U22: =15214.59 -> 15214.59 | V22: =15214.59 -> 15214.59 | W22: 14000 | X22: 6612.39 | Y22: 5650.43 | Z22: =(+Y22-X22)/X22 -> -0.14547841 | AA22: =+W22-Y22 -> 8349.57 | AB22: =+Y22/W22 -> 0.40360214 | AC22: =(Y22/X22*V22) -> 13001.196 | AD22: =Y22/6*26 -> 24485.197 | AE22: =+Y22*365/$AQ$1+1075.89 -> 9814.9025 | AF22: =+W22-AC22 -> 998.8044 | AG22: =+W22-AE22 -> 4185.0975 | AH22: =W22-AC22 -> 998.8044 | AI22: -5300
A23: Groupe d'intervention | B23: 21700 | C23: 121 | D23: 56260 | E23: 73284.39 | F23: 61185.81 | G23: =+D23-F23 -> -4925.81 | I23: 59690 | J23: =+F23-E23 -> -12098.58 | K23: 36985.07 | L23: =+I23-K23 -> 22704.93 | M23: =1-K23/I23 -> 0.3803808 | N23: =+K23-F23 -> -24200.74 | O23: 56260 | P23: 53332 | Q23: =+O23-P23 -> 2928 | R23: =1-Q23/O23 -> 0.94795592 | S23: 73077.25 | T23: =+S23 -> 73077.25 | U23: 54499.42 | V23: 54499.42 | W23: 66800 | X23: 22164.48 | Y23: 44582.67 | Z23: =(+Y23-X23)/X23 -> 1.0114467 | AA23: =+W23-Y23 -> 22217.33 | AB23: =+Y23/W23 -> 0.66740524 | AC23: =(Y23/X23*T23) -> 146990.99 | AD23: =Y23/6*26 -> 193191.57 | AE23: =+Y23*365/$AQ$1 -> 68952.011 | AF23: =+W23-AC23 -> -80190.993 | AG23: =+W23-AE23 -> -2152.0108 | AH23: =W23-AE23 -> -2152.0108 | AI23: -14600
A24: Cynophile | B24: 21710 | C24: 121 | D24: 10120 | E24: 15593.89 | F24: 8223.88 | G24: =+D24-F24 -> 1896.12 | I24: 10450 | J24: =+F24-E24 -> -7370.01 | K24: 7562.21 | L24: =+I24-K24 -> 2887.79 | M24: =1-K24/I24 -> 0.27634354 | N24: =+K24-F24 -> -661.67 | O24: 10120 | P24: 5386 | Q24: =+O24-P24 -> 4734 | R24: =1-Q24/O24 -> 0.53221344 | U24: 11363.81 | V24: 11363.81 | W24: 14000 | X24: 112.68 | Y24: =15724.75-4009.53*0.9 -> 12116.173 | Z24: =(+Y24-X24)/X24 -> 106.52727 | AA24: =+W24-Y24 -> 1883.827 | AB24: =+Y24/W24 -> 0.86544093 | AC24: =(Y24/X24*T24)+4009.53 -> 4009.53 | AD24: =Y24/6*26 -> 52503.416 | AE24: =+Y24*365/$AQ$1 -> 18738.996 | AF24: =+W24-AC24 -> 9990.47 | AG24: =+W24-AE24 -> -4738.9964 | AH24: =W24-AE24 -> -4738.9964
A25: TOTAUX | D25: =SUM(D8:D24) -> 1838660 | E25: =SUM(E8:E24) -> 2025548.4 | F25: =SUM(F8:F24) -> 2042121.3 | G25: =SUM(G8:G24) -> -199401.31 | I25: =SUM(I8:I24) -> 1883610 | J25: =SUM(J8:J24) -> 16572.91 | K25: =SUM(K8:K24) -> 2015893.4 | L25: =SUM(L8:L24) -> 9716.58 | N25: =SUM(N8:N24) -> -168227.89 | O25: =SUM(O8:O24) -> 1744620 | P25: =SUM(P8:P24) -> 1720475.2 | Q25: =SUM(Q8:Q24) -> 43750.78 | R25: =SUM(R8:R24) -> 14.133893 | S25: =SUM(S8:S24) -> 1916532 | T25: =SUM(T8:T24) -> 1722126 | U25: =SUM(U8:U24) -> 2295291.6 | ... Y25: =SUM(Y8:Y24) -> 1250884.9 | Z25: =(+Y25-X25)/X25 -> -0.065612031 | AA25: =SUM(AA8:AA24) -> 1005205.1 | AB25: =+Y25/W25 -> 0.55395708 | AC25: =SUM(AC9:AC24) -> 2267379.7 | AE25: =SUM(AE8:AE24) -> 2204246.1 | AF25: =SUM(AF8:AF24) -> -23825.687 | AG25: =SUM(AG8:AG24) -> 53843.862 | AH25: =SUM(AH8:AH24) -> 110.66455 | AI25: =SUM(AI8:AI24) -> 0
O26: 256708 | S26: Paiement backapy 2011 | T26: =+S25-T25 -> 194405.92 | U26: Paiement banque 2012 | V26: =U25-V25 -> 254658.76 | Y26: =+Y25-X25 -> -87836.213 | AB26: =+Y26/W26 -> #DIV/0! | AE26: =+AC26 -> 0
I27: Pourcentage de l'année écoulée en 2008 | M27: =366/366 -> 1 | O27: =+O25+O26 -> 2001328 | AA27: Budget 2013 disponible | AC27: =W25 -> 2258090 | AE27: =+AC27 -> 2258090
A28: NOTES DU CONTROLEUR: | R28: Écart anti. | AC28: =+AC27-AC25 -> -9289.6999 | AE28: =+AE27-AE25 -> 53843.862
A29: Quelques dossiers particuliers | F29: dépenses | G29: budget alloué | I29: solde au 23 aout
A30: T.S. patrouille de parcs ( au 23 août 2008) ( imputée au 21400 ) | F30: 28587.9 | G30: 43320 | I30: =+G30-F30 -> 14732.1
A31: T.S. pour cause de déontologie ( au 23 aout 2008) ( imputée au 21622 | F31: 3395.44
A33: T.S. études ( au 23 aout 2008) | F33: 68080.74
A34: T.S. transport pour études ( au 23 aout 2008) | F34: 49390.48
A35: TOTAL T.S. ÉTUDES ( imputée au 21600 ) | F35: =+F33+F34 -> 117471.22
R36: =((R7-AI27)/365) -> 5.5041096 | AA36: % de l'année écoulée en 2013: | AC36: =+AE8+AC9+AC10+AC11+AE13+AE14+AE15+AC16+AC17+AE18+AE19+AC20+AC21+AC22+AE23+AE24 -> 2257979.3
A37: rh n'y arrivera pas… | AA37: =+(Y7+1-AP1)/365 -> 0.64657534 | AC37: =AC27-AC36 -> 110.66455
A38: cours recommencent à grimper
AC40: selon la | AE40: selon une regle
A41: T.S. civils blancs et bleus ( permanents et temporaires ) ( objets 122, 124, 142, 144, 148) | AC41: proportion 2012 | AE41: de trois ( 3)
B42: POSTE | D42: Budget modifé | E42: Dépenses | F42: Dépenses | G42: + / - | I42: Budget | J42: 2007 vs 2006 | K42: Dépenses | L42: solde | M42: % d'util. | N42: 2008 vs 2007 | O42: Budgets | P42: Dépenses | Q42: Solde | R42: % d'util | S42: Dépenses | V42: Dépenses | W42: Budget modifié | X42: dépenses au: | Y42: dépenses au: | AA42: solde au : | AB42: % d'utilisation | AC42: prévisions | AE42: prévisions | AF42: Écart 2013 | AG42: Écart 2013 | AH42: Écart 2013
...

Sheet ts stationnements
A1: SERICE DE POLICE
A2: TS rénuméré - Division stationnements
AA3: 2013 | AB3: selon une regle | AG3: 41275 | AH3: =+X6-AG3+1 -> 229
A4: T.S. civils blancs et bleus ( permanents et temporaires ) ( objets 122, 124, 142, 144, 146 et 148) | AA4: proportion 2012 | AB4: de trois ( 3)
B5: POSTE | C5: objet | D5: Budget modifé | E5: Dépenses | F5: Dépenses | G5: + / - | I5: Budget | J5: 2007 vs 2006 | K5: Dépenses | L5: solde | M5: % d'util. | N5: 2008 vs 2007 | O5: Budgets | P5: Dépenses | Q5: Solde | R5: % d'util | S5: Dépenses | T5: Dépenses | V5: Budget | W5: dépenses au: | X5: dépenses au: | Y5: solde au : | Z5: % d'utilisation | AA5: prévisions | AB5: prévisions | AC5: Écart 2013 | AD5: Écart 2013 | AE5: Écart 2013 | AF5: virement
D6: =+F6 -> 2007 | E6: 2006 | F6: 2007 | G6: 2007 | I6: 2008 | K6: 2008 | L6: =+K6 -> 2008 | M6: du budget | O6: 2009 | P6: 2009 | Q6: 2009 | R6: 2009 | S6: 2010 | T6: 2011 | U6: 2012 | V6: 2013 | W6: 41138 | X6: 41503 | Y6: =+X6 -> 41503 | Z6: budget 2013 | AA6: 2013 | AB6: 2013 | AC6: budget vs prév. | AD6: =+AC6 -> budget vs prév. | AE6: =+AD6 -> budget vs prév.
A7: Brigadiers adultes | B7: 29100 | C7: 148 et 146 | F7: 181.79 | J7: =+F7-E7 -> 181.79 | K7: 267 | N7: =+K7-F7 -> 85.21 | P7: 497 | Q7: =+O7-P7 -> -497 | S7: 824.27 | T7: 1284.96 | U7: 2012 | V7: 860 | W7: 800.44 | X7: 643.39 | Y7: =V7-X7 -> 216.61 | Z7: =W7/V7 -> 0.93074419 | AA7: =X7/W7*U7 -> 1617.2364 | AB7: =+X7*365/$AH$3 -> 1025.4906 | AC7: =+S7-AA7 -> -792.96637 | AD7: =+S7-AB7 -> -201.22061 | AE7: =V7-AB7 -> -165.49061
A8: Contrôle animaliers | B8: 29200 | C8: 124 | E8: =6816.26+7062.83 -> 13879.09 | F8: =8567+33 -> 8600 | J8: =+F8-E8 -> -5279.09 | K8: =11467.75+1214.22 -> 12681.97 | N8: =+K8-F8 -> 4081.97 | O8: 8000 | P8: =7390 -> 7390 | Q8: =+O8-P8 -> 610 | R8: =1-Q8/O8 -> 0.92375 | S8: 12121 | T8: 10729.81 | U8: 11481.22 | V8: 11500 | W8: 7069.59 | X8: 11836.26 | Y8: =V8-X8 -> -336.26 | Z8: =W8/V8 -> 0.61474696 | AA8: =X8/W8*U8 -> 19222.431 | AB8: =+X8*365/$AH$3 -> 18865.655 | AC8: =+S8-AA8 -> -7101.4309 | AD8: =+S8-AB8 -> -6744.6546 | AE8: =V8-AA8 -> -7722.4309
A9: Contrôle animaliers | B9: 29200 | C9: 144 | P9: 871 | S9: 959 | T9: 210.6 | U9: 13.42 | V9: 0 | W9: 98.71 | X9: 0 | Y9: =V9-X9 -> 0 | AB9: =+X9*365/$AH$3 -> 0 | AE9: =V9-AB9 -> 0
A10: Parcomètres | B10: 31540 | C10: 124 | E10: 355.07 | F10: =3851+34 -> 3885 | J10: =+F10-E10 -> 3529.93 | K10: 5502.54 | N10: =+K10-F10 -> 1617.54 | O10: 2160 | P10: 1680 | Q10: =+O10-P12 -> -20715 | R10: =1-Q10/O10 -> 10.590278 | S10: 637 | T10: 926.36 | U10: 5218.33 | V10: 1964.19 | W10: 5371.35 | X10: 242.28 | Y10: =V10-X10 -> 1721.91 | Z10: =W10/V10 -> 2.7346387 | AA10: =X10/W10*U10 -> 235.37788 | AB10: =+X10*365/$AH$3 -> 386.16681 | AC10: =+S10-AA10 -> 401.62212 | AD10: =+S10-AB10 -> 250.83319 | AE10: =V10-AB10 -> 1578.0232
A11: Parcomètres | B11: 31540 | C11: 144 | V11: 35.81 | W11: 0 | X11: 35.81 | AA11: =X11 -> 35.81 | AE11: =V11-AA11 -> 0
A12: Stationnement | B12: 35500 | C12: 122 | D12: 10120 | E12: =1791.97+3092.79 -> 4884.76 | F12: =7494+4997 -> 12491 | G12: =+D12-F12 -> -2371 | I12: 10450 | J12: =+F12-E12 -> 7606.24 | K12: =13568+5620.87 -> 19188.87 | L12: =+I12-K12 -> -8738.87 | M12: =1-K12/I12 -> -0.8362555 | N12: =+K12-F12 -> 6697.87 | O12: =19000+3000 -> 22000 | P12: =22875 -> 22875 | Q12: =+O12-#REF! -> #REF! | R12: =1-Q12/O12 -> #REF! | S12: 5128 | T12: 6049.48 | U12: 5994.32 | V12: 10700 | W12: 1930.24 | X12: 5847.49 | Y12: =V12-X12 -> 4852.51 | Z12: =W12/V12 -> 0.18039626 | AA12: =X12/W12*U12 -> 18159.258 | AB12: =+X12*365/$AH$3 -> 9320.2352 | AC12: =+S12-AA12 -> -13031.258 | AD12: =+S12-AB12 -> -4192.2352 | AE12: =V12-AB12 -> 1379.7648
A13: Stationnement | B13: 35500 | C13: 142 | P13: 5690 | T13: 371.34 | U13: 112.51 | V13: 5000 | W13: 112.51 | X13: 0 | Y13: =V13-X13 -> 5000 | Z13: =W13/V13 -> 0.022502 | AB13: =+X13*365/$AH$3 -> 0 | AE13: =V13-AB13 -> 5000
A14: Escouade de reglementation | B14: 35510 | C14: 142 | S14: 117.68 | T14: 437.04 | U14: 231.19 | V14: 0 | W14: 231.19 | X14: 0 | Y14: =V14-X14 -> 0 | Z14: =W14/V14 -> #DIV/0! | AA14: =X14/W14*U14 -> 0 | AB14: =+X14*365/$AH$3 -> 0 | AE14: =V14-AA14 -> 0
A15: Escouade de reglementation | B15: 35510 | C15: 122 | D15: 10120 | G15: =+D15-F15 -> 10120 | I15: 10450 | J15: =+F15-E15 -> 0 | L15: =+I15-K15 -> 10450 | M15: =1-K15/I15 -> 1 | N15: =+K15-F15 -> 0 | O15: =19000+3000 -> 22000 | Q15: =+O15-P15 -> 22000 | R15: =1-Q15/O15 -> 0 | V15: 0 | W15: 0 | X15: 0 | Y15: =V15-X15 -> 0 | Z15: =W15/V15 -> #DIV/0! | AB15: =+X15*365/$AH$3 -> 0 | AC15: =+S15-AA15 -> 0 | AD15: =+S15-AB15 -> 0 | AE15: =V15-AB15 -> 0
A16: TOTAUX | D16: =SUM(D7:D15) -> 20240 | E16: =SUM(E7:E15) -> 19118.92 | F16: =SUM(F7:F15) -> 25157.79 | G16: =SUM(G7:G15) -> 7749 | I16: =SUM(I7:I15) -> 20900 | J16: =SUM(J7:J15) -> 6038.87 | K16: =SUM(K7:K15) -> 37640.38 | L16: =SUM(L7:L15) -> 1711.13 | N16: =SUM(N7:N15) -> 12482.59 | O16: =SUM(O7:O15) -> 54160 | P16: =SUM(P7:P15) -> 39003 | Q16: =SUM(Q7:Q15) -> #REF! | R16: =1-Q16/O16 -> #REF! | S16: =SUM(S7:S15) -> 19786.95 | T16: =SUM(T7:T15) -> 20009.59 | U16: =SUM(U7:U15) -> 25062.99 | V16: =SUM(V7:V15) -> 30060 | W16: =SUM(W7:W15) -> 15614.03 | X16: =SUM(X7:X15) -> 18605.23 | Y16: =SUM(Y7:Y15) -> 11454.77 | Z16: =+X16/S16 -> 0.94027781 | AA16: =SUM(AA7:AA15) -> 39270.113 | AB16: =SUM(AB7:AB15) -> 29597.547 | AC16: =SUM(AC7:AC15) -> -20524.033 | AD16: =SUM(AD7:AD15) -> -10887.277 | AE16: =SUM(AE7:AE15) -> 69.866556
X17: =+X16-W16 -> 2991.2 | Y17: Budget 2013 disponible | AA17: =V16 -> 30060
I18: Pourcentage de l'année écoulée en 2008 | M18: =366/366 -> 1 | R18: Écart anti. | AA18: =+AA17-AA16 -> -9210.1132 | AB18: =+AB17-AB16 -> -29597.547 | AG18: =V18-AB18 -> 29597.547
AA19: =AA8+AB10+AB12+AB13+AA14+AB7+AB9+AA11 -> 29990.133
A20: NOTES DU CONTROLEUR: | Y20: % de l'année écoulée en 2012: | AA20: =AA17-AA19 -> 69.866556
A21: Surveiller contrôle animalier et stationnement | Y21: =(X6-AG3+1)/365 -> 0.62739726
