Workbook

Sheet Recto
K2: Bulletin de Freinage - Trains de voyageurs internationaux Remmingsbulletin - Internationale reizigerstreinen | AE2: VI-RI
B3: TRAIN - TREIN | C3: Etabli pour train n° Opgesteld voor trein nr | K3: Date de départ / vetrekdatum | S3: Remis en gare de Afgeleverd in station | AA3: Gare de destination Bestemmingsstation
C4: 1 | E4: =Feuil1!C29 -> E19404 | K4: 2 | M4: =TODAY() -> 42868 | S4: 3 | U4: Arlon | AA4: 4 | AC4: Luxembourg
C5: 61 SNCF - 62 CFL Indice de composition / samenstellingsindex 63 SNCB / NMBS Vitesse du véhicule le plus lent de la rame remorquée / Snelheid van het traagste voertuig van het gesleepte stel | N5: 61 SNCF | U5: 62 CFL | AB5: 63 SNCB / NMBS
U6: V140 | AB6: 160
C7: 10 | D7: SNCB / NMBS | E7: Convois composés d'automotrices ou d'autorails / konvooien samengesteld uit motorstellen of motorwagens Composition / samenstelling
E8: I | J8: II | O8: III | T8: IV | Y8: V | AD8: VI
B9: COMMUNICATIONS - MEDEDELINGEN | C9: 11 | D9: 11.1 | E9: Freins isolés par le conducteur - n° des véhicules Door de bestuurder afgezonderde remmen - nr van de voertuigen
D10: 11.2 | E10: SNCF CFL | G10: Observations - cas exceptionnels / opmerkingen - uitzonderlijke gevallen
D11: 11.5 | E11: Règles de freinage non satisfaites : sur les réseaux indiqués, ne pas dépasser la vitesse de (des) Niet voldaan aan de remmingsvoorschriften : op de aangeduide netten, de snelheid niet overschrijden van (de)
E12: FR | O12: LU | Y12: BE
C13: 20 Numéro Nummer | F13: n° de série loc. de remorque reeksnummer sleeplocomotieven | M13: Au point de départ Bij het vertrekpunt | Q13: En cours de route Onderweg | Y13: Trains remorqués / Gesleepte treinen N° des véhicules d'extrémité de la rame remorquée Nr van de uiterste voertuigen van het gesleepte stel
M14: =Feuil1!B18 -> 1350
C15: 21 Nombre Aantal | F15: 21.1 | H15: Loc de remorque Sleeplocomotief(ven) | M15: =Feuil1!F18 -> 0 | Y15: =Feuil1!G30 -> 50 88 26 72
F16: 21.2 | H16: Loc en véhicule Gesleepte loc. | M16: =Feuil1!F27 -> 0 | Y16: =Feuil1!G32 -> 50 88 26 72
F17: 21.3 | H17: Véhicules Voertuigen | M17: =Feuil1!F16 -> 0 | Y17: Voitures à suspension pneumatique Rijtuigen met pneumatische ophanging
F18: 21.4 | H18: TOTAL TRAIN TOTAAL TREIN | M18: =SUM(M15:P17) -> 0 | Y18: Oui / Ja Non / neen
C19: 22 Longueur Lengte | F19: 22.1 | H19: Loc de remorque Sleeplocomotief(ven) | M19: =Feuil1!G22 -> 0 | Y19: CFL | AA19: Nbre de véhicules en regime Aantal voertuigen in het remregime | AE19: Dont Waarvan
F20: 22.2 | H20: Loc en véhicule Gesleepte loc. | M20: =Feuil1!G27 -> 0
F21: 22.3 | H21: Véhicules Voertuigen | M21: =Feuil1!G16 -> 0 | AA21: R + Mg | AC21: =Feuil1!F16 -> 0 | AE21: =Feuil1!F16 -> 0
F22: 22.4 | H22: TOTAL TRAIN TOTAAL TREIN | M22: =SUM(M19:P21) -> 0 | AA22: R / R
C23: 23 Masse Massa | F23: 23.1 | H23: Loc de remorque Sleeplocomotief(ven) | M23: =Feuil1!H22 -> 0 | AA23: P
F24: 23.2 | H24: Loc en véhicule Gesleepte loc. | M24: =Feuil1!H27 -> 0 | AA24: G
F25: 23.3 | H25: Véhicules Voertuigen | M25: =Feuil1!H16 -> 0 | AA25: Incorporation de véhicules à vit. limite inférieure à la vit. max aut. Voertuigen met een lagere maximum toegelaten snelheid
F26: 23.4 | H26: TOTAL TRAIN TOTAAL TREIN | M26: =SUM(M23:P25) -> 0
C27: 24 Masse freinée réalisée Werkelijke geremde massa | F27: 24.1 | H27: Loc de remorque Sleeplocomotief(ven) | M27: =Feuil1!I22 -> 0 | AA27: Non
F28: 24.2 | H28: Loc en véhicule Gesleepte loc. | M28: =Feuil1!I27 -> 0 | AA28: Oui ........ km/h
F29: 24.3 | H29: Véhicules Voertuigen | M29: =Feuil1!I16 -> 0 | Y29: SNCB / NMBS | AA29: Présence de voitures M6 Aanwezigheid M6-rijtuigen
F30: 24.4 | H30: TOTAL TRAIN TOTAAL TREIN | L30: T | AA30: Oui / ja Non / neen
L31: % | AA31: Suspensions pn. isolées Afgez. pn. ophangingen
C32: 25 | F32: Masse freinée nécessaire Vereiste geremde massa | L32: T | AA32: Voyageurs transférés Reizigers getransfereerd
L33: % | M33: 120 | AA33: Oui / ja Non / neen
C34: SNCF | D34: 26 | F34: 26.1 | H34: masse freinée d'arrêt nécessaire | Y34: SNCF | AA34: Code TCT
F35: 26.2 | H35: masse freinée de dérive nécessaire | AA35: Frein ep en service ep-rem in dienst
F36: 26.3 | H36: masse freinée 2e moitié | AA36: Oui / ja Non / neen
C37: 72 | F37: Etabli / modifié par (nom + signature) Opgesteld / aangepast door (naam + handtekening) | M37: =Feuil1!C31 -> Callens G. | Y37: 80 | AA37: Vitesse maximu autorisée Toagelaten maximumsnelheid
Y38: SNCB

Sheet Feuil1
B3: Type | C3: Longeur | D3: Charge | E3: Masse freinée | F3: Nombre | G3: Long. Tot. | H3: Charge T. | I3: Masse freinée2
B4: M6 A | C4: 25 | D4: 63 | E4: 95 | G4: =SUM(C4*F4) -> 0 | H4: =SUM(D4*F4) -> 0 | I4: =SUM(E4*F4) -> 0
B5: M6 B | C5: 25 | D5: 64 | E5: 95 | G5: =SUM(C5*F5) -> 0 | H5: =SUM(D5*F5) -> 0 | I5: =SUM(E5*F5) -> 0
B6: M6 BD | C6: 25 | D6: 62 | E6: 95 | G6: =SUM(C6*F6) -> 0 | H6: =SUM(D6*F6) -> 0 | I6: =SUM(E6*F6) -> 0
B7: M4 A | G7: =SUM(C7*F7) -> 0 | H7: =SUM(D7*F7) -> 0 | I7: =SUM(E7*F7) -> 0
B8: M4 B | G8: =SUM(C8*F8) -> 0 | H8: =SUM(D8*F8) -> 0 | I8: =SUM(E8*F8) -> 0
B9: M4 B/BD | G9: =SUM(C9*F9) -> 0 | H9: =SUM(D9*F9) -> 0 | I9: =SUM(E9*F9) -> 0
B10: i6 A | C10: 26.4 | D10: 47 | E10: 68 | G10: =SUM(C10*F10) -> 0 | H10: =SUM(D10*F10) -> 0 | I10: =SUM(E10*F10) -> 0
B11: i6 B | C11: 26.4 | D11: 48 | E11: 68 | G11: =SUM(C11*F11) -> 0 | H11: =SUM(D11*F11) -> 0 | I11: =SUM(E11*F11) -> 0
B12: i6 Vélo | C12: 26.4 | D12: 48 | E12: 68 | G12: =SUM(C12*F12) -> 0 | H12: =SUM(D12*F12) -> 0 | I12: =SUM(E12*F12) -> 0
B13: I10 A | C13: 26.4 | D13: 47 | E13: 68 | G13: =SUM(C13*F13) -> 0 | H13: =SUM(D13*F13) -> 0 | I13: =SUM(E13*F13) -> 0
B14: i10 B | C14: 26.4 | D14: 47 | E14: 68 | G14: =SUM(C14*F14) -> 0 | H14: =SUM(D14*F14) -> 0 | I14: =SUM(E14*F14) -> 0
B15: i 10 Vélo | C15: 26.4 | D15: 47 | E15: 68 | G15: =SUM(C15*F15) -> 0 | H15: =SUM(D15*F15) -> 0 | I15: =SUM(E15*F15) -> 0
F16: =SUM(F4:F15) -> 0 | G16: =SUM(G4:G15) -> 0 | H16: =SUM(H4:H15) -> 0 | I16: =SUM(I4:I15) -> 0
B17: N° HLE | C17: Longueur | D17: Charge | E17: Masse freinée | F17: Nombre | G17: Long. Tot. | H17: Charge T. | I17: Masse freinée2
B18: 1350 | C18: 20 | D18: 89 | E18: 102 | G18: =C18*F18 -> 0 | H18: =D18*F18 -> 0 | I18: =E18*F18 -> 0
F22: =SUM(F18:F21) -> 0 | G22: =SUM(G18:G21) -> 0 | H22: =SUM(H18:H21) -> 0 | I22: =SUM(I18:I21) -> 0
B23: N° HLE en véh. | C23: =C3 -> Longeur | D23: =D3 -> Charge | E23: =E3 -> Masse freinée | F23: =F3 -> Nombre | G23: =G3 -> Long. Tot. | H23: =H3 -> Charge T. | I23: =I3 -> Masse freinée2
B24: 1340 | C24: 20 | D24: 89 | E24: 102 | G24: =C24*F24 -> 0 | H24: =D24*F24 -> 0 | I24: =E24*F24 -> 0
F27: =SUM(F23:F26) -> 0 | G27: =SUM(G23:G26) -> 0 | H27: =SUM(H23:H26) -> 0 | I27: =SUM(I23:I26) -> 0
B29: N° De train | C29: E19404 | G29: N° Du premier Véhicule
G30: 50 88 26 72
B31: Rédacteur | C31: Callens G. | G31: N° Du Dernier Véhicule
G32: 50 88 26 72

Sheet Verso
K2: Bulletin de Freinage - Trains de voyageurs internationaux Remmingsbulletin - Internationale reizigerstreinen | AE2: VI-RI
B4: Cases Vakken | C4: Précisions Verduidelijkingen
B5: 1 -72 | C5: cases à remplir obligatoirement, sauf case 26 hachurée verplicht in te vullen vakken (behalve het gearceerde vak 26)
B6: 11.2 | C6: inscrire les informations de sécurité particulières concernant le freinage de specifieke veiligheidsmaatregelen betreffende de remming invullen
B7: 11.5 | C7: FR (France) indiquer la vitesse maximale à ne pas dépasser sur l'infrastructure FR en cas de situation dégradé en cours de route (km/h) Frankrijk (FR): de toegelaten maximumsnelheid op de franse infrastructuur bij een gedegradeerde situatie tijdens de rit
B8: 11.5 | C8: LU (Luxembourg) indiquer l'indice de composition applicable sur l'infrastructure LU en cas de situation dégradé au départ ou en cours de route Luxemburg (LU): de toepasselijke samenstellingsindex op de luxemburgse infrastructuur invullen in geval van gede
B9: 11.5 | C9: BE (Belgique) indiquer la vitesse maximale à ne pas dépasser sur l'infrastructure BE en cas de situation dégradé en cours de route (km/h) België (BE): de toegelaten maximumsnelheid op het belgische net invullen bij een gedegradeerde situatie tijdens de ri
B10: 20 - 72 grisé grijs | C10: En cours de route: ces cases ne sont applicables qu'en cas de changement de loc ou d'incident en cours de route. Une modification de la composition implique un nouveau BF (bulletin de freinage) Tijdens de rit: deze vakken zijn enkel van toepassing bij het
B11: 23.1 | C11: Pour la loc de remorque, seul le freinage V doit être pris en compte (ne pas utiliser la masse freinée V+E ) Voor de sleeplocomotief dient enkel de remming V in aanmerking genomen te worden (de geremde massa V + E niet gebruiken)
B12: 24.4 (%) | C12: Masse freinée totale X 100 Totaal Werkelijke Geremde Massa X 100 Masse totale du train Totaal Massa van de trein
B13: 25 (%) | C13: indiquer la valeur du tableau de freinage commun SNCF - CFL - SNCB de gemeenschappelijke remmingswaarde van de tabel SNCF - CFL - NMBS invullen
B14: 25 (T) | C14: indiquer la valeur du tableau de freinage commun SNCF - CFL - SNCB de gemeenschappelijke remmingswaarde van de tabel SNCF - CFL - NMBS invullen
B15: 26 | C15: remplir uniquement les cases grisés en cas de situation dégradée sur l'infrastructure FR enkel de grijze vakken invullen bij een gedegradeerde situatie op de franse infrastructuur
B16: 61 | C16: indiquer l'indice de composition applicable sur l'infrastructure FR de toepasselijke samenstellingsindex op de franse infrastructuur aanvullen
B17: 62 | C17: indiquer l'indice de composition applicable sur l'infrastructure LU de toepasselijke samenstellingsindex op de luxemburgse infrastructuur aanvullen
B18: 63 | C18: BE : indiquer la vitesse du véhicule le plus lent de la rame remorquée BE : de snelheid van het traagste voertuig van het gesleepte stel aanvullen
B19: 72 | C19: nom de l'agent qui a établi ou modifié le document. Inscrire en lettres majuscules d'imprimerie et signer naam van de bediende die het document opgesteld of gewijzigd heeft. In hoofd- en drukletters invullen en tekenen
B20: 101 | C20: numéros des véhicules d'extrémité: indiquer 1er et dernier véhicule remorqué de la rame (loc en véhicule ou voiture-pilote comprise) nummers van de uiterste voertuigen : het 1e en het laatste gesleepte voertuig van het stel invullen (gesleepte locomotief
B21: 102 | C21: voitures à suspension pneumatique: cocher la case correspondante rijtuigen met pneumatische ophanging: het overeenstemmende vak aankruisen
B22: 201-202 | C22: remplir si train empruntera infrastructure LU in te vullen wanneer een trein de infrastructuur van LU gebruikt
B23: 301 | C23: remplir si train empruntera infrastructure BE in te vullen wanneer een trein de infrastructuur van BE gebruikt
B24: 401-402 | C24: remplir si train empruntera infrastructure FR in te vullen wanneer een trein de infrastructuur van FR gebruikt

Sheet Tableaux 1
B1: BAREME DE FREINAGE DES TRAINS DE VOYAGEURS INTERNATIONAUX REMORQUES (SNCF-CFL-SNCB)
B2: Vitesses è | C2: 20 | D2: 50 | E2: 80 | F2: 100 | G2: 120 | H2: 140 | I2: 160 | J2: 200
B3: % nécessaire è | C3: 0.25 | D3: 0.38 | E3: 0.54 | F3: 0.92 | G3: 1.02 | H3: 1.25 | I3: 1.25 | J3: 1.35
A4: Masse du train en tonnes (arrondie à la dizaine supérieure) | B4: 10 | C4: =CEILING(B4*0.25,1) -> 3 | D4: =CEILING(B4*0.38,1) -> 4 | E4: =CEILING(B4*0.54,1) -> 6 | F4: =CEILING(B4*0.92,1) -> 10 | G4: =CEILING(B4*1.02,1) -> 11 | H4: =CEILING(B4*1.25,1) -> 13 | I4: =CEILING(B4*1.25,1) -> 13 | J4: =CEILING(B4*1.35,1) -> 14
B5: =B4+10 -> 20 | C5: =CEILING(B5*0.25,1) -> 5 | D5: =CEILING(B5*0.38,1) -> 8 | E5: =CEILING(B5*0.54,1) -> 11 | F5: =CEILING(B5*0.92,1) -> 19 | G5: =CEILING(B5*1.02,1) -> 21 | H5: =CEILING(B5*1.25,1) -> 25 | I5: =CEILING(B5*1.25,1) -> 25 | J5: =CEILING(B5*1.35,1) -> 27
B6: =B5+10 -> 30 | C6: =CEILING(B6*0.25,1) -> 8 | D6: =CEILING(B6*0.38,1) -> 12 | E6: =CEILING(B6*0.54,1) -> 17 | F6: =CEILING(B6*0.92,1) -> 28 | G6: =CEILING(B6*1.02,1) -> 31 | H6: =CEILING(B6*1.25,1) -> 38 | I6: =CEILING(B6*1.25,1) -> 38 | J6: =CEILING(B6*1.35,1) -> 41
B7: =B6+10 -> 40 | C7: =CEILING(B7*0.25,1) -> 10 | D7: =CEILING(B7*0.38,1) -> 16 | E7: =CEILING(B7*0.54,1) -> 22 | F7: =CEILING(B7*0.92,1) -> 37 | G7: =CEILING(B7*1.02,1) -> 41 | H7: =CEILING(B7*1.25,1) -> 50 | I7: =CEILING(B7*1.25,1) -> 50 | J7: =CEILING(B7*1.35,1) -> 54
B8: =B7+10 -> 50 | C8: =CEILING(B8*0.25,1) -> 13 | D8: =CEILING(B8*0.38,1) -> 19 | E8: =CEILING(B8*0.54,1) -> 27 | F8: =CEILING(B8*0.92,1) -> 46 | G8: =CEILING(B8*1.02,1) -> 51 | H8: =CEILING(B8*1.25,1) -> 63 | I8: =CEILING(B8*1.25,1) -> 63 | J8: =CEILING(B8*1.35,1) -> 68
B9: =B8+10 -> 60 | C9: =CEILING(B9*0.25,1) -> 15 | D9: =CEILING(B9*0.38,1) -> 23 | E9: =CEILING(B9*0.54,1) -> 33 | F9: =CEILING(B9*0.92,1) -> 56 | G9: =CEILING(B9*1.02,1) -> 62 | H9: =CEILING(B9*1.25,1) -> 75 | I9: =CEILING(B9*1.25,1) -> 75 | J9: =CEILING(B9*1.35,1) -> 81
B10: =B9+10 -> 70 | C10: =CEILING(B10*0.25,1) -> 18 | D10: =CEILING(B10*0.38,1) -> 27 | E10: =CEILING(B10*0.54,1) -> 38 | F10: =CEILING(B10*0.92,1) -> 65 | G10: =CEILING(B10*1.02,1) -> 72 | H10: =CEILING(B10*1.25,1) -> 88 | I10: =CEILING(B10*1.25,1) -> 88 | J10: =CEILING(B10*1.35,1) -> 95
B11: =B10+10 -> 80 | C11: =CEILING(B11*0.25,1) -> 20 | D11: =CEILING(B11*0.38,1) -> 31 | E11: =CEILING(B11*0.54,1) -> 44 | F11: =CEILING(B11*0.92,1) -> 74 | G11: =CEILING(B11*1.02,1) -> 82 | H11: =CEILING(B11*1.25,1) -> 100 | I11: =CEILING(B11*1.25,1) -> 100 | J11: =CEILING(B11*1.35,1) -> 108
B12: =B11+10 -> 90 | C12: =CEILING(B12*0.25,1) -> 23 | D12: =CEILING(B12*0.38,1) -> 35 | E12: =CEILING(B12*0.54,1) -> 49 | F12: =CEILING(B12*0.92,1) -> 83 | G12: =CEILING(B12*1.02,1) -> 92 | H12: =CEILING(B12*1.25,1) -> 113 | I12: =CEILING(B12*1.25,1) -> 113 | J12: =CEILING(B12*1.35,1) -> 122
B13: =B12+10 -> 100 | C13: =CEILING(B13*0.25,1) -> 25 | D13: =CEILING(B13*0.38,1) -> 38 | E13: =CEILING(B13*0.54,1) -> 54 | F13: =CEILING(B13*0.92,1) -> 92 | G13: =CEILING(B13*1.02,1) -> 102 | H13: =CEILING(B13*1.25,1) -> 125 | I13: =CEILING(B13*1.25,1) -> 125 | J13: =CEILING(B13*1.35,1) -> 135
B14: =B13+10 -> 110 | C14: =CEILING(B14*0.25,1) -> 28 | D14: =CEILING(B14*0.38,1) -> 42 | E14: =CEILING(B14*0.54,1) -> 60 | F14: =CEILING(B14*0.92,1) -> 102 | G14: =CEILING(B14*1.02,1) -> 113 | H14: =CEILING(B14*1.25,1) -> 138 | I14: =CEILING(B14*1.25,1) -> 138 | J14: =CEILING(B14*1.35,1) -> 149
B15: =B14+10 -> 120 | C15: =CEILING(B15*0.25,1) -> 30 | D15: =CEILING(B15*0.38,1) -> 46 | E15: =CEILING(B15*0.54,1) -> 65 | F15: =CEILING(B15*0.92,1) -> 111 | G15: =CEILING(B15*1.02,1) -> 123 | H15: =CEILING(B15*1.25,1) -> 150 | I15: =CEILING(B15*1.25,1) -> 150 | J15: =CEILING(B15*1.35,1) -> 162
B16: =B15+10 -> 130 | C16: =CEILING(B16*0.25,1) -> 33 | D16: =CEILING(B16*0.38,1) -> 50 | E16: =CEILING(B16*0.54,1) -> 71 | F16: =CEILING(B16*0.92,1) -> 120 | G16: =CEILING(B16*1.02,1) -> 133 | H16: =CEILING(B16*1.25,1) -> 163 | I16: =CEILING(B16*1.25,1) -> 163 | J16: =CEILING(B16*1.35,1) -> 176
... B53: =B52+10 -> 500 | C53: =CEILING(B53*0.25,1) -> 125 | D53: =CEILING(B53*0.38,1) -> 190 | E53: =CEILING(B53*0.54,1) -> 270 | F53: =CEILING(B53*0.92,1) -> 460 | G53: =CEILING(B53*1.02,1) -> 510 | H53: =CEILING(B53*1.25,1) -> 625 | I53: =CEILING(B53*1.25,1) -> 625 | J53: =CEILING(B53*1.35,1) -> 675
C54: Masse freinée du train en tonnes
B55: Sur le réseau belge, pour des compositions supérieures à 15 voitures,
B56: la masse freinée nécessaire est augmentée de 10%

Sheet Tableaux 2
B1: BAREME DE FREINAGE DES TRAINS DE VOYAGEURS INTERNATIONAUX REMORQUES (SNCF-CFL-SNCB)
B2: Vitesses è | C2: 20 | D2: 50 | E2: 80 | F2: 100 | G2: 120 | H2: 140 | I2: 160 | J2: 200
B3: % nécessaire è | C3: 0.25 | D3: 0.38 | E3: 0.54 | F3: 0.92 | G3: 1.02 | H3: 1.25 | I3: 1.25 | J3: 1.35
A4: Masse du train en tonnes (arrondie à la dizaine supérieure) | B4: 510 | C4: =CEILING(B4*0.25,1) -> 128 | D4: =CEILING(B4*0.38,1) -> 194 | E4: =CEILING(B4*0.54,1) -> 276 | F4: =CEILING(B4*0.92,1) -> 470 | G4: =CEILING(B4*1.02,1) -> 521 | H4: =CEILING(B4*1.25,1) -> 638 | I4: =CEILING(B4*1.25,1) -> 638 | J4: =CEILING(B4*1.35,1) -> 689
B5: =B4+10 -> 520 | C5: =CEILING(B5*0.25,1) -> 130 | D5: =CEILING(B5*0.38,1) -> 198 | E5: =CEILING(B5*0.54,1) -> 281 | F5: =CEILING(B5*0.92,1) -> 479 | G5: =CEILING(B5*1.02,1) -> 531 | H5: =CEILING(B5*1.25,1) -> 650 | I5: =CEILING(B5*1.25,1) -> 650 | J5: =CEILING(B5*1.35,1) -> 702
B6: =B5+10 -> 530 | C6: =CEILING(B6*0.25,1) -> 133 | D6: =CEILING(B6*0.38,1) -> 202 | E6: =CEILING(B6*0.54,1) -> 287 | F6: =CEILING(B6*0.92,1) -> 488 | G6: =CEILING(B6*1.02,1) -> 541 | H6: =CEILING(B6*1.25,1) -> 663 | I6: =CEILING(B6*1.25,1) -> 663 | J6: =CEILING(B6*1.35,1) -> 716
B7: =B6+10 -> 540 | C7: =CEILING(B7*0.25,1) -> 135 | D7: =CEILING(B7*0.38,1) -> 206 | E7: =CEILING(B7*0.54,1) -> 292 | F7: =CEILING(B7*0.92,1) -> 497 | G7: =CEILING(B7*1.02,1) -> 551 | H7: =CEILING(B7*1.25,1) -> 675 | I7: =CEILING(B7*1.25,1) -> 675 | J7: =CEILING(B7*1.35,1) -> 729
B8: =B7+10 -> 550 | C8: =CEILING(B8*0.25,1) -> 138 | D8: =CEILING(B8*0.38,1) -> 209 | E8: =CEILING(B8*0.54,1) -> 297 | F8: =CEILING(B8*0.92,1) -> 506 | G8: =CEILING(B8*1.02,1) -> 561 | H8: =CEILING(B8*1.25,1) -> 688 | I8: =CEILING(B8*1.25,1) -> 688 | J8: =CEILING(B8*1.35,1) -> 743
B9: =B8+10 -> 560 | C9: =CEILING(B9*0.25,1) -> 140 | D9: =CEILING(B9*0.38,1) -> 213 | E9: =CEILING(B9*0.54,1) -> 303 | F9: =CEILING(B9*0.92,1) -> 516 | G9: =CEILING(B9*1.02,1) -> 572 | H9: =CEILING(B9*1.25,1) -> 700 | I9: =CEILING(B9*1.25,1) -> 700 | J9: =CEILING(B9*1.35,1) -> 756
B10: =B9+10 -> 570 | C10: =CEILING(B10*0.25,1) -> 143 | D10: =CEILING(B10*0.38,1) -> 217 | E10: =CEILING(B10*0.54,1) -> 308 | F10: =CEILING(B10*0.92,1) -> 525 | G10: =CEILING(B10*1.02,1) -> 582 | H10: =CEILING(B10*1.25,1) -> 713 | I10: =CEILING(B10*1.25,1) -> 713 | J10: =CEILING(B10*1.35,1) -> 770
B11: =B10+10 -> 580 | C11: =CEILING(B11*0.25,1) -> 145 | D11: =CEILING(B11*0.38,1) -> 221 | E11: =CEILING(B11*0.54,1) -> 314 | F11: =CEILING(B11*0.92,1) -> 534 | G11: =CEILING(B11*1.02,1) -> 592 | H11: =CEILING(B11*1.25,1) -> 725 | I11: =CEILING(B11*1.25,1) -> 725 | J11: =CEILING(B11*1.35,1) -> 783
B12: =B11+10 -> 590 | C12: =CEILING(B12*0.25,1) -> 148 | D12: =CEILING(B12*0.38,1) -> 225 | E12: =CEILING(B12*0.54,1) -> 319 | F12: =CEILING(B12*0.92,1) -> 543 | G12: =CEILING(B12*1.02,1) -> 602 | H12: =CEILING(B12*1.25,1) -> 738 | I12: =CEILING(B12*1.25,1) -> 738 | J12: =CEILING(B12*1.35,1) -> 797
B13: =B12+10 -> 600 | C13: =CEILING(B13*0.25,1) -> 150 | D13: =CEILING(B13*0.38,1) -> 228 | E13: =CEILING(B13*0.54,1) -> 324 | F13: =CEILING(B13*0.92,1) -> 552 | G13: =CEILING(B13*1.02,1) -> 612 | H13: =CEILING(B13*1.25,1) -> 750 | I13: =CEILING(B13*1.25,1) -> 750 | J13: =CEILING(B13*1.35,1) -> 810
B14: =B13+10 -> 610 | C14: =CEILING(B14*0.25,1) -> 153 | D14: =CEILING(B14*0.38,1) -> 232 | E14: =CEILING(B14*0.54,1) -> 330 | F14: =CEILING(B14*0.92,1) -> 562 | G14: =CEILING(B14*1.02,1) -> 623 | H14: =CEILING(B14*1.25,1) -> 763 | I14: =CEILING(B14*1.25,1) -> 763 | J14: =CEILING(B14*1.35,1) -> 824
B15: =B14+10 -> 620 | C15: =CEILING(B15*0.25,1) -> 155 | D15: =CEILING(B15*0.38,1) -> 236 | E15: =CEILING(B15*0.54,1) -> 335 | F15: =CEILING(B15*0.92,1) -> 571 | G15: =CEILING(B15*1.02,1) -> 633 | H15: =CEILING(B15*1.25,1) -> 775 | I15: =CEILING(B15*1.25,1) -> 775 | J15: =CEILING(B15*1.35,1) -> 837
B16: =B15+10 -> 630 | C16: =CEILING(B16*0.25,1) -> 158 | D16: =CEILING(B16*0.38,1) -> 240 | E16: =CEILING(B16*0.54,1) -> 341 | F16: =CEILING(B16*0.92,1) -> 580 | G16: =CEILING(B16*1.02,1) -> 643 | H16: =CEILING(B16*1.25,1) -> 788 | I16: =CEILING(B16*1.25,1) -> 788 | J16: =CEILING(B16*1.35,1) -> 851
... B53: =B52+10 -> 1000 | C53: =CEILING(B53*0.25,1) -> 250 | D53: =CEILING(B53*0.38,1) -> 380 | E53: =CEILING(B53*0.54,1) -> 540 | F53: =CEILING(B53*0.92,1) -> 920 | G53: =CEILING(B53*1.02,1) -> 1020 | H53: =CEILING(B53*1.25,1) -> 1250 | I53: =CEILING(B53*1.25,1) -> 1250 | J53: =CEILING(B53*1.35,1) -> 1350
C54: Masse freinée du train en tonnes
B55: Sur le réseau belge, pour des compositions supérieures à 15 voitures,
B56: la masse freinée nécessaire est augmentée de 10%
