Workbook
Name COLA: 'mes donnees'!$A:$A
Name FAMILLES: OFFSET('mes donnees'!$A$2,,,COUNTA(COLA)-1)
Name LIGNE1: 'mes donnees'!$1:$1

Sheet mes donnees
A1: FAMILLES | B1: AAA | C1: BBB | D1: CCC
A2: AAA | B2: BDV-E690//ME3 | C2: AN-3DG20-B | D2: BCS-323
A3: BBB | B3: BDV-N890W//ME3 | C3: CARTE AJS VIACCESS | D3: BCS-FS525
A4: CCC | B4: DAV-TZ140//CE3 | C4: KI-OUA004WJN3 | D4: DCS-222K
B5: DCR-SR21E/BCE37 | C5: LC-32LD135E | D5: DV-2022
B6: DCR-SR21E/SCE37 | C6: LC-32LE350E-BK | D6: DV-3022V
B7: DCR-SX22/BCE37 | C7: LC-39LE350E-BK | D7: X-CM31-K
B8: DCR-SX22/SCE37 | C8: LC-39LE650 | D8: X-DS301-K
B9: DSC-W610/BCE32 | C9: LC-39LE750E | D9: X-EM11
B10: DSC-W610/SCE32 | C10: LC-50LE650E | D10: X-HM10-K
B11: DSC-W710/BCE37 | C11: LC-50LE750E | D11: X-HM20-S
B12: DSC-W710/PCE37 | C12: LC-60LE635E | D12: X-SMC1-K
B13: DSC-W710/SCE37 | C13: LC-70LE835E
B14: DSC-W730/BCE37 | C14: LC-80LE657
B15: DSC-W730/SCE37 | C15: LC-90LE740X
B16: DSC-WX80/BCE32
B17: DSC-WX80/WCE32
B18: DVA-DZ840K
B19: DVA-SZ1000W
B20: DVA-TZ715
B21: DVP-SR320/BCEA5
B22: DVP-SR760HPBCEA5
B23: HCD-SH2000/MEA3
B24: ICF-C205/SCSP5
B25: ICF-C318/BCSP5
B26: ICF-F10//CE
B27: KDL-32BX350AF1
... B56: SS-SH2000P/MEA

Sheet achat
A1: DATE | B1: MOIS | C1: N° BE | D1: FAMILLES | E1: ARTICLES | F1: Qte | G1: PU | H1: TOTAL
A2: 41416 | B2: =UPPER(TEXT(A2,"mmmm")) -> MAI | C2: 18758 | D2: AAA | E2: PLB-11E | F2: 104 | G2: 0 | H2: =Tableau4[[#This Row],[PU]]*Tableau4[[#This Row],[Qte]] -> 0
A3: 41416 | B3: =UPPER(TEXT(A3,"mmmm")) -> MAI | C3: 18758 | D3: AAA | E3: KDL-32BX350AF1 | F3: 104 | G3: 2500 | H3: =Tableau4[[#This Row],[PU]]*Tableau4[[#This Row],[Qte]] -> 260000
A4: 41425 | B4: =UPPER(TEXT(A4,"mmmm")) -> MAI | C4: 19019 | D4: CCC | E4: DV-2022 | F4: 10 | G4: 292.6 | H4: =Tableau4[[#This Row],[PU]]*Tableau4[[#This Row],[Qte]] -> 2926
A5: 41426 | B5: =UPPER(TEXT(A5,"mmmm")) -> JUIN | C5: 19019 | D5: CCC | E5: DV-3022V | F5: 5 | G5: 365.93 | H5: =Tableau4[[#This Row],[PU]]*Tableau4[[#This Row],[Qte]] -> 1829.65
A6: 41427 | B6: =UPPER(TEXT(A6,"mmmm")) -> JUIN | C6: 19019 | D6: CCC | E6: X-HM10-K | F6: 3 | G6: 879.27 | H6: =Tableau4[[#This Row],[PU]]*Tableau4[[#This Row],[Qte]] -> 2637.81
A7: 41428 | B7: =UPPER(TEXT(A7,"mmmm")) -> JUIN | C7: 19019 | D7: CCC | E7: X-HM20-S | F7: 2 | G7: 1392.6 | H7: =Tableau4[[#This Row],[PU]]*Tableau4[[#This Row],[Qte]] -> 2785.2
A8: 41429 | B8: =UPPER(TEXT(A8,"mmmm")) -> JUIN | C8: 19019 | D8: CCC | E8: X-SMC1-K | F8: 3 | G8: 1685.93 | H8: =Tableau4[[#This Row],[PU]]*Tableau4[[#This Row],[Qte]] -> 5057.79
A9: 41430 | B9: =UPPER(TEXT(A9,"mmmm")) -> JUIN | C9: 19019 | D9: CCC | E9: DCS-222K | F9: 3 | G9: 1465.93 | H9: =Tableau4[[#This Row],[PU]]*Tableau4[[#This Row],[Qte]] -> 4397.79
A10: 41431 | B10: =UPPER(TEXT(A10,"mmmm")) -> JUIN | C10: 19019 | D10: CCC | E10: X-DS301-K | F10: 5 | G10: 622.6 | H10: =Tableau4[[#This Row],[PU]]*Tableau4[[#This Row],[Qte]] -> 3113
A11: 41432 | B11: =UPPER(TEXT(A11,"mmmm")) -> JUIN | C11: 19019 | D11: CCC | E11: BCS-FS525 | F11: 2 | G11: 3152.6 | H11: =Tableau4[[#This Row],[PU]]*Tableau4[[#This Row],[Qte]] -> 6305.2
A12: 41433 | B12: =UPPER(TEXT(A12,"mmmm")) -> JUIN | C12: 19019 | D12: CCC | E12: X-EM11 | F12: 5 | G12: 732.6 | H12: =Tableau4[[#This Row],[PU]]*Tableau4[[#This Row],[Qte]] -> 3663
A13: 41434 | B13: =UPPER(TEXT(A13,"mmmm")) -> JUIN | C13: 19019 | D13: CCC | E13: X-CM31-K | F13: 3 | G13: 1465.93 | H13: =Tableau4[[#This Row],[PU]]*Tableau4[[#This Row],[Qte]] -> 4397.79
A14: 41435 | B14: =UPPER(TEXT(A14,"mmmm")) -> JUIN | C14: 19019 | D14: CCC | E14: BCS-323 | F14: 2 | G14: 3152.6 | H14: =Tableau4[[#This Row],[PU]]*Tableau4[[#This Row],[Qte]] -> 6305.2
A15: 41451 | B15: =UPPER(TEXT(A15,"mmmm")) -> JUIN | C15: 19400 | D15: AAA | E15: DVA-TZ715 | F15: 2 | G15: =(2267.42+1868.75)/2 -> 2068.085 | H15: =Tableau4[[#This Row],[PU]]*Tableau4[[#This Row],[Qte]] -> 4136.17
A16: 41451 | B16: =UPPER(TEXT(A16,"mmmm")) -> JUIN | C16: 19400 | D16: AAA | E16: DVA-DZ840K | F16: 2 | G16: =(3517.5+2931.25)/2 -> 3224.375 | H16: =Tableau4[[#This Row],[PU]]*Tableau4[[#This Row],[Qte]] -> 6448.75
A17: 41451 | B17: =UPPER(TEXT(A17,"mmmm")) -> JUIN | C17: 19400 | D17: AAA | E17: DVA-SZ1000W | F17: 2 | G17: =(4145.91+3493.75)/2 -> 3819.83 | H17: =Tableau4[[#This Row],[PU]]*Tableau4[[#This Row],[Qte]] -> 7639.66
A18: 41451 | B18: =UPPER(TEXT(A18,"mmmm")) -> JUIN | C18: 19400 | D18: AAA | E18: DVP-SR320/BCEA5 | F18: 5 | G18: =(264.66+218.12)/2 -> 241.39 | H18: =Tableau4[[#This Row],[PU]]*Tableau4[[#This Row],[Qte]] -> 1206.95
A19: 41451 | B19: =UPPER(TEXT(A19,"mmmm")) -> JUIN | C19: 19400 | D19: AAA | E19: DCR-SR21E/BCE37 | F19: 2 | G19: =(2425.91+1999.37)/2 -> 2212.64 | H19: =Tableau4[[#This Row],[PU]]*Tableau4[[#This Row],[Qte]] -> 4425.28
A20: 41451 | B20: =UPPER(TEXT(A20,"mmmm")) -> JUIN | C20: 19400 | D20: AAA | E20: LCS-BDE//CWW | F20: 18 | G20: 0 | H20: =Tableau4[[#This Row],[PU]]*Tableau4[[#This Row],[Qte]] -> 0
A21: 41451 | B21: =UPPER(TEXT(A21,"mmmm")) -> JUIN | C21: 19400 | D21: AAA | E21: DSC-W610/BCE32 | F21: 2 | G21: =(618.75+750.75)/2 -> 684.75 | H21: =Tableau4[[#This Row],[PU]]*Tableau4[[#This Row],[Qte]] -> 1369.5
A22: 41451 | B22: =UPPER(TEXT(A22,"mmmm")) -> JUIN | C22: 19400 | D22: AAA | E22: DCR-SR21E/SCE37 | F22: 2 | G22: =(2425.91+1999.37)/2 -> 2212.64 | H22: =Tableau4[[#This Row],[PU]]*Tableau4[[#This Row],[Qte]] -> 4425.28
A23: 41451 | B23: =UPPER(TEXT(A23,"mmmm")) -> JUIN | C23: 19400 | D23: AAA | E23: LCS-BDM/BC SYH | F23: 8 | G23: 0 | H23: =Tableau4[[#This Row],[PU]]*Tableau4[[#This Row],[Qte]] -> 0
A24: 41451 | B24: =UPPER(TEXT(A24,"mmmm")) -> JUIN | C24: 19400 | D24: AAA | E24: MDR-E10LP/HC3E | F24: 2 | G24: 86.28 | H24: =Tableau4[[#This Row],[PU]]*Tableau4[[#This Row],[Qte]] -> 172.56
A25: 41451 | B25: =UPPER(TEXT(A25,"mmmm")) -> JUIN | C25: 19400 | D25: AAA | E25: MDR-E10LP/PC3E | F25: 2 | G25: 86.28 | H25: =Tableau4[[#This Row],[PU]]*Tableau4[[#This Row],[Qte]] -> 172.56
A26: 41451 | B26: =UPPER(TEXT(A26,"mmmm")) -> JUIN | C26: 19400 | D26: AAA | E26: MDR-E11LP/LC | F26: 2 | G26: 86.28 | H26: =Tableau4[[#This Row],[PU]]*Tableau4[[#This Row],[Qte]] -> 172.56
A27: 41451 | B27: =UPPER(TEXT(A27,"mmmm")) -> JUIN | C27: 19400 | D27: AAA | E27: MDR-E11LP/WC | F27: 2 | G27: 86.28 | H27: =Tableau4[[#This Row],[PU]]*Tableau4[[#This Row],[Qte]] -> 172.56
A28: 41451 | B28: =UPPER(TEXT(A28,"mmmm")) -> JUIN | C28: 19400 | D28: AAA | E28: HCD-SH2000/MEA3 | F28: 2 | G28: 4887.59 | H28: =Tableau4[[#This Row],[PU]]*Tableau4[[#This Row],[Qte]] -> 9775.18
A29: 41451 | B29: =UPPER(TEXT(A29,"mmmm")) -> JUIN | C29: 19400 | D29: AAA | E29: SS-SH2000P/MEA | F29: 2 | G29: 0 | H29: =Tableau4[[#This Row],[PU]]*Tableau4[[#This Row],[Qte]] -> 0
A30: 41451 | B30: =UPPER(TEXT(A30,"mmmm")) -> JUIN | C30: 19400 | D30: AAA | E30: DAV-TZ140//CE3 | F30: 2 | G30: =(1054.08+868.75)/2 -> 961.415 | H30: =Tableau4[[#This Row],[PU]]*Tableau4[[#This Row],[Qte]] -> 1922.83
A31: 41451 | B31: =UPPER(TEXT(A31,"mmmm")) -> JUIN | C31: 19400 | D31: AAA | E31: SF-4N4//TET4 | F31: 4 | G31: 0 | H31: =Tableau4[[#This Row],[PU]]*Tableau4[[#This Row],[Qte]] -> 0
A32: 41451 | B32: =UPPER(TEXT(A32,"mmmm")) -> JUIN | C32: 19400 | D32: AAA | E32: ICF-F10//CE | F32: 2 | G32: 110.51 | H32: =Tableau4[[#This Row],[PU]]*Tableau4[[#This Row],[Qte]] -> 221.02
A33: 41451 | B33: =UPPER(TEXT(A33,"mmmm")) -> JUIN | C33: 19400 | D33: AAA | E33: ICF-C318/BCSP5 | F33: 2 | G33: 215.09 | H33: =Tableau4[[#This Row],[PU]]*Tableau4[[#This Row],[Qte]] -> 430.18
A34: 41451 | B34: =UPPER(TEXT(A34,"mmmm")) -> JUIN | C34: 19400 | D34: AAA | E34: ICF-C205/SCSP5 | F34: 2 | G34: 125.34 | H34: =Tableau4[[#This Row],[PU]]*Tableau4[[#This Row],[Qte]] -> 250.68
A35: 41451 | B35: =UPPER(TEXT(A35,"mmmm")) -> JUIN | C35: 19400 | D35: AAA | E35: DCR-SX22/BCE37 | F35: 2 | G35: =(1819.24+1499.38)/2 -> 1659.31 | H35: =Tableau4[[#This Row],[PU]]*Tableau4[[#This Row],[Qte]] -> 3318.62
A36: 41451 | B36: =UPPER(TEXT(A36,"mmmm")) -> JUIN | C36: 19400 | D36: AAA | E36: DCR-SX22/SCE37 | F36: 2 | G36: =(1819.24+1499.38)/2 -> 1659.31 | H36: =Tableau4[[#This Row],[PU]]*Tableau4[[#This Row],[Qte]] -> 3318.62
A37: 41451 | B37: =UPPER(TEXT(A37,"mmmm")) -> JUIN | C37: 19400 | D37: AAA | E37: DVPSR760HPBCEA5 | F37: 2 | G37: =(454.24+374.38)/2 -> 414.31 | H37: =Tableau4[[#This Row],[PU]]*Tableau4[[#This Row],[Qte]] -> 828.62
A38: 41451 | B38: =UPPER(TEXT(A38,"mmmm")) -> JUIN | C38: 19400 | D38: AAA | E38: DSC-W710/BCE37 | F38: 2 | G38: =(985.08+811.88)/2 -> 898.48 | H38: =Tableau4[[#This Row],[PU]]*Tableau4[[#This Row],[Qte]] -> 1796.96
A39: 41451 | B39: =UPPER(TEXT(A39,"mmmm")) -> JUIN | C39: 19400 | D39: AAA | E39: DSC-W710/SCE37 | F39: 2 | G39: =(985.08+811.88)/2 -> 898.48 | H39: =Tableau4[[#This Row],[PU]]*Tableau4[[#This Row],[Qte]] -> 1796.96
A40: 41451 | B40: =UPPER(TEXT(A40,"mmmm")) -> JUIN | C40: 19400 | D40: AAA | E40: DSC-W610/SCE32 | F40: 2 | G40: =(750.75+618.75)/2 -> 684.75 | H40: =Tableau4[[#This Row],[PU]]*Tableau4[[#This Row],[Qte]] -> 1369.5
A41: 41451 | B41: =UPPER(TEXT(A41,"mmmm")) -> JUIN | C41: 19400 | D41: AAA | E41: DSC-W730/SCE37 | F41: 2 | G41: =(1236.75+1030.63)/2 -> 1133.69 | H41: =Tableau4[[#This Row],[PU]]*Tableau4[[#This Row],[Qte]] -> 2267.38
A42: 41451 | B42: =UPPER(TEXT(A42,"mmmm")) -> JUIN | C42: 19400 | D42: AAA | E42: DSC-W730/BCE37 | F42: 2 | G42: =(1236.75+1030.63)/2 -> 1133.69 | H42: =Tableau4[[#This Row],[PU]]*Tableau4[[#This Row],[Qte]] -> 2267.38
A43: 41451 | B43: =UPPER(TEXT(A43,"mmmm")) -> JUIN | C43: 19400 | D43: AAA | E43: MDREX42LP/NQE | F43: 1 | G43: 129.78 | H43: =Tableau4[[#This Row],[PU]]*Tableau4[[#This Row],[Qte]] -> 129.78
A44: 41451 | B44: =UPPER(TEXT(A44,"mmmm")) -> JUIN | C44: 19400 | D44: AAA | E44: MDREX42LPVIQE | F44: 2 | G44: 129.78 | H44: =Tableau4[[#This Row],[PU]]*Tableau4[[#This Row],[Qte]] -> 259.56
A45: 41451 | B45: =UPPER(TEXT(A45,"mmmm")) -> JUIN | C45: 19400 | D45: AAA | E45: SF-8N4/T1ET4 | F45: 18 | G45: 0 | H45: =Tableau4[[#This Row],[PU]]*Tableau4[[#This Row],[Qte]] -> 0
A46: 41451 | B46: =UPPER(TEXT(A46,"mmmm")) -> JUIN | C46: 19400 | D46: AAA | E46: DSC-W710/PCE37 | F46: 2 | G46: =(985.08+811.88)/2 -> 898.48 | H46: =Tableau4[[#This Row],[PU]]*Tableau4[[#This Row],[Qte]] -> 1796.96
A47: 41451 | B47: =UPPER(TEXT(A47,"mmmm")) -> JUIN | C47: 19400 | D47: AAA | E47: DSC-WX80/BCE32 | F47: 2 | G47: =(1698.41+1431.25)/2 -> 1564.83 | H47: =Tableau4[[#This Row],[PU]]*Tableau4[[#This Row],[Qte]] -> 3129.66
A48: 41451 | B48: =UPPER(TEXT(A48,"mmmm")) -> JUIN | C48: 19400 | D48: AAA | E48: DSC-WX80/WCE32 | F48: 2 | G48: =(1698.41+1431.25)/2 -> 1564.83 | H48: =Tableau4[[#This Row],[PU]]*Tableau4[[#This Row],[Qte]] -> 3129.66
A49: 41452 | B49: =UPPER(TEXT(A49,"mmmm")) -> JUIN | C49: 19359 | D49: AAA | E49: PLB-11E | F49: 10 | G49: 0 | H49: =Tableau4[[#This Row],[PU]]*Tableau4[[#This Row],[Qte]] -> 0
A50: 41452 | B50: =UPPER(TEXT(A50,"mmmm")) -> JUIN | C50: 19359 | D50: AAA | E50: KDL55W804A/ZME6 | F50: 2 | G50: 8373.41 | H50: =Tableau4[[#This Row],[PU]]*Tableau4[[#This Row],[Qte]] -> 16746.82
A51: 41452 | B51: =UPPER(TEXT(A51,"mmmm")) -> JUIN | C51: 19359 | D51: AAA | E51: KDL-46W700AME6 | F51: 3 | G51: 9640.93 | H51: =Tableau4[[#This Row],[PU]]*Tableau4[[#This Row],[Qte]] -> 28922.79
A52: 41452 | B52: =UPPER(TEXT(A52,"mmmm")) -> JUIN | C52: 19359 | D52: AAA | E52: KDL-47W804A/ZME6 | F52: 2 | G52: 11488.41 | H52: =Tableau4[[#This Row],[PU]]*Tableau4[[#This Row],[Qte]] -> 22976.82
A53: 41452 | B53: =UPPER(TEXT(A53,"mmmm")) -> JUIN | C53: 19359 | D53: AAA | E53: KDL-42W804A/ZME6 | F53: 3 | G53: 7056.25 | H53: =Tableau4[[#This Row],[PU]]*Tableau4[[#This Row],[Qte]] -> 21168.75
A54: 41454 | B54: =UPPER(TEXT(A54,"mmmm")) -> JUIN | C54: 19636 | D54: AAA | E54: PLB-11E | F54: 16 | G54: 0 | H54: =Tableau4[[#This Row],[PU]]*Tableau4[[#This Row],[Qte]] -> 0
A55: 41454 | B55: =UPPER(TEXT(A55,"mmmm")) -> JUIN | C55: 19636 | D55: BBB | E55: AN-3DG20-B | F55: 14 | G55: 0 | H55: =Tableau4[[#This Row],[PU]]*Tableau4[[#This Row],[Qte]] -> 0
A56: 41454 | B56: =UPPER(TEXT(A56,"mmmm")) -> JUIN | C56: 19636 | D56: BBB | E56: LC-32LD135E | F56: 88 | G56: 2653.41 | H56: =Tableau4[[#This Row],[PU]]*Tableau4[[#This Row],[Qte]] -> 233500.08
A57: 41454 | B57: =UPPER(TEXT(A57,"mmmm")) -> JUIN | C57: 19636 | D57: BBB | E57: LC-32LE350E-BK | F57: 9 | G57: 0 | H57: =Tableau4[[#This Row],[PU]]*Tableau4[[#This Row],[Qte]] -> 0
A58: 41454 | B58: =UPPER(TEXT(A58,"mmmm")) -> JUIN | C58: 19636 | D58: BBB | E58: LC-50LE750E | F58: 3 | G58: 10026.16 | H58: =Tableau4[[#This Row],[PU]]*Tableau4[[#This Row],[Qte]] -> 30078.48
A59: 41454 | B59: =UPPER(TEXT(A59,"mmmm")) -> JUIN | C59: 19636 | D59: BBB | E59: LC-39LE750E | F59: 4 | G59: 6524.28 | H59: =Tableau4[[#This Row],[PU]]*Tableau4[[#This Row],[Qte]] -> 26097.12
A60: 41471 | B60: =UPPER(TEXT(A60,"mmmm")) -> JUILLET | C60: 19871 | D60: AAA | E60: PLB-11E | F60: 4 | G60: 0 | H60: =Tableau4[[#This Row],[PU]]*Tableau4[[#This Row],[Qte]] -> 0
... A66: 41472 | B66: =UPPER(TEXT(A66,"mmmm")) -> JUILLET | C66: 19882 | D66: AAA | E66: PLB-21 | F66: 1 | G66: 0 | H66: =Tableau4[[#This Row],[PU]]*Tableau4[[#This Row],[Qte]] -> 0
A67: 41472 | B67: =UPPER(TEXT(A67,"mmmm")) -> JUILLET | C67: 19882 | D67: AAA | E67: KDL-50R550AAF1 | F67: 2 | G67: =(11117.59+9368.75)/2 -> 10243.17 | H67: =Tableau4[[#This Row],[PU]]*Tableau4[[#This Row],[Qte]] -> 20486.34
A68: 41472 | B68: =UPPER(TEXT(A68,"mmmm")) -> JUILLET | C68: 19882 | D68: AAA | E68: KDL-60R550AAF1 | F68: 2 | G68: =(21742.75+18743.75)/2 -> 20243.25 | H68: =Tableau4[[#This Row],[PU]]*Tableau4[[#This Row],[Qte]] -> 40486.5
A69: 41472 | B69: =UPPER(TEXT(A69,"mmmm")) -> JUILLET | C69: 19882 | D69: AAA | E69: KDL-47R500AAF1 | F69: 2 | G69: =(8150.91+6868.75)/2 -> 7509.83 | H69: =Tableau4[[#This Row],[PU]]*Tableau4[[#This Row],[Qte]] -> 15019.66
A70: 41472 | B70: =UPPER(TEXT(A70,"mmmm")) -> JUILLET | C70: 19882 | D70: AAA | E70: KDL-55W904AME6 | F70: 2 | G70: =(23192.75+19993.75)/2 -> 21593.25 | H70: =Tableau4[[#This Row],[PU]]*Tableau4[[#This Row],[Qte]] -> 43186.5
A71: 41472 | B71: =UPPER(TEXT(A71,"mmmm")) -> JUILLET | C71: 19882 | D71: AAA | E71: KDL-70R550AAF1 | F71: 1 | G71: 34368.75 | H71: =Tableau4[[#This Row],[PU]]*Tableau4[[#This Row],[Qte]] -> 34368.75
A72: 41472 | B72: =UPPER(TEXT(A72,"mmmm")) -> JUILLET | C72: 19882 | D72: AAA | E72: KDL-46W904AME6 | F72: 2 | G72: =(13743.75+15942.75)/2 -> 14843.25 | H72: =Tableau4[[#This Row],[PU]]*Tableau4[[#This Row],[Qte]] -> 29686.5
A73: 41472 | B73: =UPPER(TEXT(A73,"mmmm")) -> JUILLET | C73: 19882 | D73: AAA | E73: KL14-44F | F73: 10 | G73: 0 | H73: =Tableau4[[#This Row],[PU]]*Tableau4[[#This Row],[Qte]] -> 0
A74: 41488 | B74: =UPPER(TEXT(A74,"mmmm")) -> AOÛT | C74: 20227 | D74: AAA | E74: KDL-42W670AME6 | F74: 2 | G74: =(5181.25+6217.5)/2 -> 5699.375 | H74: =Tableau4[[#This Row],[PU]]*Tableau4[[#This Row],[Qte]] -> 11398.75
A75: 41488 | B75: =UPPER(TEXT(A75,"mmmm")) -> AOÛT | C75: 20227 | D75: AAA | E75: KDL-46R450AME6 | F75: 2 | G75: =(5743.75+6815.91)/2 -> 6279.83 | H75: =Tableau4[[#This Row],[PU]]*Tableau4[[#This Row],[Qte]] -> 12559.66
A76: 41488 | B76: =UPPER(TEXT(A76,"mmmm")) -> AOÛT | C76: 20227 | D76: AAA | E76: KDL-40R450AME6 | F76: 2 | G76: =(4642.5+3868.75)/2 -> 4255.625 | H76: =Tableau4[[#This Row],[PU]]*Tableau4[[#This Row],[Qte]] -> 8511.25
A77: 41488 | B77: =UPPER(TEXT(A77,"mmmm")) -> AOÛT | C77: 20227 | D77: AAA | E77: KDL-32W670AME6 | F77: 2 | G77: =(3493.75+4239.08)/2 -> 3866.415 | H77: =Tableau4[[#This Row],[PU]]*Tableau4[[#This Row],[Qte]] -> 7732.83
A78: 41488 | B78: =UPPER(TEXT(A78,"mmmm")) -> AOÛT | C78: 20227 | D78: AAA | E78: KL14-44F | F78: 4 | G78: 0 | H78: =Tableau4[[#This Row],[PU]]*Tableau4[[#This Row],[Qte]] -> 0
A79: 41522 | B79: =UPPER(TEXT(A79,"mmmm")) -> SEPTEMBRE | C79: 21220 | D79: CCC | E79: X-HM10-K | F79: 1 | G79: 0 | H79: =Tableau4[[#This Row],[PU]]*Tableau4[[#This Row],[Qte]] -> 0
A80: 41522 | B80: =UPPER(TEXT(A80,"mmmm")) -> SEPTEMBRE | C80: 21220 | D80: AAA | E80: PLB-11E | F80: 6 | G80: 0 | H80: =Tableau4[[#This Row],[PU]]*Tableau4[[#This Row],[Qte]] -> 0
A81: 41522 | B81: =UPPER(TEXT(A81,"mmmm")) -> SEPTEMBRE | C81: 21220 | D81: CCC | E81: BCS-323 | F81: 1 | G81: 0 | H81: =Tableau4[[#This Row],[PU]]*Tableau4[[#This Row],[Qte]] -> 0
A82: 41522 | B82: =UPPER(TEXT(A82,"mmmm")) -> SEPTEMBRE | C82: 21220 | D82: BBB | E82: LC-70LE835E | F82: 2 | G82: =(38951.25+22912.5)/2 -> 30931.875 | H82: =Tableau4[[#This Row],[PU]]*Tableau4[[#This Row],[Qte]] -> 61863.75
A83: 41522 | B83: =UPPER(TEXT(A83,"mmmm")) -> SEPTEMBRE | C83: 21220 | D83: BBB | E83: LC-60LE635E | F83: 2 | G83: =(7912.5+13451.25)/2 -> 10681.875 | H83: =Tableau4[[#This Row],[PU]]*Tableau4[[#This Row],[Qte]] -> 21363.75
A84: 41522 | B84: =UPPER(TEXT(A84,"mmmm")) -> SEPTEMBRE | C84: 21220 | D84: AAA | E84: PLB-21 | F84: 4 | G84: 0 | H84: =Tableau4[[#This Row],[PU]]*Tableau4[[#This Row],[Qte]] -> 0
A85: 41522 | B85: =UPPER(TEXT(A85,"mmmm")) -> SEPTEMBRE | C85: 21220 | D85: BBB | E85: LC-39LE350E-BK | F85: 1 | G85: 0 | H85: =Tableau4[[#This Row],[PU]]*Tableau4[[#This Row],[Qte]] -> 0
A86: 41522 | B86: =UPPER(TEXT(A86,"mmmm")) -> SEPTEMBRE | C86: 21220 | D86: BBB | E86: LC-39LE750E | F86: 1 | G86: 0 | H86: =Tableau4[[#This Row],[PU]]*Tableau4[[#This Row],[Qte]] -> 0
A87: 41522 | B87: =UPPER(TEXT(A87,"mmmm")) -> SEPTEMBRE | C87: 21220 | D87: BBB | E87: LC-39LE650 | F87: 1 | G87: 0 | H87: =Tableau4[[#This Row],[PU]]*Tableau4[[#This Row],[Qte]] -> 0
A88: 41522 | B88: =UPPER(TEXT(A88,"mmmm")) -> SEPTEMBRE | C88: 21220 | D88: BBB | E88: LC-50LE650E | F88: 1 | G88: 0 | H88: =Tableau4[[#This Row],[PU]]*Tableau4[[#This Row],[Qte]] -> 0
A89: 41522 | B89: =UPPER(TEXT(A89,"mmmm")) -> SEPTEMBRE | C89: 21220 | D89: BBB | E89: CARTE AJS VIACCESS | F89: 3 | G89: 0 | H89: =Tableau4[[#This Row],[PU]]*Tableau4[[#This Row],[Qte]] -> 0
A90: 41522 | B90: =UPPER(TEXT(A90,"mmmm")) -> SEPTEMBRE | C90: 21220 | D90: BBB | E90: LC-80LE657 | F90: 2 | G90: =(56659.58+33329.17)/2 -> 44994.375 | H90: =Tableau4[[#This Row],[PU]]*Tableau4[[#This Row],[Qte]] -> 89988.75
A91: 41543 | B91: =UPPER(TEXT(A91,"mmmm")) -> SEPTEMBRE | C91: 21303 | D91: BBB | E91: LC-90LE740X | F91: 1 | G91: 109326.5 | H91: =Tableau4[[#This Row],[PU]]*Tableau4[[#This Row],[Qte]] -> 109326.5
A92: 41543 | B92: =UPPER(TEXT(A92,"mmmm")) -> SEPTEMBRE | C92: 21303 | D92: BBB | E92: KI-OUA004WJN3 | F92: 1 | G92: 0 | H92: =Tableau4[[#This Row],[PU]]*Tableau4[[#This Row],[Qte]] -> 0
A93: 41544 | B93: =UPPER(TEXT(A93,"mmmm")) -> SEPTEMBRE | C93: 21323 | D93: AAA | E93: KDL-32R400AME6 | F93: 5 | G93: 2842.5 | H93: =Tableau4[[#This Row],[PU]]*Tableau4[[#This Row],[Qte]] -> 14212.5
A94: 41545 | B94: =UPPER(TEXT(A94,"mmmm")) -> SEPTEMBRE | C94: 21362 | D94: AAA | E94: PLB-11E | F94: 1 | G94: 0 | H94: =Tableau4[[#This Row],[PU]]*Tableau4[[#This Row],[Qte]] -> 0
A95: 41545 | B95: =UPPER(TEXT(A95,"mmmm")) -> SEPTEMBRE | C95: 21362 | D95: BBB | E95: LC-39LE350E-BK | F95: 1 | G95: 4499.25 | H95: =Tableau4[[#This Row],[PU]]*Tableau4[[#This Row],[Qte]] -> 4499.25
A96: 41545 | B96: =UPPER(TEXT(A96,"mmmm")) -> SEPTEMBRE | C96: 21392 | D96: AAA | E96: KDL-32R400AME6 | F96: 50 | G96: 2708.58 | H96: =Tableau4[[#This Row],[PU]]*Tableau4[[#This Row],[Qte]] -> 135429
A97: 41588 | B97: =UPPER(TEXT(A97,"mmmm")) -> NOVEMBRE | C97: 21400 | D97: AAA | E97: KDL-32BX350AF1 | F97: 200 | G97: 2450 | H97: =Tableau4[[#This Row],[PU]]*Tableau4[[#This Row],[Qte]] -> 490000
A98: 41527 | B98: =UPPER(TEXT(A98,"mmmm")) -> SEPTEMBRE | C98: 22220 | D98: CCC | E98: BCS-323 | F98: 3 | G98: 3200 | H98: =Tableau4[[#This Row],[PU]]*Tableau4[[#This Row],[Qte]] -> 9600
B102: prix unitaire moyen = (3152,6+3200)/2
F104: NON

Sheet vente
A1: DATE | B1: MOIS | C1: N° BE | D1: FAMILLES | E1: ARTICLES | F1: Qte | G1: PU | H1: TOTAL
A2: 41547 | B2: =UPPER(TEXT(A2,"mmmm")) -> SEPTEMBRE | D2: AAA | E2: ICF-C205/SCSP5 | F2: 1 | G2: 150 | H2: =Tableau3[[#This Row],[PU]]*Tableau3[[#This Row],[Qte]] -> 150
A3: 41544 | B3: =UPPER(TEXT(A3,"mmmm")) -> SEPTEMBRE | D3: AAA | E3: KDL-40R450AME6 | F3: 1 | G3: 5700 | H3: =Tableau3[[#This Row],[PU]]*Tableau3[[#This Row],[Qte]] -> 5700
A4: 41559 | B4: =UPPER(TEXT(A4,"mmmm")) -> OCTOBRE | D4: AAA | E4: KDL-32W670AME6 | F4: 1 | G4: 5290 | H4: =Tableau3[[#This Row],[PU]]*Tableau3[[#This Row],[Qte]] -> 5290
A5: 41562 | B5: =UPPER(TEXT(A5,"mmmm")) -> OCTOBRE | D5: AAA | E5: PLB-11E | F5: 1 | G5: 100 | H5: =Tableau3[[#This Row],[PU]]*Tableau3[[#This Row],[Qte]] -> 100
A6: 41570 | B6: =UPPER(TEXT(A6,"mmmm")) -> OCTOBRE | D6: AAA | E6: KDL-42W670AME6 | F6: 1 | G6: 7500 | H6: =Tableau3[[#This Row],[PU]]*Tableau3[[#This Row],[Qte]] -> 7500
A7: 41576 | B7: =UPPER(TEXT(A7,"mmmm")) -> OCTOBRE | D7: BBB | E7: LC-39LE750E | F7: 1 | G7: 8300 | H7: =Tableau3[[#This Row],[PU]]*Tableau3[[#This Row],[Qte]] -> 8300
A8: 41582 | B8: =UPPER(TEXT(A8,"mmmm")) -> NOVEMBRE | C8: 13244 | D8: BBB | E8: LC-32LD135E | F8: 2 | G8: 2750 | H8: =Tableau3[[#This Row],[PU]]*Tableau3[[#This Row],[Qte]] -> 5500
A9: 41590 | B9: =UPPER(TEXT(A9,"mmmm")) -> NOVEMBRE | C9: 13500 | D9: AAA | E9: KDL-32BX350AF1 | F9: 10 | G9: 2700 | H9: =Tableau3[[#This Row],[PU]]*Tableau3[[#This Row],[Qte]] -> 27000

Sheet AAA
A1: ARTICLE | B1: CUMUL / ACHAT | E1: CUMUL / VENTE | G1: stock actuel
B2: Qte | C2: PU | D2: valeure | E2: Qte | F2: valeure | G2: Qte | H2: valeure
A3: ='mes donnees'!B2 -> BDV-E690//ME3 | B3: =SUMIF(OFFSET(achat!$E$2,,,COUNTA(achat!E:E),),AAA!A3,OFFSET(achat!$F$2,,,COUNTA(achat!F:F),)) -> 1 | D3: =SUMIF(OFFSET(achat!$E$2,,,COUNTA(achat!E:E),),AAA!A3,OFFSET(achat!$H$2,,,COUNTA(achat!H:H),)) -> 0 | E3: =SUMIF(OFFSET(vente!$E$2,,,COUNTA(vente!E:E),),AAA!A3,OFFSET(vente!$F$2,,,COUNTA(vente!F:F),)) -> 0 | F3: =SUMIF(OFFSET(vente!$E$2,,,COUNTA(vente!E:E),),AAA!A3,OFFSET(vente!$H$2,,,COUNTA(vente!H:H),)) -> 0 | G3: =B3-E3 -> 1 | H3: =C3*G3 -> 0
A4: ='mes donnees'!B3 -> BDV-N890W//ME3 | B4: =SUMIF(OFFSET(achat!$E$2,,,COUNTA(achat!E:E),),AAA!A4,OFFSET(achat!$F$2,,,COUNTA(achat!F:F),)) -> 2 | D4: =SUMIF(OFFSET(achat!$E$2,,,COUNTA(achat!E:E),),AAA!A4,OFFSET(achat!$H$2,,,COUNTA(achat!H:H),)) -> 0 | E4: =SUMIF(OFFSET(vente!$E$2,,,COUNTA(vente!E:E),),AAA!A4,OFFSET(vente!$F$2,,,COUNTA(vente!F:F),)) -> 0 | F4: =SUMIF(OFFSET(vente!$E$2,,,COUNTA(vente!E:E),),AAA!A4,OFFSET(vente!$H$2,,,COUNTA(vente!H:H),)) -> 0 | G4: =B4-E4 -> 2 | H4: =C4*G4 -> 0
A5: ='mes donnees'!B4 -> DAV-TZ140//CE3 | B5: =SUMIF(OFFSET(achat!$E$2,,,COUNTA(achat!E:E),),AAA!A5,OFFSET(achat!$F$2,,,COUNTA(achat!F:F),)) -> 2 | D5: =SUMIF(OFFSET(achat!$E$2,,,COUNTA(achat!E:E),),AAA!A5,OFFSET(achat!$H$2,,,COUNTA(achat!H:H),)) -> 1922.83 | E5: =SUMIF(OFFSET(vente!$E$2,,,COUNTA(vente!E:E),),AAA!A5,OFFSET(vente!$F$2,,,COUNTA(vente!F:F),)) -> 0 | F5: =SUMIF(OFFSET(vente!$E$2,,,COUNTA(vente!E:E),),AAA!A5,OFFSET(vente!$H$2,,,COUNTA(vente!H:H),)) -> 0 | G5: =B5-E5 -> 2 | H5: =C5*G5 -> 0
A6: ='mes donnees'!B5 -> DCR-SR21E/BCE37 | B6: =SUMIF(OFFSET(achat!$E$2,,,COUNTA(achat!E:E),),AAA!A6,OFFSET(achat!$F$2,,,COUNTA(achat!F:F),)) -> 2 | D6: =SUMIF(OFFSET(achat!$E$2,,,COUNTA(achat!E:E),),AAA!A6,OFFSET(achat!$H$2,,,COUNTA(achat!H:H),)) -> 4425.28 | E6: =SUMIF(OFFSET(vente!$E$2,,,COUNTA(vente!E:E),),AAA!A6,OFFSET(vente!$F$2,,,COUNTA(vente!F:F),)) -> 0 | F6: =SUMIF(OFFSET(vente!$E$2,,,COUNTA(vente!E:E),),AAA!A6,OFFSET(vente!$H$2,,,COUNTA(vente!H:H),)) -> 0 | G6: =B6-E6 -> 2 | H6: =C6*G6 -> 0
A7: ='mes donnees'!B6 -> DCR-SR21E/SCE37 | B7: =SUMIF(OFFSET(achat!$E$2,,,COUNTA(achat!E:E),),AAA!A7,OFFSET(achat!$F$2,,,COUNTA(achat!F:F),)) -> 2 | D7: =SUMIF(OFFSET(achat!$E$2,,,COUNTA(achat!E:E),),AAA!A7,OFFSET(achat!$H$2,,,COUNTA(achat!H:H),)) -> 4425.28 | E7: =SUMIF(OFFSET(vente!$E$2,,,COUNTA(vente!E:E),),AAA!A7,OFFSET(vente!$F$2,,,COUNTA(vente!F:F),)) -> 0 | F7: =SUMIF(OFFSET(vente!$E$2,,,COUNTA(vente!E:E),),AAA!A7,OFFSET(vente!$H$2,,,COUNTA(vente!H:H),)) -> 0 | G7: =B7-E7 -> 2 | H7: =C7*G7 -> 0
A8: ='mes donnees'!B7 -> DCR-SX22/BCE37 | B8: =SUMIF(OFFSET(achat!$E$2,,,COUNTA(achat!E:E),),AAA!A8,OFFSET(achat!$F$2,,,COUNTA(achat!F:F),)) -> 2 | D8: =SUMIF(OFFSET(achat!$E$2,,,COUNTA(achat!E:E),),AAA!A8,OFFSET(achat!$H$2,,,COUNTA(achat!H:H),)) -> 3318.62 | E8: =SUMIF(OFFSET(vente!$E$2,,,COUNTA(vente!E:E),),AAA!A8,OFFSET(vente!$F$2,,,COUNTA(vente!F:F),)) -> 0 | F8: =SUMIF(OFFSET(vente!$E$2,,,COUNTA(vente!E:E),),AAA!A8,OFFSET(vente!$H$2,,,COUNTA(vente!H:H),)) -> 0 | G8: =B8-E8 -> 2 | H8: =C8*G8 -> 0
A9: ='mes donnees'!B8 -> DCR-SX22/SCE37 | B9: =SUMIF(OFFSET(achat!$E$2,,,COUNTA(achat!E:E),),AAA!A9,OFFSET(achat!$F$2,,,COUNTA(achat!F:F),)) -> 2 | D9: =SUMIF(OFFSET(achat!$E$2,,,COUNTA(achat!E:E),),AAA!A9,OFFSET(achat!$H$2,,,COUNTA(achat!H:H),)) -> 3318.62 | E9: =SUMIF(OFFSET(vente!$E$2,,,COUNTA(vente!E:E),),AAA!A9,OFFSET(vente!$F$2,,,COUNTA(vente!F:F),)) -> 0 | F9: =SUMIF(OFFSET(vente!$E$2,,,COUNTA(vente!E:E),),AAA!A9,OFFSET(vente!$H$2,,,COUNTA(vente!H:H),)) -> 0 | G9: =B9-E9 -> 2 | H9: =C9*G9 -> 0
A10: ='mes donnees'!B9 -> DSC-W610/BCE32 | B10: =SUMIF(OFFSET(achat!$E$2,,,COUNTA(achat!E:E),),AAA!A10,OFFSET(achat!$F$2,,,COUNTA(achat!F:F),)) -> 2 | D10: =SUMIF(OFFSET(achat!$E$2,,,COUNTA(achat!E:E),),AAA!A10,OFFSET(achat!$H$2,,,COUNTA(achat!H:H),)) -> 1369.5 | E10: =SUMIF(OFFSET(vente!$E$2,,,COUNTA(vente!E:E),),AAA!A10,OFFSET(vente!$F$2,,,COUNTA(vente!F:F),)) -> 0 | F10: =SUMIF(OFFSET(vente!$E$2,,,COUNTA(vente!E:E),),AAA!A10,OFFSET(vente!$H$2,,,COUNTA(vente!H:H),)) -> 0 | G10: =B10-E10 -> 2 | H10: =C10*G10 -> 0
A11: ='mes donnees'!B10 -> DSC-W610/SCE32 | B11: =SUMIF(OFFSET(achat!$E$2,,,COUNTA(achat!E:E),),AAA!A11,OFFSET(achat!$F$2,,,COUNTA(achat!F:F),)) -> 2 | D11: =SUMIF(OFFSET(achat!$E$2,,,COUNTA(achat!E:E),),AAA!A11,OFFSET(achat!$H$2,,,COUNTA(achat!H:H),)) -> 1369.5 | E11: =SUMIF(OFFSET(vente!$E$2,,,COUNTA(vente!E:E),),AAA!A11,OFFSET(vente!$F$2,,,COUNTA(vente!F:F),)) -> 0 | F11: =SUMIF(OFFSET(vente!$E$2,,,COUNTA(vente!E:E),),AAA!A11,OFFSET(vente!$H$2,,,COUNTA(vente!H:H),)) -> 0 | G11: =B11-E11 -> 2 | H11: =C11*G11 -> 0
A12: ='mes donnees'!B11 -> DSC-W710/BCE37 | B12: =SUMIF(OFFSET(achat!$E$2,,,COUNTA(achat!E:E),),AAA!A12,OFFSET(achat!$F$2,,,COUNTA(achat!F:F),)) -> 2 | D12: =SUMIF(OFFSET(achat!$E$2,,,COUNTA(achat!E:E),),AAA!A12,OFFSET(achat!$H$2,,,COUNTA(achat!H:H),)) -> 1796.96 | E12: =SUMIF(OFFSET(vente!$E$2,,,COUNTA(vente!E:E),),AAA!A12,OFFSET(vente!$F$2,,,COUNTA(vente!F:F),)) -> 0 | F12: =SUMIF(OFFSET(vente!$E$2,,,COUNTA(vente!E:E),),AAA!A12,OFFSET(vente!$H$2,,,COUNTA(vente!H:H),)) -> 0 | G12: =B12-E12 -> 2 | H12: =C12*G12 -> 0
A13: ='mes donnees'!B12 -> DSC-W710/PCE37 | B13: =SUMIF(OFFSET(achat!$E$2,,,COUNTA(achat!E:E),),AAA!A13,OFFSET(achat!$F$2,,,COUNTA(achat!F:F),)) -> 2 | D13: =SUMIF(OFFSET(achat!$E$2,,,COUNTA(achat!E:E),),AAA!A13,OFFSET(achat!$H$2,,,COUNTA(achat!H:H),)) -> 1796.96 | E13: =SUMIF(OFFSET(vente!$E$2,,,COUNTA(vente!E:E),),AAA!A13,OFFSET(vente!$F$2,,,COUNTA(vente!F:F),)) -> 0 | F13: =SUMIF(OFFSET(vente!$E$2,,,COUNTA(vente!E:E),),AAA!A13,OFFSET(vente!$H$2,,,COUNTA(vente!H:H),)) -> 0 | G13: =B13-E13 -> 2 | H13: =C13*G13 -> 0
A14: ='mes donnees'!B13 -> DSC-W710/SCE37 | B14: =SUMIF(OFFSET(achat!$E$2,,,COUNTA(achat!E:E),),AAA!A14,OFFSET(achat!$F$2,,,COUNTA(achat!F:F),)) -> 2 | D14: =SUMIF(OFFSET(achat!$E$2,,,COUNTA(achat!E:E),),AAA!A14,OFFSET(achat!$H$2,,,COUNTA(achat!H:H),)) -> 1796.96 | E14: =SUMIF(OFFSET(vente!$E$2,,,COUNTA(vente!E:E),),AAA!A14,OFFSET(vente!$F$2,,,COUNTA(vente!F:F),)) -> 0 | F14: =SUMIF(OFFSET(vente!$E$2,,,COUNTA(vente!E:E),),AAA!A14,OFFSET(vente!$H$2,,,COUNTA(vente!H:H),)) -> 0 | G14: =B14-E14 -> 2 | H14: =C14*G14 -> 0
... A57: ='mes donnees'!B56 -> SS-SH2000P/MEA | B57: =SUMIF(OFFSET(achat!$E$2,,,COUNTA(achat!E:E),),AAA!A57,OFFSET(achat!$F$2,,,COUNTA(achat!F:F),)) -> 2 | D57: =SUMIF(OFFSET(achat!$E$2,,,COUNTA(achat!E:E),),AAA!A57,OFFSET(achat!$H$2,,,COUNTA(achat!H:H),)) -> 0 | E57: =SUMIF(OFFSET(vente!$E$2,,,COUNTA(vente!E:E),),AAA!A57,OFFSET(vente!$F$2,,,COUNTA(vente!F:F),)) -> 0 | F57: =SUMIF(OFFSET(vente!$E$2,,,COUNTA(vente!E:E),),AAA!A57,OFFSET(vente!$H$2,,,COUNTA(vente!H:H),)) -> 0 | G57: =B57-E57 -> 2 | H57: =C57*G57 -> 0
D58: =SUMIF(OFFSET(achat!$E$2,,,COUNTA(achat!E:E),),AAA!A58,OFFSET(achat!$H$2,,,COUNTA(achat!H:H),)) -> 0 | H58: =C58*G58 -> 0
D59: =SUMIF(OFFSET(achat!$E$2,,,COUNTA(achat!E:E),),AAA!A59,OFFSET(achat!$H$2,,,COUNTA(achat!H:H),)) -> 0 | H59: =C59*G59 -> 0
D60: =SUMIF(OFFSET(achat!$E$2,,,COUNTA(achat!E:E),),AAA!A60,OFFSET(achat!$H$2,,,COUNTA(achat!H:H),)) -> 0 | H60: =C60*G60 -> 0
D61: =SUMIF(OFFSET(achat!$E$2,,,COUNTA(achat!E:E),),AAA!A61,OFFSET(achat!$H$2,,,COUNTA(achat!H:H),)) -> 0 | H61: =C61*G61 -> 0
D62: =SUMIF(OFFSET(achat!$E$2,,,COUNTA(achat!E:E),),AAA!A62,OFFSET(achat!$H$2,,,COUNTA(achat!H:H),)) -> 0 | H62: =C62*G62 -> 0
D63: =SUMIF(OFFSET(achat!$E$2,,,COUNTA(achat!E:E),),AAA!A63,OFFSET(achat!$H$2,,,COUNTA(achat!H:H),)) -> 0 | H63: =C63*G63 -> 0
D64: =SUMIF(OFFSET(achat!$E$2,,,COUNTA(achat!E:E),),AAA!A64,OFFSET(achat!$H$2,,,COUNTA(achat!H:H),)) -> 0 | H64: =C64*G64 -> 0
D65: =SUMIF(OFFSET(achat!$E$2,,,COUNTA(achat!E:E),),AAA!A65,OFFSET(achat!$H$2,,,COUNTA(achat!H:H),)) -> 0 | H65: =C65*G65 -> 0
D66: =SUMIF(OFFSET(achat!$E$2,,,COUNTA(achat!E:E),),AAA!A66,OFFSET(achat!$H$2,,,COUNTA(achat!H:H),)) -> 0 | H66: =C66*G66 -> 0
D67: =SUMIF(OFFSET(achat!$E$2,,,COUNTA(achat!E:E),),AAA!A67,OFFSET(achat!$H$2,,,COUNTA(achat!H:H),)) -> 0 | H67: =C67*G67 -> 0
D68: =SUMIF(OFFSET(achat!$E$2,,,COUNTA(achat!E:E),),AAA!A68,OFFSET(achat!$H$2,,,COUNTA(achat!H:H),)) -> 0 | H68: =C68*G68 -> 0
D69: =SUMIF(OFFSET(achat!$E$2,,,COUNTA(achat!E:E),),AAA!A69,OFFSET(achat!$H$2,,,COUNTA(achat!H:H),)) -> 0 | H69: =C69*G69 -> 0
... D98: =SUMIF(OFFSET(achat!$E$2,,,COUNTA(achat!E:E),),AAA!A98,OFFSET(achat!$H$2,,,COUNTA(achat!H:H),)) -> 0 | H98: =C98*G98 -> 0
D99: =SUMIF(OFFSET(achat!$E$2,,,COUNTA(achat!E:E),),AAA!A99,OFFSET(achat!$H$2,,,COUNTA(achat!H:H),)) -> 0
D100: =SUMIF(OFFSET(achat!$E$2,,,COUNTA(achat!E:E),),AAA!A100,OFFSET(achat!$H$2,,,COUNTA(achat!H:H),)) -> 0
D101: =SUMIF(OFFSET(achat!$E$2,,,COUNTA(achat!E:E),),AAA!A101,OFFSET(achat!$H$2,,,COUNTA(achat!H:H),)) -> 0
D102: =SUMIF(OFFSET(achat!$E$2,,,COUNTA(achat!E:E),),AAA!A102,OFFSET(achat!$H$2,,,COUNTA(achat!H:H),)) -> 0
D103: =SUMIF(OFFSET(achat!$E$2,,,COUNTA(achat!E:E),),AAA!A103,OFFSET(achat!$H$2,,,COUNTA(achat!H:H),)) -> 0
D104: =SUMIF(OFFSET(achat!$E$2,,,COUNTA(achat!E:E),),AAA!A104,OFFSET(achat!$H$2,,,COUNTA(achat!H:H),)) -> 0

Sheet BBB
A1: ARTICLE | B1: CUMUL / ACHAT | D1: CUMUL / VENTE | F1: stock actuel
B2: Qte | C2: valeure | D2: Qte | E2: valeure | F2: Qte | G2: valeure
A3: ='mes donnees'!C2 -> AN-3DG20-B
A4: ='mes donnees'!C3 -> CARTE AJS VIACCESS
A5: ='mes donnees'!C4 -> KI-OUA004WJN3
A6: ='mes donnees'!C5 -> LC-32LD135E
A7: ='mes donnees'!C6 -> LC-32LE350E-BK
A8: ='mes donnees'!C7 -> LC-39LE350E-BK
A9: ='mes donnees'!C8 -> LC-39LE650
A10: ='mes donnees'!C9 -> LC-39LE750E
A11: ='mes donnees'!C10 -> LC-50LE650E
A12: ='mes donnees'!C11 -> LC-50LE750E
A13: ='mes donnees'!C12 -> LC-60LE635E
A14: ='mes donnees'!C13 -> LC-70LE835E
... A60: ='mes donnees'!C59 -> 0

Sheet CCC
A1: ARTICLE | B1: CUMUL / ACHAT | D1: CUMUL / VENTE | F1: stock actuel
B2: Qte | C2: valeure | D2: Qte | E2: valeure | F2: Qte | G2: valeure
A3: ='mes donnees'!D2 -> BCS-323
A4: ='mes donnees'!D3 -> BCS-FS525
A5: ='mes donnees'!D4 -> DCS-222K
A6: ='mes donnees'!D5 -> DV-2022
A7: ='mes donnees'!D6 -> DV-3022V
A8: ='mes donnees'!D7 -> X-CM31-K
A9: ='mes donnees'!D8 -> X-DS301-K
A10: ='mes donnees'!D9 -> X-EM11
A11: ='mes donnees'!D10 -> X-HM10-K
A12: ='mes donnees'!D11 -> X-HM20-S
A13: ='mes donnees'!D12 -> X-SMC1-K
A14: ='mes donnees'!D13 -> 0
... A30: ='mes donnees'!D29 -> 0
