Workbook
Name COLA: 'mes donnees'!$A:$A
Name FAMILLES: OFFSET('mes donnees'!$A$2,,,COUNTA(COLA)-1)
Name LIGNE1: 'mes donnees'!$1:$1

Sheet mes donnees
A1: FAMILLES | B1: AAA | C1: BBB | D1: CCC
A2: AAA | B2: BDV-E690//ME3 | C2: AN-3DG20-B | D2: BCS-323
A3: BBB | B3: BDV-N890W//ME3 | C3: CARTE AJS VIACCESS | D3: BCS-FS525
A4: CCC | B4: DAV-TZ140//CE3 | C4: KI-OUA004WJN3 | D4: DCS-222K
B5: DCR-SR21E/BCE37 | C5: LC-32LD135E | D5: DV-2022
B6: DCR-SR21E/SCE37 | C6: LC-32LE350E-BK | D6: DV-3022V
B7: DCR-SX22/BCE37 | C7: LC-39LE350E-BK | D7: X-CM31-K
B8: DCR-SX22/SCE37 | C8: LC-39LE650 | D8: X-DS301-K
B9: DSC-W610/BCE32 | C9: LC-39LE750E | D9: X-EM11
B10: DSC-W610/SCE32 | C10: LC-50LE650E | D10: X-HM10-K
B11: DSC-W710/BCE37 | C11: LC-50LE750E | D11: X-HM20-S
B12: DSC-W710/PCE37 | C12: LC-60LE635E | D12: X-SMC1-K
B13: DSC-W710/SCE37 | C13: LC-70LE835E
B14: DSC-W730/BCE37 | C14: LC-80LE657
B15: DSC-W730/SCE37 | C15: LC-90LE740X
B16: DSC-WX80/BCE32
B17: DSC-WX80/WCE32
B18: DVA-DZ840K
B19: DVA-SZ1000W
B20: DVA-TZ715
B21: DVP-SR320/BCEA5
B22: DVP-SR760HPBCEA5
B23: HCD-SH2000/MEA3
B24: ICF-C205/SCSP5
B25: ICF-C318/BCSP5
B26: ICF-F10//CE
B27: KDL-32BX350AF1
... B56: SS-SH2000P/MEA

Sheet achat
A1: DATE | B1: MOIS | C1: N° BE | D1: FAMILLES | E1: ARTICLES | F1: Qte | G1: PU | H1: TOTAL
A2: 41416 | B2: =UPPER(TEXT(A2,"mmmm")) -> MAI | C2: 18758 | D2: AAA | E2: PLB-11E | F2: 104 | G2: 0 | H2: =Tableau4[[#This Row],[PU]]*Tableau4[[#This Row],[Qte]] -> 0
A3: 41416 | B3: =UPPER(TEXT(A3,"mmmm")) -> MAI | C3: 18758 | D3: AAA | E3: KDL-32BX350AF1 | F3: 104 | G3: 2500 | H3: =Tableau4[[#This Row],[PU]]*Tableau4[[#This Row],[Qte]] -> 260000
A4: 41425 | B4: =UPPER(TEXT(A4,"mmmm")) -> MAI | C4: 19019 | D4: CCC | E4: DV-2022 | F4: 10 | G4: 292.6 | H4: =Tableau4[[#This Row],[PU]]*Tableau4[[#This Row],[Qte]] -> 2926
A5: 41426 | B5: =UPPER(TEXT(A5,"mmmm")) -> JUIN | C5: 19019 | D5: CCC | E5: DV-3022V | F5: 5 | G5: 365.93 | H5: =Tableau4[[#This Row],[PU]]*Tableau4[[#This Row],[Qte]] -> 1829.65
A6: 41427 | B6: =UPPER(TEXT(A6,"mmmm")) -> JUIN | C6: 19019 | D6: CCC | E6: X-HM10-K | F6: 3 | G6: 879.27 | H6: =Tableau4[[#This Row],[PU]]*Tableau4[[#This Row],[Qte]] -> 2637.81
A7: 41428 | B7: =UPPER(TEXT(A7,"mmmm")) -> JUIN | C7: 19019 | D7: CCC | E7: X-HM20-S | F7: 2 | G7: 1392.6 | H7: =Tableau4[[#This Row],[PU]]*Tableau4[[#This Row],[Qte]] -> 2785.2
A8: 41429 | B8: =UPPER(TEXT(A8,"mmmm")) -> JUIN | C8: 19019 | D8: CCC | E8: X-SMC1-K | F8: 3 | G8: 1685.93 | H8: =Tableau4[[#This Row],[PU]]*Tableau4[[#This Row],[Qte]] -> 5057.79
A9: 41430 | B9: =UPPER(TEXT(A9,"mmmm")) -> JUIN | C9: 19019 | D9: CCC | E9: DCS-222K | F9: 3 | G9: 1465.93 | H9: =Tableau4[[#This Row],[PU]]*Tableau4[[#This Row],[Qte]] -> 4397.79
A10: 41431 | B10: =UPPER(TEXT(A10,"mmmm")) -> JUIN | C10: 19019 | D10: CCC | E10: X-DS301-K | F10: 5 | G10: 622.6 | H10: =Tableau4[[#This Row],[PU]]*Tableau4[[#This Row],[Qte]] -> 3113
A11: 41432 | B11: =UPPER(TEXT(A11,"mmmm")) -> JUIN | C11: 19019 | D11: CCC | E11: BCS-FS525 | F11: 2 | G11: 3152.6 | H11: =Tableau4[[#This Row],[PU]]*Tableau4[[#This Row],[Qte]] -> 6305.2
A12: 41433 | B12: =UPPER(TEXT(A12,"mmmm")) -> JUIN | C12: 19019 | D12: CCC | E12: X-EM11 | F12: 5 | G12: 732.6 | H12: =Tableau4[[#This Row],[PU]]*Tableau4[[#This Row],[Qte]] -> 3663
A13: 41434 | B13: =UPPER(TEXT(A13,"mmmm")) -> JUIN | C13: 19019 | D13: CCC | E13: X-CM31-K | F13: 3 | G13: 1465.93 | H13: =Tableau4[[#This Row],[PU]]*Tableau4[[#This Row],[Qte]] -> 4397.79
A14: 41435 | B14: =UPPER(TEXT(A14,"mmmm")) -> JUIN | C14: 19019 | D14: CCC | E14: BCS-323 | F14: 2 | G14: 3152.6 | H14: =Tableau4[[#This Row],[PU]]*Tableau4[[#This Row],[Qte]] -> 6305.2
A15: 41451 | B15: =UPPER(TEXT(A15,"mmmm")) -> JUIN | C15: 19400 | D15: AAA | E15: DVA-TZ715 | F15: 2 | G15: =(2267.42+1868.75)/2 -> 2068.085 | H15: =Tableau4[[#This Row],[PU]]*Tableau4[[#This Row],[Qte]] -> 4136.17
A16: 41451 | B16: =UPPER(TEXT(A16,"mmmm")) -> JUIN | C16: 19400 | D16: AAA | E16: DVA-DZ840K | F16: 2 | G16: =(3517.5+2931.25)/2 -> 3224.375 | H16: =Tableau4[[#This Row],[PU]]*Tableau4[[#This Row],[Qte]] -> 6448.75
A17: 41451 | B17: =UPPER(TEXT(A17,"mmmm")) -> JUIN | C17: 19400 | D17: AAA | E17: DVA-SZ1000W | F17: 2 | G17: =(4145.91+3493.75)/2 -> 3819.83 | H17: =Tableau4[[#This Row],[PU]]*Tableau4[[#This Row],[Qte]] -> 7639.66
A18: 41451 | B18: =UPPER(TEXT(A18,"mmmm")) -> JUIN | C18: 19400 | D18: AAA | E18: DVP-SR320/BCEA5 | F18: 5 | G18: =(264.66+218.12)/2 -> 241.39 | H18: =Tableau4[[#This Row],[PU]]*Tableau4[[#This Row],[Qte]] -> 1206.95
A19: 41451 | B19: =UPPER(TEXT(A19,"mmmm")) -> JUIN | C19: 19400 | D19: AAA | E19: DCR-SR21E/BCE37 | F19: 2 | G19: =(2425.91+1999.37)/2 -> 2212.64 | H19: =Tableau4[[#This Row],[PU]]*Tableau4[[#This Row],[Qte]] -> 4425.28
A20: 41451 | B20: =UPPER(TEXT(A20,"mmmm")) -> JUIN | C20: 19400 | D20: AAA | E20: LCS-BDE//CWW | F20: 18 | G20: 0 | H20: =Tableau4[[#This Row],[PU]]*Tableau4[[#This Row],[Qte]] -> 0
A21: 41451 | B21: =UPPER(TEXT(A21,"mmmm")) -> JUIN | C21: 19400 | D21: AAA | E21: DSC-W610/BCE32 | F21: 2 | G21: =(618.75+750.75)/2 -> 684.75 | H21: =Tableau4[[#This Row],[PU]]*Tableau4[[#This Row],[Qte]] -> 1369.5
A22: 41451 | B22: =UPPER(TEXT(A22,"mmmm")) -> JUIN | C22: 19400 | D22: AAA | E22: DCR-SR21E/SCE37 | F22: 2 | G22: =(2425.91+1999.37)/2 -> 2212.64 | H22: =Tableau4[[#This Row],[PU]]*Tableau4[[#This Row],[Qte]] -> 4425.28
A23: 41451 | B23: =UPPER(TEXT(A23,"mmmm")) -> JUIN | C23: 19400 | D23: AAA | E23: LCS-BDM/BC SYH | F23: 8 | G23: 0 | H23: =Tableau4[[#This Row],[PU]]*Tableau4[[#This Row],[Qte]] -> 0
A24: 41451 | B24: =UPPER(TEXT(A24,"mmmm")) -> JUIN | C24: 19400 | D24: AAA | E24: MDR-E10LP/HC3E | F24: 2 | G24: 86.28 | H24: =Tableau4[[#This Row],[PU]]*Tableau4[[#This Row],[Qte]] -> 172.56
A25: 41451 | B25: =UPPER(TEXT(A25,"mmmm")) -> JUIN | C25: 19400 | D25: AAA | E25: MDR-E10LP/PC3E | F25: 2 | G25: 86.28 | H25: =Tableau4[[#This Row],[PU]]*Tableau4[[#This Row],[Qte]] -> 172.56
A26: 41451 | B26: =UPPER(TEXT(A26,"mmmm")) -> JUIN | C26: 19400 | D26: AAA | E26: MDR-E11LP/LC | F26: 2 | G26: 86.28 | H26: =Tableau4[[#This Row],[PU]]*Tableau4[[#This Row],[Qte]] -> 172.56
A27: 41451 | B27: =UPPER(TEXT(A27,"mmmm")) -> JUIN | C27: 19400 | D27: AAA | E27: MDR-E11LP/WC | F27: 2 | G27: 86.28 | H27: =Tableau4[[#This Row],[PU]]*Tableau4[[#This Row],[Qte]] -> 172.56
A28: 41451 | B28: =UPPER(TEXT(A28,"mmmm")) -> JUIN | C28: 19400 | D28: AAA | E28: HCD-SH2000/MEA3 | F28: 2 | G28: 4887.59 | H28: =Tableau4[[#This Row],[PU]]*Tableau4[[#This Row],[Qte]] -> 9775.18
A29: 41451 | B29: =UPPER(TEXT(A29,"mmmm")) -> JUIN | C29: 19400 | D29: AAA | E29: SS-SH2000P/MEA | F29: 2 | G29: 0 | H29: =Tableau4[[#This Row],[PU]]*Tableau4[[#This Row],[Qte]] -> 0
A30: 41451 | B30: =UPPER(TEXT(A30,"mmmm")) -> JUIN | C30: 19400 | D30: AAA | E30: DAV-TZ140//CE3 | F30: 2 | G30: =(1054.08+868.75)/2 -> 961.415 | H30: =Tableau4[[#This Row],[PU]]*Tableau4[[#This Row],[Qte]] -> 1922.83
A31: 41451 | B31: =UPPER(TEXT(A31,"mmmm")) -> JUIN | C31: 19400 | D31: AAA | E31: SF-4N4//TET4 | F31: 4 | G31: 0 | H31: =Tableau4[[#This Row],[PU]]*Tableau4[[#This Row],[Qte]] -> 0
A32: 41451 | B32: =UPPER(TEXT(A32,"mmmm")) -> JUIN | C32: 19400 | D32: AAA | E32: ICF-F10//CE | F32: 2 | G32: 110.51 | H32: =Tableau4[[#This Row],[PU]]*Tableau4[[#This Row],[Qte]] -> 221.02
A33: 41451 | B33: =UPPER(TEXT(A33,"mmmm")) -> JUIN | C33: 19400 | D33: AAA | E33: ICF-C318/BCSP5 | F33: 2 | G33: 215.09 | H33: =Tableau4[[#This Row],[PU]]*Tableau4[[#This Row],[Qte]] -> 430.18
A34: 41451 | B34: =UPPER(TEXT(A34,"mmmm")) -> JUIN | C34: 19400 | D34: AAA | E34: ICF-C205/SCSP5 | F34: 2 | G34: 125.34 | H34: =Tableau4[[#This Row],[PU]]*Tableau4[[#This Row],[Qte]] -> 250.68
A35: 41451 | B35: =UPPER(TEXT(A35,"mmmm")) -> JUIN | C35: 19400 | D35: AAA | E35: DCR-SX22/BCE37 | F35: 2 | G35: =(1819.24+1499.38)/2 -> 1659.31 | H35: =Tableau4[[#This Row],[PU]]*Tableau4[[#This Row],[Qte]] -> 3318.62
A36: 41451 | B36: =UPPER(TEXT(A36,"mmmm")) -> JUIN | C36: 19400 | D36: AAA | E36: DCR-SX22/SCE37 | F36: 2 | G36: =(1819.24+1499.38)/2 -> 1659.31 | H36: =Tableau4[[#This Row],[PU]]*Tableau4[[#This Row],[Qte]] -> 3318.62
A37: 41451 | B37: =UPPER(TEXT(A37,"mmmm")) -> JUIN | C37: 19400 | D37: AAA | E37: DVPSR760HPBCEA5 | F37: 2 | G37: =(454.24+374.38)/2 -> 414.31 | H37: =Tableau4[[#This Row],[PU]]*Tableau4[[#This Row],[Qte]] -> 828.62
A38: 41451 | B38: =UPPER(TEXT(A38,"mmmm")) -> JUIN | C38: 19400 | D38: AAA | E38: DSC-W710/BCE37 | F38: 2 | G38: =(985.08+811.88)/2 -> 898.48 | H38: =Tableau4[[#This Row],[PU]]*Tableau4[[#This Row],[Qte]] -> 1796.96
A39: 41451 | B39: =UPPER(TEXT(A39,"mmmm")) -> JUIN | C39: 19400 | D39: AAA | E39: DSC-W710/SCE37 | F39: 2 | G39: =(985.08+811.88)/2 -> 898.48 | H39: =Tableau4[[#This Row],[PU]]*Tableau4[[#This Row],[Qte]] -> 1796.96
A40: 41451 | B40: =UPPER(TEXT(A40,"mmmm")) -> JUIN | C40: 19400 | D40: AAA | E40: DSC-W610/SCE32 | F40: 2 | G40: =(750.75+618.75)/2 -> 684.75 | H40: =Tableau4[[#This Row],[PU]]*Tableau4[[#This Row],[Qte]] -> 1369.5
...

Sheet vente
A1: DATE | B1: MOIS | C1: N° BE | D1: FAMILLES | E1: ARTICLES | F1: Qte | G1: PU | H1: TOTAL
A2: 41547 | B2: =UPPER(TEXT(A2,"mmmm")) -> SEPTEMBRE | D2: AAA | E2: ICF-C205/SCSP5 | F2: 1 | G2: 150 | H2: =Tableau3[[#This Row],[PU]]*Tableau3[[#This Row],[Qte]] -> 150
A3: 41544 | B3: =UPPER(TEXT(A3,"mmmm")) -> SEPTEMBRE | D3: AAA | E3: KDL-40R450AME6 | F3: 1 | G3: 5700 | H3: =Tableau3[[#This Row],[PU]]*Tableau3[[#This Row],[Qte]] -> 5700
A4: 41559 | B4: =UPPER(TEXT(A4,"mmmm")) -> OCTOBRE | D4: AAA | E4: KDL-32W670AME6 | F4: 1 | G4: 5290 | H4: =Tableau3[[#This Row],[PU]]*Tableau3[[#This Row],[Qte]] -> 5290
A5: 41562 | B5: =UPPER(TEXT(A5,"mmmm")) -> OCTOBRE | D5: AAA | E5: PLB-11E | F5: 1 | G5: 100 | H5: =Tableau3[[#This Row],[PU]]*Tableau3[[#This Row],[Qte]] -> 100
A6: 41570 | B6: =UPPER(TEXT(A6,"mmmm")) -> OCTOBRE | D6: AAA | E6: KDL-42W670AME6 | F6: 1 | G6: 7500 | H6: =Tableau3[[#This Row],[PU]]*Tableau3[[#This Row],[Qte]] -> 7500
A7: 41576 | B7: =UPPER(TEXT(A7,"mmmm")) -> OCTOBRE | D7: BBB | E7: LC-39LE750E | F7: 1 | G7: 8300 | H7: =Tableau3[[#This Row],[PU]]*Tableau3[[#This Row],[Qte]] -> 8300
A8: 41582 | B8: =UPPER(TEXT(A8,"mmmm")) -> NOVEMBRE | C8: 13244 | D8: BBB | E8: LC-32LD135E | F8: 2 | G8: 2750 | H8: =Tableau3[[#This Row],[PU]]*Tableau3[[#This Row],[Qte]] -> 5500
A9: 41590 | B9: =UPPER(TEXT(A9,"mmmm")) -> NOVEMBRE | C9: 13500 | D9: AAA | E9: KDL-32BX350AF1 | F9: 10 | G9: 2700 | H9: =Tableau3[[#This Row],[PU]]*Tableau3[[#This Row],[Qte]] -> 27000

Sheet AAA
A1: ARTICLE | B1: CUMUL / ACHAT | E1: CUMUL / VENTE | G1: stock actuel
B2: Qte | C2: PU | D2: valeure | E2: Qte | F2: valeure | G2: Qte | H2: valeure
A3: ='mes donnees'!B2 -> BDV-E690//ME3 | B3: =SUMIF(OFFSET(achat!$E$2,,,COUNTA(achat!E:E),),AAA!A3,OFFSET(achat!$F$2,,,COUNTA(achat!F:F),)) -> 1 | D3: =SUMIF(OFFSET(achat!$E$2,,,COUNTA(achat!E:E),),AAA!A3,OFFSET(achat!$H$2,,,COUNTA(achat!H:H),)) -> 0 | E3: =SUMIF(OFFSET(vente!$E$2,,,COUNTA(vente!E:E),),AAA!A3,OFFSET(vente!$F$2,,,COUNTA(vente!F:F),)) -> 0 | F3: =SUMIF(OFFSET(vente!$E$2,,,COUNTA(vente!E:E),),AAA!A3,OFFSET(vente!$H$2,,,COUNTA(vente!H:H),)) -> 0 | G3: =B3-E3 -> 1 | H3: =C3*G3 -> 0
A4: ='mes donnees'!B3 -> BDV-N890W//ME3 | B4: =SUMIF(OFFSET(achat!$E$2,,,COUNTA(achat!E:E),),AAA!A4,OFFSET(achat!$F$2,,,COUNTA(achat!F:F),)) -> 2 | D4: =SUMIF(OFFSET(achat!$E$2,,,COUNTA(achat!E:E),),AAA!A4,OFFSET(achat!$H$2,,,COUNTA(achat!H:H),)) -> 0 | E4: =SUMIF(OFFSET(vente!$E$2,,,COUNTA(vente!E:E),),AAA!A4,OFFSET(vente!$F$2,,,COUNTA(vente!F:F),)) -> 0 | F4: =SUMIF(OFFSET(vente!$E$2,,,COUNTA(vente!E:E),),AAA!A4,OFFSET(vente!$H$2,,,COUNTA(vente!H:H),)) -> 0 | G4: =B4-E4 -> 2 | H4: =C4*G4 -> 0
A5: ='mes donnees'!B4 -> DAV-TZ140//CE3 | B5: =SUMIF(OFFSET(achat!$E$2,,,COUNTA(achat!E:E),),AAA!A5,OFFSET(achat!$F$2,,,COUNTA(achat!F:F),)) -> 2 | D5: =SUMIF(OFFSET(achat!$E$2,,,COUNTA(achat!E:E),),AAA!A5,OFFSET(achat!$H$2,,,COUNTA(achat!H:H),)) -> 1922.83 | E5: =SUMIF(OFFSET(vente!$E$2,,,COUNTA(vente!E:E),),AAA!A5,OFFSET(vente!$F$2,,,COUNTA(vente!F:F),)) -> 0 | F5: =SUMIF(OFFSET(vente!$E$2,,,COUNTA(vente!E:E),),AAA!A5,OFFSET(vente!$H$2,,,COUNTA(vente!H:H),)) -> 0 | G5: =B5-E5 -> 2 | H5: =C5*G5 -> 0
A6: ='mes donnees'!B5 -> DCR-SR21E/BCE37 | B6: =SUMIF(OFFSET(achat!$E$2,,,COUNTA(achat!E:E),),AAA!A6,OFFSET(achat!$F$2,,,COUNTA(achat!F:F),)) -> 2 | D6: =SUMIF(OFFSET(achat!$E$2,,,COUNTA(achat!E:E),),AAA!A6,OFFSET(achat!$H$2,,,COUNTA(achat!H:H),)) -> 4425.28 | E6: =SUMIF(OFFSET(vente!$E$2,,,COUNTA(vente!E:E),),AAA!A6,OFFSET(vente!$F$2,,,COUNTA(vente!F:F),)) -> 0 | F6: =SUMIF(OFFSET(vente!$E$2,,,COUNTA(vente!E:E),),AAA!A6,OFFSET(vente!$H$2,,,COUNTA(vente!H:H),)) -> 0 | G6: =B6-E6 -> 2 | H6: =C6*G6 -> 0
A7: ='mes donnees'!B6 -> DCR-SR21E/SCE37 | B7: =SUMIF(OFFSET(achat!$E$2,,,COUNTA(achat!E:E),),AAA!A7,OFFSET(achat!$F$2,,,COUNTA(achat!F:F),)) -> 2 | D7: =SUMIF(OFFSET(achat!$E$2,,,COUNTA(achat!E:E),),AAA!A7,OFFSET(achat!$H$2,,,COUNTA(achat!H:H),)) -> 4425.28 | E7: =SUMIF(OFFSET(vente!$E$2,,,COUNTA(vente!E:E),),AAA!A7,OFFSET(vente!$F$2,,,COUNTA(vente!F:F),)) -> 0 | F7: =SUMIF(OFFSET(vente!$E$2,,,COUNTA(vente!E:E),),AAA!A7,OFFSET(vente!$H$2,,,COUNTA(vente!H:H),)) -> 0 | G7: =B7-E7 -> 2 | H7: =C7*G7 -> 0
A8: ='mes donnees'!B7 -> DCR-SX22/BCE37 | B8: =SUMIF(OFFSET(achat!$E$2,,,COUNTA(achat!E:E),),AAA!A8,OFFSET(achat!$F$2,,,COUNTA(achat!F:F),)) -> 2 | D8: =SUMIF(OFFSET(achat!$E$2,,,COUNTA(achat!E:E),),AAA!A8,OFFSET(achat!$H$2,,,COUNTA(achat!H:H),)) -> 3318.62 | E8: =SUMIF(OFFSET(vente!$E$2,,,COUNTA(vente!E:E),),AAA!A8,OFFSET(vente!$F$2,,,COUNTA(vente!F:F),)) -> 0 | F8: =SUMIF(OFFSET(vente!$E$2,,,COUNTA(vente!E:E),),AAA!A8,OFFSET(vente!$H$2,,,COUNTA(vente!H:H),)) -> 0 | G8: =B8-E8 -> 2 | H8: =C8*G8 -> 0
A9: ='mes donnees'!B8 -> DCR-SX22/SCE37 | B9: =SUMIF(OFFSET(achat!$E$2,,,COUNTA(achat!E:E),),AAA!A9,OFFSET(achat!$F$2,,,COUNTA(achat!F:F),)) -> 2 | D9: =SUMIF(OFFSET(achat!$E$2,,,COUNTA(achat!E:E),),AAA!A9,OFFSET(achat!$H$2,,,COUNTA(achat!H:H),)) -> 3318.62 | E9: =SUMIF(OFFSET(vente!$E$2,,,COUNTA(vente!E:E),),AAA!A9,OFFSET(vente!$F$2,,,COUNTA(vente!F:F),)) -> 0 | F9: =SUMIF(OFFSET(vente!$E$2,,,COUNTA(vente!E:E),),AAA!A9,OFFSET(vente!$H$2,,,COUNTA(vente!H:H),)) -> 0 | G9: =B9-E9 -> 2 | H9: =C9*G9 -> 0
A10: ='mes donnees'!B9 -> DSC-W610/BCE32 | B10: =SUMIF(OFFSET(achat!$E$2,,,COUNTA(achat!E:E),),AAA!A10,OFFSET(achat!$F$2,,,COUNTA(achat!F:F),)) -> 2 | D10: =SUMIF(OFFSET(achat!$E$2,,,COUNTA(achat!E:E),),AAA!A10,OFFSET(achat!$H$2,,,COUNTA(achat!H:H),)) -> 1369.5 | E10: =SUMIF(OFFSET(vente!$E$2,,,COUNTA(vente!E:E),),AAA!A10,OFFSET(vente!$F$2,,,COUNTA(vente!F:F),)) -> 0 | F10: =SUMIF(OFFSET(vente!$E$2,,,COUNTA(vente!E:E),),AAA!A10,OFFSET(vente!$H$2,,,COUNTA(vente!H:H),)) -> 0 | G10: =B10-E10 -> 2 | H10: =C10*G10 -> 0
A11: ='mes donnees'!B10 -> DSC-W610/SCE32 | B11: =SUMIF(OFFSET(achat!$E$2,,,COUNTA(achat!E:E),),AAA!A11,OFFSET(achat!$F$2,,,COUNTA(achat!F:F),)) -> 2 | D11: =SUMIF(OFFSET(achat!$E$2,,,COUNTA(achat!E:E),),AAA!A11,OFFSET(achat!$H$2,,,COUNTA(achat!H:H),)) -> 1369.5 | E11: =SUMIF(OFFSET(vente!$E$2,,,COUNTA(vente!E:E),),AAA!A11,OFFSET(vente!$F$2,,,COUNTA(vente!F:F),)) -> 0 | F11: =SUMIF(OFFSET(vente!$E$2,,,COUNTA(vente!E:E),),AAA!A11,OFFSET(vente!$H$2,,,COUNTA(vente!H:H),)) -> 0 | G11: =B11-E11 -> 2 | H11: =C11*G11 -> 0
A12: ='mes donnees'!B11 -> DSC-W710/BCE37 | B12: =SUMIF(OFFSET(achat!$E$2,,,COUNTA(achat!E:E),),AAA!A12,OFFSET(achat!$F$2,,,COUNTA(achat!F:F),)) -> 2 | D12: =SUMIF(OFFSET(achat!$E$2,,,COUNTA(achat!E:E),),AAA!A12,OFFSET(achat!$H$2,,,COUNTA(achat!H:H),)) -> 1796.96 | E12: =SUMIF(OFFSET(vente!$E$2,,,COUNTA(vente!E:E),),AAA!A12,OFFSET(vente!$F$2,,,COUNTA(vente!F:F),)) -> 0 | F12: =SUMIF(OFFSET(vente!$E$2,,,COUNTA(vente!E:E),),AAA!A12,OFFSET(vente!$H$2,,,COUNTA(vente!H:H),)) -> 0 | G12: =B12-E12 -> 2 | H12: =C12*G12 -> 0
A13: ='mes donnees'!B12 -> DSC-W710/PCE37 | B13: =SUMIF(OFFSET(achat!$E$2,,,COUNTA(achat!E:E),),AAA!A13,OFFSET(achat!$F$2,,,COUNTA(achat!F:F),)) -> 2 | D13: =SUMIF(OFFSET(achat!$E$2,,,COUNTA(achat!E:E),),AAA!A13,OFFSET(achat!$H$2,,,COUNTA(achat!H:H),)) -> 1796.96 | E13: =SUMIF(OFFSET(vente!$E$2,,,COUNTA(vente!E:E),),AAA!A13,OFFSET(vente!$F$2,,,COUNTA(vente!F:F),)) -> 0 | F13: =SUMIF(OFFSET(vente!$E$2,,,COUNTA(vente!E:E),),AAA!A13,OFFSET(vente!$H$2,,,COUNTA(vente!H:H),)) -> 0 | G13: =B13-E13 -> 2 | H13: =C13*G13 -> 0
A14: ='mes donnees'!B13 -> DSC-W710/SCE37 | B14: =SUMIF(OFFSET(achat!$E$2,,,COUNTA(achat!E:E),),AAA!A14,OFFSET(achat!$F$2,,,COUNTA(achat!F:F),)) -> 2 | D14: =SUMIF(OFFSET(achat!$E$2,,,COUNTA(achat!E:E),),AAA!A14,OFFSET(achat!$H$2,,,COUNTA(achat!H:H),)) -> 1796.96 | E14: =SUMIF(OFFSET(vente!$E$2,,,COUNTA(vente!E:E),),AAA!A14,OFFSET(vente!$F$2,,,COUNTA(vente!F:F),)) -> 0 | F14: =SUMIF(OFFSET(vente!$E$2,,,COUNTA(vente!E:E),),AAA!A14,OFFSET(vente!$H$2,,,COUNTA(vente!H:H),)) -> 0 | G14: =B14-E14 -> 2 | H14: =C14*G14 -> 0
... A57: ='mes donnees'!B56 -> SS-SH2000P/MEA | B57: =SUMIF(OFFSET(achat!$E$2,,,COUNTA(achat!E:E),),AAA!A57,OFFSET(achat!$F$2,,,COUNTA(achat!F:F),)) -> 2 | D57: =SUMIF(OFFSET(achat!$E$2,,,COUNTA(achat!E:E),),AAA!A57,OFFSET(achat!$H$2,,,COUNTA(achat!H:H),)) -> 0 | E57: =SUMIF(OFFSET(vente!$E$2,,,COUNTA(vente!E:E),),AAA!A57,OFFSET(vente!$F$2,,,COUNTA(vente!F:F),)) -> 0 | F57: =SUMIF(OFFSET(vente!$E$2,,,COUNTA(vente!E:E),),AAA!A57,OFFSET(vente!$H$2,,,COUNTA(vente!H:H),)) -> 0 | G57: =B57-E57 -> 2 | H57: =C57*G57 -> 0
D58: =SUMIF(OFFSET(achat!$E$2,,,COUNTA(achat!E:E),),AAA!A58,OFFSET(achat!$H$2,,,COUNTA(achat!H:H),)) -> 0 | H58: =C58*G58 -> 0
D59: =SUMIF(OFFSET(achat!$E$2,,,COUNTA(achat!E:E),),AAA!A59,OFFSET(achat!$H$2,,,COUNTA(achat!H:H),)) -> 0 | H59: =C59*G59 -> 0
D60: =SUMIF(OFFSET(achat!$E$2,,,COUNTA(achat!E:E),),AAA!A60,OFFSET(achat!$H$2,,,COUNTA(achat!H:H),)) -> 0 | H60: =C60*G60 -> 0
D61: =SUMIF(OFFSET(achat!$E$2,,,COUNTA(achat!E:E),),AAA!A61,OFFSET(achat!$H$2,,,COUNTA(achat!H:H),)) -> 0 | H61: =C61*G61 -> 0
D62: =SUMIF(OFFSET(achat!$E$2,,,COUNTA(achat!E:E),),AAA!A62,OFFSET(achat!$H$2,,,COUNTA(achat!H:H),)) -> 0 | H62: =C62*G62 -> 0
D63: =SUMIF(OFFSET(achat!$E$2,,,COUNTA(achat!E:E),),AAA!A63,OFFSET(achat!$H$2,,,COUNTA(achat!H:H),)) -> 0 | H63: =C63*G63 -> 0
D64: =SUMIF(OFFSET(achat!$E$2,,,COUNTA(achat!E:E),),AAA!A64,OFFSET(achat!$H$2,,,COUNTA(achat!H:H),)) -> 0 | H64: =C64*G64 -> 0
D65: =SUMIF(OFFSET(achat!$E$2,,,COUNTA(achat!E:E),),AAA!A65,OFFSET(achat!$H$2,,,COUNTA(achat!H:H),)) -> 0 | H65: =C65*G65 -> 0
D66: =SUMIF(OFFSET(achat!$E$2,,,COUNTA(achat!E:E),),AAA!A66,OFFSET(achat!$H$2,,,COUNTA(achat!H:H),)) -> 0 | H66: =C66*G66 -> 0
D67: =SUMIF(OFFSET(achat!$E$2,,,COUNTA(achat!E:E),),AAA!A67,OFFSET(achat!$H$2,,,COUNTA(achat!H:H),)) -> 0 | H67: =C67*G67 -> 0
D68: =SUMIF(OFFSET(achat!$E$2,,,COUNTA(achat!E:E),),AAA!A68,OFFSET(achat!$H$2,,,COUNTA(achat!H:H),)) -> 0 | H68: =C68*G68 -> 0
D69: =SUMIF(OFFSET(achat!$E$2,,,COUNTA(achat!E:E),),AAA!A69,OFFSET(achat!$H$2,,,COUNTA(achat!H:H),)) -> 0 | H69: =C69*G69 -> 0
... D98: =SUMIF(OFFSET(achat!$E$2,,,COUNTA(achat!E:E),),AAA!A98,OFFSET(achat!$H$2,,,COUNTA(achat!H:H),)) -> 0 | H98: =C98*G98 -> 0
D99: =SUMIF(OFFSET(achat!$E$2,,,COUNTA(achat!E:E),),AAA!A99,OFFSET(achat!$H$2,,,COUNTA(achat!H:H),)) -> 0
D100: =SUMIF(OFFSET(achat!$E$2,,,COUNTA(achat!E:E),),AAA!A100,OFFSET(achat!$H$2,,,COUNTA(achat!H:H),)) -> 0
D101: =SUMIF(OFFSET(achat!$E$2,,,COUNTA(achat!E:E),),AAA!A101,OFFSET(achat!$H$2,,,COUNTA(achat!H:H),)) -> 0
D102: =SUMIF(OFFSET(achat!$E$2,,,COUNTA(achat!E:E),),AAA!A102,OFFSET(achat!$H$2,,,COUNTA(achat!H:H),)) -> 0
D103: =SUMIF(OFFSET(achat!$E$2,,,COUNTA(achat!E:E),),AAA!A103,OFFSET(achat!$H$2,,,COUNTA(achat!H:H),)) -> 0
D104: =SUMIF(OFFSET(achat!$E$2,,,COUNTA(achat!E:E),),AAA!A104,OFFSET(achat!$H$2,,,COUNTA(achat!H:H),)) -> 0

Sheet BBB
A1: ARTICLE | B1: CUMUL / ACHAT | D1: CUMUL / VENTE | F1: stock actuel
B2: Qte | C2: valeure | D2: Qte | E2: valeure | F2: Qte | G2: valeure
A3: ='mes donnees'!C2 -> AN-3DG20-B
A4: ='mes donnees'!C3 -> CARTE AJS VIACCESS
A5: ='mes donnees'!C4 -> KI-OUA004WJN3
A6: ='mes donnees'!C5 -> LC-32LD135E
A7: ='mes donnees'!C6 -> LC-32LE350E-BK
A8: ='mes donnees'!C7 -> LC-39LE350E-BK
A9: ='mes donnees'!C8 -> LC-39LE650
A10: ='mes donnees'!C9 -> LC-39LE750E
A11: ='mes donnees'!C10 -> LC-50LE650E
A12: ='mes donnees'!C11 -> LC-50LE750E
A13: ='mes donnees'!C12 -> LC-60LE635E
A14: ='mes donnees'!C13 -> LC-70LE835E
... A60: ='mes donnees'!C59 -> 0

Sheet CCC
A1: ARTICLE | B1: CUMUL / ACHAT | D1: CUMUL / VENTE | F1: stock actuel
B2: Qte | C2: valeure | D2: Qte | E2: valeure | F2: Qte | G2: valeure
A3: ='mes donnees'!D2 -> BCS-323
A4: ='mes donnees'!D3 -> BCS-FS525
A5: ='mes donnees'!D4 -> DCS-222K
A6: ='mes donnees'!D5 -> DV-2022
A7: ='mes donnees'!D6 -> DV-3022V
A8: ='mes donnees'!D7 -> X-CM31-K
A9: ='mes donnees'!D8 -> X-DS301-K
A10: ='mes donnees'!D9 -> X-EM11
A11: ='mes donnees'!D10 -> X-HM10-K
A12: ='mes donnees'!D11 -> X-HM20-S
A13: ='mes donnees'!D12 -> X-SMC1-K
A14: ='mes donnees'!D13 -> 0
... A30: ='mes donnees'!D29 -> 0
