Workbook

Sheet flotte
B1: Date | C1: Moniteur | E1: SN E22155 | F1: SN E22156 | G1: SN E22158 | H1: SN E22162 | J1: SN E22167 | K1: SN E22168 | L1: SN E55041 | M1: SN E55054 | N1: SN E55057 | P1: SN E55064 | Q1: SN E88882 | R1: SN E88880 | S1: SN E88879 | V1: 43520C313 | W1: 43522C313 | X1: 43546C313 | Y1: 43561C313 | Z1: 43562C313 | AL1: SN D81230 | AM1: SN D73497 | AN1: SN D73502
A2: N° | D2: 3 | E2: 4 | F2: 5 | G2: 6 | H2: 7 | I2: 8 | J2: 9 | K2: 10 | L2: 11 | M2: 12 | N2: 13 | O2: 14 | P2: 15 | Q2: 16 | R2: 17 | S2: 18 | T2: 19 | U2: 20 | V2: 21 | W2: 22 | X2: 23 | Y2: 24 | Z2: 25 | AA2: RX | AB2: RXT-X | AC2: 3D Rouge | AD2: 3D Rouge | AE2: 3D Rouge | AF2: 3D Rouge | AG2: 3D Rouge | AH2: 3D Orange | AI2: 3D Orange | AJ2: 3D Orange | AK2: 3D Orange
A3: Lieu | B3: 41475 | C3: Patou | D3: Quilly | E3: Quilly | F3: Pornichet | G3: Pornichet | H3: Quilly | J3: Pornichet | K3: Pornichet | L3: Quilly | M3: Quilly | N3: Quilly | O3: Pornichet | P3: Quilly | Q3: Quilly | R3: Quilly | S3: Quilly | T3: Quilly | U3: Quilly | AA3: Quilly | AB3: Quilly | AC3: Quilly | AD3: Quilly | AH3: Quilly
A4: Nbr d'heure | B4: 41475 | D4: 740 | H4: 616 | M4: 387 | P4: 317 | Q4: 306 | T4: 269 | U4: 168 | AA4: 99 | AB4: 67
A5: état | B5: 41475 | D5: RAS | E5: - pas de compteur | H5: RAS | M5: RAS | P5: - niveau liquide mini - Selle déchiré | Q5: RAS | T5: RAS | U5: RAS | AA5: RAS | AB5: RAS
A6: Lieu | B6: 41476 | C6: Nico | D6: Quilly | E6: Quilly | F6: Pornichet | G6: Pornichet | H6: Quilly | J6: Pornichet | K6: Pornichet | L6: Quilly | M6: Quilly | N6: Quilly | O6: Pornichet | P6: Quilly | Q6: Quilly | R6: Quilly | S6: Quilly | T6: Quilly | U6: Quilly | AA6: Quilly | AB6: Quilly | AC6: Quilly | AD6: Quilly | AH6: Quilly
A7: Nbr d'heure | B7: 41476 | D7: 740 | H7: 616 | L7: 480 | M7: 388 | N7: 454 | P7: 318 | Q7: 388 | R7: 305 | S7: 254 | T7: 270 | U7: 168 | AA7: 99 | AB7: 67
A8: état | B8: 41476 | D8: RAS | E8: - pas de compteur | H8: - Capot Avant (Pornichet) | L8: - Rétro endommagé (Pornichet) - Bouton de démarage deffectueux - Selle Déchirée (Pornichet) | M8: RAS | N8: - manque cache guidon | P8: - niveau liquide mini - Selle déchiré | Q8: RAS | R8: RAS | S8: - Selle déchiré | T8: - Bouton de demarage deffectueux | U8: RAS | AA8: RAS | AB8: RAS
A9: Lieu | B9: 41477
A10: Nbr d'heure | B10: 41477
A11: état | B11: 41477
A12: Lieu | B12: 41478
A13: Nbr d'heure | B13: 41478
A14: état | B14: 41478
A15: Lieu | B15: 41479
A16: Nbr d'heure | B16: 41479
A17: état | B17: 41479
A18: Lieu | B18: 41480
A19: Nbr d'heure | B19: 41480
A20: état | B20: 41480
... A56: état | B56: 41492
A57: Lieu | B57: 41493 | C57: Nico | E57: Garage | H57: Plan d'eau | J57: Plan d'eau | L57: Plan d'eau | N57: Plan d'eau | O57: Plan d'eau | Q57: Plan d'eau | R57: Plan d'eau | S57: Plan d'eau | T57: Plan d'eau | U57: Plan d'eau
A58: Nbr d'heure | B58: 41493 | E58: X | H58: 625 | J58: 602 | L58: 490 | N58: 472 | O58: 451 | Q58: 311 | R58: 329 | S58: 282 | T58: 278 | U58: 188
A59: état | B59: 41493 | E59: - plus de compteur | H59: RAS | J59: RAS | L59: RAS | N59: Voie d'eau | O59: - Impact coté gauche | Q59: RAS | R59: RAS | S59: Selle déchirée | T59: RAS | U59: RAS
A60: Lieu | B60: 41494
A61: Nbr d'heure | B61: 41494
A62: état | B62: 41494
A63: Lieu | B63: 41495
A64: Nbr d'heure | B64: 41495
A65: état | B65: 41495
A66: Lieu | B66: 41496 | C66: Maxime | F66: Plan d'eau | H66: Plan d'eau | O66: Plan d'eau | Q66: Plan d'eau | R66: Plan d'eau | S66: Plan d'eau | T66: Plan d'eau | U66: Plan d'eau | AB66: Quilly
A67: Nbr d'heure | B67: 41496 | F67: 6253 | H67: 625 | O67: 452 | Q67: 311 | R67: 332 | S67: 205 | T67: 278 | U67: 188
A68: état | B68: 41496 | F68: RAS | H68: RAS | O68: Bouton star/stop | Q68: RAS | R68: RAS | S68: RAS | T68: Bonton strat/stap + cache commodo | U68: RAS
A69: Lieu | B69: 41497 | C69: Patou | F69: Plan d'eau | O69: Plan d'eau | Q69: Plan d'eau | R69: Plan d'eau | S69: Plan d'eau | T69: Plan d'eau | U69: Plan d'eau | AA69: Quilly | AB69: Quilly
A70: Nbr d'heure | B70: 41497 | F70: 623 | O70: 452 | Q70: 313 | R70: 334 | S70: 286 | T70: 278 | U70: 189 | AA70: 101.1 | AB70: 80
A71: état | B71: 41497 | F71: RAS | O71: RAS | Q71: RAS | R71: RAS | S71: RAS | T71: RAS | U71: RAS | AA71: RAS | AB71: RAS
A72: Lieu | B72: 41498
A73: Nbr d'heure | B73: 41498
A74: état | B74: 41498
A75: Lieu | B75: 41499 | C75: Yoann | D75: x | E75: Atelier | F75: Atelier | G75: Pornichet | H75: Pornichet | J75: Gilles | K75: Atelier | L75: Atelier | M75: Pornichet | N75: Atelier | O75: Pornichet | P75: Atelier | Q75: Plan d'eau | R75: Plan d'eau | S75: Plan d'eau | T75: Plan d'eau | U75: Plan d'eau | V75: Plan d'eau | W75: Plan d'eau | X75: Plan d'eau | Y75: Plan d'eau | Z75: Plan d'eau | AA75: Plan d'eau | AB75: Plan d'eau
...

Sheet 3
B11: ENTRETIEN DES MATERIELS
A15: N’ de référence Aqua sport loisirs : GTI 4 tec N°3
A16: N’ d’immatriculation : SNE 22 154
A17: N’ de série : CAYDV 28516 A010
A20: DATE | B20: NBRS HEURES | C20: Etat | D20: A FAIRE | E20: COMMANDE | F20: INTERVENTION
A21: =INDEX(Feuil1!$B$132:$AK$232,((ROWS($1:1)-1)*6)+1,COLUMNS($A:A)) -> 0

Sheet 4
B11: ENTRETIEN DES MATERIELS
A15: N’ de référence Aqua sport loisirs : GTI 4 tec N°4
A16: N’ d’immatriculation : SNE 22 155
A17: N’ de série : CAYDV 28573 A010
A20: DATE | B20: NBRS HEURES | C20: Etat | E20: A faire | G20: Intervention
A21: =flotte!B3 -> 41475
A22: =flotte!B6 -> 41476
A23: =flotte!B9 -> 41477
A24: =flotte!B12 -> 41478
A25: =flotte!B15 -> 41479
A26: =flotte!B18 -> 41480
A27: =flotte!B21 -> 41481
A28: =flotte!B24 -> 41482
A29: =flotte!B27 -> 41483
A30: =flotte!B30 -> 41484
A31: =flotte!B33 -> 41485
A32: =flotte!B36 -> 41486
A33: =flotte!B40 -> 41487
A34: =flotte!B43 -> 41488
A35: =flotte!B46 -> 41489
A36: =flotte!B49 -> 41490
A37: =flotte!B52 -> 41491
A38: =flotte!B55 -> 41492
A39: =flotte!B58 -> 41493
A40: =flotte!B61 -> 41494
A41: =flotte!B64 -> 41495
A42: =flotte!B67 -> 41496
A43: =flotte!B70 -> 41497
A44: =flotte!B73 -> 41498
A45: =flotte!B76 -> 41499
A46: =flotte!B79 -> 41500
A47: =flotte!B82 -> 41501
A48: =flotte!B85 -> 41502
A49: =flotte!B85 -> 41502
A50: 17-Aug-2013
A51: 18-Aug-2013
A52: 19-Aug-2013
A53: 20-Aug-2013
A54: =flotte!B100 -> 41507
A55: =flotte!B103 -> 41508
...

Sheet 5
B11: ENTRETIEN DES MATERIELS
A15: N’ de référence Aqua sport loisirs : GTI 4 tec N°5
A16: N’ d’immatriculation : SNE 22 156
A17: N’ de série : CAYDV 28535 A010
A20: DATE | B20: NBRS HEURES | C20: Etat | E20: A faire | G20: Intervention
A21: =flotte!B3 -> 41475
A22: =flotte!B6 -> 41476
A23: =flotte!B9 -> 41477
A24: =flotte!B12 -> 41478
A25: =flotte!B15 -> 41479
A26: =flotte!B18 -> 41480
A27: =flotte!B21 -> 41481
A28: =flotte!B24 -> 41482
A29: =flotte!B27 -> 41483
A30: =flotte!B30 -> 41484
A31: =flotte!B33 -> 41485
A32: =flotte!B36 -> 41486
A33: =flotte!B40 -> 41487
A34: =flotte!B43 -> 41488
A35: =flotte!B46 -> 41489
A36: =flotte!B49 -> 41490
A37: =flotte!B52 -> 41491
A38: =flotte!B55 -> 41492
A39: =flotte!B58 -> 41493
A40: =flotte!B61 -> 41494
A41: =flotte!B64 -> 41495
A42: =flotte!B67 -> 41496
A43: =flotte!B70 -> 41497
A44: =flotte!B73 -> 41498
A45: =flotte!B76 -> 41499
A46: =flotte!B79 -> 41500
A47: =flotte!B82 -> 41501
A48: =flotte!B85 -> 41502
A49: =flotte!B85 -> 41502
A50: 17-Aug-2013
A51: 18-Aug-2013
A52: 19-Aug-2013
A53: 20-Aug-2013
A54: =flotte!B100 -> 41507
A55: =flotte!B103 -> 41508
...

Sheet 6
B11: ENTRETIEN DES MATERIELS
A15: N’ de référence Aqua sport loisirs : GTI 4 tec N°6
A16: N’ d’immatriculation : SNE 22 158
A17: N’ de série : CAYDV 28510 A010
A20: DATE | B20: NBRS HEURES | C20: Etat | E20: A faire | G20: Intervention
A21: =flotte!B3 -> 41475
A22: =flotte!B6 -> 41476
A23: =flotte!B9 -> 41477
A24: =flotte!B12 -> 41478
A25: =flotte!B15 -> 41479
A26: =flotte!B18 -> 41480
A27: =flotte!B21 -> 41481
A28: =flotte!B24 -> 41482
A29: =flotte!B27 -> 41483
A30: =flotte!B30 -> 41484
A31: =flotte!B33 -> 41485
A32: =flotte!B36 -> 41486
A33: =flotte!B40 -> 41487
A34: =flotte!B43 -> 41488
A35: =flotte!B46 -> 41489
A36: =flotte!B49 -> 41490
A37: =flotte!B52 -> 41491
A38: =flotte!B55 -> 41492
A39: =flotte!B58 -> 41493
A40: =flotte!B61 -> 41494
A41: =flotte!B64 -> 41495
A42: =flotte!B67 -> 41496
A43: =flotte!B70 -> 41497
A44: =flotte!B73 -> 41498
A45: =flotte!B76 -> 41499
A46: =flotte!B79 -> 41500
A47: =flotte!B82 -> 41501
A48: =flotte!B85 -> 41502
A49: =flotte!B85 -> 41502
A50: 17-Aug-2013
A51: 18-Aug-2013
A52: 19-Aug-2013
A53: 20-Aug-2013
A54: =flotte!B100 -> 41507
A55: =flotte!B103 -> 41508
...

Sheet 7
B11: ENTRETIEN DES MATERIELS
A15: N’ de référence Aqua sport loisirs : GTI 4 tec N°7
A16: N’ d’immatriculation : SNE 22 162
A17: N’ de série : CAYDV 28518 A010
A20: DATE | B20: NBRS HEURES | C20: Etat | E20: A faire | G20: Intervention
A21: =flotte!B3 -> 41475
A22: =flotte!B6 -> 41476
A23: =flotte!B9 -> 41477
A24: =flotte!B12 -> 41478
A25: =flotte!B15 -> 41479
A26: =flotte!B18 -> 41480
A27: =flotte!B21 -> 41481
A28: =flotte!B24 -> 41482
A29: =flotte!B27 -> 41483
A30: =flotte!B30 -> 41484
A31: =flotte!B33 -> 41485
A32: =flotte!B36 -> 41486
A33: =flotte!B40 -> 41487
A34: =flotte!B43 -> 41488
A35: =flotte!B46 -> 41489
A36: =flotte!B49 -> 41490
A37: =flotte!B52 -> 41491
A38: =flotte!B55 -> 41492
A39: =flotte!B58 -> 41493
A40: =flotte!B61 -> 41494
A41: =flotte!B64 -> 41495
A42: =flotte!B67 -> 41496
A43: =flotte!B70 -> 41497
A44: =flotte!B73 -> 41498
A45: =flotte!B76 -> 41499
A46: =flotte!B79 -> 41500
A47: =flotte!B82 -> 41501
A48: =flotte!B85 -> 41502
A49: =flotte!B85 -> 41502
A50: 17-Aug-2013
A51: 18-Aug-2013
A52: 19-Aug-2013
A53: 20-Aug-2013
A54: =flotte!B100 -> 41507
A55: =flotte!B103 -> 41508
...

Sheet 8
B11: ENTRETIEN DES MATERIELS
A15: N’ de référence Aqua sport loisirs : GTI 4 tec N°8
A16: N’ d’immatriculation : SNE 22 163
A17: N’ de série : CAYDV 28503 A010
A20: DATE | B20: NBRS HEURES | C20: Etat | E20: A faire | G20: Intervention
A21: =flotte!B3 -> 41475
A22: =flotte!B6 -> 41476
A23: =flotte!B9 -> 41477
A24: =flotte!B12 -> 41478
A25: =flotte!B15 -> 41479
A26: =flotte!B18 -> 41480
A27: =flotte!B21 -> 41481
A28: =flotte!B24 -> 41482
A29: =flotte!B27 -> 41483
A30: =flotte!B30 -> 41484
A31: =flotte!B33 -> 41485
A32: =flotte!B36 -> 41486
A33: =flotte!B40 -> 41487
A34: =flotte!B43 -> 41488
A35: =flotte!B46 -> 41489
A36: =flotte!B49 -> 41490
A37: =flotte!B52 -> 41491
A38: =flotte!B55 -> 41492
A39: =flotte!B58 -> 41493
A40: =flotte!B61 -> 41494
A41: =flotte!B64 -> 41495
A42: =flotte!B67 -> 41496
A43: =flotte!B70 -> 41497
A44: =flotte!B73 -> 41498
A45: =flotte!B76 -> 41499
A46: =flotte!B79 -> 41500
A47: =flotte!B82 -> 41501
A48: =flotte!B85 -> 41502
A49: =flotte!B85 -> 41502
A50: 17-Aug-2013
A51: 18-Aug-2013
A52: 19-Aug-2013
A53: 20-Aug-2013
A54: =flotte!B100 -> 41507
A55: =flotte!B103 -> 41508
...

Sheet 9
B11: ENTRETIEN DES MATERIELS
A15: N’ de référence Aqua sport loisirs : GTI 4 tec N°9
A16: N’ d’immatriculation : SNE 22 167
A17: N’ de série : CAYDV 28501 A010
A20: DATE | B20: NBRS HEURES | C20: Etat | E20: A faire | G20: Intervention
A21: =flotte!B3 -> 41475
A22: =flotte!B6 -> 41476
A23: =flotte!B9 -> 41477
A24: =flotte!B12 -> 41478
A25: =flotte!B15 -> 41479
A26: =flotte!B18 -> 41480
A27: =flotte!B21 -> 41481
A28: =flotte!B24 -> 41482
A29: =flotte!B27 -> 41483
A30: =flotte!B30 -> 41484
A31: =flotte!B33 -> 41485
A32: =flotte!B36 -> 41486
A33: =flotte!B40 -> 41487
A34: =flotte!B43 -> 41488
A35: =flotte!B46 -> 41489
A36: =flotte!B49 -> 41490
A37: =flotte!B52 -> 41491
A38: =flotte!B55 -> 41492
A39: =flotte!B58 -> 41493
A40: =flotte!B61 -> 41494
A41: =flotte!B64 -> 41495
A42: =flotte!B67 -> 41496
A43: =flotte!B70 -> 41497
A44: =flotte!B73 -> 41498
A45: =flotte!B76 -> 41499
A46: =flotte!B79 -> 41500
A47: =flotte!B82 -> 41501
A48: =flotte!B85 -> 41502
A49: =flotte!B85 -> 41502
A50: 17-Aug-2013
A51: 18-Aug-2013
A52: 19-Aug-2013
A53: 20-Aug-2013
A54: =flotte!B100 -> 41507
A55: =flotte!B103 -> 41508
...

Sheet 10
B11: ENTRETIEN DES MATERIELS
A15: N’ de référence Aqua sport loisirs : GTI 4 tec N°10
A16: N’ d’immatriculation : SNE 22 168
A17: N’ de série : CAYDV 28514 A010
A20: DATE | B20: NBRS HEURES | C20: Etat | E20: A faire | G20: Intervention
A21: =flotte!B3 -> 41475
A22: =flotte!B6 -> 41476
A23: =flotte!B9 -> 41477
A24: =flotte!B12 -> 41478
A25: =flotte!B15 -> 41479
A26: =flotte!B18 -> 41480
A27: =flotte!B21 -> 41481
A28: =flotte!B24 -> 41482
A29: =flotte!B27 -> 41483
A30: =flotte!B30 -> 41484
A31: =flotte!B33 -> 41485
A32: =flotte!B36 -> 41486
A33: =flotte!B40 -> 41487
A34: =flotte!B43 -> 41488
A35: =flotte!B46 -> 41489
A36: =flotte!B49 -> 41490
A37: =flotte!B52 -> 41491
A38: =flotte!B55 -> 41492
A39: =flotte!B58 -> 41493
A40: =flotte!B61 -> 41494
A41: =flotte!B64 -> 41495
A42: =flotte!B67 -> 41496
A43: =flotte!B70 -> 41497
A44: =flotte!B73 -> 41498
A45: =flotte!B76 -> 41499
A46: =flotte!B79 -> 41500
A47: =flotte!B82 -> 41501
A48: =flotte!B85 -> 41502
A49: =flotte!B85 -> 41502
A50: 17-Aug-2013
A51: 18-Aug-2013
A52: 19-Aug-2013
A53: 20-Aug-2013
A54: =flotte!B100 -> 41507
A55: =flotte!B103 -> 41508
...

Sheet 11
B11: ENTRETIEN DES MATERIELS
A15: N’ de référence Aqua sport loisirs : GTI 4 tec N°11
A16: N’ d’immatriculation : SNE 55 041
A17: N’ de série : CAYDV 28670 E111
A20: DATE | B20: NBRS HEURES | C20: Etat | E20: A faire | G20: Intervention
A21: =flotte!B3 -> 41475
A22: =flotte!B6 -> 41476
A23: =flotte!B9 -> 41477
A24: =flotte!B12 -> 41478
A25: =flotte!B15 -> 41479
A26: =flotte!B18 -> 41480
A27: =flotte!B21 -> 41481
A28: =flotte!B24 -> 41482
A29: =flotte!B27 -> 41483
A30: =flotte!B30 -> 41484
A31: =flotte!B33 -> 41485
A32: =flotte!B36 -> 41486
A33: =flotte!B40 -> 41487
A34: =flotte!B43 -> 41488
A35: =flotte!B46 -> 41489
A36: =flotte!B49 -> 41490
A37: =flotte!B52 -> 41491
A38: =flotte!B55 -> 41492
A39: =flotte!B58 -> 41493
A40: =flotte!B61 -> 41494
A41: =flotte!B64 -> 41495
A42: =flotte!B67 -> 41496
A43: =flotte!B70 -> 41497
A44: =flotte!B73 -> 41498
A45: =flotte!B76 -> 41499
A46: =flotte!B79 -> 41500
A47: =flotte!B82 -> 41501
A48: =flotte!B85 -> 41502
A49: =flotte!B85 -> 41502
A50: 17-Aug-2013
A51: 18-Aug-2013
A52: 19-Aug-2013
A53: 20-Aug-2013
A54: =flotte!B100 -> 41507
A55: =flotte!B103 -> 41508
...

Sheet 12
B11: ENTRETIEN DES MATERIELS
A15: N’ de référence Aqua sport loisirs : GTI 4 tec N°12
A16: N’ d’immatriculation : SNE 55 054
A17: N’ de série : CAYDV 28678 E111
A20: DATE | B20: NBRS HEURES | C20: Etat | E20: A faire | G20: Intervention
A21: =flotte!B3 -> 41475
A22: =flotte!B6 -> 41476
A23: =flotte!B9 -> 41477
A24: =flotte!B12 -> 41478
A25: =flotte!B15 -> 41479
A26: =flotte!B18 -> 41480
A27: =flotte!B21 -> 41481
A28: =flotte!B24 -> 41482
A29: =flotte!B27 -> 41483
A30: =flotte!B30 -> 41484
A31: =flotte!B33 -> 41485
A32: =flotte!B36 -> 41486
A33: =flotte!B40 -> 41487
A34: =flotte!B43 -> 41488
A35: =flotte!B46 -> 41489
A36: =flotte!B49 -> 41490
A37: =flotte!B52 -> 41491
A38: =flotte!B55 -> 41492
A39: =flotte!B58 -> 41493
A40: =flotte!B61 -> 41494
A41: =flotte!B64 -> 41495
A42: =flotte!B67 -> 41496
A43: =flotte!B70 -> 41497
A44: =flotte!B73 -> 41498
A45: =flotte!B76 -> 41499
A46: =flotte!B79 -> 41500
A47: =flotte!B82 -> 41501
A48: =flotte!B85 -> 41502
A49: =flotte!B85 -> 41502
A50: 17-Aug-2013
A51: 18-Aug-2013
A52: 19-Aug-2013
A53: 20-Aug-2013
A54: =flotte!B100 -> 41507
A55: =flotte!B103 -> 41508
...

Sheet 13
B11: ENTRETIEN DES MATERIELS
A15: N’ de référence Aqua sport loisirs : GTI 4 tec N°13
A16: N’ d’immatriculation : SNE 55 057
A17: N’ de série : CAYDV 28691 E111
A20: DATE | B20: NBRS HEURES | C20: Etat | E20: A faire | G20: Intervention
A21: =flotte!B3 -> 41475
A22: =flotte!B6 -> 41476
A23: =flotte!B9 -> 41477
A24: =flotte!B12 -> 41478
A25: =flotte!B15 -> 41479
A26: =flotte!B18 -> 41480
A27: =flotte!B21 -> 41481
A28: =flotte!B24 -> 41482
A29: =flotte!B27 -> 41483
A30: =flotte!B30 -> 41484
A31: =flotte!B33 -> 41485
A32: =flotte!B36 -> 41486
A33: =flotte!B40 -> 41487
A34: =flotte!B43 -> 41488
A35: =flotte!B46 -> 41489
A36: =flotte!B49 -> 41490
A37: =flotte!B52 -> 41491
A38: =flotte!B55 -> 41492
A39: =flotte!B58 -> 41493
A40: =flotte!B61 -> 41494
A41: =flotte!B64 -> 41495
A42: =flotte!B67 -> 41496
A43: =flotte!B70 -> 41497
A44: =flotte!B73 -> 41498
A45: =flotte!B76 -> 41499
A46: =flotte!B79 -> 41500
A47: =flotte!B82 -> 41501
A48: =flotte!B85 -> 41502
A49: =flotte!B85 -> 41502
A50: 17-Aug-2013
A51: 18-Aug-2013
A52: 19-Aug-2013
A53: 20-Aug-2013
A54: =flotte!B100 -> 41507
A55: =flotte!B103 -> 41508
...

Sheet 14
B11: ENTRETIEN DES MATERIELS
A15: N’ de référence Aqua sport loisirs : GTI 4 tec N°14
A16: N’ d’immatriculation : SNE 55 060
A17: N’ de série : CAYDV 28693 E111
A20: DATE | B20: NBRS HEURES | C20: Etat | E20: A faire | G20: Intervention
A21: =flotte!B3 -> 41475
A22: =flotte!B6 -> 41476
A23: =flotte!B9 -> 41477
A24: =flotte!B12 -> 41478
A25: =flotte!B15 -> 41479
A26: =flotte!B18 -> 41480
A27: =flotte!B21 -> 41481
A28: =flotte!B24 -> 41482
A29: =flotte!B27 -> 41483
A30: =flotte!B30 -> 41484
A31: =flotte!B33 -> 41485
A32: =flotte!B36 -> 41486
A33: =flotte!B40 -> 41487
A34: =flotte!B43 -> 41488
A35: =flotte!B46 -> 41489
A36: =flotte!B49 -> 41490
A37: =flotte!B52 -> 41491
A38: =flotte!B55 -> 41492
A39: =flotte!B58 -> 41493
A40: =flotte!B61 -> 41494
A41: =flotte!B64 -> 41495
A42: =flotte!B67 -> 41496
A43: =flotte!B70 -> 41497
A44: =flotte!B73 -> 41498
A45: =flotte!B76 -> 41499
A46: =flotte!B79 -> 41500
A47: =flotte!B82 -> 41501
A48: =flotte!B85 -> 41502
A49: =flotte!B85 -> 41502
A50: 17-Aug-2013
A51: 18-Aug-2013
A52: 19-Aug-2013
A53: 20-Aug-2013
A54: =flotte!B100 -> 41507
A55: =flotte!B103 -> 41508
...

Sheet 15
B11: ENTRETIEN DES MATERIELS
A15: N’ de référence Aqua sport loisirs : GTI 4 tec N°15
A16: N’ d’immatriculation : SNE 55 064
A17: N’ de série : CAYDV 28719 E111
A20: DATE | B20: NBRS HEURES | C20: Etat | E20: A faire | G20: Intervention
A21: =flotte!B3 -> 41475
A22: =flotte!B6 -> 41476
A23: =flotte!B9 -> 41477
A24: =flotte!B12 -> 41478
A25: =flotte!B15 -> 41479
A26: =flotte!B18 -> 41480
A27: =flotte!B21 -> 41481
A28: =flotte!B24 -> 41482
A29: =flotte!B27 -> 41483
A30: =flotte!B30 -> 41484
A31: =flotte!B33 -> 41485
A32: =flotte!B36 -> 41486
A33: =flotte!B40 -> 41487
A34: =flotte!B43 -> 41488
A35: =flotte!B46 -> 41489
A36: =flotte!B49 -> 41490
A37: =flotte!B52 -> 41491
A38: =flotte!B55 -> 41492
A39: =flotte!B58 -> 41493
A40: =flotte!B61 -> 41494
A41: =flotte!B64 -> 41495
A42: =flotte!B67 -> 41496
A43: =flotte!B70 -> 41497
A44: =flotte!B73 -> 41498
A45: =flotte!B76 -> 41499
A46: =flotte!B79 -> 41500
A47: =flotte!B82 -> 41501
A48: =flotte!B85 -> 41502
A49: =flotte!B85 -> 41502
A50: 17-Aug-2013
A51: 18-Aug-2013
A52: 19-Aug-2013
A53: 20-Aug-2013
A54: =flotte!B100 -> 41507
A55: =flotte!B103 -> 41508
...

Sheet 16
B11: ENTRETIEN DES MATERIELS
A15: N’ de référence Aqua sport loisirs : GTI 4 tec N°16
A16: N’ d’immatriculation :
A17: N’ de série : CAYDV 40630 D212
A20: DATE | B20: NBRS HEURES | C20: Etat | E20: A faire | G20: Intervention
A21: =flotte!B3 -> 41475
A22: =flotte!B6 -> 41476
A23: =flotte!B9 -> 41477
A24: =flotte!B12 -> 41478
A25: =flotte!B15 -> 41479
A26: =flotte!B18 -> 41480
A27: =flotte!B21 -> 41481
A28: =flotte!B24 -> 41482
A29: =flotte!B27 -> 41483
A30: =flotte!B30 -> 41484
A31: =flotte!B33 -> 41485
A32: =flotte!B36 -> 41486
A33: =flotte!B40 -> 41487
A34: =flotte!B43 -> 41488
A35: =flotte!B46 -> 41489
A36: =flotte!B49 -> 41490
A37: =flotte!B52 -> 41491
A38: =flotte!B55 -> 41492
A39: =flotte!B58 -> 41493
A40: =flotte!B61 -> 41494
A41: =flotte!B64 -> 41495
A42: =flotte!B67 -> 41496
A43: =flotte!B70 -> 41497
A44: =flotte!B73 -> 41498
A45: =flotte!B76 -> 41499
A46: =flotte!B79 -> 41500
A47: =flotte!B82 -> 41501
A48: =flotte!B85 -> 41502
A49: =flotte!B85 -> 41502
A50: 17-Aug-2013
A51: 18-Aug-2013
A52: 19-Aug-2013
A53: 20-Aug-2013
A54: =flotte!B100 -> 41507
A55: =flotte!B103 -> 41508
...

Sheet 17
B11: ENTRETIEN DES MATERIELS
A15: N’ de référence Aqua sport loisirs : GTI 4 tec N°17
A16: N’ d’immatriculation :
A17: N’ de série : CAYDV 40632 D212
A20: DATE | B20: NBRS HEURES | C20: Etat | E20: A faire | G20: Intervention
A21: =flotte!B3 -> 41475
A22: =flotte!B6 -> 41476
A23: =flotte!B9 -> 41477
A24: =flotte!B12 -> 41478
A25: =flotte!B15 -> 41479
A26: =flotte!B18 -> 41480
A27: =flotte!B21 -> 41481
A28: =flotte!B24 -> 41482
A29: =flotte!B27 -> 41483
A30: =flotte!B30 -> 41484
A31: =flotte!B33 -> 41485
A32: =flotte!B36 -> 41486
A33: =flotte!B40 -> 41487
A34: =flotte!B43 -> 41488
A35: =flotte!B46 -> 41489
A36: =flotte!B49 -> 41490
A37: =flotte!B52 -> 41491
A38: =flotte!B55 -> 41492
A39: =flotte!B58 -> 41493
A40: =flotte!B61 -> 41494
A41: =flotte!B64 -> 41495
A42: =flotte!B67 -> 41496
A43: =flotte!B70 -> 41497
A44: =flotte!B73 -> 41498
A45: =flotte!B76 -> 41499
A46: =flotte!B79 -> 41500
A47: =flotte!B82 -> 41501
A48: =flotte!B85 -> 41502
A49: =flotte!B85 -> 41502
A50: 17-Aug-2013
A51: 18-Aug-2013
A52: 19-Aug-2013
A53: 20-Aug-2013
A54: =flotte!B100 -> 41507
A55: =flotte!B103 -> 41508
...

Sheet 18
B11: ENTRETIEN DES MATERIELS
A15: N’ de référence Aqua sport loisirs : GTI 4 tec N°18
A16: N’ d’immatriculation :
A17: N’ de série : CAYDV 40608 D212
A20: DATE | B20: NBRS HEURES | C20: Etat | E20: A faire | G20: Intervention
A21: =flotte!B3 -> 41475
A22: =flotte!B6 -> 41476
A23: =flotte!B9 -> 41477
A24: =flotte!B12 -> 41478
A25: =flotte!B15 -> 41479
A26: =flotte!B18 -> 41480
A27: =flotte!B21 -> 41481
A28: =flotte!B24 -> 41482
A29: =flotte!B27 -> 41483
A30: =flotte!B30 -> 41484
A31: =flotte!B33 -> 41485
A32: =flotte!B36 -> 41486
A33: =flotte!B40 -> 41487
A34: =flotte!B43 -> 41488
A35: =flotte!B46 -> 41489
A36: =flotte!B49 -> 41490
A37: =flotte!B52 -> 41491
A38: =flotte!B55 -> 41492
A39: =flotte!B58 -> 41493
A40: =flotte!B61 -> 41494
A41: =flotte!B64 -> 41495
A42: =flotte!B67 -> 41496
A43: =flotte!B70 -> 41497
A44: =flotte!B73 -> 41498
A45: =flotte!B76 -> 41499
A46: =flotte!B79 -> 41500
A47: =flotte!B82 -> 41501
A48: =flotte!B85 -> 41502
A49: =flotte!B85 -> 41502
A50: 17-Aug-2013
A51: 18-Aug-2013
A52: 19-Aug-2013
A53: 20-Aug-2013
A54: =flotte!B100 -> 41507
A55: =flotte!B103 -> 41508
...

Sheet 19
B11: ENTRETIEN DES MATERIELS
A15: N’ de référence Aqua sport loisirs : GTI 4 tec N°19
A16: N’ d’immatriculation :
A17: N’ de série : CAYDV 40623 D212
A20: DATE | B20: NBRS HEURES | C20: Etat | E20: A faire | G20: Intervention
A21: =flotte!B3 -> 41475
A22: =flotte!B6 -> 41476
A23: =flotte!B9 -> 41477
A24: =flotte!B12 -> 41478
A25: =flotte!B15 -> 41479
A26: =flotte!B18 -> 41480
A27: =flotte!B21 -> 41481
A28: =flotte!B24 -> 41482
A29: =flotte!B27 -> 41483
A30: =flotte!B30 -> 41484
A31: =flotte!B33 -> 41485
A32: =flotte!B36 -> 41486
A33: =flotte!B40 -> 41487
A34: =flotte!B43 -> 41488
A35: =flotte!B46 -> 41489
A36: =flotte!B49 -> 41490
A37: =flotte!B52 -> 41491
A38: =flotte!B55 -> 41492
A39: =flotte!B58 -> 41493
A40: =flotte!B61 -> 41494
A41: =flotte!B64 -> 41495
A42: =flotte!B67 -> 41496
A43: =flotte!B70 -> 41497
A44: =flotte!B73 -> 41498
A45: =flotte!B76 -> 41499
A46: =flotte!B79 -> 41500
A47: =flotte!B82 -> 41501
A48: =flotte!B85 -> 41502
A49: =flotte!B85 -> 41502
A50: 17-Aug-2013
A51: 18-Aug-2013
A52: 19-Aug-2013
A53: 20-Aug-2013
A54: =flotte!B100 -> 41507
A55: =flotte!B103 -> 41508
...

Sheet 20
B11: ENTRETIEN DES MATERIELS
A15: N’ de référence Aqua sport loisirs : GTI 4 tec N°20
A16: N’ d’immatriculation :
A17: N’ de série : CAYDV 40604 D212
A20: DATE | B20: NBRS HEURES | C20: Etat | E20: A faire | G20: Intervention
A21: =flotte!B3 -> 41475
A22: =flotte!B6 -> 41476
A23: =flotte!B9 -> 41477
A24: =flotte!B12 -> 41478
A25: =flotte!B15 -> 41479
A26: =flotte!B18 -> 41480
A27: =flotte!B21 -> 41481
A28: =flotte!B24 -> 41482
A29: =flotte!B27 -> 41483
A30: =flotte!B30 -> 41484
A31: =flotte!B33 -> 41485
A32: =flotte!B36 -> 41486
A33: =flotte!B40 -> 41487
A34: =flotte!B43 -> 41488
A35: =flotte!B46 -> 41489
A36: =flotte!B49 -> 41490
A37: =flotte!B52 -> 41491
A38: =flotte!B55 -> 41492
A39: =flotte!B58 -> 41493
A40: =flotte!B61 -> 41494
A41: =flotte!B64 -> 41495
A42: =flotte!B67 -> 41496
A43: =flotte!B70 -> 41497
A44: =flotte!B73 -> 41498
A45: =flotte!B76 -> 41499
A46: =flotte!B79 -> 41500
A47: =flotte!B82 -> 41501
A48: =flotte!B85 -> 41502
A49: =flotte!B85 -> 41502
A50: 17-Aug-2013
A51: 18-Aug-2013
A52: 19-Aug-2013
A53: 20-Aug-2013
A54: =flotte!B100 -> 41507
A55: =flotte!B103 -> 41508
...

Sheet 21
B11: ENTRETIEN DES MATERIELS
A15: N’ de référence Aqua sport loisirs : GTI 4 tec N°21
A16: N’ d’immatriculation :
A17: N’ de série : CAYDV 43520 C313
A20: DATE | B20: NBRS HEURES | C20: Etat | E20: A faire | G20: Intervention
A21: =flotte!B3 -> 41475
A22: =flotte!B6 -> 41476
A23: =flotte!B9 -> 41477
A24: =flotte!B12 -> 41478
A25: =flotte!B15 -> 41479
A26: =flotte!B18 -> 41480
A27: =flotte!B21 -> 41481
A28: =flotte!B24 -> 41482
A29: =flotte!B27 -> 41483
A30: =flotte!B30 -> 41484
A31: =flotte!B33 -> 41485
A32: =flotte!B36 -> 41486
A33: =flotte!B40 -> 41487
A34: =flotte!B43 -> 41488
A35: =flotte!B46 -> 41489
A36: =flotte!B49 -> 41490
A37: =flotte!B52 -> 41491
A38: =flotte!B55 -> 41492
A39: =flotte!B58 -> 41493
A40: =flotte!B61 -> 41494
A41: =flotte!B64 -> 41495
A42: =flotte!B67 -> 41496
A43: =flotte!B70 -> 41497
A44: =flotte!B73 -> 41498
A45: =flotte!B76 -> 41499
A46: =flotte!B79 -> 41500
A47: =flotte!B82 -> 41501
A48: =flotte!B85 -> 41502
A49: =flotte!B85 -> 41502
A50: 17-Aug-2013
A51: 18-Aug-2013
A52: 19-Aug-2013
A53: 20-Aug-2013
A54: =flotte!B100 -> 41507
A55: =flotte!B103 -> 41508
...

Sheet 22
B11: ENTRETIEN DES MATERIELS
A15: N’ de référence Aqua sport loisirs : GTI 4 tec N°22
A16: N’ d’immatriculation :
A17: N’ de série : CAYDV 43522 C313
A20: DATE | B20: NBRS HEURES | C20: Etat | E20: A faire | G20: Intervention
A21: =flotte!B3 -> 41475
A22: =flotte!B6 -> 41476
A23: =flotte!B9 -> 41477
A24: =flotte!B12 -> 41478
A25: =flotte!B15 -> 41479
A26: =flotte!B18 -> 41480
A27: =flotte!B21 -> 41481
A28: =flotte!B24 -> 41482
A29: =flotte!B27 -> 41483
A30: =flotte!B30 -> 41484
A31: =flotte!B33 -> 41485
A32: =flotte!B36 -> 41486
A33: =flotte!B40 -> 41487
A34: =flotte!B43 -> 41488
A35: =flotte!B46 -> 41489
A36: =flotte!B49 -> 41490
A37: =flotte!B52 -> 41491
A38: =flotte!B55 -> 41492
A39: =flotte!B58 -> 41493
A40: =flotte!B61 -> 41494
A41: =flotte!B64 -> 41495
A42: =flotte!B67 -> 41496
A43: =flotte!B70 -> 41497
A44: =flotte!B73 -> 41498
A45: =flotte!B76 -> 41499
A46: =flotte!B79 -> 41500
A47: =flotte!B82 -> 41501
A48: =flotte!B85 -> 41502
A49: =flotte!B85 -> 41502
A50: 17-Aug-2013
A51: 18-Aug-2013
A52: 19-Aug-2013
A53: 20-Aug-2013
A54: =flotte!B100 -> 41507
A55: =flotte!B103 -> 41508
...

Sheet 23
B11: ENTRETIEN DES MATERIELS
A15: N’ de référence Aqua sport loisirs : GTI 4 tec N°23
A16: N’ d’immatriculation :
A17: N’ de série : CAYDV 43546 C313
A20: DATE | B20: NBRS HEURES | C20: Etat | E20: A faire | G20: Intervention
A21: =flotte!B3 -> 41475
A22: =flotte!B6 -> 41476
A23: =flotte!B9 -> 41477
A24: =flotte!B12 -> 41478
A25: =flotte!B15 -> 41479
A26: =flotte!B18 -> 41480
A27: =flotte!B21 -> 41481
A28: =flotte!B24 -> 41482
A29: =flotte!B27 -> 41483
A30: =flotte!B30 -> 41484
A31: =flotte!B33 -> 41485
A32: =flotte!B36 -> 41486
A33: =flotte!B40 -> 41487
A34: =flotte!B43 -> 41488
A35: =flotte!B46 -> 41489
A36: =flotte!B49 -> 41490
A37: =flotte!B52 -> 41491
A38: =flotte!B55 -> 41492
A39: =flotte!B58 -> 41493
A40: =flotte!B61 -> 41494
A41: =flotte!B64 -> 41495
A42: =flotte!B67 -> 41496
A43: =flotte!B70 -> 41497
A44: =flotte!B73 -> 41498
A45: =flotte!B76 -> 41499
A46: =flotte!B79 -> 41500
A47: =flotte!B82 -> 41501
A48: =flotte!B85 -> 41502
A49: =flotte!B85 -> 41502
A50: 17-Aug-2013
A51: 18-Aug-2013
A52: 19-Aug-2013
A53: 20-Aug-2013
A54: =flotte!B100 -> 41507
A55: =flotte!B103 -> 41508
...

Sheet 24
B11: ENTRETIEN DES MATERIELS
A15: N’ de référence Aqua sport loisirs : GTI 4 tec N°24
A16: N’ d’immatriculation :
A17: N’ de série : CAYDV 43561 C313
A20: DATE | B20: NBRS HEURES | C20: Etat | E20: A faire | G20: Intervention
A21: =flotte!B3 -> 41475
A22: =flotte!B6 -> 41476
A23: =flotte!B9 -> 41477
A24: =flotte!B12 -> 41478
A25: =flotte!B15 -> 41479
A26: =flotte!B18 -> 41480
A27: =flotte!B21 -> 41481
A28: =flotte!B24 -> 41482
A29: =flotte!B27 -> 41483
A30: =flotte!B30 -> 41484
A31: =flotte!B33 -> 41485
A32: =flotte!B36 -> 41486
A33: =flotte!B40 -> 41487
A34: =flotte!B43 -> 41488
A35: =flotte!B46 -> 41489
A36: =flotte!B49 -> 41490
A37: =flotte!B52 -> 41491
A38: =flotte!B55 -> 41492
A39: =flotte!B58 -> 41493
A40: =flotte!B61 -> 41494
A41: =flotte!B64 -> 41495
A42: =flotte!B67 -> 41496
A43: =flotte!B70 -> 41497
A44: =flotte!B73 -> 41498
A45: =flotte!B76 -> 41499
A46: =flotte!B79 -> 41500
A47: =flotte!B82 -> 41501
A48: =flotte!B85 -> 41502
A49: =flotte!B85 -> 41502
A50: 17-Aug-2013
A51: 18-Aug-2013
A52: 19-Aug-2013
A53: 20-Aug-2013
A54: =flotte!B100 -> 41507
A55: =flotte!B103 -> 41508
...

Sheet 25
B11: ENTRETIEN DES MATERIELS
A15: N’ de référence Aqua sport loisirs : GTI 4 tec N°25
A16: N’ d’immatriculation :
A17: N’ de série : CAYDV 43562 C313
A20: DATE | B20: NBRS HEURES | C20: Etat | E20: A faire | G20: Intervention
A21: =flotte!B3 -> 41475
A22: =flotte!B6 -> 41476
A23: =flotte!B9 -> 41477
A24: =flotte!B12 -> 41478
A25: =flotte!B15 -> 41479
A26: =flotte!B18 -> 41480
A27: =flotte!B21 -> 41481
A28: =flotte!B24 -> 41482
A29: =flotte!B27 -> 41483
A30: =flotte!B30 -> 41484
A31: =flotte!B33 -> 41485
A32: =flotte!B36 -> 41486
A33: =flotte!B40 -> 41487
A34: =flotte!B43 -> 41488
A35: =flotte!B46 -> 41489
A36: =flotte!B49 -> 41490
A37: =flotte!B52 -> 41491
A38: =flotte!B55 -> 41492
A39: =flotte!B58 -> 41493
A40: =flotte!B61 -> 41494
A41: =flotte!B64 -> 41495
A42: =flotte!B67 -> 41496
A43: =flotte!B70 -> 41497
A44: =flotte!B73 -> 41498
A45: =flotte!B76 -> 41499
A46: =flotte!B79 -> 41500
A47: =flotte!B82 -> 41501
A48: =flotte!B85 -> 41502
A49: =flotte!B85 -> 41502
A50: 17-Aug-2013
A51: 18-Aug-2013
A52: 19-Aug-2013
A53: 20-Aug-2013
A54: =flotte!B100 -> 41507
A55: =flotte!B103 -> 41508
...

Sheet RX
C12: ENTRETIEN DES MATERIELS
A15: N’ de référence Aqua sport loisirs :
A16: N’ d’immatriculation :
A17: N’ de série :
A20: DATE | B20: NBRS HEURES | C20: VERIFICATION

Sheet RXT-X-
C12: ENTRETIEN DES MATERIELS
A15: N’ de référence Aqua sport loisirs :
A16: N’ d’immatriculation :
A17: N’ de série :
A20: DATE | B20: NBRS HEURES | C20: VERIFICATION

Sheet 3D Rouge 1
C12: ENTRETIEN DES MATERIELS
A15: N’ de référence Aqua sport loisirs :
A16: N’ d’immatriculation :
A17: N’ de série :
A20: DATE | B20: NBRS HEURES | C20: VERIFICATION

Sheet 3D Rouge 2
C12: ENTRETIEN DES MATERIELS
A15: N’ de référence Aqua sport loisirs :
A16: N’ d’immatriculation :
A17: N’ de série :
A20: DATE | B20: NBRS HEURES | C20: VERIFICATION

Sheet 3D Rouge 3
C12: ENTRETIEN DES MATERIELS
A15: N’ de référence Aqua sport loisirs :
A16: N’ d’immatriculation :
A17: N’ de série :
A20: DATE | B20: NBRS HEURES | C20: VERIFICATION

Sheet 3D Rouge 4
C12: ENTRETIEN DES MATERIELS
A15: N’ de référence Aqua sport loisirs :
A16: N’ d’immatriculation :
A17: N’ de série :
A20: DATE | B20: NBRS HEURES | C20: VERIFICATION

Sheet 3D Rouge 5
C12: ENTRETIEN DES MATERIELS
A15: N’ de référence Aqua sport loisirs :
A16: N’ d’immatriculation :
A17: N’ de série :
A20: DATE | B20: NBRS HEURES | C20: VERIFICATION

Sheet 3D Orange 1
C12: ENTRETIEN DES MATERIELS
A15: N’ de référence Aqua sport loisirs :
A16: N’ d’immatriculation :
A17: N’ de série :
A20: DATE | B20: NBRS HEURES | C20: VERIFICATION

Sheet 3D Orange 2
C12: ENTRETIEN DES MATERIELS
A15: N’ de référence Aqua sport loisirs :
A16: N’ d’immatriculation :
A17: N’ de série :
A20: DATE | B20: NBRS HEURES | C20: VERIFICATION

Sheet 3D Orange 3
C12: ENTRETIEN DES MATERIELS
A15: N’ de référence Aqua sport loisirs :
A16: N’ d’immatriculation :
A17: N’ de série :
A20: DATE | B20: NBRS HEURES | C20: VERIFICATION

Sheet 3D Orange 4
C12: ENTRETIEN DES MATERIELS
A15: N’ de référence Aqua sport loisirs :
A16: N’ d’immatriculation :
A17: N’ de série :
A20: DATE | B20: NBRS HEURES | C20: VERIFICATION

Sheet Feuil1
