Workbook

Sheet flotte
B1: Date | C1: Moniteur | E1: SN E22155 | F1: SN E22156 | G1: SN E22158 | H1: SN E22162 | J1: SN E22167 | K1: SN E22168 | L1: SN E55041 | M1: SN E55054 | N1: SN E55057 | P1: SN E55064 | Q1: SN E88882 | R1: SN E88880 | S1: SN E88879 | V1: 43520C313 | W1: 43522C313 | X1: 43546C313 | Y1: 43561C313 | Z1: 43562C313 | AL1: SN D81230 | AM1: SN D73497 | AN1: SN D73502
A2: N° | D2: 3 | E2: 4 | F2: 5 | G2: 6 | H2: 7 | I2: 8 | J2: 9 | K2: 10 | L2: 11 | M2: 12 | N2: 13 | O2: 14 | P2: 15 | Q2: 16 | R2: 17 | S2: 18 | T2: 19 | U2: 20 | V2: 21 | W2: 22 | X2: 23 | Y2: 24 | Z2: 25 | AA2: RX | AB2: RXT-X | AC2: 3D Rouge | AD2: 3D Rouge | AE2: 3D Rouge | AF2: 3D Rouge | AG2: 3D Rouge | AH2: 3D Orange | AI2: 3D Orange | AJ2: 3D Orange | AK2: 3D Orange
A3: Lieu | B3: 41475 | C3: Patou | D3: Quilly | E3: Quilly | F3: Pornichet | G3: Pornichet | H3: Quilly | J3: Pornichet | K3: Pornichet | L3: Quilly | M3: Quilly | N3: Quilly | O3: Pornichet | P3: Quilly | Q3: Quilly | R3: Quilly | S3: Quilly | T3: Quilly | U3: Quilly | AA3: Quilly | AB3: Quilly | AC3: Quilly | AD3: Quilly | AH3: Quilly
A4: Nbr d'heure | B4: 41475 | D4: 740 | H4: 616 | M4: 387 | P4: 317 | Q4: 306 | T4: 269 | U4: 168 | AA4: 99 | AB4: 67
A5: état | B5: 41475 | D5: RAS | E5: - pas de compteur | H5: RAS | M5: RAS | P5: - niveau liquide mini - Selle déchiré | Q5: RAS | T5: RAS | U5: RAS | AA5: RAS | AB5: RAS
A6: Lieu | B6: 41476 | C6: Nico | D6: Quilly | E6: Quilly | F6: Pornichet | G6: Pornichet | H6: Quilly | J6: Pornichet | K6: Pornichet | L6: Quilly | M6: Quilly | N6: Quilly | O6: Pornichet | P6: Quilly | Q6: Quilly | R6: Quilly | S6: Quilly | T6: Quilly | U6: Quilly | AA6: Quilly | AB6: Quilly | AC6: Quilly | AD6: Quilly | AH6: Quilly
A7: Nbr d'heure | B7: 41476 | D7: 740 | H7: 616 | L7: 480 | M7: 388 | N7: 454 | P7: 318 | Q7: 388 | R7: 305 | S7: 254 | T7: 270 | U7: 168 | AA7: 99 | AB7: 67
A8: état | B8: 41476 | D8: RAS | E8: - pas de compteur | H8: - Capot Avant (Pornichet) | L8: - Rétro endommagé (Pornichet) - Bouton de démarage deffectueux - Selle Déchirée (Pornichet) | M8: RAS | N8: - manque cache guidon | P8: - niveau liquide mini - Selle déchiré | Q8: RAS | R8: RAS | S8: - Selle déchiré | T8: - Bouton de demarage deffectueux | U8: RAS | AA8: RAS | AB8: RAS
A9: Lieu | B9: 41477
A10: Nbr d'heure | B10: 41477
A11: état | B11: 41477
A12: Lieu | B12: 41478
A13: Nbr d'heure | B13: 41478
A14: état | B14: 41478
A15: Lieu | B15: 41479
A16: Nbr d'heure | B16: 41479
A17: état | B17: 41479
A18: Lieu | B18: 41480
A19: Nbr d'heure | B19: 41480
A20: état | B20: 41480
... A56: état | B56: 41492
A57: Lieu | B57: 41493 | C57: Nico | E57: Garage | H57: Plan d'eau | J57: Plan d'eau | L57: Plan d'eau | N57: Plan d'eau | O57: Plan d'eau | Q57: Plan d'eau | R57: Plan d'eau | S57: Plan d'eau | T57: Plan d'eau | U57: Plan d'eau
A58: Nbr d'heure | B58: 41493 | E58: X | H58: 625 | J58: 602 | L58: 490 | N58: 472 | O58: 451 | Q58: 311 | R58: 329 | S58: 282 | T58: 278 | U58: 188
A59: état | B59: 41493 | E59: - plus de compteur | H59: RAS | J59: RAS | L59: RAS | N59: Voie d'eau | O59: - Impact coté gauche | Q59: RAS | R59: RAS | S59: Selle déchirée | T59: RAS | U59: RAS
A60: Lieu | B60: 41494
A61: Nbr d'heure | B61: 41494
A62: état | B62: 41494
A63: Lieu | B63: 41495
A64: Nbr d'heure | B64: 41495
A65: état | B65: 41495
A66: Lieu | B66: 41496 | C66: Maxime | F66: Plan d'eau | H66: Plan d'eau | O66: Plan d'eau | Q66: Plan d'eau | R66: Plan d'eau | S66: Plan d'eau | T66: Plan d'eau | U66: Plan d'eau | AB66: Quilly
A67: Nbr d'heure | B67: 41496 | F67: 6253 | H67: 625 | O67: 452 | Q67: 311 | R67: 332 | S67: 205 | T67: 278 | U67: 188
A68: état | B68: 41496 | F68: RAS | H68: RAS | O68: Bouton star/stop | Q68: RAS | R68: RAS | S68: RAS | T68: Bonton strat/stap + cache commodo | U68: RAS
A69: Lieu | B69: 41497 | C69: Patou | F69: Plan d'eau | O69: Plan d'eau | Q69: Plan d'eau | R69: Plan d'eau | S69: Plan d'eau | T69: Plan d'eau | U69: Plan d'eau | AA69: Quilly | AB69: Quilly
A70: Nbr d'heure | B70: 41497 | F70: 623 | O70: 452 | Q70: 313 | R70: 334 | S70: 286 | T70: 278 | U70: 189 | AA70: 101.1 | AB70: 80
A71: état | B71: 41497 | F71: RAS | O71: RAS | Q71: RAS | R71: RAS | S71: RAS | T71: RAS | U71: RAS | AA71: RAS | AB71: RAS
A72: Lieu | B72: 41498
A73: Nbr d'heure | B73: 41498
A74: état | B74: 41498
A75: Lieu | B75: 41499 | C75: Yoann | D75: x | E75: Atelier | F75: Atelier | G75: Pornichet | H75: Pornichet | J75: Gilles | K75: Atelier | L75: Atelier | M75: Pornichet | N75: Atelier | O75: Pornichet | P75: Atelier | Q75: Plan d'eau | R75: Plan d'eau | S75: Plan d'eau | T75: Plan d'eau | U75: Plan d'eau | V75: Plan d'eau | W75: Plan d'eau | X75: Plan d'eau | Y75: Plan d'eau | Z75: Plan d'eau | AA75: Plan d'eau | AB75: Plan d'eau
A76: Nbr d'heure | B76: 41499 | D76: x | E76: x | F76: x | G76: x | H76: x | J76: x | K76: x | L76: x | M76: x | N76: x | O76: x | P76: x | Q76: 316 | R76: 335 | S76: 288 | T76: 280 | U76: 189 | V76: 3 | W76: 8 | X76: 6 | Y76: 6 | Z76: 6 | AA76: x | AB76: x
A77: état | B77: 41499 | D77: x | E77: Coque | F77: Arbre | G77: RAS | H77: RAS | J77: Gilles | K77: Coque | L77: Pas d'information | M77: RAS | N77: Pas d'information | O77: RAS | P77: Arbre | Q77: RAS | R77: RAS | S77: RAS | T77: RAS | U77: RAS | V77: RAS | W77: RAS | X77: RAS | Y77: RAS | Z77: RAS | AA77: Panne fuite/Arbre d'hélice | AB77: RAS
A78: Lieu | B78: 41500 | C78: yoann | D78: x | E78: Atelier | F78: Atelier | G78: Pornichet | H78: Pornichet | I78: Pornichet | J78: Gilles | K78: Atelier | L78: Atelier | M78: Pornichet | N78: Atelier | O78: Pornichet | P78: Atelier | Q78: Plan d'eau | R78: Plan d'eau | S78: Plan d'eau | T78: Plan d'eau | U78: Plan d'eau | V78: Plan d'eau | W78: Plan d'eau | X78: Plan d'eau | Y78: Plan d'eau | Z78: Plan d'eau | AA78: Plan d'eau | AB78: Plan d'eau | AC78: Plan d'eau | AD78: Plan d'eau | AH78: Plan d'eau
A79: Nbr d'heure | B79: 41500 | D79: x | E79: x | F79: x | G79: x | H79: x | I79: x | J79: x | K79: x | L79: x | M79: x | N79: x | O79: x | P79: x | Q79: 316 | R79: 335 | S79: 288 | T79: 281 | U79: 189 | V79: 5 | W79: 8 | X79: 8 | Y79: 6 | Z79: 8 | AA79: x | AB79: x | AC79: x | AD79: x | AH79: x
A80: état | B80: 41500 | D80: x | E80: Coque | F80: Arbre | G80: RAS | H80: RAS | I80: RAS | J80: Gilles | K80: Coque | L80: Pas d'information | M80: RAS | N80: Pas d'information | O80: RAS | P80: Arbre | Q80: RAS | R80: RAS | S80: RAS | T80: RAS | U80: RAS | V80: RAS | W80: RAS | X80: RAS | Y80: RAS | Z80: RAS | AA80: Panne fuite/Arbre d'hélice | AB80: RAS | AC80: RAS | AD80: RAS | AH80: RAS
A81: Lieu | B81: 41501 | C81: Patou | E81: Atelier | F81: Atelier | J81: Plan d'eau | Q81: Plan d'eau | R81: Plan d'eau | S81: Plan d'eau | T81: Plan d'eau | U81: Plan d'eau
A82: Nbr d'heure | B82: 41501 | E82: x | F82: x | J82: 602 | Q82: 316 | R82: 335 | S82: 288 | T82: 281 | U82: 189
A83: état | B83: 41501 | E83: Coque | F83: Arbre | J83: RAS | Q83: RAS | R83: RAS | S83: RAS | T83: RAS | U83: RAS
A84: Lieu | B84: 41502 | C84: yoann | J84: Plan d'eau | L84: Atelier | N84: Atelier | P84: Atelier | Q84: Plan d'eau | R84: Plan d'eau | S84: Plan d'eau | T84: Plan d'eau | U84: Plan d'eau | V84: Plan d'eau | W84: Plan d'eau | X84: Plan d'eau | Y84: Plan d'eau | Z84: Plan d'eau | AA84: Plan d'eau | AB84: Plan d'eau | AC84: Plan d'eau | AD84: Plan d'eau | AH84: Plan d'eau
A85: Nbr d'heure | B85: 41502 | J85: 602 | L85: x | N85: x | P85: x | Q85: 316 | R85: 336 | S85: 289 | T85: 282 | U85: 191 | V85: 11 | W85: 11 | X85: 9 | Y85: 11 | Z85: 12 | AA85: x | AB85: x | AC85: x | AD85: x | AH85: x
A86: état | B86: 41502 | J86: connexion batterie oxydée | L86: Pas d'information | N86: Pas d'information | P86: Arbre | Q86: RAS | R86: RAS | S86: RAS | T86: RAS | U86: RAS | V86: RAS | W86: RAS | X86: RAS | Y86: RAS | Z86: RAS | AA86: Panne fuite/Arbre d'hélice | AB86: RAS | AC86: RAS | AD86: RAS | AH86: RAS
A87: Lieu | B87: 41503
A88: Nbr d'heure | B88: 41503
A89: état | B89: 41503
A90: Lieu | B90: 41504
A91: Nbr d'heure | B91: 41504
A92: état | B92: 41504
A93: Lieu | B93: 41505
A94: Nbr d'heure | B94: 41505
A95: état | B95: 41505
A96: Lieu | B96: 41506
A97: Nbr d'heure | B97: 41506
A98: état | B98: 41506
A99: Lieu | B99: 41507 | C99: Patou | H99: Plan d'eau | L99: Plan d'eau | M99: Plan d'eau | P99: Plan d'eau | Q99: Plan d'eau | R99: Plan d'eau | S99: Plan d'eau | T99: Plan d'eau | U99: Plan d'eau | V99: Plan d'eau | W99: Plan d'eau | X99: Plan d'eau | Y99: Plan d'eau | Z99: Plan d'eau | AA99: Plan d'eau | AB99: Plan d'eau
A100: Nbr d'heure | B100: 41507 | H100: 649 | L100: 494 | M100: 421 | P100: 357 | Q100: 325 | R100: 342 | S100: 294 | T100: 293 | U100: 201 | V100: 13 | W100: 11 | X100: 12 | Y100: 13 | Z100: 12 | AA100: 101.5 | AB100: 87
A101: état | B101: 41507 | H101: RAS | L101: RAS | M101: RAS | P101: RAS | Q101: RAS | R101: RAS | S101: RAS | T101: RAS | U101: RAS | V101: RAS | W101: RAS | X101: RAS | Y101: RAS | Z101: RAS | AA101: RAS | AB101: RAS
A102: Lieu | B102: 41508 | C102: Patou | H102: Garage | L102: Plan d'eau | M102: Plan d'eau | N102: Garage | P102: Garage | Q102: Plan d'eau | R102: Plan d'eau | S102: Plan d'eau | T102: Plan d'eau | U102: Plan d'eau | AA102: Plan d'eau | AB102: Plan d'eau
A103: Nbr d'heure | B103: 41508 | H103: 649 | L103: 495 | M103: 423 | N103: 462 | P103: 357 | Q103: 328 | R103: 343 | S103: 296 | T103: 295 | U103: 202 | AA103: 101.5 | AB103: 87
A104: état | B104: 41508 | H104: 3 silent bloc | L104: IBR HS | M104: RAS | N104: RAS | P104: Silent bloc ARG + alignement arbre | Q104: RAS | R104: RAS | S104: RAS | T104: RAS | U104: RAS | AA104: RAS | AB104: RAS
A105: Lieu | B105: 41509 | C105: Patou | H105: Plan d'eau | L105: Plan d'eau | M105: Plan d'eau | N105: Plan d'eau | P105: Plan d'eau | Q105: Plan d'eau | R105: Plan d'eau | S105: Plan d'eau | T105: Plan d'eau | U105: Plan d'eau | AA105: Plan d'eau | AB105: Plan d'eau
A106: Nbr d'heure | B106: 41509 | H106: 649 | L106: 495 | M106: 423 | N106: 462 | P106: 357 | Q106: 330 | R106: 344 | S106: 299 | T106: 298 | U106: 206 | AA106: 101.5 | AB106: 87
A107: état | B107: 41509 | H107: 3 silent bloc | L107: IBR HS | M107: RAS | N107: RAS | P107: Silent bloc ARG + alignement arbre | Q107: RAS | R107: RAS | S107: RAS | T107: RAS | U107: RAS | AA107: RAS | AB107: RAS
A108: Lieu | B108: 41510 | C108: Max | Q108: Plan d'eau | R108: Plan d'eau | S108: Plan d'eau | U108: Plan d'eau
A109: Nbr d'heure | B109: 41510 | Q109: 331 | R109: 345 | S109: 301 | U109: 208
A110: état | B110: 41510 | Q110: RAS | R110: RAS | S110: RAS | U110: Usure premat bague carbone
A111: Lieu | B111: 41511
A112: Nbr d'heure | B112: 41511
A113: état | B113: 41511
A114: Lieu | B114: 41512
A115: Nbr d'heure | B115: 41512
A116: état | B116: 41512
A117: Lieu | B117: 41513
A118: Nbr d'heure | B118: 41513
A119: état | B119: 41513
A120: Lieu | B120: 41514
A121: Nbr d'heure | B121: 41514
A122: état | B122: 41514
A123: Lieu | B123: 41515 | C123: Max | F123: Plan d'eau | J123: Plan d'eau | L123: Plan d'eau | M123: Plan d'eau | N123: Plan d'eau | P123: Plan d'eau | Q123: Plan d'eau | R123: Plan d'eau | U123: Plan d'eau | V123: Plan d'eau | W123: Plan d'eau | X123: Plan d'eau | Y123: Plan d'eau | Z123: Plan d'eau
A124: Nbr d'heure | B124: 41515 | F124: 633 | J124: 621 | L124: 331 | M124: 423 | N124: 423 | P124: 358 | Q124: 341 | R124: 353 | U124: 214 | V124: 13 | W124: 15 | X124: 13 | Y124: 17 | Z124: 14
A125: état | B125: 41515 | F125: RAS | J125: RAS | L125: Bouton S/S difficile | M125: RAS | N125: Cache comodo gauche (guidon) | P125: Bouton S/S difficile | Q125: RAS | R125: RAS | U125: RAS | V125: RAS | W125: RAS | X125: RAS | Y125: RAS | Z125: RAS
A126: Lieu | B126: 41516 | C126: Patou | D126: Garage | G126: Garage | H126: Garage | L126: Plan d'eau | M126: Plan d'eau | N126: Plan d'eau | O126: Garage | P126: Plan d'eau | Q126: Plan d'eau | R126: Plan d'eau | U126: Plan d'eau | V126: Plan d'eau | W126: Plan d'eau | X126: Plan d'eau | Y126: Plan d'eau | Z126: Plan d'eau | AB126: Plan d'eau
A127: Nbr d'heure | B127: 41516 | D127: PDC | G127: PDC | H127: 649 | L127: 496 | M127: 423 | N127: 463 | O127: 497 | P127: 360 | Q127: 343 | R127: 356 | U127: 215 | V127: 13 | W127: 15 | X127: 14 | Y127: 19 | Z127: 14 | AB127: 92
A128: état | B128: 41516
A129: Lieu | B129: 41517 | C129: yoann | F129: Garage | G129: Garage | H129: Garage | L129: Plan d'eau | M129: Plan d'eau | N129: Plan d'eau | O129: Garage | P129: Garage | Q129: Plan d'eau | R129: Plan d'eau | T129: Plan d'eau | U129: Plan d'eau | V129: Plan d'eau | W129: Plan d'eau | X129: Plan d'eau | Y129: Plan d'eau | Z129: Plan d'eau
A130: Nbr d'heure | B130: 41517 | F130: 633 | G130: PDC | H130: 649 | L130: 496 | M130: 423 | N130: 463 | O130: 497 | P130: 361 | Q130: 344 | R130: 358 | T130: ? | U130: 215 | V130: 13 | W130: 15 | X130: 14 | Y130: 20 | Z130: 15
A131: état | B131: 41517 | F131: Prend pas compte tours moteur | G131: Injection à 1 connecteur | H131: Silent bloc | L131: RAS | M131: RAS | N131: RAS | O131: Silent bloc | P131: carénage AV (réparation polyéstère) | Q131: Pas de boute à l'avant coque | R131: RAS | T131: RAS | U131: RAS | V131: RAS | W131: RAS | X131: RAS | Y131: RAS | Z131: RAS
A132: Lieu | B132: 41518 | C132: Damien | F132: Garage | G132: Garage | H132: Garage | L132: Plan d'eau | M132: Plan d'eau | N132: Plan d'eau | O132: Garage | P132: Garage | Q132: Plan d'eau | R132: Plan d'eau | U132: Plan d'eau | V132: Plan d'eau | W132: Plan d'eau | X132: Plan d'eau | Y132: Plan d'eau | Z132: Plan d'eau | AB132: Plan d'eau
A133: Nbr d'heure | B133: 41518 | D133: ? | F133: 633 | G133: PDC | H133: 649 | L133: 498 | M133: 423 | N133: 469 | O133: 467 | P133: 361 | Q133: 345 | R133: 362 | U133: 216 | V133: 15 | W133: 17 | X133: 15 | Y133: 22 | Z133: 18 | AB133: 94
A134: état | B134: 41518 | D134: RAS | F134: Prend pas compte tours moteur | G134: Injection à 1 connecteur | H134: Silent bloc | L134: selle HS | M134: selle HS | N134: Manque cache bouton start | Q134: Témoin moteur allumé | R134: RAS | U134: RAS | V134: RAS | W134: RAS | X134: RAS | Y134: RAS | Z134: RAS | AB134: RAS
A135: A faire | B135: 41518 | D135: RAS
...

Sheet 3
B11: ENTRETIEN DES MATERIELS
A15: N’ de référence Aqua sport loisirs : GTI 4 tec N°3
A16: N’ d’immatriculation : SNE 22 154
A17: N’ de série : CAYDV 28516 A010
A20: DATE | B20: NBRS HEURES | C20: Etat | D20: A FAIRE | E20: COMMANDE | F20: INTERVENTION
A21: =INDEX(Feuil1!$B$132:$AK$232,((ROWS($1:1)-1)*6)+1,COLUMNS($A:A)) -> 0

Sheet 4
B11: ENTRETIEN DES MATERIELS
A15: N’ de référence Aqua sport loisirs : GTI 4 tec N°4
A16: N’ d’immatriculation : SNE 22 155
A17: N’ de série : CAYDV 28573 A010
A20: DATE | B20: NBRS HEURES | C20: Etat | E20: A faire | G20: Intervention
A21: =flotte!B3 -> 41475
A22: =flotte!B6 -> 41476
A23: =flotte!B9 -> 41477
A24: =flotte!B12 -> 41478
A25: =flotte!B15 -> 41479
A26: =flotte!B18 -> 41480
A27: =flotte!B21 -> 41481
A28: =flotte!B24 -> 41482
A29: =flotte!B27 -> 41483
A30: =flotte!B30 -> 41484
A31: =flotte!B33 -> 41485
A32: =flotte!B36 -> 41486
A33: =flotte!B40 -> 41487
A34: =flotte!B43 -> 41488
A35: =flotte!B46 -> 41489
A36: =flotte!B49 -> 41490
A37: =flotte!B52 -> 41491
A38: =flotte!B55 -> 41492
A39: =flotte!B58 -> 41493
A40: =flotte!B61 -> 41494
A41: =flotte!B64 -> 41495
A42: =flotte!B67 -> 41496
A43: =flotte!B70 -> 41497
A44: =flotte!B73 -> 41498
A45: =flotte!B76 -> 41499
A46: =flotte!B79 -> 41500
A47: =flotte!B82 -> 41501
A48: =flotte!B85 -> 41502
A49: =flotte!B85 -> 41502
A50: 17-Aug-2013
A51: 18-Aug-2013
A52: 19-Aug-2013
A53: 20-Aug-2013
A54: =flotte!B100 -> 41507
A55: =flotte!B103 -> 41508
A56: =flotte!B106 -> 41509
A57: =flotte!B109 -> 41510
A58: 25-Aug-2013
A59: 26-Aug-2013
A60: 27-Aug-2013
A61: 28-Aug-2013
A62: =flotte!B124 -> 41515
A63: =flotte!B127 -> 41516
A64: =flotte!B130 -> 41517
A65: =flotte!B133 -> 41518
A66: =flotte!B139 -> 41519
A67: =flotte!B145 -> 41520
A68: 41521
A69: =flotte!B157 -> 41522
A70: =flotte!B163 -> 41523
A71: =flotte!B169 -> 41524
A72: =flotte!B175 -> 41525
A73: =flotte!B181 -> 41526
A74: =flotte!B187 -> 41527
A75: =flotte!B193 -> 41528
A76: =flotte!B199 -> 41529
A77: =flotte!B205 -> 41530
A78: =flotte!B211 -> 41531
A79: =flotte!B217 -> 41532
A80: =flotte!B223 -> 41533
A81: =flotte!B229 -> 0
A82: =flotte!B232 -> 0
A83: =flotte!B235 -> 0
A84: =flotte!B238 -> 0
A85: =flotte!B241 -> 0
A86: =flotte!B244 -> 0
A87: =flotte!B247 -> 0

Sheet 5
B11: ENTRETIEN DES MATERIELS
A15: N’ de référence Aqua sport loisirs : GTI 4 tec N°5
A16: N’ d’immatriculation : SNE 22 156
A17: N’ de série : CAYDV 28535 A010
A20: DATE | B20: NBRS HEURES | C20: Etat | E20: A faire | G20: Intervention
A21: =flotte!B3 -> 41475
A22: =flotte!B6 -> 41476
A23: =flotte!B9 -> 41477
A24: =flotte!B12 -> 41478
A25: =flotte!B15 -> 41479
A26: =flotte!B18 -> 41480
A27: =flotte!B21 -> 41481
A28: =flotte!B24 -> 41482
A29: =flotte!B27 -> 41483
A30: =flotte!B30 -> 41484
A31: =flotte!B33 -> 41485
A32: =flotte!B36 -> 41486
A33: =flotte!B40 -> 41487
A34: =flotte!B43 -> 41488
A35: =flotte!B46 -> 41489
A36: =flotte!B49 -> 41490
A37: =flotte!B52 -> 41491
A38: =flotte!B55 -> 41492
A39: =flotte!B58 -> 41493
A40: =flotte!B61 -> 41494
A41: =flotte!B64 -> 41495
A42: =flotte!B67 -> 41496
A43: =flotte!B70 -> 41497
A44: =flotte!B73 -> 41498
A45: =flotte!B76 -> 41499
A46: =flotte!B79 -> 41500
A47: =flotte!B82 -> 41501
A48: =flotte!B85 -> 41502
A49: =flotte!B85 -> 41502
A50: 17-Aug-2013
A51: 18-Aug-2013
A52: 19-Aug-2013
A53: 20-Aug-2013
A54: =flotte!B100 -> 41507
A55: =flotte!B103 -> 41508
A56: =flotte!B106 -> 41509
A57: =flotte!B109 -> 41510
A58: 25-Aug-2013
A59: 26-Aug-2013
A60: 27-Aug-2013
A61: 28-Aug-2013
A62: =flotte!B124 -> 41515
A63: =flotte!B127 -> 41516
A64: =flotte!B130 -> 41517
A65: =flotte!B133 -> 41518
A66: =flotte!B139 -> 41519
A67: =flotte!B145 -> 41520
A68: 41521
A69: =flotte!B157 -> 41522
A70: =flotte!B163 -> 41523
A71: =flotte!B169 -> 41524
A72: =flotte!B175 -> 41525
A73: =flotte!B181 -> 41526
A74: =flotte!B187 -> 41527
A75: =flotte!B193 -> 41528
A76: =flotte!B199 -> 41529
A77: =flotte!B205 -> 41530
A78: =flotte!B211 -> 41531
A79: =flotte!B217 -> 41532
A80: =flotte!B223 -> 41533
A81: =flotte!B229 -> 0
A82: =flotte!B232 -> 0
A83: =flotte!B235 -> 0
A84: =flotte!B238 -> 0
A85: =flotte!B241 -> 0
A86: =flotte!B244 -> 0
A87: =flotte!B247 -> 0

Sheet 6
B11: ENTRETIEN DES MATERIELS
A15: N’ de référence Aqua sport loisirs : GTI 4 tec N°6
A16: N’ d’immatriculation : SNE 22 158
A17: N’ de série : CAYDV 28510 A010
A20: DATE | B20: NBRS HEURES | C20: Etat | E20: A faire | G20: Intervention
A21: =flotte!B3 -> 41475
A22: =flotte!B6 -> 41476
A23: =flotte!B9 -> 41477
A24: =flotte!B12 -> 41478
A25: =flotte!B15 -> 41479
A26: =flotte!B18 -> 41480
A27: =flotte!B21 -> 41481
A28: =flotte!B24 -> 41482
A29: =flotte!B27 -> 41483
A30: =flotte!B30 -> 41484
A31: =flotte!B33 -> 41485
A32: =flotte!B36 -> 41486
A33: =flotte!B40 -> 41487
A34: =flotte!B43 -> 41488
A35: =flotte!B46 -> 41489
A36: =flotte!B49 -> 41490
A37: =flotte!B52 -> 41491
A38: =flotte!B55 -> 41492
A39: =flotte!B58 -> 41493
A40: =flotte!B61 -> 41494
A41: =flotte!B64 -> 41495
A42: =flotte!B67 -> 41496
A43: =flotte!B70 -> 41497
A44: =flotte!B73 -> 41498
A45: =flotte!B76 -> 41499
A46: =flotte!B79 -> 41500
A47: =flotte!B82 -> 41501
A48: =flotte!B85 -> 41502
A49: =flotte!B85 -> 41502
A50: 17-Aug-2013
A51: 18-Aug-2013
A52: 19-Aug-2013
A53: 20-Aug-2013
A54: =flotte!B100 -> 41507
A55: =flotte!B103 -> 41508
A56: =flotte!B106 -> 41509
A57: =flotte!B109 -> 41510
A58: 25-Aug-2013
A59: 26-Aug-2013
A60: 27-Aug-2013
A61: 28-Aug-2013
A62: =flotte!B124 -> 41515
A63: =flotte!B127 -> 41516
A64: =flotte!B130 -> 41517
A65: =flotte!B133 -> 41518
A66: =flotte!B139 -> 41519
A67: =flotte!B145 -> 41520
A68: 41521
A69: =flotte!B157 -> 41522
A70: =flotte!B163 -> 41523
A71: =flotte!B169 -> 41524
A72: =flotte!B175 -> 41525
A73: =flotte!B181 -> 41526
A74: =flotte!B187 -> 41527
A75: =flotte!B193 -> 41528
A76: =flotte!B199 -> 41529
A77: =flotte!B205 -> 41530
A78: =flotte!B211 -> 41531
A79: =flotte!B217 -> 41532
A80: =flotte!B223 -> 41533
A81: =flotte!B229 -> 0
A82: =flotte!B232 -> 0
A83: =flotte!B235 -> 0
A84: =flotte!B238 -> 0
A85: =flotte!B241 -> 0
A86: =flotte!B244 -> 0
A87: =flotte!B247 -> 0

Sheet 7
B11: ENTRETIEN DES MATERIELS
A15: N’ de référence Aqua sport loisirs : GTI 4 tec N°7
A16: N’ d’immatriculation : SNE 22 162
A17: N’ de série : CAYDV 28518 A010
A20: DATE | B20: NBRS HEURES | C20: Etat | E20: A faire | G20: Intervention
A21: =flotte!B3 -> 41475
A22: =flotte!B6 -> 41476
A23: =flotte!B9 -> 41477
A24: =flotte!B12 -> 41478
A25: =flotte!B15 -> 41479
A26: =flotte!B18 -> 41480
A27: =flotte!B21 -> 41481
A28: =flotte!B24 -> 41482
A29: =flotte!B27 -> 41483
A30: =flotte!B30 -> 41484
A31: =flotte!B33 -> 41485
A32: =flotte!B36 -> 41486
A33: =flotte!B40 -> 41487
A34: =flotte!B43 -> 41488
A35: =flotte!B46 -> 41489
A36: =flotte!B49 -> 41490
A37: =flotte!B52 -> 41491
A38: =flotte!B55 -> 41492
A39: =flotte!B58 -> 41493
A40: =flotte!B61 -> 41494
A41: =flotte!B64 -> 41495
A42: =flotte!B67 -> 41496
A43: =flotte!B70 -> 41497
A44: =flotte!B73 -> 41498
A45: =flotte!B76 -> 41499
A46: =flotte!B79 -> 41500
A47: =flotte!B82 -> 41501
A48: =flotte!B85 -> 41502
A49: =flotte!B85 -> 41502
A50: 17-Aug-2013
A51: 18-Aug-2013
A52: 19-Aug-2013
A53: 20-Aug-2013
A54: =flotte!B100 -> 41507
A55: =flotte!B103 -> 41508
A56: =flotte!B106 -> 41509
A57: =flotte!B109 -> 41510
A58: 25-Aug-2013
A59: 26-Aug-2013
A60: 27-Aug-2013
A61: 28-Aug-2013
A62: =flotte!B124 -> 41515
A63: =flotte!B127 -> 41516
A64: =flotte!B130 -> 41517
A65: =flotte!B133 -> 41518
A66: =flotte!B139 -> 41519
A67: =flotte!B145 -> 41520
A68: 41521
A69: =flotte!B157 -> 41522
A70: =flotte!B163 -> 41523
A71: =flotte!B169 -> 41524
A72: =flotte!B175 -> 41525
A73: =flotte!B181 -> 41526
A74: =flotte!B187 -> 41527
A75: =flotte!B193 -> 41528
A76: =flotte!B199 -> 41529
A77: =flotte!B205 -> 41530
A78: =flotte!B211 -> 41531
A79: =flotte!B217 -> 41532
A80: =flotte!B223 -> 41533
A81: =flotte!B229 -> 0
A82: =flotte!B232 -> 0
A83: =flotte!B235 -> 0
A84: =flotte!B238 -> 0
A85: =flotte!B241 -> 0
A86: =flotte!B244 -> 0
A87: =flotte!B247 -> 0

Sheet 8
B11: ENTRETIEN DES MATERIELS
A15: N’ de référence Aqua sport loisirs : GTI 4 tec N°8
A16: N’ d’immatriculation : SNE 22 163
A17: N’ de série : CAYDV 28503 A010
A20: DATE | B20: NBRS HEURES | C20: Etat | E20: A faire | G20: Intervention
A21: =flotte!B3 -> 41475
A22: =flotte!B6 -> 41476
A23: =flotte!B9 -> 41477
A24: =flotte!B12 -> 41478
A25: =flotte!B15 -> 41479
A26: =flotte!B18 -> 41480
A27: =flotte!B21 -> 41481
A28: =flotte!B24 -> 41482
A29: =flotte!B27 -> 41483
A30: =flotte!B30 -> 41484
A31: =flotte!B33 -> 41485
A32: =flotte!B36 -> 41486
A33: =flotte!B40 -> 41487
A34: =flotte!B43 -> 41488
A35: =flotte!B46 -> 41489
A36: =flotte!B49 -> 41490
A37: =flotte!B52 -> 41491
A38: =flotte!B55 -> 41492
A39: =flotte!B58 -> 41493
A40: =flotte!B61 -> 41494
A41: =flotte!B64 -> 41495
A42: =flotte!B67 -> 41496
A43: =flotte!B70 -> 41497
A44: =flotte!B73 -> 41498
A45: =flotte!B76 -> 41499
A46: =flotte!B79 -> 41500
A47: =flotte!B82 -> 41501
A48: =flotte!B85 -> 41502
A49: =flotte!B85 -> 41502
A50: 17-Aug-2013
A51: 18-Aug-2013
A52: 19-Aug-2013
A53: 20-Aug-2013
A54: =flotte!B100 -> 41507
A55: =flotte!B103 -> 41508
A56: =flotte!B106 -> 41509
A57: =flotte!B109 -> 41510
A58: 25-Aug-2013
A59: 26-Aug-2013
A60: 27-Aug-2013
A61: 28-Aug-2013
A62: =flotte!B124 -> 41515
A63: =flotte!B127 -> 41516
A64: =flotte!B130 -> 41517
A65: =flotte!B133 -> 41518
A66: =flotte!B139 -> 41519
A67: =flotte!B145 -> 41520
A68: 41521
A69: =flotte!B157 -> 41522
A70: =flotte!B163 -> 41523
A71: =flotte!B169 -> 41524
A72: =flotte!B175 -> 41525
A73: =flotte!B181 -> 41526
A74: =flotte!B187 -> 41527
A75: =flotte!B193 -> 41528
A76: =flotte!B199 -> 41529
A77: =flotte!B205 -> 41530
A78: =flotte!B211 -> 41531
A79: =flotte!B217 -> 41532
A80: =flotte!B223 -> 41533
A81: =flotte!B229 -> 0
A82: =flotte!B232 -> 0
A83: =flotte!B235 -> 0
A84: =flotte!B238 -> 0
A85: =flotte!B241 -> 0
A86: =flotte!B244 -> 0
A87: =flotte!B247 -> 0

Sheet 9
B11: ENTRETIEN DES MATERIELS
A15: N’ de référence Aqua sport loisirs : GTI 4 tec N°9
A16: N’ d’immatriculation : SNE 22 167
A17: N’ de série : CAYDV 28501 A010
A20: DATE | B20: NBRS HEURES | C20: Etat | E20: A faire | G20: Intervention
A21: =flotte!B3 -> 41475
A22: =flotte!B6 -> 41476
A23: =flotte!B9 -> 41477
A24: =flotte!B12 -> 41478
A25: =flotte!B15 -> 41479
A26: =flotte!B18 -> 41480
A27: =flotte!B21 -> 41481
A28: =flotte!B24 -> 41482
A29: =flotte!B27 -> 41483
A30: =flotte!B30 -> 41484
A31: =flotte!B33 -> 41485
A32: =flotte!B36 -> 41486
A33: =flotte!B40 -> 41487
A34: =flotte!B43 -> 41488
A35: =flotte!B46 -> 41489
A36: =flotte!B49 -> 41490
A37: =flotte!B52 -> 41491
A38: =flotte!B55 -> 41492
A39: =flotte!B58 -> 41493
A40: =flotte!B61 -> 41494
A41: =flotte!B64 -> 41495
A42: =flotte!B67 -> 41496
A43: =flotte!B70 -> 41497
A44: =flotte!B73 -> 41498
A45: =flotte!B76 -> 41499
A46: =flotte!B79 -> 41500
A47: =flotte!B82 -> 41501
A48: =flotte!B85 -> 41502
A49: =flotte!B85 -> 41502
A50: 17-Aug-2013
A51: 18-Aug-2013
A52: 19-Aug-2013
A53: 20-Aug-2013
A54: =flotte!B100 -> 41507
A55: =flotte!B103 -> 41508
A56: =flotte!B106 -> 41509
A57: =flotte!B109 -> 41510
A58: 25-Aug-2013
A59: 26-Aug-2013
A60: 27-Aug-2013
A61: 28-Aug-2013
A62: =flotte!B124 -> 41515
A63: =flotte!B127 -> 41516
A64: =flotte!B130 -> 41517
A65: =flotte!B133 -> 41518
A66: =flotte!B139 -> 41519
A67: =flotte!B145 -> 41520
A68: 41521
A69: =flotte!B157 -> 41522
A70: =flotte!B163 -> 41523
A71: =flotte!B169 -> 41524
A72: =flotte!B175 -> 41525
A73: =flotte!B181 -> 41526
A74: =flotte!B187 -> 41527
A75: =flotte!B193 -> 41528
A76: =flotte!B199 -> 41529
A77: =flotte!B205 -> 41530
A78: =flotte!B211 -> 41531
A79: =flotte!B217 -> 41532
A80: =flotte!B223 -> 41533
A81: =flotte!B229 -> 0
A82: =flotte!B232 -> 0
A83: =flotte!B235 -> 0
A84: =flotte!B238 -> 0
A85: =flotte!B241 -> 0
A86: =flotte!B244 -> 0
A87: =flotte!B247 -> 0

Sheet 10
B11: ENTRETIEN DES MATERIELS
A15: N’ de référence Aqua sport loisirs : GTI 4 tec N°10
A16: N’ d’immatriculation : SNE 22 168
A17: N’ de série : CAYDV 28514 A010
A20: DATE | B20: NBRS HEURES | C20: Etat | E20: A faire | G20: Intervention
A21: =flotte!B3 -> 41475
A22: =flotte!B6 -> 41476
A23: =flotte!B9 -> 41477
A24: =flotte!B12 -> 41478
A25: =flotte!B15 -> 41479
A26: =flotte!B18 -> 41480
A27: =flotte!B21 -> 41481
A28: =flotte!B24 -> 41482
A29: =flotte!B27 -> 41483
A30: =flotte!B30 -> 41484
A31: =flotte!B33 -> 41485
A32: =flotte!B36 -> 41486
A33: =flotte!B40 -> 41487
A34: =flotte!B43 -> 41488
A35: =flotte!B46 -> 41489
A36: =flotte!B49 -> 41490
A37: =flotte!B52 -> 41491
A38: =flotte!B55 -> 41492
A39: =flotte!B58 -> 41493
A40: =flotte!B61 -> 41494
A41: =flotte!B64 -> 41495
A42: =flotte!B67 -> 41496
A43: =flotte!B70 -> 41497
A44: =flotte!B73 -> 41498
A45: =flotte!B76 -> 41499
A46: =flotte!B79 -> 41500
A47: =flotte!B82 -> 41501
A48: =flotte!B85 -> 41502
A49: =flotte!B85 -> 41502
A50: 17-Aug-2013
A51: 18-Aug-2013
A52: 19-Aug-2013
A53: 20-Aug-2013
A54: =flotte!B100 -> 41507
A55: =flotte!B103 -> 41508
A56: =flotte!B106 -> 41509
A57: =flotte!B109 -> 41510
A58: 25-Aug-2013
A59: 26-Aug-2013
A60: 27-Aug-2013
A61: 28-Aug-2013
A62: =flotte!B124 -> 41515
A63: =flotte!B127 -> 41516
A64: =flotte!B130 -> 41517
A65: =flotte!B133 -> 41518
A66: =flotte!B139 -> 41519
A67: =flotte!B145 -> 41520
A68: 41521
A69: =flotte!B157 -> 41522
A70: =flotte!B163 -> 41523
A71: =flotte!B169 -> 41524
A72: =flotte!B175 -> 41525
A73: =flotte!B181 -> 41526
A74: =flotte!B187 -> 41527
A75: =flotte!B193 -> 41528
A76: =flotte!B199 -> 41529
A77: =flotte!B205 -> 41530
A78: =flotte!B211 -> 41531
A79: =flotte!B217 -> 41532
A80: =flotte!B223 -> 41533
A81: =flotte!B229 -> 0
A82: =flotte!B232 -> 0
A83: =flotte!B235 -> 0
A84: =flotte!B238 -> 0
A85: =flotte!B241 -> 0
A86: =flotte!B244 -> 0
A87: =flotte!B247 -> 0

Sheet 11
B11: ENTRETIEN DES MATERIELS
A15: N’ de référence Aqua sport loisirs : GTI 4 tec N°11
A16: N’ d’immatriculation : SNE 55 041
A17: N’ de série : CAYDV 28670 E111
A20: DATE | B20: NBRS HEURES | C20: Etat | E20: A faire | G20: Intervention
A21: =flotte!B3 -> 41475
A22: =flotte!B6 -> 41476
A23: =flotte!B9 -> 41477
A24: =flotte!B12 -> 41478
A25: =flotte!B15 -> 41479
A26: =flotte!B18 -> 41480
A27: =flotte!B21 -> 41481
A28: =flotte!B24 -> 41482
A29: =flotte!B27 -> 41483
A30: =flotte!B30 -> 41484
A31: =flotte!B33 -> 41485
A32: =flotte!B36 -> 41486
A33: =flotte!B40 -> 41487
A34: =flotte!B43 -> 41488
A35: =flotte!B46 -> 41489
A36: =flotte!B49 -> 41490
A37: =flotte!B52 -> 41491
A38: =flotte!B55 -> 41492
A39: =flotte!B58 -> 41493
A40: =flotte!B61 -> 41494
A41: =flotte!B64 -> 41495
A42: =flotte!B67 -> 41496
A43: =flotte!B70 -> 41497
A44: =flotte!B73 -> 41498
A45: =flotte!B76 -> 41499
A46: =flotte!B79 -> 41500
A47: =flotte!B82 -> 41501
A48: =flotte!B85 -> 41502
A49: =flotte!B85 -> 41502
A50: 17-Aug-2013
A51: 18-Aug-2013
A52: 19-Aug-2013
A53: 20-Aug-2013
A54: =flotte!B100 -> 41507
A55: =flotte!B103 -> 41508
A56: =flotte!B106 -> 41509
A57: =flotte!B109 -> 41510
A58: 25-Aug-2013
A59: 26-Aug-2013
A60: 27-Aug-2013
A61: 28-Aug-2013
A62: =flotte!B124 -> 41515
A63: =flotte!B127 -> 41516
A64: =flotte!B130 -> 41517
A65: =flotte!B133 -> 41518
A66: =flotte!B139 -> 41519
A67: =flotte!B145 -> 41520
A68: 41521
A69: =flotte!B157 -> 41522
A70: =flotte!B163 -> 41523
A71: =flotte!B169 -> 41524
A72: =flotte!B175 -> 41525
A73: =flotte!B181 -> 41526
A74: =flotte!B187 -> 41527
A75: =flotte!B193 -> 41528
A76: =flotte!B199 -> 41529
A77: =flotte!B205 -> 41530
A78: =flotte!B211 -> 41531
A79: =flotte!B217 -> 41532
A80: =flotte!B223 -> 41533
A81: =flotte!B229 -> 0
A82: =flotte!B232 -> 0
A83: =flotte!B235 -> 0
A84: =flotte!B238 -> 0
A85: =flotte!B241 -> 0
A86: =flotte!B244 -> 0
A87: =flotte!B247 -> 0

Sheet 12
B11: ENTRETIEN DES MATERIELS
A15: N’ de référence Aqua sport loisirs : GTI 4 tec N°12
A16: N’ d’immatriculation : SNE 55 054
A17: N’ de série : CAYDV 28678 E111
A20: DATE | B20: NBRS HEURES | C20: Etat | E20: A faire | G20: Intervention
A21: =flotte!B3 -> 41475
A22: =flotte!B6 -> 41476
A23: =flotte!B9 -> 41477
A24: =flotte!B12 -> 41478
A25: =flotte!B15 -> 41479
A26: =flotte!B18 -> 41480
A27: =flotte!B21 -> 41481
A28: =flotte!B24 -> 41482
A29: =flotte!B27 -> 41483
A30: =flotte!B30 -> 41484
A31: =flotte!B33 -> 41485
A32: =flotte!B36 -> 41486
A33: =flotte!B40 -> 41487
A34: =flotte!B43 -> 41488
A35: =flotte!B46 -> 41489
A36: =flotte!B49 -> 41490
A37: =flotte!B52 -> 41491
A38: =flotte!B55 -> 41492
A39: =flotte!B58 -> 41493
A40: =flotte!B61 -> 41494
A41: =flotte!B64 -> 41495
A42: =flotte!B67 -> 41496
A43: =flotte!B70 -> 41497
A44: =flotte!B73 -> 41498
A45: =flotte!B76 -> 41499
A46: =flotte!B79 -> 41500
A47: =flotte!B82 -> 41501
A48: =flotte!B85 -> 41502
A49: =flotte!B85 -> 41502
A50: 17-Aug-2013
A51: 18-Aug-2013
A52: 19-Aug-2013
A53: 20-Aug-2013
A54: =flotte!B100 -> 41507
A55: =flotte!B103 -> 41508
A56: =flotte!B106 -> 41509
A57: =flotte!B109 -> 41510
A58: 25-Aug-2013
A59: 26-Aug-2013
A60: 27-Aug-2013
A61: 28-Aug-2013
A62: =flotte!B124 -> 41515
A63: =flotte!B127 -> 41516
A64: =flotte!B130 -> 41517
A65: =flotte!B133 -> 41518
A66: =flotte!B139 -> 41519
A67: =flotte!B145 -> 41520
A68: 41521
A69: =flotte!B157 -> 41522
A70: =flotte!B163 -> 41523
A71: =flotte!B169 -> 41524
A72: =flotte!B175 -> 41525
A73: =flotte!B181 -> 41526
A74: =flotte!B187 -> 41527
A75: =flotte!B193 -> 41528
A76: =flotte!B199 -> 41529
A77: =flotte!B205 -> 41530
A78: =flotte!B211 -> 41531
A79: =flotte!B217 -> 41532
A80: =flotte!B223 -> 41533
A81: =flotte!B229 -> 0
A82: =flotte!B232 -> 0
A83: =flotte!B235 -> 0
A84: =flotte!B238 -> 0
A85: =flotte!B241 -> 0
A86: =flotte!B244 -> 0
A87: =flotte!B247 -> 0

Sheet 13
B11: ENTRETIEN DES MATERIELS
A15: N’ de référence Aqua sport loisirs : GTI 4 tec N°13
A16: N’ d’immatriculation : SNE 55 057
A17: N’ de série : CAYDV 28691 E111
A20: DATE | B20: NBRS HEURES | C20: Etat | E20: A faire | G20: Intervention
A21: =flotte!B3 -> 41475
A22: =flotte!B6 -> 41476
A23: =flotte!B9 -> 41477
A24: =flotte!B12 -> 41478
A25: =flotte!B15 -> 41479
A26: =flotte!B18 -> 41480
A27: =flotte!B21 -> 41481
A28: =flotte!B24 -> 41482
A29: =flotte!B27 -> 41483
A30: =flotte!B30 -> 41484
A31: =flotte!B33 -> 41485
A32: =flotte!B36 -> 41486
A33: =flotte!B40 -> 41487
A34: =flotte!B43 -> 41488
A35: =flotte!B46 -> 41489
A36: =flotte!B49 -> 41490
A37: =flotte!B52 -> 41491
A38: =flotte!B55 -> 41492
A39: =flotte!B58 -> 41493
A40: =flotte!B61 -> 41494
A41: =flotte!B64 -> 41495
A42: =flotte!B67 -> 41496
A43: =flotte!B70 -> 41497
A44: =flotte!B73 -> 41498
A45: =flotte!B76 -> 41499
A46: =flotte!B79 -> 41500
A47: =flotte!B82 -> 41501
A48: =flotte!B85 -> 41502
A49: =flotte!B85 -> 41502
A50: 17-Aug-2013
A51: 18-Aug-2013
A52: 19-Aug-2013
A53: 20-Aug-2013
A54: =flotte!B100 -> 41507
A55: =flotte!B103 -> 41508
A56: =flotte!B106 -> 41509
A57: =flotte!B109 -> 41510
A58: 25-Aug-2013
A59: 26-Aug-2013
A60: 27-Aug-2013
A61: 28-Aug-2013
A62: =flotte!B124 -> 41515
A63: =flotte!B127 -> 41516
A64: =flotte!B130 -> 41517
A65: =flotte!B133 -> 41518
A66: =flotte!B139 -> 41519
A67: =flotte!B145 -> 41520
A68: 41521
A69: =flotte!B157 -> 41522
A70: =flotte!B163 -> 41523
A71: =flotte!B169 -> 41524
A72: =flotte!B175 -> 41525
A73: =flotte!B181 -> 41526
A74: =flotte!B187 -> 41527
A75: =flotte!B193 -> 41528
A76: =flotte!B199 -> 41529
A77: =flotte!B205 -> 41530
A78: =flotte!B211 -> 41531
A79: =flotte!B217 -> 41532
A80: =flotte!B223 -> 41533
A81: =flotte!B229 -> 0
A82: =flotte!B232 -> 0
A83: =flotte!B235 -> 0
A84: =flotte!B238 -> 0
A85: =flotte!B241 -> 0
A86: =flotte!B244 -> 0
A87: =flotte!B247 -> 0

Sheet 14
B11: ENTRETIEN DES MATERIELS
A15: N’ de référence Aqua sport loisirs : GTI 4 tec N°14
A16: N’ d’immatriculation : SNE 55 060
A17: N’ de série : CAYDV 28693 E111
A20: DATE | B20: NBRS HEURES | C20: Etat | E20: A faire | G20: Intervention
A21: =flotte!B3 -> 41475
A22: =flotte!B6 -> 41476
A23: =flotte!B9 -> 41477
A24: =flotte!B12 -> 41478
A25: =flotte!B15 -> 41479
A26: =flotte!B18 -> 41480
A27: =flotte!B21 -> 41481
A28: =flotte!B24 -> 41482
A29: =flotte!B27 -> 41483
A30: =flotte!B30 -> 41484
A31: =flotte!B33 -> 41485
A32: =flotte!B36 -> 41486
A33: =flotte!B40 -> 41487
A34: =flotte!B43 -> 41488
A35: =flotte!B46 -> 41489
A36: =flotte!B49 -> 41490
A37: =flotte!B52 -> 41491
A38: =flotte!B55 -> 41492
A39: =flotte!B58 -> 41493
A40: =flotte!B61 -> 41494
A41: =flotte!B64 -> 41495
A42: =flotte!B67 -> 41496
A43: =flotte!B70 -> 41497
A44: =flotte!B73 -> 41498
A45: =flotte!B76 -> 41499
A46: =flotte!B79 -> 41500
A47: =flotte!B82 -> 41501
A48: =flotte!B85 -> 41502
A49: =flotte!B85 -> 41502
A50: 17-Aug-2013
A51: 18-Aug-2013
A52: 19-Aug-2013
A53: 20-Aug-2013
A54: =flotte!B100 -> 41507
A55: =flotte!B103 -> 41508
A56: =flotte!B106 -> 41509
A57: =flotte!B109 -> 41510
A58: 25-Aug-2013
A59: 26-Aug-2013
A60: 27-Aug-2013
A61: 28-Aug-2013
A62: =flotte!B124 -> 41515
A63: =flotte!B127 -> 41516
A64: =flotte!B130 -> 41517
A65: =flotte!B133 -> 41518
A66: =flotte!B139 -> 41519
A67: =flotte!B145 -> 41520
A68: 41521
A69: =flotte!B157 -> 41522
A70: =flotte!B163 -> 41523
A71: =flotte!B169 -> 41524
A72: =flotte!B175 -> 41525
A73: =flotte!B181 -> 41526
A74: =flotte!B187 -> 41527
A75: =flotte!B193 -> 41528
A76: =flotte!B199 -> 41529
A77: =flotte!B205 -> 41530
A78: =flotte!B211 -> 41531
A79: =flotte!B217 -> 41532
A80: =flotte!B223 -> 41533
A81: =flotte!B229 -> 0
A82: =flotte!B232 -> 0
A83: =flotte!B235 -> 0
A84: =flotte!B238 -> 0
A85: =flotte!B241 -> 0
A86: =flotte!B244 -> 0
A87: =flotte!B247 -> 0

Sheet 15
B11: ENTRETIEN DES MATERIELS
A15: N’ de référence Aqua sport loisirs : GTI 4 tec N°15
A16: N’ d’immatriculation : SNE 55 064
A17: N’ de série : CAYDV 28719 E111
A20: DATE | B20: NBRS HEURES | C20: Etat | E20: A faire | G20: Intervention
A21: =flotte!B3 -> 41475
A22: =flotte!B6 -> 41476
A23: =flotte!B9 -> 41477
A24: =flotte!B12 -> 41478
A25: =flotte!B15 -> 41479
A26: =flotte!B18 -> 41480
A27: =flotte!B21 -> 41481
A28: =flotte!B24 -> 41482
A29: =flotte!B27 -> 41483
A30: =flotte!B30 -> 41484
A31: =flotte!B33 -> 41485
A32: =flotte!B36 -> 41486
A33: =flotte!B40 -> 41487
A34: =flotte!B43 -> 41488
A35: =flotte!B46 -> 41489
A36: =flotte!B49 -> 41490
A37: =flotte!B52 -> 41491
A38: =flotte!B55 -> 41492
A39: =flotte!B58 -> 41493
A40: =flotte!B61 -> 41494
A41: =flotte!B64 -> 41495
A42: =flotte!B67 -> 41496
A43: =flotte!B70 -> 41497
A44: =flotte!B73 -> 41498
A45: =flotte!B76 -> 41499
A46: =flotte!B79 -> 41500
A47: =flotte!B82 -> 41501
A48: =flotte!B85 -> 41502
A49: =flotte!B85 -> 41502
A50: 17-Aug-2013
A51: 18-Aug-2013
A52: 19-Aug-2013
A53: 20-Aug-2013
A54: =flotte!B100 -> 41507
A55: =flotte!B103 -> 41508
A56: =flotte!B106 -> 41509
A57: =flotte!B109 -> 41510
A58: 25-Aug-2013
A59: 26-Aug-2013
A60: 27-Aug-2013
A61: 28-Aug-2013
A62: =flotte!B124 -> 41515
A63: =flotte!B127 -> 41516
A64: =flotte!B130 -> 41517
A65: =flotte!B133 -> 41518
A66: =flotte!B139 -> 41519
A67: =flotte!B145 -> 41520
A68: 41521
A69: =flotte!B157 -> 41522
A70: =flotte!B163 -> 41523
A71: =flotte!B169 -> 41524
A72: =flotte!B175 -> 41525
A73: =flotte!B181 -> 41526
A74: =flotte!B187 -> 41527
A75: =flotte!B193 -> 41528
A76: =flotte!B199 -> 41529
A77: =flotte!B205 -> 41530
A78: =flotte!B211 -> 41531
A79: =flotte!B217 -> 41532
A80: =flotte!B223 -> 41533
A81: =flotte!B229 -> 0
A82: =flotte!B232 -> 0
A83: =flotte!B235 -> 0
A84: =flotte!B238 -> 0
A85: =flotte!B241 -> 0
A86: =flotte!B244 -> 0
A87: =flotte!B247 -> 0

Sheet 16
B11: ENTRETIEN DES MATERIELS
A15: N’ de référence Aqua sport loisirs : GTI 4 tec N°16
A16: N’ d’immatriculation :
A17: N’ de série : CAYDV 40630 D212
A20: DATE | B20: NBRS HEURES | C20: Etat | E20: A faire | G20: Intervention
A21: =flotte!B3 -> 41475
A22: =flotte!B6 -> 41476
A23: =flotte!B9 -> 41477
A24: =flotte!B12 -> 41478
A25: =flotte!B15 -> 41479
A26: =flotte!B18 -> 41480
A27: =flotte!B21 -> 41481
A28: =flotte!B24 -> 41482
A29: =flotte!B27 -> 41483
A30: =flotte!B30 -> 41484
A31: =flotte!B33 -> 41485
A32: =flotte!B36 -> 41486
A33: =flotte!B40 -> 41487
A34: =flotte!B43 -> 41488
A35: =flotte!B46 -> 41489
A36: =flotte!B49 -> 41490
A37: =flotte!B52 -> 41491
A38: =flotte!B55 -> 41492
A39: =flotte!B58 -> 41493
A40: =flotte!B61 -> 41494
A41: =flotte!B64 -> 41495
A42: =flotte!B67 -> 41496
A43: =flotte!B70 -> 41497
A44: =flotte!B73 -> 41498
A45: =flotte!B76 -> 41499
A46: =flotte!B79 -> 41500
A47: =flotte!B82 -> 41501
A48: =flotte!B85 -> 41502
A49: =flotte!B85 -> 41502
A50: 17-Aug-2013
A51: 18-Aug-2013
A52: 19-Aug-2013
A53: 20-Aug-2013
A54: =flotte!B100 -> 41507
A55: =flotte!B103 -> 41508
A56: =flotte!B106 -> 41509
A57: =flotte!B109 -> 41510
A58: 25-Aug-2013
A59: 26-Aug-2013
A60: 27-Aug-2013
A61: 28-Aug-2013
A62: =flotte!B124 -> 41515
A63: =flotte!B127 -> 41516
A64: =flotte!B130 -> 41517
A65: =flotte!B133 -> 41518
A66: =flotte!B139 -> 41519
A67: =flotte!B145 -> 41520
A68: 41521
A69: =flotte!B157 -> 41522
A70: =flotte!B163 -> 41523
A71: =flotte!B169 -> 41524
A72: =flotte!B175 -> 41525
A73: =flotte!B181 -> 41526
A74: =flotte!B187 -> 41527
A75: =flotte!B193 -> 41528
A76: =flotte!B199 -> 41529
A77: =flotte!B205 -> 41530
A78: =flotte!B211 -> 41531
A79: =flotte!B217 -> 41532
A80: =flotte!B223 -> 41533
A81: =flotte!B229 -> 0
A82: =flotte!B232 -> 0
A83: =flotte!B235 -> 0
A84: =flotte!B238 -> 0
A85: =flotte!B241 -> 0
A86: =flotte!B244 -> 0
A87: =flotte!B247 -> 0

Sheet 17
B11: ENTRETIEN DES MATERIELS
A15: N’ de référence Aqua sport loisirs : GTI 4 tec N°17
A16: N’ d’immatriculation :
A17: N’ de série : CAYDV 40632 D212
A20: DATE | B20: NBRS HEURES | C20: Etat | E20: A faire | G20: Intervention
A21: =flotte!B3 -> 41475
A22: =flotte!B6 -> 41476
A23: =flotte!B9 -> 41477
A24: =flotte!B12 -> 41478
A25: =flotte!B15 -> 41479
A26: =flotte!B18 -> 41480
A27: =flotte!B21 -> 41481
A28: =flotte!B24 -> 41482
A29: =flotte!B27 -> 41483
A30: =flotte!B30 -> 41484
A31: =flotte!B33 -> 41485
A32: =flotte!B36 -> 41486
A33: =flotte!B40 -> 41487
A34: =flotte!B43 -> 41488
A35: =flotte!B46 -> 41489
A36: =flotte!B49 -> 41490
A37: =flotte!B52 -> 41491
A38: =flotte!B55 -> 41492
A39: =flotte!B58 -> 41493
A40: =flotte!B61 -> 41494
A41: =flotte!B64 -> 41495
A42: =flotte!B67 -> 41496
A43: =flotte!B70 -> 41497
A44: =flotte!B73 -> 41498
A45: =flotte!B76 -> 41499
A46: =flotte!B79 -> 41500
A47: =flotte!B82 -> 41501
A48: =flotte!B85 -> 41502
A49: =flotte!B85 -> 41502
A50: 17-Aug-2013
A51: 18-Aug-2013
A52: 19-Aug-2013
A53: 20-Aug-2013
A54: =flotte!B100 -> 41507
A55: =flotte!B103 -> 41508
A56: =flotte!B106 -> 41509
A57: =flotte!B109 -> 41510
A58: 25-Aug-2013
A59: 26-Aug-2013
A60: 27-Aug-2013
A61: 28-Aug-2013
A62: =flotte!B124 -> 41515
A63: =flotte!B127 -> 41516
A64: =flotte!B130 -> 41517
A65: =flotte!B133 -> 41518
A66: =flotte!B139 -> 41519
A67: =flotte!B145 -> 41520
A68: 41521
A69: =flotte!B157 -> 41522
A70: =flotte!B163 -> 41523
A71: =flotte!B169 -> 41524
A72: =flotte!B175 -> 41525
A73: =flotte!B181 -> 41526
A74: =flotte!B187 -> 41527
A75: =flotte!B193 -> 41528
A76: =flotte!B199 -> 41529
A77: =flotte!B205 -> 41530
A78: =flotte!B211 -> 41531
A79: =flotte!B217 -> 41532
A80: =flotte!B223 -> 41533
A81: =flotte!B229 -> 0
A82: =flotte!B232 -> 0
A83: =flotte!B235 -> 0
A84: =flotte!B238 -> 0
A85: =flotte!B241 -> 0
A86: =flotte!B244 -> 0
A87: =flotte!B247 -> 0

Sheet 18
B11: ENTRETIEN DES MATERIELS
A15: N’ de référence Aqua sport loisirs : GTI 4 tec N°18
A16: N’ d’immatriculation :
A17: N’ de série : CAYDV 40608 D212
A20: DATE | B20: NBRS HEURES | C20: Etat | E20: A faire | G20: Intervention
A21: =flotte!B3 -> 41475
A22: =flotte!B6 -> 41476
A23: =flotte!B9 -> 41477
A24: =flotte!B12 -> 41478
A25: =flotte!B15 -> 41479
A26: =flotte!B18 -> 41480
A27: =flotte!B21 -> 41481
A28: =flotte!B24 -> 41482
A29: =flotte!B27 -> 41483
A30: =flotte!B30 -> 41484
A31: =flotte!B33 -> 41485
A32: =flotte!B36 -> 41486
A33: =flotte!B40 -> 41487
A34: =flotte!B43 -> 41488
A35: =flotte!B46 -> 41489
A36: =flotte!B49 -> 41490
A37: =flotte!B52 -> 41491
A38: =flotte!B55 -> 41492
A39: =flotte!B58 -> 41493
A40: =flotte!B61 -> 41494
A41: =flotte!B64 -> 41495
A42: =flotte!B67 -> 41496
A43: =flotte!B70 -> 41497
A44: =flotte!B73 -> 41498
A45: =flotte!B76 -> 41499
A46: =flotte!B79 -> 41500
A47: =flotte!B82 -> 41501
A48: =flotte!B85 -> 41502
A49: =flotte!B85 -> 41502
A50: 17-Aug-2013
A51: 18-Aug-2013
A52: 19-Aug-2013
A53: 20-Aug-2013
A54: =flotte!B100 -> 41507
A55: =flotte!B103 -> 41508
A56: =flotte!B106 -> 41509
A57: =flotte!B109 -> 41510
A58: 25-Aug-2013
A59: 26-Aug-2013
A60: 27-Aug-2013
A61: 28-Aug-2013
A62: =flotte!B124 -> 41515
A63: =flotte!B127 -> 41516
A64: =flotte!B130 -> 41517
A65: =flotte!B133 -> 41518
A66: =flotte!B139 -> 41519
A67: =flotte!B145 -> 41520
A68: 41521
A69: =flotte!B157 -> 41522
A70: =flotte!B163 -> 41523
A71: =flotte!B169 -> 41524
A72: =flotte!B175 -> 41525
A73: =flotte!B181 -> 41526
A74: =flotte!B187 -> 41527
A75: =flotte!B193 -> 41528
A76: =flotte!B199 -> 41529
A77: =flotte!B205 -> 41530
A78: =flotte!B211 -> 41531
A79: =flotte!B217 -> 41532
A80: =flotte!B223 -> 41533
A81: =flotte!B229 -> 0
A82: =flotte!B232 -> 0
A83: =flotte!B235 -> 0
A84: =flotte!B238 -> 0
A85: =flotte!B241 -> 0
A86: =flotte!B244 -> 0
A87: =flotte!B247 -> 0

Sheet 19
B11: ENTRETIEN DES MATERIELS
A15: N’ de référence Aqua sport loisirs : GTI 4 tec N°19
A16: N’ d’immatriculation :
A17: N’ de série : CAYDV 40623 D212
A20: DATE | B20: NBRS HEURES | C20: Etat | E20: A faire | G20: Intervention
A21: =flotte!B3 -> 41475
A22: =flotte!B6 -> 41476
A23: =flotte!B9 -> 41477
A24: =flotte!B12 -> 41478
A25: =flotte!B15 -> 41479
A26: =flotte!B18 -> 41480
A27: =flotte!B21 -> 41481
A28: =flotte!B24 -> 41482
A29: =flotte!B27 -> 41483
A30: =flotte!B30 -> 41484
A31: =flotte!B33 -> 41485
A32: =flotte!B36 -> 41486
A33: =flotte!B40 -> 41487
A34: =flotte!B43 -> 41488
A35: =flotte!B46 -> 41489
A36: =flotte!B49 -> 41490
A37: =flotte!B52 -> 41491
A38: =flotte!B55 -> 41492
A39: =flotte!B58 -> 41493
A40: =flotte!B61 -> 41494
A41: =flotte!B64 -> 41495
A42: =flotte!B67 -> 41496
A43: =flotte!B70 -> 41497
A44: =flotte!B73 -> 41498
A45: =flotte!B76 -> 41499
A46: =flotte!B79 -> 41500
A47: =flotte!B82 -> 41501
A48: =flotte!B85 -> 41502
A49: =flotte!B85 -> 41502
A50: 17-Aug-2013
A51: 18-Aug-2013
A52: 19-Aug-2013
A53: 20-Aug-2013
A54: =flotte!B100 -> 41507
A55: =flotte!B103 -> 41508
A56: =flotte!B106 -> 41509
A57: =flotte!B109 -> 41510
A58: 25-Aug-2013
A59: 26-Aug-2013
A60: 27-Aug-2013
A61: 28-Aug-2013
A62: =flotte!B124 -> 41515
A63: =flotte!B127 -> 41516
A64: =flotte!B130 -> 41517
A65: =flotte!B133 -> 41518
A66: =flotte!B139 -> 41519
A67: =flotte!B145 -> 41520
A68: 41521
A69: =flotte!B157 -> 41522
A70: =flotte!B163 -> 41523
A71: =flotte!B169 -> 41524
A72: =flotte!B175 -> 41525
A73: =flotte!B181 -> 41526
A74: =flotte!B187 -> 41527
A75: =flotte!B193 -> 41528
A76: =flotte!B199 -> 41529
A77: =flotte!B205 -> 41530
A78: =flotte!B211 -> 41531
A79: =flotte!B217 -> 41532
A80: =flotte!B223 -> 41533
A81: =flotte!B229 -> 0
A82: =flotte!B232 -> 0
A83: =flotte!B235 -> 0
A84: =flotte!B238 -> 0
A85: =flotte!B241 -> 0
A86: =flotte!B244 -> 0
A87: =flotte!B247 -> 0

Sheet 20
B11: ENTRETIEN DES MATERIELS
A15: N’ de référence Aqua sport loisirs : GTI 4 tec N°20
A16: N’ d’immatriculation :
A17: N’ de série : CAYDV 40604 D212
A20: DATE | B20: NBRS HEURES | C20: Etat | E20: A faire | G20: Intervention
A21: =flotte!B3 -> 41475
A22: =flotte!B6 -> 41476
A23: =flotte!B9 -> 41477
A24: =flotte!B12 -> 41478
A25: =flotte!B15 -> 41479
A26: =flotte!B18 -> 41480
A27: =flotte!B21 -> 41481
A28: =flotte!B24 -> 41482
A29: =flotte!B27 -> 41483
A30: =flotte!B30 -> 41484
A31: =flotte!B33 -> 41485
A32: =flotte!B36 -> 41486
A33: =flotte!B40 -> 41487
A34: =flotte!B43 -> 41488
A35: =flotte!B46 -> 41489
A36: =flotte!B49 -> 41490
A37: =flotte!B52 -> 41491
A38: =flotte!B55 -> 41492
A39: =flotte!B58 -> 41493
A40: =flotte!B61 -> 41494
A41: =flotte!B64 -> 41495
A42: =flotte!B67 -> 41496
A43: =flotte!B70 -> 41497
A44: =flotte!B73 -> 41498
A45: =flotte!B76 -> 41499
A46: =flotte!B79 -> 41500
A47: =flotte!B82 -> 41501
A48: =flotte!B85 -> 41502
A49: =flotte!B85 -> 41502
A50: 17-Aug-2013
A51: 18-Aug-2013
A52: 19-Aug-2013
A53: 20-Aug-2013
A54: =flotte!B100 -> 41507
A55: =flotte!B103 -> 41508
A56: =flotte!B106 -> 41509
A57: =flotte!B109 -> 41510
A58: 25-Aug-2013
A59: 26-Aug-2013
A60: 27-Aug-2013
A61: 28-Aug-2013
A62: =flotte!B124 -> 41515
A63: =flotte!B127 -> 41516
A64: =flotte!B130 -> 41517
A65: =flotte!B133 -> 41518
A66: =flotte!B139 -> 41519
A67: =flotte!B145 -> 41520
A68: 41521
A69: =flotte!B157 -> 41522
A70: =flotte!B163 -> 41523
A71: =flotte!B169 -> 41524
A72: =flotte!B175 -> 41525
A73: =flotte!B181 -> 41526
A74: =flotte!B187 -> 41527
A75: =flotte!B193 -> 41528
A76: =flotte!B199 -> 41529
A77: =flotte!B205 -> 41530
A78: =flotte!B211 -> 41531
A79: =flotte!B217 -> 41532
A80: =flotte!B223 -> 41533
A81: =flotte!B229 -> 0
A82: =flotte!B232 -> 0
A83: =flotte!B235 -> 0
A84: =flotte!B238 -> 0
A85: =flotte!B241 -> 0
A86: =flotte!B244 -> 0
A87: =flotte!B247 -> 0

Sheet 21
B11: ENTRETIEN DES MATERIELS
A15: N’ de référence Aqua sport loisirs : GTI 4 tec N°21
A16: N’ d’immatriculation :
A17: N’ de série : CAYDV 43520 C313
A20: DATE | B20: NBRS HEURES | C20: Etat | E20: A faire | G20: Intervention
A21: =flotte!B3 -> 41475
A22: =flotte!B6 -> 41476
A23: =flotte!B9 -> 41477
A24: =flotte!B12 -> 41478
A25: =flotte!B15 -> 41479
A26: =flotte!B18 -> 41480
A27: =flotte!B21 -> 41481
A28: =flotte!B24 -> 41482
A29: =flotte!B27 -> 41483
A30: =flotte!B30 -> 41484
A31: =flotte!B33 -> 41485
A32: =flotte!B36 -> 41486
A33: =flotte!B40 -> 41487
A34: =flotte!B43 -> 41488
A35: =flotte!B46 -> 41489
A36: =flotte!B49 -> 41490
A37: =flotte!B52 -> 41491
A38: =flotte!B55 -> 41492
A39: =flotte!B58 -> 41493
A40: =flotte!B61 -> 41494
A41: =flotte!B64 -> 41495
A42: =flotte!B67 -> 41496
A43: =flotte!B70 -> 41497
A44: =flotte!B73 -> 41498
A45: =flotte!B76 -> 41499
A46: =flotte!B79 -> 41500
A47: =flotte!B82 -> 41501
A48: =flotte!B85 -> 41502
A49: =flotte!B85 -> 41502
A50: 17-Aug-2013
A51: 18-Aug-2013
A52: 19-Aug-2013
A53: 20-Aug-2013
A54: =flotte!B100 -> 41507
A55: =flotte!B103 -> 41508
A56: =flotte!B106 -> 41509
A57: =flotte!B109 -> 41510
A58: 25-Aug-2013
A59: 26-Aug-2013
A60: 27-Aug-2013
A61: 28-Aug-2013
A62: =flotte!B124 -> 41515
A63: =flotte!B127 -> 41516
A64: =flotte!B130 -> 41517
A65: =flotte!B133 -> 41518
A66: =flotte!B139 -> 41519
A67: =flotte!B145 -> 41520
A68: 41521
A69: =flotte!B157 -> 41522
A70: =flotte!B163 -> 41523
A71: =flotte!B169 -> 41524
A72: =flotte!B175 -> 41525
A73: =flotte!B181 -> 41526
A74: =flotte!B187 -> 41527
A75: =flotte!B193 -> 41528
A76: =flotte!B199 -> 41529
A77: =flotte!B205 -> 41530
A78: =flotte!B211 -> 41531
A79: =flotte!B217 -> 41532
A80: =flotte!B223 -> 41533
A81: =flotte!B229 -> 0
A82: =flotte!B232 -> 0
A83: =flotte!B235 -> 0
A84: =flotte!B238 -> 0
A85: =flotte!B241 -> 0
A86: =flotte!B244 -> 0
A87: =flotte!B247 -> 0

Sheet 22
B11: ENTRETIEN DES MATERIELS
A15: N’ de référence Aqua sport loisirs : GTI 4 tec N°22
A16: N’ d’immatriculation :
A17: N’ de série : CAYDV 43522 C313
A20: DATE | B20: NBRS HEURES | C20: Etat | E20: A faire | G20: Intervention
A21: =flotte!B3 -> 41475
A22: =flotte!B6 -> 41476
A23: =flotte!B9 -> 41477
A24: =flotte!B12 -> 41478
A25: =flotte!B15 -> 41479
A26: =flotte!B18 -> 41480
A27: =flotte!B21 -> 41481
A28: =flotte!B24 -> 41482
A29: =flotte!B27 -> 41483
A30: =flotte!B30 -> 41484
A31: =flotte!B33 -> 41485
A32: =flotte!B36 -> 41486
A33: =flotte!B40 -> 41487
A34: =flotte!B43 -> 41488
A35: =flotte!B46 -> 41489
A36: =flotte!B49 -> 41490
A37: =flotte!B52 -> 41491
A38: =flotte!B55 -> 41492
A39: =flotte!B58 -> 41493
A40: =flotte!B61 -> 41494
A41: =flotte!B64 -> 41495
A42: =flotte!B67 -> 41496
A43: =flotte!B70 -> 41497
A44: =flotte!B73 -> 41498
A45: =flotte!B76 -> 41499
A46: =flotte!B79 -> 41500
A47: =flotte!B82 -> 41501
A48: =flotte!B85 -> 41502
A49: =flotte!B85 -> 41502
A50: 17-Aug-2013
A51: 18-Aug-2013
A52: 19-Aug-2013
A53: 20-Aug-2013
A54: =flotte!B100 -> 41507
A55: =flotte!B103 -> 41508
A56: =flotte!B106 -> 41509
A57: =flotte!B109 -> 41510
A58: 25-Aug-2013
A59: 26-Aug-2013
A60: 27-Aug-2013
A61: 28-Aug-2013
A62: =flotte!B124 -> 41515
A63: =flotte!B127 -> 41516
A64: =flotte!B130 -> 41517
A65: =flotte!B133 -> 41518
A66: =flotte!B139 -> 41519
A67: =flotte!B145 -> 41520
A68: 41521
A69: =flotte!B157 -> 41522
A70: =flotte!B163 -> 41523
A71: =flotte!B169 -> 41524
A72: =flotte!B175 -> 41525
A73: =flotte!B181 -> 41526
A74: =flotte!B187 -> 41527
A75: =flotte!B193 -> 41528
A76: =flotte!B199 -> 41529
A77: =flotte!B205 -> 41530
A78: =flotte!B211 -> 41531
A79: =flotte!B217 -> 41532
A80: =flotte!B223 -> 41533
A81: =flotte!B229 -> 0
A82: =flotte!B232 -> 0
A83: =flotte!B235 -> 0
A84: =flotte!B238 -> 0
A85: =flotte!B241 -> 0
A86: =flotte!B244 -> 0
A87: =flotte!B247 -> 0

Sheet 23
B11: ENTRETIEN DES MATERIELS
A15: N’ de référence Aqua sport loisirs : GTI 4 tec N°23
A16: N’ d’immatriculation :
A17: N’ de série : CAYDV 43546 C313
A20: DATE | B20: NBRS HEURES | C20: Etat | E20: A faire | G20: Intervention
A21: =flotte!B3 -> 41475
A22: =flotte!B6 -> 41476
A23: =flotte!B9 -> 41477
A24: =flotte!B12 -> 41478
A25: =flotte!B15 -> 41479
A26: =flotte!B18 -> 41480
A27: =flotte!B21 -> 41481
A28: =flotte!B24 -> 41482
A29: =flotte!B27 -> 41483
A30: =flotte!B30 -> 41484
A31: =flotte!B33 -> 41485
A32: =flotte!B36 -> 41486
A33: =flotte!B40 -> 41487
A34: =flotte!B43 -> 41488
A35: =flotte!B46 -> 41489
A36: =flotte!B49 -> 41490
A37: =flotte!B52 -> 41491
A38: =flotte!B55 -> 41492
A39: =flotte!B58 -> 41493
A40: =flotte!B61 -> 41494
A41: =flotte!B64 -> 41495
A42: =flotte!B67 -> 41496
A43: =flotte!B70 -> 41497
A44: =flotte!B73 -> 41498
A45: =flotte!B76 -> 41499
A46: =flotte!B79 -> 41500
A47: =flotte!B82 -> 41501
A48: =flotte!B85 -> 41502
A49: =flotte!B85 -> 41502
A50: 17-Aug-2013
A51: 18-Aug-2013
A52: 19-Aug-2013
A53: 20-Aug-2013
A54: =flotte!B100 -> 41507
A55: =flotte!B103 -> 41508
A56: =flotte!B106 -> 41509
A57: =flotte!B109 -> 41510
A58: 25-Aug-2013
A59: 26-Aug-2013
A60: 27-Aug-2013
A61: 28-Aug-2013
A62: =flotte!B124 -> 41515
A63: =flotte!B127 -> 41516
A64: =flotte!B130 -> 41517
A65: =flotte!B133 -> 41518
A66: =flotte!B139 -> 41519
A67: =flotte!B145 -> 41520
A68: 41521
A69: =flotte!B157 -> 41522
A70: =flotte!B163 -> 41523
A71: =flotte!B169 -> 41524
A72: =flotte!B175 -> 41525
A73: =flotte!B181 -> 41526
A74: =flotte!B187 -> 41527
A75: =flotte!B193 -> 41528
A76: =flotte!B199 -> 41529
A77: =flotte!B205 -> 41530
A78: =flotte!B211 -> 41531
A79: =flotte!B217 -> 41532
A80: =flotte!B223 -> 41533
A81: =flotte!B229 -> 0
A82: =flotte!B232 -> 0
A83: =flotte!B235 -> 0
A84: =flotte!B238 -> 0
A85: =flotte!B241 -> 0
A86: =flotte!B244 -> 0
A87: =flotte!B247 -> 0

Sheet 24
B11: ENTRETIEN DES MATERIELS
A15: N’ de référence Aqua sport loisirs : GTI 4 tec N°24
A16: N’ d’immatriculation :
A17: N’ de série : CAYDV 43561 C313
A20: DATE | B20: NBRS HEURES | C20: Etat | E20: A faire | G20: Intervention
A21: =flotte!B3 -> 41475
A22: =flotte!B6 -> 41476
A23: =flotte!B9 -> 41477
A24: =flotte!B12 -> 41478
A25: =flotte!B15 -> 41479
A26: =flotte!B18 -> 41480
A27: =flotte!B21 -> 41481
A28: =flotte!B24 -> 41482
A29: =flotte!B27 -> 41483
A30: =flotte!B30 -> 41484
A31: =flotte!B33 -> 41485
A32: =flotte!B36 -> 41486
A33: =flotte!B40 -> 41487
A34: =flotte!B43 -> 41488
A35: =flotte!B46 -> 41489
A36: =flotte!B49 -> 41490
A37: =flotte!B52 -> 41491
A38: =flotte!B55 -> 41492
A39: =flotte!B58 -> 41493
A40: =flotte!B61 -> 41494
A41: =flotte!B64 -> 41495
A42: =flotte!B67 -> 41496
A43: =flotte!B70 -> 41497
A44: =flotte!B73 -> 41498
A45: =flotte!B76 -> 41499
A46: =flotte!B79 -> 41500
A47: =flotte!B82 -> 41501
A48: =flotte!B85 -> 41502
A49: =flotte!B85 -> 41502
A50: 17-Aug-2013
A51: 18-Aug-2013
A52: 19-Aug-2013
A53: 20-Aug-2013
A54: =flotte!B100 -> 41507
A55: =flotte!B103 -> 41508
A56: =flotte!B106 -> 41509
A57: =flotte!B109 -> 41510
A58: 25-Aug-2013
A59: 26-Aug-2013
A60: 27-Aug-2013
A61: 28-Aug-2013
A62: =flotte!B124 -> 41515
A63: =flotte!B127 -> 41516
A64: =flotte!B130 -> 41517
A65: =flotte!B133 -> 41518
A66: =flotte!B139 -> 41519
A67: =flotte!B145 -> 41520
A68: 41521
A69: =flotte!B157 -> 41522
A70: =flotte!B163 -> 41523
A71: =flotte!B169 -> 41524
A72: =flotte!B175 -> 41525
A73: =flotte!B181 -> 41526
A74: =flotte!B187 -> 41527
A75: =flotte!B193 -> 41528
A76: =flotte!B199 -> 41529
A77: =flotte!B205 -> 41530
A78: =flotte!B211 -> 41531
A79: =flotte!B217 -> 41532
A80: =flotte!B223 -> 41533
A81: =flotte!B229 -> 0
A82: =flotte!B232 -> 0
A83: =flotte!B235 -> 0
A84: =flotte!B238 -> 0
A85: =flotte!B241 -> 0
A86: =flotte!B244 -> 0
A87: =flotte!B247 -> 0

Sheet 25
B11: ENTRETIEN DES MATERIELS
A15: N’ de référence Aqua sport loisirs : GTI 4 tec N°25
A16: N’ d’immatriculation :
A17: N’ de série : CAYDV 43562 C313
A20: DATE | B20: NBRS HEURES | C20: Etat | E20: A faire | G20: Intervention
A21: =flotte!B3 -> 41475
A22: =flotte!B6 -> 41476
A23: =flotte!B9 -> 41477
A24: =flotte!B12 -> 41478
A25: =flotte!B15 -> 41479
A26: =flotte!B18 -> 41480
A27: =flotte!B21 -> 41481
A28: =flotte!B24 -> 41482
A29: =flotte!B27 -> 41483
A30: =flotte!B30 -> 41484
A31: =flotte!B33 -> 41485
A32: =flotte!B36 -> 41486
A33: =flotte!B40 -> 41487
A34: =flotte!B43 -> 41488
A35: =flotte!B46 -> 41489
A36: =flotte!B49 -> 41490
A37: =flotte!B52 -> 41491
A38: =flotte!B55 -> 41492
A39: =flotte!B58 -> 41493
A40: =flotte!B61 -> 41494
A41: =flotte!B64 -> 41495
A42: =flotte!B67 -> 41496
A43: =flotte!B70 -> 41497
A44: =flotte!B73 -> 41498
A45: =flotte!B76 -> 41499
A46: =flotte!B79 -> 41500
A47: =flotte!B82 -> 41501
A48: =flotte!B85 -> 41502
A49: =flotte!B85 -> 41502
A50: 17-Aug-2013
A51: 18-Aug-2013
A52: 19-Aug-2013
A53: 20-Aug-2013
A54: =flotte!B100 -> 41507
A55: =flotte!B103 -> 41508
A56: =flotte!B106 -> 41509
A57: =flotte!B109 -> 41510
A58: 25-Aug-2013
A59: 26-Aug-2013
A60: 27-Aug-2013
A61: 28-Aug-2013
A62: =flotte!B124 -> 41515
A63: =flotte!B127 -> 41516
A64: =flotte!B130 -> 41517
A65: =flotte!B133 -> 41518
A66: =flotte!B139 -> 41519
A67: =flotte!B145 -> 41520
A68: 41521
A69: =flotte!B157 -> 41522
A70: =flotte!B163 -> 41523
A71: =flotte!B169 -> 41524
A72: =flotte!B175 -> 41525
A73: =flotte!B181 -> 41526
A74: =flotte!B187 -> 41527
A75: =flotte!B193 -> 41528
A76: =flotte!B199 -> 41529
A77: =flotte!B205 -> 41530
A78: =flotte!B211 -> 41531
A79: =flotte!B217 -> 41532
A80: =flotte!B223 -> 41533
A81: =flotte!B229 -> 0
A82: =flotte!B232 -> 0
A83: =flotte!B235 -> 0
A84: =flotte!B238 -> 0
A85: =flotte!B241 -> 0
A86: =flotte!B244 -> 0
A87: =flotte!B247 -> 0

Sheet RX
C12: ENTRETIEN DES MATERIELS
A15: N’ de référence Aqua sport loisirs :
A16: N’ d’immatriculation :
A17: N’ de série :
A20: DATE | B20: NBRS HEURES | C20: VERIFICATION

Sheet RXT-X-
C12: ENTRETIEN DES MATERIELS
A15: N’ de référence Aqua sport loisirs :
A16: N’ d’immatriculation :
A17: N’ de série :
A20: DATE | B20: NBRS HEURES | C20: VERIFICATION

Sheet 3D Rouge 1
C12: ENTRETIEN DES MATERIELS
A15: N’ de référence Aqua sport loisirs :
A16: N’ d’immatriculation :
A17: N’ de série :
A20: DATE | B20: NBRS HEURES | C20: VERIFICATION

Sheet 3D Rouge 2
C12: ENTRETIEN DES MATERIELS
A15: N’ de référence Aqua sport loisirs :
A16: N’ d’immatriculation :
A17: N’ de série :
A20: DATE | B20: NBRS HEURES | C20: VERIFICATION

Sheet 3D Rouge 3
C12: ENTRETIEN DES MATERIELS
A15: N’ de référence Aqua sport loisirs :
A16: N’ d’immatriculation :
A17: N’ de série :
A20: DATE | B20: NBRS HEURES | C20: VERIFICATION

Sheet 3D Rouge 4
C12: ENTRETIEN DES MATERIELS
A15: N’ de référence Aqua sport loisirs :
A16: N’ d’immatriculation :
A17: N’ de série :
A20: DATE | B20: NBRS HEURES | C20: VERIFICATION

Sheet 3D Rouge 5
C12: ENTRETIEN DES MATERIELS
A15: N’ de référence Aqua sport loisirs :
A16: N’ d’immatriculation :
A17: N’ de série :
A20: DATE | B20: NBRS HEURES | C20: VERIFICATION

Sheet 3D Orange 1
C12: ENTRETIEN DES MATERIELS
A15: N’ de référence Aqua sport loisirs :
A16: N’ d’immatriculation :
A17: N’ de série :
A20: DATE | B20: NBRS HEURES | C20: VERIFICATION

Sheet 3D Orange 2
C12: ENTRETIEN DES MATERIELS
A15: N’ de référence Aqua sport loisirs :
A16: N’ d’immatriculation :
A17: N’ de série :
A20: DATE | B20: NBRS HEURES | C20: VERIFICATION

Sheet 3D Orange 3
C12: ENTRETIEN DES MATERIELS
A15: N’ de référence Aqua sport loisirs :
A16: N’ d’immatriculation :
A17: N’ de série :
A20: DATE | B20: NBRS HEURES | C20: VERIFICATION

Sheet 3D Orange 4
C12: ENTRETIEN DES MATERIELS
A15: N’ de référence Aqua sport loisirs :
A16: N’ d’immatriculation :
A17: N’ de série :
A20: DATE | B20: NBRS HEURES | C20: VERIFICATION

Sheet Feuil1
