Workbook

Sheet Saisie
B4: 0.29166667
A6: Date | B6: Date 2 | D6: Population | E6: Blaise | F6: Pascal | G6: Total Frame | H6: Edwin | I6: Powell | J6: Hubble | K6: Albert | L6: Einstein | M6: Max | N6: Planck | O6: Alpha | P6: Bêta | Q6: Gamma | R6: Total Second
A7: 41674 | B7: Mar. 04 Févr. 14 - Sem. 6 | C7: Loi | D7: Bernouilli | E7: 100 | F7: 0.125 | G7: =SUM(OFFSET($A7,0,MATCH("*Population*",$6:$6,0),1,COLUMN()-1-MATCH("*Population*",$6:$6,0))) -> 100.125 | H7: 1.1666667 | I7: 0.83333333 | J7: 0 | K7: 0 | L7: 0 | M7: 0 | N7: 0 | O7: 0 | P7: 0 | Q7: 0 | R7: =SUM(OFFSET($A7,0,MATCH("*Frame*",$6:$6,0),1,COLUMN()-1-MATCH("*Frame*",$6:$6,0))) -> 2
A8: =A7 -> 41674 | D8: Binomiale | E8: 0.036111111 | F8: 0.03125 | G8: =SUM(OFFSET($A8,0,MATCH("*Population*",$6:$6,0),1,COLUMN()-1-MATCH("*Population*",$6:$6,0))) -> 0.067361111 | H8: 0.29166667 | I8: 0.20833333 | R8: =SUM(OFFSET($A8,0,MATCH("*Frame*",$6:$6,0),1,COLUMN()-1-MATCH("*Frame*",$6:$6,0))) -> 0.5
A9: =A8 -> 41674 | D9: Binomiale Négative | E9: 1 | F9: 5 | G9: =SUM(OFFSET($A9,0,MATCH("*Population*",$6:$6,0),1,COLUMN()-1-MATCH("*Population*",$6:$6,0))) -> 6 | H9: 5 | I9: 7 | J9: 1 | R9: =SUM(OFFSET($A9,0,MATCH("*Frame*",$6:$6,0),1,COLUMN()-1-MATCH("*Frame*",$6:$6,0))) -> 13
A10: =A9 -> 41674 | D10: Poisson | E10: 26 | F10: 4 | G10: =SUM(OFFSET($A10,0,MATCH("*Population*",$6:$6,0),1,COLUMN()-1-MATCH("*Population*",$6:$6,0))) -> 30 | R10: =SUM(OFFSET($A10,0,MATCH("*Frame*",$6:$6,0),1,COLUMN()-1-MATCH("*Frame*",$6:$6,0))) -> 0
A11: =A10 -> 41674 | D11: Géométrique | E11: -0.85555556 | F11: -4.875 | G11: =SUM(OFFSET($A11,0,MATCH("*Population*",$6:$6,0),1,COLUMN()-1-MATCH("*Population*",$6:$6,0))) -> -5.7305556 | H11: -3.8333333 | I11: -6.1666667 | J11: -1 | K11: 0 | L11: 0 | M11: 0 | N11: 0 | O11: 0 | P11: 0 | Q11: 0 | R11: =SUM(OFFSET($A11,0,MATCH("*Frame*",$6:$6,0),1,COLUMN()-1-MATCH("*Frame*",$6:$6,0))) -> -11
A12: =A11 -> 41674 | D12: Hyper Géométrique | E12: 8.0769231 | F12: 46 | G12: =SUM(OFFSET($A12,0,MATCH("*Population*",$6:$6,0),1,COLUMN()-1-MATCH("*Population*",$6:$6,0))) -> 54.076923 | H12: 5 | I12: 9.8 | R12: =SUM(OFFSET($A12,0,MATCH("*Frame*",$6:$6,0),1,COLUMN()-1-MATCH("*Frame*",$6:$6,0))) -> 14.8
A13: =A12 -> 41674 | D13: Gamma | G13: =SUM(OFFSET($A13,0,MATCH("*Population*",$6:$6,0),1,COLUMN()-1-MATCH("*Population*",$6:$6,0))) -> 0 | L13: 1 | R13: =SUM(OFFSET($A13,0,MATCH("*Frame*",$6:$6,0),1,COLUMN()-1-MATCH("*Frame*",$6:$6,0))) -> 1
A14: =A13 -> 41674 | D14: Normale | E14: 10 | F14: 37.333333 | G14: =SUM(OFFSET($A14,0,MATCH("*Population*",$6:$6,0),1,COLUMN()-1-MATCH("*Population*",$6:$6,0))) -> 47.333333 | H14: 0 | I14: 0 | R14: =SUM(OFFSET($A14,0,MATCH("*Frame*",$6:$6,0),1,COLUMN()-1-MATCH("*Frame*",$6:$6,0))) -> 0
A15: =A14 -> 41674 | C15: Suites | D15: Suite Arithmétique | E15: 3 | F15: 2 | G15: =SUM(OFFSET($A15,0,MATCH("*Population*",$6:$6,0),1,COLUMN()-1-MATCH("*Population*",$6:$6,0))) -> 5 | O15: 1 | R15: =SUM(OFFSET($A15,0,MATCH("*Frame*",$6:$6,0),1,COLUMN()-1-MATCH("*Frame*",$6:$6,0))) -> 1
A16: =A15 -> 41674 | D16: Suite Géométrique | G16: =SUM(OFFSET($A16,0,MATCH("*Population*",$6:$6,0),1,COLUMN()-1-MATCH("*Population*",$6:$6,0))) -> 0 | R16: =SUM(OFFSET($A16,0,MATCH("*Frame*",$6:$6,0),1,COLUMN()-1-MATCH("*Frame*",$6:$6,0))) -> 0
A17: =A16 -> 41674 | D17: Suite de Cauchy | G17: =SUM(OFFSET($A17,0,MATCH("*Population*",$6:$6,0),1,COLUMN()-1-MATCH("*Population*",$6:$6,0))) -> 0 | K17: 1 | R17: =SUM(OFFSET($A17,0,MATCH("*Frame*",$6:$6,0),1,COLUMN()-1-MATCH("*Frame*",$6:$6,0))) -> 1
A18: =A17 -> 41674 | D18: Nombre A | G18: =SUM(OFFSET($A18,0,MATCH("*Population*",$6:$6,0),1,COLUMN()-1-MATCH("*Population*",$6:$6,0))) -> 0 | R18: =SUM(OFFSET($A18,0,MATCH("*Frame*",$6:$6,0),1,COLUMN()-1-MATCH("*Frame*",$6:$6,0))) -> 0
A19: =A18 -> 41674 | D19: Nombre B | G19: =SUM(OFFSET($A19,0,MATCH("*Population*",$6:$6,0),1,COLUMN()-1-MATCH("*Population*",$6:$6,0))) -> 0 | R19: =SUM(OFFSET($A19,0,MATCH("*Frame*",$6:$6,0),1,COLUMN()-1-MATCH("*Frame*",$6:$6,0))) -> 0
A20: =A19 -> 41674 | D20: Moyenne Expansion univers | E20: 5 | F20: 7 | G20: =SUM(OFFSET($A20,0,MATCH("*Population*",$6:$6,0),1,COLUMN()-1-MATCH("*Population*",$6:$6,0))) -> 12 | R20: =SUM(OFFSET($A20,0,MATCH("*Frame*",$6:$6,0),1,COLUMN()-1-MATCH("*Frame*",$6:$6,0))) -> 0
A21: =A20 -> 41674 | D21: Moyenne Univers Stationnaire | E21: 6 | F21: 3 | G21: =SUM(OFFSET($A21,0,MATCH("*Population*",$6:$6,0),1,COLUMN()-1-MATCH("*Population*",$6:$6,0))) -> 9 | R21: =SUM(OFFSET($A21,0,MATCH("*Frame*",$6:$6,0),1,COLUMN()-1-MATCH("*Frame*",$6:$6,0))) -> 0
A22: =A21 -> 41674 | D22: Moyenne 1 | G22: =SUM(OFFSET($A22,0,MATCH("*Population*",$6:$6,0),1,COLUMN()-1-MATCH("*Population*",$6:$6,0))) -> 0 | R22: =SUM(OFFSET($A22,0,MATCH("*Frame*",$6:$6,0),1,COLUMN()-1-MATCH("*Frame*",$6:$6,0))) -> 0
A23: =A22 -> 41674 | D23: Nombre de Suites | G23: =SUM(OFFSET($A23,0,MATCH("*Population*",$6:$6,0),1,COLUMN()-1-MATCH("*Population*",$6:$6,0))) -> 0 | R23: =SUM(OFFSET($A23,0,MATCH("*Frame*",$6:$6,0),1,COLUMN()-1-MATCH("*Frame*",$6:$6,0))) -> 0
A25: 41675 | B25: Mar. 04 Févr. 14 - Sem. 6 | C25: Loi | D25: Bernouilli | E25: 2 | F25: 0.125 | G25: =SUM(OFFSET($A25,0,MATCH("*Population*",$6:$6,0),1,COLUMN()-1-MATCH("*Population*",$6:$6,0))) -> 2.125 | H25: 1.1666667 | I25: 0.83333333 | J25: 0 | K25: 0 | L25: 0 | M25: 0 | N25: 6 | O25: 0 | P25: 0 | Q25: 0 | R25: =SUM(OFFSET($A25,0,MATCH("*Frame*",$6:$6,0),1,COLUMN()-1-MATCH("*Frame*",$6:$6,0))) -> 8
A26: =A25 -> 41675 | D26: Binomiale | E26: 0.036111111 | F26: 0.03125 | G26: =SUM(OFFSET($A26,0,MATCH("*Population*",$6:$6,0),1,COLUMN()-1-MATCH("*Population*",$6:$6,0))) -> 0.067361111 | H26: 0.29166667 | I26: 0.20833333 | R26: =SUM(OFFSET($A26,0,MATCH("*Frame*",$6:$6,0),1,COLUMN()-1-MATCH("*Frame*",$6:$6,0))) -> 0.5
A27: =A26 -> 41675 | D27: Binomiale Négative | E27: 1 | F27: 5 | G27: =SUM(OFFSET($A27,0,MATCH("*Population*",$6:$6,0),1,COLUMN()-1-MATCH("*Population*",$6:$6,0))) -> 6 | H27: 5 | I27: 7 | J27: 1 | R27: =SUM(OFFSET($A27,0,MATCH("*Frame*",$6:$6,0),1,COLUMN()-1-MATCH("*Frame*",$6:$6,0))) -> 13
A28: =A27 -> 41675 | D28: Poisson | E28: 2 | F28: 4 | G28: =SUM(OFFSET($A28,0,MATCH("*Population*",$6:$6,0),1,COLUMN()-1-MATCH("*Population*",$6:$6,0))) -> 6 | R28: =SUM(OFFSET($A28,0,MATCH("*Frame*",$6:$6,0),1,COLUMN()-1-MATCH("*Frame*",$6:$6,0))) -> 0
A29: =A28 -> 41675 | D29: Géométrique | E29: -0.85555556 | F29: -4.875 | G29: =SUM(OFFSET($A29,0,MATCH("*Population*",$6:$6,0),1,COLUMN()-1-MATCH("*Population*",$6:$6,0))) -> -5.7305556 | H29: -3.8333333 | I29: -6.1666667 | J29: -1 | K29: 0 | L29: 6 | M29: 0 | N29: 7 | O29: 0 | P29: 0 | Q29: 4 | R29: =SUM(OFFSET($A29,0,MATCH("*Frame*",$6:$6,0),1,COLUMN()-1-MATCH("*Frame*",$6:$6,0))) -> 6
A30: =A29 -> 41675 | D30: Hyper Géométrique | E30: 8.0769231 | F30: 46.666667 | G30: =SUM(OFFSET($A30,0,MATCH("*Population*",$6:$6,0),1,COLUMN()-1-MATCH("*Population*",$6:$6,0))) -> 54.74359 | H30: 5 | I30: 9.8 | R30: =SUM(OFFSET($A30,0,MATCH("*Frame*",$6:$6,0),1,COLUMN()-1-MATCH("*Frame*",$6:$6,0))) -> 14.8
A31: =A30 -> 41675 | D31: Gamma | G31: =SUM(OFFSET($A31,0,MATCH("*Population*",$6:$6,0),1,COLUMN()-1-MATCH("*Population*",$6:$6,0))) -> 0 | L31: 1 | R31: =SUM(OFFSET($A31,0,MATCH("*Frame*",$6:$6,0),1,COLUMN()-1-MATCH("*Frame*",$6:$6,0))) -> 1
A32: =A31 -> 41675 | D32: Normale | E32: 70 | F32: 37.333333 | G32: =SUM(OFFSET($A32,0,MATCH("*Population*",$6:$6,0),1,COLUMN()-1-MATCH("*Population*",$6:$6,0))) -> 107.33333 | H32: 10 | I32: 0 | R32: =SUM(OFFSET($A32,0,MATCH("*Frame*",$6:$6,0),1,COLUMN()-1-MATCH("*Frame*",$6:$6,0))) -> 10
A33: =A32 -> 41675 | C33: Suites | D33: Suite Arithmétique | E33: 3 | F33: 2 | G33: =SUM(OFFSET($A33,0,MATCH("*Population*",$6:$6,0),1,COLUMN()-1-MATCH("*Population*",$6:$6,0))) -> 5 | O33: 1 | R33: =SUM(OFFSET($A33,0,MATCH("*Frame*",$6:$6,0),1,COLUMN()-1-MATCH("*Frame*",$6:$6,0))) -> 1
A34: =A33 -> 41675 | D34: Suite Géométrique | G34: =SUM(OFFSET($A34,0,MATCH("*Population*",$6:$6,0),1,COLUMN()-1-MATCH("*Population*",$6:$6,0))) -> 0 | R34: =SUM(OFFSET($A34,0,MATCH("*Frame*",$6:$6,0),1,COLUMN()-1-MATCH("*Frame*",$6:$6,0))) -> 0
A35: =A34 -> 41675 | D35: Suite de Cauchy | G35: =SUM(OFFSET($A35,0,MATCH("*Population*",$6:$6,0),1,COLUMN()-1-MATCH("*Population*",$6:$6,0))) -> 0 | K35: 1 | R35: =SUM(OFFSET($A35,0,MATCH("*Frame*",$6:$6,0),1,COLUMN()-1-MATCH("*Frame*",$6:$6,0))) -> 1
A36: =A35 -> 41675 | D36: Nombre A | G36: =SUM(OFFSET($A36,0,MATCH("*Population*",$6:$6,0),1,COLUMN()-1-MATCH("*Population*",$6:$6,0))) -> 0 | J36: 17 | R36: =SUM(OFFSET($A36,0,MATCH("*Frame*",$6:$6,0),1,COLUMN()-1-MATCH("*Frame*",$6:$6,0))) -> 17
A37: =A36 -> 41675 | D37: Nombre B | G37: =SUM(OFFSET($A37,0,MATCH("*Population*",$6:$6,0),1,COLUMN()-1-MATCH("*Population*",$6:$6,0))) -> 0 | R37: =SUM(OFFSET($A37,0,MATCH("*Frame*",$6:$6,0),1,COLUMN()-1-MATCH("*Frame*",$6:$6,0))) -> 0
A38: =A37 -> 41675 | D38: Moyenne Expansion univers | E38: 5 | F38: 7 | G38: =SUM(OFFSET($A38,0,MATCH("*Population*",$6:$6,0),1,COLUMN()-1-MATCH("*Population*",$6:$6,0))) -> 12 | R38: =SUM(OFFSET($A38,0,MATCH("*Frame*",$6:$6,0),1,COLUMN()-1-MATCH("*Frame*",$6:$6,0))) -> 0
A39: =A38 -> 41675 | D39: Moyenne Univers Stationnaire | E39: 6 | F39: 3 | G39: =SUM(OFFSET($A39,0,MATCH("*Population*",$6:$6,0),1,COLUMN()-1-MATCH("*Population*",$6:$6,0))) -> 9 | R39: =SUM(OFFSET($A39,0,MATCH("*Frame*",$6:$6,0),1,COLUMN()-1-MATCH("*Frame*",$6:$6,0))) -> 0
A40: =A39 -> 41675 | D40: Moyenne 2 | G40: =SUM(OFFSET($A40,0,MATCH("*Population*",$6:$6,0),1,COLUMN()-1-MATCH("*Population*",$6:$6,0))) -> 0 | R40: =SUM(OFFSET($A40,0,MATCH("*Frame*",$6:$6,0),1,COLUMN()-1-MATCH("*Frame*",$6:$6,0))) -> 0
A41: =A40 -> 41675 | D41: Nombre de Suites | G41: =SUM(OFFSET($A41,0,MATCH("*Population*",$6:$6,0),1,COLUMN()-1-MATCH("*Population*",$6:$6,0))) -> 0 | R41: =SUM(OFFSET($A41,0,MATCH("*Frame*",$6:$6,0),1,COLUMN()-1-MATCH("*Frame*",$6:$6,0))) -> 0
A43: 41676 | B43: Mar. 04 Févr. 14 - Sem. 6 | C43: Loi | D43: Bernouilli | E43: 2 | F43: 0.125 | G43: =SUM(OFFSET($A43,0,MATCH("*Population*",$6:$6,0),1,COLUMN()-1-MATCH("*Population*",$6:$6,0))) -> 2.125 | H43: 1.1666667 | I43: 0.83333333 | J43: 0 | K43: 0 | L43: 0 | M43: 0 | N43: 0 | O43: 0 | P43: 0 | Q43: 0 | R43: =SUM(OFFSET($A43,0,MATCH("*Frame*",$6:$6,0),1,COLUMN()-1-MATCH("*Frame*",$6:$6,0))) -> 2
A44: =A43 -> 41676 | D44: Binomiale | E44: 0.036111111 | F44: 0.03125 | G44: =SUM(OFFSET($A44,0,MATCH("*Population*",$6:$6,0),1,COLUMN()-1-MATCH("*Population*",$6:$6,0))) -> 0.067361111 | H44: 0.29166667 | I44: 0.20833333 | R44: =SUM(OFFSET($A44,0,MATCH("*Frame*",$6:$6,0),1,COLUMN()-1-MATCH("*Frame*",$6:$6,0))) -> 0.5
A45: =A44 -> 41676 | D45: Binomiale Négative | E45: 1 | F45: 5 | G45: =SUM(OFFSET($A45,0,MATCH("*Population*",$6:$6,0),1,COLUMN()-1-MATCH("*Population*",$6:$6,0))) -> 6 | H45: 5 | I45: 7 | J45: 1 | R45: =SUM(OFFSET($A45,0,MATCH("*Frame*",$6:$6,0),1,COLUMN()-1-MATCH("*Frame*",$6:$6,0))) -> 13
A46: =A45 -> 41676 | D46: Poisson | E46: 26 | F46: 4 | G46: =SUM(OFFSET($A46,0,MATCH("*Population*",$6:$6,0),1,COLUMN()-1-MATCH("*Population*",$6:$6,0))) -> 30 | R46: =SUM(OFFSET($A46,0,MATCH("*Frame*",$6:$6,0),1,COLUMN()-1-MATCH("*Frame*",$6:$6,0))) -> 0
A47: =A46 -> 41676 | D47: Géométrique | E47: -0.85555556 | F47: -4.875 | G47: =SUM(OFFSET($A47,0,MATCH("*Population*",$6:$6,0),1,COLUMN()-1-MATCH("*Population*",$6:$6,0))) -> -5.7305556 | H47: -3.8333333 | I47: -6.1666667 | J47: -1 | K47: 0 | L47: 0 | M47: 0 | N47: 0 | O47: 0 | P47: 0 | Q47: 0 | R47: =SUM(OFFSET($A47,0,MATCH("*Frame*",$6:$6,0),1,COLUMN()-1-MATCH("*Frame*",$6:$6,0))) -> -11
A48: =A47 -> 41676 | D48: Hyper Géométrique | E48: 8.0769231 | F48: 46.666667 | G48: =SUM(OFFSET($A48,0,MATCH("*Population*",$6:$6,0),1,COLUMN()-1-MATCH("*Population*",$6:$6,0))) -> 54.74359 | H48: 5 | I48: 9.8 | R48: =SUM(OFFSET($A48,0,MATCH("*Frame*",$6:$6,0),1,COLUMN()-1-MATCH("*Frame*",$6:$6,0))) -> 14.8
A49: =A48 -> 41676 | D49: Gamma | G49: =SUM(OFFSET($A49,0,MATCH("*Population*",$6:$6,0),1,COLUMN()-1-MATCH("*Population*",$6:$6,0))) -> 0 | L49: 1 | R49: =SUM(OFFSET($A49,0,MATCH("*Frame*",$6:$6,0),1,COLUMN()-1-MATCH("*Frame*",$6:$6,0))) -> 1
A50: =A49 -> 41676 | D50: Normale | E50: 23 | F50: 3 | G50: =SUM(OFFSET($A50,0,MATCH("*Population*",$6:$6,0),1,COLUMN()-1-MATCH("*Population*",$6:$6,0))) -> 26 | H50: 0 | I50: 0 | R50: =SUM(OFFSET($A50,0,MATCH("*Frame*",$6:$6,0),1,COLUMN()-1-MATCH("*Frame*",$6:$6,0))) -> 0
A51: =A50 -> 41676 | C51: Suites | D51: Suite Arithmétique | E51: 3 | F51: 2 | G51: =SUM(OFFSET($A51,0,MATCH("*Population*",$6:$6,0),1,COLUMN()-1-MATCH("*Population*",$6:$6,0))) -> 5 | O51: 1 | R51: =SUM(OFFSET($A51,0,MATCH("*Frame*",$6:$6,0),1,COLUMN()-1-MATCH("*Frame*",$6:$6,0))) -> 1
A52: =A51 -> 41676 | D52: Suite Géométrique | G52: =SUM(OFFSET($A52,0,MATCH("*Population*",$6:$6,0),1,COLUMN()-1-MATCH("*Population*",$6:$6,0))) -> 0 | R52: =SUM(OFFSET($A52,0,MATCH("*Frame*",$6:$6,0),1,COLUMN()-1-MATCH("*Frame*",$6:$6,0))) -> 0
A53: =A52 -> 41676 | D53: Suite de Cauchy | G53: =SUM(OFFSET($A53,0,MATCH("*Population*",$6:$6,0),1,COLUMN()-1-MATCH("*Population*",$6:$6,0))) -> 0 | K53: 1 | R53: =SUM(OFFSET($A53,0,MATCH("*Frame*",$6:$6,0),1,COLUMN()-1-MATCH("*Frame*",$6:$6,0))) -> 1
A54: =A53 -> 41676 | D54: Nombre A | G54: =SUM(OFFSET($A54,0,MATCH("*Population*",$6:$6,0),1,COLUMN()-1-MATCH("*Population*",$6:$6,0))) -> 0 | R54: =SUM(OFFSET($A54,0,MATCH("*Frame*",$6:$6,0),1,COLUMN()-1-MATCH("*Frame*",$6:$6,0))) -> 0
A55: =A54 -> 41676 | D55: Nombre B | G55: =SUM(OFFSET($A55,0,MATCH("*Population*",$6:$6,0),1,COLUMN()-1-MATCH("*Population*",$6:$6,0))) -> 0 | R55: =SUM(OFFSET($A55,0,MATCH("*Frame*",$6:$6,0),1,COLUMN()-1-MATCH("*Frame*",$6:$6,0))) -> 0
A56: =A55 -> 41676 | D56: Moyenne Expansion univers | E56: 5 | F56: 7 | G56: =SUM(OFFSET($A56,0,MATCH("*Population*",$6:$6,0),1,COLUMN()-1-MATCH("*Population*",$6:$6,0))) -> 12 | R56: =SUM(OFFSET($A56,0,MATCH("*Frame*",$6:$6,0),1,COLUMN()-1-MATCH("*Frame*",$6:$6,0))) -> 0
A57: =A56 -> 41676 | D57: Moyenne Univers Stationnaire | E57: 6 | F57: 3 | G57: =SUM(OFFSET($A57,0,MATCH("*Population*",$6:$6,0),1,COLUMN()-1-MATCH("*Population*",$6:$6,0))) -> 9 | R57: =SUM(OFFSET($A57,0,MATCH("*Frame*",$6:$6,0),1,COLUMN()-1-MATCH("*Frame*",$6:$6,0))) -> 0
A58: =A57 -> 41676 | D58: Moyenne 3 | G58: =SUM(OFFSET($A58,0,MATCH("*Population*",$6:$6,0),1,COLUMN()-1-MATCH("*Population*",$6:$6,0))) -> 0 | R58: =SUM(OFFSET($A58,0,MATCH("*Frame*",$6:$6,0),1,COLUMN()-1-MATCH("*Frame*",$6:$6,0))) -> 0
A59: =A58 -> 41676 | D59: Nombre de Suites | G59: =SUM(OFFSET($A59,0,MATCH("*Population*",$6:$6,0),1,COLUMN()-1-MATCH("*Population*",$6:$6,0))) -> 0 | R59: =SUM(OFFSET($A59,0,MATCH("*Frame*",$6:$6,0),1,COLUMN()-1-MATCH("*Frame*",$6:$6,0))) -> 0
A61: 41677 | B61: Mar. 04 Févr. 14 - Sem. 6 | C61: Loi | D61: Bernouilli | E61: 2 | F61: 0.125 | G61: =SUM(OFFSET($A61,0,MATCH("*Population*",$6:$6,0),1,COLUMN()-1-MATCH("*Population*",$6:$6,0))) -> 2.125 | H61: 1.1666667 | I61: 0.83333333 | J61: 0 | K61: 0 | L61: 0 | M61: 0 | N61: 0 | O61: 0 | P61: 0 | Q61: 0 | R61: =SUM(OFFSET($A61,0,MATCH("*Frame*",$6:$6,0),1,COLUMN()-1-MATCH("*Frame*",$6:$6,0))) -> 2
A62: =A61 -> 41677 | D62: Binomiale | E62: 0.036111111 | F62: 0.03125 | G62: =SUM(OFFSET($A62,0,MATCH("*Population*",$6:$6,0),1,COLUMN()-1-MATCH("*Population*",$6:$6,0))) -> 0.067361111 | H62: 0.29166667 | I62: 0.20833333 | R62: =SUM(OFFSET($A62,0,MATCH("*Frame*",$6:$6,0),1,COLUMN()-1-MATCH("*Frame*",$6:$6,0))) -> 0.5
A63: =A62 -> 41677 | D63: Binomiale Négative | E63: 1 | F63: 5 | G63: =SUM(OFFSET($A63,0,MATCH("*Population*",$6:$6,0),1,COLUMN()-1-MATCH("*Population*",$6:$6,0))) -> 6 | H63: 5 | I63: 7 | J63: 1 | R63: =SUM(OFFSET($A63,0,MATCH("*Frame*",$6:$6,0),1,COLUMN()-1-MATCH("*Frame*",$6:$6,0))) -> 13
A64: =A63 -> 41677 | D64: Poisson | E64: 26 | F64: 4 | G64: =SUM(OFFSET($A64,0,MATCH("*Population*",$6:$6,0),1,COLUMN()-1-MATCH("*Population*",$6:$6,0))) -> 30 | R64: =SUM(OFFSET($A64,0,MATCH("*Frame*",$6:$6,0),1,COLUMN()-1-MATCH("*Frame*",$6:$6,0))) -> 0
A65: =A64 -> 41677 | D65: Géométrique | E65: -0.85555556 | F65: -4.875 | G65: =SUM(OFFSET($A65,0,MATCH("*Population*",$6:$6,0),1,COLUMN()-1-MATCH("*Population*",$6:$6,0))) -> -5.7305556 | H65: -3.8333333 | I65: -6.1666667 | J65: -1 | K65: 0 | L65: 0 | M65: 0 | N65: 0 | O65: 0 | P65: 0 | Q65: 0 | R65: =SUM(OFFSET($A65,0,MATCH("*Frame*",$6:$6,0),1,COLUMN()-1-MATCH("*Frame*",$6:$6,0))) -> -11
A66: =A65 -> 41677 | D66: Hyper Géométrique | E66: 8.0769231 | F66: 46.666667 | G66: =SUM(OFFSET($A66,0,MATCH("*Population*",$6:$6,0),1,COLUMN()-1-MATCH("*Population*",$6:$6,0))) -> 54.74359 | H66: 5 | I66: 9.8 | R66: =SUM(OFFSET($A66,0,MATCH("*Frame*",$6:$6,0),1,COLUMN()-1-MATCH("*Frame*",$6:$6,0))) -> 14.8
A67: =A66 -> 41677 | D67: Gamma | G67: =SUM(OFFSET($A67,0,MATCH("*Population*",$6:$6,0),1,COLUMN()-1-MATCH("*Population*",$6:$6,0))) -> 0 | L67: 1 | R67: =SUM(OFFSET($A67,0,MATCH("*Frame*",$6:$6,0),1,COLUMN()-1-MATCH("*Frame*",$6:$6,0))) -> 1
A68: =A67 -> 41677 | D68: Normale | E68: 20 | F68: 73 | G68: =SUM(OFFSET($A68,0,MATCH("*Population*",$6:$6,0),1,COLUMN()-1-MATCH("*Population*",$6:$6,0))) -> 93 | H68: 0 | I68: 0 | R68: =SUM(OFFSET($A68,0,MATCH("*Frame*",$6:$6,0),1,COLUMN()-1-MATCH("*Frame*",$6:$6,0))) -> 0
A69: =A68 -> 41677 | C69: Suites | D69: Suite Arithmétique | E69: 3 | F69: 2 | G69: =SUM(OFFSET($A69,0,MATCH("*Population*",$6:$6,0),1,COLUMN()-1-MATCH("*Population*",$6:$6,0))) -> 5 | O69: 1 | R69: =SUM(OFFSET($A69,0,MATCH("*Frame*",$6:$6,0),1,COLUMN()-1-MATCH("*Frame*",$6:$6,0))) -> 1
A70: =A69 -> 41677 | D70: Suite Géométrique | G70: =SUM(OFFSET($A70,0,MATCH("*Population*",$6:$6,0),1,COLUMN()-1-MATCH("*Population*",$6:$6,0))) -> 0 | R70: =SUM(OFFSET($A70,0,MATCH("*Frame*",$6:$6,0),1,COLUMN()-1-MATCH("*Frame*",$6:$6,0))) -> 0
A71: =A70 -> 41677 | D71: Suite de Cauchy | G71: =SUM(OFFSET($A71,0,MATCH("*Population*",$6:$6,0),1,COLUMN()-1-MATCH("*Population*",$6:$6,0))) -> 0 | K71: 1 | R71: =SUM(OFFSET($A71,0,MATCH("*Frame*",$6:$6,0),1,COLUMN()-1-MATCH("*Frame*",$6:$6,0))) -> 1
A72: =A71 -> 41677 | D72: Nombre A | G72: =SUM(OFFSET($A72,0,MATCH("*Population*",$6:$6,0),1,COLUMN()-1-MATCH("*Population*",$6:$6,0))) -> 0 | R72: =SUM(OFFSET($A72,0,MATCH("*Frame*",$6:$6,0),1,COLUMN()-1-MATCH("*Frame*",$6:$6,0))) -> 0
A73: =A72 -> 41677 | D73: Nombre B | G73: =SUM(OFFSET($A73,0,MATCH("*Population*",$6:$6,0),1,COLUMN()-1-MATCH("*Population*",$6:$6,0))) -> 0 | R73: =SUM(OFFSET($A73,0,MATCH("*Frame*",$6:$6,0),1,COLUMN()-1-MATCH("*Frame*",$6:$6,0))) -> 0
A74: =A73 -> 41677 | D74: Moyenne Expansion univers | E74: 5 | F74: 7 | G74: =SUM(OFFSET($A74,0,MATCH("*Population*",$6:$6,0),1,COLUMN()-1-MATCH("*Population*",$6:$6,0))) -> 12 | R74: =SUM(OFFSET($A74,0,MATCH("*Frame*",$6:$6,0),1,COLUMN()-1-MATCH("*Frame*",$6:$6,0))) -> 0
A75: =A74 -> 41677 | D75: Moyenne Univers Stationnaire | E75: 6 | F75: 3 | G75: =SUM(OFFSET($A75,0,MATCH("*Population*",$6:$6,0),1,COLUMN()-1-MATCH("*Population*",$6:$6,0))) -> 9 | R75: =SUM(OFFSET($A75,0,MATCH("*Frame*",$6:$6,0),1,COLUMN()-1-MATCH("*Frame*",$6:$6,0))) -> 0
A76: =A75 -> 41677 | D76: Moyenne 4 | G76: =SUM(OFFSET($A76,0,MATCH("*Population*",$6:$6,0),1,COLUMN()-1-MATCH("*Population*",$6:$6,0))) -> 0 | R76: =SUM(OFFSET($A76,0,MATCH("*Frame*",$6:$6,0),1,COLUMN()-1-MATCH("*Frame*",$6:$6,0))) -> 0
A77: =A76 -> 41677 | D77: Nombre de Suites | G77: =SUM(OFFSET($A77,0,MATCH("*Population*",$6:$6,0),1,COLUMN()-1-MATCH("*Population*",$6:$6,0))) -> 0 | R77: =SUM(OFFSET($A77,0,MATCH("*Frame*",$6:$6,0),1,COLUMN()-1-MATCH("*Frame*",$6:$6,0))) -> 0

Sheet TB
F2: Tableau Récapitulatif
A4: Période du | B4: 41671 | C4: au | D4: 42003
A9: =OFFSET(Saisie!$D$7,COLUMN()-2,0) -> Population | B9: =OFFSET(Saisie!$D$7,COLUMN()-2,0) -> Bernouilli | C9: =OFFSET(Saisie!$D$7,COLUMN()-2,0) -> Binomiale | D9: =OFFSET(Saisie!$D$7,COLUMN()-2,0) -> Binomiale Négative | E9: =OFFSET(Saisie!$D$7,COLUMN()-2,0) -> Poisson | F9: =OFFSET(Saisie!$D$7,COLUMN()-2,0) -> Géométrique | G9: =OFFSET(Saisie!$D$7,COLUMN()-2,0) -> Hyper Géométrique | H9: =OFFSET(Saisie!$D$7,COLUMN()-2,0) -> Gamma | ... R9: =OFFSET(Saisie!$D$7,COLUMN()-2,0) -> Nombre de Suites
A10: =IF(ISBLANK(OFFSET(Saisie!$D$6,0,ROW()-9)),"",OFFSET(Saisie!$D$6,0,ROW()-9)) -> Blaise | B10: =IF($A10="","",SUMIFS(OFFSET(Saisie!$D$7,0,ROW()-9) : OFFSET(Saisie!$D$5000,0,ROW()-9), Saisie!$D$7:'Saisie'!$D$5000, INDIRECT("Saisie!$D$"& COLUMN()+5), Saisie!$A$7:'Saisie'!$A$5000,">="&$B$4,Saisie!$A$7:'Saisie'!$A$5000,"<="&$D$4)) -> 106 | C10: =IF($A10="","",SUMIFS(OFFSET(Saisie!$D$7,0,ROW()-9) : OFFSET(Saisie!$D$5000,0,ROW()-9), Saisie!$D$7:'Saisie'!$D$5000, INDIRECT("Saisie!$D$"& COLUMN()+5), Saisie!$A$7:'Saisie'!$A$5000,">="&$B$4,Saisie!$A$7:'Saisie'!$A$5000,"<="&$D$4)) -> 0.14444444 | D10: =IF($A10="","",SUMIFS(OFFSET(Saisie!$D$7,0,ROW()-9) : OFFSET(Saisie!$D$5000,0,ROW()-9), Saisie!$D$7:'Saisie'!$D$5000, INDIRECT("Saisie!$D$"& COLUMN()+5), Saisie!$A$7:'Saisie'!$A$5000,">="&$B$4,Saisie!$A$7:'Saisie'!$A$5000,"<="&$D$4)) -> 4 | E10: =IF($A10="","",SUMIFS(OFFSET(Saisie!$D$7,0,ROW()-9) : OFFSET(Saisie!$D$5000,0,ROW()-9), Saisie!$D$7:'Saisie'!$D$5000, INDIRECT("Saisie!$D$"& COLUMN()+5), Saisie!$A$7:'Saisie'!$A$5000,">="&$B$4,Saisie!$A$7:'Saisie'!$A$5000,"<="&$D$4)) -> 80 | F10: =IF($A10="","",SUMIFS(OFFSET(Saisie!$D$7,0,ROW()-9) : OFFSET(Saisie!$D$5000,0,ROW()-9), Saisie!$D$7:'Saisie'!$D$5000, INDIRECT("Saisie!$D$"& COLUMN()+5), Saisie!$A$7:'Saisie'!$A$5000,">="&$B$4,Saisie!$A$7:'Saisie'!$A$5000,"<="&$D$4)) -> -3.4222222 | G10: =IF($A10="","",SUMIFS(OFFSET(Saisie!$D$7,0,ROW()-9) : OFFSET(Saisie!$D$5000,0,ROW()-9), Saisie!$D$7:'Saisie'!$D$5000, INDIRECT("Saisie!$D$"& COLUMN()+5), Saisie!$A$7:'Saisie'!$A$5000,">="&$B$4,Saisie!$A$7:'Saisie'!$A$5000,"<="&$D$4)) -> 32.307692 | H10: =IF($A10="","",SUMIFS(OFFSET(Saisie!$D$7,0,ROW()-9) : OFFSET(Saisie!$D$5000,0,ROW()-9), Saisie!$D$7:'Saisie'!$D$5000, INDIRECT("Saisie!$D$"& COLUMN()+5), Saisie!$A$7:'Saisie'!$A$5000,">="&$B$4,Saisie!$A$7:'Saisie'!$A$5000,"<="&$D$4)) -> 0 | I10: =IF($A10="","",SUMIFS(OFFSET(Saisie!$D$7,0,ROW()-9) : OFFSET(Saisie!$D$5000,0,ROW()-9), Saisie!$D$7:'Saisie'!$D$5000, INDIRECT("Saisie!$D$"& COLUMN()+5), Saisie!$A$7:'Saisie'!$A$5000,">="&$B$4,Saisie!$A$7:'Saisie'!$A$5000,"<="&$D$4)) -> 123 | ... R10: =IF($A10="","",SUMIFS(OFFSET(Saisie!$D$7,0,ROW()-9) : OFFSET(Saisie!$D$5000,0,ROW()-9), Saisie!$D$7:'Saisie'!$D$5000, INDIRECT("Saisie!$D$"& COLUMN()+5), Saisie!$A$7:'Saisie'!$A$5000,">="&$B$4,Saisie!$A$7:'Saisie'!$A$5000,"<="&$D$4)) -> 0
A11: =IF(ISBLANK(OFFSET(Saisie!$D$6,0,ROW()-9)),"",OFFSET(Saisie!$D$6,0,ROW()-9)) -> Pascal | B11: =IF($A11="","",SUMIFS(OFFSET(Saisie!$D$7,0,ROW()-9) : OFFSET(Saisie!$D$5000,0,ROW()-9), Saisie!$D$7:'Saisie'!$D$5000, INDIRECT("Saisie!$D$"& COLUMN()+5), Saisie!$A$7:'Saisie'!$A$5000,">="&$B$4,Saisie!$A$7:'Saisie'!$A$5000,"<="&$D$4)) -> 0.5 | C11: =IF($A11="","",SUMIFS(OFFSET(Saisie!$D$7,0,ROW()-9) : OFFSET(Saisie!$D$5000,0,ROW()-9), Saisie!$D$7:'Saisie'!$D$5000, INDIRECT("Saisie!$D$"& COLUMN()+5), Saisie!$A$7:'Saisie'!$A$5000,">="&$B$4,Saisie!$A$7:'Saisie'!$A$5000,"<="&$D$4)) -> 0.125 | D11: =IF($A11="","",SUMIFS(OFFSET(Saisie!$D$7,0,ROW()-9) : OFFSET(Saisie!$D$5000,0,ROW()-9), Saisie!$D$7:'Saisie'!$D$5000, INDIRECT("Saisie!$D$"& COLUMN()+5), Saisie!$A$7:'Saisie'!$A$5000,">="&$B$4,Saisie!$A$7:'Saisie'!$A$5000,"<="&$D$4)) -> 20 | E11: =IF($A11="","",SUMIFS(OFFSET(Saisie!$D$7,0,ROW()-9) : OFFSET(Saisie!$D$5000,0,ROW()-9), Saisie!$D$7:'Saisie'!$D$5000, INDIRECT("Saisie!$D$"& COLUMN()+5), Saisie!$A$7:'Saisie'!$A$5000,">="&$B$4,Saisie!$A$7:'Saisie'!$A$5000,"<="&$D$4)) -> 16 | F11: =IF($A11="","",SUMIFS(OFFSET(Saisie!$D$7,0,ROW()-9) : OFFSET(Saisie!$D$5000,0,ROW()-9), Saisie!$D$7:'Saisie'!$D$5000, INDIRECT("Saisie!$D$"& COLUMN()+5), Saisie!$A$7:'Saisie'!$A$5000,">="&$B$4,Saisie!$A$7:'Saisie'!$A$5000,"<="&$D$4)) -> -19.5 | G11: =IF($A11="","",SUMIFS(OFFSET(Saisie!$D$7,0,ROW()-9) : OFFSET(Saisie!$D$5000,0,ROW()-9), Saisie!$D$7:'Saisie'!$D$5000, INDIRECT("Saisie!$D$"& COLUMN()+5), Saisie!$A$7:'Saisie'!$A$5000,">="&$B$4,Saisie!$A$7:'Saisie'!$A$5000,"<="&$D$4)) -> 186 | H11: =IF($A11="","",SUMIFS(OFFSET(Saisie!$D$7,0,ROW()-9) : OFFSET(Saisie!$D$5000,0,ROW()-9), Saisie!$D$7:'Saisie'!$D$5000, INDIRECT("Saisie!$D$"& COLUMN()+5), Saisie!$A$7:'Saisie'!$A$5000,">="&$B$4,Saisie!$A$7:'Saisie'!$A$5000,"<="&$D$4)) -> 0 | I11: =IF($A11="","",SUMIFS(OFFSET(Saisie!$D$7,0,ROW()-9) : OFFSET(Saisie!$D$5000,0,ROW()-9), Saisie!$D$7:'Saisie'!$D$5000, INDIRECT("Saisie!$D$"& COLUMN()+5), Saisie!$A$7:'Saisie'!$A$5000,">="&$B$4,Saisie!$A$7:'Saisie'!$A$5000,"<="&$D$4)) -> 150.66667 | ... R11: =IF($A11="","",SUMIFS(OFFSET(Saisie!$D$7,0,ROW()-9) : OFFSET(Saisie!$D$5000,0,ROW()-9), Saisie!$D$7:'Saisie'!$D$5000, INDIRECT("Saisie!$D$"& COLUMN()+5), Saisie!$A$7:'Saisie'!$A$5000,">="&$B$4,Saisie!$A$7:'Saisie'!$A$5000,"<="&$D$4)) -> 0
A12: =IF(ISBLANK(OFFSET(Saisie!$D$6,0,ROW()-9)),"",OFFSET(Saisie!$D$6,0,ROW()-9)) -> _x000D_ Total Frame | B12: =IF($A12="","",SUMIFS(OFFSET(Saisie!$D$7,0,ROW()-9) : OFFSET(Saisie!$D$5000,0,ROW()-9), Saisie!$D$7:'Saisie'!$D$5000, INDIRECT("Saisie!$D$"& COLUMN()+5), Saisie!$A$7:'Saisie'!$A$5000,">="&$B$4,Saisie!$A$7:'Saisie'!$A$5000,"<="&$D$4)) -> 106.5 | C12: =IF($A12="","",SUMIFS(OFFSET(Saisie!$D$7,0,ROW()-9) : OFFSET(Saisie!$D$5000,0,ROW()-9), Saisie!$D$7:'Saisie'!$D$5000, INDIRECT("Saisie!$D$"& COLUMN()+5), Saisie!$A$7:'Saisie'!$A$5000,">="&$B$4,Saisie!$A$7:'Saisie'!$A$5000,"<="&$D$4)) -> 0.26944444 | D12: =IF($A12="","",SUMIFS(OFFSET(Saisie!$D$7,0,ROW()-9) : OFFSET(Saisie!$D$5000,0,ROW()-9), Saisie!$D$7:'Saisie'!$D$5000, INDIRECT("Saisie!$D$"& COLUMN()+5), Saisie!$A$7:'Saisie'!$A$5000,">="&$B$4,Saisie!$A$7:'Saisie'!$A$5000,"<="&$D$4)) -> 24 | E12: =IF($A12="","",SUMIFS(OFFSET(Saisie!$D$7,0,ROW()-9) : OFFSET(Saisie!$D$5000,0,ROW()-9), Saisie!$D$7:'Saisie'!$D$5000, INDIRECT("Saisie!$D$"& COLUMN()+5), Saisie!$A$7:'Saisie'!$A$5000,">="&$B$4,Saisie!$A$7:'Saisie'!$A$5000,"<="&$D$4)) -> 96 | F12: =IF($A12="","",SUMIFS(OFFSET(Saisie!$D$7,0,ROW()-9) : OFFSET(Saisie!$D$5000,0,ROW()-9), Saisie!$D$7:'Saisie'!$D$5000, INDIRECT("Saisie!$D$"& COLUMN()+5), Saisie!$A$7:'Saisie'!$A$5000,">="&$B$4,Saisie!$A$7:'Saisie'!$A$5000,"<="&$D$4)) -> -22.922222 | G12: =IF($A12="","",SUMIFS(OFFSET(Saisie!$D$7,0,ROW()-9) : OFFSET(Saisie!$D$5000,0,ROW()-9), Saisie!$D$7:'Saisie'!$D$5000, INDIRECT("Saisie!$D$"& COLUMN()+5), Saisie!$A$7:'Saisie'!$A$5000,">="&$B$4,Saisie!$A$7:'Saisie'!$A$5000,"<="&$D$4)) -> 218.30769 | H12: =IF($A12="","",SUMIFS(OFFSET(Saisie!$D$7,0,ROW()-9) : OFFSET(Saisie!$D$5000,0,ROW()-9), Saisie!$D$7:'Saisie'!$D$5000, INDIRECT("Saisie!$D$"& COLUMN()+5), Saisie!$A$7:'Saisie'!$A$5000,">="&$B$4,Saisie!$A$7:'Saisie'!$A$5000,"<="&$D$4)) -> 0 | I12: =IF($A12="","",SUMIFS(OFFSET(Saisie!$D$7,0,ROW()-9) : OFFSET(Saisie!$D$5000,0,ROW()-9), Saisie!$D$7:'Saisie'!$D$5000, INDIRECT("Saisie!$D$"& COLUMN()+5), Saisie!$A$7:'Saisie'!$A$5000,">="&$B$4,Saisie!$A$7:'Saisie'!$A$5000,"<="&$D$4)) -> 273.66667 | ... R12: =IF($A12="","",SUMIFS(OFFSET(Saisie!$D$7,0,ROW()-9) : OFFSET(Saisie!$D$5000,0,ROW()-9), Saisie!$D$7:'Saisie'!$D$5000, INDIRECT("Saisie!$D$"& COLUMN()+5), Saisie!$A$7:'Saisie'!$A$5000,">="&$B$4,Saisie!$A$7:'Saisie'!$A$5000,"<="&$D$4)) -> 0
A13: =IF(ISBLANK(OFFSET(Saisie!$D$6,0,ROW()-9)),"",OFFSET(Saisie!$D$6,0,ROW()-9)) -> Edwin | B13: =IF($A13="","",SUMIFS(OFFSET(Saisie!$D$7,0,ROW()-9) : OFFSET(Saisie!$D$5000,0,ROW()-9), Saisie!$D$7:'Saisie'!$D$5000, INDIRECT("Saisie!$D$"& COLUMN()+5), Saisie!$A$7:'Saisie'!$A$5000,">="&$B$4,Saisie!$A$7:'Saisie'!$A$5000,"<="&$D$4)) -> 4.6666667 | C13: =IF($A13="","",SUMIFS(OFFSET(Saisie!$D$7,0,ROW()-9) : OFFSET(Saisie!$D$5000,0,ROW()-9), Saisie!$D$7:'Saisie'!$D$5000, INDIRECT("Saisie!$D$"& COLUMN()+5), Saisie!$A$7:'Saisie'!$A$5000,">="&$B$4,Saisie!$A$7:'Saisie'!$A$5000,"<="&$D$4)) -> 1.1666667 | D13: =IF($A13="","",SUMIFS(OFFSET(Saisie!$D$7,0,ROW()-9) : OFFSET(Saisie!$D$5000,0,ROW()-9), Saisie!$D$7:'Saisie'!$D$5000, INDIRECT("Saisie!$D$"& COLUMN()+5), Saisie!$A$7:'Saisie'!$A$5000,">="&$B$4,Saisie!$A$7:'Saisie'!$A$5000,"<="&$D$4)) -> 20 | E13: =IF($A13="","",SUMIFS(OFFSET(Saisie!$D$7,0,ROW()-9) : OFFSET(Saisie!$D$5000,0,ROW()-9), Saisie!$D$7:'Saisie'!$D$5000, INDIRECT("Saisie!$D$"& COLUMN()+5), Saisie!$A$7:'Saisie'!$A$5000,">="&$B$4,Saisie!$A$7:'Saisie'!$A$5000,"<="&$D$4)) -> 0 | F13: =IF($A13="","",SUMIFS(OFFSET(Saisie!$D$7,0,ROW()-9) : OFFSET(Saisie!$D$5000,0,ROW()-9), Saisie!$D$7:'Saisie'!$D$5000, INDIRECT("Saisie!$D$"& COLUMN()+5), Saisie!$A$7:'Saisie'!$A$5000,">="&$B$4,Saisie!$A$7:'Saisie'!$A$5000,"<="&$D$4)) -> -15.333333 | G13: =IF($A13="","",SUMIFS(OFFSET(Saisie!$D$7,0,ROW()-9) : OFFSET(Saisie!$D$5000,0,ROW()-9), Saisie!$D$7:'Saisie'!$D$5000, INDIRECT("Saisie!$D$"& COLUMN()+5), Saisie!$A$7:'Saisie'!$A$5000,">="&$B$4,Saisie!$A$7:'Saisie'!$A$5000,"<="&$D$4)) -> 20 | H13: =IF($A13="","",SUMIFS(OFFSET(Saisie!$D$7,0,ROW()-9) : OFFSET(Saisie!$D$5000,0,ROW()-9), Saisie!$D$7:'Saisie'!$D$5000, INDIRECT("Saisie!$D$"& COLUMN()+5), Saisie!$A$7:'Saisie'!$A$5000,">="&$B$4,Saisie!$A$7:'Saisie'!$A$5000,"<="&$D$4)) -> 0 | I13: =IF($A13="","",SUMIFS(OFFSET(Saisie!$D$7,0,ROW()-9) : OFFSET(Saisie!$D$5000,0,ROW()-9), Saisie!$D$7:'Saisie'!$D$5000, INDIRECT("Saisie!$D$"& COLUMN()+5), Saisie!$A$7:'Saisie'!$A$5000,">="&$B$4,Saisie!$A$7:'Saisie'!$A$5000,"<="&$D$4)) -> 10 | ... R13: =IF($A13="","",SUMIFS(OFFSET(Saisie!$D$7,0,ROW()-9) : OFFSET(Saisie!$D$5000,0,ROW()-9), Saisie!$D$7:'Saisie'!$D$5000, INDIRECT("Saisie!$D$"& COLUMN()+5), Saisie!$A$7:'Saisie'!$A$5000,">="&$B$4,Saisie!$A$7:'Saisie'!$A$5000,"<="&$D$4)) -> 0
A14: =IF(ISBLANK(OFFSET(Saisie!$D$6,0,ROW()-9)),"",OFFSET(Saisie!$D$6,0,ROW()-9)) -> Powell | B14: =IF($A14="","",SUMIFS(OFFSET(Saisie!$D$7,0,ROW()-9) : OFFSET(Saisie!$D$5000,0,ROW()-9), Saisie!$D$7:'Saisie'!$D$5000, INDIRECT("Saisie!$D$"& COLUMN()+5), Saisie!$A$7:'Saisie'!$A$5000,">="&$B$4,Saisie!$A$7:'Saisie'!$A$5000,"<="&$D$4)) -> 3.3333333 | C14: =IF($A14="","",SUMIFS(OFFSET(Saisie!$D$7,0,ROW()-9) : OFFSET(Saisie!$D$5000,0,ROW()-9), Saisie!$D$7:'Saisie'!$D$5000, INDIRECT("Saisie!$D$"& COLUMN()+5), Saisie!$A$7:'Saisie'!$A$5000,">="&$B$4,Saisie!$A$7:'Saisie'!$A$5000,"<="&$D$4)) -> 0.83333333 | D14: =IF($A14="","",SUMIFS(OFFSET(Saisie!$D$7,0,ROW()-9) : OFFSET(Saisie!$D$5000,0,ROW()-9), Saisie!$D$7:'Saisie'!$D$5000, INDIRECT("Saisie!$D$"& COLUMN()+5), Saisie!$A$7:'Saisie'!$A$5000,">="&$B$4,Saisie!$A$7:'Saisie'!$A$5000,"<="&$D$4)) -> 28 | E14: =IF($A14="","",SUMIFS(OFFSET(Saisie!$D$7,0,ROW()-9) : OFFSET(Saisie!$D$5000,0,ROW()-9), Saisie!$D$7:'Saisie'!$D$5000, INDIRECT("Saisie!$D$"& COLUMN()+5), Saisie!$A$7:'Saisie'!$A$5000,">="&$B$4,Saisie!$A$7:'Saisie'!$A$5000,"<="&$D$4)) -> 0 | F14: =IF($A14="","",SUMIFS(OFFSET(Saisie!$D$7,0,ROW()-9) : OFFSET(Saisie!$D$5000,0,ROW()-9), Saisie!$D$7:'Saisie'!$D$5000, INDIRECT("Saisie!$D$"& COLUMN()+5), Saisie!$A$7:'Saisie'!$A$5000,">="&$B$4,Saisie!$A$7:'Saisie'!$A$5000,"<="&$D$4)) -> -24.666667 | G14: =IF($A14="","",SUMIFS(OFFSET(Saisie!$D$7,0,ROW()-9) : OFFSET(Saisie!$D$5000,0,ROW()-9), Saisie!$D$7:'Saisie'!$D$5000, INDIRECT("Saisie!$D$"& COLUMN()+5), Saisie!$A$7:'Saisie'!$A$5000,">="&$B$4,Saisie!$A$7:'Saisie'!$A$5000,"<="&$D$4)) -> 39.2 | H14: =IF($A14="","",SUMIFS(OFFSET(Saisie!$D$7,0,ROW()-9) : OFFSET(Saisie!$D$5000,0,ROW()-9), Saisie!$D$7:'Saisie'!$D$5000, INDIRECT("Saisie!$D$"& COLUMN()+5), Saisie!$A$7:'Saisie'!$A$5000,">="&$B$4,Saisie!$A$7:'Saisie'!$A$5000,"<="&$D$4)) -> 0 | I14: =IF($A14="","",SUMIFS(OFFSET(Saisie!$D$7,0,ROW()-9) : OFFSET(Saisie!$D$5000,0,ROW()-9), Saisie!$D$7:'Saisie'!$D$5000, INDIRECT("Saisie!$D$"& COLUMN()+5), Saisie!$A$7:'Saisie'!$A$5000,">="&$B$4,Saisie!$A$7:'Saisie'!$A$5000,"<="&$D$4)) -> 0 | ... R14: =IF($A14="","",SUMIFS(OFFSET(Saisie!$D$7,0,ROW()-9) : OFFSET(Saisie!$D$5000,0,ROW()-9), Saisie!$D$7:'Saisie'!$D$5000, INDIRECT("Saisie!$D$"& COLUMN()+5), Saisie!$A$7:'Saisie'!$A$5000,">="&$B$4,Saisie!$A$7:'Saisie'!$A$5000,"<="&$D$4)) -> 0
A15: =IF(ISBLANK(OFFSET(Saisie!$D$6,0,ROW()-9)),"",OFFSET(Saisie!$D$6,0,ROW()-9)) -> Hubble | B15: =IF($A15="","",SUMIFS(OFFSET(Saisie!$D$7,0,ROW()-9) : OFFSET(Saisie!$D$5000,0,ROW()-9), Saisie!$D$7:'Saisie'!$D$5000, INDIRECT("Saisie!$D$"& COLUMN()+5), Saisie!$A$7:'Saisie'!$A$5000,">="&$B$4,Saisie!$A$7:'Saisie'!$A$5000,"<="&$D$4)) -> 0 | C15: =IF($A15="","",SUMIFS(OFFSET(Saisie!$D$7,0,ROW()-9) : OFFSET(Saisie!$D$5000,0,ROW()-9), Saisie!$D$7:'Saisie'!$D$5000, INDIRECT("Saisie!$D$"& COLUMN()+5), Saisie!$A$7:'Saisie'!$A$5000,">="&$B$4,Saisie!$A$7:'Saisie'!$A$5000,"<="&$D$4)) -> 0 | D15: =IF($A15="","",SUMIFS(OFFSET(Saisie!$D$7,0,ROW()-9) : OFFSET(Saisie!$D$5000,0,ROW()-9), Saisie!$D$7:'Saisie'!$D$5000, INDIRECT("Saisie!$D$"& COLUMN()+5), Saisie!$A$7:'Saisie'!$A$5000,">="&$B$4,Saisie!$A$7:'Saisie'!$A$5000,"<="&$D$4)) -> 4 | E15: =IF($A15="","",SUMIFS(OFFSET(Saisie!$D$7,0,ROW()-9) : OFFSET(Saisie!$D$5000,0,ROW()-9), Saisie!$D$7:'Saisie'!$D$5000, INDIRECT("Saisie!$D$"& COLUMN()+5), Saisie!$A$7:'Saisie'!$A$5000,">="&$B$4,Saisie!$A$7:'Saisie'!$A$5000,"<="&$D$4)) -> 0 | F15: =IF($A15="","",SUMIFS(OFFSET(Saisie!$D$7,0,ROW()-9) : OFFSET(Saisie!$D$5000,0,ROW()-9), Saisie!$D$7:'Saisie'!$D$5000, INDIRECT("Saisie!$D$"& COLUMN()+5), Saisie!$A$7:'Saisie'!$A$5000,">="&$B$4,Saisie!$A$7:'Saisie'!$A$5000,"<="&$D$4)) -> -4 | G15: =IF($A15="","",SUMIFS(OFFSET(Saisie!$D$7,0,ROW()-9) : OFFSET(Saisie!$D$5000,0,ROW()-9), Saisie!$D$7:'Saisie'!$D$5000, INDIRECT("Saisie!$D$"& COLUMN()+5), Saisie!$A$7:'Saisie'!$A$5000,">="&$B$4,Saisie!$A$7:'Saisie'!$A$5000,"<="&$D$4)) -> 0 | H15: =IF($A15="","",SUMIFS(OFFSET(Saisie!$D$7,0,ROW()-9) : OFFSET(Saisie!$D$5000,0,ROW()-9), Saisie!$D$7:'Saisie'!$D$5000, INDIRECT("Saisie!$D$"& COLUMN()+5), Saisie!$A$7:'Saisie'!$A$5000,">="&$B$4,Saisie!$A$7:'Saisie'!$A$5000,"<="&$D$4)) -> 0 | I15: =IF($A15="","",SUMIFS(OFFSET(Saisie!$D$7,0,ROW()-9) : OFFSET(Saisie!$D$5000,0,ROW()-9), Saisie!$D$7:'Saisie'!$D$5000, INDIRECT("Saisie!$D$"& COLUMN()+5), Saisie!$A$7:'Saisie'!$A$5000,">="&$B$4,Saisie!$A$7:'Saisie'!$A$5000,"<="&$D$4)) -> 0 | ... R15: =IF($A15="","",SUMIFS(OFFSET(Saisie!$D$7,0,ROW()-9) : OFFSET(Saisie!$D$5000,0,ROW()-9), Saisie!$D$7:'Saisie'!$D$5000, INDIRECT("Saisie!$D$"& COLUMN()+5), Saisie!$A$7:'Saisie'!$A$5000,">="&$B$4,Saisie!$A$7:'Saisie'!$A$5000,"<="&$D$4)) -> 0
A16: =IF(ISBLANK(OFFSET(Saisie!$D$6,0,ROW()-9)),"",OFFSET(Saisie!$D$6,0,ROW()-9)) -> Albert | B16: =IF($A16="","",SUMIFS(OFFSET(Saisie!$D$7,0,ROW()-9) : OFFSET(Saisie!$D$5000,0,ROW()-9), Saisie!$D$7:'Saisie'!$D$5000, INDIRECT("Saisie!$D$"& COLUMN()+5), Saisie!$A$7:'Saisie'!$A$5000,">="&$B$4,Saisie!$A$7:'Saisie'!$A$5000,"<="&$D$4)) -> 0 | C16: =IF($A16="","",SUMIFS(OFFSET(Saisie!$D$7,0,ROW()-9) : OFFSET(Saisie!$D$5000,0,ROW()-9), Saisie!$D$7:'Saisie'!$D$5000, INDIRECT("Saisie!$D$"& COLUMN()+5), Saisie!$A$7:'Saisie'!$A$5000,">="&$B$4,Saisie!$A$7:'Saisie'!$A$5000,"<="&$D$4)) -> 0 | D16: =IF($A16="","",SUMIFS(OFFSET(Saisie!$D$7,0,ROW()-9) : OFFSET(Saisie!$D$5000,0,ROW()-9), Saisie!$D$7:'Saisie'!$D$5000, INDIRECT("Saisie!$D$"& COLUMN()+5), Saisie!$A$7:'Saisie'!$A$5000,">="&$B$4,Saisie!$A$7:'Saisie'!$A$5000,"<="&$D$4)) -> 0 | E16: =IF($A16="","",SUMIFS(OFFSET(Saisie!$D$7,0,ROW()-9) : OFFSET(Saisie!$D$5000,0,ROW()-9), Saisie!$D$7:'Saisie'!$D$5000, INDIRECT("Saisie!$D$"& COLUMN()+5), Saisie!$A$7:'Saisie'!$A$5000,">="&$B$4,Saisie!$A$7:'Saisie'!$A$5000,"<="&$D$4)) -> 0 | F16: =IF($A16="","",SUMIFS(OFFSET(Saisie!$D$7,0,ROW()-9) : OFFSET(Saisie!$D$5000,0,ROW()-9), Saisie!$D$7:'Saisie'!$D$5000, INDIRECT("Saisie!$D$"& COLUMN()+5), Saisie!$A$7:'Saisie'!$A$5000,">="&$B$4,Saisie!$A$7:'Saisie'!$A$5000,"<="&$D$4)) -> 0 | G16: =IF($A16="","",SUMIFS(OFFSET(Saisie!$D$7,0,ROW()-9) : OFFSET(Saisie!$D$5000,0,ROW()-9), Saisie!$D$7:'Saisie'!$D$5000, INDIRECT("Saisie!$D$"& COLUMN()+5), Saisie!$A$7:'Saisie'!$A$5000,">="&$B$4,Saisie!$A$7:'Saisie'!$A$5000,"<="&$D$4)) -> 0 | H16: =IF($A16="","",SUMIFS(OFFSET(Saisie!$D$7,0,ROW()-9) : OFFSET(Saisie!$D$5000,0,ROW()-9), Saisie!$D$7:'Saisie'!$D$5000, INDIRECT("Saisie!$D$"& COLUMN()+5), Saisie!$A$7:'Saisie'!$A$5000,">="&$B$4,Saisie!$A$7:'Saisie'!$A$5000,"<="&$D$4)) -> 0 | I16: =IF($A16="","",SUMIFS(OFFSET(Saisie!$D$7,0,ROW()-9) : OFFSET(Saisie!$D$5000,0,ROW()-9), Saisie!$D$7:'Saisie'!$D$5000, INDIRECT("Saisie!$D$"& COLUMN()+5), Saisie!$A$7:'Saisie'!$A$5000,">="&$B$4,Saisie!$A$7:'Saisie'!$A$5000,"<="&$D$4)) -> 0 | ... R16: =IF($A16="","",SUMIFS(OFFSET(Saisie!$D$7,0,ROW()-9) : OFFSET(Saisie!$D$5000,0,ROW()-9), Saisie!$D$7:'Saisie'!$D$5000, INDIRECT("Saisie!$D$"& COLUMN()+5), Saisie!$A$7:'Saisie'!$A$5000,">="&$B$4,Saisie!$A$7:'Saisie'!$A$5000,"<="&$D$4)) -> 0
A17: =IF(ISBLANK(OFFSET(Saisie!$D$6,0,ROW()-9)),"",OFFSET(Saisie!$D$6,0,ROW()-9)) -> Einstein | B17: =IF($A17="","",SUMIFS(OFFSET(Saisie!$D$7,0,ROW()-9) : OFFSET(Saisie!$D$5000,0,ROW()-9), Saisie!$D$7:'Saisie'!$D$5000, INDIRECT("Saisie!$D$"& COLUMN()+5), Saisie!$A$7:'Saisie'!$A$5000,">="&$B$4,Saisie!$A$7:'Saisie'!$A$5000,"<="&$D$4)) -> 0 | C17: =IF($A17="","",SUMIFS(OFFSET(Saisie!$D$7,0,ROW()-9) : OFFSET(Saisie!$D$5000,0,ROW()-9), Saisie!$D$7:'Saisie'!$D$5000, INDIRECT("Saisie!$D$"& COLUMN()+5), Saisie!$A$7:'Saisie'!$A$5000,">="&$B$4,Saisie!$A$7:'Saisie'!$A$5000,"<="&$D$4)) -> 0 | D17: =IF($A17="","",SUMIFS(OFFSET(Saisie!$D$7,0,ROW()-9) : OFFSET(Saisie!$D$5000,0,ROW()-9), Saisie!$D$7:'Saisie'!$D$5000, INDIRECT("Saisie!$D$"& COLUMN()+5), Saisie!$A$7:'Saisie'!$A$5000,">="&$B$4,Saisie!$A$7:'Saisie'!$A$5000,"<="&$D$4)) -> 0 | E17: =IF($A17="","",SUMIFS(OFFSET(Saisie!$D$7,0,ROW()-9) : OFFSET(Saisie!$D$5000,0,ROW()-9), Saisie!$D$7:'Saisie'!$D$5000, INDIRECT("Saisie!$D$"& COLUMN()+5), Saisie!$A$7:'Saisie'!$A$5000,">="&$B$4,Saisie!$A$7:'Saisie'!$A$5000,"<="&$D$4)) -> 0 | F17: =IF($A17="","",SUMIFS(OFFSET(Saisie!$D$7,0,ROW()-9) : OFFSET(Saisie!$D$5000,0,ROW()-9), Saisie!$D$7:'Saisie'!$D$5000, INDIRECT("Saisie!$D$"& COLUMN()+5), Saisie!$A$7:'Saisie'!$A$5000,">="&$B$4,Saisie!$A$7:'Saisie'!$A$5000,"<="&$D$4)) -> 6 | G17: =IF($A17="","",SUMIFS(OFFSET(Saisie!$D$7,0,ROW()-9) : OFFSET(Saisie!$D$5000,0,ROW()-9), Saisie!$D$7:'Saisie'!$D$5000, INDIRECT("Saisie!$D$"& COLUMN()+5), Saisie!$A$7:'Saisie'!$A$5000,">="&$B$4,Saisie!$A$7:'Saisie'!$A$5000,"<="&$D$4)) -> 0 | H17: =IF($A17="","",SUMIFS(OFFSET(Saisie!$D$7,0,ROW()-9) : OFFSET(Saisie!$D$5000,0,ROW()-9), Saisie!$D$7:'Saisie'!$D$5000, INDIRECT("Saisie!$D$"& COLUMN()+5), Saisie!$A$7:'Saisie'!$A$5000,">="&$B$4,Saisie!$A$7:'Saisie'!$A$5000,"<="&$D$4)) -> 4 | I17: =IF($A17="","",SUMIFS(OFFSET(Saisie!$D$7,0,ROW()-9) : OFFSET(Saisie!$D$5000,0,ROW()-9), Saisie!$D$7:'Saisie'!$D$5000, INDIRECT("Saisie!$D$"& COLUMN()+5), Saisie!$A$7:'Saisie'!$A$5000,">="&$B$4,Saisie!$A$7:'Saisie'!$A$5000,"<="&$D$4)) -> 0 | ... R17: =IF($A17="","",SUMIFS(OFFSET(Saisie!$D$7,0,ROW()-9) : OFFSET(Saisie!$D$5000,0,ROW()-9), Saisie!$D$7:'Saisie'!$D$5000, INDIRECT("Saisie!$D$"& COLUMN()+5), Saisie!$A$7:'Saisie'!$A$5000,">="&$B$4,Saisie!$A$7:'Saisie'!$A$5000,"<="&$D$4)) -> 0
A18: =IF(ISBLANK(OFFSET(Saisie!$D$6,0,ROW()-9)),"",OFFSET(Saisie!$D$6,0,ROW()-9)) -> Max | B18: =IF($A18="","",SUMIFS(OFFSET(Saisie!$D$7,0,ROW()-9) : OFFSET(Saisie!$D$5000,0,ROW()-9), Saisie!$D$7:'Saisie'!$D$5000, INDIRECT("Saisie!$D$"& COLUMN()+5), Saisie!$A$7:'Saisie'!$A$5000,">="&$B$4,Saisie!$A$7:'Saisie'!$A$5000,"<="&$D$4)) -> 0 | C18: =IF($A18="","",SUMIFS(OFFSET(Saisie!$D$7,0,ROW()-9) : OFFSET(Saisie!$D$5000,0,ROW()-9), Saisie!$D$7:'Saisie'!$D$5000, INDIRECT("Saisie!$D$"& COLUMN()+5), Saisie!$A$7:'Saisie'!$A$5000,">="&$B$4,Saisie!$A$7:'Saisie'!$A$5000,"<="&$D$4)) -> 0 | D18: =IF($A18="","",SUMIFS(OFFSET(Saisie!$D$7,0,ROW()-9) : OFFSET(Saisie!$D$5000,0,ROW()-9), Saisie!$D$7:'Saisie'!$D$5000, INDIRECT("Saisie!$D$"& COLUMN()+5), Saisie!$A$7:'Saisie'!$A$5000,">="&$B$4,Saisie!$A$7:'Saisie'!$A$5000,"<="&$D$4)) -> 0 | E18: =IF($A18="","",SUMIFS(OFFSET(Saisie!$D$7,0,ROW()-9) : OFFSET(Saisie!$D$5000,0,ROW()-9), Saisie!$D$7:'Saisie'!$D$5000, INDIRECT("Saisie!$D$"& COLUMN()+5), Saisie!$A$7:'Saisie'!$A$5000,">="&$B$4,Saisie!$A$7:'Saisie'!$A$5000,"<="&$D$4)) -> 0 | F18: =IF($A18="","",SUMIFS(OFFSET(Saisie!$D$7,0,ROW()-9) : OFFSET(Saisie!$D$5000,0,ROW()-9), Saisie!$D$7:'Saisie'!$D$5000, INDIRECT("Saisie!$D$"& COLUMN()+5), Saisie!$A$7:'Saisie'!$A$5000,">="&$B$4,Saisie!$A$7:'Saisie'!$A$5000,"<="&$D$4)) -> 0 | G18: =IF($A18="","",SUMIFS(OFFSET(Saisie!$D$7,0,ROW()-9) : OFFSET(Saisie!$D$5000,0,ROW()-9), Saisie!$D$7:'Saisie'!$D$5000, INDIRECT("Saisie!$D$"& COLUMN()+5), Saisie!$A$7:'Saisie'!$A$5000,">="&$B$4,Saisie!$A$7:'Saisie'!$A$5000,"<="&$D$4)) -> 0 | H18: =IF($A18="","",SUMIFS(OFFSET(Saisie!$D$7,0,ROW()-9) : OFFSET(Saisie!$D$5000,0,ROW()-9), Saisie!$D$7:'Saisie'!$D$5000, INDIRECT("Saisie!$D$"& COLUMN()+5), Saisie!$A$7:'Saisie'!$A$5000,">="&$B$4,Saisie!$A$7:'Saisie'!$A$5000,"<="&$D$4)) -> 0 | I18: =IF($A18="","",SUMIFS(OFFSET(Saisie!$D$7,0,ROW()-9) : OFFSET(Saisie!$D$5000,0,ROW()-9), Saisie!$D$7:'Saisie'!$D$5000, INDIRECT("Saisie!$D$"& COLUMN()+5), Saisie!$A$7:'Saisie'!$A$5000,">="&$B$4,Saisie!$A$7:'Saisie'!$A$5000,"<="&$D$4)) -> 0 | ... R18: =IF($A18="","",SUMIFS(OFFSET(Saisie!$D$7,0,ROW()-9) : OFFSET(Saisie!$D$5000,0,ROW()-9), Saisie!$D$7:'Saisie'!$D$5000, INDIRECT("Saisie!$D$"& COLUMN()+5), Saisie!$A$7:'Saisie'!$A$5000,">="&$B$4,Saisie!$A$7:'Saisie'!$A$5000,"<="&$D$4)) -> 0
A19: =IF(ISBLANK(OFFSET(Saisie!$D$6,0,ROW()-9)),"",OFFSET(Saisie!$D$6,0,ROW()-9)) -> Planck | B19: =IF($A19="","",SUMIFS(OFFSET(Saisie!$D$7,0,ROW()-9) : OFFSET(Saisie!$D$5000,0,ROW()-9), Saisie!$D$7:'Saisie'!$D$5000, INDIRECT("Saisie!$D$"& COLUMN()+5), Saisie!$A$7:'Saisie'!$A$5000,">="&$B$4,Saisie!$A$7:'Saisie'!$A$5000,"<="&$D$4)) -> 6 | C19: =IF($A19="","",SUMIFS(OFFSET(Saisie!$D$7,0,ROW()-9) : OFFSET(Saisie!$D$5000,0,ROW()-9), Saisie!$D$7:'Saisie'!$D$5000, INDIRECT("Saisie!$D$"& COLUMN()+5), Saisie!$A$7:'Saisie'!$A$5000,">="&$B$4,Saisie!$A$7:'Saisie'!$A$5000,"<="&$D$4)) -> 0 | D19: =IF($A19="","",SUMIFS(OFFSET(Saisie!$D$7,0,ROW()-9) : OFFSET(Saisie!$D$5000,0,ROW()-9), Saisie!$D$7:'Saisie'!$D$5000, INDIRECT("Saisie!$D$"& COLUMN()+5), Saisie!$A$7:'Saisie'!$A$5000,">="&$B$4,Saisie!$A$7:'Saisie'!$A$5000,"<="&$D$4)) -> 0 | E19: =IF($A19="","",SUMIFS(OFFSET(Saisie!$D$7,0,ROW()-9) : OFFSET(Saisie!$D$5000,0,ROW()-9), Saisie!$D$7:'Saisie'!$D$5000, INDIRECT("Saisie!$D$"& COLUMN()+5), Saisie!$A$7:'Saisie'!$A$5000,">="&$B$4,Saisie!$A$7:'Saisie'!$A$5000,"<="&$D$4)) -> 0 | F19: =IF($A19="","",SUMIFS(OFFSET(Saisie!$D$7,0,ROW()-9) : OFFSET(Saisie!$D$5000,0,ROW()-9), Saisie!$D$7:'Saisie'!$D$5000, INDIRECT("Saisie!$D$"& COLUMN()+5), Saisie!$A$7:'Saisie'!$A$5000,">="&$B$4,Saisie!$A$7:'Saisie'!$A$5000,"<="&$D$4)) -> 7 | G19: =IF($A19="","",SUMIFS(OFFSET(Saisie!$D$7,0,ROW()-9) : OFFSET(Saisie!$D$5000,0,ROW()-9), Saisie!$D$7:'Saisie'!$D$5000, INDIRECT("Saisie!$D$"& COLUMN()+5), Saisie!$A$7:'Saisie'!$A$5000,">="&$B$4,Saisie!$A$7:'Saisie'!$A$5000,"<="&$D$4)) -> 0 | H19: =IF($A19="","",SUMIFS(OFFSET(Saisie!$D$7,0,ROW()-9) : OFFSET(Saisie!$D$5000,0,ROW()-9), Saisie!$D$7:'Saisie'!$D$5000, INDIRECT("Saisie!$D$"& COLUMN()+5), Saisie!$A$7:'Saisie'!$A$5000,">="&$B$4,Saisie!$A$7:'Saisie'!$A$5000,"<="&$D$4)) -> 0 | I19: =IF($A19="","",SUMIFS(OFFSET(Saisie!$D$7,0,ROW()-9) : OFFSET(Saisie!$D$5000,0,ROW()-9), Saisie!$D$7:'Saisie'!$D$5000, INDIRECT("Saisie!$D$"& COLUMN()+5), Saisie!$A$7:'Saisie'!$A$5000,">="&$B$4,Saisie!$A$7:'Saisie'!$A$5000,"<="&$D$4)) -> 0 | ... R19: =IF($A19="","",SUMIFS(OFFSET(Saisie!$D$7,0,ROW()-9) : OFFSET(Saisie!$D$5000,0,ROW()-9), Saisie!$D$7:'Saisie'!$D$5000, INDIRECT("Saisie!$D$"& COLUMN()+5), Saisie!$A$7:'Saisie'!$A$5000,">="&$B$4,Saisie!$A$7:'Saisie'!$A$5000,"<="&$D$4)) -> 0
A20: =IF(ISBLANK(OFFSET(Saisie!$D$6,0,ROW()-9)),"",OFFSET(Saisie!$D$6,0,ROW()-9)) -> Alpha | B20: =IF($A20="","",SUMIFS(OFFSET(Saisie!$D$7,0,ROW()-9) : OFFSET(Saisie!$D$5000,0,ROW()-9), Saisie!$D$7:'Saisie'!$D$5000, INDIRECT("Saisie!$D$"& COLUMN()+5), Saisie!$A$7:'Saisie'!$A$5000,">="&$B$4,Saisie!$A$7:'Saisie'!$A$5000,"<="&$D$4)) -> 0 | C20: =IF($A20="","",SUMIFS(OFFSET(Saisie!$D$7,0,ROW()-9) : OFFSET(Saisie!$D$5000,0,ROW()-9), Saisie!$D$7:'Saisie'!$D$5000, INDIRECT("Saisie!$D$"& COLUMN()+5), Saisie!$A$7:'Saisie'!$A$5000,">="&$B$4,Saisie!$A$7:'Saisie'!$A$5000,"<="&$D$4)) -> 0 | D20: =IF($A20="","",SUMIFS(OFFSET(Saisie!$D$7,0,ROW()-9) : OFFSET(Saisie!$D$5000,0,ROW()-9), Saisie!$D$7:'Saisie'!$D$5000, INDIRECT("Saisie!$D$"& COLUMN()+5), Saisie!$A$7:'Saisie'!$A$5000,">="&$B$4,Saisie!$A$7:'Saisie'!$A$5000,"<="&$D$4)) -> 0 | E20: =IF($A20="","",SUMIFS(OFFSET(Saisie!$D$7,0,ROW()-9) : OFFSET(Saisie!$D$5000,0,ROW()-9), Saisie!$D$7:'Saisie'!$D$5000, INDIRECT("Saisie!$D$"& COLUMN()+5), Saisie!$A$7:'Saisie'!$A$5000,">="&$B$4,Saisie!$A$7:'Saisie'!$A$5000,"<="&$D$4)) -> 0 | F20: =IF($A20="","",SUMIFS(OFFSET(Saisie!$D$7,0,ROW()-9) : OFFSET(Saisie!$D$5000,0,ROW()-9), Saisie!$D$7:'Saisie'!$D$5000, INDIRECT("Saisie!$D$"& COLUMN()+5), Saisie!$A$7:'Saisie'!$A$5000,">="&$B$4,Saisie!$A$7:'Saisie'!$A$5000,"<="&$D$4)) -> 0 | G20: =IF($A20="","",SUMIFS(OFFSET(Saisie!$D$7,0,ROW()-9) : OFFSET(Saisie!$D$5000,0,ROW()-9), Saisie!$D$7:'Saisie'!$D$5000, INDIRECT("Saisie!$D$"& COLUMN()+5), Saisie!$A$7:'Saisie'!$A$5000,">="&$B$4,Saisie!$A$7:'Saisie'!$A$5000,"<="&$D$4)) -> 0 | H20: =IF($A20="","",SUMIFS(OFFSET(Saisie!$D$7,0,ROW()-9) : OFFSET(Saisie!$D$5000,0,ROW()-9), Saisie!$D$7:'Saisie'!$D$5000, INDIRECT("Saisie!$D$"& COLUMN()+5), Saisie!$A$7:'Saisie'!$A$5000,">="&$B$4,Saisie!$A$7:'Saisie'!$A$5000,"<="&$D$4)) -> 0 | I20: =IF($A20="","",SUMIFS(OFFSET(Saisie!$D$7,0,ROW()-9) : OFFSET(Saisie!$D$5000,0,ROW()-9), Saisie!$D$7:'Saisie'!$D$5000, INDIRECT("Saisie!$D$"& COLUMN()+5), Saisie!$A$7:'Saisie'!$A$5000,">="&$B$4,Saisie!$A$7:'Saisie'!$A$5000,"<="&$D$4)) -> 0 | ... R20: =IF($A20="","",SUMIFS(OFFSET(Saisie!$D$7,0,ROW()-9) : OFFSET(Saisie!$D$5000,0,ROW()-9), Saisie!$D$7:'Saisie'!$D$5000, INDIRECT("Saisie!$D$"& COLUMN()+5), Saisie!$A$7:'Saisie'!$A$5000,">="&$B$4,Saisie!$A$7:'Saisie'!$A$5000,"<="&$D$4)) -> 0
A21: =IF(ISBLANK(OFFSET(Saisie!$D$6,0,ROW()-9)),"",OFFSET(Saisie!$D$6,0,ROW()-9)) -> Bêta | B21: =IF($A21="","",SUMIFS(OFFSET(Saisie!$D$7,0,ROW()-9) : OFFSET(Saisie!$D$5000,0,ROW()-9), Saisie!$D$7:'Saisie'!$D$5000, INDIRECT("Saisie!$D$"& COLUMN()+5), Saisie!$A$7:'Saisie'!$A$5000,">="&$B$4,Saisie!$A$7:'Saisie'!$A$5000,"<="&$D$4)) -> 0 | C21: =IF($A21="","",SUMIFS(OFFSET(Saisie!$D$7,0,ROW()-9) : OFFSET(Saisie!$D$5000,0,ROW()-9), Saisie!$D$7:'Saisie'!$D$5000, INDIRECT("Saisie!$D$"& COLUMN()+5), Saisie!$A$7:'Saisie'!$A$5000,">="&$B$4,Saisie!$A$7:'Saisie'!$A$5000,"<="&$D$4)) -> 0 | D21: =IF($A21="","",SUMIFS(OFFSET(Saisie!$D$7,0,ROW()-9) : OFFSET(Saisie!$D$5000,0,ROW()-9), Saisie!$D$7:'Saisie'!$D$5000, INDIRECT("Saisie!$D$"& COLUMN()+5), Saisie!$A$7:'Saisie'!$A$5000,">="&$B$4,Saisie!$A$7:'Saisie'!$A$5000,"<="&$D$4)) -> 0 | E21: =IF($A21="","",SUMIFS(OFFSET(Saisie!$D$7,0,ROW()-9) : OFFSET(Saisie!$D$5000,0,ROW()-9), Saisie!$D$7:'Saisie'!$D$5000, INDIRECT("Saisie!$D$"& COLUMN()+5), Saisie!$A$7:'Saisie'!$A$5000,">="&$B$4,Saisie!$A$7:'Saisie'!$A$5000,"<="&$D$4)) -> 0 | F21: =IF($A21="","",SUMIFS(OFFSET(Saisie!$D$7,0,ROW()-9) : OFFSET(Saisie!$D$5000,0,ROW()-9), Saisie!$D$7:'Saisie'!$D$5000, INDIRECT("Saisie!$D$"& COLUMN()+5), Saisie!$A$7:'Saisie'!$A$5000,">="&$B$4,Saisie!$A$7:'Saisie'!$A$5000,"<="&$D$4)) -> 0 | G21: =IF($A21="","",SUMIFS(OFFSET(Saisie!$D$7,0,ROW()-9) : OFFSET(Saisie!$D$5000,0,ROW()-9), Saisie!$D$7:'Saisie'!$D$5000, INDIRECT("Saisie!$D$"& COLUMN()+5), Saisie!$A$7:'Saisie'!$A$5000,">="&$B$4,Saisie!$A$7:'Saisie'!$A$5000,"<="&$D$4)) -> 0 | H21: =IF($A21="","",SUMIFS(OFFSET(Saisie!$D$7,0,ROW()-9) : OFFSET(Saisie!$D$5000,0,ROW()-9), Saisie!$D$7:'Saisie'!$D$5000, INDIRECT("Saisie!$D$"& COLUMN()+5), Saisie!$A$7:'Saisie'!$A$5000,">="&$B$4,Saisie!$A$7:'Saisie'!$A$5000,"<="&$D$4)) -> 0 | I21: =IF($A21="","",SUMIFS(OFFSET(Saisie!$D$7,0,ROW()-9) : OFFSET(Saisie!$D$5000,0,ROW()-9), Saisie!$D$7:'Saisie'!$D$5000, INDIRECT("Saisie!$D$"& COLUMN()+5), Saisie!$A$7:'Saisie'!$A$5000,">="&$B$4,Saisie!$A$7:'Saisie'!$A$5000,"<="&$D$4)) -> 0 | ... R21: =IF($A21="","",SUMIFS(OFFSET(Saisie!$D$7,0,ROW()-9) : OFFSET(Saisie!$D$5000,0,ROW()-9), Saisie!$D$7:'Saisie'!$D$5000, INDIRECT("Saisie!$D$"& COLUMN()+5), Saisie!$A$7:'Saisie'!$A$5000,">="&$B$4,Saisie!$A$7:'Saisie'!$A$5000,"<="&$D$4)) -> 0
... A34: =IF(ISBLANK(OFFSET(Saisie!$D$6,0,ROW()-9)),"",OFFSET(Saisie!$D$6,0,ROW()-9)) | B34: =IF($A34="","",SUMIFS(OFFSET(Saisie!$D$7,0,ROW()-9) : OFFSET(Saisie!$D$5000,0,ROW()-9), Saisie!$D$7:'Saisie'!$D$5000, INDIRECT("Saisie!$D$"& COLUMN()+5), Saisie!$A$7:'Saisie'!$A$5000,">="&$B$4,Saisie!$A$7:'Saisie'!$A$5000,"<="&$D$4)) | C34: =IF($A34="","",SUMIFS(OFFSET(Saisie!$D$7,0,ROW()-9) : OFFSET(Saisie!$D$5000,0,ROW()-9), Saisie!$D$7:'Saisie'!$D$5000, INDIRECT("Saisie!$D$"& COLUMN()+5), Saisie!$A$7:'Saisie'!$A$5000,">="&$B$4,Saisie!$A$7:'Saisie'!$A$5000,"<="&$D$4)) | D34: =IF($A34="","",SUMIFS(OFFSET(Saisie!$D$7,0,ROW()-9) : OFFSET(Saisie!$D$5000,0,ROW()-9), Saisie!$D$7:'Saisie'!$D$5000, INDIRECT("Saisie!$D$"& COLUMN()+5), Saisie!$A$7:'Saisie'!$A$5000,">="&$B$4,Saisie!$A$7:'Saisie'!$A$5000,"<="&$D$4)) | E34: =IF($A34="","",SUMIFS(OFFSET(Saisie!$D$7,0,ROW()-9) : OFFSET(Saisie!$D$5000,0,ROW()-9), Saisie!$D$7:'Saisie'!$D$5000, INDIRECT("Saisie!$D$"& COLUMN()+5), Saisie!$A$7:'Saisie'!$A$5000,">="&$B$4,Saisie!$A$7:'Saisie'!$A$5000,"<="&$D$4)) | F34: =IF($A34="","",SUMIFS(OFFSET(Saisie!$D$7,0,ROW()-9) : OFFSET(Saisie!$D$5000,0,ROW()-9), Saisie!$D$7:'Saisie'!$D$5000, INDIRECT("Saisie!$D$"& COLUMN()+5), Saisie!$A$7:'Saisie'!$A$5000,">="&$B$4,Saisie!$A$7:'Saisie'!$A$5000,"<="&$D$4)) | G34: =IF($A34="","",SUMIFS(OFFSET(Saisie!$D$7,0,ROW()-9) : OFFSET(Saisie!$D$5000,0,ROW()-9), Saisie!$D$7:'Saisie'!$D$5000, INDIRECT("Saisie!$D$"& COLUMN()+5), Saisie!$A$7:'Saisie'!$A$5000,">="&$B$4,Saisie!$A$7:'Saisie'!$A$5000,"<="&$D$4)) | H34: =IF($A34="","",SUMIFS(OFFSET(Saisie!$D$7,0,ROW()-9) : OFFSET(Saisie!$D$5000,0,ROW()-9), Saisie!$D$7:'Saisie'!$D$5000, INDIRECT("Saisie!$D$"& COLUMN()+5), Saisie!$A$7:'Saisie'!$A$5000,">="&$B$4,Saisie!$A$7:'Saisie'!$A$5000,"<="&$D$4)) | I34: =IF($A34="","",SUMIFS(OFFSET(Saisie!$D$7,0,ROW()-9) : OFFSET(Saisie!$D$5000,0,ROW()-9), Saisie!$D$7:'Saisie'!$D$5000, INDIRECT("Saisie!$D$"& COLUMN()+5), Saisie!$A$7:'Saisie'!$A$5000,">="&$B$4,Saisie!$A$7:'Saisie'!$A$5000,"<="&$D$4)) | ... R34: =IF($A34="","",SUMIFS(OFFSET(Saisie!$D$7,0,ROW()-9) : OFFSET(Saisie!$D$5000,0,ROW()-9), Saisie!$D$7:'Saisie'!$D$5000, INDIRECT("Saisie!$D$"& COLUMN()+5), Saisie!$A$7:'Saisie'!$A$5000,">="&$B$4,Saisie!$A$7:'Saisie'!$A$5000,"<="&$D$4))
A35: =IF(ISBLANK(OFFSET(Saisie!$D$6,0,ROW()-9)),"",OFFSET(Saisie!$D$6,0,ROW()-9)) | B35: =IF($A35="","",SUMIFS(OFFSET(Saisie!$D$7,0,ROW()-9) : OFFSET(Saisie!$D$5000,0,ROW()-9), Saisie!$D$7:'Saisie'!$D$5000, INDIRECT("Saisie!$D$"& COLUMN()+6), Saisie!$A$7:'Saisie'!$A$5000,">="&$B$4,Saisie!$A$7:'Saisie'!$A$5000,"<="&$D$4)) | C35: =IF($A35="","",SUMIFS(OFFSET(Saisie!$D$7,0,ROW()-9) : OFFSET(Saisie!$D$5000,0,ROW()-9), Saisie!$D$7:'Saisie'!$D$5000, INDIRECT("Saisie!$D$"& COLUMN()+6), Saisie!$A$7:'Saisie'!$A$5000,">="&$B$4,Saisie!$A$7:'Saisie'!$A$5000,"<="&$D$4)) | D35: =IF($A35="","",SUMIFS(OFFSET(Saisie!$D$7,0,ROW()-9) : OFFSET(Saisie!$D$5000,0,ROW()-9), Saisie!$D$7:'Saisie'!$D$5000, INDIRECT("Saisie!$D$"& COLUMN()+6), Saisie!$A$7:'Saisie'!$A$5000,">="&$B$4,Saisie!$A$7:'Saisie'!$A$5000,"<="&$D$4)) | E35: =IF($A35="","",SUMIFS(OFFSET(Saisie!$D$7,0,ROW()-9) : OFFSET(Saisie!$D$5000,0,ROW()-9), Saisie!$D$7:'Saisie'!$D$5000, INDIRECT("Saisie!$D$"& COLUMN()+6), Saisie!$A$7:'Saisie'!$A$5000,">="&$B$4,Saisie!$A$7:'Saisie'!$A$5000,"<="&$D$4)) | F35: =IF($A35="","",SUMIFS(OFFSET(Saisie!$D$7,0,ROW()-9) : OFFSET(Saisie!$D$5000,0,ROW()-9), Saisie!$D$7:'Saisie'!$D$5000, INDIRECT("Saisie!$D$"& COLUMN()+6), Saisie!$A$7:'Saisie'!$A$5000,">="&$B$4,Saisie!$A$7:'Saisie'!$A$5000,"<="&$D$4)) | G35: =IF($A35="","",SUMIFS(OFFSET(Saisie!$D$7,0,ROW()-9) : OFFSET(Saisie!$D$5000,0,ROW()-9), Saisie!$D$7:'Saisie'!$D$5000, INDIRECT("Saisie!$D$"& COLUMN()+6), Saisie!$A$7:'Saisie'!$A$5000,">="&$B$4,Saisie!$A$7:'Saisie'!$A$5000,"<="&$D$4)) | H35: =IF($A35="","",SUMIFS(OFFSET(Saisie!$D$7,0,ROW()-9) : OFFSET(Saisie!$D$5000,0,ROW()-9), Saisie!$D$7:'Saisie'!$D$5000, INDIRECT("Saisie!$D$"& COLUMN()+6), Saisie!$A$7:'Saisie'!$A$5000,">="&$B$4,Saisie!$A$7:'Saisie'!$A$5000,"<="&$D$4)) | I35: =IF($A35="","",SUMIFS(OFFSET(Saisie!$D$7,0,ROW()-9) : OFFSET(Saisie!$D$5000,0,ROW()-9), Saisie!$D$7:'Saisie'!$D$5000, INDIRECT("Saisie!$D$"& COLUMN()+6), Saisie!$A$7:'Saisie'!$A$5000,">="&$B$4,Saisie!$A$7:'Saisie'!$A$5000,"<="&$D$4)) | ... O35: =IF($A35="","",SUMIFS(OFFSET(Saisie!$D$7,0,ROW()-9) : OFFSET(Saisie!$D$5000,0,ROW()-9), Saisie!$D$7:'Saisie'!$D$5000, INDIRECT("Saisie!$D$"& COLUMN()+6), Saisie!$A$7:'Saisie'!$A$5000,">="&$B$4,Saisie!$A$7:'Saisie'!$A$5000,"<="&$D$4))
A36: =IF(ISBLANK(OFFSET(Saisie!$D$6,0,ROW()-9)),"",OFFSET(Saisie!$D$6,0,ROW()-9)) | B36: =IF($A36="","",SUMIFS(OFFSET(Saisie!$D$7,0,ROW()-9) : OFFSET(Saisie!$D$5000,0,ROW()-9), Saisie!$D$7:'Saisie'!$D$5000, INDIRECT("Saisie!$D$"& COLUMN()+6), Saisie!$A$7:'Saisie'!$A$5000,">="&$B$4,Saisie!$A$7:'Saisie'!$A$5000,"<="&$D$4)) | C36: =IF($A36="","",SUMIFS(OFFSET(Saisie!$D$7,0,ROW()-9) : OFFSET(Saisie!$D$5000,0,ROW()-9), Saisie!$D$7:'Saisie'!$D$5000, INDIRECT("Saisie!$D$"& COLUMN()+6), Saisie!$A$7:'Saisie'!$A$5000,">="&$B$4,Saisie!$A$7:'Saisie'!$A$5000,"<="&$D$4)) | D36: =IF($A36="","",SUMIFS(OFFSET(Saisie!$D$7,0,ROW()-9) : OFFSET(Saisie!$D$5000,0,ROW()-9), Saisie!$D$7:'Saisie'!$D$5000, INDIRECT("Saisie!$D$"& COLUMN()+6), Saisie!$A$7:'Saisie'!$A$5000,">="&$B$4,Saisie!$A$7:'Saisie'!$A$5000,"<="&$D$4)) | E36: =IF($A36="","",SUMIFS(OFFSET(Saisie!$D$7,0,ROW()-9) : OFFSET(Saisie!$D$5000,0,ROW()-9), Saisie!$D$7:'Saisie'!$D$5000, INDIRECT("Saisie!$D$"& COLUMN()+6), Saisie!$A$7:'Saisie'!$A$5000,">="&$B$4,Saisie!$A$7:'Saisie'!$A$5000,"<="&$D$4)) | F36: =IF($A36="","",SUMIFS(OFFSET(Saisie!$D$7,0,ROW()-9) : OFFSET(Saisie!$D$5000,0,ROW()-9), Saisie!$D$7:'Saisie'!$D$5000, INDIRECT("Saisie!$D$"& COLUMN()+6), Saisie!$A$7:'Saisie'!$A$5000,">="&$B$4,Saisie!$A$7:'Saisie'!$A$5000,"<="&$D$4)) | G36: =IF($A36="","",SUMIFS(OFFSET(Saisie!$D$7,0,ROW()-9) : OFFSET(Saisie!$D$5000,0,ROW()-9), Saisie!$D$7:'Saisie'!$D$5000, INDIRECT("Saisie!$D$"& COLUMN()+6), Saisie!$A$7:'Saisie'!$A$5000,">="&$B$4,Saisie!$A$7:'Saisie'!$A$5000,"<="&$D$4)) | H36: =IF($A36="","",SUMIFS(OFFSET(Saisie!$D$7,0,ROW()-9) : OFFSET(Saisie!$D$5000,0,ROW()-9), Saisie!$D$7:'Saisie'!$D$5000, INDIRECT("Saisie!$D$"& COLUMN()+6), Saisie!$A$7:'Saisie'!$A$5000,">="&$B$4,Saisie!$A$7:'Saisie'!$A$5000,"<="&$D$4)) | I36: =IF($A36="","",SUMIFS(OFFSET(Saisie!$D$7,0,ROW()-9) : OFFSET(Saisie!$D$5000,0,ROW()-9), Saisie!$D$7:'Saisie'!$D$5000, INDIRECT("Saisie!$D$"& COLUMN()+6), Saisie!$A$7:'Saisie'!$A$5000,">="&$B$4,Saisie!$A$7:'Saisie'!$A$5000,"<="&$D$4)) | ... O36: =IF($A36="","",SUMIFS(OFFSET(Saisie!$D$7,0,ROW()-9) : OFFSET(Saisie!$D$5000,0,ROW()-9), Saisie!$D$7:'Saisie'!$D$5000, INDIRECT("Saisie!$D$"& COLUMN()+6), Saisie!$A$7:'Saisie'!$A$5000,">="&$B$4,Saisie!$A$7:'Saisie'!$A$5000,"<="&$D$4))
A37: =IF(ISBLANK(OFFSET(Saisie!$D$6,0,ROW()-9)),"",OFFSET(Saisie!$D$6,0,ROW()-9)) | B37: =IF($A37="","",SUMIFS(OFFSET(Saisie!$D$7,0,ROW()-9) : OFFSET(Saisie!$D$5000,0,ROW()-9), Saisie!$D$7:'Saisie'!$D$5000, INDIRECT("Saisie!$D$"& COLUMN()+6), Saisie!$A$7:'Saisie'!$A$5000,">="&$B$4,Saisie!$A$7:'Saisie'!$A$5000,"<="&$D$4)) | C37: =IF($A37="","",SUMIFS(OFFSET(Saisie!$D$7,0,ROW()-9) : OFFSET(Saisie!$D$5000,0,ROW()-9), Saisie!$D$7:'Saisie'!$D$5000, INDIRECT("Saisie!$D$"& COLUMN()+6), Saisie!$A$7:'Saisie'!$A$5000,">="&$B$4,Saisie!$A$7:'Saisie'!$A$5000,"<="&$D$4)) | D37: =IF($A37="","",SUMIFS(OFFSET(Saisie!$D$7,0,ROW()-9) : OFFSET(Saisie!$D$5000,0,ROW()-9), Saisie!$D$7:'Saisie'!$D$5000, INDIRECT("Saisie!$D$"& COLUMN()+6), Saisie!$A$7:'Saisie'!$A$5000,">="&$B$4,Saisie!$A$7:'Saisie'!$A$5000,"<="&$D$4)) | E37: =IF($A37="","",SUMIFS(OFFSET(Saisie!$D$7,0,ROW()-9) : OFFSET(Saisie!$D$5000,0,ROW()-9), Saisie!$D$7:'Saisie'!$D$5000, INDIRECT("Saisie!$D$"& COLUMN()+6), Saisie!$A$7:'Saisie'!$A$5000,">="&$B$4,Saisie!$A$7:'Saisie'!$A$5000,"<="&$D$4)) | F37: =IF($A37="","",SUMIFS(OFFSET(Saisie!$D$7,0,ROW()-9) : OFFSET(Saisie!$D$5000,0,ROW()-9), Saisie!$D$7:'Saisie'!$D$5000, INDIRECT("Saisie!$D$"& COLUMN()+6), Saisie!$A$7:'Saisie'!$A$5000,">="&$B$4,Saisie!$A$7:'Saisie'!$A$5000,"<="&$D$4)) | G37: =IF($A37="","",SUMIFS(OFFSET(Saisie!$D$7,0,ROW()-9) : OFFSET(Saisie!$D$5000,0,ROW()-9), Saisie!$D$7:'Saisie'!$D$5000, INDIRECT("Saisie!$D$"& COLUMN()+6), Saisie!$A$7:'Saisie'!$A$5000,">="&$B$4,Saisie!$A$7:'Saisie'!$A$5000,"<="&$D$4)) | H37: =IF($A37="","",SUMIFS(OFFSET(Saisie!$D$7,0,ROW()-9) : OFFSET(Saisie!$D$5000,0,ROW()-9), Saisie!$D$7:'Saisie'!$D$5000, INDIRECT("Saisie!$D$"& COLUMN()+6), Saisie!$A$7:'Saisie'!$A$5000,">="&$B$4,Saisie!$A$7:'Saisie'!$A$5000,"<="&$D$4)) | I37: =IF($A37="","",SUMIFS(OFFSET(Saisie!$D$7,0,ROW()-9) : OFFSET(Saisie!$D$5000,0,ROW()-9), Saisie!$D$7:'Saisie'!$D$5000, INDIRECT("Saisie!$D$"& COLUMN()+6), Saisie!$A$7:'Saisie'!$A$5000,">="&$B$4,Saisie!$A$7:'Saisie'!$A$5000,"<="&$D$4)) | ... O37: =IF($A37="","",SUMIFS(OFFSET(Saisie!$D$7,0,ROW()-9) : OFFSET(Saisie!$D$5000,0,ROW()-9), Saisie!$D$7:'Saisie'!$D$5000, INDIRECT("Saisie!$D$"& COLUMN()+6), Saisie!$A$7:'Saisie'!$A$5000,">="&$B$4,Saisie!$A$7:'Saisie'!$A$5000,"<="&$D$4))
A38: =IF(ISBLANK(OFFSET(Saisie!$D$6,0,ROW()-9)),"",OFFSET(Saisie!$D$6,0,ROW()-9)) | B38: =IF($A38="","",SUMIFS(OFFSET(Saisie!$D$7,0,ROW()-9) : OFFSET(Saisie!$D$5000,0,ROW()-9), Saisie!$D$7:'Saisie'!$D$5000, INDIRECT("Saisie!$D$"& COLUMN()+6), Saisie!$A$7:'Saisie'!$A$5000,">="&$B$4,Saisie!$A$7:'Saisie'!$A$5000,"<="&$D$4)) | C38: =IF($A38="","",SUMIFS(OFFSET(Saisie!$D$7,0,ROW()-9) : OFFSET(Saisie!$D$5000,0,ROW()-9), Saisie!$D$7:'Saisie'!$D$5000, INDIRECT("Saisie!$D$"& COLUMN()+6), Saisie!$A$7:'Saisie'!$A$5000,">="&$B$4,Saisie!$A$7:'Saisie'!$A$5000,"<="&$D$4)) | D38: =IF($A38="","",SUMIFS(OFFSET(Saisie!$D$7,0,ROW()-9) : OFFSET(Saisie!$D$5000,0,ROW()-9), Saisie!$D$7:'Saisie'!$D$5000, INDIRECT("Saisie!$D$"& COLUMN()+6), Saisie!$A$7:'Saisie'!$A$5000,">="&$B$4,Saisie!$A$7:'Saisie'!$A$5000,"<="&$D$4)) | E38: =IF($A38="","",SUMIFS(OFFSET(Saisie!$D$7,0,ROW()-9) : OFFSET(Saisie!$D$5000,0,ROW()-9), Saisie!$D$7:'Saisie'!$D$5000, INDIRECT("Saisie!$D$"& COLUMN()+6), Saisie!$A$7:'Saisie'!$A$5000,">="&$B$4,Saisie!$A$7:'Saisie'!$A$5000,"<="&$D$4)) | F38: =IF($A38="","",SUMIFS(OFFSET(Saisie!$D$7,0,ROW()-9) : OFFSET(Saisie!$D$5000,0,ROW()-9), Saisie!$D$7:'Saisie'!$D$5000, INDIRECT("Saisie!$D$"& COLUMN()+6), Saisie!$A$7:'Saisie'!$A$5000,">="&$B$4,Saisie!$A$7:'Saisie'!$A$5000,"<="&$D$4)) | G38: =IF($A38="","",SUMIFS(OFFSET(Saisie!$D$7,0,ROW()-9) : OFFSET(Saisie!$D$5000,0,ROW()-9), Saisie!$D$7:'Saisie'!$D$5000, INDIRECT("Saisie!$D$"& COLUMN()+6), Saisie!$A$7:'Saisie'!$A$5000,">="&$B$4,Saisie!$A$7:'Saisie'!$A$5000,"<="&$D$4)) | H38: =IF($A38="","",SUMIFS(OFFSET(Saisie!$D$7,0,ROW()-9) : OFFSET(Saisie!$D$5000,0,ROW()-9), Saisie!$D$7:'Saisie'!$D$5000, INDIRECT("Saisie!$D$"& COLUMN()+6), Saisie!$A$7:'Saisie'!$A$5000,">="&$B$4,Saisie!$A$7:'Saisie'!$A$5000,"<="&$D$4)) | I38: =IF($A38="","",SUMIFS(OFFSET(Saisie!$D$7,0,ROW()-9) : OFFSET(Saisie!$D$5000,0,ROW()-9), Saisie!$D$7:'Saisie'!$D$5000, INDIRECT("Saisie!$D$"& COLUMN()+6), Saisie!$A$7:'Saisie'!$A$5000,">="&$B$4,Saisie!$A$7:'Saisie'!$A$5000,"<="&$D$4)) | ... O38: =IF($A38="","",SUMIFS(OFFSET(Saisie!$D$7,0,ROW()-9) : OFFSET(Saisie!$D$5000,0,ROW()-9), Saisie!$D$7:'Saisie'!$D$5000, INDIRECT("Saisie!$D$"& COLUMN()+6), Saisie!$A$7:'Saisie'!$A$5000,">="&$B$4,Saisie!$A$7:'Saisie'!$A$5000,"<="&$D$4))
A39: =IF(ISBLANK(OFFSET(Saisie!$D$6,0,ROW()-9)),"",OFFSET(Saisie!$D$6,0,ROW()-9)) | B39: =IF($A39="","",SUMIFS(OFFSET(Saisie!$D$7,0,ROW()-9) : OFFSET(Saisie!$D$5000,0,ROW()-9), Saisie!$D$7:'Saisie'!$D$5000, INDIRECT("Saisie!$D$"& COLUMN()+6), Saisie!$A$7:'Saisie'!$A$5000,">="&$B$4,Saisie!$A$7:'Saisie'!$A$5000,"<="&$D$4)) | C39: =IF($A39="","",SUMIFS(OFFSET(Saisie!$D$7,0,ROW()-9) : OFFSET(Saisie!$D$5000,0,ROW()-9), Saisie!$D$7:'Saisie'!$D$5000, INDIRECT("Saisie!$D$"& COLUMN()+6), Saisie!$A$7:'Saisie'!$A$5000,">="&$B$4,Saisie!$A$7:'Saisie'!$A$5000,"<="&$D$4)) | D39: =IF($A39="","",SUMIFS(OFFSET(Saisie!$D$7,0,ROW()-9) : OFFSET(Saisie!$D$5000,0,ROW()-9), Saisie!$D$7:'Saisie'!$D$5000, INDIRECT("Saisie!$D$"& COLUMN()+6), Saisie!$A$7:'Saisie'!$A$5000,">="&$B$4,Saisie!$A$7:'Saisie'!$A$5000,"<="&$D$4)) | E39: =IF($A39="","",SUMIFS(OFFSET(Saisie!$D$7,0,ROW()-9) : OFFSET(Saisie!$D$5000,0,ROW()-9), Saisie!$D$7:'Saisie'!$D$5000, INDIRECT("Saisie!$D$"& COLUMN()+6), Saisie!$A$7:'Saisie'!$A$5000,">="&$B$4,Saisie!$A$7:'Saisie'!$A$5000,"<="&$D$4)) | F39: =IF($A39="","",SUMIFS(OFFSET(Saisie!$D$7,0,ROW()-9) : OFFSET(Saisie!$D$5000,0,ROW()-9), Saisie!$D$7:'Saisie'!$D$5000, INDIRECT("Saisie!$D$"& COLUMN()+6), Saisie!$A$7:'Saisie'!$A$5000,">="&$B$4,Saisie!$A$7:'Saisie'!$A$5000,"<="&$D$4)) | G39: =IF($A39="","",SUMIFS(OFFSET(Saisie!$D$7,0,ROW()-9) : OFFSET(Saisie!$D$5000,0,ROW()-9), Saisie!$D$7:'Saisie'!$D$5000, INDIRECT("Saisie!$D$"& COLUMN()+6), Saisie!$A$7:'Saisie'!$A$5000,">="&$B$4,Saisie!$A$7:'Saisie'!$A$5000,"<="&$D$4)) | H39: =IF($A39="","",SUMIFS(OFFSET(Saisie!$D$7,0,ROW()-9) : OFFSET(Saisie!$D$5000,0,ROW()-9), Saisie!$D$7:'Saisie'!$D$5000, INDIRECT("Saisie!$D$"& COLUMN()+6), Saisie!$A$7:'Saisie'!$A$5000,">="&$B$4,Saisie!$A$7:'Saisie'!$A$5000,"<="&$D$4)) | I39: =IF($A39="","",SUMIFS(OFFSET(Saisie!$D$7,0,ROW()-9) : OFFSET(Saisie!$D$5000,0,ROW()-9), Saisie!$D$7:'Saisie'!$D$5000, INDIRECT("Saisie!$D$"& COLUMN()+6), Saisie!$A$7:'Saisie'!$A$5000,">="&$B$4,Saisie!$A$7:'Saisie'!$A$5000,"<="&$D$4)) | ... O39: =IF($A39="","",SUMIFS(OFFSET(Saisie!$D$7,0,ROW()-9) : OFFSET(Saisie!$D$5000,0,ROW()-9), Saisie!$D$7:'Saisie'!$D$5000, INDIRECT("Saisie!$D$"& COLUMN()+6), Saisie!$A$7:'Saisie'!$A$5000,">="&$B$4,Saisie!$A$7:'Saisie'!$A$5000,"<="&$D$4))
A40: =IF(ISBLANK(OFFSET(Saisie!$D$6,0,ROW()-9)),"",OFFSET(Saisie!$D$6,0,ROW()-9)) | B40: =IF($A40="","",SUMIFS(OFFSET(Saisie!$D$7,0,ROW()-9) : OFFSET(Saisie!$D$5000,0,ROW()-9), Saisie!$D$7:'Saisie'!$D$5000, INDIRECT("Saisie!$D$"& COLUMN()+6), Saisie!$A$7:'Saisie'!$A$5000,">="&$B$4,Saisie!$A$7:'Saisie'!$A$5000,"<="&$D$4)) | C40: =IF($A40="","",SUMIFS(OFFSET(Saisie!$D$7,0,ROW()-9) : OFFSET(Saisie!$D$5000,0,ROW()-9), Saisie!$D$7:'Saisie'!$D$5000, INDIRECT("Saisie!$D$"& COLUMN()+6), Saisie!$A$7:'Saisie'!$A$5000,">="&$B$4,Saisie!$A$7:'Saisie'!$A$5000,"<="&$D$4)) | D40: =IF($A40="","",SUMIFS(OFFSET(Saisie!$D$7,0,ROW()-9) : OFFSET(Saisie!$D$5000,0,ROW()-9), Saisie!$D$7:'Saisie'!$D$5000, INDIRECT("Saisie!$D$"& COLUMN()+6), Saisie!$A$7:'Saisie'!$A$5000,">="&$B$4,Saisie!$A$7:'Saisie'!$A$5000,"<="&$D$4)) | E40: =IF($A40="","",SUMIFS(OFFSET(Saisie!$D$7,0,ROW()-9) : OFFSET(Saisie!$D$5000,0,ROW()-9), Saisie!$D$7:'Saisie'!$D$5000, INDIRECT("Saisie!$D$"& COLUMN()+6), Saisie!$A$7:'Saisie'!$A$5000,">="&$B$4,Saisie!$A$7:'Saisie'!$A$5000,"<="&$D$4)) | F40: =IF($A40="","",SUMIFS(OFFSET(Saisie!$D$7,0,ROW()-9) : OFFSET(Saisie!$D$5000,0,ROW()-9), Saisie!$D$7:'Saisie'!$D$5000, INDIRECT("Saisie!$D$"& COLUMN()+6), Saisie!$A$7:'Saisie'!$A$5000,">="&$B$4,Saisie!$A$7:'Saisie'!$A$5000,"<="&$D$4)) | G40: =IF($A40="","",SUMIFS(OFFSET(Saisie!$D$7,0,ROW()-9) : OFFSET(Saisie!$D$5000,0,ROW()-9), Saisie!$D$7:'Saisie'!$D$5000, INDIRECT("Saisie!$D$"& COLUMN()+6), Saisie!$A$7:'Saisie'!$A$5000,">="&$B$4,Saisie!$A$7:'Saisie'!$A$5000,"<="&$D$4)) | H40: =IF($A40="","",SUMIFS(OFFSET(Saisie!$D$7,0,ROW()-9) : OFFSET(Saisie!$D$5000,0,ROW()-9), Saisie!$D$7:'Saisie'!$D$5000, INDIRECT("Saisie!$D$"& COLUMN()+6), Saisie!$A$7:'Saisie'!$A$5000,">="&$B$4,Saisie!$A$7:'Saisie'!$A$5000,"<="&$D$4)) | I40: =IF($A40="","",SUMIFS(OFFSET(Saisie!$D$7,0,ROW()-9) : OFFSET(Saisie!$D$5000,0,ROW()-9), Saisie!$D$7:'Saisie'!$D$5000, INDIRECT("Saisie!$D$"& COLUMN()+6), Saisie!$A$7:'Saisie'!$A$5000,">="&$B$4,Saisie!$A$7:'Saisie'!$A$5000,"<="&$D$4)) | ... O40: =IF($A40="","",SUMIFS(OFFSET(Saisie!$D$7,0,ROW()-9) : OFFSET(Saisie!$D$5000,0,ROW()-9), Saisie!$D$7:'Saisie'!$D$5000, INDIRECT("Saisie!$D$"& COLUMN()+6), Saisie!$A$7:'Saisie'!$A$5000,">="&$B$4,Saisie!$A$7:'Saisie'!$A$5000,"<="&$D$4))
A41: =IF(ISBLANK(OFFSET(Saisie!$D$6,0,ROW()-9)),"",OFFSET(Saisie!$D$6,0,ROW()-9)) | B41: =IF($A41="","",SUMIFS(OFFSET(Saisie!$D$7,0,ROW()-9) : OFFSET(Saisie!$D$5000,0,ROW()-9), Saisie!$D$7:'Saisie'!$D$5000, INDIRECT("Saisie!$D$"& COLUMN()+6), Saisie!$A$7:'Saisie'!$A$5000,">="&$B$4,Saisie!$A$7:'Saisie'!$A$5000,"<="&$D$4)) | C41: =IF($A41="","",SUMIFS(OFFSET(Saisie!$D$7,0,ROW()-9) : OFFSET(Saisie!$D$5000,0,ROW()-9), Saisie!$D$7:'Saisie'!$D$5000, INDIRECT("Saisie!$D$"& COLUMN()+6), Saisie!$A$7:'Saisie'!$A$5000,">="&$B$4,Saisie!$A$7:'Saisie'!$A$5000,"<="&$D$4)) | D41: =IF($A41="","",SUMIFS(OFFSET(Saisie!$D$7,0,ROW()-9) : OFFSET(Saisie!$D$5000,0,ROW()-9), Saisie!$D$7:'Saisie'!$D$5000, INDIRECT("Saisie!$D$"& COLUMN()+6), Saisie!$A$7:'Saisie'!$A$5000,">="&$B$4,Saisie!$A$7:'Saisie'!$A$5000,"<="&$D$4)) | E41: =IF($A41="","",SUMIFS(OFFSET(Saisie!$D$7,0,ROW()-9) : OFFSET(Saisie!$D$5000,0,ROW()-9), Saisie!$D$7:'Saisie'!$D$5000, INDIRECT("Saisie!$D$"& COLUMN()+6), Saisie!$A$7:'Saisie'!$A$5000,">="&$B$4,Saisie!$A$7:'Saisie'!$A$5000,"<="&$D$4)) | F41: =IF($A41="","",SUMIFS(OFFSET(Saisie!$D$7,0,ROW()-9) : OFFSET(Saisie!$D$5000,0,ROW()-9), Saisie!$D$7:'Saisie'!$D$5000, INDIRECT("Saisie!$D$"& COLUMN()+6), Saisie!$A$7:'Saisie'!$A$5000,">="&$B$4,Saisie!$A$7:'Saisie'!$A$5000,"<="&$D$4)) | G41: =IF($A41="","",SUMIFS(OFFSET(Saisie!$D$7,0,ROW()-9) : OFFSET(Saisie!$D$5000,0,ROW()-9), Saisie!$D$7:'Saisie'!$D$5000, INDIRECT("Saisie!$D$"& COLUMN()+6), Saisie!$A$7:'Saisie'!$A$5000,">="&$B$4,Saisie!$A$7:'Saisie'!$A$5000,"<="&$D$4)) | H41: =IF($A41="","",SUMIFS(OFFSET(Saisie!$D$7,0,ROW()-9) : OFFSET(Saisie!$D$5000,0,ROW()-9), Saisie!$D$7:'Saisie'!$D$5000, INDIRECT("Saisie!$D$"& COLUMN()+6), Saisie!$A$7:'Saisie'!$A$5000,">="&$B$4,Saisie!$A$7:'Saisie'!$A$5000,"<="&$D$4)) | I41: =IF($A41="","",SUMIFS(OFFSET(Saisie!$D$7,0,ROW()-9) : OFFSET(Saisie!$D$5000,0,ROW()-9), Saisie!$D$7:'Saisie'!$D$5000, INDIRECT("Saisie!$D$"& COLUMN()+6), Saisie!$A$7:'Saisie'!$A$5000,">="&$B$4,Saisie!$A$7:'Saisie'!$A$5000,"<="&$D$4)) | ... O41: =IF($A41="","",SUMIFS(OFFSET(Saisie!$D$7,0,ROW()-9) : OFFSET(Saisie!$D$5000,0,ROW()-9), Saisie!$D$7:'Saisie'!$D$5000, INDIRECT("Saisie!$D$"& COLUMN()+6), Saisie!$A$7:'Saisie'!$A$5000,">="&$B$4,Saisie!$A$7:'Saisie'!$A$5000,"<="&$D$4))
A42: =IF(ISBLANK(OFFSET(Saisie!$D$6,0,ROW()-9)),"",OFFSET(Saisie!$D$6,0,ROW()-9)) | B42: =IF($A42="","",SUMIFS(OFFSET(Saisie!$D$7,0,ROW()-9) : OFFSET(Saisie!$D$5000,0,ROW()-9), Saisie!$D$7:'Saisie'!$D$5000, INDIRECT("Saisie!$D$"& COLUMN()+6), Saisie!$A$7:'Saisie'!$A$5000,">="&$B$4,Saisie!$A$7:'Saisie'!$A$5000,"<="&$D$4)) | C42: =IF($A42="","",SUMIFS(OFFSET(Saisie!$D$7,0,ROW()-9) : OFFSET(Saisie!$D$5000,0,ROW()-9), Saisie!$D$7:'Saisie'!$D$5000, INDIRECT("Saisie!$D$"& COLUMN()+6), Saisie!$A$7:'Saisie'!$A$5000,">="&$B$4,Saisie!$A$7:'Saisie'!$A$5000,"<="&$D$4)) | D42: =IF($A42="","",SUMIFS(OFFSET(Saisie!$D$7,0,ROW()-9) : OFFSET(Saisie!$D$5000,0,ROW()-9), Saisie!$D$7:'Saisie'!$D$5000, INDIRECT("Saisie!$D$"& COLUMN()+6), Saisie!$A$7:'Saisie'!$A$5000,">="&$B$4,Saisie!$A$7:'Saisie'!$A$5000,"<="&$D$4)) | E42: =IF($A42="","",SUMIFS(OFFSET(Saisie!$D$7,0,ROW()-9) : OFFSET(Saisie!$D$5000,0,ROW()-9), Saisie!$D$7:'Saisie'!$D$5000, INDIRECT("Saisie!$D$"& COLUMN()+6), Saisie!$A$7:'Saisie'!$A$5000,">="&$B$4,Saisie!$A$7:'Saisie'!$A$5000,"<="&$D$4)) | F42: =IF($A42="","",SUMIFS(OFFSET(Saisie!$D$7,0,ROW()-9) : OFFSET(Saisie!$D$5000,0,ROW()-9), Saisie!$D$7:'Saisie'!$D$5000, INDIRECT("Saisie!$D$"& COLUMN()+6), Saisie!$A$7:'Saisie'!$A$5000,">="&$B$4,Saisie!$A$7:'Saisie'!$A$5000,"<="&$D$4)) | G42: =IF($A42="","",SUMIFS(OFFSET(Saisie!$D$7,0,ROW()-9) : OFFSET(Saisie!$D$5000,0,ROW()-9), Saisie!$D$7:'Saisie'!$D$5000, INDIRECT("Saisie!$D$"& COLUMN()+6), Saisie!$A$7:'Saisie'!$A$5000,">="&$B$4,Saisie!$A$7:'Saisie'!$A$5000,"<="&$D$4)) | H42: =IF($A42="","",SUMIFS(OFFSET(Saisie!$D$7,0,ROW()-9) : OFFSET(Saisie!$D$5000,0,ROW()-9), Saisie!$D$7:'Saisie'!$D$5000, INDIRECT("Saisie!$D$"& COLUMN()+6), Saisie!$A$7:'Saisie'!$A$5000,">="&$B$4,Saisie!$A$7:'Saisie'!$A$5000,"<="&$D$4)) | I42: =IF($A42="","",SUMIFS(OFFSET(Saisie!$D$7,0,ROW()-9) : OFFSET(Saisie!$D$5000,0,ROW()-9), Saisie!$D$7:'Saisie'!$D$5000, INDIRECT("Saisie!$D$"& COLUMN()+6), Saisie!$A$7:'Saisie'!$A$5000,">="&$B$4,Saisie!$A$7:'Saisie'!$A$5000,"<="&$D$4)) | ... O42: =IF($A42="","",SUMIFS(OFFSET(Saisie!$D$7,0,ROW()-9) : OFFSET(Saisie!$D$5000,0,ROW()-9), Saisie!$D$7:'Saisie'!$D$5000, INDIRECT("Saisie!$D$"& COLUMN()+6), Saisie!$A$7:'Saisie'!$A$5000,">="&$B$4,Saisie!$A$7:'Saisie'!$A$5000,"<="&$D$4))
A43: =IF(ISBLANK(OFFSET(Saisie!$D$6,0,ROW()-9)),"",OFFSET(Saisie!$D$6,0,ROW()-9)) | B43: =IF($A43="","",SUMIFS(OFFSET(Saisie!$D$7,0,ROW()-9) : OFFSET(Saisie!$D$5000,0,ROW()-9), Saisie!$D$7:'Saisie'!$D$5000, INDIRECT("Saisie!$D$"& COLUMN()+6), Saisie!$A$7:'Saisie'!$A$5000,">="&$B$4,Saisie!$A$7:'Saisie'!$A$5000,"<="&$D$4)) | C43: =IF($A43="","",SUMIFS(OFFSET(Saisie!$D$7,0,ROW()-9) : OFFSET(Saisie!$D$5000,0,ROW()-9), Saisie!$D$7:'Saisie'!$D$5000, INDIRECT("Saisie!$D$"& COLUMN()+6), Saisie!$A$7:'Saisie'!$A$5000,">="&$B$4,Saisie!$A$7:'Saisie'!$A$5000,"<="&$D$4)) | D43: =IF($A43="","",SUMIFS(OFFSET(Saisie!$D$7,0,ROW()-9) : OFFSET(Saisie!$D$5000,0,ROW()-9), Saisie!$D$7:'Saisie'!$D$5000, INDIRECT("Saisie!$D$"& COLUMN()+6), Saisie!$A$7:'Saisie'!$A$5000,">="&$B$4,Saisie!$A$7:'Saisie'!$A$5000,"<="&$D$4)) | E43: =IF($A43="","",SUMIFS(OFFSET(Saisie!$D$7,0,ROW()-9) : OFFSET(Saisie!$D$5000,0,ROW()-9), Saisie!$D$7:'Saisie'!$D$5000, INDIRECT("Saisie!$D$"& COLUMN()+6), Saisie!$A$7:'Saisie'!$A$5000,">="&$B$4,Saisie!$A$7:'Saisie'!$A$5000,"<="&$D$4)) | F43: =IF($A43="","",SUMIFS(OFFSET(Saisie!$D$7,0,ROW()-9) : OFFSET(Saisie!$D$5000,0,ROW()-9), Saisie!$D$7:'Saisie'!$D$5000, INDIRECT("Saisie!$D$"& COLUMN()+6), Saisie!$A$7:'Saisie'!$A$5000,">="&$B$4,Saisie!$A$7:'Saisie'!$A$5000,"<="&$D$4)) | G43: =IF($A43="","",SUMIFS(OFFSET(Saisie!$D$7,0,ROW()-9) : OFFSET(Saisie!$D$5000,0,ROW()-9), Saisie!$D$7:'Saisie'!$D$5000, INDIRECT("Saisie!$D$"& COLUMN()+6), Saisie!$A$7:'Saisie'!$A$5000,">="&$B$4,Saisie!$A$7:'Saisie'!$A$5000,"<="&$D$4)) | H43: =IF($A43="","",SUMIFS(OFFSET(Saisie!$D$7,0,ROW()-9) : OFFSET(Saisie!$D$5000,0,ROW()-9), Saisie!$D$7:'Saisie'!$D$5000, INDIRECT("Saisie!$D$"& COLUMN()+6), Saisie!$A$7:'Saisie'!$A$5000,">="&$B$4,Saisie!$A$7:'Saisie'!$A$5000,"<="&$D$4)) | I43: =IF($A43="","",SUMIFS(OFFSET(Saisie!$D$7,0,ROW()-9) : OFFSET(Saisie!$D$5000,0,ROW()-9), Saisie!$D$7:'Saisie'!$D$5000, INDIRECT("Saisie!$D$"& COLUMN()+6), Saisie!$A$7:'Saisie'!$A$5000,">="&$B$4,Saisie!$A$7:'Saisie'!$A$5000,"<="&$D$4)) | ... O43: =IF($A43="","",SUMIFS(OFFSET(Saisie!$D$7,0,ROW()-9) : OFFSET(Saisie!$D$5000,0,ROW()-9), Saisie!$D$7:'Saisie'!$D$5000, INDIRECT("Saisie!$D$"& COLUMN()+6), Saisie!$A$7:'Saisie'!$A$5000,">="&$B$4,Saisie!$A$7:'Saisie'!$A$5000,"<="&$D$4))
A44: =IF(ISBLANK(OFFSET(Saisie!$D$6,0,ROW()-9)),"",OFFSET(Saisie!$D$6,0,ROW()-9)) | B44: =IF($A44="","",SUMIFS(OFFSET(Saisie!$D$7,0,ROW()-9) : OFFSET(Saisie!$D$5000,0,ROW()-9), Saisie!$D$7:'Saisie'!$D$5000, INDIRECT("Saisie!$D$"& COLUMN()+6), Saisie!$A$7:'Saisie'!$A$5000,">="&$B$4,Saisie!$A$7:'Saisie'!$A$5000,"<="&$D$4)) | C44: =IF($A44="","",SUMIFS(OFFSET(Saisie!$D$7,0,ROW()-9) : OFFSET(Saisie!$D$5000,0,ROW()-9), Saisie!$D$7:'Saisie'!$D$5000, INDIRECT("Saisie!$D$"& COLUMN()+6), Saisie!$A$7:'Saisie'!$A$5000,">="&$B$4,Saisie!$A$7:'Saisie'!$A$5000,"<="&$D$4)) | D44: =IF($A44="","",SUMIFS(OFFSET(Saisie!$D$7,0,ROW()-9) : OFFSET(Saisie!$D$5000,0,ROW()-9), Saisie!$D$7:'Saisie'!$D$5000, INDIRECT("Saisie!$D$"& COLUMN()+6), Saisie!$A$7:'Saisie'!$A$5000,">="&$B$4,Saisie!$A$7:'Saisie'!$A$5000,"<="&$D$4)) | E44: =IF($A44="","",SUMIFS(OFFSET(Saisie!$D$7,0,ROW()-9) : OFFSET(Saisie!$D$5000,0,ROW()-9), Saisie!$D$7:'Saisie'!$D$5000, INDIRECT("Saisie!$D$"& COLUMN()+6), Saisie!$A$7:'Saisie'!$A$5000,">="&$B$4,Saisie!$A$7:'Saisie'!$A$5000,"<="&$D$4)) | F44: =IF($A44="","",SUMIFS(OFFSET(Saisie!$D$7,0,ROW()-9) : OFFSET(Saisie!$D$5000,0,ROW()-9), Saisie!$D$7:'Saisie'!$D$5000, INDIRECT("Saisie!$D$"& COLUMN()+6), Saisie!$A$7:'Saisie'!$A$5000,">="&$B$4,Saisie!$A$7:'Saisie'!$A$5000,"<="&$D$4)) | G44: =IF($A44="","",SUMIFS(OFFSET(Saisie!$D$7,0,ROW()-9) : OFFSET(Saisie!$D$5000,0,ROW()-9), Saisie!$D$7:'Saisie'!$D$5000, INDIRECT("Saisie!$D$"& COLUMN()+6), Saisie!$A$7:'Saisie'!$A$5000,">="&$B$4,Saisie!$A$7:'Saisie'!$A$5000,"<="&$D$4)) | H44: =IF($A44="","",SUMIFS(OFFSET(Saisie!$D$7,0,ROW()-9) : OFFSET(Saisie!$D$5000,0,ROW()-9), Saisie!$D$7:'Saisie'!$D$5000, INDIRECT("Saisie!$D$"& COLUMN()+6), Saisie!$A$7:'Saisie'!$A$5000,">="&$B$4,Saisie!$A$7:'Saisie'!$A$5000,"<="&$D$4)) | I44: =IF($A44="","",SUMIFS(OFFSET(Saisie!$D$7,0,ROW()-9) : OFFSET(Saisie!$D$5000,0,ROW()-9), Saisie!$D$7:'Saisie'!$D$5000, INDIRECT("Saisie!$D$"& COLUMN()+6), Saisie!$A$7:'Saisie'!$A$5000,">="&$B$4,Saisie!$A$7:'Saisie'!$A$5000,"<="&$D$4)) | ... O44: =IF($A44="","",SUMIFS(OFFSET(Saisie!$D$7,0,ROW()-9) : OFFSET(Saisie!$D$5000,0,ROW()-9), Saisie!$D$7:'Saisie'!$D$5000, INDIRECT("Saisie!$D$"& COLUMN()+6), Saisie!$A$7:'Saisie'!$A$5000,">="&$B$4,Saisie!$A$7:'Saisie'!$A$5000,"<="&$D$4))
A45: =IF(ISBLANK(OFFSET(Saisie!$D$6,0,ROW()-9)),"",OFFSET(Saisie!$D$6,0,ROW()-9)) | B45: =IF($A45="","",SUMIFS(OFFSET(Saisie!$D$7,0,ROW()-9) : OFFSET(Saisie!$D$5000,0,ROW()-9), Saisie!$D$7:'Saisie'!$D$5000, INDIRECT("Saisie!$D$"& COLUMN()+6), Saisie!$A$7:'Saisie'!$A$5000,">="&$B$4,Saisie!$A$7:'Saisie'!$A$5000,"<="&$D$4)) | C45: =IF($A45="","",SUMIFS(OFFSET(Saisie!$D$7,0,ROW()-9) : OFFSET(Saisie!$D$5000,0,ROW()-9), Saisie!$D$7:'Saisie'!$D$5000, INDIRECT("Saisie!$D$"& COLUMN()+6), Saisie!$A$7:'Saisie'!$A$5000,">="&$B$4,Saisie!$A$7:'Saisie'!$A$5000,"<="&$D$4)) | D45: =IF($A45="","",SUMIFS(OFFSET(Saisie!$D$7,0,ROW()-9) : OFFSET(Saisie!$D$5000,0,ROW()-9), Saisie!$D$7:'Saisie'!$D$5000, INDIRECT("Saisie!$D$"& COLUMN()+6), Saisie!$A$7:'Saisie'!$A$5000,">="&$B$4,Saisie!$A$7:'Saisie'!$A$5000,"<="&$D$4)) | E45: =IF($A45="","",SUMIFS(OFFSET(Saisie!$D$7,0,ROW()-9) : OFFSET(Saisie!$D$5000,0,ROW()-9), Saisie!$D$7:'Saisie'!$D$5000, INDIRECT("Saisie!$D$"& COLUMN()+6), Saisie!$A$7:'Saisie'!$A$5000,">="&$B$4,Saisie!$A$7:'Saisie'!$A$5000,"<="&$D$4)) | F45: =IF($A45="","",SUMIFS(OFFSET(Saisie!$D$7,0,ROW()-9) : OFFSET(Saisie!$D$5000,0,ROW()-9), Saisie!$D$7:'Saisie'!$D$5000, INDIRECT("Saisie!$D$"& COLUMN()+6), Saisie!$A$7:'Saisie'!$A$5000,">="&$B$4,Saisie!$A$7:'Saisie'!$A$5000,"<="&$D$4)) | G45: =IF($A45="","",SUMIFS(OFFSET(Saisie!$D$7,0,ROW()-9) : OFFSET(Saisie!$D$5000,0,ROW()-9), Saisie!$D$7:'Saisie'!$D$5000, INDIRECT("Saisie!$D$"& COLUMN()+6), Saisie!$A$7:'Saisie'!$A$5000,">="&$B$4,Saisie!$A$7:'Saisie'!$A$5000,"<="&$D$4)) | H45: =IF($A45="","",SUMIFS(OFFSET(Saisie!$D$7,0,ROW()-9) : OFFSET(Saisie!$D$5000,0,ROW()-9), Saisie!$D$7:'Saisie'!$D$5000, INDIRECT("Saisie!$D$"& COLUMN()+6), Saisie!$A$7:'Saisie'!$A$5000,">="&$B$4,Saisie!$A$7:'Saisie'!$A$5000,"<="&$D$4)) | I45: =IF($A45="","",SUMIFS(OFFSET(Saisie!$D$7,0,ROW()-9) : OFFSET(Saisie!$D$5000,0,ROW()-9), Saisie!$D$7:'Saisie'!$D$5000, INDIRECT("Saisie!$D$"& COLUMN()+6), Saisie!$A$7:'Saisie'!$A$5000,">="&$B$4,Saisie!$A$7:'Saisie'!$A$5000,"<="&$D$4)) | ... O45: =IF($A45="","",SUMIFS(OFFSET(Saisie!$D$7,0,ROW()-9) : OFFSET(Saisie!$D$5000,0,ROW()-9), Saisie!$D$7:'Saisie'!$D$5000, INDIRECT("Saisie!$D$"& COLUMN()+6), Saisie!$A$7:'Saisie'!$A$5000,">="&$B$4,Saisie!$A$7:'Saisie'!$A$5000,"<="&$D$4))
A46: =IF(ISBLANK(OFFSET(Saisie!$D$6,0,ROW()-9)),"",OFFSET(Saisie!$D$6,0,ROW()-9)) | B46: =IF($A46="","",SUMIFS(OFFSET(Saisie!$D$7,0,ROW()-9) : OFFSET(Saisie!$D$5000,0,ROW()-9), Saisie!$D$7:'Saisie'!$D$5000, INDIRECT("Saisie!$D$"& COLUMN()+6), Saisie!$A$7:'Saisie'!$A$5000,">="&$B$4,Saisie!$A$7:'Saisie'!$A$5000,"<="&$D$4)) | C46: =IF($A46="","",SUMIFS(OFFSET(Saisie!$D$7,0,ROW()-9) : OFFSET(Saisie!$D$5000,0,ROW()-9), Saisie!$D$7:'Saisie'!$D$5000, INDIRECT("Saisie!$D$"& COLUMN()+6), Saisie!$A$7:'Saisie'!$A$5000,">="&$B$4,Saisie!$A$7:'Saisie'!$A$5000,"<="&$D$4)) | D46: =IF($A46="","",SUMIFS(OFFSET(Saisie!$D$7,0,ROW()-9) : OFFSET(Saisie!$D$5000,0,ROW()-9), Saisie!$D$7:'Saisie'!$D$5000, INDIRECT("Saisie!$D$"& COLUMN()+6), Saisie!$A$7:'Saisie'!$A$5000,">="&$B$4,Saisie!$A$7:'Saisie'!$A$5000,"<="&$D$4)) | E46: =IF($A46="","",SUMIFS(OFFSET(Saisie!$D$7,0,ROW()-9) : OFFSET(Saisie!$D$5000,0,ROW()-9), Saisie!$D$7:'Saisie'!$D$5000, INDIRECT("Saisie!$D$"& COLUMN()+6), Saisie!$A$7:'Saisie'!$A$5000,">="&$B$4,Saisie!$A$7:'Saisie'!$A$5000,"<="&$D$4)) | F46: =IF($A46="","",SUMIFS(OFFSET(Saisie!$D$7,0,ROW()-9) : OFFSET(Saisie!$D$5000,0,ROW()-9), Saisie!$D$7:'Saisie'!$D$5000, INDIRECT("Saisie!$D$"& COLUMN()+6), Saisie!$A$7:'Saisie'!$A$5000,">="&$B$4,Saisie!$A$7:'Saisie'!$A$5000,"<="&$D$4)) | G46: =IF($A46="","",SUMIFS(OFFSET(Saisie!$D$7,0,ROW()-9) : OFFSET(Saisie!$D$5000,0,ROW()-9), Saisie!$D$7:'Saisie'!$D$5000, INDIRECT("Saisie!$D$"& COLUMN()+6), Saisie!$A$7:'Saisie'!$A$5000,">="&$B$4,Saisie!$A$7:'Saisie'!$A$5000,"<="&$D$4)) | H46: =IF($A46="","",SUMIFS(OFFSET(Saisie!$D$7,0,ROW()-9) : OFFSET(Saisie!$D$5000,0,ROW()-9), Saisie!$D$7:'Saisie'!$D$5000, INDIRECT("Saisie!$D$"& COLUMN()+6), Saisie!$A$7:'Saisie'!$A$5000,">="&$B$4,Saisie!$A$7:'Saisie'!$A$5000,"<="&$D$4)) | I46: =IF($A46="","",SUMIFS(OFFSET(Saisie!$D$7,0,ROW()-9) : OFFSET(Saisie!$D$5000,0,ROW()-9), Saisie!$D$7:'Saisie'!$D$5000, INDIRECT("Saisie!$D$"& COLUMN()+6), Saisie!$A$7:'Saisie'!$A$5000,">="&$B$4,Saisie!$A$7:'Saisie'!$A$5000,"<="&$D$4)) | ... O46: =IF($A46="","",SUMIFS(OFFSET(Saisie!$D$7,0,ROW()-9) : OFFSET(Saisie!$D$5000,0,ROW()-9), Saisie!$D$7:'Saisie'!$D$5000, INDIRECT("Saisie!$D$"& COLUMN()+6), Saisie!$A$7:'Saisie'!$A$5000,">="&$B$4,Saisie!$A$7:'Saisie'!$A$5000,"<="&$D$4))
... A608: =IF(ISBLANK(OFFSET(Saisie!$D$6,0,ROW()-9)),"",OFFSET(Saisie!$D$6,0,ROW()-9)) | B608: =IF($A608="","",SUMIFS(OFFSET(Saisie!$D$7,0,ROW()-9) : OFFSET(Saisie!$D$5000,0,ROW()-9), Saisie!$D$7:'Saisie'!$D$5000, INDIRECT("Saisie!$D$"& COLUMN()+6), Saisie!$A$7:'Saisie'!$A$5000,">="&$B$4,Saisie!$A$7:'Saisie'!$A$5000,"<="&$D$4)) | C608: =IF($A608="","",SUMIFS(OFFSET(Saisie!$D$7,0,ROW()-9) : OFFSET(Saisie!$D$5000,0,ROW()-9), Saisie!$D$7:'Saisie'!$D$5000, INDIRECT("Saisie!$D$"& COLUMN()+6), Saisie!$A$7:'Saisie'!$A$5000,">="&$B$4,Saisie!$A$7:'Saisie'!$A$5000,"<="&$D$4)) | D608: =IF($A608="","",SUMIFS(OFFSET(Saisie!$D$7,0,ROW()-9) : OFFSET(Saisie!$D$5000,0,ROW()-9), Saisie!$D$7:'Saisie'!$D$5000, INDIRECT("Saisie!$D$"& COLUMN()+6), Saisie!$A$7:'Saisie'!$A$5000,">="&$B$4,Saisie!$A$7:'Saisie'!$A$5000,"<="&$D$4)) | E608: =IF($A608="","",SUMIFS(OFFSET(Saisie!$D$7,0,ROW()-9) : OFFSET(Saisie!$D$5000,0,ROW()-9), Saisie!$D$7:'Saisie'!$D$5000, INDIRECT("Saisie!$D$"& COLUMN()+6), Saisie!$A$7:'Saisie'!$A$5000,">="&$B$4,Saisie!$A$7:'Saisie'!$A$5000,"<="&$D$4)) | F608: =IF($A608="","",SUMIFS(OFFSET(Saisie!$D$7,0,ROW()-9) : OFFSET(Saisie!$D$5000,0,ROW()-9), Saisie!$D$7:'Saisie'!$D$5000, INDIRECT("Saisie!$D$"& COLUMN()+6), Saisie!$A$7:'Saisie'!$A$5000,">="&$B$4,Saisie!$A$7:'Saisie'!$A$5000,"<="&$D$4)) | G608: =IF($A608="","",SUMIFS(OFFSET(Saisie!$D$7,0,ROW()-9) : OFFSET(Saisie!$D$5000,0,ROW()-9), Saisie!$D$7:'Saisie'!$D$5000, INDIRECT("Saisie!$D$"& COLUMN()+6), Saisie!$A$7:'Saisie'!$A$5000,">="&$B$4,Saisie!$A$7:'Saisie'!$A$5000,"<="&$D$4)) | H608: =IF($A608="","",SUMIFS(OFFSET(Saisie!$D$7,0,ROW()-9) : OFFSET(Saisie!$D$5000,0,ROW()-9), Saisie!$D$7:'Saisie'!$D$5000, INDIRECT("Saisie!$D$"& COLUMN()+6), Saisie!$A$7:'Saisie'!$A$5000,">="&$B$4,Saisie!$A$7:'Saisie'!$A$5000,"<="&$D$4)) | I608: =IF($A608="","",SUMIFS(OFFSET(Saisie!$D$7,0,ROW()-9) : OFFSET(Saisie!$D$5000,0,ROW()-9), Saisie!$D$7:'Saisie'!$D$5000, INDIRECT("Saisie!$D$"& COLUMN()+6), Saisie!$A$7:'Saisie'!$A$5000,">="&$B$4,Saisie!$A$7:'Saisie'!$A$5000,"<="&$D$4)) | ... O608: =IF($A608="","",SUMIFS(OFFSET(Saisie!$D$7,0,ROW()-9) : OFFSET(Saisie!$D$5000,0,ROW()-9), Saisie!$D$7:'Saisie'!$D$5000, INDIRECT("Saisie!$D$"& COLUMN()+6), Saisie!$A$7:'Saisie'!$A$5000,">="&$B$4,Saisie!$A$7:'Saisie'!$A$5000,"<="&$D$4))
