Workbook

Sheet Trajets
A1: Matricule | B1: Nom et prénom | C1: Quartier | D1: P.R. | E1: Trajet
A2: 1 | B2: pers 1 | C2: Quartier 1 | D2: P.R 1 | E2: Trajet 1
A3: 2 | B3: pers 2 | C3: Quartier 2 | D3: P.R 2 | E3: Trajet 2
A4: 3 | B4: pers 3 | C4: Quartier 3 | D4: P.R 3 | E4: Trajet 1
A5: 4 | B5: pers 4 | C5: Quartier 4 | D5: P.R 4 | E5: Trajet 2
A6: 5 | B6: pers 5 | C6: Quartier 5 | D6: P.R 5 | E6: Trajet 1
A7: 6 | B7: pers 6 | C7: Quartier 6 | D7: P.R 6 | E7: Trajet 2
A8: 7 | B8: pers 7 | C8: Quartier 7 | D8: P.R 7 | E8: Trajet 1
A9: 8 | B9: pers 8 | C9: Quartier 8 | D9: P.R 8 | E9: Trajet 2
A10: 9 | B10: pers 9 | C10: Quartier 9 | D10: P.R 9 | E10: Trajet 1
A11: 10 | B11: pers 10 | C11: Quartier 10 | D11: P.R 10 | E11: Trajet 2
A12: 11 | B12: pers 11 | C12: Quartier 11 | D12: P.R 11 | E12: Trajet 1
A13: 12 | B13: pers 12 | C13: Quartier 12 | D13: P.R 12 | E13: Trajet 2
... A33: 32 | B33: pers 32 | C33: Quartier 32 | D33: P.R 32 | E33: Trajet 2

Sheet A Lieu 1
A1: Matricule | B1: Nom et prénom | C1: Quartier | D1: P.R. | E1: Trajet
B2: =VLOOKUP(A2,Trajets!A:E,2) -> #N/A | C2: =VLOOKUP(A2,Trajets!A:E,3) -> #N/A | D2: =VLOOKUP(A2,Trajets!A:E,4) -> #N/A | E2: =VLOOKUP(A2,Trajets!A:E,5) -> #N/A
B3: =VLOOKUP(A3,Trajets!A:E,2) -> #N/A | C3: =VLOOKUP(A3,Trajets!A:E,3) -> #N/A | D3: =VLOOKUP(A3,Trajets!A:E,4) -> #N/A | E3: =VLOOKUP(A3,Trajets!A:E,5) -> #N/A
B4: =VLOOKUP(A4,Trajets!A:E,2) -> #N/A | C4: =VLOOKUP(A4,Trajets!A:E,3) -> #N/A | D4: =VLOOKUP(A4,Trajets!A:E,4) -> #N/A | E4: =VLOOKUP(A4,Trajets!A:E,5) -> #N/A
B5: =VLOOKUP(A5,Trajets!A:E,2) -> #N/A | C5: =VLOOKUP(A5,Trajets!A:E,3) -> #N/A | D5: =VLOOKUP(A5,Trajets!A:E,4) -> #N/A | E5: =VLOOKUP(A5,Trajets!A:E,5) -> #N/A
B6: =VLOOKUP(A6,Trajets!A:E,2) -> #N/A | C6: =VLOOKUP(A6,Trajets!A:E,3) -> #N/A | D6: =VLOOKUP(A6,Trajets!A:E,4) -> #N/A | E6: =VLOOKUP(A6,Trajets!A:E,5) -> #N/A
B7: =VLOOKUP(A7,Trajets!A:E,2) -> #N/A | C7: =VLOOKUP(A7,Trajets!A:E,3) -> #N/A | D7: =VLOOKUP(A7,Trajets!A:E,4) -> #N/A | E7: =VLOOKUP(A7,Trajets!A:E,5) -> #N/A
B8: =VLOOKUP(A8,Trajets!A:E,2) -> #N/A | C8: =VLOOKUP(A8,Trajets!A:E,3) -> #N/A | D8: =VLOOKUP(A8,Trajets!A:E,4) -> #N/A | E8: =VLOOKUP(A8,Trajets!A:E,5) -> #N/A
B9: =VLOOKUP(A9,Trajets!A:E,2) -> #N/A | C9: =VLOOKUP(A9,Trajets!A:E,3) -> #N/A | D9: =VLOOKUP(A9,Trajets!A:E,4) -> #N/A | E9: =VLOOKUP(A9,Trajets!A:E,5) -> #N/A
B10: =VLOOKUP(A10,Trajets!A:E,2) -> #N/A | C10: =VLOOKUP(A10,Trajets!A:E,3) -> #N/A | D10: =VLOOKUP(A10,Trajets!A:E,4) -> #N/A | E10: =VLOOKUP(A10,Trajets!A:E,5) -> #N/A
B11: =VLOOKUP(A11,Trajets!A:E,2) -> #N/A | C11: =VLOOKUP(A11,Trajets!A:E,3) -> #N/A | D11: =VLOOKUP(A11,Trajets!A:E,4) -> #N/A | E11: =VLOOKUP(A11,Trajets!A:E,5) -> #N/A
B12: =VLOOKUP(A12,Trajets!A:E,2) -> #N/A | C12: =VLOOKUP(A12,Trajets!A:E,3) -> #N/A | D12: =VLOOKUP(A12,Trajets!A:E,4) -> #N/A | E12: =VLOOKUP(A12,Trajets!A:E,5) -> #N/A
B13: =VLOOKUP(A13,Trajets!A:E,2) -> #N/A | C13: =VLOOKUP(A13,Trajets!A:E,3) -> #N/A | D13: =VLOOKUP(A13,Trajets!A:E,4) -> #N/A | E13: =VLOOKUP(A13,Trajets!A:E,5) -> #N/A
... B17: =VLOOKUP(A17,Trajets!A:E,2) -> #N/A | C17: =VLOOKUP(A17,Trajets!A:E,3) -> #N/A | D17: =VLOOKUP(A17,Trajets!A:E,4) -> #N/A | E17: =VLOOKUP(A17,Trajets!A:E,5) -> #N/A

Sheet B Lieu 1
A1: Matricule | B1: Nom et prénom | C1: Quartier | D1: P.R. | E1: Trajet
B2: =VLOOKUP(A2,Trajets!A:E,2) -> #N/A | C2: =VLOOKUP(A2,Trajets!A:E,3) -> #N/A | D2: =VLOOKUP(A2,Trajets!A:E,4) -> #N/A | E2: =VLOOKUP(A2,Trajets!A:E,5) -> #N/A
B3: =VLOOKUP(A3,Trajets!A:E,2) -> #N/A | C3: =VLOOKUP(A3,Trajets!A:E,3) -> #N/A | D3: =VLOOKUP(A3,Trajets!A:E,4) -> #N/A | E3: =VLOOKUP(A3,Trajets!A:E,5) -> #N/A
B4: =VLOOKUP(A4,Trajets!A:E,2) -> #N/A | C4: =VLOOKUP(A4,Trajets!A:E,3) -> #N/A | D4: =VLOOKUP(A4,Trajets!A:E,4) -> #N/A | E4: =VLOOKUP(A4,Trajets!A:E,5) -> #N/A
B5: =VLOOKUP(A5,Trajets!A:E,2) -> #N/A | C5: =VLOOKUP(A5,Trajets!A:E,3) -> #N/A | D5: =VLOOKUP(A5,Trajets!A:E,4) -> #N/A | E5: =VLOOKUP(A5,Trajets!A:E,5) -> #N/A
B6: =VLOOKUP(A6,Trajets!A:E,2) -> #N/A | C6: =VLOOKUP(A6,Trajets!A:E,3) -> #N/A | D6: =VLOOKUP(A6,Trajets!A:E,4) -> #N/A | E6: =VLOOKUP(A6,Trajets!A:E,5) -> #N/A
B7: =VLOOKUP(A7,Trajets!A:E,2) -> #N/A | C7: =VLOOKUP(A7,Trajets!A:E,3) -> #N/A | D7: =VLOOKUP(A7,Trajets!A:E,4) -> #N/A | E7: =VLOOKUP(A7,Trajets!A:E,5) -> #N/A
B8: =VLOOKUP(A8,Trajets!A:E,2) -> #N/A | C8: =VLOOKUP(A8,Trajets!A:E,3) -> #N/A | D8: =VLOOKUP(A8,Trajets!A:E,4) -> #N/A | E8: =VLOOKUP(A8,Trajets!A:E,5) -> #N/A
B9: =VLOOKUP(A9,Trajets!A:E,2) -> #N/A | C9: =VLOOKUP(A9,Trajets!A:E,3) -> #N/A | D9: =VLOOKUP(A9,Trajets!A:E,4) -> #N/A | E9: =VLOOKUP(A9,Trajets!A:E,5) -> #N/A
B10: =VLOOKUP(A10,Trajets!A:E,2) -> #N/A | C10: =VLOOKUP(A10,Trajets!A:E,3) -> #N/A | D10: =VLOOKUP(A10,Trajets!A:E,4) -> #N/A | E10: =VLOOKUP(A10,Trajets!A:E,5) -> #N/A
B11: =VLOOKUP(A11,Trajets!A:E,2) -> #N/A | C11: =VLOOKUP(A11,Trajets!A:E,3) -> #N/A | D11: =VLOOKUP(A11,Trajets!A:E,4) -> #N/A | E11: =VLOOKUP(A11,Trajets!A:E,5) -> #N/A
B12: =VLOOKUP(A12,Trajets!A:E,2) -> #N/A | C12: =VLOOKUP(A12,Trajets!A:E,3) -> #N/A | D12: =VLOOKUP(A12,Trajets!A:E,4) -> #N/A | E12: =VLOOKUP(A12,Trajets!A:E,5) -> #N/A
B13: =VLOOKUP(A13,Trajets!A:E,2) -> #N/A | C13: =VLOOKUP(A13,Trajets!A:E,3) -> #N/A | D13: =VLOOKUP(A13,Trajets!A:E,4) -> #N/A | E13: =VLOOKUP(A13,Trajets!A:E,5) -> #N/A
... B17: =VLOOKUP(A17,Trajets!A:E,2) -> #N/A | C17: =VLOOKUP(A17,Trajets!A:E,3) -> #N/A | D17: =VLOOKUP(A17,Trajets!A:E,4) -> #N/A | E17: =VLOOKUP(A17,Trajets!A:E,5) -> #N/A

Sheet A Lieu 2
A1: Matricule | B1: Nom et prénom | C1: Quartier | D1: P.R. | E1: Trajet
B2: =VLOOKUP(A2,Trajets!A:E,2) -> #N/A | C2: =VLOOKUP(A2,Trajets!A:E,3) -> #N/A | D2: =VLOOKUP(A2,Trajets!A:E,4) -> #N/A | E2: =VLOOKUP(A2,Trajets!A:E,5) -> #N/A
B3: =VLOOKUP(A3,Trajets!A:E,2) -> #N/A | C3: =VLOOKUP(A3,Trajets!A:E,3) -> #N/A | D3: =VLOOKUP(A3,Trajets!A:E,4) -> #N/A | E3: =VLOOKUP(A3,Trajets!A:E,5) -> #N/A
B4: =VLOOKUP(A4,Trajets!A:E,2) -> #N/A | C4: =VLOOKUP(A4,Trajets!A:E,3) -> #N/A | D4: =VLOOKUP(A4,Trajets!A:E,4) -> #N/A | E4: =VLOOKUP(A4,Trajets!A:E,5) -> #N/A
B5: =VLOOKUP(A5,Trajets!A:E,2) -> #N/A | C5: =VLOOKUP(A5,Trajets!A:E,3) -> #N/A | D5: =VLOOKUP(A5,Trajets!A:E,4) -> #N/A | E5: =VLOOKUP(A5,Trajets!A:E,5) -> #N/A
B6: =VLOOKUP(A6,Trajets!A:E,2) -> #N/A | C6: =VLOOKUP(A6,Trajets!A:E,3) -> #N/A | D6: =VLOOKUP(A6,Trajets!A:E,4) -> #N/A | E6: =VLOOKUP(A6,Trajets!A:E,5) -> #N/A
B7: =VLOOKUP(A7,Trajets!A:E,2) -> #N/A | C7: =VLOOKUP(A7,Trajets!A:E,3) -> #N/A | D7: =VLOOKUP(A7,Trajets!A:E,4) -> #N/A | E7: =VLOOKUP(A7,Trajets!A:E,5) -> #N/A
B8: =VLOOKUP(A8,Trajets!A:E,2) -> #N/A | C8: =VLOOKUP(A8,Trajets!A:E,3) -> #N/A | D8: =VLOOKUP(A8,Trajets!A:E,4) -> #N/A | E8: =VLOOKUP(A8,Trajets!A:E,5) -> #N/A
B9: =VLOOKUP(A9,Trajets!A:E,2) -> #N/A | C9: =VLOOKUP(A9,Trajets!A:E,3) -> #N/A | D9: =VLOOKUP(A9,Trajets!A:E,4) -> #N/A | E9: =VLOOKUP(A9,Trajets!A:E,5) -> #N/A
B10: =VLOOKUP(A10,Trajets!A:E,2) -> #N/A | C10: =VLOOKUP(A10,Trajets!A:E,3) -> #N/A | D10: =VLOOKUP(A10,Trajets!A:E,4) -> #N/A | E10: =VLOOKUP(A10,Trajets!A:E,5) -> #N/A
B11: =VLOOKUP(A11,Trajets!A:E,2) -> #N/A | C11: =VLOOKUP(A11,Trajets!A:E,3) -> #N/A | D11: =VLOOKUP(A11,Trajets!A:E,4) -> #N/A | E11: =VLOOKUP(A11,Trajets!A:E,5) -> #N/A
B12: =VLOOKUP(A12,Trajets!A:E,2) -> #N/A | C12: =VLOOKUP(A12,Trajets!A:E,3) -> #N/A | D12: =VLOOKUP(A12,Trajets!A:E,4) -> #N/A | E12: =VLOOKUP(A12,Trajets!A:E,5) -> #N/A
B13: =VLOOKUP(A13,Trajets!A:E,2) -> #N/A | C13: =VLOOKUP(A13,Trajets!A:E,3) -> #N/A | D13: =VLOOKUP(A13,Trajets!A:E,4) -> #N/A | E13: =VLOOKUP(A13,Trajets!A:E,5) -> #N/A
... B17: =VLOOKUP(A17,Trajets!A:E,2) -> #N/A | C17: =VLOOKUP(A17,Trajets!A:E,3) -> #N/A | D17: =VLOOKUP(A17,Trajets!A:E,4) -> #N/A | E17: =VLOOKUP(A17,Trajets!A:E,5) -> #N/A

Sheet B Lieu 2
A1: Matricule | B1: Nom et prénom | C1: Quartier | D1: P.R. | E1: Trajet
B2: =VLOOKUP(A2,Trajets!A:E,2) -> #N/A | C2: =VLOOKUP(A2,Trajets!A:E,3) -> #N/A | D2: =VLOOKUP(A2,Trajets!A:E,4) -> #N/A | E2: =VLOOKUP(A2,Trajets!A:E,5) -> #N/A
B3: =VLOOKUP(A3,Trajets!A:E,2) -> #N/A | C3: =VLOOKUP(A3,Trajets!A:E,3) -> #N/A | D3: =VLOOKUP(A3,Trajets!A:E,4) -> #N/A | E3: =VLOOKUP(A3,Trajets!A:E,5) -> #N/A
B4: =VLOOKUP(A4,Trajets!A:E,2) -> #N/A | C4: =VLOOKUP(A4,Trajets!A:E,3) -> #N/A | D4: =VLOOKUP(A4,Trajets!A:E,4) -> #N/A | E4: =VLOOKUP(A4,Trajets!A:E,5) -> #N/A
B5: =VLOOKUP(A5,Trajets!A:E,2) -> #N/A | C5: =VLOOKUP(A5,Trajets!A:E,3) -> #N/A | D5: =VLOOKUP(A5,Trajets!A:E,4) -> #N/A | E5: =VLOOKUP(A5,Trajets!A:E,5) -> #N/A
B6: =VLOOKUP(A6,Trajets!A:E,2) -> #N/A | C6: =VLOOKUP(A6,Trajets!A:E,3) -> #N/A | D6: =VLOOKUP(A6,Trajets!A:E,4) -> #N/A | E6: =VLOOKUP(A6,Trajets!A:E,5) -> #N/A
B7: =VLOOKUP(A7,Trajets!A:E,2) -> #N/A | C7: =VLOOKUP(A7,Trajets!A:E,3) -> #N/A | D7: =VLOOKUP(A7,Trajets!A:E,4) -> #N/A | E7: =VLOOKUP(A7,Trajets!A:E,5) -> #N/A
B8: =VLOOKUP(A8,Trajets!A:E,2) -> #N/A | C8: =VLOOKUP(A8,Trajets!A:E,3) -> #N/A | D8: =VLOOKUP(A8,Trajets!A:E,4) -> #N/A | E8: =VLOOKUP(A8,Trajets!A:E,5) -> #N/A
B9: =VLOOKUP(A9,Trajets!A:E,2) -> #N/A | C9: =VLOOKUP(A9,Trajets!A:E,3) -> #N/A | D9: =VLOOKUP(A9,Trajets!A:E,4) -> #N/A | E9: =VLOOKUP(A9,Trajets!A:E,5) -> #N/A
B10: =VLOOKUP(A10,Trajets!A:E,2) -> #N/A | C10: =VLOOKUP(A10,Trajets!A:E,3) -> #N/A | D10: =VLOOKUP(A10,Trajets!A:E,4) -> #N/A | E10: =VLOOKUP(A10,Trajets!A:E,5) -> #N/A
B11: =VLOOKUP(A11,Trajets!A:E,2) -> #N/A | C11: =VLOOKUP(A11,Trajets!A:E,3) -> #N/A | D11: =VLOOKUP(A11,Trajets!A:E,4) -> #N/A | E11: =VLOOKUP(A11,Trajets!A:E,5) -> #N/A
B12: =VLOOKUP(A12,Trajets!A:E,2) -> #N/A | C12: =VLOOKUP(A12,Trajets!A:E,3) -> #N/A | D12: =VLOOKUP(A12,Trajets!A:E,4) -> #N/A | E12: =VLOOKUP(A12,Trajets!A:E,5) -> #N/A
B13: =VLOOKUP(A13,Trajets!A:E,2) -> #N/A | C13: =VLOOKUP(A13,Trajets!A:E,3) -> #N/A | D13: =VLOOKUP(A13,Trajets!A:E,4) -> #N/A | E13: =VLOOKUP(A13,Trajets!A:E,5) -> #N/A
... B17: =VLOOKUP(A17,Trajets!A:E,2) -> #N/A | C17: =VLOOKUP(A17,Trajets!A:E,3) -> #N/A | D17: =VLOOKUP(A17,Trajets!A:E,4) -> #N/A | E17: =VLOOKUP(A17,Trajets!A:E,5) -> #N/A
