Workbook

Sheet Report
A1: Product | C1: Country | D1: Registration Trade Name | E1: Drug Product | F1: Approval / Last Renewal Date | G1: Expiration Date
A2: Cardiboost | C2: Austria | D2: HerzSchnell | E2: 30 mg/cp | F2: 41100 | G2: 43101
A3: Cardiboost | C3: Croatia | D3: Kardio+ | E3: 50 mg/cp | F3: 40909 | G3: 43101
A4: Cardiboost | C4: Czech Republic | D4: Kardio+ | E4: 50 mg/cp | F4: 40909 | G4: 43101
A5: Cardiboost | C5: Estonia | D5: Cardiaction | E5: 30 mg/cp | F5: 40909 | G5: 42156
A6: Cardiboost | C6: Finland | D6: Cardiboost | E6: 30 mg/cp | F6: 40909 | G6: 43101
A7: Cardiboost | C7: France | D7: Cardiplus | E7: 30 mg/cp | F7: 40909 | G7: 41774
A8: Cardiboost | C8: Hungary | D8: HerzSchnell | E8: 80 mg/cp | F8: 40983 | G8: 41774
A9: Cardiboost | C9: Ireland | D9: Cardiboost | E9: 50 mg/cp | F9: 41100 | G9: 43101
A10: Cardiboost | C10: Ireland | D10: Cardiboost | E10: 30 mg/cp | F10: 41275 | G10: 43101
A11: Cardiboost | C11: Latvia | D11: Kolbol | E11: 80 mg/cp | F11: 40909 | G11: 40983
A12: Cardiboost | C12: Lithuania | D12: Cardiaction | E12: 80 mg/cp | F12: 40909 | G12: 43101
A13: Cardiboost | C13: Netherlands | D13: Kardiboost | E13: 80 mg/cp | F13: 40909 | G13: 43101
... A18: Neurix | C18: Bulgaria | D18: Neurol | E18: 30 mg/cp | F18: 41100 | G18: 42156
A19: Neurix | C19: Burkina Faso | D19: Neuralex | E19: 30 mg/cp | F19: 41275 | G19: n/a
A20: Neurix | C20: Cameroon | D20: Neuralex | E20: 100 mg/cp | F20: 40909 | G20: n/a
A21: Neurix | C21: Congo, the Democratic Republic of | D21: Neuralex | E21: 30 mg/cp | F21: 40909 | G21: n/a
A22: Neurix | C22: Cuba | D22: Renero | E22: 150 mg/cp | F22: 41275 | G22: 43101
A23: Neurix | C23: Curacao | D23: Renero | E23: 30 mg/cp | F23: 41100 | G23: 43101
A24: Neurix | C24: Czech Republic | D24: Neurol | E24: 30 mg/cp | F24: 40983 | G24: 42156
A25: Neurix | C25: Denmark | D25: Neurix | E25: 30 mg/cp | F25: 40909 | G25: 43101
A26: Neurix | C26: Dominican Republic | D26: Renero | E26: 100 mg/cp | F26: 40909 | G26: 43101
A27: Neurix | C27: Egypt | D27: Neuralex | E27: 100 mg/cp | F27: 40909 | G27: n/a
A28: Neurix | C28: Erythrea | D28: Neuralex | E28: 30 mg/cp | F28: 41275 | G28: n/a
A29: Neurix | C29: Finland | D29: Neurix | E29: 100 mg/cp | F29: 40983 | G29: 42156
A30: Neurix | C30: France | D30: Neurix | E30: 30 mg/cp | F30: 40909 | G30: 43101
A31: Neurix | C31: Guinea | D31: Neuralex | E31: 30 mg/cp | F31: 40909 | G31: n/a
A32: Neurix | C32: Guyana | D32: Renero | E32: 150 mg/cp | F32: 40909 | G32: 43101
A33: Neurix | C33: Iraq | D33: Neuralex | E33: 30 mg/cp | F33: 40983 | G33: n/a
A34: Neurix | C34: Israel | D34: Neuralex | E34: 30 mg/cp | F34: 41275 | G34: n/a
A35: Neurix | C35: Ivory Coast | D35: Neuralex | E35: 100 mg/cp | F35: 40909 | G35: n/a
A36: Neurix | C36: Lebanon | D36: Neuralex | E36: 30 mg/cp | F36: 40909 | G36: n/a
A37: Neurix | C37: Lybia | D37: Neuralex | E37: 30 mg/cp | F37: 40909 | G37: n/a
A38: Neurix | C38: Montenegro | D38: Neurix | E38: 30 mg/cp | F38: 40909 | G38: 43101
A39: Neurix | C39: Netherlands | D39: Neurol | E39: 100 mg/cp | F39: 40909 | G39: 43101
A40: Neurix | C40: Netherlands Antilles | D40: Renero | E40: 30 mg/cp | F40: 41275 | G40: 43101
A41: Neurix | C41: Norway | D41: Neurol | E41: 30 mg/cp | F41: 41275 | G41: 43101
A42: Neurix | C42: Poland | D42: Neurix | E42: 100 mg/cp | F42: 41275 | G42: 42156
A43: Neurix | C43: Puerto Rico | D43: Renero | E43: 100 mg/cp | F43: 41275 | G43: 43101
A44: Neurix | C44: Qatar | D44: Neuralex | E44: 30 mg/cp | F44: 40909 | G44: n/a
A45: Neurix | C45: Romania | D45: Neurix | E45: 100 mg/cp | F45: 40909 | G45: 41774
A46: Neurix | C46: Russia | D46: Neurix | E46: 150 mg/cp | F46: 40909 | G46: 43101
A47: Neurix | C47: Serbia | D47: Neurix | E47: 150 mg/cp | F47: 40909 | G47: 43101
A48: Neurix | C48: Somalia | D48: Neuralex | E48: 150 mg/cp | F48: 40909 | G48: n/a
A49: Neurix | C49: South Africa | D49: Neurix | E49: 30 mg/cp | F49: 40909 | G49: n/a
A50: Neurix | C50: Sweden | D50: Neurix | E50: 30 mg/cp | F50: 40909 | G50: 43101
A51: Neurix | C51: Syria | D51: Neuralex | E51: 30 mg/cp | F51: 40909 | G51: n/a
A52: Neurix | C52: Tadjikistan | D52: Neuralex | E52: 150 mg/cp | F52: 40909 | G52: n/a
A53: Neurix | C53: Tanzania | D53: Neuralex | E53: 150 mg/cp | F53: 40909 | G53: n/a
A54: Neurix | C54: Turkmenistan | D54: Neuralex | E54: 150 mg/cp | F54: 40909 | G54: n/a
A55: Neurix | C55: Ukraine | D55: Neurix | E55: 30 mg/cp | F55: 41275 | G55: 43101
A56: Neurix | C56: United Arab Emirates | D56: Neuralex | E56: 30 mg/cp | F56: 41100 | G56: n/a
A57: Neurix | C57: United Arab Emirates | D57: Neuralex | E57: 30 mg/cp | F57: 40909 | G57: n/a
A58: Neurix | C58: Uzbekistan | D58: Neuralex | E58: 30 mg/cp | F58: 40983 | G58: n/a
A59: Oncostop | C59: Argentina | D59: Oncologix | E59: 10 g/L | F59: 40909 | G59: 43101
A60: Oncostop | C60: Belgium | D60: Oncostop | E60: 5 g/L | F60: 41275 | G60: 42156
A61: Oncostop | C61: Brazil | D61: Oncologix | E61: 5 g/L | F61: 41100 | G61: 43101
A62: Oncostop | C62: Brazil | D62: Oncologix | E62: 5 g/L | F62: 40909 | G62: 43101
A63: Oncostop | C63: Canada | D63: Oncostop | E63: 10 g/L | F63: 40909 | G63: 43101
A64: Oncostop | C64: Chile | D64: Oncostop | E64: 10 g/L | F64: 40909 | G64: 43101
A65: Oncostop | C65: China | D65: Oncostop | E65: 10 g/L | F65: 41275 | G65: 41275
A66: Oncostop | C66: Colombia | D66: Oncologix | E66: 5 g/L | F66: 41100 | G66: 01/01/018
A67: Oncostop | C67: Denmark | D67: Oncostop | E67: 10 g/L | F67: 41100 | G67: 43101
A68: Oncostop | C68: Ecuador | D68: Oncologix | E68: 10 g/L | F68: 41275 | G68: 43101
A69: Oncostop | C69: France | D69: Oncostop | E69: 10 g/L | F69: 41275 | G69: 43101
A70: Oncostop | C70: France | D70: Oncostop | E70: 10 g/L | F70: 41275 | G70: 43101
A71: Oncostop | C71: Germany | D71: Karzihalt | E71: 10 g/L | F71: 41275 | G71: 43101
A72: Oncostop | C72: Germany | D72: Karzihalt | E72: 10 g/L | F72: 40909 | G72: 43101
A73: Oncostop | C73: Germany | D73: Karzihalt+ | E73: 10 g/L | F73: 40909 | G73: 43101
A74: Oncostop | C74: Guatemala | D74: Oncologix | E74: 10 g/L | F74: 40909 | G74: 42156
A75: Oncostop | C75: Iceland | D75: Oncostop | E75: 10 g/L | F75: 40909 | G75: 43101
A76: Oncostop | C76: Ireland | D76: Oncostop | E76: 10 g/L | F76: 40909 | G76: 43101
A77: Oncostop | C77: Italy | D77: Oncostop | E77: 10 g/L | F77: 41275 | G77: 41275
A78: Oncostop | C78: Luxembourg | D78: Oncostop | E78: 10 g/L | F78: 40909 | G78: 43101
... A101: Pneumofree | C101: United States | D101: Pneumofree | E101: 1 g/cp | F101: 40909 | G101: 43101

Sheet Countries
A1: Country | B1: Region
A2: Argentina | B2: LATAM
A3: Australia | B3: APAC
A4: Austria | B4: EU/EUROPE
A5: Belgium | B5: EU/EUROPE
A6: Bosnia Herzegovina | B6: EU/EUROPE
A7: Brazil | B7: LATAM
A8: Bulgaria | B8: EU/EUROPE
A9: Burkina Faso | B9: MEA
A10: Cameroon | B10: MEA
A11: Canada | B11: NORTH AMERICA
A12: Chile | B12: LATAM
... A75: Venezuela | B75: LATAM

Sheet Overview
C2: Nb of Products | D2: Nb Of Trade Names | E2: Average Nb of Drug Products by Product | F2: Nb of Products approved in 2012 | G2: Nb of Products not approved in 2012 | H2: Nb of Products expiring in 2018 | I2: Nb of Products not expiring in 2018 | J2: Number of dates inconsistencies
B3: TOTAL
B5: Region
B6: APAC
B7: CARIB
B8: EU/EUROPE
B9: LATAM
B10: MEA
B11: NORTH AMERICA
B13: Country
B14: Argentina | C14: =SUMPRODUCT((Report!$A$2:$A$101="cardiboost")*(Report!$C$2:$C$101=B14)+((Report!$A$2:$A$101="neurix")*(Report!$C$2:$C$101=B14))+((Report!$A$2:$A$101="oncostop")*(Report!$C$2:$C$101=B14))+((Report!$A$2:$A$101="pneumofree")*(Report!$C$2:$C$101=B14))) -> 1
B15: Australia | C15: =SUMPRODUCT((Report!$A$2:$A$101="cardiboost")*(Report!$C$2:$C$101=B15)+((Report!$A$2:$A$101="neurix")*(Report!$C$2:$C$101=B15))+((Report!$A$2:$A$101="oncostop")*(Report!$C$2:$C$101=B15))+((Report!$A$2:$A$101="pneumofree")*(Report!$C$2:$C$101=B15))) -> 1
B16: Austria | C16: =SUMPRODUCT((Report!$A$2:$A$101="cardiboost")*(Report!$C$2:$C$101=B16)+((Report!$A$2:$A$101="neurix")*(Report!$C$2:$C$101=B16))+((Report!$A$2:$A$101="oncostop")*(Report!$C$2:$C$101=B16))+((Report!$A$2:$A$101="pneumofree")*(Report!$C$2:$C$101=B16))) -> 1
B17: Belgium | C17: =SUMPRODUCT((Report!$A$2:$A$101="cardiboost")*(Report!$C$2:$C$101=B17)+((Report!$A$2:$A$101="neurix")*(Report!$C$2:$C$101=B17))+((Report!$A$2:$A$101="oncostop")*(Report!$C$2:$C$101=B17))+((Report!$A$2:$A$101="pneumofree")*(Report!$C$2:$C$101=B17))) -> 1
B18: Bosnia Herzegovina | C18: =SUMPRODUCT((Report!$A$2:$A$101="cardiboost")*(Report!$C$2:$C$101=B18)+((Report!$A$2:$A$101="neurix")*(Report!$C$2:$C$101=B18))+((Report!$A$2:$A$101="oncostop")*(Report!$C$2:$C$101=B18))+((Report!$A$2:$A$101="pneumofree")*(Report!$C$2:$C$101=B18))) -> 1
B19: Brazil | C19: =SUMPRODUCT((Report!$A$2:$A$101="cardiboost")*(Report!$C$2:$C$101=B19)+((Report!$A$2:$A$101="neurix")*(Report!$C$2:$C$101=B19))+((Report!$A$2:$A$101="oncostop")*(Report!$C$2:$C$101=B19))+((Report!$A$2:$A$101="pneumofree")*(Report!$C$2:$C$101=B19))) -> 2
B20: Bulgaria | C20: =SUMPRODUCT((Report!$A$2:$A$101="cardiboost")*(Report!$C$2:$C$101=B20)+((Report!$A$2:$A$101="neurix")*(Report!$C$2:$C$101=B20))+((Report!$A$2:$A$101="oncostop")*(Report!$C$2:$C$101=B20))+((Report!$A$2:$A$101="pneumofree")*(Report!$C$2:$C$101=B20))) -> 1
B21: Burkina Faso | C21: =SUMPRODUCT((Report!$A$2:$A$101="cardiboost")*(Report!$C$2:$C$101=B21)+((Report!$A$2:$A$101="neurix")*(Report!$C$2:$C$101=B21))+((Report!$A$2:$A$101="oncostop")*(Report!$C$2:$C$101=B21))+((Report!$A$2:$A$101="pneumofree")*(Report!$C$2:$C$101=B21))) -> 1
B22: Cameroon | C22: =SUMPRODUCT((Report!$A$2:$A$101="cardiboost")*(Report!$C$2:$C$101=B22)+((Report!$A$2:$A$101="neurix")*(Report!$C$2:$C$101=B22))+((Report!$A$2:$A$101="oncostop")*(Report!$C$2:$C$101=B22))+((Report!$A$2:$A$101="pneumofree")*(Report!$C$2:$C$101=B22))) -> 1
B23: Canada | C23: =SUMPRODUCT((Report!$A$2:$A$101="cardiboost")*(Report!$C$2:$C$101=B23)+((Report!$A$2:$A$101="neurix")*(Report!$C$2:$C$101=B23))+((Report!$A$2:$A$101="oncostop")*(Report!$C$2:$C$101=B23))+((Report!$A$2:$A$101="pneumofree")*(Report!$C$2:$C$101=B23))) -> 2
B24: Chile | C24: =SUMPRODUCT((Report!$A$2:$A$101="cardiboost")*(Report!$C$2:$C$101=B24)+((Report!$A$2:$A$101="neurix")*(Report!$C$2:$C$101=B24))+((Report!$A$2:$A$101="oncostop")*(Report!$C$2:$C$101=B24))+((Report!$A$2:$A$101="pneumofree")*(Report!$C$2:$C$101=B24))) -> 1
B25: China | C25: =SUMPRODUCT((Report!$A$2:$A$101="cardiboost")*(Report!$C$2:$C$101=B25)+((Report!$A$2:$A$101="neurix")*(Report!$C$2:$C$101=B25))+((Report!$A$2:$A$101="oncostop")*(Report!$C$2:$C$101=B25))+((Report!$A$2:$A$101="pneumofree")*(Report!$C$2:$C$101=B25))) -> 1
... B87: Venezuela | C87: =SUMPRODUCT((Report!$A$2:$A$101="cardiboost")*(Report!$C$2:$C$101=B87)+((Report!$A$2:$A$101="neurix")*(Report!$C$2:$C$101=B87))+((Report!$A$2:$A$101="oncostop")*(Report!$C$2:$C$101=B87))+((Report!$A$2:$A$101="pneumofree")*(Report!$C$2:$C$101=B87))) -> 1
