Workbook

Sheet Données Sphinx
A1: Date de mise à jour | B1: =TODAY() -> 42417
A2: Légende
B3: Personne ayant répondu au questionnaire SPHINX sans être dans le tableau suivi AT de l'année en cours
B4: Personne ayant répondu au questionnaire SPHINX dont l'AT n'a pas été pris en charge
A6: Nom | B6: Prenom | C6: Date naissance | D6: Poste | E6: Autres postes | F6: Ancienneté | G6: Cooperative | H6: Titulaire | I6: Département | J6: Dernier jour travaillé | K6: Dernier jour repos | L6: Date accident | M6: Heure accident | N6: Quelles sont les horaires de travail ? | O6: Lieu de l'accident | P6: Lieu habituel | Q6: Type d'accident | R6: temoin1 | S6: Autres victimes | T6: Nom | U6: Prénom | V6: Numéro de téléphone | W6: Nom | X6: Prénom | Y6: Numéro de téléphone | Z6: Lésions ? | AA6: Coté | AB6: Siège des lésions | AC6: Nature lésion | AD6: Autres natures des lésions | AE6: Récit des circonstances de l'accident | AF6: Intervention ext | AG6: Charge travail | AH6: Climat | AI6: Problème materiel | AJ6: Genre problème materiel | AK6: Lieu de l'accident | AL6: Autre lieu de l'accident | AM6: Nombre actes | AN6: Presence eleveur | AO6: Si oui, vous a-t-il aidé ? | AP6: Comment qualifieriez vous votre relation ? | AQ6: Problème relationnel avant ? | AR6: Ambiance elevage ? | AS6: Présence chien | AT6: Action chien ? | AU6: Circonstance accident | AV6: Autres circonstances ? | AW6: Accès | AX6: Autres accès | AY6: L'animal était-il classé dangereux ? | AZ6: A quel endroit ? | BA6: Autres endroits ? | BB6: Quel était la nature du sol lors de l'insémination ? | BC6: Autre nature du sol lors de l'insémination ? | BD6: Hauteur de marche ? | BE6: Contention ? | BF6: Depuis combien de temps l'animal était-il bloqué ? | BG6: L'animal était-il seul ou avec d'autres ? | BH6: type contention | BI6: Autres types de contention | BJ6: Etat materiel | BK6: Trajet habituel | BL6: Nombre km | BM6: Etat vehicule | BN6: Marque | BO6: Autres marques | BP6: Entretien à jour | BQ6: Autres entretien à jour | BR6: téléphone au volant | BS6: Temps pour compléter le questionnaire ? | BT6: Pertinence des questions ? | BU6: Améliorations du questionnaire | BV6: CLE | BW6: DATE_SAISIE | BX6: DATE_ENREG | BY6: DATE_MODIF | BZ6: TEMPS_SAISIE
A7: VIMOND | H7: Titulaire | I7: Manche | J7: 41646 | K7: 41645 | L7: 41642 | M7: 0.47916667
A8: LELIEVRE | F8: 38327 | H8: Titulaire | I8: Mayenne | J8: 41655 | K8: 41651 | L8: 41653 | M8: 0.41666667
A9: VIMOND | H9: Titulaire | I9: Manche | J9: 41717 | K9: 41714 | L9: 41716 | M9: 0.52083333
A10: LELIEVRE | F10: 38327 | H10: Titulaire | I10: Mayenne | J10: 41705 | K10: 41701 | L10: 41705 | M10: 0.61458333
A11: HUMBERT | F11: 41457 | H11: Titulaire | I11: Ardennes | J11: 41719 | K11: 41690 | L11: 41719 | M11: 0.52083333
A12: Salliot | F12: 41281 | H12: Titulaire | I12: Manche | J12: 41726 | K12: 41722 | L12: 41726 | M12: 0.33333333
A13: GUESDON | F13: 41582 | H13: Remplaçant | I13: Mayenne | J13: 41733 | K13: 41737 | L13: 41732 | M13: 0.375
A14: ROMAGNE | F14: 29860 | H14: Titulaire | I14: Mayenne | J14: 41751 | K14: 41747 | L14: 41748 | M14: 0.375
A15: mathelier | F15: 36800 | H15: Titulaire | I15: Calvados | J15: 41752 | K15: 41734 | L15: 41751 | M15: 0.41666667
A16: BUFFET | F16: 40330 | H16: Titulaire | I16: Mayenne | J16: 41750 | K16: 41752 | L16: 41783 | M16: 0.35416667
A17: EVAIN | F17: 39661 | H17: Titulaire | I17: Mayenne | J17: 41774 | K17: 41775 | L17: 41773 | M17: 0.5625
A18: DUFEU | F18: 37592 | H18: Titulaire | I18: Ille-et-Vilaine | J18: 41802 | K18: 41798 | L18: 41800 | M18: 0.47916667
A19: BRETAUDEAU | F19: 40758 | H19: Titulaire | I19: Mayenne | J19: 41815 | K19: 41813 | L19: 41808 | M19: 0.66666667
A20: BETTON | F20: 30286 | H20: Titulaire | I20: Mayenne | J20: 41812 | K20: 41799 | L20: 41806 | M20: 0.66666667
A21: breillet | F21: 35674 | H21: Titulaire | I21: Manche | J21: 41815 | K21: 41809 | L21: 41815 | M21: 0.66666667
A22: quintin | F22: 30498 | H22: Titulaire | I22: Finistère | J22: 41857 | K22: 41837 | L22: 41857 | M22: 0.4375
A23: FONTENELLE | E23: RESPONSABLE SUPPORT DES VENTES | F23: 36003 | H23: Titulaire | I23: Calvados | J23: 41863 | K23: 41861 | L23: 41862 | M23: 0.41666667
A24: LETOURNEUR | F24: 41689 | H24: Remplaçant | I24: Manche | J24: 41864 | K24: 41863 | L24: 41862 | M24: 0.71875
A25: Lecomte | F25: 30811 | H25: Titulaire | I25: Manche | J25: 41864 | K25: 41861 | L25: 41864 | M25: 0.68055556
A26: TUSSEAU | F26: 36404 | H26: Titulaire | I26: Mayenne | J26: 41900 | K26: 41896 | L26: 41898 | M26: 0.42708333
A27: VIEZZER | F27: 30173 | H27: Titulaire | I27: Finistère | J27: 41887 | K27: 41882 | L27: 41887 | M27: 0.71527778
A28: GASPALON | F28: 37226 | H28: Titulaire | I28: Mayenne | J28: 41900 | K28: 41882 | L28: 41901 | M28: 0.47916667
A29: delauney | F29: 41411 | H29: Volant | I29: Manche | J29: 41902 | K29: 41899 | L29: 41902 | M29: 0.73958333
A30: HAJJI | F30: 33546 | H30: Titulaire | I30: Côtes-d'Armor | J30: 41904 | K30: 41901 | L30: 41902 | M30: 0.64583333
A31: LE PRIOL | F31: 37987 | H31: Titulaire | I31: Manche | J31: 41908 | K31: 41906 | L31: 41907 | M31: 0.4375
A32: CORNU | E32: TECHNICIEN EN GESTION DE LA REPRODUCTION BOVINE | F32: 29113 | H32: Titulaire | I32: Mayenne | J32: 41908 | K32: 41903 | L32: 41908 | M32: 0.625
A33: HUBERT | F33: 39300 | H33: Titulaire | I33: Mayenne | J33: 41912 | K33: 41903 | L33: 41911 | M33: 0.375
A34: barillé | F34: 41274 | H34: Volant | I34: Finistère | J34: 41912 | K34: 41902 | L34: 41912 | M34: 0.47916667
A35: CHEVREUL | F35: 37683 | H35: Titulaire | I35: Mayenne | J35: 41922 | K35: 41913 | L35: 41921 | M35: 0.75
A36: Bouvier | F36: 37861 | H36: Titulaire | I36: Mayenne | J36: 41927 | K36: 41924 | L36: 41927 | M36: 0.375
A37: Guillouet | F37: 40364 | H37: Remplaçant | I37: Ille-et-Vilaine | J37: 41929 | K37: 41926 | L37: 41929 | M37: 0.41666667
A38: PECHEUL | E38: Responsable filière porcine | F38: 41518 | H38: Titulaire | I38: Côtes-d'Armor | K38: 41941 | L38: 41936 | M38: 0.46875
A39: COURT | F39: 34498 | H39: Titulaire | I39: Manche | J39: 41945 | K39: 41938 | L39: 41944 | M39: 0.5
A40: GUENNEUGUES | F40: 33574 | H40: Titulaire | I40: Ille-et-Vilaine | J40: 41888 | K40: 41886 | L40: 41888 | M40: 0.79166667
A41: BOIXIERE | F41: 30376 | H41: Titulaire | I41: Côtes-d'Armor | J41: 41953 | K41: 41952 | L41: 41953 | M41: 0.75
A42: ABRAHAM | F42: 29760 | H42: Titulaire | I42: Manche | J42: 41957 | K42: 41953 | L42: 41957 | M42: 0.70833333
A43: GASPALON | F43: 37226 | H43: Titulaire | I43: Mayenne | J43: 41960 | K43: 41947 | L43: 41960 | M43: 0.375
A44: Ecolasse | F44: 41330 | H44: Remplaçant | I44: Manche | J44: 41963 | K44: 41962 | L44: 41957 | M44: 0.53125
A45: LE BOURDONNEC | F45: 31168 | H45: Titulaire | I45: Côtes-d'Armor | J45: 41964 | K45: 41962 | L45: 41963 | M45: 0.66666667
A46: Levallois | F46: 41820 | H46: Remplaçant | I46: Manche | J46: 41972 | K46: 41973 | L46: 41967 | M46: 0.47916667
A47: KERVICHE | F47: 36069 | H47: Titulaire | I47: Loire-Atlantique | J47: 41969 | K47: 41962 | L47: 41968 | M47: 0.45833333
A48: LAURENT | F48: 39036 | H48: Titulaire | I48: Indre | J48: 41976 | K48: 41966 | L48: 41961 | M48: 0.47916667
A49: FILEUL | F49: 37501 | H49: Titulaire | I49: Ille-et-Vilaine | J49: 41976 | K49: 41974 | L49: 41976 | M49: 0.40277778
A50: SOULIAC | F50: 34486 | H50: Titulaire | I50: Calvados | L50: 41980 | M50: 0.39583333
A51: ROMAGNE | F51: 29860 | H51: Titulaire | I51: Mayenne | J51: 41988 | K51: 41966 | L51: 41982 | M51: 0.625
A52: PICHOT | F52: 36648 | H52: Titulaire | I52: Deux-Sèvres | J52: 41973 | K52: 41952 | L52: 41973 | M52: 0.38541667
A53: DAVID | F53: 34701 | H53: Titulaire | I53: Loire-Atlantique | J53: 41999 | K53: 41997 | L53: 41999 | M53: 0.44444444
A54: AIT LACHGUER | F54: 41141 | H54: Remplaçant | I54: Mayenne | J54: 41999 | K54: 41997 | L54: 41979 | M54: 0.44444444
A55: LE CLERC | F55: 35521 | H55: Titulaire | I55: Loire-Atlantique | J55: 42033 | K55: 42034 | L55: 42004 | M55: 0.40972222
A56: LOUVEL | F56: 30164 | H56: Titulaire | I56: Loire-Atlantique | J56: 41993 | K56: 41990 | L56: 41995 | M56: 0.32291667
A57: JOUAULT | F57: 41757 | H57: Remplaçant | I57: Mayenne | J57: 42013 | K57: 42006 | L57: 42011 | M57: 0.64583333
A58: THORAVAL | F58: 36342 | H58: Titulaire | I58: Côtes-d'Armor | L58: 42004 | M58: 0.39583333
A59: Chouin | F59: 34486 | H59: Titulaire | I59: Côtes-d'Armor | J59: 42018 | K59: 42008 | L59: 42018 | M59: 0.41666667
A60: COULOUMIES | F60: 41624 | H60: Titulaire | I60: Indre-et-Loire | J60: 42023 | K60: 42024 | L60: 42022 | M60: 0.47916667
A61: THURIN | F61: 30468 | H61: Titulaire | I61: Loir-et-Cher | J61: 42025 | K61: 42022 | L61: 42023
A62: DUIGOU | F62: 33512 | H62: Titulaire | I62: Ille-et-Vilaine | J62: 42014 | K62: 42012 | L62: 42014 | M62: 0.35416667
A63: GARNIER | F63: 36877 | H63: Titulaire | I63: Mayenne | J63: 42031 | K63: 42025 | L63: 42029 | M63: 0.46875
A64: NOEL | F64: 39692 | H64: Titulaire | I64: Mayenne | J64: 42032 | K64: 42024 | L64: 42030 | M64: 0.63541667
A65: Fremaul | F65: 41820 | H65: Volant | I65: Finistère | J65: 42039 | K65: 42021 | L65: 42040 | M65: 0.30208333
A66: Bernadac | F66: 41932 | H66: Remplaçant | I66: Ille-et-Vilaine | J66: 42047 | K66: 42046 | L66: 42043 | M66: 0.41666667
A67: Talvas | F67: 38965 | H67: Titulaire | I67: Morbihan | J67: 42044 | K67: 42039 | L67: 42044 | M67: 0.63194444
A68: le poupon | F68: 29099 | H68: Titulaire | I68: Indre-et-Loire | J68: 42049 | K68: 42045 | L68: 42049 | M68: 0.64583333
A69: JOSSE | F69: 34213 | H69: Titulaire | I69: Morbihan | J69: 42060 | K69: 42057 | L69: 42059 | M69: 0.48958333
A70: SAVIDANT | F70: 35359 | H70: Titulaire | I70: Côtes-d'Armor | J70: 42060 | K70: 42057 | L70: 42058 | M70: 0.64583333
A71: Robin | F71: 38504 | H71: Titulaire | I71: Morbihan | J71: 42060 | K71: 42058 | L71: 42060 | M71: 0.375
A72: evano | F72: 41575 | H72: Remplaçant | I72: Sarthe | J72: 42064 | K72: 42050 | L72: 42060 | M72: 0.39583333
A73: TROLE | F73: 32448 | H73: Titulaire | I73: Sarthe | J73: 42062 | K73: 42057 | L73: 42063 | M73: 0.45833333
A74: Lebreton | F74: 38412 | H74: Titulaire | I74: Mayenne | J74: 42065 | K74: 42057 | L74: 42061 | M74: 0.53819444
A75: Chiron | F75: 42009 | H75: Volant | I75: Ille-et-Vilaine | L75: 42047 | M75: 0.625
A76: DESMARES | F76: 32906 | H76: Titulaire | I76: Manche | J76: 42063 | K76: 42060 | L76: 42063 | M76: 0.69444444
A77: Viel | F77: 41337 | H77: Titulaire | I77: Loire-Atlantique | J77: 42086 | K77: 42083 | L77: 42080 | M77: 0.4375
A78: delauney | F78: 41407 | H78: Remplaçant | I78: Manche | J78: 42090 | K78: 42092 | L78: 42052 | M78: 0.47916667
A79: LEGORGEU | F79: 41932 | H79: Volant | I79: Mayenne | J79: 42096 | K79: 42088 | L79: 42094 | M79: 0.65277778
A80: LOUBRY | F80: 42009 | H80: Remplaçant | I80: Loire-Atlantique | J80: 42101 | K80: 42100 | L80: 42096 | M80: 0.41666667
A81: delalande | F81: 42009 | H81: Volant | I81: Maine-et-Loire | J81: 42101 | K81: 42099 | L81: 42093 | M81: 0.375
A82: LEBEL | F82: 41876 | H82: Titulaire | I82: Manche | J82: 42108 | K82: 42106 | L82: 42108 | M82: 0.4375
A83: COUSIN | F83: 34134 | H83: Titulaire | I83: Mayenne | J83: 42110 | K83: 42107 | L83: 42109 | M83: 0.375
A84: RUFFAULT | F84: 39384 | H84: Titulaire | I84: Ille-et-Vilaine | J84: 42110 | K84: 42108 | L84: 42110 | M84: 0.63541667
A85: singer | F85: 39814 | H85: Titulaire | I85: Deux-Sèvres | J85: 42114 | K85: 42106 | L85: 42088 | M85: 0.66666667
A86: euzénès | F86: 38718 | H86: Titulaire | I86: Finistère | J86: 42112 | K86: 42109 | L86: 42112
A87: jacq | F87: 35310 | H87: Titulaire | I87: Morbihan | J87: 42120 | K87: 42113 | L87: 42120 | M87: 0.35416667
A88: leclerc | F88: 28430 | H88: Titulaire | I88: Loire-Atlantique | J88: 42124 | K88: 42123 | L88: 42124 | M88: 0.69791667
A89: Le Clerc | F89: 35521 | H89: Titulaire | I89: Loire-Atlantique | J89: 42125 | K89: 42121 | L89: 42126 | M89: 0.375
A90: RENAUD | F90: 42058 | H90: Remplaçant | I90: Loire-Atlantique | J90: 42129 | L90: 42125 | M90: 0.47916667
A91: LEFRANC | F91: 39722 | H91: Titulaire | I91: Manche | J91: 42130 | K91: 42113 | L91: 42128 | M91: 0.28125
A92: OUVRARD | F92: 37500 | H92: Titulaire | I92: Deux-Sèvres | J92: 42136 | K92: 42131 | L92: 42136 | M92: 0.47916667
A93: PERVIS | F93: 29007 | H93: Titulaire | I93: Mayenne | J93: 42130 | K93: 42127 | L93: 42130
A94: ROCHE | F94: 30499 | H94: Titulaire | I94: Sarthe | J94: 42144 | K94: 42142 | L94: 42134
A95: GUIFFARD | F95: 37299 | H95: Titulaire | I95: Manche | J95: 42159 | K95: 42158 | L95: 42156 | M95: 0.41666667
A96: LE MOIGNE | F96: 30558 | H96: Titulaire | I96: Finistère | J96: 42164 | K96: 42162 | L96: 42163 | M96: 0.38888889
A97: BELLIARD | F97: 30126 | H97: Titulaire | I97: Loire-Atlantique | J97: 42111 | K97: 42105 | L97: 42112 | M97: 0.80555556
A98: cailleau | F98: 38322 | H98: Titulaire | I98: Loire-Atlantique | J98: 42177 | K98: 42159 | L98: 42174 | M98: 0.4375
A99: HUBERT | F99: 36404 | H99: Titulaire | I99: Loire-Atlantique | J99: 42185 | K99: 42175 | L99: 42181 | M99: 0.375
A100: ROHR | F100: 41155 | H100: Titulaire | I100: Loire-Atlantique | J100: 42189 | K100: 42191 | L100: 42184 | M100: 0.39583333
A101: NICOLAS | F101: 42009 | H101: Volant | I101: Sarthe | J101: 42207 | K101: 42200 | L101: 42203 | M101: 0.45833333
...

Sheet Sphinx 2016
A1: Date de mise à jour | B1: =TODAY() -> 42417
A3: Taux de réponses par coopérative
A4: Amélis
A5: Evolution
A6: Génoé
A7: Urcéo
A8: Global
A10: Coopérative | B10: Nom | C10: Prénom | D10: Date de l'accident | E10: Heure de l'accident | F10: AT avec arrêt | G10: AT sans arrêt | H10: Accident de trajet | I10: Envoi du questionnaire Sphinx | J10: Réception du questionnaire Sphinx
B11: ROPERT | D11: 42371 | E11: 0.60416667 | F11: 0 | G11: 1 | H11: 0 | I11: OUI | J11: =IFERROR(IF(VLOOKUP(B11,'Données Sphinx'!$A$7:$L$160,12,FALSE)='Sphinx 2016'!D11,"OUI","NON"),"")
B12: FOURNIER | D12: 42376 | E12: 0.46875 | F12: 0 | G12: 1 | H12: 0 | I12: OUI | J12: =IFERROR(IF(VLOOKUP(B12,'Données Sphinx'!$A$7:$L$11,12,FALSE)='Sphinx 2016'!D12,"OUI","NON"),"")
B13: MORVAN | D13: 42376 | E13: 0.45833333 | F13: 0 | G13: 1 | H13: 0 | I13: OUI | J13: =IFERROR(IF(VLOOKUP(B13,'Données Sphinx'!$A$7:$L$11,12,FALSE)='Sphinx 2016'!D13,"OUI","NON"),"")
B14: CHOUIN | D14: 42377 | E14: 0.35416667 | F14: 0 | G14: 1 | H14: 0 | I14: OUI | J14: =IFERROR(IF(VLOOKUP(B14,'Données Sphinx'!$A$7:$L$11,12,FALSE)='Sphinx 2016'!D14,"OUI","NON"),"")
B15: DEBUT FARINO | D15: 42377 | E15: 0.45833333 | F15: 0 | G15: 1 | H15: 0 | I15: OUI | J15: =IFERROR(IF(VLOOKUP(B15,'Données Sphinx'!$A$7:$L$11,12,FALSE)='Sphinx 2016'!D15,"OUI","NON"),"")
B16: TIRMONT | D16: 42378 | E16: 0.39583333 | F16: 1 | G16: 0 | H16: 0 | J16: =IFERROR(IF(VLOOKUP(B16,'Données Sphinx'!$A$7:$L$11,12,FALSE)='Sphinx 2016'!D16,"OUI","NON"),"")
B17: THUARD | D17: 42380 | E17: 0.39583333 | F17: 0 | G17: 0 | H17: 1 | I17: OUI | J17: =IFERROR(IF(VLOOKUP(B17,'Données Sphinx'!$A$7:$L$11,12,FALSE)='Sphinx 2016'!D17,"OUI","NON"),"")
B18: FROMMENTOUX | D18: 42380 | E18: 0.66666667 | F18: 0 | G18: 1 | H18: 0 | J18: =IFERROR(IF(VLOOKUP(B18,'Données Sphinx'!$A$7:$L$11,12,FALSE)='Sphinx 2016'!D18,"OUI","NON"),"")
B19: GUESDON | D19: 42380 | E19: 0.69791667 | F19: 1 | G19: 0 | H19: 0 | I19: OUI | J19: =IFERROR(IF(VLOOKUP(B19,'Données Sphinx'!$A$7:$L$11,12,FALSE)='Sphinx 2016'!D19,"OUI","NON"),"")
B20: GAUTEUR | D20: 42381 | E20: 0.37847222 | F20: 1 | G20: 0 | H20: 0 | I20: OUI | J20: =IFERROR(IF(VLOOKUP(B20,'Données Sphinx'!$A$7:$L$11,12,FALSE)='Sphinx 2016'!D20,"OUI","NON"),"")
B21: LE BARS | D21: 42382 | E21: 0.48958333 | F21: 0 | G21: 1 | H21: 0 | J21: =IFERROR(IF(VLOOKUP(B21,'Données Sphinx'!$A$7:$L$11,12,FALSE)='Sphinx 2016'!D21,"OUI","NON"),"")
B22: MOISAN | D22: 42384 | E22: 0.41666667 | F22: 0 | G22: 1 | H22: 0 | J22: =IFERROR(IF(VLOOKUP(B22,'Données Sphinx'!$A$7:$L$11,12,FALSE)='Sphinx 2016'!D22,"OUI","NON"),"")
B23: RONCIN | D23: 42384 | E23: 0.39583333 | F23: 1 | G23: 0 | H23: 0 | J23: =IFERROR(IF(VLOOKUP(B23,'Données Sphinx'!$A$7:$L$11,12,FALSE)='Sphinx 2016'!D23,"OUI","NON"),"")
B24: CHESNAY | D24: 42384 | E24: 0.43055556 | F24: 0 | G24: 1 | H24: 0 | I24: OUI | J24: =IFERROR(IF(VLOOKUP(B24,'Données Sphinx'!$A$7:$L$11,12,FALSE)='Sphinx 2016'!D24,"OUI","NON"),"")
B25: SALMON | D25: 42386 | E25: 0.42708333 | F25: 0 | G25: 1 | H25: 0 | I25: OUI | J25: =IFERROR(IF(VLOOKUP(B25,'Données Sphinx'!$A$7:$L$11,12,FALSE)='Sphinx 2016'!D25,"OUI","NON"),"")
B26: DAHIER | D26: 42387 | E26: 0.4375 | F26: 0 | G26: 1 | H26: 0 | I26: OUI | J26: =IFERROR(IF(VLOOKUP(B26,'Données Sphinx'!$A$7:$L$11,12,FALSE)='Sphinx 2016'!D26,"OUI","NON"),"")
B27: LECOQ | D27: 42389 | E27: 0.47916667 | F27: 0 | G27: 1 | H27: 0 | I27: OUI | J27: =IFERROR(IF(VLOOKUP(B27,'Données Sphinx'!$A$7:$L$11,12,FALSE)='Sphinx 2016'!D27,"OUI","NON"),"")
B28: MARTIN | D28: 42393 | E28: 0.41666667 | F28: 1 | G28: 0 | H28: 0 | I28: OUI | J28: =IFERROR(IF(VLOOKUP(B28,'Données Sphinx'!$A$7:$L$11,12,FALSE)='Sphinx 2016'!D28,"OUI","NON"),"")
B29: THEPAUT | D29: 42394 | E29: 0.6875 | F29: 0 | G29: 1 | H29: 0 | J29: =IFERROR(IF(VLOOKUP(B29,'Données Sphinx'!$A$7:$L$11,12,FALSE)='Sphinx 2016'!D29,"OUI","NON"),"")
B30: OUVRARD | D30: 42395 | E30: 0.64583333 | F30: 1 | G30: 0 | H30: 0 | J30: =IFERROR(IF(VLOOKUP(B30,'Données Sphinx'!$A$7:$L$11,12,FALSE)='Sphinx 2016'!D30,"OUI","NON"),"")
B31: BURLOT | D31: 42396 | E31: 0.45833333 | F31: 0 | G31: 1 | H31: 0 | J31: =IFERROR(IF(VLOOKUP(B31,'Données Sphinx'!$A$7:$L$11,12,FALSE)='Sphinx 2016'!D31,"OUI","NON"),"")
B32: PERRE | D32: 42400 | E32: 0.33333333 | F32: 0 | G32: 1 | H32: 0 | I32: OUI | J32: =IFERROR(IF(VLOOKUP(B32,'Données Sphinx'!$A$7:$L$11,12,FALSE)='Sphinx 2016'!D32,"OUI","NON"),"")
B33: BRUAND | D33: 42402 | E33: 0.34375 | F33: 0 | G33: 0 | H33: 1 | I33: OUI | J33: =IFERROR(IF(VLOOKUP(B33,'Données Sphinx'!$A$7:$L$11,12,FALSE)='Sphinx 2016'!D33,"OUI","NON"),"")
B34: LACROIX | D34: 42404 | E34: 0.72916667 | F34: 1 | G34: 0 | H34: 0 | I34: OUI | J34: =IFERROR(IF(VLOOKUP(B34,'Données Sphinx'!$A$7:$L$11,12,FALSE)='Sphinx 2016'!D34,"OUI","NON"),"")
B35: ROCHER | D35: 42409 | E35: 0.47916667 | F35: 0 | G35: 1 | H35: 0 | I35: NON | J35: =IFERROR(IF(VLOOKUP(B35,'Données Sphinx'!$A$7:$L$11,12,FALSE)='Sphinx 2016'!D35,"OUI","NON"),"")
B36: PINEL | D36: 42410 | E36: 0.41666667 | F36: 1 | G36: 0 | H36: 0 | I36: OUI | J36: =IFERROR(IF(VLOOKUP(B36,'Données Sphinx'!$A$7:$L$11,12,FALSE)='Sphinx 2016'!D36,"OUI","NON"),"")
B37: VEBER | D37: 42412 | E37: 0.36458333 | F37: 0 | G37: 1 | H37: 0 | I37: OUI | J37: =IFERROR(IF(VLOOKUP(B37,'Données Sphinx'!$A$7:$L$11,12,FALSE)='Sphinx 2016'!D37,"OUI","NON"),"")
B38: LE PRINCE | D38: 42409 | E38: 0.45833333 | F38: 1 | G38: 0 | H38: 0 | J38: =IFERROR(IF(VLOOKUP(B38,'Données Sphinx'!$A$7:$L$11,12,FALSE)='Sphinx 2016'!D38,"OUI","NON"),"")
B39: PROD'HOMME | D39: 42415 | E39: 0.4375 | F39: 1 | G39: 0 | H39: 0 | I39: oui | J39: =IFERROR(IF(VLOOKUP(B39,'Données Sphinx'!$A$7:$L$11,12,FALSE)='Sphinx 2016'!D39,"OUI","NON"),"")
A40: ='[1]2016'!A31 -> 0 | B40: ='[1]2016'!AK31 -> #VALUE! | C40: ='[1]2016'!AL31 -> #VALUE! | D40: ='[1]2016'!H31 -> 0 | E40: ='[1]2016'!I31 -> 0 | F40: ='[1]2016'!AA31 -> 0 | G40: ='[1]2016'!AB31 -> 0 | H40: =SUM('[1]2016'!AC31) -> 0 | I40: =T('[1]2016'!AH31) | J40: =IFERROR(IF(VLOOKUP(B40,'Données Sphinx'!$A$7:$L$11,12,FALSE)='Sphinx 2016'!D40,"OUI","NON"),"")
A41: ='[1]2016'!A32 -> 0 | B41: ='[1]2016'!AK32 -> #VALUE! | C41: ='[1]2016'!AL32 -> #VALUE! | D41: ='[1]2016'!H32 -> 0 | E41: =SUM('[1]2016'!I32) -> 0 | F41: =SUM('[1]2016'!AA32) -> 0 | G41: =SUM('[1]2016'!AB32) -> 0 | H41: =SUM('[1]2016'!AC32) -> 0 | I41: =T('[1]2016'!AH32) | J41: =IFERROR(IF(VLOOKUP(B41,'Données Sphinx'!$A$7:$L$11,12,FALSE)='Sphinx 2016'!D41,"OUI","NON"),"")
A42: ='[1]2016'!A33 -> 0 | B42: ='[1]2016'!AK33 -> #VALUE! | C42: ='[1]2016'!AL33 -> #VALUE! | D42: ='[1]2016'!H33 -> 0 | E42: =SUM('[1]2016'!I33) -> 0 | F42: =SUM('[1]2016'!AA33) -> 0 | G42: =SUM('[1]2016'!AB33) -> 0 | H42: =SUM('[1]2016'!AC33) -> 0 | I42: =T('[1]2016'!AH33) | J42: =IFERROR(IF(VLOOKUP(B42,'Données Sphinx'!$A$7:$L$11,12,FALSE)='Sphinx 2016'!D42,"OUI","NON"),"")
A43: ='[1]2016'!A34 -> 0 | B43: ='[1]2016'!AK34 -> #VALUE! | C43: ='[1]2016'!AL34 -> #VALUE! | D43: ='[1]2016'!H34 -> 0 | E43: =SUM('[1]2016'!I34) -> 0 | F43: =SUM('[1]2016'!AA34) -> 0 | G43: =SUM('[1]2016'!AB34) -> 0 | H43: =SUM('[1]2016'!AC34) -> 0 | I43: =T('[1]2016'!AH34) | J43: =IFERROR(IF(VLOOKUP(B43,'Données Sphinx'!$A$7:$L$11,12,FALSE)='Sphinx 2016'!D43,"OUI","NON"),"")
A44: ='[1]2016'!A35 -> 0 | B44: ='[1]2016'!AK35 -> #VALUE! | C44: ='[1]2016'!AL35 -> #VALUE! | D44: ='[1]2016'!H35 -> 0 | E44: =SUM('[1]2016'!I35) -> 0 | F44: =SUM('[1]2016'!AA35) -> 0 | G44: =SUM('[1]2016'!AB35) -> 0 | H44: =SUM('[1]2016'!AC35) -> 0 | I44: =T('[1]2016'!AH35) | J44: =IFERROR(IF(VLOOKUP(B44,'Données Sphinx'!$A$7:$L$11,12,FALSE)='Sphinx 2016'!D44,"OUI","NON"),"")
A45: ='[1]2016'!A36 -> 0 | B45: ='[1]2016'!AK36 -> #VALUE! | C45: ='[1]2016'!AL36 -> #VALUE! | D45: ='[1]2016'!H36 -> 0 | E45: =SUM('[1]2016'!I36) -> 0 | F45: =SUM('[1]2016'!AA36) -> 0 | G45: =SUM('[1]2016'!AB36) -> 0 | H45: =SUM('[1]2016'!AC36) -> 0 | I45: =T('[1]2016'!AH36) | J45: =IFERROR(IF(VLOOKUP(B45,'Données Sphinx'!$A$7:$L$11,12,FALSE)='Sphinx 2016'!D45,"OUI","NON"),"")
A46: ='[1]2016'!A37 -> 0 | B46: ='[1]2016'!AK37 -> #VALUE! | C46: ='[1]2016'!AL37 -> #VALUE! | D46: ='[1]2016'!H37 -> 0 | E46: =SUM('[1]2016'!I37) -> 0 | F46: =SUM('[1]2016'!AA37) -> 0 | G46: =SUM('[1]2016'!AB37) -> 0 | H46: =SUM('[1]2016'!AC37) -> 0 | I46: =T('[1]2016'!AH37) | J46: =IFERROR(IF(VLOOKUP(B46,'Données Sphinx'!$A$7:$L$11,12,FALSE)='Sphinx 2016'!D46,"OUI","NON"),"")
A47: ='[1]2016'!A38 -> 0 | B47: ='[1]2016'!AK38 -> #VALUE! | C47: ='[1]2016'!AL38 -> #VALUE! | D47: ='[1]2016'!H38 -> 0 | E47: =SUM('[1]2016'!I38) -> 0 | F47: =SUM('[1]2016'!AA38) -> 0 | G47: =SUM('[1]2016'!AB38) -> 0 | H47: =SUM('[1]2016'!AC38) -> 0 | I47: =T('[1]2016'!AH38) | J47: =IFERROR(IF(VLOOKUP(B47,'Données Sphinx'!$A$7:$L$11,12,FALSE)='Sphinx 2016'!D47,"OUI","NON"),"")
A48: ='[1]2016'!A39 -> 0 | B48: ='[1]2016'!AK39 -> #VALUE! | C48: ='[1]2016'!AL39 -> #VALUE! | D48: ='[1]2016'!H39 -> 0 | E48: =SUM('[1]2016'!I39) -> 0 | F48: =SUM('[1]2016'!AA39) -> 0 | G48: =SUM('[1]2016'!AB39) -> 0 | H48: =SUM('[1]2016'!AC39) -> 0 | I48: =T('[1]2016'!AH39) | J48: =IFERROR(IF(VLOOKUP(B48,'Données Sphinx'!$A$7:$L$11,12,FALSE)='Sphinx 2016'!D48,"OUI","NON"),"")
A49: ='[1]2016'!A40 -> 0 | B49: ='[1]2016'!AK40 -> #VALUE! | C49: ='[1]2016'!AL40 -> #VALUE! | D49: ='[1]2016'!H40 -> 0 | E49: =SUM('[1]2016'!I40) -> 0 | F49: =SUM('[1]2016'!AA40) -> 0 | G49: =SUM('[1]2016'!AB40) -> 0 | H49: =SUM('[1]2016'!AC40) -> 0 | I49: =T('[1]2016'!AH40) | J49: =IFERROR(IF(VLOOKUP(B49,'Données Sphinx'!$A$7:$L$11,12,FALSE)='Sphinx 2016'!D49,"OUI","NON"),"")
A50: ='[1]2016'!A41 -> 0 | B50: ='[1]2016'!AK41 -> #VALUE! | C50: ='[1]2016'!AL41 -> #VALUE! | D50: ='[1]2016'!H41 -> 0 | E50: =SUM('[1]2016'!I41) -> 0 | F50: =SUM('[1]2016'!AA41) -> 0 | G50: =SUM('[1]2016'!AB41) -> 0 | H50: =SUM('[1]2016'!AC41) -> 0 | I50: =T('[1]2016'!AH41) | J50: =IFERROR(IF(VLOOKUP(B50,'Données Sphinx'!$A$7:$L$11,12,FALSE)='Sphinx 2016'!D50,"OUI","NON"),"")
A51: ='[1]2016'!A42 -> 0 | B51: ='[1]2016'!AK42 -> #VALUE! | C51: ='[1]2016'!AL42 -> #VALUE! | D51: ='[1]2016'!H42 -> 0 | E51: =SUM('[1]2016'!I42) -> 0 | F51: =SUM('[1]2016'!AA42) -> 0 | G51: =SUM('[1]2016'!AB42) -> 0 | H51: =SUM('[1]2016'!AC42) -> 0 | I51: =T('[1]2016'!AH42) | J51: =IFERROR(IF(VLOOKUP(B51,'Données Sphinx'!$A$7:$L$11,12,FALSE)='Sphinx 2016'!D51,"OUI","NON"),"")
A52: ='[1]2016'!A43 -> 0 | B52: ='[1]2016'!AK43 -> #VALUE! | C52: ='[1]2016'!AL43 -> #VALUE! | D52: ='[1]2016'!H43 -> 0 | E52: =SUM('[1]2016'!I43) -> 0 | F52: =SUM('[1]2016'!AA43) -> 0 | G52: =SUM('[1]2016'!AB43) -> 0 | H52: =SUM('[1]2016'!AC43) -> 0 | I52: =T('[1]2016'!AH43) | J52: =IFERROR(IF(VLOOKUP(B52,'Données Sphinx'!$A$7:$L$11,12,FALSE)='Sphinx 2016'!D52,"OUI","NON"),"")
... A82: ='[1]2016'!A73 -> 0 | B82: ='[1]2016'!AK73 -> #VALUE! | C82: ='[1]2016'!AL73 -> #VALUE! | D82: ='[1]2016'!H73 -> 0 | E82: =SUM('[1]2016'!I73) -> 0 | F82: =SUM('[1]2016'!AA73) -> 0 | G82: =SUM('[1]2016'!AB73) -> 0 | H82: =SUM('[1]2016'!AC73) -> 0 | I82: =T('[1]2016'!AH73) | J82: =IFERROR(IF(VLOOKUP(B82,'Données Sphinx'!$A$7:$L$11,12,FALSE)='Sphinx 2016'!D82,"OUI","NON"),"")
A83: =T('[1]2016'!A74) | B83: ='[1]2016'!AK74 -> #VALUE! | C83: ='[1]2016'!AL74 -> #VALUE! | D83: ='[1]2016'!H74 -> 0 | E83: =SUM('[1]2016'!I74) -> 0 | F83: =SUM('[1]2016'!AA74) -> 0 | G83: =SUM('[1]2016'!AB74) -> 0 | H83: =SUM('[1]2016'!AC74) -> 0 | I83: =T('[1]2016'!AH74) | J83: =IFERROR(IF(VLOOKUP(B83,'Données Sphinx'!$A$7:$L$11,12,FALSE)='Sphinx 2016'!D83,"OUI","NON"),"")
A84: =T('[1]2016'!A75) | B84: ='[1]2016'!AK75 -> #VALUE! | C84: ='[1]2016'!AL75 -> #VALUE! | D84: ='[1]2016'!H75 -> 0 | E84: =SUM('[1]2016'!I75) -> 0 | F84: =SUM('[1]2016'!AA75) -> 0 | G84: =SUM('[1]2016'!AB75) -> 0 | H84: =SUM('[1]2016'!AC75) -> 0 | I84: =T('[1]2016'!AH75) | J84: =IFERROR(IF(VLOOKUP(B84,'Données Sphinx'!$A$7:$L$11,12,FALSE)='Sphinx 2016'!D84,"OUI","NON"),"")
A85: =T('[1]2016'!A76) | B85: ='[1]2016'!AK76 -> #VALUE! | C85: ='[1]2016'!AL76 -> #VALUE! | D85: ='[1]2016'!H76 -> 0 | E85: =SUM('[1]2016'!I76) -> 0 | F85: =SUM('[1]2016'!AA76) -> 0 | G85: =SUM('[1]2016'!AB76) -> 0 | H85: =SUM('[1]2016'!AC76) -> 0 | I85: =T('[1]2016'!AH76) | J85: =IFERROR(IF(VLOOKUP(B85,'Données Sphinx'!$A$7:$L$11,12,FALSE)='Sphinx 2016'!D85,"OUI","NON"),"")
A86: =T('[1]2016'!A77) | B86: ='[1]2016'!AK77 -> #VALUE! | C86: ='[1]2016'!AL77 -> #VALUE! | D86: ='[1]2016'!H77 -> 0 | E86: =SUM('[1]2016'!I77) -> 0 | F86: =SUM('[1]2016'!AA77) -> 0 | G86: =SUM('[1]2016'!AB77) -> 0 | H86: =SUM('[1]2016'!AC77) -> 0 | I86: =T('[1]2016'!AH77) | J86: =IFERROR(IF(VLOOKUP(B86,'Données Sphinx'!$A$7:$L$11,12,FALSE)='Sphinx 2016'!D86,"OUI","NON"),"")
A87: =T('[1]2016'!A78) | B87: ='[1]2016'!AK78 -> #VALUE! | C87: ='[1]2016'!AL78 -> #VALUE! | D87: ='[1]2016'!H78 -> 0 | E87: =SUM('[1]2016'!I78) -> 0 | F87: =SUM('[1]2016'!AA78) -> 0 | G87: =SUM('[1]2016'!AB78) -> 0 | H87: =SUM('[1]2016'!AC78) -> 0 | I87: =T('[1]2016'!AH78) | J87: =IFERROR(IF(VLOOKUP(B87,'Données Sphinx'!$A$7:$L$11,12,FALSE)='Sphinx 2016'!D87,"OUI","NON"),"")
A88: =T('[1]2016'!A79) | B88: ='[1]2016'!AK79 -> #VALUE! | C88: ='[1]2016'!AL79 -> #VALUE! | D88: ='[1]2016'!H79 -> 0 | E88: =SUM('[1]2016'!I79) -> 0 | F88: =SUM('[1]2016'!AA79) -> 0 | G88: =SUM('[1]2016'!AB79) -> 0 | H88: =SUM('[1]2016'!AC79) -> 0 | I88: =T('[1]2016'!AH79) | J88: =IFERROR(IF(VLOOKUP(B88,'Données Sphinx'!$A$7:$L$11,12,FALSE)='Sphinx 2016'!D88,"OUI","NON"),"")
A89: =T('[1]2016'!A80) | B89: ='[1]2016'!AK80 -> #VALUE! | C89: ='[1]2016'!AL80 -> #VALUE! | D89: ='[1]2016'!H80 -> 0 | E89: =SUM('[1]2016'!I80) -> 0 | F89: =SUM('[1]2016'!AA80) -> 0 | G89: =SUM('[1]2016'!AB80) -> 0 | H89: =SUM('[1]2016'!AC80) -> 0 | I89: =T('[1]2016'!AH80) | J89: =IFERROR(IF(VLOOKUP(B89,'Données Sphinx'!$A$7:$L$11,12,FALSE)='Sphinx 2016'!D89,"OUI","NON"),"")
A90: =T('[1]2016'!A81) | B90: ='[1]2016'!AK81 -> #VALUE! | C90: ='[1]2016'!AL81 -> #VALUE! | D90: ='[1]2016'!H81 -> 0 | E90: =SUM('[1]2016'!I81) -> 0 | F90: =SUM('[1]2016'!AA81) -> 0 | G90: =SUM('[1]2016'!AB81) -> 0 | H90: =SUM('[1]2016'!AC81) -> 0 | I90: =T('[1]2016'!AH81) | J90: =IFERROR(IF(VLOOKUP(B90,'Données Sphinx'!$A$7:$L$11,12,FALSE)='Sphinx 2016'!D90,"OUI","NON"),"")
A91: =T('[1]2016'!A82) | B91: ='[1]2016'!AK82 -> #VALUE! | C91: ='[1]2016'!AL82 -> #VALUE! | D91: ='[1]2016'!H82 -> 0 | E91: =SUM('[1]2016'!I82) -> 0 | F91: =SUM('[1]2016'!AA82) -> 0 | G91: =SUM('[1]2016'!AB82) -> 0 | H91: =SUM('[1]2016'!AC82) -> 0 | I91: =T('[1]2016'!AH82) | J91: =IFERROR(IF(VLOOKUP(B91,'Données Sphinx'!$A$7:$L$11,12,FALSE)='Sphinx 2016'!D91,"OUI","NON"),"")
A92: =T('[1]2016'!A83) | B92: ='[1]2016'!AK83 -> #VALUE! | C92: ='[1]2016'!AL83 -> #VALUE! | D92: ='[1]2016'!H83 -> 0 | E92: =SUM('[1]2016'!I83) -> 0 | F92: =SUM('[1]2016'!AA83) -> 0 | G92: =SUM('[1]2016'!AB83) -> 0 | H92: =SUM('[1]2016'!AC83) -> 0 | I92: =T('[1]2016'!AH83) | J92: =IFERROR(IF(VLOOKUP(B92,'Données Sphinx'!$A$7:$L$11,12,FALSE)='Sphinx 2016'!D92,"OUI","NON"),"")
A93: =T('[1]2016'!A84) | B93: ='[1]2016'!AK84 -> #VALUE! | C93: ='[1]2016'!AL84 -> #VALUE! | D93: ='[1]2016'!H84 -> 0 | E93: =SUM('[1]2016'!I84) -> 0 | F93: =SUM('[1]2016'!AA84) -> 0 | G93: =SUM('[1]2016'!AB84) -> 0 | H93: =SUM('[1]2016'!AC84) -> 0 | I93: =T('[1]2016'!AH84) | J93: =IFERROR(IF(VLOOKUP(B93,'Données Sphinx'!$A$7:$L$11,12,FALSE)='Sphinx 2016'!D93,"OUI","NON"),"")
A94: =T('[1]2016'!A85) | B94: ='[1]2016'!AK85 -> #VALUE! | C94: ='[1]2016'!AL85 -> #VALUE! | D94: ='[1]2016'!H85 -> 0 | E94: =SUM('[1]2016'!I85) -> 0 | F94: =SUM('[1]2016'!AA85) -> 0 | G94: =SUM('[1]2016'!AB85) -> 0 | H94: =SUM('[1]2016'!AC85) -> 0 | I94: =T('[1]2016'!AH85) | J94: =IFERROR(IF(VLOOKUP(B94,'Données Sphinx'!$A$7:$L$11,12,FALSE)='Sphinx 2016'!D94,"OUI","NON"),"")
... A110: =T('[1]2016'!A101) | B110: ='[1]2016'!AK101 -> #VALUE! | C110: ='[1]2016'!AL101 -> #VALUE! | D110: ='[1]2016'!H101 -> 0 | E110: =SUM('[1]2016'!I101) -> 0 | F110: =SUM('[1]2016'!AA101) -> 0 | G110: =SUM('[1]2016'!AB101) -> 0 | H110: =SUM('[1]2016'!AC101) -> 0 | I110: =T('[1]2016'!AH101) | J110: =IFERROR(IF(VLOOKUP(B110,'Données Sphinx'!$A$7:$L$11,12,FALSE)='Sphinx 2016'!D110,"OUI","NON"),"")
A111: =T('[1]2016'!A102) | B111: ='[1]2016'!AK102 -> #VALUE! | C111: =IF(ISBLANK('[1]2016'!AL102),"",'[1]2016'!AL102) -> #VALUE! | D111: ='[1]2016'!H102 -> 0 | E111: =SUM('[1]2016'!I102) -> 0 | F111: =SUM('[1]2016'!AA102) -> 0 | G111: =SUM('[1]2016'!AB102) -> 0 | H111: =SUM('[1]2016'!AC102) -> 0 | I111: =T('[1]2016'!AH102) | J111: =IFERROR(IF(VLOOKUP(B111,'Données Sphinx'!$A$7:$L$11,12,FALSE)='Sphinx 2016'!D111,"OUI","NON"),"")
A112: =T('[1]2016'!A103) | B112: ='[1]2016'!AK103 -> #VALUE! | C112: =IF(ISBLANK('[1]2016'!AL103),"",'[1]2016'!AL103) -> #VALUE! | D112: ='[1]2016'!H103 -> 0 | E112: =SUM('[1]2016'!I103) -> 0 | F112: =SUM('[1]2016'!AA103) -> 0 | G112: =SUM('[1]2016'!AB103) -> 0 | H112: =SUM('[1]2016'!AC103) -> 0 | I112: =T('[1]2016'!AH103) | J112: =IFERROR(IF(VLOOKUP(B112,'Données Sphinx'!$A$7:$L$11,12,FALSE)='Sphinx 2016'!D112,"OUI","NON"),"")
A113: =T('[1]2016'!A104) | B113: ='[1]2016'!AK104 -> #VALUE! | C113: =IF(ISBLANK('[1]2016'!AL104),"",'[1]2016'!AL104) -> #VALUE! | D113: ='[1]2016'!H104 -> 0 | E113: =SUM('[1]2016'!I104) -> 0 | F113: =SUM('[1]2016'!AA104) -> 0 | G113: =SUM('[1]2016'!AB104) -> 0 | H113: =SUM('[1]2016'!AC104) -> 0 | I113: =T('[1]2016'!AH104) | J113: =IFERROR(IF(VLOOKUP(B113,'Données Sphinx'!$A$7:$L$11,12,FALSE)='Sphinx 2016'!D113,"OUI","NON"),"")
A114: =T('[1]2016'!A105) | B114: ='[1]2016'!AK105 -> #VALUE! | C114: =IF(ISBLANK('[1]2016'!AL105),"",'[1]2016'!AL105) -> #VALUE! | D114: ='[1]2016'!H105 -> 0 | E114: =SUM('[1]2016'!I105) -> 0 | F114: =SUM('[1]2016'!AA105) -> 0 | G114: =SUM('[1]2016'!AB105) -> 0 | H114: =SUM('[1]2016'!AC105) -> 0 | I114: =T('[1]2016'!AH105) | J114: =IFERROR(IF(VLOOKUP(B114,'Données Sphinx'!$A$7:$L$11,12,FALSE)=D114,"OUI","NON"),"")
A115: =T('[1]2016'!A106) | B115: ='[1]2016'!AK106 -> #VALUE! | C115: =IF(ISBLANK('[1]2016'!AL106),"",'[1]2016'!AL106) -> #VALUE! | D115: ='[1]2016'!H106 -> 0 | E115: =SUM('[1]2016'!I106) -> 0 | F115: =SUM('[1]2016'!AA106) -> 0 | G115: =SUM('[1]2016'!AB106) -> 0 | H115: =SUM('[1]2016'!AC106) -> 0 | I115: =T('[1]2016'!AH106) | J115: =IFERROR(IF(VLOOKUP(B115,'Données Sphinx'!$A$7:$L$11,12,FALSE)=D115,"OUI","NON"),"")
A116: =T('[1]2016'!A107) | B116: ='[1]2016'!AK107 -> #VALUE! | C116: =IF(ISBLANK('[1]2016'!AL107),"",'[1]2016'!AL107) -> #VALUE! | D116: ='[1]2016'!H107 -> 0 | E116: =SUM('[1]2016'!I107) -> 0 | F116: =SUM('[1]2016'!AA107) -> 0 | G116: =SUM('[1]2016'!AB107) -> 0 | H116: =SUM('[1]2016'!AC107) -> 0 | I116: =T('[1]2016'!AH107) | J116: =IFERROR(IF(VLOOKUP(B116,'Données Sphinx'!$A$7:$L$11,12,FALSE)=D116,"OUI","NON"),"")
A117: =T('[1]2016'!A108) | B117: ='[1]2016'!AK108 -> #VALUE! | C117: =IF(ISBLANK('[1]2016'!AL108),"",'[1]2016'!AL108) -> #VALUE! | D117: ='[1]2016'!H108 -> 0 | E117: =SUM('[1]2016'!I108) -> 0 | F117: =SUM('[1]2016'!AA108) -> 0 | G117: =SUM('[1]2016'!AB108) -> 0 | H117: =SUM('[1]2016'!AC108) -> 0 | I117: =T('[1]2016'!AH108) | J117: =IFERROR(IF(VLOOKUP(B117,'Données Sphinx'!$A$7:$L$11,12,FALSE)=D117,"OUI","NON"),"")
A118: =T('[1]2016'!A109) | B118: ='[1]2016'!AK109 -> #VALUE! | C118: =IF(ISBLANK('[1]2016'!AL109),"",'[1]2016'!AL109) -> #VALUE! | D118: ='[1]2016'!H109 -> 0 | E118: =SUM('[1]2016'!I109) -> 0 | F118: =SUM('[1]2016'!AA109) -> 0 | G118: =SUM('[1]2016'!AB109) -> 0 | H118: =SUM('[1]2016'!AC109) -> 0 | I118: =T('[1]2016'!AH109) | J118: =IFERROR(IF(VLOOKUP(B118,'Données Sphinx'!$A$7:$L$11,12,FALSE)=D118,"OUI","NON"),"")
A119: =T('[1]2016'!A110) | B119: ='[1]2016'!AK110 -> #VALUE! | C119: =IF(ISBLANK('[1]2016'!AL110),"",'[1]2016'!AL110) -> #VALUE! | D119: ='[1]2016'!H110 -> 0 | E119: =SUM('[1]2016'!I110) -> 0 | F119: =SUM('[1]2016'!AA110) -> 0 | G119: =SUM('[1]2016'!AB110) -> 0 | H119: =SUM('[1]2016'!AC110) -> 0 | I119: =T('[1]2016'!AH110) | J119: =IFERROR(IF(VLOOKUP(B119,'Données Sphinx'!$A$7:$L$11,12,FALSE)=D119,"OUI","NON"),"")
A120: =T('[1]2016'!A111) | B120: ='[1]2016'!AK111 -> #VALUE! | C120: =IF(ISBLANK('[1]2016'!AL111),"",'[1]2016'!AL111) -> #VALUE! | D120: ='[1]2016'!H111 -> 0 | E120: =SUM('[1]2016'!I111) -> 0 | F120: =SUM('[1]2016'!AA111) -> 0 | G120: =SUM('[1]2016'!AB111) -> 0 | H120: =SUM('[1]2016'!AC111) -> 0 | I120: =T('[1]2016'!AH111) | J120: =IFERROR(IF(VLOOKUP(B120,'Données Sphinx'!$A$7:$L$11,12,FALSE)=D120,"OUI","NON"),"")
A121: =T('[1]2016'!A112) | B121: ='[1]2016'!AK112 -> #VALUE! | C121: =IF(ISBLANK('[1]2016'!AL112),"",'[1]2016'!AL112) -> #VALUE! | D121: ='[1]2016'!H112 -> 0 | E121: =SUM('[1]2016'!I112) -> 0 | F121: =SUM('[1]2016'!AA112) -> 0 | G121: =SUM('[1]2016'!AB112) -> 0 | H121: =SUM('[1]2016'!AC112) -> 0 | I121: =T('[1]2016'!AH112) | J121: =IFERROR(IF(VLOOKUP(B121,'Données Sphinx'!$A$7:$L$11,12,FALSE)=D121,"OUI","NON"),"")
A122: =T('[1]2016'!A113) | B122: ='[1]2016'!AK113 -> #VALUE! | C122: =IF(ISBLANK('[1]2016'!AL113),"",'[1]2016'!AL113) -> #VALUE! | D122: ='[1]2016'!H113 -> 0 | E122: =SUM('[1]2016'!I113) -> 0 | F122: =SUM('[1]2016'!AA113) -> 0 | G122: =SUM('[1]2016'!AB113) -> 0 | H122: =SUM('[1]2016'!AC113) -> 0 | I122: =T('[1]2016'!AH113) | J122: =IFERROR(IF(VLOOKUP(B122,'Données Sphinx'!$A$7:$L$7,12,FALSE)='Sphinx 2016'!D122,"OUI","NON"),"")
A123: =T('[1]2016'!A114) | B123: ='[1]2016'!AK114 -> #VALUE! | C123: =IF(ISBLANK('[1]2016'!AL114),"",'[1]2016'!AL114) -> #VALUE! | D123: ='[1]2016'!H114 -> 0 | E123: =SUM('[1]2016'!I114) -> 0 | F123: =SUM('[1]2016'!AA114) -> 0 | G123: =SUM('[1]2016'!AB114) -> 0 | H123: =SUM('[1]2016'!AC114) -> 0 | I123: =T('[1]2016'!AH114) | J123: =IFERROR(IF(VLOOKUP(B123,'Données Sphinx'!$A$7:$L$7,12,FALSE)='Sphinx 2016'!D123,"OUI","NON"),"")
A124: =T('[1]2016'!A115) | B124: ='[1]2016'!AK115 -> #VALUE! | C124: =IF(ISBLANK('[1]2016'!AL115),"",'[1]2016'!AL115) -> #VALUE! | D124: ='[1]2016'!H115 -> 0 | E124: =SUM('[1]2016'!I115) -> 0 | F124: =SUM('[1]2016'!AA115) -> 0 | G124: =SUM('[1]2016'!AB115) -> 0 | H124: =SUM('[1]2016'!AC115) -> 0 | I124: =T('[1]2016'!AH115) | J124: =IFERROR(IF(VLOOKUP(B124,'Données Sphinx'!$A$7:$L$7,12,FALSE)='Sphinx 2016'!D124,"OUI","NON"),"")
A125: =T('[1]2016'!A116) | B125: ='[1]2016'!AK116 -> #VALUE! | C125: =IF(ISBLANK('[1]2016'!AL116),"",'[1]2016'!AL116) -> #VALUE! | D125: ='[1]2016'!H116 -> 0 | E125: =SUM('[1]2016'!I116) -> 0 | F125: =SUM('[1]2016'!AA116) -> 0 | G125: =SUM('[1]2016'!AB116) -> 0 | H125: =SUM('[1]2016'!AC116) -> 0 | I125: =T('[1]2016'!AH116) | J125: =IFERROR(IF(VLOOKUP(B125,'Données Sphinx'!$A$7:$L$7,12,FALSE)='Sphinx 2016'!D125,"OUI","NON"),"")
A126: =T('[1]2016'!A117) | B126: ='[1]2016'!AK117 -> #VALUE! | C126: =IF(ISBLANK('[1]2016'!AL117),"",'[1]2016'!AL117) -> #VALUE! | D126: ='[1]2016'!H117 -> 0 | E126: =SUM('[1]2016'!I117) -> 0 | F126: =SUM('[1]2016'!AA117) -> 0 | G126: =SUM('[1]2016'!AB117) -> 0 | H126: =SUM('[1]2016'!AC117) -> 0 | I126: =T('[1]2016'!AH117) | J126: =IFERROR(IF(VLOOKUP(B126,'Données Sphinx'!$A$7:$L$7,12,FALSE)='Sphinx 2016'!D126,"OUI","NON"),"")
A127: =T('[1]2016'!A118) | B127: ='[1]2016'!AK118 -> #VALUE! | C127: =IF(ISBLANK('[1]2016'!AL118),"",'[1]2016'!AL118) -> #VALUE! | D127: ='[1]2016'!H118 -> 0 | E127: =SUM('[1]2016'!I118) -> 0 | F127: =SUM('[1]2016'!AA118) -> 0 | G127: =SUM('[1]2016'!AB118) -> 0 | H127: =SUM('[1]2016'!AC118) -> 0 | I127: =T('[1]2016'!AH118) | J127: =IFERROR(IF(VLOOKUP(B127,'Données Sphinx'!$A$7:$L$7,12,FALSE)='Sphinx 2016'!D127,"OUI","NON"),"")
A128: =T('[1]2016'!A119) | B128: ='[1]2016'!AK119 -> #VALUE! | C128: =IF(ISBLANK('[1]2016'!AL119),"",'[1]2016'!AL119) -> #VALUE! | D128: ='[1]2016'!H119 -> 0 | E128: =SUM('[1]2016'!I119) -> 0 | F128: =SUM('[1]2016'!AA119) -> 0 | G128: =SUM('[1]2016'!AB119) -> 0 | H128: =SUM('[1]2016'!AC119) -> 0 | I128: =T('[1]2016'!AH119) | J128: =IFERROR(IF(VLOOKUP(B128,'Données Sphinx'!$A$7:$L$7,12,FALSE)='Sphinx 2016'!D128,"OUI","NON"),"")
A129: =T('[1]2016'!A120) | B129: ='[1]2016'!AK120 -> #VALUE! | C129: =IF(ISBLANK('[1]2016'!AL120),"",'[1]2016'!AL120) -> #VALUE! | D129: ='[1]2016'!H120 -> 0 | E129: =SUM('[1]2016'!I120) -> 0 | F129: =SUM('[1]2016'!AA120) -> 0 | G129: =SUM('[1]2016'!AB120) -> 0 | H129: =SUM('[1]2016'!AC120) -> 0 | I129: =T('[1]2016'!AH120) | J129: =IFERROR(IF(VLOOKUP(B129,'Données Sphinx'!$A$7:$L$7,12,FALSE)='Sphinx 2016'!D129,"OUI","NON"),"")
A130: =T('[1]2016'!A121) | B130: ='[1]2016'!AK121 -> #VALUE! | C130: =IF(ISBLANK('[1]2016'!AL121),"",'[1]2016'!AL121) -> #VALUE! | D130: ='[1]2016'!H121 -> 0 | E130: =SUM('[1]2016'!I121) -> 0 | F130: =SUM('[1]2016'!AA121) -> 0 | G130: =SUM('[1]2016'!AB121) -> 0 | H130: =SUM('[1]2016'!AC121) -> 0 | I130: =T('[1]2016'!AH121) | J130: =IFERROR(IF(VLOOKUP(B130,'Données Sphinx'!$A$7:$L$7,12,FALSE)='Sphinx 2016'!D130,"OUI","NON"),"")
A131: =T('[1]2016'!A122) | B131: ='[1]2016'!AK122 -> #VALUE! | C131: =IF(ISBLANK('[1]2016'!AL122),"",'[1]2016'!AL122) -> #VALUE! | D131: ='[1]2016'!H122 -> 0 | E131: =SUM('[1]2016'!I122) -> 0 | F131: =SUM('[1]2016'!AA122) -> 0 | G131: =SUM('[1]2016'!AB122) -> 0 | H131: =SUM('[1]2016'!AC122) -> 0 | I131: =T('[1]2016'!AH122) | J131: =IFERROR(IF(VLOOKUP(B131,'Données Sphinx'!$A$7:$L$7,12,FALSE)='Sphinx 2016'!D131,"OUI","NON"),"")
A132: =T('[1]2016'!A123) | B132: ='[1]2016'!AK123 -> #VALUE! | C132: =IF(ISBLANK('[1]2016'!AL123),"",'[1]2016'!AL123) -> #VALUE! | D132: ='[1]2016'!H123 -> 0 | E132: =SUM('[1]2016'!I123) -> 0 | F132: =SUM('[1]2016'!AA123) -> 0 | G132: =SUM('[1]2016'!AB123) -> 0 | H132: =SUM('[1]2016'!AC123) -> 0 | I132: =T('[1]2016'!AH123) | J132: =IFERROR(IF(VLOOKUP(B132,'Données Sphinx'!$A$7:$L$7,12,FALSE)='Sphinx 2016'!D132,"OUI","NON"),"")
A133: =T('[1]2016'!A124) | B133: ='[1]2016'!AK124 -> #VALUE! | C133: =IF(ISBLANK('[1]2016'!AL124),"",'[1]2016'!AL124) -> #VALUE! | D133: ='[1]2016'!H124 -> 0 | E133: =SUM('[1]2016'!I124) -> 0 | F133: =SUM('[1]2016'!AA124) -> 0 | G133: =SUM('[1]2016'!AB124) -> 0 | H133: =SUM('[1]2016'!AC124) -> 0 | I133: =T('[1]2016'!AH124) | J133: =IFERROR(IF(VLOOKUP(B133,'Données Sphinx'!$A$7:$L$7,12,FALSE)='Sphinx 2016'!D133,"OUI","NON"),"")
... A154: =T('[1]2016'!A145) | B154: ='[1]2016'!AK145 -> #VALUE! | C154: =IF(ISBLANK('[1]2016'!AL145),"",'[1]2016'!AL145) -> #VALUE! | D154: ='[1]2016'!H145 -> 0 | E154: =SUM('[1]2016'!I145) -> 0 | F154: =SUM('[1]2016'!AA145) -> 0 | G154: =SUM('[1]2016'!AB145) -> 0 | H154: =SUM('[1]2016'!AC145) -> 0 | I154: =T('[1]2016'!AH145) | J154: =IFERROR(IF(VLOOKUP(B154,'Données Sphinx'!$A$7:$L$7,12,FALSE)='Sphinx 2016'!D154,"OUI","NON"),"")
A155: =T('[1]2016'!A146) | B155: ='[1]2016'!AK146 -> #VALUE! | C155: ='[1]2016'!AL146 -> #VALUE! | D155: ='[1]2016'!H146 -> 0 | E155: =SUM('[1]2016'!I146) -> 0 | F155: =SUM('[1]2016'!AA146) -> 0 | G155: =SUM('[1]2016'!AB146) -> 0 | H155: =SUM('[1]2016'!AC146) -> 0 | I155: =T('[1]2016'!AH146) | J155: =IFERROR(IF(VLOOKUP(B155,'Données Sphinx'!$A$7:$L$7,12,FALSE)='Sphinx 2016'!D155,"OUI","NON"),"")
A156: =T('[1]2016'!A147) | B156: ='[1]2016'!AK147 -> #VALUE! | C156: ='[1]2016'!AL147 -> #VALUE! | D156: ='[1]2016'!H147 -> 0 | E156: =SUM('[1]2016'!I147) -> 0 | F156: =SUM('[1]2016'!AA147) -> 0 | G156: =SUM('[1]2016'!AB147) -> 0 | H156: =SUM('[1]2016'!AC147) -> 0 | I156: =T('[1]2016'!AH147) | J156: =IFERROR(IF(VLOOKUP(B156,'Données Sphinx'!$A$7:$L$7,12,FALSE)='Sphinx 2016'!D156,"OUI","NON"),"")
A157: =T('[1]2016'!A148) | B157: ='[1]2016'!AK148 -> #VALUE! | C157: ='[1]2016'!AL148 -> #VALUE! | D157: ='[1]2016'!H148 -> 0 | E157: =SUM('[1]2016'!I148) -> 0 | F157: =SUM('[1]2016'!AA148) -> 0 | G157: =SUM('[1]2016'!AB148) -> 0 | H157: =SUM('[1]2016'!AC148) -> 0 | I157: =T('[1]2016'!AH148) | J157: =IFERROR(IF(VLOOKUP(B157,'Données Sphinx'!$A$7:$L$7,12,FALSE)='Sphinx 2016'!D157,"OUI","NON"),"")
