Workbook

Sheet Données Sphinx
A1: Date de mise à jour | B1: =TODAY() -> 42417
A2: Légende
B3: Personne ayant répondu au questionnaire SPHINX sans être dans le tableau suivi AT de l'année en cours
B4: Personne ayant répondu au questionnaire SPHINX dont l'AT n'a pas été pris en charge
A6: Nom | B6: Prenom | C6: Date naissance | D6: Poste | E6: Autres postes | F6: Ancienneté | G6: Cooperative | H6: Titulaire | I6: Département | J6: Dernier jour travaillé | K6: Dernier jour repos | L6: Date accident | M6: Heure accident | N6: Quelles sont les horaires de travail ? | O6: Lieu de l'accident | P6: Lieu habituel | Q6: Type d'accident | R6: temoin1 | S6: Autres victimes | T6: Nom | U6: Prénom | V6: Numéro de téléphone | W6: Nom | X6: Prénom | Y6: Numéro de téléphone | Z6: Lésions ? | AA6: Coté | AB6: Siège des lésions | AC6: Nature lésion | AD6: Autres natures des lésions | AE6: Récit des circonstances de l'accident | AF6: Intervention ext | AG6: Charge travail | AH6: Climat | AI6: Problème materiel | AJ6: Genre problème materiel | AK6: Lieu de l'accident | AL6: Autre lieu de l'accident | AM6: Nombre actes | AN6: Presence eleveur | AO6: Si oui, vous a-t-il aidé ? | AP6: Comment qualifieriez vous votre relation ? | AQ6: Problème relationnel avant ? | AR6: Ambiance elevage ? | AS6: Présence chien | AT6: Action chien ? | AU6: Circonstance accident | AV6: Autres circonstances ? | AW6: Accès | AX6: Autres accès | AY6: L'animal était-il classé dangereux ? | AZ6: A quel endroit ? | BA6: Autres endroits ? | BB6: Quel était la nature du sol lors de l'insémination ? | BC6: Autre nature du sol lors de l'insémination ? | BD6: Hauteur de marche ? | BE6: Contention ? | BF6: Depuis combien de temps l'animal était-il bloqué ? | BG6: L'animal était-il seul ou avec d'autres ? | BH6: type contention | BI6: Autres types de contention | BJ6: Etat materiel | BK6: Trajet habituel | BL6: Nombre km | BM6: Etat vehicule | BN6: Marque | BO6: Autres marques | BP6: Entretien à jour | BQ6: Autres entretien à jour | BR6: téléphone au volant | BS6: Temps pour compléter le questionnaire ? | BT6: Pertinence des questions ? | BU6: Améliorations du questionnaire | BV6: CLE | BW6: DATE_SAISIE | BX6: DATE_ENREG | BY6: DATE_MODIF | BZ6: TEMPS_SAISIE
A7: VIMOND | H7: Titulaire | I7: Manche | J7: 41646 | K7: 41645 | L7: 41642 | M7: 0.47916667
A8: LELIEVRE | F8: 38327 | H8: Titulaire | I8: Mayenne | J8: 41655 | K8: 41651 | L8: 41653 | M8: 0.41666667
A9: VIMOND | H9: Titulaire | I9: Manche | J9: 41717 | K9: 41714 | L9: 41716 | M9: 0.52083333
A10: LELIEVRE | F10: 38327 | H10: Titulaire | I10: Mayenne | J10: 41705 | K10: 41701 | L10: 41705 | M10: 0.61458333
A11: HUMBERT | F11: 41457 | H11: Titulaire | I11: Ardennes | J11: 41719 | K11: 41690 | L11: 41719 | M11: 0.52083333
A12: Salliot | F12: 41281 | H12: Titulaire | I12: Manche | J12: 41726 | K12: 41722 | L12: 41726 | M12: 0.33333333
A13: GUESDON | F13: 41582 | H13: Remplaçant | I13: Mayenne | J13: 41733 | K13: 41737 | L13: 41732 | M13: 0.375
A14: ROMAGNE | F14: 29860 | H14: Titulaire | I14: Mayenne | J14: 41751 | K14: 41747 | L14: 41748 | M14: 0.375
A15: mathelier | F15: 36800 | H15: Titulaire | I15: Calvados | J15: 41752 | K15: 41734 | L15: 41751 | M15: 0.41666667
A16: BUFFET | F16: 40330 | H16: Titulaire | I16: Mayenne | J16: 41750 | K16: 41752 | L16: 41783 | M16: 0.35416667
A17: EVAIN | F17: 39661 | H17: Titulaire | I17: Mayenne | J17: 41774 | K17: 41775 | L17: 41773 | M17: 0.5625
A18: DUFEU | F18: 37592 | H18: Titulaire | I18: Ille-et-Vilaine | J18: 41802 | K18: 41798 | L18: 41800 | M18: 0.47916667
A19: BRETAUDEAU | F19: 40758 | H19: Titulaire | I19: Mayenne | J19: 41815 | K19: 41813 | L19: 41808 | M19: 0.66666667
A20: BETTON | F20: 30286 | H20: Titulaire | I20: Mayenne | J20: 41812 | K20: 41799 | L20: 41806 | M20: 0.66666667
A21: breillet | F21: 35674 | H21: Titulaire | I21: Manche | J21: 41815 | K21: 41809 | L21: 41815 | M21: 0.66666667
A22: quintin | F22: 30498 | H22: Titulaire | I22: Finistère | J22: 41857 | K22: 41837 | L22: 41857 | M22: 0.4375
A23: FONTENELLE | E23: RESPONSABLE SUPPORT DES VENTES | F23: 36003 | H23: Titulaire | I23: Calvados | J23: 41863 | K23: 41861 | L23: 41862 | M23: 0.41666667
A24: LETOURNEUR | F24: 41689 | H24: Remplaçant | I24: Manche | J24: 41864 | K24: 41863 | L24: 41862 | M24: 0.71875
A25: Lecomte | F25: 30811 | H25: Titulaire | I25: Manche | J25: 41864 | K25: 41861 | L25: 41864 | M25: 0.68055556
A26: TUSSEAU | F26: 36404 | H26: Titulaire | I26: Mayenne | J26: 41900 | K26: 41896 | L26: 41898 | M26: 0.42708333
A27: VIEZZER | F27: 30173 | H27: Titulaire | I27: Finistère | J27: 41887 | K27: 41882 | L27: 41887 | M27: 0.71527778
A28: GASPALON | F28: 37226 | H28: Titulaire | I28: Mayenne | J28: 41900 | K28: 41882 | L28: 41901 | M28: 0.47916667
A29: delauney | F29: 41411 | H29: Volant | I29: Manche | J29: 41902 | K29: 41899 | L29: 41902 | M29: 0.73958333
A30: HAJJI | F30: 33546 | H30: Titulaire | I30: Côtes-d'Armor | J30: 41904 | K30: 41901 | L30: 41902 | M30: 0.64583333
A31: LE PRIOL | F31: 37987 | H31: Titulaire | I31: Manche | J31: 41908 | K31: 41906 | L31: 41907 | M31: 0.4375
A32: CORNU | E32: TECHNICIEN EN GESTION DE LA REPRODUCTION BOVINE | F32: 29113 | H32: Titulaire | I32: Mayenne | J32: 41908 | K32: 41903 | L32: 41908 | M32: 0.625
A33: HUBERT | F33: 39300 | H33: Titulaire | I33: Mayenne | J33: 41912 | K33: 41903 | L33: 41911 | M33: 0.375
A34: barillé | F34: 41274 | H34: Volant | I34: Finistère | J34: 41912 | K34: 41902 | L34: 41912 | M34: 0.47916667
A35: CHEVREUL | F35: 37683 | H35: Titulaire | I35: Mayenne | J35: 41922 | K35: 41913 | L35: 41921 | M35: 0.75
A36: Bouvier | F36: 37861 | H36: Titulaire | I36: Mayenne | J36: 41927 | K36: 41924 | L36: 41927 | M36: 0.375
A37: Guillouet | F37: 40364 | H37: Remplaçant | I37: Ille-et-Vilaine | J37: 41929 | K37: 41926 | L37: 41929 | M37: 0.41666667
A38: PECHEUL | E38: Responsable filière porcine | F38: 41518 | H38: Titulaire | I38: Côtes-d'Armor | K38: 41941 | L38: 41936 | M38: 0.46875
A39: COURT | F39: 34498 | H39: Titulaire | I39: Manche | J39: 41945 | K39: 41938 | L39: 41944 | M39: 0.5
A40: GUENNEUGUES | F40: 33574 | H40: Titulaire | I40: Ille-et-Vilaine | J40: 41888 | K40: 41886 | L40: 41888 | M40: 0.79166667
A41: BOIXIERE | F41: 30376 | H41: Titulaire | I41: Côtes-d'Armor | J41: 41953 | K41: 41952 | L41: 41953 | M41: 0.75
...

Sheet Sphinx 2016
A1: Date de mise à jour | B1: =TODAY() -> 42417
A3: Taux de réponses par coopérative
A4: Amélis
A5: Evolution
A6: Génoé
A7: Urcéo
A8: Global
A10: Coopérative | B10: Nom | C10: Prénom | D10: Date de l'accident | E10: Heure de l'accident | F10: AT avec arrêt | G10: AT sans arrêt | H10: Accident de trajet | I10: Envoi du questionnaire Sphinx | J10: Réception du questionnaire Sphinx
B11: ROPERT | D11: 42371 | E11: 0.60416667 | F11: 0 | G11: 1 | H11: 0 | I11: OUI | J11: =IFERROR(IF(VLOOKUP(B11,'Données Sphinx'!$A$7:$L$160,12,FALSE)='Sphinx 2016'!D11,"OUI","NON"),"")
B12: FOURNIER | D12: 42376 | E12: 0.46875 | F12: 0 | G12: 1 | H12: 0 | I12: OUI | J12: =IFERROR(IF(VLOOKUP(B12,'Données Sphinx'!$A$7:$L$11,12,FALSE)='Sphinx 2016'!D12,"OUI","NON"),"")
B13: MORVAN | D13: 42376 | E13: 0.45833333 | F13: 0 | G13: 1 | H13: 0 | I13: OUI | J13: =IFERROR(IF(VLOOKUP(B13,'Données Sphinx'!$A$7:$L$11,12,FALSE)='Sphinx 2016'!D13,"OUI","NON"),"")
B14: CHOUIN | D14: 42377 | E14: 0.35416667 | F14: 0 | G14: 1 | H14: 0 | I14: OUI | J14: =IFERROR(IF(VLOOKUP(B14,'Données Sphinx'!$A$7:$L$11,12,FALSE)='Sphinx 2016'!D14,"OUI","NON"),"")
B15: DEBUT FARINO | D15: 42377 | E15: 0.45833333 | F15: 0 | G15: 1 | H15: 0 | I15: OUI | J15: =IFERROR(IF(VLOOKUP(B15,'Données Sphinx'!$A$7:$L$11,12,FALSE)='Sphinx 2016'!D15,"OUI","NON"),"")
B16: TIRMONT | D16: 42378 | E16: 0.39583333 | F16: 1 | G16: 0 | H16: 0 | J16: =IFERROR(IF(VLOOKUP(B16,'Données Sphinx'!$A$7:$L$11,12,FALSE)='Sphinx 2016'!D16,"OUI","NON"),"")
B17: THUARD | D17: 42380 | E17: 0.39583333 | F17: 0 | G17: 0 | H17: 1 | I17: OUI | J17: =IFERROR(IF(VLOOKUP(B17,'Données Sphinx'!$A$7:$L$11,12,FALSE)='Sphinx 2016'!D17,"OUI","NON"),"")
B18: FROMMENTOUX | D18: 42380 | E18: 0.66666667 | F18: 0 | G18: 1 | H18: 0 | J18: =IFERROR(IF(VLOOKUP(B18,'Données Sphinx'!$A$7:$L$11,12,FALSE)='Sphinx 2016'!D18,"OUI","NON"),"")
B19: GUESDON | D19: 42380 | E19: 0.69791667 | F19: 1 | G19: 0 | H19: 0 | I19: OUI | J19: =IFERROR(IF(VLOOKUP(B19,'Données Sphinx'!$A$7:$L$11,12,FALSE)='Sphinx 2016'!D19,"OUI","NON"),"")
B20: GAUTEUR | D20: 42381 | E20: 0.37847222 | F20: 1 | G20: 0 | H20: 0 | I20: OUI | J20: =IFERROR(IF(VLOOKUP(B20,'Données Sphinx'!$A$7:$L$11,12,FALSE)='Sphinx 2016'!D20,"OUI","NON"),"")
B21: LE BARS | D21: 42382 | E21: 0.48958333 | F21: 0 | G21: 1 | H21: 0 | J21: =IFERROR(IF(VLOOKUP(B21,'Données Sphinx'!$A$7:$L$11,12,FALSE)='Sphinx 2016'!D21,"OUI","NON"),"")
B22: MOISAN | D22: 42384 | E22: 0.41666667 | F22: 0 | G22: 1 | H22: 0 | J22: =IFERROR(IF(VLOOKUP(B22,'Données Sphinx'!$A$7:$L$11,12,FALSE)='Sphinx 2016'!D22,"OUI","NON"),"")
B23: RONCIN | D23: 42384 | E23: 0.39583333 | F23: 1 | G23: 0 | H23: 0 | J23: =IFERROR(IF(VLOOKUP(B23,'Données Sphinx'!$A$7:$L$11,12,FALSE)='Sphinx 2016'!D23,"OUI","NON"),"")
B24: CHESNAY | D24: 42384 | E24: 0.43055556 | F24: 0 | G24: 1 | H24: 0 | I24: OUI | J24: =IFERROR(IF(VLOOKUP(B24,'Données Sphinx'!$A$7:$L$11,12,FALSE)='Sphinx 2016'!D24,"OUI","NON"),"")
B25: SALMON | D25: 42386 | E25: 0.42708333 | F25: 0 | G25: 1 | H25: 0 | I25: OUI | J25: =IFERROR(IF(VLOOKUP(B25,'Données Sphinx'!$A$7:$L$11,12,FALSE)='Sphinx 2016'!D25,"OUI","NON"),"")
B26: DAHIER | D26: 42387 | E26: 0.4375 | F26: 0 | G26: 1 | H26: 0 | I26: OUI | J26: =IFERROR(IF(VLOOKUP(B26,'Données Sphinx'!$A$7:$L$11,12,FALSE)='Sphinx 2016'!D26,"OUI","NON"),"")
B27: LECOQ | D27: 42389 | E27: 0.47916667 | F27: 0 | G27: 1 | H27: 0 | I27: OUI | J27: =IFERROR(IF(VLOOKUP(B27,'Données Sphinx'!$A$7:$L$11,12,FALSE)='Sphinx 2016'!D27,"OUI","NON"),"")
B28: MARTIN | D28: 42393 | E28: 0.41666667 | F28: 1 | G28: 0 | H28: 0 | I28: OUI | J28: =IFERROR(IF(VLOOKUP(B28,'Données Sphinx'!$A$7:$L$11,12,FALSE)='Sphinx 2016'!D28,"OUI","NON"),"")
B29: THEPAUT | D29: 42394 | E29: 0.6875 | F29: 0 | G29: 1 | H29: 0 | J29: =IFERROR(IF(VLOOKUP(B29,'Données Sphinx'!$A$7:$L$11,12,FALSE)='Sphinx 2016'!D29,"OUI","NON"),"")
B30: OUVRARD | D30: 42395 | E30: 0.64583333 | F30: 1 | G30: 0 | H30: 0 | J30: =IFERROR(IF(VLOOKUP(B30,'Données Sphinx'!$A$7:$L$11,12,FALSE)='Sphinx 2016'!D30,"OUI","NON"),"")
B31: BURLOT | D31: 42396 | E31: 0.45833333 | F31: 0 | G31: 1 | H31: 0 | J31: =IFERROR(IF(VLOOKUP(B31,'Données Sphinx'!$A$7:$L$11,12,FALSE)='Sphinx 2016'!D31,"OUI","NON"),"")
B32: PERRE | D32: 42400 | E32: 0.33333333 | F32: 0 | G32: 1 | H32: 0 | I32: OUI | J32: =IFERROR(IF(VLOOKUP(B32,'Données Sphinx'!$A$7:$L$11,12,FALSE)='Sphinx 2016'!D32,"OUI","NON"),"")
B33: BRUAND | D33: 42402 | E33: 0.34375 | F33: 0 | G33: 0 | H33: 1 | I33: OUI | J33: =IFERROR(IF(VLOOKUP(B33,'Données Sphinx'!$A$7:$L$11,12,FALSE)='Sphinx 2016'!D33,"OUI","NON"),"")
B34: LACROIX | D34: 42404 | E34: 0.72916667 | F34: 1 | G34: 0 | H34: 0 | I34: OUI | J34: =IFERROR(IF(VLOOKUP(B34,'Données Sphinx'!$A$7:$L$11,12,FALSE)='Sphinx 2016'!D34,"OUI","NON"),"")
B35: ROCHER | D35: 42409 | E35: 0.47916667 | F35: 0 | G35: 1 | H35: 0 | I35: NON | J35: =IFERROR(IF(VLOOKUP(B35,'Données Sphinx'!$A$7:$L$11,12,FALSE)='Sphinx 2016'!D35,"OUI","NON"),"")
B36: PINEL | D36: 42410 | E36: 0.41666667 | F36: 1 | G36: 0 | H36: 0 | I36: OUI | J36: =IFERROR(IF(VLOOKUP(B36,'Données Sphinx'!$A$7:$L$11,12,FALSE)='Sphinx 2016'!D36,"OUI","NON"),"")
B37: VEBER | D37: 42412 | E37: 0.36458333 | F37: 0 | G37: 1 | H37: 0 | I37: OUI | J37: =IFERROR(IF(VLOOKUP(B37,'Données Sphinx'!$A$7:$L$11,12,FALSE)='Sphinx 2016'!D37,"OUI","NON"),"")
B38: LE PRINCE | D38: 42409 | E38: 0.45833333 | F38: 1 | G38: 0 | H38: 0 | J38: =IFERROR(IF(VLOOKUP(B38,'Données Sphinx'!$A$7:$L$11,12,FALSE)='Sphinx 2016'!D38,"OUI","NON"),"")
B39: PROD'HOMME | D39: 42415 | E39: 0.4375 | F39: 1 | G39: 0 | H39: 0 | I39: oui | J39: =IFERROR(IF(VLOOKUP(B39,'Données Sphinx'!$A$7:$L$11,12,FALSE)='Sphinx 2016'!D39,"OUI","NON"),"")
A40: ='[1]2016'!A31 -> 0 | B40: ='[1]2016'!AK31 -> #VALUE! | C40: ='[1]2016'!AL31 -> #VALUE! | D40: ='[1]2016'!H31 -> 0 | E40: ='[1]2016'!I31 -> 0 | F40: ='[1]2016'!AA31 -> 0 | G40: ='[1]2016'!AB31 -> 0 | H40: =SUM('[1]2016'!AC31) -> 0 | I40: =T('[1]2016'!AH31) | J40: =IFERROR(IF(VLOOKUP(B40,'Données Sphinx'!$A$7:$L$11,12,FALSE)='Sphinx 2016'!D40,"OUI","NON"),"")
A41: ='[1]2016'!A32 -> 0 | B41: ='[1]2016'!AK32 -> #VALUE! | C41: ='[1]2016'!AL32 -> #VALUE! | D41: ='[1]2016'!H32 -> 0 | E41: =SUM('[1]2016'!I32) -> 0 | F41: =SUM('[1]2016'!AA32) -> 0 | G41: =SUM('[1]2016'!AB32) -> 0 | H41: =SUM('[1]2016'!AC32) -> 0 | I41: =T('[1]2016'!AH32) | J41: =IFERROR(IF(VLOOKUP(B41,'Données Sphinx'!$A$7:$L$11,12,FALSE)='Sphinx 2016'!D41,"OUI","NON"),"")
A42: ='[1]2016'!A33 -> 0 | B42: ='[1]2016'!AK33 -> #VALUE! | C42: ='[1]2016'!AL33 -> #VALUE! | D42: ='[1]2016'!H33 -> 0 | E42: =SUM('[1]2016'!I33) -> 0 | F42: =SUM('[1]2016'!AA33) -> 0 | G42: =SUM('[1]2016'!AB33) -> 0 | H42: =SUM('[1]2016'!AC33) -> 0 | I42: =T('[1]2016'!AH33) | J42: =IFERROR(IF(VLOOKUP(B42,'Données Sphinx'!$A$7:$L$11,12,FALSE)='Sphinx 2016'!D42,"OUI","NON"),"")
...
