Workbook

Sheet ZONE
B2: S de ponts | D2: Spanset | F2: Ellingues Sécu | G2: Echelle de Pont | I2: Stop Chute | K2: Sangle Cliquet | M2: B6 | T2: ECLAT.B6 | W2: BAQ | X2: BOITIER B6 | AC2: Titan 6 | AD2: Titan 12 | AE2: Golgoth 6 | AF2: Golgoth 12 | AG2: Barbe Q | AH2: B9 | AP2: ECLAT.B9 | AS2: BOITIER IN/OUT | AT2: BOITIER | AU2: Parrallèle | AV2: Série | AW2: B9F/P17M | AX2: B9M/P17 F | AY2: guirlande cc 1000 | BC2: Powercon Farmer | BD2: BRETELLE | BE2: CORDONS | BF2: Plaquettes | BG2: Doublettes | BH2: PROLONS 16A | BR2: MODULES INTERPHONIE | BY2: Touret XLR3 | BZ2: Boitier 1in/3out | CA2: Link Powercon 5B | CB2: Link Powercon 5B | CC2: 16A/Powercon | CD2: Link Powercon 5B | CE2: Link Powercon 5B | CF2: 16A/Powercon | CG2: DATA 3 Br. | CP2: Link DB4 | CQ2: DATA 4 Br. | CX2: DATA 5 Br. | DJ2: Adaptateur Dmx | DM2: Montée Pont 5 Dmx | DV2: DATA 6 Br. | EB2: Link Arcaline | EE2: Teleco 5dmx+2 RJ45 | EF2: Teleco 10dmx+2 RJ45 | EG2: Teleco 5 RJ45 | EH2: Teleco 8 RJ45 | EI2: Safety Ring | EJ2: Ethernet RJ 45 | ES2: Adapt P17 16A vers Pc16A | EU2: P17 16A MONO 110v | FC2: Adapt P17 16A vers Pc16A | FE2: P17 16A MONO | FM2: P17 32A MONO | FY2: Sabot | FZ2: P17 16A Tri | GG2: P17 32A Tétra | GP2: P17 63A Tétra | GX2: P17 125A Tétra | HF2: Adaptateurs | HK2: Sabots Alim | HO2: Montée Lampe BigLite | HS2: Camlock 95° | HT2: Link Camlock 95° | HU2: Powerlock 95° | HV2: Powerlock 120° | HY2: Link Powerlock 120° | HZ2: Powerlock 240° | IA2: Cable Terre | IB2: Cable Terre | IC2: AL 33 | ID2: AL 35 | IE2: AL 40 | IF2: AL 60 | IG2: AL 80 | IH2: AL 126 | II2: AL 127 | IJ2: Rack scan 125A | IK2: AL 81 | IL2: RK 400 | IM2: RK 400/12B6 | IN2: Armoire 250A | IO2: Armoire 400A | IP2: Armoire 600A | IQ2: Jumbo Rack | IR2: Avo 36x3Kw/B6 | IS2: Avo 36x3Kw/B9 | IT2: Juliat 12x3Kw | IU2: Juliat 12x5Kw | IV2: Juliat 24x3Kw | IW2: Splitter Celco | IX2: Onduleur 650Va | IY2: Onduleur 1100Va | IZ2: Sabot Ondulé | JA2: Nsp | JB2: Nsp 2 | JC2: DP 2000 | JD2: DP 8000 | JE2: Nod 8 | JF2: Safety Ring | JG2: Gigaswitch | JH2: Interphonie HF | JI2: Interphonie Fil | JJ2: MDG 3000 | JK2: MDG 5000 | JL2: MDG 3000 | JM2: MDG 5000 | JN2: UNIK | JO2: Rack Light | JP2: Tiroir | JQ2: Tiroir | JR2: Rack 8U | JS2: Rack 16U | JT2: CP P4 | JU2: CP Bulldog | JV2: CP LONGUE
B3: Standart | C3: PM | D3: 1m | E3: 2m | G3: 10m | H3: 15m | I3: 10m | J3: 15m | K3: PM | L3: Camion | M3: 2.5 | N3: 5 | O3: 10 | P3: 15 | Q3: 20 | R3: 25 | S3: 30 | T3: Male | U3: Femelle | V3: Décalé | X3: Série | Y3: // | Z3: x2 | AA3: x4 | AB3: x6 | AH3: 1.5 | AI3: 2.5 | AJ3: 5 | AK3: 10 | AL3: 15 | AM3: 20 | AN3: 25 | AO3: 40 | AP3: Male | AQ3: Femelle | AR3: Décalé | AS3: 4 Socas | AT3: 2B9/3B6 | AU3: 1B9/2B9 | AV3: 1B9/2B9 | AY3: 2,5m | AZ3: 5m | BA3: 10m | BB3: 15m | BC3: 1PC/4 Powercon | BD3: 110V | BE3: CEE Shuko | BF3: Secteur | BG3: Caoutchouc | BH3: 2.5 | BI3: 5 | BJ3: 10 | BK3: 15 | BL3: 20 | BM3: 25 | BN3: 30 | BO3: 35 | BP3: 40 | BQ3: 50 | BR3: 2.5 | BS3: 5 | BT3: 10 | BU3: 15 | BV3: 20 | BW3: 25 | BX3: 30 | BY3: 50 | CA3: 1.2 | CB3: 5 | CC3: 1 | CD3: 1.2 | CE3: 5 | CF3: 1 | CG3: 2.5 | CH3: 5 | CI3: 10 | CJ3: 15 | CK3: 20 | CL3: 25 | CM3: 30 | CN3: 40 | CO3: 50 | CP3: 0.3 | CQ3: 2.5 | CR3: 5 | CS3: 10 | CT3: 15 | CU3: 20 | CV3: 25 | CW3: 30 | CX3: 0.6 | CY3: 1.2 | CZ3: 2.5 | DA3: 5 | DB3: 10 | DC3: 15 | DD3: 20 | DE3: 25 | DF3: 30 | DG3: 35 | DH3: 40 | DI3: 50 | DJ3: XLR 5/3 | DK3: XLR 3/5 | DL3: Male/Male | DM3: 5 | DN3: 10 | DO3: 15 | DP3: 20 | DQ3: 25 | DR3: 30 | DS3: 35 | DT3: 40 | DU3: 50 | DV3: 2.5 | DW3: 5 | DX3: 10 | DY3: 15 | DZ3: 20 | EA3: 25 | EB3: 1 | EC3: 2 | ED3: 5 | EE3: 120 | EF3: 120 | EG3: 120 | EH3: 120 | EI3: 250 | EJ3: 0.5 | EK3: 1 | EL3: 2 | EM3: 5 | EN3: 10 | EO3: 25 | EP3: 50 | EQ3: 80 | ER3: 120 | ES3: P17Male/PC16Fem | ET3: PC16Male/P17Fem | EU3: 0.6 | EV3: 1.2 | EW3: 2.5 | EX3: 5 | EY3: 10 | EZ3: 15 | FA3: 20 | FB3: 25 | FC3: P17Male/PC16Fem | FD3: PC16Male/P17Fem | FE3: 0.6 | FF3: 1.2 | FG3: 2.5 | FH3: 5 | FI3: 10 | FJ3: 15 | FK3: 20 | FL3: 25 | FM3: EPAN. | FN3: FOUET | FO3: 2.5 | FP3: 5 | FQ3: 10 | FR3: 15 | FS3: 20 | FT3: 25 | FU3: 30 | FV3: 35 | FW3: 40 | FX3: 50 | FY3: 32M/6Pc16A | FZ3: EPAN. | GA3: 5 | GB3: 10 | GC3: 15 | GD3: 20 | GE3: 25 | GF3: 30 | GG3: EPAN | GH3: 2.5 | GI3: 5 | GJ3: 10 | GK3: 15 | GL3: 20 | GM3: 25 | GN3: 30 | GO3: 50 | GP3: EPAN | GQ3: 2.5 | GR3: 5 | GS3: 10 | GT3: 15 | GU3: 20 | GV3: 25 | GW3: 50 | GX3: EPAN | GY3: 2.5 | GZ3: 5 | HA3: 10 | HB3: 15 | HC3: 20 | HD3: 25 | HE3: 50 | HF3: P17 32A/63A Tétra | HG3: P17 63A/125A Tétra | HH3: Camlock M...125T F | HI3: Power M /Cam F | HJ3: Cam M /Power F | HK3: 32T/12*16A | HL3: 63T/2*32T | HM3: 125T/4*32T+2*32m | HN3: 125T/2*63T | HO3: 5 | HP3: 10 | HQ3: 20 | HR3: 30 | HS3: kit complet | HT3: 2 | HU3: kit complet | HV3: Kit épa 10m | HW3: Kit Rallonge 10m | HX3: Kit rallonge 20m | HY3: 2 | HZ3: kit complet | IA3: 25° 10m | IB3: 25° 20m | IZ3: 32mono | JF3: 2 Baies | JL3: Atmosphère | JM3: Atmosphère | JO3: 1U | JP3: 2U | JQ3: 3U | JR3: Vide | JS3: Vide
A4: TOTAL PREVU | B4: 12 | C4: =SUM(C5:C394) -> 0 | D4: 4 | E4: =SUM(E5:E394) -> 0 | F4: 15 | G4: =SUM(G5:G394) -> 0 | H4: =SUM(H5:H394) -> 0 | I4: =SUM(I5:I394) -> 0 | J4: =SUM(J5:J394) -> 0 | K4: 6 | L4: =SUM(L5:L394) -> 0 | M4: 8 | N4: 4 | O4: =SUM(O5:O394) -> 0 | P4: 5 | Q4: =SUM(Q5:Q394) -> 0 | R4: 5 | S4: =SUM(S5:S394) -> 0 | T4: 1 | V4: 2 | X4: =SUM(X5:X394) -> 0 | Y4: =SUM(Y5:Y394) -> 0 | Z4: =SUM(Z5:Z394) -> 0 | AA4: =SUM(AA5:AA394) -> 0 | AB4: =SUM(AB5:AB394) -> 0 | AC4: =SUM(AC5:AC394) -> 0 | AD4: =SUM(AD5:AD394) -> 0 | AE4: =SUM(AE5:AE394) -> 0 | ... JT4: =SUM(JT5:JT394) -> 0 | JU4: =SUM(#REF!)+JU5 -> #REF! | JV4: =SUM(JV5:JV394) -> 0
D10: ici c'est ma base de données avec les valeurs dans les cellules qui sont en réalité des sommes automatiques des colonnes mais que j'ai rentré manuellement pour l'exemple.Cette base de donnée risque d'evoluer dans le temps et donc je vais certainement rajouter des colonnes au milieu ou a la fin.
D17: je veux voir apparaître dans la liste finale par exemple B6: les 2,5m avec leur quantité;Les 5m avec la quantité ;pas les 10m puisque la cellule quantité est vide etc….

Sheet LISTE
A2: =ZONE!$B$2 -> S de ponts
B3: =ZONE!$B$3 -> Standart | C3: =ZONE!$B$4 -> 12 | H3: dans ma feuille LISTE je ne veux voir apparaitre que les cellules non vides avec leur entête et leur sous groupes avec une présentation verticale car c'est une liste que je donne à préparer et je cherche a avoir dessus que le matériel dont j'ai besoin.
A5: =ZONE!$D$2 -> Spanset
B6: =ZONE!$D$3 -> 1m | C6: =ZONE!$D$4 -> 4
A8: =ZONE!$F$2 -> Ellingues Sécu | C8: =ZONE!$F$4 -> 15
A10: Sangle Cliquet
B11: PM | C11: 6
A13: B6
B14: 2.5 | C14: 8
B15: 5 | C15: 4
B16: 15 | C16: 5
B17: 25 | C17: 5
A19: ECLAT.B6
B20: Male | C20: 1
B21: Décalé | C21: 2
