Workbook

Sheet Data
A4: Numéro | B4: Date | C4: Nom | D4: Représentant | E4: Total HT | F4: TOTAL TVA | G4: Total TTC
A5: FA10165 | B5: 42646 | C5: ABATOURAB | E5: 72.73 | F5: 7.27 | G5: 80 | H5: =+F5/E5 -> 0.099958752 | I5: =+E5+F5-G5 -> 0
A6: FA10166 | B6: 42647 | C6: BRIND | E6: 394 | F6: 39.4 | G6: 433.4 | H6: =+F6/E6 -> 0.1 | I6: =+E6+F6-G6 -> 0
A7: FA10167 | B7: 42647 | C7: COSTANZO | E7: 325 | F7: 32.5 | G7: 357.5 | H7: =+F7/E7 -> 0.1 | I7: =+E7+F7-G7 -> 0
A8: FA10168 | B8: 42648 | C8: DOUNIES | E8: 208 | F8: 20.8 | G8: 228.8 | H8: =+F8/E8 -> 0.1 | I8: =+E8+F8-G8 -> 0
A9: FA10169 | B9: 42648 | C9: ETTOURI | E9: 90 | F9: 9 | G9: 99 | H9: =+F9/E9 -> 0.1 | I9: =+E9+F9-G9 -> 0
A10: FA10170 | B10: 42649 | C10: FOURNIER | E10: 162 | F10: 16.2 | G10: 178.2 | H10: =+F10/E10 -> 0.1 | I10: =+E10+F10-G10 -> 0
A11: FA10171 | B11: 42650 | C11: GUILDE | E11: 3605.5 | F11: 721.1 | G11: 4326.6 | H11: =+F11/E11 -> 0.2 | I11: =+E11+F11-G11 -> 0
A12: FA10172 | B12: 42650 | C12: HOPESY | E12: 3605.5 | F12: 721.1 | G12: 4326.6 | H12: =+F12/E12 -> 0.2 | I12: =+E12+F12-G12 -> 0
A13: FA10173 | B13: 42650 | C13: GUILDE | E13: 4403.5 | F13: 880.7 | G13: 5284.2 | H13: =+F13/E13 -> 0.2 | I13: =+E13+F13-G13 -> 0
A14: FA10174 | B14: 42650 | C14: JAMESON | E14: 27.27 | F14: 2.73 | G14: 30 | H14: =+F14/E14 -> 0.10011001 | I14: =+E14+F14-G14 -> 0
A15: FA10175 | B15: 42650 | C15: DOUNIES | E15: 54.55 | F15: 5.46 | G15: 60.01 | H15: =+F15/E15 -> 0.10009166 | I15: =+E15+F15-G15 -> 0
A16: FA10176 | B16: 42650 | C16: LESCA | E16: 197 | F16: 19.7 | G16: 216.7 | H16: =+F16/E16 -> 0.1 | I16: =+E16+F16-G16 -> 0
... A23: FA10188 | B23: 42655 | C23: SINNESAEL | E23: 7632.8 | F23: 763.28 | G23: 8396.08 | H23: =+F23/E23 -> 0.1 | I23: =+E23+F23-G23 -> 0

Sheet Mise en page
A5: =IF(LEFT(Data!A5,2)="FA","Facture client","Avoir client financier") -> Facture client | B5: =RIGHT(Data!A5,5) -> 10165 | C5: EUR | D5: BRICE:BRICE | E5: =UPPER("411"&LEFT(Data!C5,4)&"") -> 411ABAT | F5: =Data!B5 -> 42646 | G5: =Data!E5 -> 72.73 | H5: =UPPER(Data!C5) -> ABATOURAB | I5: BRICE | J5: =Data!B5 -> 42646 | K5: =Data!G5 -> 80
A6: =IF(LEFT(Data!A6,2)="FA","Facture client","Avoir client financier") -> Facture client | B6: =RIGHT(Data!A6,5) -> 10166 | C6: EUR | D6: BRICE:BRICE | E6: =UPPER("411"&LEFT(Data!C6,4)&"") -> 411BRIN | F6: =Data!B6 -> 42647 | G6: =Data!E6 -> 394 | H6: =UPPER(Data!C6) -> BRIND | I6: BRICE | J6: =Data!B6 -> 42647 | K6: =Data!G6 -> 433.4
A7: =IF(LEFT(Data!A7,2)="FA","Facture client","Avoir client financier") -> Facture client | B7: =RIGHT(Data!A7,5) -> 10167 | C7: EUR | D7: BRICE:BRICE | E7: =UPPER("411"&LEFT(Data!C7,4)&"") -> 411COST | F7: =Data!B7 -> 42647 | G7: =Data!E7 -> 325 | H7: =UPPER(Data!C7) -> COSTANZO | I7: BRICE | J7: =Data!B7 -> 42647 | K7: =Data!G7 -> 357.5
A8: =IF(LEFT(Data!A8,2)="FA","Facture client","Avoir client financier") -> Facture client | B8: =RIGHT(Data!A8,5) -> 10168 | C8: EUR | D8: BRICE:BRICE | E8: =UPPER("411"&LEFT(Data!C8,4)&"") -> 411DOUN | F8: =Data!B8 -> 42648 | G8: =Data!E8 -> 208 | H8: =UPPER(Data!C8) -> DOUNIES | I8: BRICE | J8: =Data!B8 -> 42648 | K8: =Data!G8 -> 228.8
A9: =IF(LEFT(Data!A9,2)="FA","Facture client","Avoir client financier") -> Facture client | B9: =RIGHT(Data!A9,5) -> 10169 | C9: EUR | D9: BRICE:BRICE | E9: =UPPER("411"&LEFT(Data!C9,4)&"") -> 411ETTO | F9: =Data!B9 -> 42648 | G9: =Data!E9 -> 90 | H9: =UPPER(Data!C9) -> ETTOURI | I9: BRICE | J9: =Data!B9 -> 42648 | K9: =Data!G9 -> 99
A10: =IF(LEFT(Data!A10,2)="FA","Facture client","Avoir client financier") -> Facture client | B10: =RIGHT(Data!A10,5) -> 10170 | C10: EUR | D10: BRICE:BRICE | E10: =UPPER("411"&LEFT(Data!C10,4)&"") -> 411FOUR | F10: =Data!B10 -> 42649 | G10: =Data!E10 -> 162 | H10: =UPPER(Data!C10) -> FOURNIER | I10: BRICE | J10: =Data!B10 -> 42649 | K10: =Data!G10 -> 178.2
A11: =IF(LEFT(Data!A11,2)="FA","Facture client","Avoir client financier") -> Facture client | B11: =RIGHT(Data!A11,5) -> 10171 | C11: EUR | D11: BRICE:BRICE | E11: =UPPER("411"&LEFT(Data!C11,4)&"") -> 411GUIL | F11: =Data!B11 -> 42650 | G11: =Data!E11 -> 3605.5 | H11: =UPPER(Data!C11) -> GUILDE | I11: BRICE | J11: =Data!B11 -> 42650 | K11: =Data!G11 -> 4326.6
A12: =IF(LEFT(Data!A12,2)="FA","Facture client","Avoir client financier") -> Facture client | B12: =RIGHT(Data!A12,5) -> 10172 | C12: EUR | D12: BRICE:BRICE | E12: =UPPER("411"&LEFT(Data!C12,4)&"") -> 411HOPE | F12: =Data!B12 -> 42650 | G12: =Data!E12 -> 3605.5 | H12: =UPPER(Data!C12) -> HOPESY | I12: BRICE | J12: =Data!B12 -> 42650 | K12: =Data!G12 -> 4326.6
A13: =IF(LEFT(Data!A13,2)="FA","Facture client","Avoir client financier") -> Facture client | B13: =RIGHT(Data!A13,5) -> 10173 | C13: EUR | D13: BRICE:BRICE | E13: =UPPER("411"&LEFT(Data!C13,4)&"") -> 411GUIL | F13: =Data!B13 -> 42650 | G13: =Data!E13 -> 4403.5 | H13: =UPPER(Data!C13) -> GUILDE | I13: BRICE | J13: =Data!B13 -> 42650 | K13: =Data!G13 -> 5284.2
A14: =IF(LEFT(Data!A14,2)="FA","Facture client","Avoir client financier") -> Facture client | B14: =RIGHT(Data!A14,5) -> 10174 | C14: EUR | D14: BRICE:BRICE | E14: =UPPER("411"&LEFT(Data!C14,4)&"") -> 411JAME | F14: =Data!B14 -> 42650 | G14: =Data!E14 -> 27.27 | H14: =UPPER(Data!C14) -> JAMESON | I14: BRICE | J14: =Data!B14 -> 42650 | K14: =Data!G14 -> 30
A15: =IF(LEFT(Data!A15,2)="FA","Facture client","Avoir client financier") -> Facture client | B15: =RIGHT(Data!A15,5) -> 10175 | C15: EUR | D15: BRICE:BRICE | E15: =UPPER("411"&LEFT(Data!C15,4)&"") -> 411DOUN | F15: =Data!B15 -> 42650 | G15: =Data!E15 -> 54.55 | H15: =UPPER(Data!C15) -> DOUNIES | I15: BRICE | J15: =Data!B15 -> 42650 | K15: =Data!G15 -> 60.01
A16: =IF(LEFT(Data!A16,2)="FA","Facture client","Avoir client financier") -> Facture client | B16: =RIGHT(Data!A16,5) -> 10176 | C16: EUR | D16: BRICE:BRICE | E16: =UPPER("411"&LEFT(Data!C16,4)&"") -> 411LESC | F16: =Data!B16 -> 42650 | G16: =Data!E16 -> 197 | H16: =UPPER(Data!C16) -> LESCA | I16: BRICE | J16: =Data!B16 -> 42650 | K16: =Data!G16 -> 216.7
... A23: =IF(LEFT(Data!A23,2)="FA","Facture client","Avoir client financier") -> Facture client | B23: =RIGHT(Data!A23,5) -> 10188 | C23: EUR | D23: BRICE:BRICE | E23: =UPPER("411"&LEFT(Data!C23,4)&"") -> 411SINN | F23: =Data!B23 -> 42655 | G23: =Data!E23 -> 7632.8 | H23: =UPPER(Data!C23) -> SINNESAEL | I23: BRICE | J23: =Data!B23 -> 42655 | K23: =Data!G23 -> 8396.08

Sheet Prépa
E1: Journal : | F1: VE | H1: Compte TVA 20% : | I1: 445712
D2: Compte Produit 20% : | E2: 0.2 | F2: 7062 | H2: Compte TVA 10% : | I2: 445711
D3: Compte Produit 10% : | E3: 0.1 | F3: 7061
D4: Compte Produit 0% : | E4: 0 | F4: 7069
A5: Nature | B5: Numéro | D5: Devise | E5: Commercial | G5: Date pièce | H5: Total HT | I5: Raison sociale | J5: Dernier utilisateur | K5: Date livraison | L5: Total TTC | M5: TVA | N5: Compte TVA | O5: Montant TVA | P5: Ecart TVA
A6: =IF('Mise en page'!$A5="","",'Mise en page'!A5) -> Facture client | B6: =IF('Mise en page'!$A5="","",'Mise en page'!B5) -> 10165 | D6: =IF('Mise en page'!$A5="","",'Mise en page'!C5) -> EUR | E6: =IF('Mise en page'!$A5="","",'Mise en page'!D5) -> BRICE:BRICE | F6: =IF('Mise en page'!$A5="","",'Mise en page'!E5) -> 411ABAT | G6: =IF('Mise en page'!$A5="","",'Mise en page'!F5) -> 42646 | H6: =IF('Mise en page'!$A5="","",'Mise en page'!G5) -> 72.73 | I6: =IF('Mise en page'!$A5="","",'Mise en page'!H5) -> ABATOURAB | J6: =IF('Mise en page'!$A5="","",'Mise en page'!I5) -> BRICE | K6: =IF('Mise en page'!$A5="","",'Mise en page'!J5) -> 42646 | L6: =IF('Mise en page'!$A5="","",'Mise en page'!K5) -> 80 | M6: =IF(L6="","",(ROUND(L6/H6,2)-1)) -> 0.1 | N6: =IF(L6="","",IF(M6=$E$2,$F$2,IF(M6=$E$3,$F$3,$F$4))) -> 7061 | O6: =IF(L6="","",L6-H6) -> 7.27 | P6: =IF(L6="","",H6*M6-O6) -> 0.003
A7: =IF('Mise en page'!$A6="","",'Mise en page'!A6) -> Facture client | B7: =IF('Mise en page'!$A6="","",'Mise en page'!B6) -> 10166 | D7: =IF('Mise en page'!$A6="","",'Mise en page'!C6) -> EUR | E7: =IF('Mise en page'!$A6="","",'Mise en page'!D6) -> BRICE:BRICE | F7: =IF('Mise en page'!$A6="","",'Mise en page'!E6) -> 411BRIN | G7: =IF('Mise en page'!$A6="","",'Mise en page'!F6) -> 42647 | H7: =IF('Mise en page'!$A6="","",'Mise en page'!G6) -> 394 | I7: =IF('Mise en page'!$A6="","",'Mise en page'!H6) -> BRIND | J7: =IF('Mise en page'!$A6="","",'Mise en page'!I6) -> BRICE | K7: =IF('Mise en page'!$A6="","",'Mise en page'!J6) -> 42647 | L7: =IF('Mise en page'!$A6="","",'Mise en page'!K6) -> 433.4 | M7: =IF(L7="","",(ROUND(L7/H7,2)-1)) -> 0.1 | N7: =IF(L7="","",IF(M7=$E$2,$F$2,IF(M7=$E$3,$F$3,$F$4))) -> 7061 | O7: =IF(L7="","",L7-H7) -> 39.4 | P7: =IF(L7="","",H7*M7-O7) -> 5.6843419e-14
A8: =IF('Mise en page'!$A7="","",'Mise en page'!A7) -> Facture client | B8: =IF('Mise en page'!$A7="","",'Mise en page'!B7) -> 10167 | D8: =IF('Mise en page'!$A7="","",'Mise en page'!C7) -> EUR | E8: =IF('Mise en page'!$A7="","",'Mise en page'!D7) -> BRICE:BRICE | F8: =IF('Mise en page'!$A7="","",'Mise en page'!E7) -> 411COST | G8: =IF('Mise en page'!$A7="","",'Mise en page'!F7) -> 42647 | H8: =IF('Mise en page'!$A7="","",'Mise en page'!G7) -> 325 | I8: =IF('Mise en page'!$A7="","",'Mise en page'!H7) -> COSTANZO | J8: =IF('Mise en page'!$A7="","",'Mise en page'!I7) -> BRICE | K8: =IF('Mise en page'!$A7="","",'Mise en page'!J7) -> 42647 | L8: =IF('Mise en page'!$A7="","",'Mise en page'!K7) -> 357.5 | M8: =IF(L8="","",(ROUND(L8/H8,2)-1)) -> 0.1 | N8: =IF(L8="","",IF(M8=$E$2,$F$2,IF(M8=$E$3,$F$3,$F$4))) -> 7061 | O8: =IF(L8="","",L8-H8) -> 32.5 | P8: =IF(L8="","",H8*M8-O8) -> 2.8421709e-14
A9: =IF('Mise en page'!$A8="","",'Mise en page'!A8) -> Facture client | B9: =IF('Mise en page'!$A8="","",'Mise en page'!B8) -> 10168 | D9: =IF('Mise en page'!$A8="","",'Mise en page'!C8) -> EUR | E9: =IF('Mise en page'!$A8="","",'Mise en page'!D8) -> BRICE:BRICE | F9: =IF('Mise en page'!$A8="","",'Mise en page'!E8) -> 411DOUN | G9: =IF('Mise en page'!$A8="","",'Mise en page'!F8) -> 42648 | H9: =IF('Mise en page'!$A8="","",'Mise en page'!G8) -> 208 | I9: =IF('Mise en page'!$A8="","",'Mise en page'!H8) -> DOUNIES | J9: =IF('Mise en page'!$A8="","",'Mise en page'!I8) -> BRICE | K9: =IF('Mise en page'!$A8="","",'Mise en page'!J8) -> 42648 | L9: =IF('Mise en page'!$A8="","",'Mise en page'!K8) -> 228.8 | M9: =IF(L9="","",(ROUND(L9/H9,2)-1)) -> 0.1 | N9: =IF(L9="","",IF(M9=$E$2,$F$2,IF(M9=$E$3,$F$3,$F$4))) -> 7061 | O9: =IF(L9="","",L9-H9) -> 20.8 | P9: =IF(L9="","",H9*M9-O9) -> 7.1054274e-15
A10: =IF('Mise en page'!$A9="","",'Mise en page'!A9) -> Facture client | B10: =IF('Mise en page'!$A9="","",'Mise en page'!B9) -> 10169 | D10: =IF('Mise en page'!$A9="","",'Mise en page'!C9) -> EUR | E10: =IF('Mise en page'!$A9="","",'Mise en page'!D9) -> BRICE:BRICE | F10: =IF('Mise en page'!$A9="","",'Mise en page'!E9) -> 411ETTO | G10: =IF('Mise en page'!$A9="","",'Mise en page'!F9) -> 42648 | H10: =IF('Mise en page'!$A9="","",'Mise en page'!G9) -> 90 | I10: =IF('Mise en page'!$A9="","",'Mise en page'!H9) -> ETTOURI | J10: =IF('Mise en page'!$A9="","",'Mise en page'!I9) -> BRICE | K10: =IF('Mise en page'!$A9="","",'Mise en page'!J9) -> 42648 | L10: =IF('Mise en page'!$A9="","",'Mise en page'!K9) -> 99 | M10: =IF(L10="","",(ROUND(L10/H10,2)-1)) -> 0.1 | N10: =IF(L10="","",IF(M10=$E$2,$F$2,IF(M10=$E$3,$F$3,$F$4))) -> 7061 | O10: =IF(L10="","",L10-H10) -> 9 | P10: =IF(L10="","",H10*M10-O10) -> 7.1054274e-15
A11: =IF('Mise en page'!$A10="","",'Mise en page'!A10) -> Facture client | B11: =IF('Mise en page'!$A10="","",'Mise en page'!B10) -> 10170 | D11: =IF('Mise en page'!$A10="","",'Mise en page'!C10) -> EUR | E11: =IF('Mise en page'!$A10="","",'Mise en page'!D10) -> BRICE:BRICE | F11: =IF('Mise en page'!$A10="","",'Mise en page'!E10) -> 411FOUR | G11: =IF('Mise en page'!$A10="","",'Mise en page'!F10) -> 42649 | H11: =IF('Mise en page'!$A10="","",'Mise en page'!G10) -> 162 | I11: =IF('Mise en page'!$A10="","",'Mise en page'!H10) -> FOURNIER | J11: =IF('Mise en page'!$A10="","",'Mise en page'!I10) -> BRICE | K11: =IF('Mise en page'!$A10="","",'Mise en page'!J10) -> 42649 | L11: =IF('Mise en page'!$A10="","",'Mise en page'!K10) -> 178.2 | M11: =IF(L11="","",(ROUND(L11/H11,2)-1)) -> 0.1 | N11: =IF(L11="","",IF(M11=$E$2,$F$2,IF(M11=$E$3,$F$3,$F$4))) -> 7061 | O11: =IF(L11="","",L11-H11) -> 16.2 | P11: =IF(L11="","",H11*M11-O11) -> 2.4868996e-14
A12: =IF('Mise en page'!$A11="","",'Mise en page'!A11) -> Facture client | B12: =IF('Mise en page'!$A11="","",'Mise en page'!B11) -> 10171 | D12: =IF('Mise en page'!$A11="","",'Mise en page'!C11) -> EUR | E12: =IF('Mise en page'!$A11="","",'Mise en page'!D11) -> BRICE:BRICE | F12: =IF('Mise en page'!$A11="","",'Mise en page'!E11) -> 411GUIL | G12: =IF('Mise en page'!$A11="","",'Mise en page'!F11) -> 42650 | H12: =IF('Mise en page'!$A11="","",'Mise en page'!G11) -> 3605.5 | I12: =IF('Mise en page'!$A11="","",'Mise en page'!H11) -> GUILDE | J12: =IF('Mise en page'!$A11="","",'Mise en page'!I11) -> BRICE | K12: =IF('Mise en page'!$A11="","",'Mise en page'!J11) -> 42650 | L12: =IF('Mise en page'!$A11="","",'Mise en page'!K11) -> 4326.6 | M12: =IF(L12="","",(ROUND(L12/H12,2)-1)) -> 0.2 | N12: =IF(L12="","",IF(M12=$E$2,$F$2,IF(M12=$E$3,$F$3,$F$4))) -> 7062 | O12: =IF(L12="","",L12-H12) -> 721.1 | P12: =IF(L12="","",H12*M12-O12) -> -5.6843419e-13
A13: =IF('Mise en page'!$A12="","",'Mise en page'!A12) -> Facture client | B13: =IF('Mise en page'!$A12="","",'Mise en page'!B12) -> 10172 | D13: =IF('Mise en page'!$A12="","",'Mise en page'!C12) -> EUR | E13: =IF('Mise en page'!$A12="","",'Mise en page'!D12) -> BRICE:BRICE | F13: =IF('Mise en page'!$A12="","",'Mise en page'!E12) -> 411HOPE | G13: =IF('Mise en page'!$A12="","",'Mise en page'!F12) -> 42650 | H13: =IF('Mise en page'!$A12="","",'Mise en page'!G12) -> 3605.5 | I13: =IF('Mise en page'!$A12="","",'Mise en page'!H12) -> HOPESY | J13: =IF('Mise en page'!$A12="","",'Mise en page'!I12) -> BRICE | K13: =IF('Mise en page'!$A12="","",'Mise en page'!J12) -> 42650 | L13: =IF('Mise en page'!$A12="","",'Mise en page'!K12) -> 4326.6 | M13: =IF(L13="","",(ROUND(L13/H13,2)-1)) -> 0.2 | N13: =IF(L13="","",IF(M13=$E$2,$F$2,IF(M13=$E$3,$F$3,$F$4))) -> 7062 | O13: =IF(L13="","",L13-H13) -> 721.1 | P13: =IF(L13="","",H13*M13-O13) -> -5.6843419e-13
A14: =IF('Mise en page'!$A13="","",'Mise en page'!A13) -> Facture client | B14: =IF('Mise en page'!$A13="","",'Mise en page'!B13) -> 10173 | D14: =IF('Mise en page'!$A13="","",'Mise en page'!C13) -> EUR | E14: =IF('Mise en page'!$A13="","",'Mise en page'!D13) -> BRICE:BRICE | F14: =IF('Mise en page'!$A13="","",'Mise en page'!E13) -> 411GUIL | G14: =IF('Mise en page'!$A13="","",'Mise en page'!F13) -> 42650 | H14: =IF('Mise en page'!$A13="","",'Mise en page'!G13) -> 4403.5 | I14: =IF('Mise en page'!$A13="","",'Mise en page'!H13) -> GUILDE | J14: =IF('Mise en page'!$A13="","",'Mise en page'!I13) -> BRICE | K14: =IF('Mise en page'!$A13="","",'Mise en page'!J13) -> 42650 | L14: =IF('Mise en page'!$A13="","",'Mise en page'!K13) -> 5284.2 | M14: =IF(L14="","",(ROUND(L14/H14,2)-1)) -> 0.2 | N14: =IF(L14="","",IF(M14=$E$2,$F$2,IF(M14=$E$3,$F$3,$F$4))) -> 7062 | O14: =IF(L14="","",L14-H14) -> 880.7 | P14: =IF(L14="","",H14*M14-O14) -> 0
A15: =IF('Mise en page'!$A14="","",'Mise en page'!A14) -> Facture client | B15: =IF('Mise en page'!$A14="","",'Mise en page'!B14) -> 10174 | D15: =IF('Mise en page'!$A14="","",'Mise en page'!C14) -> EUR | E15: =IF('Mise en page'!$A14="","",'Mise en page'!D14) -> BRICE:BRICE | F15: =IF('Mise en page'!$A14="","",'Mise en page'!E14) -> 411JAME | G15: =IF('Mise en page'!$A14="","",'Mise en page'!F14) -> 42650 | H15: =IF('Mise en page'!$A14="","",'Mise en page'!G14) -> 27.27 | I15: =IF('Mise en page'!$A14="","",'Mise en page'!H14) -> JAMESON | J15: =IF('Mise en page'!$A14="","",'Mise en page'!I14) -> BRICE | K15: =IF('Mise en page'!$A14="","",'Mise en page'!J14) -> 42650 | L15: =IF('Mise en page'!$A14="","",'Mise en page'!K14) -> 30 | M15: =IF(L15="","",(ROUND(L15/H15,2)-1)) -> 0.1 | N15: =IF(L15="","",IF(M15=$E$2,$F$2,IF(M15=$E$3,$F$3,$F$4))) -> 7061 | O15: =IF(L15="","",L15-H15) -> 2.73 | P15: =IF(L15="","",H15*M15-O15) -> -0.003
A16: =IF('Mise en page'!$A15="","",'Mise en page'!A15) -> Facture client | B16: =IF('Mise en page'!$A15="","",'Mise en page'!B15) -> 10175 | D16: =IF('Mise en page'!$A15="","",'Mise en page'!C15) -> EUR | E16: =IF('Mise en page'!$A15="","",'Mise en page'!D15) -> BRICE:BRICE | F16: =IF('Mise en page'!$A15="","",'Mise en page'!E15) -> 411DOUN | G16: =IF('Mise en page'!$A15="","",'Mise en page'!F15) -> 42650 | H16: =IF('Mise en page'!$A15="","",'Mise en page'!G15) -> 54.55 | I16: =IF('Mise en page'!$A15="","",'Mise en page'!H15) -> DOUNIES | J16: =IF('Mise en page'!$A15="","",'Mise en page'!I15) -> BRICE | K16: =IF('Mise en page'!$A15="","",'Mise en page'!J15) -> 42650 | L16: =IF('Mise en page'!$A15="","",'Mise en page'!K15) -> 60.01 | M16: =IF(L16="","",(ROUND(L16/H16,2)-1)) -> 0.1 | N16: =IF(L16="","",IF(M16=$E$2,$F$2,IF(M16=$E$3,$F$3,$F$4))) -> 7061 | O16: =IF(L16="","",L16-H16) -> 5.46 | P16: =IF(L16="","",H16*M16-O16) -> -0.005
A17: =IF('Mise en page'!$A16="","",'Mise en page'!A16) -> Facture client | B17: =IF('Mise en page'!$A16="","",'Mise en page'!B16) -> 10176 | D17: =IF('Mise en page'!$A16="","",'Mise en page'!C16) -> EUR | E17: =IF('Mise en page'!$A16="","",'Mise en page'!D16) -> BRICE:BRICE | F17: =IF('Mise en page'!$A16="","",'Mise en page'!E16) -> 411LESC | G17: =IF('Mise en page'!$A16="","",'Mise en page'!F16) -> 42650 | H17: =IF('Mise en page'!$A16="","",'Mise en page'!G16) -> 197 | I17: =IF('Mise en page'!$A16="","",'Mise en page'!H16) -> LESCA | J17: =IF('Mise en page'!$A16="","",'Mise en page'!I16) -> BRICE | K17: =IF('Mise en page'!$A16="","",'Mise en page'!J16) -> 42650 | L17: =IF('Mise en page'!$A16="","",'Mise en page'!K16) -> 216.7 | M17: =IF(L17="","",(ROUND(L17/H17,2)-1)) -> 0.1 | N17: =IF(L17="","",IF(M17=$E$2,$F$2,IF(M17=$E$3,$F$3,$F$4))) -> 7061 | O17: =IF(L17="","",L17-H17) -> 19.7 | P17: =IF(L17="","",H17*M17-O17) -> 2.8421709e-14
... A32: =IF('Mise en page'!$A31="","",'Mise en page'!A31) | B32: =IF('Mise en page'!$A31="","",'Mise en page'!B31) | D32: =IF('Mise en page'!$A31="","",'Mise en page'!C31) | E32: =IF('Mise en page'!$A31="","",'Mise en page'!D31) | F32: =IF('Mise en page'!$A31="","",'Mise en page'!E31) | G32: =IF('Mise en page'!$A31="","",'Mise en page'!F31) | H32: =IF('Mise en page'!$A31="","",'Mise en page'!G31) | I32: =IF('Mise en page'!$A31="","",'Mise en page'!H31) | J32: =IF('Mise en page'!$A31="","",'Mise en page'!I31) | K32: =IF('Mise en page'!$A31="","",'Mise en page'!J31) | L32: =IF('Mise en page'!$A31="","",'Mise en page'!K31) | M32: =IF(L32="","",(ROUND(L32/H32,2)-1)) | N32: =IF(L32="","",IF(M32=$E$2,$F$2,IF(M32=$E$3,$F$3,$F$4))) | O32: =IF(L32="","",L32-H32) | P32: =IF(L32="","",H32*M32-O32)
M590: =IF(L590="","",(ROUND(L590/H590,2)-1)) | N590: =IF(L590="","",IF(M590=$E$2,$F$2,IF(M590=$E$3,F587,$F$4))) | O590: =IF(L590="","",L590-H590) | P590: =IF(L590="","",H590*M590-O590)
M591: =IF(L591="","",(ROUND(L591/H591,2)-1)) | N591: =IF(L591="","",IF(M591=$E$2,$F$2,IF(M591=$E$3,F588,$F$4))) | O591: =IF(L591="","",L591-H591) | P591: =IF(L591="","",H591*M591-O591)
M592: =IF(L592="","",(ROUND(L592/H592,2)-1)) | N592: =IF(L592="","",IF(M592=$E$2,$F$2,IF(M592=$E$3,F589,$F$4))) | O592: =IF(L592="","",L592-H592) | P592: =IF(L592="","",H592*M592-O592)
M593: =IF(L593="","",(ROUND(L593/H593,2)-1)) | N593: =IF(L593="","",IF(M593=$E$2,$F$2,IF(M593=$E$3,F590,$F$4))) | O593: =IF(L593="","",L593-H593) | P593: =IF(L593="","",H593*M593-O593)
M594: =IF(L594="","",(ROUND(L594/H594,2)-1)) | N594: =IF(L594="","",IF(M594=$E$2,$F$2,IF(M594=$E$3,F591,$F$4))) | O594: =IF(L594="","",L594-H594) | P594: =IF(L594="","",H594*M594-O594)
M595: =IF(L595="","",(ROUND(L595/H595,2)-1)) | N595: =IF(L595="","",IF(M595=$E$2,$F$2,IF(M595=$E$3,F592,$F$4))) | O595: =IF(L595="","",L595-H595) | P595: =IF(L595="","",H595*M595-O595)
M596: =IF(L596="","",(ROUND(L596/H596,2)-1)) | N596: =IF(L596="","",IF(M596=$E$2,$F$2,IF(M596=$E$3,F593,$F$4))) | O596: =IF(L596="","",L596-H596) | P596: =IF(L596="","",H596*M596-O596)
M597: =IF(L597="","",(ROUND(L597/H597,2)-1)) | N597: =IF(L597="","",IF(M597=$E$2,$F$2,IF(M597=$E$3,F594,$F$4))) | O597: =IF(L597="","",L597-H597) | P597: =IF(L597="","",H597*M597-O597)
M598: =IF(L598="","",(ROUND(L598/H598,2)-1)) | N598: =IF(L598="","",IF(M598=$E$2,$F$2,IF(M598=$E$3,F595,$F$4))) | O598: =IF(L598="","",L598-H598) | P598: =IF(L598="","",H598*M598-O598)
M599: =IF(L599="","",(ROUND(L599/H599,2)-1)) | N599: =IF(L599="","",IF(M599=$E$2,$F$2,IF(M599=$E$3,F596,$F$4))) | O599: =IF(L599="","",L599-H599) | P599: =IF(L599="","",H599*M599-O599)
M600: =IF(L600="","",(ROUND(L600/H600,2)-1)) | N600: =IF(L600="","",IF(M600=$E$2,$F$2,IF(M600=$E$3,F597,$F$4))) | O600: =IF(L600="","",L600-H600) | P600: =IF(L600="","",H600*M600-O600)
M601: =IF(L601="","",(ROUND(L601/H601,2)-1)) | N601: =IF(L601="","",IF(M601=$E$2,$F$2,IF(M601=$E$3,F598,$F$4))) | O601: =IF(L601="","",L601-H601) | P601: =IF(L601="","",H601*M601-O601)
... M1190: =IF(L1190="","",(ROUND(L1190/H1190,2)-1)) | N1190: =IF(L1190="","",IF(M1190=$E$2,$F$2,IF(M1190=$E$3,F1187,$F$4))) | O1190: =IF(L1190="","",L1190-H1190) | P1190: =IF(L1190="","",H1190*M1190-O1190)

Sheet Prépa2
E2: date | F2: Journal | G2: Compte | H2: Pièce | I2: Libellé | J2: Débit | K2: Crédit | L2: Monnaie
A3: 1 | B3: 1 | C3: 1 | D3: =IF(C3=3,IF(INDIRECT("Prépa!L"&B3+5)<0,"C","D"),IF(C3=2,IF(INDIRECT("Prépa!L"&B3+5)<0,"C","D"),IF(INDIRECT("Prépa!L"&B3+5)<0,"D","C"))) -> C | E3: =IF((INDIRECT("Prépa!A"&B3+5))="","",(INDIRECT("Prépa!G"&B3+5))) -> 42646 | F3: =IF(E3<>"",Prépa!$F$1,"") -> VE | G3: =IF(INDIRECT("Prépa!A"&B3+5)="","",IF(C3=3,Prépa!$I$1,IF(C4=2,INDIRECT("Prépa!F"&B3+5),INDIRECT("Prépa!N"&B3+5)))) -> 411ABAT | H3: =IF($E3="","",INDIRECT("Prépa!B"&$B3+5)) -> 10165 | I3: =IF($E3="","",INDIRECT("Prépa!I"&$B3+5)&"/"&INDIRECT("Prépa!B"&$B3+5)) -> ABATOURAB/10165 | J3: =IF(IF(E3="","",IF($D3="D",0,IF($C3=3,INDIRECT("Prépa!O"&$B3+5),IF($C3=2,INDIRECT("Prépa!H"&$B3+5),INDIRECT("Prépa!L"&$B3+5)))))<0,-IF(E3="","",IF($D3="D",0,IF($C3=3,INDIRECT("Prépa!O"&$B3+5),IF($C3=2,INDIRECT("Prépa!H"&$B3+5),INDIRECT("Prépa!L"&$B3+5))))),IF(E3="","",IF($D3="D",0,IF($C3=3,INDIRECT("Prépa!O"&$B3+5),IF($C3=2,INDIRECT("Prépa!H"&$B3+5),INDIRECT("Prépa!L"&$B3+5)))))) -> 80 | K3: =IF(IF(E3="","",IF($D3="C",0,IF($C3=3,INDIRECT("Prépa!O"&$B3+5),IF($C3=2,INDIRECT("Prépa!H"&$B3+5),INDIRECT("Prépa!L"&$B3+5)))))<0,-IF(E3="","",IF($D3="C",0,IF($C3=3,INDIRECT("Prépa!O"&$B3+5),IF($C3=2,INDIRECT("Prépa!H"&$B3+5),INDIRECT("Prépa!L"&$B3+5))))),IF(E3="","",IF($D3="C",0,IF($C3=3,INDIRECT("Prépa!O"&$B3+5),IF($C3=2,INDIRECT("Prépa!H"&$B3+5),INDIRECT("Prépa!L"&$B3+5)))))) -> 0 | L3: =IF(E3="","","E") -> E
A4: 2 | B4: 1 | C4: =IF(B4=B3,C3+1,1) -> 2 | D4: =IF(C4=3,IF(INDIRECT("Prépa!L"&B4+5)<0,"C","D"),IF(C4=2,IF(INDIRECT("Prépa!L"&B4+5)<0,"C","D"),IF(INDIRECT("Prépa!L"&B4+5)<0,"D","C"))) -> D | E4: =IF((INDIRECT("Prépa!A"&B4+5))="","",(INDIRECT("Prépa!G"&B4+5))) -> 42646 | F4: =IF(E4<>"",Prépa!$F$1,"") -> VE | G4: =IF(INDIRECT("Prépa!A"&B4+5)="","",IF(C4=3,Prépa!$I$1,IF(C5=2,INDIRECT("Prépa!F"&B4+5),INDIRECT("Prépa!N"&B4+5)))) -> 7061 | H4: =IF(E4="","",INDIRECT("Prépa!B"&B4+5)) -> 10165 | I4: =IF($E4="","",INDIRECT("Prépa!I"&$B4+5)&"/"&INDIRECT("Prépa!B"&$B4+5)) -> ABATOURAB/10165 | J4: =IF(IF(E4="","",IF($D4="D",0,IF($C4=3,INDIRECT("Prépa!O"&$B4+5),IF($C4=2,INDIRECT("Prépa!H"&$B4+5),INDIRECT("Prépa!L"&$B4+5)))))<0,-IF(E4="","",IF($D4="D",0,IF($C4=3,INDIRECT("Prépa!O"&$B4+5),IF($C4=2,INDIRECT("Prépa!H"&$B4+5),INDIRECT("Prépa!L"&$B4+5))))),IF(E4="","",IF($D4="D",0,IF($C4=3,INDIRECT("Prépa!O"&$B4+5),IF($C4=2,INDIRECT("Prépa!H"&$B4+5),INDIRECT("Prépa!L"&$B4+5)))))) -> 0 | K4: =IF(IF(E4="","",IF($D4="C",0,IF($C4=3,INDIRECT("Prépa!O"&$B4+5),IF($C4=2,INDIRECT("Prépa!H"&$B4+5),INDIRECT("Prépa!L"&$B4+5)))))<0,-IF(E4="","",IF($D4="C",0,IF($C4=3,INDIRECT("Prépa!O"&$B4+5),IF($C4=2,INDIRECT("Prépa!H"&$B4+5),INDIRECT("Prépa!L"&$B4+5))))),IF(E4="","",IF($D4="C",0,IF($C4=3,INDIRECT("Prépa!O"&$B4+5),IF($C4=2,INDIRECT("Prépa!H"&$B4+5),INDIRECT("Prépa!L"&$B4+5)))))) -> 72.73 | L4: =IF(E4="","","E") -> E
A5: 3 | B5: =IF(INDIRECT("Prépa!M"&B4+5)=Prépa!$E$2,IF(B4=B2,B4+1,B4),IF(B4=B3,B4+1,B4)) -> 2 | C5: =IF(B5=B4,C4+1,1) -> 1 | D5: =IF(C5=3,IF(INDIRECT("Prépa!L"&B5+5)<0,"C","D"),IF(C5=2,IF(INDIRECT("Prépa!L"&B5+5)<0,"C","D"),IF(INDIRECT("Prépa!L"&B5+5)<0,"D","C"))) -> C | E5: =IF((INDIRECT("Prépa!A"&B5+5))="","",(INDIRECT("Prépa!G"&B5+5))) -> 42647 | F5: =IF(E5<>"",Prépa!$F$1,"") -> VE | G5: =IF(INDIRECT("Prépa!A"&B5+5)="","",IF(C5=3,Prépa!$I$1,IF(C6=2,INDIRECT("Prépa!F"&B5+5),INDIRECT("Prépa!N"&B5+5)))) -> 411BRIN | H5: =IF(E5="","",INDIRECT("Prépa!B"&B5+5)) -> 10166 | I5: =IF($E5="","",INDIRECT("Prépa!I"&$B5+5)&"/"&INDIRECT("Prépa!B"&$B5+5)) -> BRIND/10166 | J5: =IF(IF(E5="","",IF($D5="D",0,IF($C5=3,INDIRECT("Prépa!O"&$B5+5),IF($C5=2,INDIRECT("Prépa!H"&$B5+5),INDIRECT("Prépa!L"&$B5+5)))))<0,-IF(E5="","",IF($D5="D",0,IF($C5=3,INDIRECT("Prépa!O"&$B5+5),IF($C5=2,INDIRECT("Prépa!H"&$B5+5),INDIRECT("Prépa!L"&$B5+5))))),IF(E5="","",IF($D5="D",0,IF($C5=3,INDIRECT("Prépa!O"&$B5+5),IF($C5=2,INDIRECT("Prépa!H"&$B5+5),INDIRECT("Prépa!L"&$B5+5)))))) -> 433.4 | K5: =IF(IF(E5="","",IF($D5="C",0,IF($C5=3,INDIRECT("Prépa!O"&$B5+5),IF($C5=2,INDIRECT("Prépa!H"&$B5+5),INDIRECT("Prépa!L"&$B5+5)))))<0,-IF(E5="","",IF($D5="C",0,IF($C5=3,INDIRECT("Prépa!O"&$B5+5),IF($C5=2,INDIRECT("Prépa!H"&$B5+5),INDIRECT("Prépa!L"&$B5+5))))),IF(E5="","",IF($D5="C",0,IF($C5=3,INDIRECT("Prépa!O"&$B5+5),IF($C5=2,INDIRECT("Prépa!H"&$B5+5),INDIRECT("Prépa!L"&$B5+5)))))) -> 0 | L5: =IF(E5="","","E") -> E
A6: 4 | B6: =IF(INDIRECT("Prépa!M"&B5+5)=Prépa!$E$2,IF(B5=B3,B5+1,B5),IF(B5=B4,B5+1,B5)) -> 2 | C6: =IF(B6=B5,C5+1,1) -> 2 | D6: =IF(C6=3,IF(INDIRECT("Prépa!L"&B6+5)<0,"C","D"),IF(C6=2,IF(INDIRECT("Prépa!L"&B6+5)<0,"C","D"),IF(INDIRECT("Prépa!L"&B6+5)<0,"D","C"))) -> D | E6: =IF((INDIRECT("Prépa!A"&B6+5))="","",(INDIRECT("Prépa!G"&B6+5))) -> 42647 | F6: =IF(E6<>"",Prépa!$F$1,"") -> VE | G6: =IF(INDIRECT("Prépa!A"&B6+5)="","",IF(C6=3,Prépa!$I$1,IF(C7=2,INDIRECT("Prépa!F"&B6+5),INDIRECT("Prépa!N"&B6+5)))) -> 7061 | H6: =IF(E6="","",INDIRECT("Prépa!B"&B6+5)) -> 10166 | I6: =IF($E6="","",INDIRECT("Prépa!I"&$B6+5)&"/"&INDIRECT("Prépa!B"&$B6+5)) -> BRIND/10166 | J6: =IF(IF(E6="","",IF($D6="D",0,IF($C6=3,INDIRECT("Prépa!O"&$B6+5),IF($C6=2,INDIRECT("Prépa!H"&$B6+5),INDIRECT("Prépa!L"&$B6+5)))))<0,-IF(E6="","",IF($D6="D",0,IF($C6=3,INDIRECT("Prépa!O"&$B6+5),IF($C6=2,INDIRECT("Prépa!H"&$B6+5),INDIRECT("Prépa!L"&$B6+5))))),IF(E6="","",IF($D6="D",0,IF($C6=3,INDIRECT("Prépa!O"&$B6+5),IF($C6=2,INDIRECT("Prépa!H"&$B6+5),INDIRECT("Prépa!L"&$B6+5)))))) -> 0 | K6: =IF(IF(E6="","",IF($D6="C",0,IF($C6=3,INDIRECT("Prépa!O"&$B6+5),IF($C6=2,INDIRECT("Prépa!H"&$B6+5),INDIRECT("Prépa!L"&$B6+5)))))<0,-IF(E6="","",IF($D6="C",0,IF($C6=3,INDIRECT("Prépa!O"&$B6+5),IF($C6=2,INDIRECT("Prépa!H"&$B6+5),INDIRECT("Prépa!L"&$B6+5))))),IF(E6="","",IF($D6="C",0,IF($C6=3,INDIRECT("Prépa!O"&$B6+5),IF($C6=2,INDIRECT("Prépa!H"&$B6+5),INDIRECT("Prépa!L"&$B6+5)))))) -> 394 | L6: =IF(E6="","","E") -> E
A7: 5 | B7: =IF(INDIRECT("Prépa!M"&B6+5)=Prépa!$E$2,IF(B6=B4,B6+1,B6),IF(B6=B5,B6+1,B6)) -> 3 | C7: =IF(B7=B6,C6+1,1) -> 1 | D7: =IF(C7=3,IF(INDIRECT("Prépa!L"&B7+5)<0,"C","D"),IF(C7=2,IF(INDIRECT("Prépa!L"&B7+5)<0,"C","D"),IF(INDIRECT("Prépa!L"&B7+5)<0,"D","C"))) -> C | E7: =IF((INDIRECT("Prépa!A"&B7+5))="","",(INDIRECT("Prépa!G"&B7+5))) -> 42647 | F7: =IF(E7<>"",Prépa!$F$1,"") -> VE | G7: =IF(INDIRECT("Prépa!A"&B7+5)="","",IF(C7=3,Prépa!$I$1,IF(C8=2,INDIRECT("Prépa!F"&B7+5),INDIRECT("Prépa!N"&B7+5)))) -> 411COST | H7: =IF(E7="","",INDIRECT("Prépa!B"&B7+5)) -> 10167 | I7: =IF($E7="","",INDIRECT("Prépa!I"&$B7+5)&"/"&INDIRECT("Prépa!B"&$B7+5)) -> COSTANZO/10167 | J7: =IF(IF(E7="","",IF($D7="D",0,IF($C7=3,INDIRECT("Prépa!O"&$B7+5),IF($C7=2,INDIRECT("Prépa!H"&$B7+5),INDIRECT("Prépa!L"&$B7+5)))))<0,-IF(E7="","",IF($D7="D",0,IF($C7=3,INDIRECT("Prépa!O"&$B7+5),IF($C7=2,INDIRECT("Prépa!H"&$B7+5),INDIRECT("Prépa!L"&$B7+5))))),IF(E7="","",IF($D7="D",0,IF($C7=3,INDIRECT("Prépa!O"&$B7+5),IF($C7=2,INDIRECT("Prépa!H"&$B7+5),INDIRECT("Prépa!L"&$B7+5)))))) -> 357.5 | K7: =IF(IF(E7="","",IF($D7="C",0,IF($C7=3,INDIRECT("Prépa!O"&$B7+5),IF($C7=2,INDIRECT("Prépa!H"&$B7+5),INDIRECT("Prépa!L"&$B7+5)))))<0,-IF(E7="","",IF($D7="C",0,IF($C7=3,INDIRECT("Prépa!O"&$B7+5),IF($C7=2,INDIRECT("Prépa!H"&$B7+5),INDIRECT("Prépa!L"&$B7+5))))),IF(E7="","",IF($D7="C",0,IF($C7=3,INDIRECT("Prépa!O"&$B7+5),IF($C7=2,INDIRECT("Prépa!H"&$B7+5),INDIRECT("Prépa!L"&$B7+5)))))) -> 0 | L7: =IF(E7="","","E") -> E
A8: 6 | B8: =IF(INDIRECT("Prépa!M"&B7+5)=Prépa!$E$2,IF(B7=B5,B7+1,B7),IF(B7=B6,B7+1,B7)) -> 3 | C8: =IF(B8=B7,C7+1,1) -> 2 | D8: =IF(C8=3,IF(INDIRECT("Prépa!L"&B8+5)<0,"C","D"),IF(C8=2,IF(INDIRECT("Prépa!L"&B8+5)<0,"C","D"),IF(INDIRECT("Prépa!L"&B8+5)<0,"D","C"))) -> D | E8: =IF((INDIRECT("Prépa!A"&B8+5))="","",(INDIRECT("Prépa!G"&B8+5))) -> 42647 | F8: =IF(E8<>"",Prépa!$F$1,"") -> VE | G8: =IF(INDIRECT("Prépa!A"&B8+5)="","",IF(C8=3,Prépa!$I$1,IF(C9=2,INDIRECT("Prépa!F"&B8+5),INDIRECT("Prépa!N"&B8+5)))) -> 7061 | H8: =IF(E8="","",INDIRECT("Prépa!B"&B8+5)) -> 10167 | I8: =IF($E8="","",INDIRECT("Prépa!I"&$B8+5)&"/"&INDIRECT("Prépa!B"&$B8+5)) -> COSTANZO/10167 | J8: =IF(IF(E8="","",IF($D8="D",0,IF($C8=3,INDIRECT("Prépa!O"&$B8+5),IF($C8=2,INDIRECT("Prépa!H"&$B8+5),INDIRECT("Prépa!L"&$B8+5)))))<0,-IF(E8="","",IF($D8="D",0,IF($C8=3,INDIRECT("Prépa!O"&$B8+5),IF($C8=2,INDIRECT("Prépa!H"&$B8+5),INDIRECT("Prépa!L"&$B8+5))))),IF(E8="","",IF($D8="D",0,IF($C8=3,INDIRECT("Prépa!O"&$B8+5),IF($C8=2,INDIRECT("Prépa!H"&$B8+5),INDIRECT("Prépa!L"&$B8+5)))))) -> 0 | K8: =IF(IF(E8="","",IF($D8="C",0,IF($C8=3,INDIRECT("Prépa!O"&$B8+5),IF($C8=2,INDIRECT("Prépa!H"&$B8+5),INDIRECT("Prépa!L"&$B8+5)))))<0,-IF(E8="","",IF($D8="C",0,IF($C8=3,INDIRECT("Prépa!O"&$B8+5),IF($C8=2,INDIRECT("Prépa!H"&$B8+5),INDIRECT("Prépa!L"&$B8+5))))),IF(E8="","",IF($D8="C",0,IF($C8=3,INDIRECT("Prépa!O"&$B8+5),IF($C8=2,INDIRECT("Prépa!H"&$B8+5),INDIRECT("Prépa!L"&$B8+5)))))) -> 325 | L8: =IF(E8="","","E") -> E
A9: 7 | B9: =IF(INDIRECT("Prépa!M"&B8+5)=Prépa!$E$2,IF(B8=B6,B8+1,B8),IF(B8=B7,B8+1,B8)) -> 4 | C9: =IF(B9=B8,C8+1,1) -> 1 | D9: =IF(C9=3,IF(INDIRECT("Prépa!L"&B9+5)<0,"C","D"),IF(C9=2,IF(INDIRECT("Prépa!L"&B9+5)<0,"C","D"),IF(INDIRECT("Prépa!L"&B9+5)<0,"D","C"))) -> C | E9: =IF((INDIRECT("Prépa!A"&B9+5))="","",(INDIRECT("Prépa!G"&B9+5))) -> 42648 | F9: =IF(E9<>"",Prépa!$F$1,"") -> VE | G9: =IF(INDIRECT("Prépa!A"&B9+5)="","",IF(C9=3,Prépa!$I$1,IF(C10=2,INDIRECT("Prépa!F"&B9+5),INDIRECT("Prépa!N"&B9+5)))) -> 411DOUN | H9: =IF(E9="","",INDIRECT("Prépa!B"&B9+5)) -> 10168 | I9: =IF($E9="","",INDIRECT("Prépa!I"&$B9+5)&"/"&INDIRECT("Prépa!B"&$B9+5)) -> DOUNIES/10168 | J9: =IF(IF(E9="","",IF($D9="D",0,IF($C9=3,INDIRECT("Prépa!O"&$B9+5),IF($C9=2,INDIRECT("Prépa!H"&$B9+5),INDIRECT("Prépa!L"&$B9+5)))))<0,-IF(E9="","",IF($D9="D",0,IF($C9=3,INDIRECT("Prépa!O"&$B9+5),IF($C9=2,INDIRECT("Prépa!H"&$B9+5),INDIRECT("Prépa!L"&$B9+5))))),IF(E9="","",IF($D9="D",0,IF($C9=3,INDIRECT("Prépa!O"&$B9+5),IF($C9=2,INDIRECT("Prépa!H"&$B9+5),INDIRECT("Prépa!L"&$B9+5)))))) -> 228.8 | K9: =IF(IF(E9="","",IF($D9="C",0,IF($C9=3,INDIRECT("Prépa!O"&$B9+5),IF($C9=2,INDIRECT("Prépa!H"&$B9+5),INDIRECT("Prépa!L"&$B9+5)))))<0,-IF(E9="","",IF($D9="C",0,IF($C9=3,INDIRECT("Prépa!O"&$B9+5),IF($C9=2,INDIRECT("Prépa!H"&$B9+5),INDIRECT("Prépa!L"&$B9+5))))),IF(E9="","",IF($D9="C",0,IF($C9=3,INDIRECT("Prépa!O"&$B9+5),IF($C9=2,INDIRECT("Prépa!H"&$B9+5),INDIRECT("Prépa!L"&$B9+5)))))) -> 0 | L9: =IF(E9="","","E") -> E
A10: 8 | B10: =IF(INDIRECT("Prépa!M"&B9+5)=Prépa!$E$2,IF(B9=B7,B9+1,B9),IF(B9=B8,B9+1,B9)) -> 4 | C10: =IF(B10=B9,C9+1,1) -> 2 | D10: =IF(C10=3,IF(INDIRECT("Prépa!L"&B10+5)<0,"C","D"),IF(C10=2,IF(INDIRECT("Prépa!L"&B10+5)<0,"C","D"),IF(INDIRECT("Prépa!L"&B10+5)<0,"D","C"))) -> D | E10: =IF((INDIRECT("Prépa!A"&B10+5))="","",(INDIRECT("Prépa!G"&B10+5))) -> 42648 | F10: =IF(E10<>"",Prépa!$F$1,"") -> VE | G10: =IF(INDIRECT("Prépa!A"&B10+5)="","",IF(C10=3,Prépa!$I$1,IF(C11=2,INDIRECT("Prépa!F"&B10+5),INDIRECT("Prépa!N"&B10+5)))) -> 7061 | H10: =IF(E10="","",INDIRECT("Prépa!B"&B10+5)) -> 10168 | I10: =IF($E10="","",INDIRECT("Prépa!I"&$B10+5)&"/"&INDIRECT("Prépa!B"&$B10+5)) -> DOUNIES/10168 | J10: =IF(IF(E10="","",IF($D10="D",0,IF($C10=3,INDIRECT("Prépa!O"&$B10+5),IF($C10=2,INDIRECT("Prépa!H"&$B10+5),INDIRECT("Prépa!L"&$B10+5)))))<0,-IF(E10="","",IF($D10="D",0,IF($C10=3,INDIRECT("Prépa!O"&$B10+5),IF($C10=2,INDIRECT("Prépa!H"&$B10+5),INDIRECT("Prépa!L"&$B10+5))))),IF(E10="","",IF($D10="D",0,IF($C10=3,INDIRECT("Prépa!O"&$B10+5),IF($C10=2,INDIRECT("Prépa!H"&$B10+5),INDIRECT("Prépa!L"&$B10+5)))))) -> 0 | K10: =IF(IF(E10="","",IF($D10="C",0,IF($C10=3,INDIRECT("Prépa!O"&$B10+5),IF($C10=2,INDIRECT("Prépa!H"&$B10+5),INDIRECT("Prépa!L"&$B10+5)))))<0,-IF(E10="","",IF($D10="C",0,IF($C10=3,INDIRECT("Prépa!O"&$B10+5),IF($C10=2,INDIRECT("Prépa!H"&$B10+5),INDIRECT("Prépa!L"&$B10+5))))),IF(E10="","",IF($D10="C",0,IF($C10=3,INDIRECT("Prépa!O"&$B10+5),IF($C10=2,INDIRECT("Prépa!H"&$B10+5),INDIRECT("Prépa!L"&$B10+5)))))) -> 208 | L10: =IF(E10="","","E") -> E
A11: 9 | B11: =IF(INDIRECT("Prépa!M"&B10+5)=Prépa!$E$2,IF(B10=B8,B10+1,B10),IF(B10=B9,B10+1,B10)) -> 5 | C11: =IF(B11=B10,C10+1,1) -> 1 | D11: =IF(C11=3,IF(INDIRECT("Prépa!L"&B11+5)<0,"C","D"),IF(C11=2,IF(INDIRECT("Prépa!L"&B11+5)<0,"C","D"),IF(INDIRECT("Prépa!L"&B11+5)<0,"D","C"))) -> C | E11: =IF((INDIRECT("Prépa!A"&B11+5))="","",(INDIRECT("Prépa!G"&B11+5))) -> 42648 | F11: =IF(E11<>"",Prépa!$F$1,"") -> VE | G11: =IF(INDIRECT("Prépa!A"&B11+5)="","",IF(C11=3,Prépa!$I$1,IF(C12=2,INDIRECT("Prépa!F"&B11+5),INDIRECT("Prépa!N"&B11+5)))) -> 411ETTO | H11: =IF(E11="","",INDIRECT("Prépa!B"&B11+5)) -> 10169 | I11: =IF($E11="","",INDIRECT("Prépa!I"&$B11+5)&"/"&INDIRECT("Prépa!B"&$B11+5)) -> ETTOURI/10169 | J11: =IF(IF(E11="","",IF($D11="D",0,IF($C11=3,INDIRECT("Prépa!O"&$B11+5),IF($C11=2,INDIRECT("Prépa!H"&$B11+5),INDIRECT("Prépa!L"&$B11+5)))))<0,-IF(E11="","",IF($D11="D",0,IF($C11=3,INDIRECT("Prépa!O"&$B11+5),IF($C11=2,INDIRECT("Prépa!H"&$B11+5),INDIRECT("Prépa!L"&$B11+5))))),IF(E11="","",IF($D11="D",0,IF($C11=3,INDIRECT("Prépa!O"&$B11+5),IF($C11=2,INDIRECT("Prépa!H"&$B11+5),INDIRECT("Prépa!L"&$B11+5)))))) -> 99 | K11: =IF(IF(E11="","",IF($D11="C",0,IF($C11=3,INDIRECT("Prépa!O"&$B11+5),IF($C11=2,INDIRECT("Prépa!H"&$B11+5),INDIRECT("Prépa!L"&$B11+5)))))<0,-IF(E11="","",IF($D11="C",0,IF($C11=3,INDIRECT("Prépa!O"&$B11+5),IF($C11=2,INDIRECT("Prépa!H"&$B11+5),INDIRECT("Prépa!L"&$B11+5))))),IF(E11="","",IF($D11="C",0,IF($C11=3,INDIRECT("Prépa!O"&$B11+5),IF($C11=2,INDIRECT("Prépa!H"&$B11+5),INDIRECT("Prépa!L"&$B11+5)))))) -> 0 | L11: =IF(E11="","","E") -> E
A12: 10 | B12: =IF(INDIRECT("Prépa!M"&B11+5)=Prépa!$E$2,IF(B11=B9,B11+1,B11),IF(B11=B10,B11+1,B11)) -> 5 | C12: =IF(B12=B11,C11+1,1) -> 2 | D12: =IF(C12=3,IF(INDIRECT("Prépa!L"&B12+5)<0,"C","D"),IF(C12=2,IF(INDIRECT("Prépa!L"&B12+5)<0,"C","D"),IF(INDIRECT("Prépa!L"&B12+5)<0,"D","C"))) -> D | E12: =IF((INDIRECT("Prépa!A"&B12+5))="","",(INDIRECT("Prépa!G"&B12+5))) -> 42648 | F12: =IF(E12<>"",Prépa!$F$1,"") -> VE | G12: =IF(INDIRECT("Prépa!A"&B12+5)="","",IF(C12=3,Prépa!$I$1,IF(C13=2,INDIRECT("Prépa!F"&B12+5),INDIRECT("Prépa!N"&B12+5)))) -> 7061 | H12: =IF(E12="","",INDIRECT("Prépa!B"&B12+5)) -> 10169 | I12: =IF($E12="","",INDIRECT("Prépa!I"&$B12+5)&"/"&INDIRECT("Prépa!B"&$B12+5)) -> ETTOURI/10169 | J12: =IF(IF(E12="","",IF($D12="D",0,IF($C12=3,INDIRECT("Prépa!O"&$B12+5),IF($C12=2,INDIRECT("Prépa!H"&$B12+5),INDIRECT("Prépa!L"&$B12+5)))))<0,-IF(E12="","",IF($D12="D",0,IF($C12=3,INDIRECT("Prépa!O"&$B12+5),IF($C12=2,INDIRECT("Prépa!H"&$B12+5),INDIRECT("Prépa!L"&$B12+5))))),IF(E12="","",IF($D12="D",0,IF($C12=3,INDIRECT("Prépa!O"&$B12+5),IF($C12=2,INDIRECT("Prépa!H"&$B12+5),INDIRECT("Prépa!L"&$B12+5)))))) -> 0 | K12: =IF(IF(E12="","",IF($D12="C",0,IF($C12=3,INDIRECT("Prépa!O"&$B12+5),IF($C12=2,INDIRECT("Prépa!H"&$B12+5),INDIRECT("Prépa!L"&$B12+5)))))<0,-IF(E12="","",IF($D12="C",0,IF($C12=3,INDIRECT("Prépa!O"&$B12+5),IF($C12=2,INDIRECT("Prépa!H"&$B12+5),INDIRECT("Prépa!L"&$B12+5))))),IF(E12="","",IF($D12="C",0,IF($C12=3,INDIRECT("Prépa!O"&$B12+5),IF($C12=2,INDIRECT("Prépa!H"&$B12+5),INDIRECT("Prépa!L"&$B12+5)))))) -> 90 | L12: =IF(E12="","","E") -> E
A13: 11 | B13: =IF(INDIRECT("Prépa!M"&B12+5)=Prépa!$E$2,IF(B12=B10,B12+1,B12),IF(B12=B11,B12+1,B12)) -> 6 | C13: =IF(B13=B12,C12+1,1) -> 1 | D13: =IF(C13=3,IF(INDIRECT("Prépa!L"&B13+5)<0,"C","D"),IF(C13=2,IF(INDIRECT("Prépa!L"&B13+5)<0,"C","D"),IF(INDIRECT("Prépa!L"&B13+5)<0,"D","C"))) -> C | E13: =IF((INDIRECT("Prépa!A"&B13+5))="","",(INDIRECT("Prépa!G"&B13+5))) -> 42649 | F13: =IF(E13<>"",Prépa!$F$1,"") -> VE | G13: =IF(INDIRECT("Prépa!A"&B13+5)="","",IF(C13=3,Prépa!$I$1,IF(C14=2,INDIRECT("Prépa!F"&B13+5),INDIRECT("Prépa!N"&B13+5)))) -> 411FOUR | H13: =IF(E13="","",INDIRECT("Prépa!B"&B13+5)) -> 10170 | I13: =IF($E13="","",INDIRECT("Prépa!I"&$B13+5)&"/"&INDIRECT("Prépa!B"&$B13+5)) -> FOURNIER/10170 | J13: =IF(IF(E13="","",IF($D13="D",0,IF($C13=3,INDIRECT("Prépa!O"&$B13+5),IF($C13=2,INDIRECT("Prépa!H"&$B13+5),INDIRECT("Prépa!L"&$B13+5)))))<0,-IF(E13="","",IF($D13="D",0,IF($C13=3,INDIRECT("Prépa!O"&$B13+5),IF($C13=2,INDIRECT("Prépa!H"&$B13+5),INDIRECT("Prépa!L"&$B13+5))))),IF(E13="","",IF($D13="D",0,IF($C13=3,INDIRECT("Prépa!O"&$B13+5),IF($C13=2,INDIRECT("Prépa!H"&$B13+5),INDIRECT("Prépa!L"&$B13+5)))))) -> 178.2 | K13: =IF(IF(E13="","",IF($D13="C",0,IF($C13=3,INDIRECT("Prépa!O"&$B13+5),IF($C13=2,INDIRECT("Prépa!H"&$B13+5),INDIRECT("Prépa!L"&$B13+5)))))<0,-IF(E13="","",IF($D13="C",0,IF($C13=3,INDIRECT("Prépa!O"&$B13+5),IF($C13=2,INDIRECT("Prépa!H"&$B13+5),INDIRECT("Prépa!L"&$B13+5))))),IF(E13="","",IF($D13="C",0,IF($C13=3,INDIRECT("Prépa!O"&$B13+5),IF($C13=2,INDIRECT("Prépa!H"&$B13+5),INDIRECT("Prépa!L"&$B13+5)))))) -> 0 | L13: =IF(E13="","","E") -> E
A14: 12 | B14: =IF(INDIRECT("Prépa!M"&B13+5)=Prépa!$E$2,IF(B13=B11,B13+1,B13),IF(B13=B12,B13+1,B13)) -> 6 | C14: =IF(B14=B13,C13+1,1) -> 2 | D14: =IF(C14=3,IF(INDIRECT("Prépa!L"&B14+5)<0,"C","D"),IF(C14=2,IF(INDIRECT("Prépa!L"&B14+5)<0,"C","D"),IF(INDIRECT("Prépa!L"&B14+5)<0,"D","C"))) -> D | E14: =IF((INDIRECT("Prépa!A"&B14+5))="","",(INDIRECT("Prépa!G"&B14+5))) -> 42649 | F14: =IF(E14<>"",Prépa!$F$1,"") -> VE | G14: =IF(INDIRECT("Prépa!A"&B14+5)="","",IF(C14=3,Prépa!$I$1,IF(C15=2,INDIRECT("Prépa!F"&B14+5),INDIRECT("Prépa!N"&B14+5)))) -> 7061 | H14: =IF(E14="","",INDIRECT("Prépa!B"&B14+5)) -> 10170 | I14: =IF($E14="","",INDIRECT("Prépa!I"&$B14+5)&"/"&INDIRECT("Prépa!B"&$B14+5)) -> FOURNIER/10170 | J14: =IF(IF(E14="","",IF($D14="D",0,IF($C14=3,INDIRECT("Prépa!O"&$B14+5),IF($C14=2,INDIRECT("Prépa!H"&$B14+5),INDIRECT("Prépa!L"&$B14+5)))))<0,-IF(E14="","",IF($D14="D",0,IF($C14=3,INDIRECT("Prépa!O"&$B14+5),IF($C14=2,INDIRECT("Prépa!H"&$B14+5),INDIRECT("Prépa!L"&$B14+5))))),IF(E14="","",IF($D14="D",0,IF($C14=3,INDIRECT("Prépa!O"&$B14+5),IF($C14=2,INDIRECT("Prépa!H"&$B14+5),INDIRECT("Prépa!L"&$B14+5)))))) -> 0 | K14: =IF(IF(E14="","",IF($D14="C",0,IF($C14=3,INDIRECT("Prépa!O"&$B14+5),IF($C14=2,INDIRECT("Prépa!H"&$B14+5),INDIRECT("Prépa!L"&$B14+5)))))<0,-IF(E14="","",IF($D14="C",0,IF($C14=3,INDIRECT("Prépa!O"&$B14+5),IF($C14=2,INDIRECT("Prépa!H"&$B14+5),INDIRECT("Prépa!L"&$B14+5))))),IF(E14="","",IF($D14="C",0,IF($C14=3,INDIRECT("Prépa!O"&$B14+5),IF($C14=2,INDIRECT("Prépa!H"&$B14+5),INDIRECT("Prépa!L"&$B14+5)))))) -> 162 | L14: =IF(E14="","","E") -> E
A15: 13 | B15: =IF(INDIRECT("Prépa!M"&B14+5)=Prépa!$E$2,IF(B14=B12,B14+1,B14),IF(B14=B13,B14+1,B14)) -> 7 | C15: =IF(B15=B14,C14+1,1) -> 1 | D15: =IF(C15=3,IF(INDIRECT("Prépa!L"&B15+5)<0,"C","D"),IF(C15=2,IF(INDIRECT("Prépa!L"&B15+5)<0,"C","D"),IF(INDIRECT("Prépa!L"&B15+5)<0,"D","C"))) -> C | E15: =IF((INDIRECT("Prépa!A"&B15+5))="","",(INDIRECT("Prépa!G"&B15+5))) -> 42650 | F15: =IF(E15<>"",Prépa!$F$1,"") -> VE | G15: =IF(INDIRECT("Prépa!A"&B15+5)="","",IF(C15=3,Prépa!$I$1,IF(C16=2,INDIRECT("Prépa!F"&B15+5),INDIRECT("Prépa!N"&B15+5)))) -> 411GUIL | H15: =IF(E15="","",INDIRECT("Prépa!B"&B15+5)) -> 10171 | I15: =IF($E15="","",INDIRECT("Prépa!I"&$B15+5)&"/"&INDIRECT("Prépa!B"&$B15+5)) -> GUILDE/10171 | J15: =IF(IF(E15="","",IF($D15="D",0,IF($C15=3,INDIRECT("Prépa!O"&$B15+5),IF($C15=2,INDIRECT("Prépa!H"&$B15+5),INDIRECT("Prépa!L"&$B15+5)))))<0,-IF(E15="","",IF($D15="D",0,IF($C15=3,INDIRECT("Prépa!O"&$B15+5),IF($C15=2,INDIRECT("Prépa!H"&$B15+5),INDIRECT("Prépa!L"&$B15+5))))),IF(E15="","",IF($D15="D",0,IF($C15=3,INDIRECT("Prépa!O"&$B15+5),IF($C15=2,INDIRECT("Prépa!H"&$B15+5),INDIRECT("Prépa!L"&$B15+5)))))) -> 4326.6 | K15: =IF(IF(E15="","",IF($D15="C",0,IF($C15=3,INDIRECT("Prépa!O"&$B15+5),IF($C15=2,INDIRECT("Prépa!H"&$B15+5),INDIRECT("Prépa!L"&$B15+5)))))<0,-IF(E15="","",IF($D15="C",0,IF($C15=3,INDIRECT("Prépa!O"&$B15+5),IF($C15=2,INDIRECT("Prépa!H"&$B15+5),INDIRECT("Prépa!L"&$B15+5))))),IF(E15="","",IF($D15="C",0,IF($C15=3,INDIRECT("Prépa!O"&$B15+5),IF($C15=2,INDIRECT("Prépa!H"&$B15+5),INDIRECT("Prépa!L"&$B15+5)))))) -> 0 | L15: =IF(E15="","","E") -> E
A16: 14 | B16: =IF(INDIRECT("Prépa!M"&B15+5)=Prépa!$E$2,IF(B15=B13,B15+1,B15),IF(B15=B14,B15+1,B15)) -> 7 | C16: =IF(B16=B15,C15+1,1) -> 2 | D16: =IF(C16=3,IF(INDIRECT("Prépa!L"&B16+5)<0,"C","D"),IF(C16=2,IF(INDIRECT("Prépa!L"&B16+5)<0,"C","D"),IF(INDIRECT("Prépa!L"&B16+5)<0,"D","C"))) -> D | E16: =IF((INDIRECT("Prépa!A"&B16+5))="","",(INDIRECT("Prépa!G"&B16+5))) -> 42650 | F16: =IF(E16<>"",Prépa!$F$1,"") -> VE | G16: =IF(INDIRECT("Prépa!A"&B16+5)="","",IF(C16=3,Prépa!$I$1,IF(C17=2,INDIRECT("Prépa!F"&B16+5),INDIRECT("Prépa!N"&B16+5)))) -> 7062 | H16: =IF(E16="","",INDIRECT("Prépa!B"&B16+5)) -> 10171 | I16: =IF($E16="","",INDIRECT("Prépa!I"&$B16+5)&"/"&INDIRECT("Prépa!B"&$B16+5)) -> GUILDE/10171 | J16: =IF(IF(E16="","",IF($D16="D",0,IF($C16=3,INDIRECT("Prépa!O"&$B16+5),IF($C16=2,INDIRECT("Prépa!H"&$B16+5),INDIRECT("Prépa!L"&$B16+5)))))<0,-IF(E16="","",IF($D16="D",0,IF($C16=3,INDIRECT("Prépa!O"&$B16+5),IF($C16=2,INDIRECT("Prépa!H"&$B16+5),INDIRECT("Prépa!L"&$B16+5))))),IF(E16="","",IF($D16="D",0,IF($C16=3,INDIRECT("Prépa!O"&$B16+5),IF($C16=2,INDIRECT("Prépa!H"&$B16+5),INDIRECT("Prépa!L"&$B16+5)))))) -> 0 | K16: =IF(IF(E16="","",IF($D16="C",0,IF($C16=3,INDIRECT("Prépa!O"&$B16+5),IF($C16=2,INDIRECT("Prépa!H"&$B16+5),INDIRECT("Prépa!L"&$B16+5)))))<0,-IF(E16="","",IF($D16="C",0,IF($C16=3,INDIRECT("Prépa!O"&$B16+5),IF($C16=2,INDIRECT("Prépa!H"&$B16+5),INDIRECT("Prépa!L"&$B16+5))))),IF(E16="","",IF($D16="C",0,IF($C16=3,INDIRECT("Prépa!O"&$B16+5),IF($C16=2,INDIRECT("Prépa!H"&$B16+5),INDIRECT("Prépa!L"&$B16+5)))))) -> 3605.5 | L16: =IF(E16="","","E") -> E
... A43: 41 | B43: =IF(INDIRECT("Prépa!M"&B42+5)=Prépa!$E$2,IF(B42=B40,B42+1,B42),IF(B42=B41,B42+1,B42)) -> 19 | C43: =IF(B43=B42,C42+1,1) -> 2 | D43: =IF(C43=3,IF(INDIRECT("Prépa!L"&B43+5)<0,"C","D"),IF(C43=2,IF(INDIRECT("Prépa!L"&B43+5)<0,"C","D"),IF(INDIRECT("Prépa!L"&B43+5)<0,"D","C"))) -> D | E43: =IF((INDIRECT("Prépa!A"&B43+5))="","",(INDIRECT("Prépa!G"&B43+5))) -> 42655 | F43: =IF(E43<>"",Prépa!$F$1,"") -> VE | G43: =IF(INDIRECT("Prépa!A"&B43+5)="","",IF(C43=3,Prépa!$I$1,IF(C44=2,INDIRECT("Prépa!F"&B43+5),INDIRECT("Prépa!N"&B43+5)))) -> 7061 | H43: =IF(E43="","",INDIRECT("Prépa!B"&B43+5)) -> 10188 | I43: =IF($E43="","",INDIRECT("Prépa!I"&$B43+5)&"/"&INDIRECT("Prépa!B"&$B43+5)) -> SINNESAEL/10188 | J43: =IF(IF(E43="","",IF($D43="D",0,IF($C43=3,INDIRECT("Prépa!O"&$B43+5),IF($C43=2,INDIRECT("Prépa!H"&$B43+5),INDIRECT("Prépa!L"&$B43+5)))))<0,-IF(E43="","",IF($D43="D",0,IF($C43=3,INDIRECT("Prépa!O"&$B43+5),IF($C43=2,INDIRECT("Prépa!H"&$B43+5),INDIRECT("Prépa!L"&$B43+5))))),IF(E43="","",IF($D43="D",0,IF($C43=3,INDIRECT("Prépa!O"&$B43+5),IF($C43=2,INDIRECT("Prépa!H"&$B43+5),INDIRECT("Prépa!L"&$B43+5)))))) -> 0 | K43: =IF(IF(E43="","",IF($D43="C",0,IF($C43=3,INDIRECT("Prépa!O"&$B43+5),IF($C43=2,INDIRECT("Prépa!H"&$B43+5),INDIRECT("Prépa!L"&$B43+5)))))<0,-IF(E43="","",IF($D43="C",0,IF($C43=3,INDIRECT("Prépa!O"&$B43+5),IF($C43=2,INDIRECT("Prépa!H"&$B43+5),INDIRECT("Prépa!L"&$B43+5))))),IF(E43="","",IF($D43="C",0,IF($C43=3,INDIRECT("Prépa!O"&$B43+5),IF($C43=2,INDIRECT("Prépa!H"&$B43+5),INDIRECT("Prépa!L"&$B43+5)))))) -> 7632.8 | L43: =IF(E43="","","E") -> E
A44: 42 | B44: =IF(INDIRECT("Prépa!M"&B43+5)=Prépa!$E$2,IF(B43=B41,B43+1,B43),IF(B43=B42,B43+1,B43)) -> 20 | C44: =IF(B44=B43,C43+1,1) -> 1 | D44: =IF(C44=3,IF(INDIRECT("Prépa!L"&B44+5)<0,"C","D"),IF(C44=2,IF(INDIRECT("Prépa!L"&B44+5)<0,"C","D"),IF(INDIRECT("Prépa!L"&B44+5)<0,"D","C"))) -> C | E44: =IF((INDIRECT("Prépa!A"&B44+5))="","",(INDIRECT("Prépa!G"&B44+5))) | F44: =IF(E44<>"",Prépa!$F$1,"") | G44: =IF(INDIRECT("Prépa!A"&B44+5)="","",IF(C44=3,Prépa!$I$1,IF(C45=2,INDIRECT("Prépa!F"&B44+5),INDIRECT("Prépa!N"&B44+5)))) | H44: =IF(E44="","",INDIRECT("Prépa!B"&B44+5)) | I44: =IF($E44="","",INDIRECT("Prépa!I"&$B44+5)&" Fact N°"&INDIRECT("Prépa!B"&$B44+5)) | J44: =IF(IF(E44="","",IF($D44="D",0,IF($C44=3,INDIRECT("Prépa!O"&$B44+5),IF($C44=2,INDIRECT("Prépa!H"&$B44+5),INDIRECT("Prépa!L"&$B44+5)))))<0,-IF(E44="","",IF($D44="D",0,IF($C44=3,INDIRECT("Prépa!O"&$B44+5),IF($C44=2,INDIRECT("Prépa!H"&$B44+5),INDIRECT("Prépa!L"&$B44+5))))),IF(E44="","",IF($D44="D",0,IF($C44=3,INDIRECT("Prépa!O"&$B44+5),IF($C44=2,INDIRECT("Prépa!H"&$B44+5),INDIRECT("Prépa!L"&$B44+5)))))) | K44: =IF(IF(E44="","",IF($D44="C",0,IF($C44=3,INDIRECT("Prépa!O"&$B44+5),IF($C44=2,INDIRECT("Prépa!H"&$B44+5),INDIRECT("Prépa!L"&$B44+5)))))<0,-IF(E44="","",IF($D44="C",0,IF($C44=3,INDIRECT("Prépa!O"&$B44+5),IF($C44=2,INDIRECT("Prépa!H"&$B44+5),INDIRECT("Prépa!L"&$B44+5))))),IF(E44="","",IF($D44="C",0,IF($C44=3,INDIRECT("Prépa!O"&$B44+5),IF($C44=2,INDIRECT("Prépa!H"&$B44+5),INDIRECT("Prépa!L"&$B44+5)))))) | L44: =IF(E44="","","E")
A45: 43 | B45: =IF(INDIRECT("Prépa!M"&B44+5)=Prépa!$E$2,IF(B44=B42,B44+1,B44),IF(B44=B43,B44+1,B44)) -> 20 | C45: =IF(B45=B44,C44+1,1) -> 2 | D45: =IF(C45=3,IF(INDIRECT("Prépa!L"&B45+5)<0,"C","D"),IF(C45=2,IF(INDIRECT("Prépa!L"&B45+5)<0,"C","D"),IF(INDIRECT("Prépa!L"&B45+5)<0,"D","C"))) -> D | E45: =IF((INDIRECT("Prépa!A"&B45+5))="","",(INDIRECT("Prépa!G"&B45+5))) | F45: =IF(E45<>"",Prépa!$F$1,"") | G45: =IF(INDIRECT("Prépa!A"&B45+5)="","",IF(C45=3,Prépa!$I$1,IF(C46=2,INDIRECT("Prépa!F"&B45+5),INDIRECT("Prépa!N"&B45+5)))) | H45: =IF(E45="","",INDIRECT("Prépa!B"&B45+5)) | I45: =IF($E45="","",INDIRECT("Prépa!I"&$B45+5)&" Fact N°"&INDIRECT("Prépa!B"&$B45+5)) | J45: =IF(IF(E45="","",IF($D45="D",0,IF($C45=3,INDIRECT("Prépa!O"&$B45+5),IF($C45=2,INDIRECT("Prépa!H"&$B45+5),INDIRECT("Prépa!L"&$B45+5)))))<0,-IF(E45="","",IF($D45="D",0,IF($C45=3,INDIRECT("Prépa!O"&$B45+5),IF($C45=2,INDIRECT("Prépa!H"&$B45+5),INDIRECT("Prépa!L"&$B45+5))))),IF(E45="","",IF($D45="D",0,IF($C45=3,INDIRECT("Prépa!O"&$B45+5),IF($C45=2,INDIRECT("Prépa!H"&$B45+5),INDIRECT("Prépa!L"&$B45+5)))))) | K45: =IF(IF(E45="","",IF($D45="C",0,IF($C45=3,INDIRECT("Prépa!O"&$B45+5),IF($C45=2,INDIRECT("Prépa!H"&$B45+5),INDIRECT("Prépa!L"&$B45+5)))))<0,-IF(E45="","",IF($D45="C",0,IF($C45=3,INDIRECT("Prépa!O"&$B45+5),IF($C45=2,INDIRECT("Prépa!H"&$B45+5),INDIRECT("Prépa!L"&$B45+5))))),IF(E45="","",IF($D45="C",0,IF($C45=3,INDIRECT("Prépa!O"&$B45+5),IF($C45=2,INDIRECT("Prépa!H"&$B45+5),INDIRECT("Prépa!L"&$B45+5)))))) | L45: =IF(E45="","","E")
A46: 44 | B46: =IF(INDIRECT("Prépa!M"&B45+5)=Prépa!$E$2,IF(B45=B43,B45+1,B45),IF(B45=B44,B45+1,B45)) -> 21 | C46: =IF(B46=B45,C45+1,1) -> 1 | D46: =IF(C46=3,IF(INDIRECT("Prépa!L"&B46+5)<0,"C","D"),IF(C46=2,IF(INDIRECT("Prépa!L"&B46+5)<0,"C","D"),IF(INDIRECT("Prépa!L"&B46+5)<0,"D","C"))) -> C | E46: =IF((INDIRECT("Prépa!A"&B46+5))="","",(INDIRECT("Prépa!G"&B46+5))) | F46: =IF(E46<>"",Prépa!$F$1,"") | G46: =IF(INDIRECT("Prépa!A"&B46+5)="","",IF(C46=3,Prépa!$I$1,IF(C47=2,INDIRECT("Prépa!F"&B46+5),INDIRECT("Prépa!N"&B46+5)))) | H46: =IF(E46="","",INDIRECT("Prépa!B"&B46+5)) | I46: =IF($E46="","",INDIRECT("Prépa!I"&$B46+5)&" Fact N°"&INDIRECT("Prépa!B"&$B46+5)) | J46: =IF(IF(E46="","",IF($D46="D",0,IF($C46=3,INDIRECT("Prépa!O"&$B46+5),IF($C46=2,INDIRECT("Prépa!H"&$B46+5),INDIRECT("Prépa!L"&$B46+5)))))<0,-IF(E46="","",IF($D46="D",0,IF($C46=3,INDIRECT("Prépa!O"&$B46+5),IF($C46=2,INDIRECT("Prépa!H"&$B46+5),INDIRECT("Prépa!L"&$B46+5))))),IF(E46="","",IF($D46="D",0,IF($C46=3,INDIRECT("Prépa!O"&$B46+5),IF($C46=2,INDIRECT("Prépa!H"&$B46+5),INDIRECT("Prépa!L"&$B46+5)))))) | K46: =IF(IF(E46="","",IF($D46="C",0,IF($C46=3,INDIRECT("Prépa!O"&$B46+5),IF($C46=2,INDIRECT("Prépa!H"&$B46+5),INDIRECT("Prépa!L"&$B46+5)))))<0,-IF(E46="","",IF($D46="C",0,IF($C46=3,INDIRECT("Prépa!O"&$B46+5),IF($C46=2,INDIRECT("Prépa!H"&$B46+5),INDIRECT("Prépa!L"&$B46+5))))),IF(E46="","",IF($D46="C",0,IF($C46=3,INDIRECT("Prépa!O"&$B46+5),IF($C46=2,INDIRECT("Prépa!H"&$B46+5),INDIRECT("Prépa!L"&$B46+5)))))) | L46: =IF(E46="","","E")
A47: 45 | B47: =IF(INDIRECT("Prépa!M"&B46+5)=Prépa!$E$2,IF(B46=B44,B46+1,B46),IF(B46=B45,B46+1,B46)) -> 21 | C47: =IF(B47=B46,C46+1,1) -> 2 | D47: =IF(C47=3,IF(INDIRECT("Prépa!L"&B47+5)<0,"C","D"),IF(C47=2,IF(INDIRECT("Prépa!L"&B47+5)<0,"C","D"),IF(INDIRECT("Prépa!L"&B47+5)<0,"D","C"))) -> D | E47: =IF((INDIRECT("Prépa!A"&B47+5))="","",(INDIRECT("Prépa!G"&B47+5))) | F47: =IF(E47<>"",Prépa!$F$1,"") | G47: =IF(INDIRECT("Prépa!A"&B47+5)="","",IF(C47=3,Prépa!$I$1,IF(C48=2,INDIRECT("Prépa!F"&B47+5),INDIRECT("Prépa!N"&B47+5)))) | H47: =IF(E47="","",INDIRECT("Prépa!B"&B47+5)) | I47: =IF($E47="","",INDIRECT("Prépa!I"&$B47+5)&" Fact N°"&INDIRECT("Prépa!B"&$B47+5)) | J47: =IF(IF(E47="","",IF($D47="D",0,IF($C47=3,INDIRECT("Prépa!O"&$B47+5),IF($C47=2,INDIRECT("Prépa!H"&$B47+5),INDIRECT("Prépa!L"&$B47+5)))))<0,-IF(E47="","",IF($D47="D",0,IF($C47=3,INDIRECT("Prépa!O"&$B47+5),IF($C47=2,INDIRECT("Prépa!H"&$B47+5),INDIRECT("Prépa!L"&$B47+5))))),IF(E47="","",IF($D47="D",0,IF($C47=3,INDIRECT("Prépa!O"&$B47+5),IF($C47=2,INDIRECT("Prépa!H"&$B47+5),INDIRECT("Prépa!L"&$B47+5)))))) | K47: =IF(IF(E47="","",IF($D47="C",0,IF($C47=3,INDIRECT("Prépa!O"&$B47+5),IF($C47=2,INDIRECT("Prépa!H"&$B47+5),INDIRECT("Prépa!L"&$B47+5)))))<0,-IF(E47="","",IF($D47="C",0,IF($C47=3,INDIRECT("Prépa!O"&$B47+5),IF($C47=2,INDIRECT("Prépa!H"&$B47+5),INDIRECT("Prépa!L"&$B47+5))))),IF(E47="","",IF($D47="C",0,IF($C47=3,INDIRECT("Prépa!O"&$B47+5),IF($C47=2,INDIRECT("Prépa!H"&$B47+5),INDIRECT("Prépa!L"&$B47+5)))))) | L47: =IF(E47="","","E")
A48: 46 | B48: =IF(INDIRECT("Prépa!M"&B47+5)=Prépa!$E$2,IF(B47=B45,B47+1,B47),IF(B47=B46,B47+1,B47)) -> 22 | C48: =IF(B48=B47,C47+1,1) -> 1 | D48: =IF(C48=3,IF(INDIRECT("Prépa!L"&B48+5)<0,"C","D"),IF(C48=2,IF(INDIRECT("Prépa!L"&B48+5)<0,"C","D"),IF(INDIRECT("Prépa!L"&B48+5)<0,"D","C"))) -> C | E48: =IF((INDIRECT("Prépa!A"&B48+5))="","",(INDIRECT("Prépa!G"&B48+5))) | F48: =IF(E48<>"",Prépa!$F$1,"") | G48: =IF(INDIRECT("Prépa!A"&B48+5)="","",IF(C48=3,Prépa!$I$1,IF(C49=2,INDIRECT("Prépa!F"&B48+5),INDIRECT("Prépa!N"&B48+5)))) | H48: =IF(E48="","",INDIRECT("Prépa!B"&B48+5)) | I48: =IF($E48="","",INDIRECT("Prépa!I"&$B48+5)&" Fact N°"&INDIRECT("Prépa!B"&$B48+5)) | J48: =IF(IF(E48="","",IF($D48="D",0,IF($C48=3,INDIRECT("Prépa!O"&$B48+5),IF($C48=2,INDIRECT("Prépa!H"&$B48+5),INDIRECT("Prépa!L"&$B48+5)))))<0,-IF(E48="","",IF($D48="D",0,IF($C48=3,INDIRECT("Prépa!O"&$B48+5),IF($C48=2,INDIRECT("Prépa!H"&$B48+5),INDIRECT("Prépa!L"&$B48+5))))),IF(E48="","",IF($D48="D",0,IF($C48=3,INDIRECT("Prépa!O"&$B48+5),IF($C48=2,INDIRECT("Prépa!H"&$B48+5),INDIRECT("Prépa!L"&$B48+5)))))) | K48: =IF(IF(E48="","",IF($D48="C",0,IF($C48=3,INDIRECT("Prépa!O"&$B48+5),IF($C48=2,INDIRECT("Prépa!H"&$B48+5),INDIRECT("Prépa!L"&$B48+5)))))<0,-IF(E48="","",IF($D48="C",0,IF($C48=3,INDIRECT("Prépa!O"&$B48+5),IF($C48=2,INDIRECT("Prépa!H"&$B48+5),INDIRECT("Prépa!L"&$B48+5))))),IF(E48="","",IF($D48="C",0,IF($C48=3,INDIRECT("Prépa!O"&$B48+5),IF($C48=2,INDIRECT("Prépa!H"&$B48+5),INDIRECT("Prépa!L"&$B48+5)))))) | L48: =IF(E48="","","E")
A49: 47 | B49: =IF(INDIRECT("Prépa!M"&B48+5)=Prépa!$E$2,IF(B48=B46,B48+1,B48),IF(B48=B47,B48+1,B48)) -> 22 | C49: =IF(B49=B48,C48+1,1) -> 2 | D49: =IF(C49=3,IF(INDIRECT("Prépa!L"&B49+5)<0,"C","D"),IF(C49=2,IF(INDIRECT("Prépa!L"&B49+5)<0,"C","D"),IF(INDIRECT("Prépa!L"&B49+5)<0,"D","C"))) -> D | E49: =IF((INDIRECT("Prépa!A"&B49+5))="","",(INDIRECT("Prépa!G"&B49+5))) | F49: =IF(E49<>"",Prépa!$F$1,"") | G49: =IF(INDIRECT("Prépa!A"&B49+5)="","",IF(C49=3,Prépa!$I$1,IF(C50=2,INDIRECT("Prépa!F"&B49+5),INDIRECT("Prépa!N"&B49+5)))) | H49: =IF(E49="","",INDIRECT("Prépa!B"&B49+5)) | I49: =IF($E49="","",INDIRECT("Prépa!I"&$B49+5)&" Fact N°"&INDIRECT("Prépa!B"&$B49+5)) | J49: =IF(IF(E49="","",IF($D49="D",0,IF($C49=3,INDIRECT("Prépa!O"&$B49+5),IF($C49=2,INDIRECT("Prépa!H"&$B49+5),INDIRECT("Prépa!L"&$B49+5)))))<0,-IF(E49="","",IF($D49="D",0,IF($C49=3,INDIRECT("Prépa!O"&$B49+5),IF($C49=2,INDIRECT("Prépa!H"&$B49+5),INDIRECT("Prépa!L"&$B49+5))))),IF(E49="","",IF($D49="D",0,IF($C49=3,INDIRECT("Prépa!O"&$B49+5),IF($C49=2,INDIRECT("Prépa!H"&$B49+5),INDIRECT("Prépa!L"&$B49+5)))))) | K49: =IF(IF(E49="","",IF($D49="C",0,IF($C49=3,INDIRECT("Prépa!O"&$B49+5),IF($C49=2,INDIRECT("Prépa!H"&$B49+5),INDIRECT("Prépa!L"&$B49+5)))))<0,-IF(E49="","",IF($D49="C",0,IF($C49=3,INDIRECT("Prépa!O"&$B49+5),IF($C49=2,INDIRECT("Prépa!H"&$B49+5),INDIRECT("Prépa!L"&$B49+5))))),IF(E49="","",IF($D49="C",0,IF($C49=3,INDIRECT("Prépa!O"&$B49+5),IF($C49=2,INDIRECT("Prépa!H"&$B49+5),INDIRECT("Prépa!L"&$B49+5)))))) | L49: =IF(E49="","","E")
A50: 48 | B50: =IF(INDIRECT("Prépa!M"&B49+5)=Prépa!$E$2,IF(B49=B47,B49+1,B49),IF(B49=B48,B49+1,B49)) -> 23 | C50: =IF(B50=B49,C49+1,1) -> 1 | D50: =IF(C50=3,IF(INDIRECT("Prépa!L"&B50+5)<0,"C","D"),IF(C50=2,IF(INDIRECT("Prépa!L"&B50+5)<0,"C","D"),IF(INDIRECT("Prépa!L"&B50+5)<0,"D","C"))) -> C | E50: =IF((INDIRECT("Prépa!A"&B50+5))="","",(INDIRECT("Prépa!G"&B50+5))) | F50: =IF(E50<>"",Prépa!$F$1,"") | G50: =IF(INDIRECT("Prépa!A"&B50+5)="","",IF(C50=3,Prépa!$I$1,IF(C51=2,INDIRECT("Prépa!F"&B50+5),INDIRECT("Prépa!N"&B50+5)))) | H50: =IF(E50="","",INDIRECT("Prépa!B"&B50+5)) | I50: =IF($E50="","",INDIRECT("Prépa!I"&$B50+5)&" Fact N°"&INDIRECT("Prépa!B"&$B50+5)) | J50: =IF(IF(E50="","",IF($D50="D",0,IF($C50=3,INDIRECT("Prépa!O"&$B50+5),IF($C50=2,INDIRECT("Prépa!H"&$B50+5),INDIRECT("Prépa!L"&$B50+5)))))<0,-IF(E50="","",IF($D50="D",0,IF($C50=3,INDIRECT("Prépa!O"&$B50+5),IF($C50=2,INDIRECT("Prépa!H"&$B50+5),INDIRECT("Prépa!L"&$B50+5))))),IF(E50="","",IF($D50="D",0,IF($C50=3,INDIRECT("Prépa!O"&$B50+5),IF($C50=2,INDIRECT("Prépa!H"&$B50+5),INDIRECT("Prépa!L"&$B50+5)))))) | K50: =IF(IF(E50="","",IF($D50="C",0,IF($C50=3,INDIRECT("Prépa!O"&$B50+5),IF($C50=2,INDIRECT("Prépa!H"&$B50+5),INDIRECT("Prépa!L"&$B50+5)))))<0,-IF(E50="","",IF($D50="C",0,IF($C50=3,INDIRECT("Prépa!O"&$B50+5),IF($C50=2,INDIRECT("Prépa!H"&$B50+5),INDIRECT("Prépa!L"&$B50+5))))),IF(E50="","",IF($D50="C",0,IF($C50=3,INDIRECT("Prépa!O"&$B50+5),IF($C50=2,INDIRECT("Prépa!H"&$B50+5),INDIRECT("Prépa!L"&$B50+5)))))) | L50: =IF(E50="","","E")
A51: 49 | B51: =IF(INDIRECT("Prépa!M"&B50+5)=Prépa!$E$2,IF(B50=B48,B50+1,B50),IF(B50=B49,B50+1,B50)) -> 23 | C51: =IF(B51=B50,C50+1,1) -> 2 | D51: =IF(C51=3,IF(INDIRECT("Prépa!L"&B51+5)<0,"C","D"),IF(C51=2,IF(INDIRECT("Prépa!L"&B51+5)<0,"C","D"),IF(INDIRECT("Prépa!L"&B51+5)<0,"D","C"))) -> D | E51: =IF((INDIRECT("Prépa!A"&B51+5))="","",(INDIRECT("Prépa!G"&B51+5))) | F51: =IF(E51<>"",Prépa!$F$1,"") | G51: =IF(INDIRECT("Prépa!A"&B51+5)="","",IF(C51=3,Prépa!$I$1,IF(C52=2,INDIRECT("Prépa!F"&B51+5),INDIRECT("Prépa!N"&B51+5)))) | H51: =IF(E51="","",INDIRECT("Prépa!B"&B51+5)) | I51: =IF($E51="","",INDIRECT("Prépa!I"&$B51+5)&" Fact N°"&INDIRECT("Prépa!B"&$B51+5)) | J51: =IF(IF(E51="","",IF($D51="D",0,IF($C51=3,INDIRECT("Prépa!O"&$B51+5),IF($C51=2,INDIRECT("Prépa!H"&$B51+5),INDIRECT("Prépa!L"&$B51+5)))))<0,-IF(E51="","",IF($D51="D",0,IF($C51=3,INDIRECT("Prépa!O"&$B51+5),IF($C51=2,INDIRECT("Prépa!H"&$B51+5),INDIRECT("Prépa!L"&$B51+5))))),IF(E51="","",IF($D51="D",0,IF($C51=3,INDIRECT("Prépa!O"&$B51+5),IF($C51=2,INDIRECT("Prépa!H"&$B51+5),INDIRECT("Prépa!L"&$B51+5)))))) | K51: =IF(IF(E51="","",IF($D51="C",0,IF($C51=3,INDIRECT("Prépa!O"&$B51+5),IF($C51=2,INDIRECT("Prépa!H"&$B51+5),INDIRECT("Prépa!L"&$B51+5)))))<0,-IF(E51="","",IF($D51="C",0,IF($C51=3,INDIRECT("Prépa!O"&$B51+5),IF($C51=2,INDIRECT("Prépa!H"&$B51+5),INDIRECT("Prépa!L"&$B51+5))))),IF(E51="","",IF($D51="C",0,IF($C51=3,INDIRECT("Prépa!O"&$B51+5),IF($C51=2,INDIRECT("Prépa!H"&$B51+5),INDIRECT("Prépa!L"&$B51+5)))))) | L51: =IF(E51="","","E")
A52: 50 | B52: =IF(INDIRECT("Prépa!M"&B51+5)=Prépa!$E$2,IF(B51=B49,B51+1,B51),IF(B51=B50,B51+1,B51)) -> 24 | C52: =IF(B52=B51,C51+1,1) -> 1 | D52: =IF(C52=3,IF(INDIRECT("Prépa!L"&B52+5)<0,"C","D"),IF(C52=2,IF(INDIRECT("Prépa!L"&B52+5)<0,"C","D"),IF(INDIRECT("Prépa!L"&B52+5)<0,"D","C"))) -> C | E52: =IF((INDIRECT("Prépa!A"&B52+5))="","",(INDIRECT("Prépa!G"&B52+5))) | F52: =IF(E52<>"",Prépa!$F$1,"") | G52: =IF(INDIRECT("Prépa!A"&B52+5)="","",IF(C52=3,Prépa!$I$1,IF(C53=2,INDIRECT("Prépa!F"&B52+5),INDIRECT("Prépa!N"&B52+5)))) | H52: =IF(E52="","",INDIRECT("Prépa!B"&B52+5)) | I52: =IF($E52="","",INDIRECT("Prépa!I"&$B52+5)&" Fact N°"&INDIRECT("Prépa!B"&$B52+5)) | J52: =IF(IF(E52="","",IF($D52="D",0,IF($C52=3,INDIRECT("Prépa!O"&$B52+5),IF($C52=2,INDIRECT("Prépa!H"&$B52+5),INDIRECT("Prépa!L"&$B52+5)))))<0,-IF(E52="","",IF($D52="D",0,IF($C52=3,INDIRECT("Prépa!O"&$B52+5),IF($C52=2,INDIRECT("Prépa!H"&$B52+5),INDIRECT("Prépa!L"&$B52+5))))),IF(E52="","",IF($D52="D",0,IF($C52=3,INDIRECT("Prépa!O"&$B52+5),IF($C52=2,INDIRECT("Prépa!H"&$B52+5),INDIRECT("Prépa!L"&$B52+5)))))) | K52: =IF(IF(E52="","",IF($D52="C",0,IF($C52=3,INDIRECT("Prépa!O"&$B52+5),IF($C52=2,INDIRECT("Prépa!H"&$B52+5),INDIRECT("Prépa!L"&$B52+5)))))<0,-IF(E52="","",IF($D52="C",0,IF($C52=3,INDIRECT("Prépa!O"&$B52+5),IF($C52=2,INDIRECT("Prépa!H"&$B52+5),INDIRECT("Prépa!L"&$B52+5))))),IF(E52="","",IF($D52="C",0,IF($C52=3,INDIRECT("Prépa!O"&$B52+5),IF($C52=2,INDIRECT("Prépa!H"&$B52+5),INDIRECT("Prépa!L"&$B52+5)))))) | L52: =IF(E52="","","E")
A53: 51 | B53: =IF(INDIRECT("Prépa!M"&B52+5)=Prépa!$E$2,IF(B52=B50,B52+1,B52),IF(B52=B51,B52+1,B52)) -> 24 | C53: =IF(B53=B52,C52+1,1) -> 2 | D53: =IF(C53=3,IF(INDIRECT("Prépa!L"&B53+5)<0,"C","D"),IF(C53=2,IF(INDIRECT("Prépa!L"&B53+5)<0,"C","D"),IF(INDIRECT("Prépa!L"&B53+5)<0,"D","C"))) -> D | E53: =IF((INDIRECT("Prépa!A"&B53+5))="","",(INDIRECT("Prépa!G"&B53+5))) | F53: =IF(E53<>"",Prépa!$F$1,"") | G53: =IF(INDIRECT("Prépa!A"&B53+5)="","",IF(C53=3,Prépa!$I$1,IF(C54=2,INDIRECT("Prépa!F"&B53+5),INDIRECT("Prépa!N"&B53+5)))) | H53: =IF(E53="","",INDIRECT("Prépa!B"&B53+5)) | I53: =IF($E53="","",INDIRECT("Prépa!I"&$B53+5)&" Fact N°"&INDIRECT("Prépa!B"&$B53+5)) | J53: =IF(IF(E53="","",IF($D53="D",0,IF($C53=3,INDIRECT("Prépa!O"&$B53+5),IF($C53=2,INDIRECT("Prépa!H"&$B53+5),INDIRECT("Prépa!L"&$B53+5)))))<0,-IF(E53="","",IF($D53="D",0,IF($C53=3,INDIRECT("Prépa!O"&$B53+5),IF($C53=2,INDIRECT("Prépa!H"&$B53+5),INDIRECT("Prépa!L"&$B53+5))))),IF(E53="","",IF($D53="D",0,IF($C53=3,INDIRECT("Prépa!O"&$B53+5),IF($C53=2,INDIRECT("Prépa!H"&$B53+5),INDIRECT("Prépa!L"&$B53+5)))))) | K53: =IF(IF(E53="","",IF($D53="C",0,IF($C53=3,INDIRECT("Prépa!O"&$B53+5),IF($C53=2,INDIRECT("Prépa!H"&$B53+5),INDIRECT("Prépa!L"&$B53+5)))))<0,-IF(E53="","",IF($D53="C",0,IF($C53=3,INDIRECT("Prépa!O"&$B53+5),IF($C53=2,INDIRECT("Prépa!H"&$B53+5),INDIRECT("Prépa!L"&$B53+5))))),IF(E53="","",IF($D53="C",0,IF($C53=3,INDIRECT("Prépa!O"&$B53+5),IF($C53=2,INDIRECT("Prépa!H"&$B53+5),INDIRECT("Prépa!L"&$B53+5)))))) | L53: =IF(E53="","","E")
