Workbook

Sheet PARAMETRAGE
D3: Nbr | E3: Montant | F3: Périodicité | G3: Mois départ | H3: Nombre mois
A4: Simulation | B4: PenTesteur | C4: 1 | D4: 3 | E4: 40000 | F4: Annuel | G4: juin | H4: 2
B5: Sales | C5: 2 | D5: 1 | E5: 60000 | F5: Annuel | G5: juil | H5: 6 et plus
B6: CTO | C6: 3 | D6: 1 | E6: 50000 | F6: Annuel | G6: aout | H6: 5
B7: Marketing | C7: 4 | D7: 1 | E7: 45000 | F7: Annuel | G7: sept | H7: 2
C8: 5
B9: Apprentis | C9: 6 | D9: 4 | E9: 1300 | F9: Mensuel | G9: sept | H9: 6 et plus
C10: 7
C11: 8
C12: 9
B13: Prest sous traitant | C13: 10 | D13: 3 | E13: 3000 | G13: sept | H13: 6 et plus

Sheet CALCUL
A1: Listes
A3: 1 | B3: janv | C3: 1 | D3: Annuel
A4: 2 | B4: fév | C4: 2 | D4: Mensuel
A5: 3 | B5: mars | C5: 3
A6: 4 | B6: avr | C6: 4
A7: 5 | B7: mai | C7: 5
A8: 6 | B8: juin | C8: 6 et plus
A9: 7 | B9: juil
A10: 8 | B10: aout
A11: 9 | B11: sept
A12: 10 | B12: oct
A13: 11 | B13: nov
A14: 12 | B14: déc
H15: Montant par mois
A16: 1 | B16: 3 | C16: 40000 | D16: Annuel | E16: juin | F16: 2 | H16: =+B16*C16/12 -> 10000
A17: 2 | B17: 1 | C17: 60000 | D17: Annuel | E17: juil | F17: 6 et plus | H17: =+B17*C17/12 -> 5000
A18: 3 | B18: 1 | C18: 50000 | D18: Annuel | E18: aout | F18: 5 | H18: =+B18*C18/12 -> 4166.6667
A19: 4 | B19: 1 | C19: 45000 | D19: Annuel | E19: sept | F19: 2 | H19: =+B19*C19/12 -> 3750
A20: 5
A21: 6 | B21: 4 | C21: 1300 | D21: Mensuel | E21: sept | F21: 6 et plus | H21: =+C21*B21 -> 5200
A22: 7
A23: 8
A24: 9
A25: 10 | B25: 3 | C25: 3000 | D25: Mensuel | E25: sept | F25: 6 et plus | H25: =+B25*C25 -> 9000

Sheet EXEMPLE
C2: =MONTH(TODAY()) -> 6 | D2: =MOIS(AUJOURDHUI())
B4: =VLOOKUP(C2,CALCUL!A3:B14,2,FALSE) -> juin | C4: =VLOOKUP(C2+1,CALCUL!$A$3:$B$14,2,FALSE) -> juil | D4: =VLOOKUP(C2+2,CALCUL!$A$3:$B$14,2,FALSE) -> aout | E4: =VLOOKUP(C2+3,CALCUL!$A$3:$B$14,2,FALSE) -> sept | F4: =VLOOKUP(C2+4,CALCUL!$A$3:$B$14,2,FALSE) -> oct | G4: =VLOOKUP(C2+5,CALCUL!$A$3:$B$14,2,FALSE) -> nov | H4: =VLOOKUP(C2+6,CALCUL!$A$3:$B$14,2,FALSE) -> déc | I4: =VLOOKUP(C2-5,CALCUL!$A$3:$B$14,2,FALSE) -> janv | J4: =VLOOKUP(C2-4,CALCUL!$A$3:$B$14,2,FALSE) -> fév | K4: =VLOOKUP(C2-3,CALCUL!$A$3:$B$14,2,FALSE) -> mars | L4: =VLOOKUP(C2-2,CALCUL!$A$3:$B$14,2,FALSE) -> avr
A5: =PARAMETRAGE!B4 -> PenTesteur | B5: 10000 | C5: 10000
A6: =+PARAMETRAGE!B5 -> Sales | C6: 5000 | D6: 5000 | E6: 5000 | F6: 5000 | G6: 5000 | H6: 5000 | I6: 5000 | J6: 5000 | K6: 5000 | L6: 5000
A7: =+PARAMETRAGE!B6 -> CTO | D7: 4166.67 | E7: 4166.67 | F7: 4166.67 | G7: 4166.67 | H7: 4166.67
A8: =+PARAMETRAGE!B7 -> Marketing | E8: 3750 | F8: 3750
A9: =+PARAMETRAGE!B8 -> 0
A10: =+PARAMETRAGE!B9 -> Apprentis | E10: 5200 | F10: 5200 | G10: 5200 | H10: 5200 | I10: 5200 | J10: 5200 | K10: 5200 | L10: 5200
A11: =+PARAMETRAGE!B10 -> 0
A12: =+PARAMETRAGE!B11 -> 0
A13: =+PARAMETRAGE!B12 -> 0
A14: =+PARAMETRAGE!B13 -> Prest sous traitant | E14: 9000 | F14: 9000 | G14: 9000 | H14: 9000 | I14: 9000 | J14: 9000 | K14: 9000 | L14: 9000
C16: 7
B19: juil | C19: aout | D19: sept | E19: oct | F19: nov | G19: déc | H19: janv | I19: févr | J19: mars | K19: avr | L19: mai
A20: PenTesteur | B20: 10000
A21: Sales | B21: 5000 | C21: 5000 | D21: 5000 | E21: 5000 | F21: 5000 | G21: 5000 | H21: 5000 | I21: 5000 | J21: 5000 | K21: 5000 | L21: 5000
A22: CTO | C22: 4166.67 | D22: 4166.67 | E22: 4166.67 | F22: 4166.67 | G22: 4166.67
A23: Marketing | D23: 3750 | E23: 3750
A24: 0
A25: Apprentis | D25: 5200 | E25: 5200 | F25: 5200 | G25: 5200 | H25: 5200 | I25: 5200 | J25: 5200 | K25: 5200 | L25: 5200
A26: 0
A27: 0
A28: 0
A29: Prest sous traitant | D29: 9000 | E29: 9000 | F29: 9000 | G29: 9000 | H29: 9000 | I29: 9000 | J29: 9000 | K29: 9000 | L29: 9000
