Workbook
Name chargeur_courant_maxon: #REF!
Name Colonne_Articles: Recette!$F$2:$F$2631
Name Colonne_Code_Retour: Recette!$D$2:$D$2631
Name Colonne_Code_Vente: Recette!$E$2:$E$2631
Name Stock_Giga: Stock!$A$4:$G$254

Sheet Recette
A1: Date | B1: Divers | C1: Défaut | D1: Code Retour | E1: Code Vente | F1: Articles | G1: Nbe | H1: Remise par pièce | I1: Payé | J1: P.d'achat | K1: P.Vente | L1: Reste | M1: Cartes | N1: Acheté
E2: 2013010082 | F2: =IFERROR(VLOOKUP(E2,Stock_Giga,2,FALSE),"") -> Chargeur PS2 | I2: =IFERROR((IF(ISBLANK(G2),K2-H2,(K2-H2)*G2)),"") | J2: =IFERROR(VLOOKUP(E2,Stock_Giga,12,FALSE),"") | K2: =IFERROR(VLOOKUP(E2,Stock_Giga,13,FALSE),"") | L2: =IFERROR(N2-COUNTIF(Colonne_Articles,F2),"") -> -1 | N2: =IFERROR(VLOOKUP(E2,Stock_Giga,5,FALSE),"") -> 0
E3: 2013010154 | F3: =IFERROR(VLOOKUP(E3,Stock_Giga,2,FALSE),"") -> Microcasque USB ET-U032MV | I3: =IFERROR((IF(ISBLANK(G3),K3-H3,(K3-H3)*G3)),"") | J3: =IFERROR(VLOOKUP(E3,Stock_Giga,12,FALSE),"") | K3: =IFERROR(VLOOKUP(E3,Stock_Giga,13,FALSE),"") | L3: =IFERROR(N3-COUNTIF(Colonne_Articles,F3),"") -> -1 | N3: =IFERROR(VLOOKUP(E3,Stock_Giga,5,FALSE),"") -> 0
E4: 2013010070 | F4: =IFERROR(VLOOKUP(E4,Stock_Giga,2,FALSE),"") -> CD vierge | I4: =IFERROR((IF(ISBLANK(G4),K4-H4,(K4-H4)*G4)),"") | J4: =IFERROR(VLOOKUP(E4,Stock_Giga,12,FALSE),"") | K4: =IFERROR(VLOOKUP(E4,Stock_Giga,13,FALSE),"") | L4: =IFERROR(N4-COUNTIF(Colonne_Articles,F4),"") -> 269 | N4: =IFERROR(VLOOKUP(E4,Stock_Giga,5,FALSE),"") -> 271
E5: 2013010243 | F5: =IFERROR(VLOOKUP(E5,Stock_Giga,2,FALSE),"") -> Chargeur Haute qualité | I5: =IFERROR((IF(ISBLANK(G5),K5-H5,(K5-H5)*G5)),"") | J5: =IFERROR(VLOOKUP(E5,Stock_Giga,12,FALSE),"") | K5: =IFERROR(VLOOKUP(E5,Stock_Giga,13,FALSE),"") | L5: =IFERROR(N5-COUNTIF(Colonne_Articles,F5),"") -> 43 | N5: =IFERROR(VLOOKUP(E5,Stock_Giga,5,FALSE),"") -> 44
E6: 2013010247 | F6: =IFERROR(VLOOKUP(E6,Stock_Giga,2,FALSE),"") -> Abonnement Dreambox | I6: =IFERROR((IF(ISBLANK(G6),K6-H6,(K6-H6)*G6)),"") | J6: =IFERROR(VLOOKUP(E6,Stock_Giga,12,FALSE),"") | K6: =IFERROR(VLOOKUP(E6,Stock_Giga,13,FALSE),"") | L6: =IFERROR(N6-COUNTIF(Colonne_Articles,F6),"") -> -1 | N6: =IFERROR(VLOOKUP(E6,Stock_Giga,5,FALSE),"") -> 0
F7: =IFERROR(VLOOKUP(E7,Stock_Giga,2,FALSE),"") | I7: =IFERROR((IF(ISBLANK(G7),K7-H7,(K7-H7)*G7)),"") | J7: =IFERROR(VLOOKUP(E7,Stock_Giga,12,FALSE),"") | K7: =IFERROR(VLOOKUP(E7,Stock_Giga,13,FALSE),"") | L7: =IFERROR(N7-COUNTIF(Colonne_Articles,F7),"") | N7: =IFERROR(VLOOKUP(E7,Stock_Giga,5,FALSE),"")
F8: =IFERROR(VLOOKUP(E8,Stock_Giga,2,FALSE),"") | I8: =IFERROR((IF(ISBLANK(G8),K8-H8,(K8-H8)*G8)),"") | J8: =IFERROR(VLOOKUP(E8,Stock_Giga,12,FALSE),"") | K8: =IFERROR(VLOOKUP(E8,Stock_Giga,13,FALSE),"") | L8: =IFERROR(N8-COUNTIF(Colonne_Articles,F8),"") | N8: =IFERROR(VLOOKUP(E8,Stock_Giga,5,FALSE),"")
E9: 2013010070 | F9: =IFERROR(VLOOKUP(E9,Stock_Giga,2,FALSE),"") -> CD vierge | I9: =IFERROR((IF(ISBLANK(G9),K9-H9,(K9-H9)*G9)),"") | J9: =IFERROR(VLOOKUP(E9,Stock_Giga,12,FALSE),"") | K9: =IFERROR(VLOOKUP(E9,Stock_Giga,13,FALSE),"") | L9: =IFERROR(N9-COUNTIF(Colonne_Articles,F9),"") -> 269 | N9: =IFERROR(VLOOKUP(E9,Stock_Giga,5,FALSE),"") -> 271
F10: =IFERROR(VLOOKUP(E10,Stock_Giga,2,FALSE),"") | I10: =IFERROR((IF(ISBLANK(G10),K10-H10,(K10-H10)*G10)),"") | J10: =IFERROR(VLOOKUP(E10,Stock_Giga,12,FALSE),"") | K10: =IFERROR(VLOOKUP(E10,Stock_Giga,13,FALSE),"") | L10: =IFERROR(N10-COUNTIF(Colonne_Articles,F10),"") | N10: =IFERROR(VLOOKUP(E10,Stock_Giga,5,FALSE),"")
F11: =IFERROR(VLOOKUP(E11,Stock_Giga,2,FALSE),"") | I11: =IFERROR((IF(ISBLANK(G11),K11-H11,(K11-H11)*G11)),"") | J11: =IFERROR(VLOOKUP(E11,Stock_Giga,12,FALSE),"") | K11: =IFERROR(VLOOKUP(E11,Stock_Giga,13,FALSE),"") | L11: =IFERROR(N11-COUNTIF(Colonne_Articles,F11),"") | N11: =IFERROR(VLOOKUP(E11,Stock_Giga,5,FALSE),"")
F12: =IFERROR(VLOOKUP(E12,Stock_Giga,2,FALSE),"") | I12: =IFERROR((IF(ISBLANK(G12),K12-H12,(K12-H12)*G12)),"") | J12: =IFERROR(VLOOKUP(E12,Stock_Giga,12,FALSE),"") | K12: =IFERROR(VLOOKUP(E12,Stock_Giga,13,FALSE),"") | L12: =IFERROR(N12-COUNTIF(Colonne_Articles,F12),"") | N12: =IFERROR(VLOOKUP(E12,Stock_Giga,5,FALSE),"")
F13: =IFERROR(VLOOKUP(E13,Stock_Giga,2,FALSE),"") | I13: =IFERROR((IF(ISBLANK(G13),K13-H13,(K13-H13)*G13)),"") | J13: =IFERROR(VLOOKUP(E13,Stock_Giga,12,FALSE),"") | K13: =IFERROR(VLOOKUP(E13,Stock_Giga,13,FALSE),"") | L13: =IFERROR(N13-COUNTIF(Colonne_Articles,F13),"") | N13: =IFERROR(VLOOKUP(E13,Stock_Giga,5,FALSE),"")
F14: =IFERROR(VLOOKUP(E14,Stock_Giga,2,FALSE),"") | I14: =IFERROR((IF(ISBLANK(G14),K14-H14,(K14-H14)*G14)),"") | J14: =IFERROR(VLOOKUP(E14,Stock_Giga,12,FALSE),"") | K14: =IFERROR(VLOOKUP(E14,Stock_Giga,13,FALSE),"") | L14: =IFERROR(N14-COUNTIF(Colonne_Articles,F14),"") | N14: =IFERROR(VLOOKUP(E14,Stock_Giga,5,FALSE),"")
F15: =IFERROR(VLOOKUP(E15,Stock_Giga,2,FALSE),"") | I15: =IFERROR((IF(ISBLANK(G15),K15-H15,(K15-H15)*G15)),"") | J15: =IFERROR(VLOOKUP(E15,Stock_Giga,12,FALSE),"") | K15: =IFERROR(VLOOKUP(E15,Stock_Giga,13,FALSE),"") | L15: =IFERROR(N15-COUNTIF(Colonne_Articles,F15),"") | N15: =IFERROR(VLOOKUP(E15,Stock_Giga,5,FALSE),"")
F16: =IFERROR(VLOOKUP(E16,Stock_Giga,2,FALSE),"") | I16: =IFERROR((IF(ISBLANK(G16),K16-H16,(K16-H16)*G16)),"") | J16: =IFERROR(VLOOKUP(E16,Stock_Giga,12,FALSE),"") | K16: =IFERROR(VLOOKUP(E16,Stock_Giga,13,FALSE),"") | L16: =IFERROR(N16-COUNTIF(Colonne_Articles,F16),"") | N16: =IFERROR(VLOOKUP(E16,Stock_Giga,5,FALSE),"")
F17: =IFERROR(VLOOKUP(E17,Stock_Giga,2,FALSE),"") | I17: =IFERROR((IF(ISBLANK(G17),K17-H17,(K17-H17)*G17)),"") | J17: =IFERROR(VLOOKUP(E17,Stock_Giga,12,FALSE),"") | K17: =IFERROR(VLOOKUP(E17,Stock_Giga,13,FALSE),"") | L17: =IFERROR(N17-COUNTIF(Colonne_Articles,F17),"") | N17: =IFERROR(VLOOKUP(E17,Stock_Giga,5,FALSE),"")
F18: =IFERROR(VLOOKUP(E18,Stock_Giga,2,FALSE),"") | I18: =IFERROR((IF(ISBLANK(G18),K18-H18,(K18-H18)*G18)),"") | J18: =IFERROR(VLOOKUP(E18,Stock_Giga,12,FALSE),"") | K18: =IFERROR(VLOOKUP(E18,Stock_Giga,13,FALSE),"") | L18: =IFERROR(N18-COUNTIF(Colonne_Articles,F18),"") | N18: =IFERROR(VLOOKUP(E18,Stock_Giga,5,FALSE),"")
F19: =IFERROR(VLOOKUP(E19,Stock_Giga,2,FALSE),"") | I19: =IFERROR((IF(ISBLANK(G19),K19-H19,(K19-H19)*G19)),"") | J19: =IFERROR(VLOOKUP(E19,Stock_Giga,12,FALSE),"") | K19: =IFERROR(VLOOKUP(E19,Stock_Giga,13,FALSE),"") | L19: =IFERROR(N19-COUNTIF(Colonne_Articles,F19),"") | N19: =IFERROR(VLOOKUP(E19,Stock_Giga,5,FALSE),"")
F20: =IFERROR(VLOOKUP(E20,Stock_Giga,2,FALSE),"") | I20: =IFERROR((IF(ISBLANK(G20),K20-H20,(K20-H20)*G20)),"") | J20: =IFERROR(VLOOKUP(E20,Stock_Giga,12,FALSE),"") | K20: =IFERROR(VLOOKUP(E20,Stock_Giga,13,FALSE),"") | L20: =IFERROR(N20-COUNTIF(Colonne_Articles,F20),"") | N20: =IFERROR(VLOOKUP(E20,Stock_Giga,5,FALSE),"")
F21: =IFERROR(VLOOKUP(E21,Stock_Giga,2,FALSE),"") | I21: =IFERROR((IF(ISBLANK(G21),K21-H21,(K21-H21)*G21)),"") | J21: =IFERROR(VLOOKUP(E21,Stock_Giga,12,FALSE),"") | K21: =IFERROR(VLOOKUP(E21,Stock_Giga,13,FALSE),"") | L21: =IFERROR(N21-COUNTIF(Colonne_Articles,F21),"") | N21: =IFERROR(VLOOKUP(E21,Stock_Giga,5,FALSE),"")

Sheet Light 2
A1: Reste | B1: =19+F4-B4 -> 86.5 | H1: =-10+L4-H4 -> 288 | N1: =R4-N4 -> 11 | T1: Gains | U1: Tunisiana | V1: 25620869
A2: Caisse | B2: =(B4+H4+N4)-(G4+M4+S4)-13.27+50-T2 -> -102.27 | L2: Gains | N2: =5.313+E4+K4+Q4-210.768 -> 13.19 | T2: =T39+T74+T111+T147+T184+T220+T257+T294+T330+T367+T403+T440 -> 9 | U2: Telecom | V2: 95710703 | W2: 96615059
B4: =B39+B74+B111+B147+B184+B220+B257+B294+B330+B367+B403+B440 -> 1932.5 | C4: =C39+C74+C111+C147+C184+C220+C257+C294+C330+C367+C403+C440 -> 1835.875 | E4: =E39+E74+E111+E147+E184+E220+E257+E294+E330+E367+E403+E440 -> 96.625 | F4: =F39+F74+F111+F147+F184+F220+F257+F294+F330+F367+F403+F440 -> 2000 | G4: =G39+G74+G111+G147+G184+G220+G257+G294+G330+G367+G403+G440 -> 1900 | H4: =H39+H74+H111+H147+H184+H220+H257+H294+H330+H367+H403+H440 -> 1502 | I4: =I39+I74+I111+I147+I184+I220+I257+I294+I330+I367+I403+I440 -> 1381.93 | K4: =K39+K74+K111+K147+K184+K220+K257+K294+K330+K367+K403+K440 -> 120.07 | L4: =L39+L74+L111+L147+L184+L220+L257+L294+L330+L367+L403+L440 -> 1800 | M4: =M39+M74+M111+M147+M184+M220+M257+M294+M330+M367+M403+M440 -> 1656 | N4: =N39+N74+N111+N147+N184+N220+N257+N294+N330+N367+N403+N440 -> 39 | O4: =O39+O74+O111+O147+O184+O220+O257+O294+O330+O367+O403+O440 -> 37.05 | Q4: =Q39+Q74+Q111+Q147+Q184+Q220+Q257+Q294+Q330+Q367+Q403+Q440 -> 1.95 | R4: =R39+R74+R111+R147+R184+R220+R257+R294+R330+R367+R403+R440 -> 50 | S4: =S39+S74+S111+S147+S184+S220+S257+S294+S330+S367+S403+S440 -> 47.5
A5: Janvier 2010
A6: Date | B6: Tunisiana | H6: Telecom | N6: Orange | T6: Gains
B7: Unités | C7: Base | D7: Coef. | E7: Gains | F7: Achats | G7: payés | H7: Unités | I7: Base | J7: Coef. | K7: Gains | L7: Achats | M7: payés | N7: Unités | O7: Base | P7: Coef. | Q7: Gains | R7: Achats | S7: payés
A8: 40179 | B8: 1 | C8: =B8*D8 -> 0.95 | D8: =47500/50000 -> 0.95 | E8: =B8-C8 -> 0.05 | G8: =F8*D8 -> 0 | H8: 3 | I8: =H8*J8 -> 2.85 | J8: =47500/50000 -> 0.95 | K8: =H8-I8 -> 0.15 | M8: =L8*J8 -> 0 | O8: =N8*P8 -> 0 | P8: =47500/50000 -> 0.95 | Q8: =N8-O8 -> 0 | S8: =R8*P8 -> 0
A9: =A8+1 -> 40180 | B9: 5 | C9: =B9*D9 -> 4.75 | D9: =D8 -> 0.95 | E9: =B9-C9 -> 0.25 | G9: =F9*D9 -> 0 | H9: 5 | I9: =H9*J9 -> 4.6 | J9: =92/100 -> 0.92 | K9: =H9-I9 -> 0.4 | M9: =L9*J9 -> 0 | O9: =N9*P9 -> 0 | P9: =P8 -> 0.95 | Q9: =N9-O9 -> 0 | S9: =R9*P9 -> 0
A10: =A9+1 -> 40181 | B10: 1 | C10: =B10*D10 -> 0.95 | D10: =D9 -> 0.95 | E10: =B10-C10 -> 0.05 | G10: =F10*D10 -> 0 | H10: 0 | I10: =H10*J10 -> 0 | J10: =J9 -> 0.92 | K10: =H10-I10 -> 0 | M10: =L10*J10 -> 0 | O10: =N10*P10 -> 0 | P10: =P9 -> 0.95 | Q10: =N10-O10 -> 0 | S10: =R10*P10 -> 0
A11: =A10+1 -> 40182 | B11: 5 | C11: =B11*D11 -> 4.75 | D11: =D10 -> 0.95 | E11: =B11-C11 -> 0.25 | F11: 50 | G11: =F11*D11 -> 47.5 | H11: 12 | I11: =H11*J11 -> 11.04 | J11: =J10 -> 0.92 | K11: =H11-I11 -> 0.96 | L11: 50 | M11: =L11*J11 -> 46 | O11: =N11*P11 -> 0 | P11: =P10 -> 0.95 | Q11: =N11-O11 -> 0 | S11: =R11*P11 -> 0
A12: =A11+1 -> 40183 | B12: 8 | C12: =B12*D12 -> 7.6 | D12: =D11 -> 0.95 | E12: =B12-C12 -> 0.4 | G12: =F12*D12 -> 0 | H12: 17 | I12: =H12*J12 -> 15.64 | J12: =J11 -> 0.92 | K12: =H12-I12 -> 1.36 | M12: =L12*J12 -> 0 | O12: =N12*P12 -> 0 | P12: =P11 -> 0.95 | Q12: =N12-O12 -> 0 | S12: =R12*P12 -> 0
A13: =A12+1 -> 40184 | B13: 1 | C13: =B13*D13 -> 0.95 | D13: =D12 -> 0.95 | E13: =B13-C13 -> 0.05 | G13: =F13*D13 -> 0 | H13: 0 | I13: =H13*J13 -> 0 | J13: =J12 -> 0.92 | K13: =H13-I13 -> 0 | M13: =L13*J13 -> 0 | O13: =N13*P13 -> 0 | P13: =P12 -> 0.95 | Q13: =N13-O13 -> 0 | S13: =R13*P13 -> 0
A14: =A13+1 -> 40185 | B14: 3 | C14: =B14*D14 -> 2.85 | D14: =D13 -> 0.95 | E14: =B14-C14 -> 0.15 | G14: =F14*D14 -> 0 | H14: 0 | I14: =H14*J14 -> 0 | J14: =J13 -> 0.92 | K14: =H14-I14 -> 0 | M14: =L14*J14 -> 0 | O14: =N14*P14 -> 0 | P14: =P13 -> 0.95 | Q14: =N14-O14 -> 0 | S14: =R14*P14 -> 0
A15: =A14+1 -> 40186 | B15: 8 | C15: =B15*D15 -> 7.6 | D15: =D14 -> 0.95 | E15: =B15-C15 -> 0.4 | G15: =F15*D15 -> 0 | H15: 2 | I15: =H15*J15 -> 1.84 | J15: =J14 -> 0.92 | K15: =H15-I15 -> 0.16 | M15: =L15*J15 -> 0 | O15: =N15*P15 -> 0 | P15: =P14 -> 0.95 | Q15: =N15-O15 -> 0 | S15: =R15*P15 -> 0
A16: =A15+1 -> 40187 | B16: 4 | C16: =B16*D16 -> 3.8 | D16: =D15 -> 0.95 | E16: =B16-C16 -> 0.2 | G16: =F16*D16 -> 0 | H16: 0 | I16: =H16*J16 -> 0 | J16: =J15 -> 0.92 | K16: =H16-I16 -> 0 | M16: =L16*J16 -> 0 | O16: =N16*P16 -> 0 | P16: =P15 -> 0.95 | Q16: =N16-O16 -> 0 | S16: =R16*P16 -> 0
A17: =A16+1 -> 40188 | B17: 10 | C17: =B17*D17 -> 9.5 | D17: =D16 -> 0.95 | E17: =B17-C17 -> 0.5 | G17: =F17*D17 -> 0 | H17: 2 | I17: =H17*J17 -> 1.84 | J17: =J16 -> 0.92 | K17: =H17-I17 -> 0.16 | M17: =L17*J17 -> 0 | O17: =N17*P17 -> 0 | P17: =P16 -> 0.95 | Q17: =N17-O17 -> 0 | S17: =R17*P17 -> 0
A18: =A17+1 -> 40189 | B18: 4 | C18: =B18*D18 -> 3.8 | D18: =D17 -> 0.95 | E18: =B18-C18 -> 0.2 | G18: =F18*D18 -> 0 | H18: 3 | I18: =H18*J18 -> 2.76 | J18: =J17 -> 0.92 | K18: =H18-I18 -> 0.24 | M18: =L18*J18 -> 0 | O18: =N18*P18 -> 0 | P18: =P17 -> 0.95 | Q18: =N18-O18 -> 0 | S18: =R18*P18 -> 0
A19: =A18+1 -> 40190 | B19: 0 | C19: =B19*D19 -> 0 | D19: =D18 -> 0.95 | E19: =B19-C19 -> 0 | G19: =F19*D19 -> 0 | H19: 0 | I19: =H19*J19 -> 0 | J19: =J18 -> 0.92 | K19: =H19-I19 -> 0 | M19: =L19*J19 -> 0 | O19: =N19*P19 -> 0 | P19: =P18 -> 0.95 | Q19: =N19-O19 -> 0 | S19: =R19*P19 -> 0
A20: =A19+1 -> 40191 | B20: 2 | C20: =B20*D20 -> 1.9 | D20: =D19 -> 0.95 | E20: =B20-C20 -> 0.1 | G20: =F20*D20 -> 0 | H20: 1 | I20: =H20*J20 -> 0.92 | J20: =J19 -> 0.92 | K20: =H20-I20 -> 0.08 | M20: =L20*J20 -> 0 | O20: =N20*P20 -> 0 | P20: =P19 -> 0.95 | Q20: =N20-O20 -> 0 | S20: =R20*P20 -> 0
A21: =A20+1 -> 40192 | B21: 1 | C21: =B21*D21 -> 0.95 | D21: =D20 -> 0.95 | E21: =B21-C21 -> 0.05 | G21: =F21*D21 -> 0 | H21: 2 | I21: =H21*J21 -> 1.84 | J21: =J20 -> 0.92 | K21: =H21-I21 -> 0.16 | M21: =L21*J21 -> 0 | O21: =N21*P21 -> 0 | P21: =P20 -> 0.95 | Q21: =N21-O21 -> 0 | S21: =R21*P21 -> 0
A22: =A21+1 -> 40193 | B22: 7 | C22: =B22*D22 -> 6.65 | D22: =D21 -> 0.95 | E22: =B22-C22 -> 0.35 | F22: 50 | G22: =F22*D22 -> 47.5 | H22: 3 | I22: =H22*J22 -> 2.76 | J22: =J21 -> 0.92 | K22: =H22-I22 -> 0.24 | L22: 50 | M22: =L22*J22 -> 46 | O22: =N22*P22 -> 0 | P22: =P21 -> 0.95 | Q22: =N22-O22 -> 0 | S22: =R22*P22 -> 0
A23: =A22+1 -> 40194 | B23: 14 | C23: =B23*D23 -> 13.3 | D23: =D22 -> 0.95 | E23: =B23-C23 -> 0.7 | G23: =F23*D23 -> 0 | H23: 2 | I23: =H23*J23 -> 1.84 | J23: =J22 -> 0.92 | K23: =H23-I23 -> 0.16 | M23: =L23*J23 -> 0 | O23: =N23*P23 -> 0 | P23: =P22 -> 0.95 | Q23: =N23-O23 -> 0 | S23: =R23*P23 -> 0
A24: =A23+1 -> 40195 | B24: 0 | C24: =B24*D24 -> 0 | D24: =D23 -> 0.95 | E24: =B24-C24 -> 0 | G24: =F24*D24 -> 0 | H24: 0 | I24: =H24*J24 -> 0 | J24: =J23 -> 0.92 | K24: =H24-I24 -> 0 | M24: =L24*J24 -> 0 | O24: =N24*P24 -> 0 | P24: =P23 -> 0.95 | Q24: =N24-O24 -> 0 | S24: =R24*P24 -> 0
A25: =A24+1 -> 40196 | B25: 3 | C25: =B25*D25 -> 2.85 | D25: =D24 -> 0.95 | E25: =B25-C25 -> 0.15 | G25: =F25*D25 -> 0 | H25: 6 | I25: =H25*J25 -> 5.52 | J25: =J24 -> 0.92 | K25: =H25-I25 -> 0.48 | M25: =L25*J25 -> 0 | O25: =N25*P25 -> 0 | P25: =P24 -> 0.95 | Q25: =N25-O25 -> 0 | S25: =R25*P25 -> 0
A26: =A25+1 -> 40197 | B26: 4 | C26: =B26*D26 -> 3.8 | D26: =D25 -> 0.95 | E26: =B26-C26 -> 0.2 | G26: =F26*D26 -> 0 | H26: 8 | I26: =H26*J26 -> 7.36 | J26: =J25 -> 0.92 | K26: =H26-I26 -> 0.64 | M26: =L26*J26 -> 0 | O26: =N26*P26 -> 0 | P26: =P25 -> 0.95 | Q26: =N26-O26 -> 0 | S26: =R26*P26 -> 0
A27: =A26+1 -> 40198 | B27: 4 | C27: =B27*D27 -> 3.8 | D27: =D26 -> 0.95 | E27: =B27-C27 -> 0.2 | G27: =F27*D27 -> 0 | H27: 0 | I27: =H27*J27 -> 0 | J27: =J26 -> 0.92 | K27: =H27-I27 -> 0 | M27: =L27*J27 -> 0 | O27: =N27*P27 -> 0 | P27: =P26 -> 0.95 | Q27: =N27-O27 -> 0 | S27: =R27*P27 -> 0
A28: =A27+1 -> 40199 | B28: 2 | C28: =B28*D28 -> 1.9 | D28: =D27 -> 0.95 | E28: =B28-C28 -> 0.1 | G28: =F28*D28 -> 0 | H28: 1 | I28: =H28*J28 -> 0.92 | J28: =J27 -> 0.92 | K28: =H28-I28 -> 0.08 | M28: =L28*J28 -> 0 | O28: =N28*P28 -> 0 | P28: =P27 -> 0.95 | Q28: =N28-O28 -> 0 | S28: =R28*P28 -> 0
A29: =A28+1 -> 40200 | B29: 0 | C29: =B29*D29 -> 0 | D29: =D28 -> 0.95 | E29: =B29-C29 -> 0 | G29: =F29*D29 -> 0 | H29: 0 | I29: =H29*J29 -> 0 | J29: =J28 -> 0.92 | K29: =H29-I29 -> 0 | M29: =L29*J29 -> 0 | O29: =N29*P29 -> 0 | P29: =P28 -> 0.95 | Q29: =N29-O29 -> 0 | S29: =R29*P29 -> 0
A30: =A29+1 -> 40201 | B30: 0 | C30: =B30*D30 -> 0 | D30: =D29 -> 0.95 | E30: =B30-C30 -> 0 | G30: =F30*D30 -> 0 | H30: 0 | I30: =H30*J30 -> 0 | J30: =J29 -> 0.92 | K30: =H30-I30 -> 0 | M30: =L30*J30 -> 0 | O30: =N30*P30 -> 0 | P30: =P29 -> 0.95 | Q30: =N30-O30 -> 0 | S30: =R30*P30 -> 0
A31: =A30+1 -> 40202 | B31: 0 | C31: =B31*D31 -> 0 | D31: =D30 -> 0.95 | E31: =B31-C31 -> 0 | G31: =F31*D31 -> 0 | H31: 0 | I31: =H31*J31 -> 0 | J31: =J30 -> 0.92 | K31: =H31-I31 -> 0 | M31: =L31*J31 -> 0 | O31: =N31*P31 -> 0 | P31: =P30 -> 0.95 | Q31: =N31-O31 -> 0 | S31: =R31*P31 -> 0
A32: =A31+1 -> 40203 | B32: 12 | C32: =B32*D32 -> 11.4 | D32: =D31 -> 0.95 | E32: =B32-C32 -> 0.6 | G32: =F32*D32 -> 0 | H32: 6 | I32: =H32*J32 -> 5.52 | J32: =J31 -> 0.92 | K32: =H32-I32 -> 0.48 | M32: =L32*J32 -> 0 | O32: =N32*P32 -> 0 | P32: =P31 -> 0.95 | Q32: =N32-O32 -> 0 | S32: =R32*P32 -> 0
A33: =A32+1 -> 40204 | B33: 3 | C33: =B33*D33 -> 2.85 | D33: =D32 -> 0.95 | E33: =B33-C33 -> 0.15 | G33: =F33*D33 -> 0 | H33: 3 | I33: =H33*J33 -> 2.76 | J33: =J32 -> 0.92 | K33: =H33-I33 -> 0.24 | M33: =L33*J33 -> 0 | O33: =N33*P33 -> 0 | P33: =P32 -> 0.95 | Q33: =N33-O33 -> 0 | S33: =R33*P33 -> 0
A34: =A33+1 -> 40205 | B34: 9 | C34: =B34*D34 -> 8.55 | D34: =D33 -> 0.95 | E34: =B34-C34 -> 0.45 | G34: =F34*D34 -> 0 | H34: 3 | I34: =H34*J34 -> 2.76 | J34: =J33 -> 0.92 | K34: =H34-I34 -> 0.24 | M34: =L34*J34 -> 0 | O34: =N34*P34 -> 0 | P34: =P33 -> 0.95 | Q34: =N34-O34 -> 0 | S34: =R34*P34 -> 0
A35: =A34+1 -> 40206 | B35: 8 | C35: =B35*D35 -> 7.6 | D35: =D34 -> 0.95 | E35: =B35-C35 -> 0.4 | F35: 50 | G35: =F35*D35 -> 47.5 | H35: 2 | I35: =H35*J35 -> 1.84 | J35: =J34 -> 0.92 | K35: =H35-I35 -> 0.16 | M35: =L35*J35 -> 0 | O35: =N35*P35 -> 0 | P35: =P34 -> 0.95 | Q35: =N35-O35 -> 0 | S35: =R35*P35 -> 0
A36: =A35+1 -> 40207 | B36: 10 | C36: =B36*D36 -> 9.5 | D36: =D35 -> 0.95 | E36: =B36-C36 -> 0.5 | G36: =F36*D36 -> 0 | H36: 2 | I36: =H36*J36 -> 1.84 | J36: =J35 -> 0.92 | K36: =H36-I36 -> 0.16 | M36: =L36*J36 -> 0 | O36: =N36*P36 -> 0 | P36: =P35 -> 0.95 | Q36: =N36-O36 -> 0 | S36: =R36*P36 -> 0
A37: =A36+1 -> 40208 | B37: 2 | C37: =B37*D37 -> 1.9 | D37: =D36 -> 0.95 | E37: =B37-C37 -> 0.1 | G37: =F37*D37 -> 0 | H37: 4 | I37: =H37*J37 -> 3.68 | J37: =J36 -> 0.92 | K37: =H37-I37 -> 0.32 | M37: =L37*J37 -> 0 | O37: =N37*P37 -> 0 | P37: =P36 -> 0.95 | Q37: =N37-O37 -> 0 | S37: =R37*P37 -> 0
A38: =A37+1 -> 40209 | C38: =B38*D38 -> 0 | D38: =D37 -> 0.95 | E38: =B38-C38 -> 0 | G38: =F38*D38 -> 0 | I38: =H38*J38 -> 0 | J38: =J37 -> 0.92 | K38: =H38-I38 -> 0 | M38: =L38*J38 -> 0 | O38: =N38*P38 -> 0 | P38: =P37 -> 0.95 | Q38: =N38-O38 -> 0 | S38: =R38*P38 -> 0
A39: Total | B39: =SUM(B8:B38) -> 131 | C39: =SUM(C8:C38) -> 124.45 | E39: =SUM(E8:E38) -> 6.55 | F39: =SUM(F8:F38) -> 150 | G39: =SUM(G8:G38) -> 142.5 | H39: =SUM(H8:H38) -> 87 | I39: =SUM(I8:I38) -> 80.13 | K39: =SUM(K8:K38) -> 6.87 | L39: =SUM(L8:L38) -> 100 | M39: =SUM(M8:M38) -> 92 | N39: =SUM(N8:N38) -> 0 | O39: =SUM(O8:O38) -> 0 | Q39: =SUM(Q8:Q38) -> 0 | R39: =SUM(R8:R38) -> 0 | S39: =SUM(S8:S38) -> 0 | T39: =SUM(T8:T38) -> 0
A42: Fevrier 2010
A43: Date | B43: Tunisiana | H43: Telecom | N43: Orange | T43: Gains
...

Sheet Stock
A3: Code | B3: Désignations | C3: Acheté | D3: Vendu | E3: Reste | F3: Rendu | G3: Prix Vente
A4: 2013010247 | B4: Abonnement Dreambox | C4: 1 | D4: 1 | E4: 0 | F4: =COUNTIF(Recette!$D$2:$D$2632,A4) -> 0 | G4: 70
A5: 2013010001 | B5: Adaptateur baffle | C5: 0 | D5: 0 | E5: 0 | F5: =COUNTIF(Recette!$D$2:$D$2632,A5) -> 0
A6: 2013010002 | B6: Adaptateur de chargeur | C6: 1 | D6: 0 | E6: 1 | F6: =COUNTIF(Recette!$D$2:$D$2632,A6) -> 0
A7: 2013010003 | B7: Adaptateur iphone | C7: 0 | D7: 0 | E7: 0 | F7: =COUNTIF(Recette!$D$2:$D$2632,A7) -> 0
A8: 2013010004 | B8: Adaptateur voiture | C8: 0 | D8: 0 | E8: 0 | F8: =COUNTIF(Recette!$D$2:$D$2632,A8) -> 0
A9: 2013010005 | B9: Amoi A32 | C9: 17 | D9: 0 | E9: 17 | F9: =COUNTIF(Recette!$D$2:$D$2632,A9) -> 0 | G9: 40
A10: 2013010006 | B10: Amoi A33 | C10: 10 | D10: 0 | E10: 10 | F10: =COUNTIF(Recette!$D$2:$D$2632,A10) -> 0 | G10: 47
A11: 2013010007 | B11: Amoi A8 | C11: 2 | D11: 0 | E11: 2 | F11: =COUNTIF(Recette!$D$2:$D$2632,A11) -> 0 | G11: 99
A12: 2013010008 | B12: Attache Portable | C12: 0 | D12: 0 | E12: 0 | F12: =COUNTIF(Recette!$D$2:$D$2632,A12) -> 0
A13: 2013010009 | B13: Batterie | C13: 46 | D13: 2 | E13: 44 | F13: =COUNTIF(Recette!$D$2:$D$2632,A13) -> 0 | G13: 8
A14: 2013010010 | B14: Boitier 2,5" IDE | C14: 1 | D14: 0 | E14: 1 | F14: =COUNTIF(Recette!$D$2:$D$2632,A14) -> 0 | G14: 15
A15: 2013010011 | B15: Boitier 2,5" SATA | C15: 0 | D15: 0 | E15: 0 | F15: =COUNTIF(Recette!$D$2:$D$2632,A15) -> 0
A16: 2013010012 | B16: Câble 2RCA / 2RCA | C16: 3 | D16: 0 | E16: 3 | F16: =COUNTIF(Recette!$D$2:$D$2632,A16) -> 0 | G16: 2.5
A17: 2013010013 | B17: Câble 3RCA / 3RCA 1,5 m | C17: 3 | D17: 0 | E17: 3 | F17: =COUNTIF(Recette!$D$2:$D$2632,A17) -> 0 | G17: 3.5
A18: 2013010241 | B18: Câble Alimentation 2 PIN 1 | C18: 1 | D18: 0 | E18: 1 | F18: =COUNTIF(Recette!$D$2:$D$2632,A18) -> 0 | G18: 2
A19: 2013010242 | B19: Câble Alimentation 2 PIN 2 | C19: 1 | D19: 0 | E19: 1 | F19: =COUNTIF(Recette!$D$2:$D$2632,A19) -> 0 | G19: 1
A20: 2013010014 | B20: Câble Alimentation 3 PIN | C20: 8 | D20: 0 | E20: 8 | F20: =COUNTIF(Recette!$D$2:$D$2632,A20) -> 0 | G20: 6
A21: 2013010015 | B21: Câble ALIMENTATION SATA | C21: 1 | D21: 0 | E21: 1 | F21: =COUNTIF(Recette!$D$2:$D$2632,A21) -> 0 | G21: 3
A22: 2013010246 | B22: Câble Chargeur Chinois | C22: 15 | D22: 0 | E22: 15 | F22: =COUNTIF(Recette!$D$2:$D$2632,A22) -> 0 | G22: 4
A23: 2013010016 | B23: Câble Chargeur GSM 4 con | C23: 3 | D23: 0 | E23: 3 | F23: =COUNTIF(Recette!$D$2:$D$2632,A23) -> 0 | G23: 7
A24: 2013010017 | B24: Câble Chargeur GSM 7 con | C24: 3 | D24: 0 | E24: 3 | F24: =COUNTIF(Recette!$D$2:$D$2632,A24) -> 0 | G24: 8
A25: 2013010234 | B25: Câble d'alimentation | C25: 4 | D25: 0 | E25: 4 | F25: =COUNTIF(Recette!$D$2:$D$2632,A25) -> 0 | G25: 6
A26: 2013010018 | B26: Câble HDMI / RCA | C26: 1 | D26: 0 | E26: 1 | F26: =COUNTIF(Recette!$D$2:$D$2632,A26) -> 0 | G26: 20
A27: 2013010019 | B27: Câble HDMI / VGA | C27: 1 | D27: 0 | E27: 1 | F27: =COUNTIF(Recette!$D$2:$D$2632,A27) -> 0 | G27: 22
... A55: 2013010042 | B55: Cache iphone | C55: 7 | D55: 0 | E55: 7 | F55: =COUNTIF(Recette!$D$2:$D$2632,A55) -> 0 | G55: 8
A56: 2013010043 | B56: Carte fax modem 56K interne | C56: 0 | D56: 0 | E56: 0 | F56: =COUNTIF(Recette!$D$2:$D$2632,A56) -> 0
A57: 2013010044 | B57: Carte mémoire 2GB Sony | C57: 1 | D57: 0 | E57: 1 | F57: =COUNTIF(Recette!$D$2:$D$2632,A57) -> 0 | G57: 15
A58: 2013010045 | B58: Carte mémoire M2 2GB | C58: 2 | D58: 0 | E58: 2 | F58: =COUNTIF(Recette!$D$2:$D$2632,A58) -> 0 | G58: 17
A59: 2013010046 | B59: Carte mémoire Micro 16GB | C59: 1 | D59: 0 | E59: 1 | F59: =COUNTIF(Recette!$D$2:$D$2632,A59) -> 0 | G59: 22
A60: 2013010047 | B60: Carte mémoire Micro 2GB | C60: 103 | D60: 0 | E60: 103 | F60: =COUNTIF(Recette!$D$2:$D$2632,A60) -> 0 | G60: 12
A61: 2013010048 | B61: Carte mémoire Micro 4GB | C61: 53 | D61: 2 | E61: 51 | F61: =COUNTIF(Recette!$D$2:$D$2632,A61) -> 0 | G61: 14
A62: 2013010049 | B62: Carte mémoire Micro 8GB | C62: 5 | D62: 0 | E62: 5 | F62: =COUNTIF(Recette!$D$2:$D$2632,A62) -> 0 | G62: 16
A63: 2013010050 | B63: Carte mémoire Micro SD 2 GB | C63: 6 | D63: 0 | E63: 6 | F63: =COUNTIF(Recette!$D$2:$D$2632,A63) -> 0 | G63: 12
A64: 2013010051 | B64: Carte mémoire Micro SD 4 GB | C64: 2 | D64: 0 | E64: 2 | F64: =COUNTIF(Recette!$D$2:$D$2632,A64) -> 0 | G64: 14
A65: 2013010052 | B65: Carte mémoire MMC 1GB | C65: 1 | D65: 0 | E65: 1 | F65: =COUNTIF(Recette!$D$2:$D$2632,A65) -> 0 | G65: 15
A66: 2013010053 | B66: Carte mémoire SE 512 | C66: 0 | D66: 0 | E66: 0 | F66: =COUNTIF(Recette!$D$2:$D$2632,A66) -> 0
A67: 2013010054 | B67: carte réseau | C67: 3 | D67: 0 | E67: 3 | F67: =COUNTIF(Recette!$D$2:$D$2632,A67) -> 0 | G67: 10
A68: 2013010055 | B68: Carte réseau sans fil 54 BPS | C68: 1 | D68: 0 | E68: 1 | F68: =COUNTIF(Recette!$D$2:$D$2632,A68) -> 0 | G68: 30
A69: 2013010056 | B69: Carte son USB | C69: 1 | D69: 0 | E69: 1 | F69: =COUNTIF(Recette!$D$2:$D$2632,A69) -> 0 | G69: 10
...
