Workbook

Sheet evaluations
A1: id | B1: 1
A2: base | B2: =SUM(MonstersDataBase!B(2+1)) -> #NAME? | C2: =SUM(MonstersDataBase!E2) -> 10 | D2: =SUM(MonstersDataBase!D2) -> 20 | E2: =SUM(MonstersDataBase!E2) -> 10 | F2: =SUM(MonstersDataBase!F2) -> 10 | G2: =SUM(MonstersDataBase!G2) -> 0.5
A3: Rate | B3: =SUM(MonstersDataBase!C2) -> 20 | C3: =SUM(MonstersDataBase!E3) -> 100 | D3: =SUM(MonstersDataBase!E2) -> 10 | E3: =SUM(MonstersDataBase!F2) -> 10 | F3: =SUM(MonstersDataBase!G2) -> 0.5 | G3: =SUM(MonstersDataBase!H2) -> 2
A4: flat | B4: =SUM(MonstersDataBase!C3) -> 50 | C4: =SUM(MonstersDataBase!E4) -> 100 | D4: =SUM(MonstersDataBase!F2) -> 10 | E4: =SUM(MonstersDataBase!G2) -> 0.5 | F4: =SUM(MonstersDataBase!H2) -> 2 | G4: =SUM(MonstersDataBase!I2) -> 1
A7: level | B7: hp | C7: mp | D7: atk | E7: def | F7: sta | G7: lck
A8: 1 | B8: =B$2*(1+($A8-1)*B$3)+(B$4*($A8-1)) -> #NAME? | C8: =C$2*(1+($A8-1)*C$3)+(C$4*($A8-1)) -> 10 | D8: =D$2*(1+($A8-1)*D$3)+(D$4*($A8-1)) -> 20 | E8: =E$2*(1+($A8-1)*E$3)+(E$4*($A8-1)) -> 10 | F8: =F$2*(1+($A8-1)*F$3)+(F$4*($A8-1)) -> 10 | G8: =G$2*(1+($A8-1)*G$3)+(G$4*($A8-1)) -> 0.5
A9: 5 | B9: =B$2*(1+($A9-1)*B$3)+(B$4*($A9-1)) -> #NAME? | C9: =C$2*(1+($A9-1)*C$3)+(C$4*($A9-1)) -> 4410 | D9: =D$2*(1+($A9-1)*D$3)+(D$4*($A9-1)) -> 860 | E9: =E$2*(1+($A9-1)*E$3)+(E$4*($A9-1)) -> 412 | F9: =F$2*(1+($A9-1)*F$3)+(F$4*($A9-1)) -> 38 | G9: =G$2*(1+($A9-1)*G$3)+(G$4*($A9-1)) -> 8.5
A10: 10 | B10: =B$2*(1+($A10-1)*B$3)+(B$4*($A10-1)) -> #NAME? | C10: =C$2*(1+($A10-1)*C$3)+(C$4*($A10-1)) -> 9910 | D10: =D$2*(1+($A10-1)*D$3)+(D$4*($A10-1)) -> 1910 | E10: =E$2*(1+($A10-1)*E$3)+(E$4*($A10-1)) -> 914.5 | F10: =F$2*(1+($A10-1)*F$3)+(F$4*($A10-1)) -> 73 | G10: =G$2*(1+($A10-1)*G$3)+(G$4*($A10-1)) -> 18.5
A11: 15 | B11: =B$2*(1+($A11-1)*B$3)+(B$4*($A11-1)) -> #NAME? | C11: =C$2*(1+($A11-1)*C$3)+(C$4*($A11-1)) -> 15410 | D11: =D$2*(1+($A11-1)*D$3)+(D$4*($A11-1)) -> 2960 | E11: =E$2*(1+($A11-1)*E$3)+(E$4*($A11-1)) -> 1417 | F11: =F$2*(1+($A11-1)*F$3)+(F$4*($A11-1)) -> 108 | G11: =G$2*(1+($A11-1)*G$3)+(G$4*($A11-1)) -> 28.5
A12: 20 | B12: =B$2*(1+($A12-1)*B$3)+(B$4*($A12-1)) -> #NAME? | C12: =C$2*(1+($A12-1)*C$3)+(C$4*($A12-1)) -> 20910 | D12: =D$2*(1+($A12-1)*D$3)+(D$4*($A12-1)) -> 4010 | E12: =E$2*(1+($A12-1)*E$3)+(E$4*($A12-1)) -> 1919.5 | F12: =F$2*(1+($A12-1)*F$3)+(F$4*($A12-1)) -> 143 | G12: =G$2*(1+($A12-1)*G$3)+(G$4*($A12-1)) -> 38.5
A13: 25 | B13: =B$2*(1+($A13-1)*B$3)+(B$4*($A13-1)) -> #NAME? | C13: =C$2*(1+($A13-1)*C$3)+(C$4*($A13-1)) -> 26410 | D13: =D$2*(1+($A13-1)*D$3)+(D$4*($A13-1)) -> 5060 | E13: =E$2*(1+($A13-1)*E$3)+(E$4*($A13-1)) -> 2422 | F13: =F$2*(1+($A13-1)*F$3)+(F$4*($A13-1)) -> 178 | G13: =G$2*(1+($A13-1)*G$3)+(G$4*($A13-1)) -> 48.5
A14: 30 | B14: =B$2*(1+($A14-1)*B$3)+(B$4*($A14-1)) -> #NAME? | C14: =C$2*(1+($A14-1)*C$3)+(C$4*($A14-1)) -> 31910 | D14: =D$2*(1+($A14-1)*D$3)+(D$4*($A14-1)) -> 6110 | E14: =E$2*(1+($A14-1)*E$3)+(E$4*($A14-1)) -> 2924.5 | F14: =F$2*(1+($A14-1)*F$3)+(F$4*($A14-1)) -> 213 | G14: =G$2*(1+($A14-1)*G$3)+(G$4*($A14-1)) -> 58.5
A15: 35 | B15: =B$2*(1+($A15-1)*B$3)+(B$4*($A15-1)) -> #NAME? | C15: =C$2*(1+($A15-1)*C$3)+(C$4*($A15-1)) -> 37410 | D15: =D$2*(1+($A15-1)*D$3)+(D$4*($A15-1)) -> 7160 | E15: =E$2*(1+($A15-1)*E$3)+(E$4*($A15-1)) -> 3427 | F15: =F$2*(1+($A15-1)*F$3)+(F$4*($A15-1)) -> 248 | G15: =G$2*(1+($A15-1)*G$3)+(G$4*($A15-1)) -> 68.5
A16: 40 | B16: =B$2*(1+($A16-1)*B$3)+(B$4*($A16-1)) -> #NAME? | C16: =C$2*(1+($A16-1)*C$3)+(C$4*($A16-1)) -> 42910 | D16: =D$2*(1+($A16-1)*D$3)+(D$4*($A16-1)) -> 8210 | E16: =E$2*(1+($A16-1)*E$3)+(E$4*($A16-1)) -> 3929.5 | F16: =F$2*(1+($A16-1)*F$3)+(F$4*($A16-1)) -> 283 | G16: =G$2*(1+($A16-1)*G$3)+(G$4*($A16-1)) -> 78.5
A17: 45 | B17: =B$2*(1+($A17-1)*B$3)+(B$4*($A17-1)) -> #NAME? | C17: =C$2*(1+($A17-1)*C$3)+(C$4*($A17-1)) -> 48410 | D17: =D$2*(1+($A17-1)*D$3)+(D$4*($A17-1)) -> 9260 | E17: =E$2*(1+($A17-1)*E$3)+(E$4*($A17-1)) -> 4432 | F17: =F$2*(1+($A17-1)*F$3)+(F$4*($A17-1)) -> 318 | G17: =G$2*(1+($A17-1)*G$3)+(G$4*($A17-1)) -> 88.5
A18: 50 | B18: =B$2*(1+($A18-1)*B$3)+(B$4*($A18-1)) -> #NAME? | C18: =C$2*(1+($A18-1)*C$3)+(C$4*($A18-1)) -> 53910 | D18: =D$2*(1+($A18-1)*D$3)+(D$4*($A18-1)) -> 10310 | E18: =E$2*(1+($A18-1)*E$3)+(E$4*($A18-1)) -> 4934.5 | F18: =F$2*(1+($A18-1)*F$3)+(F$4*($A18-1)) -> 353 | G18: =G$2*(1+($A18-1)*G$3)+(G$4*($A18-1)) -> 98.5
A19: 55 | B19: =B$2*(1+($A19-1)*B$3)+(B$4*($A19-1)) -> #NAME? | C19: =C$2*(1+($A19-1)*C$3)+(C$4*($A19-1)) -> 59410 | D19: =D$2*(1+($A19-1)*D$3)+(D$4*($A19-1)) -> 11360 | E19: =E$2*(1+($A19-1)*E$3)+(E$4*($A19-1)) -> 5437 | F19: =F$2*(1+($A19-1)*F$3)+(F$4*($A19-1)) -> 388 | G19: =G$2*(1+($A19-1)*G$3)+(G$4*($A19-1)) -> 108.5
... A28: 100 | B28: =B$2*(1+($A28-1)*B$3)+(B$4*($A28-1)) -> #NAME? | C28: =C$2*(1+($A28-1)*C$3)+(C$4*($A28-1)) -> 108910 | D28: =D$2*(1+($A28-1)*D$3)+(D$4*($A28-1)) -> 20810 | E28: =E$2*(1+($A28-1)*E$3)+(E$4*($A28-1)) -> 9959.5 | F28: =F$2*(1+($A28-1)*F$3)+(F$4*($A28-1)) -> 703 | G28: =G$2*(1+($A28-1)*G$3)+(G$4*($A28-1)) -> 198.5

Sheet MonstersDataBase
A1: id | B1: hp | E1: mp | H1: atk | K1: def | N1: sta | Q1: lck | T1: powers | U1: weakness
A2: 1 | B2: =MonstersDataBase!A2:A28 -> 1 | C2: 20 | D2: 20 | E2: 10 | F2: 10 | G2: 0.5 | H2: 2 | I2: 1 | J2: 0.5 | K2: 2 | L2: 3 | M2: 0.5 | N2: 3 | O2: 50 | P2: 0.5 | Q2: 5 | R2: 5 | S2: 0.5 | T2: 1 | U2: 2.3
A3: 2 | B3: 100 | C3: 50 | D3: 0.5 | E3: 100 | F3: 50 | G3: 0.5 | H3: 100 | I3: 50 | J3: 0.5 | K3: 100 | L3: 50 | M3: 0.5 | N3: 100 | O3: 50 | P3: 0.5 | Q3: 100 | R3: 50 | S3: 0.5
A4: 3 | B4: 100 | C4: 50 | D4: 0.5 | E4: 100 | F4: 50 | G4: 0.5 | H4: 100 | I4: 50 | J4: 0.5 | K4: 100 | L4: 50 | M4: 0.5 | N4: 100 | O4: 50 | P4: 0.5 | Q4: 100 | R4: 50 | S4: 0.5
A5: 4 | B5: 100 | C5: 50 | D5: 0.5 | E5: 100 | F5: 50 | G5: 0.5 | H5: 100 | I5: 50 | J5: 0.5 | K5: 100 | L5: 50 | M5: 0.5 | N5: 100 | O5: 50 | P5: 0.5 | Q5: 100 | R5: 50 | S5: 0.5
A6: 5 | B6: 100 | C6: 50 | D6: 0.5 | E6: 100 | F6: 50 | G6: 0.5 | H6: 100 | I6: 50 | J6: 0.5 | K6: 100 | L6: 50 | M6: 0.5 | N6: 100 | O6: 50 | P6: 0.5 | Q6: 100 | R6: 50 | S6: 0.5
A7: 6 | B7: 100 | C7: 50 | D7: 0.5 | E7: 100 | F7: 50 | G7: 0.5 | H7: 100 | I7: 50 | J7: 0.5 | K7: 100 | L7: 50 | M7: 0.5 | N7: 100 | O7: 50 | P7: 0.5 | Q7: 100 | R7: 50 | S7: 0.5
A8: 7 | B8: 100 | C8: 50 | D8: 0.5 | E8: 100 | F8: 50 | G8: 0.5 | H8: 100 | I8: 50 | J8: 0.5 | K8: 100 | L8: 50 | M8: 0.5 | N8: 100 | O8: 50 | P8: 0.5 | Q8: 100 | R8: 50 | S8: 0.5
A9: 8 | B9: 100 | C9: 50 | D9: 0.5 | E9: 100 | F9: 50 | G9: 0.5 | H9: 100 | I9: 50 | J9: 0.5 | K9: 100 | L9: 50 | M9: 0.5 | N9: 100 | O9: 50 | P9: 0.5 | Q9: 100 | R9: 50 | S9: 0.5
A10: 9 | B10: 100 | C10: 50 | D10: 0.5 | E10: 100 | F10: 50 | G10: 0.5 | H10: 100 | I10: 50 | J10: 0.5 | K10: 100 | L10: 50 | M10: 0.5 | N10: 100 | O10: 50 | P10: 0.5 | Q10: 100 | R10: 50 | S10: 0.5
A11: 10 | B11: 100 | C11: 50 | D11: 0.5 | E11: 100 | F11: 50 | G11: 0.5 | H11: 100 | I11: 50 | J11: 0.5 | K11: 100 | L11: 50 | M11: 0.5 | N11: 100 | O11: 50 | P11: 0.5 | Q11: 100 | R11: 50 | S11: 0.5
A12: 11 | B12: 100 | C12: 50 | D12: 0.5 | E12: 100 | F12: 50 | G12: 0.5 | H12: 100 | I12: 50 | J12: 0.5 | K12: 100 | L12: 50 | M12: 0.5 | N12: 100 | O12: 50 | P12: 0.5 | Q12: 100 | R12: 50 | S12: 0.5
A13: 12 | B13: 100 | C13: 50 | D13: 0.5 | E13: 100 | F13: 50 | G13: 0.5 | H13: 100 | I13: 50 | J13: 0.5 | K13: 100 | L13: 50 | M13: 0.5 | N13: 100 | O13: 50 | P13: 0.5 | Q13: 100 | R13: 50 | S13: 0.5
A14: 13 | B14: 100 | C14: 50 | D14: 0.5 | E14: 100 | F14: 50 | G14: 0.5 | H14: 100 | I14: 50 | J14: 0.5 | K14: 100 | L14: 50 | M14: 0.5 | N14: 100 | O14: 50 | P14: 0.5 | Q14: 100 | R14: 50 | S14: 0.5
... A28: 27 | B28: 100 | C28: 50 | D28: 0.5 | E28: 100 | F28: 50 | G28: 0.5 | H28: 100 | I28: 50 | J28: 0.5 | K28: 100 | L28: 50 | M28: 0.5 | N28: 100 | O28: 50 | P28: 0.5 | Q28: 100 | R28: 50 | S28: 0.5
