Workbook

Sheet Planning employés
A1: Employés | B1: Jour | C1: Unité
A2: Liliane | B2: jeudi | C2: U1
A3: Liliane | B3: jeudi | C3: Pédibus 1
A4: Liliane | B4: jeudi | C4: U3
A5: Liliane | B5: lundi | C5: U1
A6: Liliane | B6: lundi | C6: Pédibus 1
A7: Liliane | B7: lundi | C7: U3
A8: Liliane | B8: lundi | C8: U4
A9: Liliane | B9: mardi | C9: U1
A10: Liliane | B10: mardi | C10: Pédibus 1
A11: Liliane | B11: mardi | C11: U3
A12: Liliane | B12: mercredi | C12: U3
... A66: Sandy | B66: vendredi | C66: Préparation repas de midi (heures)

Sheet Planning par enfant
A1: Nom | B1: Jour | C1: Unité
A2: Tristan | B2: vendredi | C2: Pédibus 1
A3: Dimitri | B3: lundi | C3: Pédibus 1
A4: Joana | B4: jeudi | C4: Pédibus 1
A5: Joana | B5: vendredi | C5: Pédibus 1
A6: Rafael | B6: jeudi | C6: Pédibus 1
A7: Rafael | B7: vendredi | C7: Pédibus 1
A9: Maéva | B9: lundi | C9: Pédibus 2
A10: Maéva | B10: jeudi | C10: Pédibus 2
A11: Luca B | B11: jeudi | C11: Pédibus 2
A12: Théo B | B12: Jeudi | C12: Pédibus 2
A13: Lola | B13: lundi | C13: Pédibus 2
A14: Lola | B14: mardi | C14: Pédibus 2
A15: Florian | B15: lundi | C15: Pédibus 2 | E15: lundi et mardi - irrégulier
A16: Florian | B16: mardi | C16: Pédibus 2
A17: Maylis | B17: lundi | C17: Pédibus 2
A18: Maylis | B18: mardi | C18: Pédibus 2
A19: Maylis | B19: mercredi | C19: Pédibus 2
A20: Maylis | B20: jeudi | C20: Pédibus 2 | E20: lundi et mardi - irrégulier
A21: Maylis | B21: vendredi | C21: Pédibus 2
A22: Tristan | B22: mercredi | C22: Pédibus 2
A23: Tristan | B23: vendredi | C23: Pédibus 2
A24: Nicolas | B24: lundi | C24: Pédibus 2
A25: Nicolas | B25: mercredi | C25: Pédibus 2
A26: Nicolas | B26: jeudi | C26: Pédibus 2
A27: Amandine | B27: lundi | C27: Pédibus 2
A28: Amandine | B28: jeudi | C28: Pédibus 2
A29: Nathanaël | B29: lundi | C29: Pédibus 2
A30: Nathanaël | B30: jeudi | C30: Pédibus 2
A31: Baptiste | B31: lundi | C31: Pédibus 2
A32: Baptiste | B32: mercredi | C32: Pédibus 2
... A51: Nathan | B51: mercredi | C51: Pédibus 2
A52: Nathan | B52: jeudi | C52: Pédibus 2 | E52: irrégulier jeudi U5+U6
A53: Nathan | B53: vendredi | C53: Pédibus 2
A54: Eve | B54: lundi | C54: Pédibus 2
A55: Tilouhan | B55: Jeudi | C55: Pédibus 2
A56: Elinoé | B56: Jeudi | C56: Pédibus 2
A57: Joana | B57: jeudi | C57: Pédibus 2
A58: Joana | B58: vendredi | C58: Pédibus 2
A59: Rafael | B59: jeudi | C59: Pédibus 2
...

Sheet Planning hebdo
A1: 2013/2014 | B1: Semaine n° | G1: 34 | L1: 41275
B2: horaire | D2: durée indicative | E2: durée indicative en cent. | F2: No code | G2: Lundi | H2: Mardi | I2: Mercredi | J2: Jeudi | K2: Vendredi
D4: Dates | G4: =(L1+((G1-1)*7))-((WEEKDAY((L1+((G1-1)*7)),2))-1) -> 41505 | H4: =G4+1 -> 41506 | I4: =H4+1 -> 41507 | J4: =I4+1 -> 41508 | K4: =J4+1 -> 41509
A5: Unité 1 - personnel | B5: 0.27083333 | C5: 0.32638889 | D5: 0.055555556 | E5: 1.34 | F5: 401
A6: U1
A16: Pédibus matin - personnel | D16: 0.010416667 | E16: 0.2 | F16: 410
A17: Pédibus 1
A27: Unité 2 - personnel | B27: 0.32638889 | C27: 0.47569444 | D27: 0.14930556 | E27: 3.59 | F27: 402
A28: U2
A36: Pédibus avant midi personnel | D36: 0.010416667 | E36: 0.2 | F36: 410
A37: Pédibus 2
A46: Préparation repas de midi (heures) | F46: 440
A47: U3
A48: Repas pris à l'accueil
A59: Unité 3 - personnel | B59: 0.47569444 | C59: 0.55555556 | D59: 0.079861111 | E59: 1.92 | F59: 403
A60: U3
A70: Pédibus après-midi - pers. | D70: 0.010416667 | E70: 0.2 | F70: 410
A71: Pédibus 3
A81: Unité 4 | B81: 0.55555556 | C81: 0.625 | D81: 0.069444444 | E81: 1.67 | F81: 404
A82: U4
A91: Pédibus fin de l'école - personnel | D91: 0.010416667 | E91: 0.2 | F91: 410
A92: Pédibus 4
A102: Unité 5 - personnel | B102: 0.625 | C102: 0.6875 | D102: 0.0625 | E102: 1.5 | F102: 405
A103: U5
A111: Unité 6 - personnel | B111: 0.6875 | C111: 0.77083333 | D111: 0.083333333 | E111: 2 | F111: 406
A112: U6
A122: Devoirs accompagnés - personnel si autre que U6 | F122: 420
A123: DA
A140: Administration | F140: 430

Sheet Feuil1
B1: lundi | C1: mardi | D1: mercredi | E1: jeudi | F1: vendredi
A2: U1 | B2: =IF('Planning par enfant'!$B2=Feuil1!B$1,IF('Planning par enfant'!$C2=Feuil1!$A$2,'Planning par enfant'!$A2,""),"") | C2: =IF('Planning par enfant'!$B2=Feuil1!C$1,IF('Planning par enfant'!$C2=Feuil1!$A$2,'Planning par enfant'!$A2,""),"") | D2: =IF('Planning par enfant'!$B2=Feuil1!D$1,IF('Planning par enfant'!$C2=Feuil1!$A$2,'Planning par enfant'!$A2,""),"") | E2: =IF('Planning par enfant'!$B2=Feuil1!E$1,IF('Planning par enfant'!$C2=Feuil1!$A$2,'Planning par enfant'!$A2,""),"") | F2: =IF('Planning par enfant'!$B2=Feuil1!F$1,IF('Planning par enfant'!$C2=Feuil1!$A$2,'Planning par enfant'!$A2,""),"")
B3: =IF('Planning par enfant'!$B198=Feuil1!B$1,IF('Planning par enfant'!$C198=Feuil1!$A$2,'Planning par enfant'!$A198,""),"") | C3: =IF('Planning par enfant'!$B198=Feuil1!C$1,IF('Planning par enfant'!$C198=Feuil1!$A$2,'Planning par enfant'!$A198,""),"") | D3: =IF('Planning par enfant'!$B198=Feuil1!D$1,IF('Planning par enfant'!$C198=Feuil1!$A$2,'Planning par enfant'!$A198,""),"") | E3: =IF('Planning par enfant'!$B198=Feuil1!E$1,IF('Planning par enfant'!$C198=Feuil1!$A$2,'Planning par enfant'!$A198,""),"") | F3: =IF('Planning par enfant'!$B198=Feuil1!F$1,IF('Planning par enfant'!$C198=Feuil1!$A$2,'Planning par enfant'!$A198,""),"")
B4: =IF('Planning par enfant'!$B199=Feuil1!B$1,IF('Planning par enfant'!$C199=Feuil1!$A$2,'Planning par enfant'!$A199,""),"") | C4: =IF('Planning par enfant'!$B199=Feuil1!C$1,IF('Planning par enfant'!$C199=Feuil1!$A$2,'Planning par enfant'!$A199,""),"") | D4: =IF('Planning par enfant'!$B199=Feuil1!D$1,IF('Planning par enfant'!$C199=Feuil1!$A$2,'Planning par enfant'!$A199,""),"") | E4: =IF('Planning par enfant'!$B199=Feuil1!E$1,IF('Planning par enfant'!$C199=Feuil1!$A$2,'Planning par enfant'!$A199,""),"") | F4: =IF('Planning par enfant'!$B199=Feuil1!F$1,IF('Planning par enfant'!$C199=Feuil1!$A$2,'Planning par enfant'!$A199,""),"")
B5: =IF('Planning par enfant'!$B200=Feuil1!B$1,IF('Planning par enfant'!$C200=Feuil1!$A$2,'Planning par enfant'!$A200,""),"") | C5: =IF('Planning par enfant'!$B200=Feuil1!C$1,IF('Planning par enfant'!$C200=Feuil1!$A$2,'Planning par enfant'!$A200,""),"") | D5: =IF('Planning par enfant'!$B200=Feuil1!D$1,IF('Planning par enfant'!$C200=Feuil1!$A$2,'Planning par enfant'!$A200,""),"") | E5: =IF('Planning par enfant'!$B200=Feuil1!E$1,IF('Planning par enfant'!$C200=Feuil1!$A$2,'Planning par enfant'!$A200,""),"") | F5: =IF('Planning par enfant'!$B200=Feuil1!F$1,IF('Planning par enfant'!$C200=Feuil1!$A$2,'Planning par enfant'!$A200,""),"")
B6: =IF('Planning par enfant'!$B201=Feuil1!B$1,IF('Planning par enfant'!$C201=Feuil1!$A$2,'Planning par enfant'!$A201,""),"") | C6: =IF('Planning par enfant'!$B201=Feuil1!C$1,IF('Planning par enfant'!$C201=Feuil1!$A$2,'Planning par enfant'!$A201,""),"") | D6: =IF('Planning par enfant'!$B201=Feuil1!D$1,IF('Planning par enfant'!$C201=Feuil1!$A$2,'Planning par enfant'!$A201,""),"") | E6: =IF('Planning par enfant'!$B201=Feuil1!E$1,IF('Planning par enfant'!$C201=Feuil1!$A$2,'Planning par enfant'!$A201,""),"") | F6: =IF('Planning par enfant'!$B201=Feuil1!F$1,IF('Planning par enfant'!$C201=Feuil1!$A$2,'Planning par enfant'!$A201,""),"")
B7: =IF('Planning par enfant'!$B202=Feuil1!B$1,IF('Planning par enfant'!$C202=Feuil1!$A$2,'Planning par enfant'!$A202,""),"") | C7: =IF('Planning par enfant'!$B202=Feuil1!C$1,IF('Planning par enfant'!$C202=Feuil1!$A$2,'Planning par enfant'!$A202,""),"") | D7: =IF('Planning par enfant'!$B202=Feuil1!D$1,IF('Planning par enfant'!$C202=Feuil1!$A$2,'Planning par enfant'!$A202,""),"") | E7: =IF('Planning par enfant'!$B202=Feuil1!E$1,IF('Planning par enfant'!$C202=Feuil1!$A$2,'Planning par enfant'!$A202,""),"") | F7: =IF('Planning par enfant'!$B202=Feuil1!F$1,IF('Planning par enfant'!$C202=Feuil1!$A$2,'Planning par enfant'!$A202,""),"")
B8: =IF('Planning par enfant'!$B203=Feuil1!B$1,IF('Planning par enfant'!$C203=Feuil1!$A$2,'Planning par enfant'!$A203,""),"") | C8: =IF('Planning par enfant'!$B203=Feuil1!C$1,IF('Planning par enfant'!$C203=Feuil1!$A$2,'Planning par enfant'!$A203,""),"") | D8: =IF('Planning par enfant'!$B203=Feuil1!D$1,IF('Planning par enfant'!$C203=Feuil1!$A$2,'Planning par enfant'!$A203,""),"") | E8: =IF('Planning par enfant'!$B203=Feuil1!E$1,IF('Planning par enfant'!$C203=Feuil1!$A$2,'Planning par enfant'!$A203,""),"") | F8: =IF('Planning par enfant'!$B203=Feuil1!F$1,IF('Planning par enfant'!$C203=Feuil1!$A$2,'Planning par enfant'!$A203,""),"")
B9: =IF('Planning par enfant'!$B204=Feuil1!B$1,IF('Planning par enfant'!$C204=Feuil1!$A$2,'Planning par enfant'!$A204,""),"") | C9: =IF('Planning par enfant'!$B204=Feuil1!C$1,IF('Planning par enfant'!$C204=Feuil1!$A$2,'Planning par enfant'!$A204,""),"") | D9: =IF('Planning par enfant'!$B204=Feuil1!D$1,IF('Planning par enfant'!$C204=Feuil1!$A$2,'Planning par enfant'!$A204,""),"") | E9: =IF('Planning par enfant'!$B204=Feuil1!E$1,IF('Planning par enfant'!$C204=Feuil1!$A$2,'Planning par enfant'!$A204,""),"") | F9: =IF('Planning par enfant'!$B204=Feuil1!F$1,IF('Planning par enfant'!$C204=Feuil1!$A$2,'Planning par enfant'!$A204,""),"")
B10: =IF('Planning par enfant'!$B205=Feuil1!B$1,IF('Planning par enfant'!$C205=Feuil1!$A$2,'Planning par enfant'!$A205,""),"") | C10: =IF('Planning par enfant'!$B205=Feuil1!C$1,IF('Planning par enfant'!$C205=Feuil1!$A$2,'Planning par enfant'!$A205,""),"") | D10: =IF('Planning par enfant'!$B205=Feuil1!D$1,IF('Planning par enfant'!$C205=Feuil1!$A$2,'Planning par enfant'!$A205,""),"") | E10: =IF('Planning par enfant'!$B205=Feuil1!E$1,IF('Planning par enfant'!$C205=Feuil1!$A$2,'Planning par enfant'!$A205,""),"") | F10: =IF('Planning par enfant'!$B205=Feuil1!F$1,IF('Planning par enfant'!$C205=Feuil1!$A$2,'Planning par enfant'!$A205,""),"")
B11: =IF('Planning par enfant'!$B206=Feuil1!B$1,IF('Planning par enfant'!$C206=Feuil1!$A$2,'Planning par enfant'!$A206,""),"") | C11: =IF('Planning par enfant'!$B206=Feuil1!C$1,IF('Planning par enfant'!$C206=Feuil1!$A$2,'Planning par enfant'!$A206,""),"") | D11: =IF('Planning par enfant'!$B206=Feuil1!D$1,IF('Planning par enfant'!$C206=Feuil1!$A$2,'Planning par enfant'!$A206,""),"") | E11: =IF('Planning par enfant'!$B206=Feuil1!E$1,IF('Planning par enfant'!$C206=Feuil1!$A$2,'Planning par enfant'!$A206,""),"") | F11: =IF('Planning par enfant'!$B206=Feuil1!F$1,IF('Planning par enfant'!$C206=Feuil1!$A$2,'Planning par enfant'!$A206,""),"")
B12: =IF('Planning par enfant'!$B207=Feuil1!B$1,IF('Planning par enfant'!$C207=Feuil1!$A$2,'Planning par enfant'!$A207,""),"") | C12: =IF('Planning par enfant'!$B207=Feuil1!C$1,IF('Planning par enfant'!$C207=Feuil1!$A$2,'Planning par enfant'!$A207,""),"") | D12: =IF('Planning par enfant'!$B207=Feuil1!D$1,IF('Planning par enfant'!$C207=Feuil1!$A$2,'Planning par enfant'!$A207,""),"") | E12: =IF('Planning par enfant'!$B207=Feuil1!E$1,IF('Planning par enfant'!$C207=Feuil1!$A$2,'Planning par enfant'!$A207,""),"") | F12: =IF('Planning par enfant'!$B207=Feuil1!F$1,IF('Planning par enfant'!$C207=Feuil1!$A$2,'Planning par enfant'!$A207,""),"")
B13: =IF('Planning par enfant'!$B209=Feuil1!B$1,IF('Planning par enfant'!$C209=Feuil1!$A$2,'Planning par enfant'!$A209,""),"") | C13: =IF('Planning par enfant'!$B209=Feuil1!C$1,IF('Planning par enfant'!$C209=Feuil1!$A$2,'Planning par enfant'!$A209,""),"") | D13: =IF('Planning par enfant'!$B209=Feuil1!D$1,IF('Planning par enfant'!$C209=Feuil1!$A$2,'Planning par enfant'!$A209,""),"") | E13: =IF('Planning par enfant'!$B209=Feuil1!E$1,IF('Planning par enfant'!$C209=Feuil1!$A$2,'Planning par enfant'!$A209,""),"") | F13: =IF('Planning par enfant'!$B209=Feuil1!F$1,IF('Planning par enfant'!$C209=Feuil1!$A$2,'Planning par enfant'!$A209,""),"") -> Tristan
B14: =IF('Planning par enfant'!$B210=Feuil1!B$1,IF('Planning par enfant'!$C210=Feuil1!$A$2,'Planning par enfant'!$A210,""),"") -> Dimitri | C14: =IF('Planning par enfant'!$B210=Feuil1!C$1,IF('Planning par enfant'!$C210=Feuil1!$A$2,'Planning par enfant'!$A210,""),"") | D14: =IF('Planning par enfant'!$B210=Feuil1!D$1,IF('Planning par enfant'!$C210=Feuil1!$A$2,'Planning par enfant'!$A210,""),"") | E14: =IF('Planning par enfant'!$B210=Feuil1!E$1,IF('Planning par enfant'!$C210=Feuil1!$A$2,'Planning par enfant'!$A210,""),"") | F14: =IF('Planning par enfant'!$B210=Feuil1!F$1,IF('Planning par enfant'!$C210=Feuil1!$A$2,'Planning par enfant'!$A210,""),"")
B15: =IF('Planning par enfant'!$B211=Feuil1!B$1,IF('Planning par enfant'!$C211=Feuil1!$A$2,'Planning par enfant'!$A211,""),"") | C15: =IF('Planning par enfant'!$B211=Feuil1!C$1,IF('Planning par enfant'!$C211=Feuil1!$A$2,'Planning par enfant'!$A211,""),"") | D15: =IF('Planning par enfant'!$B211=Feuil1!D$1,IF('Planning par enfant'!$C211=Feuil1!$A$2,'Planning par enfant'!$A211,""),"") -> Michelle | E15: =IF('Planning par enfant'!$B211=Feuil1!E$1,IF('Planning par enfant'!$C211=Feuil1!$A$2,'Planning par enfant'!$A211,""),"") | F15: =IF('Planning par enfant'!$B211=Feuil1!F$1,IF('Planning par enfant'!$C211=Feuil1!$A$2,'Planning par enfant'!$A211,""),"")
B16: =IF('Planning par enfant'!$B212=Feuil1!B$1,IF('Planning par enfant'!$C212=Feuil1!$A$2,'Planning par enfant'!$A212,""),"") | C16: =IF('Planning par enfant'!$B212=Feuil1!C$1,IF('Planning par enfant'!$C212=Feuil1!$A$2,'Planning par enfant'!$A212,""),"") | D16: =IF('Planning par enfant'!$B212=Feuil1!D$1,IF('Planning par enfant'!$C212=Feuil1!$A$2,'Planning par enfant'!$A212,""),"") | E16: =IF('Planning par enfant'!$B212=Feuil1!E$1,IF('Planning par enfant'!$C212=Feuil1!$A$2,'Planning par enfant'!$A212,""),"") -> Joana | F16: =IF('Planning par enfant'!$B212=Feuil1!F$1,IF('Planning par enfant'!$C212=Feuil1!$A$2,'Planning par enfant'!$A212,""),"")
B17: =IF('Planning par enfant'!$B213=Feuil1!B$1,IF('Planning par enfant'!$C213=Feuil1!$A$2,'Planning par enfant'!$A213,""),"") | C17: =IF('Planning par enfant'!$B213=Feuil1!C$1,IF('Planning par enfant'!$C213=Feuil1!$A$2,'Planning par enfant'!$A213,""),"") | D17: =IF('Planning par enfant'!$B213=Feuil1!D$1,IF('Planning par enfant'!$C213=Feuil1!$A$2,'Planning par enfant'!$A213,""),"") | E17: =IF('Planning par enfant'!$B213=Feuil1!E$1,IF('Planning par enfant'!$C213=Feuil1!$A$2,'Planning par enfant'!$A213,""),"") | F17: =IF('Planning par enfant'!$B213=Feuil1!F$1,IF('Planning par enfant'!$C213=Feuil1!$A$2,'Planning par enfant'!$A213,""),"") -> Joana
B18: =IF('Planning par enfant'!$B214=Feuil1!B$1,IF('Planning par enfant'!$C214=Feuil1!$A$2,'Planning par enfant'!$A214,""),"") | C18: =IF('Planning par enfant'!$B214=Feuil1!C$1,IF('Planning par enfant'!$C214=Feuil1!$A$2,'Planning par enfant'!$A214,""),"") | D18: =IF('Planning par enfant'!$B214=Feuil1!D$1,IF('Planning par enfant'!$C214=Feuil1!$A$2,'Planning par enfant'!$A214,""),"") | E18: =IF('Planning par enfant'!$B214=Feuil1!E$1,IF('Planning par enfant'!$C214=Feuil1!$A$2,'Planning par enfant'!$A214,""),"") -> Rafael | F18: =IF('Planning par enfant'!$B214=Feuil1!F$1,IF('Planning par enfant'!$C214=Feuil1!$A$2,'Planning par enfant'!$A214,""),"")
B19: =IF('Planning par enfant'!$B215=Feuil1!B$1,IF('Planning par enfant'!$C215=Feuil1!$A$2,'Planning par enfant'!$A215,""),"") | C19: =IF('Planning par enfant'!$B215=Feuil1!C$1,IF('Planning par enfant'!$C215=Feuil1!$A$2,'Planning par enfant'!$A215,""),"") | D19: =IF('Planning par enfant'!$B215=Feuil1!D$1,IF('Planning par enfant'!$C215=Feuil1!$A$2,'Planning par enfant'!$A215,""),"") | E19: =IF('Planning par enfant'!$B215=Feuil1!E$1,IF('Planning par enfant'!$C215=Feuil1!$A$2,'Planning par enfant'!$A215,""),"") | F19: =IF('Planning par enfant'!$B215=Feuil1!F$1,IF('Planning par enfant'!$C215=Feuil1!$A$2,'Planning par enfant'!$A215,""),"") -> Rafael
B20: =IF('Planning par enfant'!$B217=Feuil1!B$1,IF('Planning par enfant'!$C217=Feuil1!$A$2,'Planning par enfant'!$A217,""),"") | C20: =IF('Planning par enfant'!$B217=Feuil1!C$1,IF('Planning par enfant'!$C217=Feuil1!$A$2,'Planning par enfant'!$A217,""),"") | D20: =IF('Planning par enfant'!$B217=Feuil1!D$1,IF('Planning par enfant'!$C217=Feuil1!$A$2,'Planning par enfant'!$A217,""),"") | E20: =IF('Planning par enfant'!$B217=Feuil1!E$1,IF('Planning par enfant'!$C217=Feuil1!$A$2,'Planning par enfant'!$A217,""),"") | F20: =IF('Planning par enfant'!$B217=Feuil1!F$1,IF('Planning par enfant'!$C217=Feuil1!$A$2,'Planning par enfant'!$A217,""),"")
B21: =IF('Planning par enfant'!$B218=Feuil1!B$1,IF('Planning par enfant'!$C218=Feuil1!$A$2,'Planning par enfant'!$A218,""),"") | C21: =IF('Planning par enfant'!$B218=Feuil1!C$1,IF('Planning par enfant'!$C218=Feuil1!$A$2,'Planning par enfant'!$A218,""),"") | D21: =IF('Planning par enfant'!$B218=Feuil1!D$1,IF('Planning par enfant'!$C218=Feuil1!$A$2,'Planning par enfant'!$A218,""),"") | E21: =IF('Planning par enfant'!$B218=Feuil1!E$1,IF('Planning par enfant'!$C218=Feuil1!$A$2,'Planning par enfant'!$A218,""),"") | F21: =IF('Planning par enfant'!$B218=Feuil1!F$1,IF('Planning par enfant'!$C218=Feuil1!$A$2,'Planning par enfant'!$A218,""),"")
B22: =IF('Planning par enfant'!$B220=Feuil1!B$1,IF('Planning par enfant'!$C220=Feuil1!$A$2,'Planning par enfant'!$A220,""),"") | C22: =IF('Planning par enfant'!$B220=Feuil1!C$1,IF('Planning par enfant'!$C220=Feuil1!$A$2,'Planning par enfant'!$A220,""),"") | D22: =IF('Planning par enfant'!$B220=Feuil1!D$1,IF('Planning par enfant'!$C220=Feuil1!$A$2,'Planning par enfant'!$A220,""),"") | E22: =IF('Planning par enfant'!$B220=Feuil1!E$1,IF('Planning par enfant'!$C220=Feuil1!$A$2,'Planning par enfant'!$A220,""),"") | F22: =IF('Planning par enfant'!$B220=Feuil1!F$1,IF('Planning par enfant'!$C220=Feuil1!$A$2,'Planning par enfant'!$A220,""),"")
B23: =IF('Planning par enfant'!$B221=Feuil1!B$1,IF('Planning par enfant'!$C221=Feuil1!$A$2,'Planning par enfant'!$A221,""),"") | C23: =IF('Planning par enfant'!$B221=Feuil1!C$1,IF('Planning par enfant'!$C221=Feuil1!$A$2,'Planning par enfant'!$A221,""),"") | D23: =IF('Planning par enfant'!$B221=Feuil1!D$1,IF('Planning par enfant'!$C221=Feuil1!$A$2,'Planning par enfant'!$A221,""),"") | E23: =IF('Planning par enfant'!$B221=Feuil1!E$1,IF('Planning par enfant'!$C221=Feuil1!$A$2,'Planning par enfant'!$A221,""),"") | F23: =IF('Planning par enfant'!$B221=Feuil1!F$1,IF('Planning par enfant'!$C221=Feuil1!$A$2,'Planning par enfant'!$A221,""),"")
B24: =IF('Planning par enfant'!$B222=Feuil1!B$1,IF('Planning par enfant'!$C222=Feuil1!$A$2,'Planning par enfant'!$A222,""),"") | C24: =IF('Planning par enfant'!$B222=Feuil1!C$1,IF('Planning par enfant'!$C222=Feuil1!$A$2,'Planning par enfant'!$A222,""),"") | D24: =IF('Planning par enfant'!$B222=Feuil1!D$1,IF('Planning par enfant'!$C222=Feuil1!$A$2,'Planning par enfant'!$A222,""),"") | E24: =IF('Planning par enfant'!$B222=Feuil1!E$1,IF('Planning par enfant'!$C222=Feuil1!$A$2,'Planning par enfant'!$A222,""),"") | F24: =IF('Planning par enfant'!$B222=Feuil1!F$1,IF('Planning par enfant'!$C222=Feuil1!$A$2,'Planning par enfant'!$A222,""),"")
B25: =IF('Planning par enfant'!$B223=Feuil1!B$1,IF('Planning par enfant'!$C223=Feuil1!$A$2,'Planning par enfant'!$A223,""),"") | C25: =IF('Planning par enfant'!$B223=Feuil1!C$1,IF('Planning par enfant'!$C223=Feuil1!$A$2,'Planning par enfant'!$A223,""),"") | D25: =IF('Planning par enfant'!$B223=Feuil1!D$1,IF('Planning par enfant'!$C223=Feuil1!$A$2,'Planning par enfant'!$A223,""),"") | E25: =IF('Planning par enfant'!$B223=Feuil1!E$1,IF('Planning par enfant'!$C223=Feuil1!$A$2,'Planning par enfant'!$A223,""),"") | F25: =IF('Planning par enfant'!$B223=Feuil1!F$1,IF('Planning par enfant'!$C223=Feuil1!$A$2,'Planning par enfant'!$A223,""),"")
B26: =IF('Planning par enfant'!$B224=Feuil1!B$1,IF('Planning par enfant'!$C224=Feuil1!$A$2,'Planning par enfant'!$A224,""),"") | C26: =IF('Planning par enfant'!$B224=Feuil1!C$1,IF('Planning par enfant'!$C224=Feuil1!$A$2,'Planning par enfant'!$A224,""),"") | D26: =IF('Planning par enfant'!$B224=Feuil1!D$1,IF('Planning par enfant'!$C224=Feuil1!$A$2,'Planning par enfant'!$A224,""),"") | E26: =IF('Planning par enfant'!$B224=Feuil1!E$1,IF('Planning par enfant'!$C224=Feuil1!$A$2,'Planning par enfant'!$A224,""),"") | F26: =IF('Planning par enfant'!$B224=Feuil1!F$1,IF('Planning par enfant'!$C224=Feuil1!$A$2,'Planning par enfant'!$A224,""),"")
B27: =IF('Planning par enfant'!$B225=Feuil1!B$1,IF('Planning par enfant'!$C225=Feuil1!$A$2,'Planning par enfant'!$A225,""),"") | C27: =IF('Planning par enfant'!$B225=Feuil1!C$1,IF('Planning par enfant'!$C225=Feuil1!$A$2,'Planning par enfant'!$A225,""),"") | D27: =IF('Planning par enfant'!$B225=Feuil1!D$1,IF('Planning par enfant'!$C225=Feuil1!$A$2,'Planning par enfant'!$A225,""),"") | E27: =IF('Planning par enfant'!$B225=Feuil1!E$1,IF('Planning par enfant'!$C225=Feuil1!$A$2,'Planning par enfant'!$A225,""),"") | F27: =IF('Planning par enfant'!$B225=Feuil1!F$1,IF('Planning par enfant'!$C225=Feuil1!$A$2,'Planning par enfant'!$A225,""),"")
B28: =IF('Planning par enfant'!$B226=Feuil1!B$1,IF('Planning par enfant'!$C226=Feuil1!$A$2,'Planning par enfant'!$A226,""),"") | C28: =IF('Planning par enfant'!$B226=Feuil1!C$1,IF('Planning par enfant'!$C226=Feuil1!$A$2,'Planning par enfant'!$A226,""),"") | D28: =IF('Planning par enfant'!$B226=Feuil1!D$1,IF('Planning par enfant'!$C226=Feuil1!$A$2,'Planning par enfant'!$A226,""),"") | E28: =IF('Planning par enfant'!$B226=Feuil1!E$1,IF('Planning par enfant'!$C226=Feuil1!$A$2,'Planning par enfant'!$A226,""),"") | F28: =IF('Planning par enfant'!$B226=Feuil1!F$1,IF('Planning par enfant'!$C226=Feuil1!$A$2,'Planning par enfant'!$A226,""),"")
B29: =IF('Planning par enfant'!$B227=Feuil1!B$1,IF('Planning par enfant'!$C227=Feuil1!$A$2,'Planning par enfant'!$A227,""),"") | C29: =IF('Planning par enfant'!$B227=Feuil1!C$1,IF('Planning par enfant'!$C227=Feuil1!$A$2,'Planning par enfant'!$A227,""),"") | D29: =IF('Planning par enfant'!$B227=Feuil1!D$1,IF('Planning par enfant'!$C227=Feuil1!$A$2,'Planning par enfant'!$A227,""),"") | E29: =IF('Planning par enfant'!$B227=Feuil1!E$1,IF('Planning par enfant'!$C227=Feuil1!$A$2,'Planning par enfant'!$A227,""),"") | F29: =IF('Planning par enfant'!$B227=Feuil1!F$1,IF('Planning par enfant'!$C227=Feuil1!$A$2,'Planning par enfant'!$A227,""),"")
B30: =IF('Planning par enfant'!$B228=Feuil1!B$1,IF('Planning par enfant'!$C228=Feuil1!$A$2,'Planning par enfant'!$A228,""),"") | C30: =IF('Planning par enfant'!$B228=Feuil1!C$1,IF('Planning par enfant'!$C228=Feuil1!$A$2,'Planning par enfant'!$A228,""),"") | D30: =IF('Planning par enfant'!$B228=Feuil1!D$1,IF('Planning par enfant'!$C228=Feuil1!$A$2,'Planning par enfant'!$A228,""),"") | E30: =IF('Planning par enfant'!$B228=Feuil1!E$1,IF('Planning par enfant'!$C228=Feuil1!$A$2,'Planning par enfant'!$A228,""),"") | F30: =IF('Planning par enfant'!$B228=Feuil1!F$1,IF('Planning par enfant'!$C228=Feuil1!$A$2,'Planning par enfant'!$A228,""),"")
B31: =IF('Planning par enfant'!$B229=Feuil1!B$1,IF('Planning par enfant'!$C229=Feuil1!$A$2,'Planning par enfant'!$A229,""),"") | C31: =IF('Planning par enfant'!$B229=Feuil1!C$1,IF('Planning par enfant'!$C229=Feuil1!$A$2,'Planning par enfant'!$A229,""),"") | D31: =IF('Planning par enfant'!$B229=Feuil1!D$1,IF('Planning par enfant'!$C229=Feuil1!$A$2,'Planning par enfant'!$A229,""),"") | E31: =IF('Planning par enfant'!$B229=Feuil1!E$1,IF('Planning par enfant'!$C229=Feuil1!$A$2,'Planning par enfant'!$A229,""),"") | F31: =IF('Planning par enfant'!$B229=Feuil1!F$1,IF('Planning par enfant'!$C229=Feuil1!$A$2,'Planning par enfant'!$A229,""),"")
B32: =IF('Planning par enfant'!$B230=Feuil1!B$1,IF('Planning par enfant'!$C230=Feuil1!$A$2,'Planning par enfant'!$A230,""),"") | C32: =IF('Planning par enfant'!$B230=Feuil1!C$1,IF('Planning par enfant'!$C230=Feuil1!$A$2,'Planning par enfant'!$A230,""),"") | D32: =IF('Planning par enfant'!$B230=Feuil1!D$1,IF('Planning par enfant'!$C230=Feuil1!$A$2,'Planning par enfant'!$A230,""),"") | E32: =IF('Planning par enfant'!$B230=Feuil1!E$1,IF('Planning par enfant'!$C230=Feuil1!$A$2,'Planning par enfant'!$A230,""),"") | F32: =IF('Planning par enfant'!$B230=Feuil1!F$1,IF('Planning par enfant'!$C230=Feuil1!$A$2,'Planning par enfant'!$A230,""),"") | J32: Dimitri
B33: =IF('Planning par enfant'!$B231=Feuil1!B$1,IF('Planning par enfant'!$C231=Feuil1!$A$2,'Planning par enfant'!$A231,""),"") | C33: =IF('Planning par enfant'!$B231=Feuil1!C$1,IF('Planning par enfant'!$C231=Feuil1!$A$2,'Planning par enfant'!$A231,""),"") | D33: =IF('Planning par enfant'!$B231=Feuil1!D$1,IF('Planning par enfant'!$C231=Feuil1!$A$2,'Planning par enfant'!$A231,""),"") | E33: =IF('Planning par enfant'!$B231=Feuil1!E$1,IF('Planning par enfant'!$C231=Feuil1!$A$2,'Planning par enfant'!$A231,""),"") | F33: =IF('Planning par enfant'!$B231=Feuil1!F$1,IF('Planning par enfant'!$C231=Feuil1!$A$2,'Planning par enfant'!$A231,""),"")
B34: =IF('Planning par enfant'!$B232=Feuil1!B$1,IF('Planning par enfant'!$C232=Feuil1!$A$2,'Planning par enfant'!$A232,""),"") | C34: =IF('Planning par enfant'!$B232=Feuil1!C$1,IF('Planning par enfant'!$C232=Feuil1!$A$2,'Planning par enfant'!$A232,""),"") | D34: =IF('Planning par enfant'!$B232=Feuil1!D$1,IF('Planning par enfant'!$C232=Feuil1!$A$2,'Planning par enfant'!$A232,""),"") | E34: =IF('Planning par enfant'!$B232=Feuil1!E$1,IF('Planning par enfant'!$C232=Feuil1!$A$2,'Planning par enfant'!$A232,""),"") | F34: =IF('Planning par enfant'!$B232=Feuil1!F$1,IF('Planning par enfant'!$C232=Feuil1!$A$2,'Planning par enfant'!$A232,""),"")
B35: =IF('Planning par enfant'!$B233=Feuil1!B$1,IF('Planning par enfant'!$C233=Feuil1!$A$2,'Planning par enfant'!$A233,""),"") | C35: =IF('Planning par enfant'!$B233=Feuil1!C$1,IF('Planning par enfant'!$C233=Feuil1!$A$2,'Planning par enfant'!$A233,""),"") | D35: =IF('Planning par enfant'!$B233=Feuil1!D$1,IF('Planning par enfant'!$C233=Feuil1!$A$2,'Planning par enfant'!$A233,""),"") | E35: =IF('Planning par enfant'!$B233=Feuil1!E$1,IF('Planning par enfant'!$C233=Feuil1!$A$2,'Planning par enfant'!$A233,""),"") | F35: =IF('Planning par enfant'!$B233=Feuil1!F$1,IF('Planning par enfant'!$C233=Feuil1!$A$2,'Planning par enfant'!$A233,""),"")
B36: =IF('Planning par enfant'!$B234=Feuil1!B$1,IF('Planning par enfant'!$C234=Feuil1!$A$2,'Planning par enfant'!$A234,""),"") | C36: =IF('Planning par enfant'!$B234=Feuil1!C$1,IF('Planning par enfant'!$C234=Feuil1!$A$2,'Planning par enfant'!$A234,""),"") | D36: =IF('Planning par enfant'!$B234=Feuil1!D$1,IF('Planning par enfant'!$C234=Feuil1!$A$2,'Planning par enfant'!$A234,""),"") | E36: =IF('Planning par enfant'!$B234=Feuil1!E$1,IF('Planning par enfant'!$C234=Feuil1!$A$2,'Planning par enfant'!$A234,""),"") | F36: =IF('Planning par enfant'!$B234=Feuil1!F$1,IF('Planning par enfant'!$C234=Feuil1!$A$2,'Planning par enfant'!$A234,""),"")
B37: =IF('Planning par enfant'!$B235=Feuil1!B$1,IF('Planning par enfant'!$C235=Feuil1!$A$2,'Planning par enfant'!$A235,""),"") | C37: =IF('Planning par enfant'!$B235=Feuil1!C$1,IF('Planning par enfant'!$C235=Feuil1!$A$2,'Planning par enfant'!$A235,""),"") | D37: =IF('Planning par enfant'!$B235=Feuil1!D$1,IF('Planning par enfant'!$C235=Feuil1!$A$2,'Planning par enfant'!$A235,""),"") | E37: =IF('Planning par enfant'!$B235=Feuil1!E$1,IF('Planning par enfant'!$C235=Feuil1!$A$2,'Planning par enfant'!$A235,""),"") | F37: =IF('Planning par enfant'!$B235=Feuil1!F$1,IF('Planning par enfant'!$C235=Feuil1!$A$2,'Planning par enfant'!$A235,""),"")
B38: =IF('Planning par enfant'!$B236=Feuil1!B$1,IF('Planning par enfant'!$C236=Feuil1!$A$2,'Planning par enfant'!$A236,""),"") | C38: =IF('Planning par enfant'!$B236=Feuil1!C$1,IF('Planning par enfant'!$C236=Feuil1!$A$2,'Planning par enfant'!$A236,""),"") | D38: =IF('Planning par enfant'!$B236=Feuil1!D$1,IF('Planning par enfant'!$C236=Feuil1!$A$2,'Planning par enfant'!$A236,""),"") | E38: =IF('Planning par enfant'!$B236=Feuil1!E$1,IF('Planning par enfant'!$C236=Feuil1!$A$2,'Planning par enfant'!$A236,""),"") | F38: =IF('Planning par enfant'!$B236=Feuil1!F$1,IF('Planning par enfant'!$C236=Feuil1!$A$2,'Planning par enfant'!$A236,""),"")
B39: =IF('Planning par enfant'!$B237=Feuil1!B$1,IF('Planning par enfant'!$C237=Feuil1!$A$2,'Planning par enfant'!$A237,""),"") | C39: =IF('Planning par enfant'!$B237=Feuil1!C$1,IF('Planning par enfant'!$C237=Feuil1!$A$2,'Planning par enfant'!$A237,""),"") | D39: =IF('Planning par enfant'!$B237=Feuil1!D$1,IF('Planning par enfant'!$C237=Feuil1!$A$2,'Planning par enfant'!$A237,""),"") | E39: =IF('Planning par enfant'!$B237=Feuil1!E$1,IF('Planning par enfant'!$C237=Feuil1!$A$2,'Planning par enfant'!$A237,""),"") | F39: =IF('Planning par enfant'!$B237=Feuil1!F$1,IF('Planning par enfant'!$C237=Feuil1!$A$2,'Planning par enfant'!$A237,""),"")
B40: =IF('Planning par enfant'!$B238=Feuil1!B$1,IF('Planning par enfant'!$C238=Feuil1!$A$2,'Planning par enfant'!$A238,""),"") | C40: =IF('Planning par enfant'!$B238=Feuil1!C$1,IF('Planning par enfant'!$C238=Feuil1!$A$2,'Planning par enfant'!$A238,""),"") | D40: =IF('Planning par enfant'!$B238=Feuil1!D$1,IF('Planning par enfant'!$C238=Feuil1!$A$2,'Planning par enfant'!$A238,""),"") | E40: =IF('Planning par enfant'!$B238=Feuil1!E$1,IF('Planning par enfant'!$C238=Feuil1!$A$2,'Planning par enfant'!$A238,""),"") | F40: =IF('Planning par enfant'!$B238=Feuil1!F$1,IF('Planning par enfant'!$C238=Feuil1!$A$2,'Planning par enfant'!$A238,""),"")
...
