Workbook

Sheet Planning hebdo
A1: Semaine N° | G1: 37
B2: horaire | D2: durée indicative | E2: durée indicative en cent. | F2: No code | G2: Lundi | H2: Mardi | I2: Mercredi | J2: Jeudi | K2: Vendredi
D4: Dates | H4: =IF(H1='n° de semaine'!C3,'n° de semaine'!D4," ") | I4: =IF(I1='n° de semaine'!D3,'n° de semaine'!E3," ") | J4: =IF(J1='n° de semaine'!E3,'n° de semaine'!F3," ") | K4: =IF(K1='n° de semaine'!F3,'n° de semaine'!G3," ")
A5: Unité 1 - personnel | B5: 0.27083333 | C5: 0.32638889 | D5: 0.055555556 | E5: 1.34 | F5: 401
A6: U1
A16: Pédibus matin - personnel | D16: 0.010416667 | E16: 0.2 | F16: 410
A17: Pédibus 1
A27: Unité 2 - personnel | B27: 0.32638889 | C27: 0.47569444 | D27: 0.14930556 | E27: 3.59 | F27: 402
A28: U2
A36: Pédibus avant midi personnel | D36: 0.010416667 | E36: 0.2 | F36: 410
A37: Pédibus 2
A46: Préparation repas de midi (heures) | F46: 440
A47: U3
A48: Repas pris à l'accueil
A59: Unité 3 - personnel | B59: 0.47569444 | C59: 0.55555556 | D59: 0.079861111 | E59: 1.92 | F59: 403
A60: U3
A70: Pédibus après-midi - pers. | D70: 0.010416667 | E70: 0.2 | F70: 410
A71: Pédibus 3
A81: Unité 4 | B81: 0.55555556 | C81: 0.625 | D81: 0.069444444 | E81: 1.67 | F81: 404
A82: U4
A91: Pédibus fin de l'école - personnel | D91: 0.010416667 | E91: 0.2 | F91: 410
A92: Pédibus 4
A102: Unité 5 - personnel | B102: 0.625 | C102: 0.6875 | D102: 0.0625 | E102: 1.5 | F102: 405
A103: U5
A111: Unité 6 - personnel | B111: 0.6875 | C111: 0.77083333 | D111: 0.083333333 | E111: 2 | F111: 406
A112: U6
A122: Devoirs accompagnés - personnel si autre que U6 | F122: 420
A123: DA
A140: Administration | F140: 430

Sheet n° de semaine
C1: Lundi | D1: Mardi | E1: Mercredi | F1: Jeudi | G1: Vendredi
A2: Semaine | B2: 34 | F2: 41508 | G2: 41509
A3: Semaine | B3: 35 | C3: 41512 | D3: 41513 | E3: 41514 | F3: 41515 | G3: 41516
A4: Semaine | B4: 36 | C4: 41519 | D4: 41520 | E4: 41521 | F4: 41522 | G4: 41523
A5: Semaine | B5: 37 | C5: 41526 | D5: 41527 | E5: 41528 | F5: 41529 | G5: 41530
A6: Semaine | B6: 38 | C6: 41533 | D6: 41534 | E6: 41535 | F6: 41536 | G6: 41537
A7: Semaine | B7: 39 | C7: 41540 | D7: 41541 | E7: 41542 | F7: 41543 | G7: 41544
A8: Semaine | B8: 40 | C8: 41547 | D8: 41548 | E8: 41549 | F8: 41550 | G8: 41551
A9: Semaine | B9: 41 | C9: 41554 | D9: 41555 | E9: 41556 | F9: 41557 | G9: 41558
A10: Semaine | B10: 42 | C10: 41561 | D10: 41562 | E10: 41563 | F10: 41564 | G10: 41565
A11: Semaine | B11: 45 | C11: 41582 | D11: 41583 | E11: 41584 | F11: 41585 | G11: 41586
A12: Semaine | B12: 46 | C12: 41589 | D12: 41590 | E12: 41591 | F12: 41592 | G12: 41593
A13: Semaine | B13: 47 | C13: 41596 | D13: 41597 | E13: 41598 | F13: 41599 | G13: 41600
A14: Semaine | B14: 48 | C14: 41603 | D14: 41604 | E14: 41605 | F14: 41606 | G14: 41607
... A34: Semaine | B34: 21 | C34: 41778 | D34: 41779 | E34: 41780 | F34: 41781 | G34: 41782
A35: Semaine | B35: 22 | C35: 41785 | D35: 41786 | E35: 41787
A36: Semaine | B36: 23 | C36: 41792 | D36: 41793 | E36: 41794 | F36: 41795 | G36: 41796
A37: Semaine | B37: 24 | D37: 41800 | E37: 41801 | F37: 41802 | G37: 41803
A38: Semaine | B38: 25 | C38: 41806 | D38: 41807 | E38: 41808 | G38: 41810
A39: Semaine | B39: 26 | C39: 41813 | D39: 41814 | E39: 41815 | F39: 41816 | G39: 41817
A40: Semaine | B40: 27 | C40: 41820 | D40: 41821 | E40: 41822 | F40: 41823 | G40: 41824

Sheet Feuil1
B1: lundi | C1: mardi | D1: mercredi | E1: jeudi | F1: vendredi
A2: U1 | B2: =IF(#REF!=Feuil1!B$1,IF(#REF!=Feuil1!$A$2,#REF!,""),"") -> #REF! | C2: =IF(#REF!=Feuil1!C$1,IF(#REF!=Feuil1!$A$2,#REF!,""),"") -> #REF! | D2: =IF(#REF!=Feuil1!D$1,IF(#REF!=Feuil1!$A$2,#REF!,""),"") -> #REF! | E2: =IF(#REF!=Feuil1!E$1,IF(#REF!=Feuil1!$A$2,#REF!,""),"") -> #REF! | F2: =IF(#REF!=Feuil1!F$1,IF(#REF!=Feuil1!$A$2,#REF!,""),"") -> #REF!
B3: =IF(#REF!=Feuil1!B$1,IF(#REF!=Feuil1!$A$2,#REF!,""),"") -> #REF! | C3: =IF(#REF!=Feuil1!C$1,IF(#REF!=Feuil1!$A$2,#REF!,""),"") -> #REF! | D3: =IF(#REF!=Feuil1!D$1,IF(#REF!=Feuil1!$A$2,#REF!,""),"") -> #REF! | E3: =IF(#REF!=Feuil1!E$1,IF(#REF!=Feuil1!$A$2,#REF!,""),"") -> #REF! | F3: =IF(#REF!=Feuil1!F$1,IF(#REF!=Feuil1!$A$2,#REF!,""),"") -> #REF!
B4: =IF(#REF!=Feuil1!B$1,IF(#REF!=Feuil1!$A$2,#REF!,""),"") -> #REF! | C4: =IF(#REF!=Feuil1!C$1,IF(#REF!=Feuil1!$A$2,#REF!,""),"") -> #REF! | D4: =IF(#REF!=Feuil1!D$1,IF(#REF!=Feuil1!$A$2,#REF!,""),"") -> #REF! | E4: =IF(#REF!=Feuil1!E$1,IF(#REF!=Feuil1!$A$2,#REF!,""),"") -> #REF! | F4: =IF(#REF!=Feuil1!F$1,IF(#REF!=Feuil1!$A$2,#REF!,""),"") -> #REF!
B5: =IF(#REF!=Feuil1!B$1,IF(#REF!=Feuil1!$A$2,#REF!,""),"") -> #REF! | C5: =IF(#REF!=Feuil1!C$1,IF(#REF!=Feuil1!$A$2,#REF!,""),"") -> #REF! | D5: =IF(#REF!=Feuil1!D$1,IF(#REF!=Feuil1!$A$2,#REF!,""),"") -> #REF! | E5: =IF(#REF!=Feuil1!E$1,IF(#REF!=Feuil1!$A$2,#REF!,""),"") -> #REF! | F5: =IF(#REF!=Feuil1!F$1,IF(#REF!=Feuil1!$A$2,#REF!,""),"") -> #REF!
B6: =IF(#REF!=Feuil1!B$1,IF(#REF!=Feuil1!$A$2,#REF!,""),"") -> #REF! | C6: =IF(#REF!=Feuil1!C$1,IF(#REF!=Feuil1!$A$2,#REF!,""),"") -> #REF! | D6: =IF(#REF!=Feuil1!D$1,IF(#REF!=Feuil1!$A$2,#REF!,""),"") -> #REF! | E6: =IF(#REF!=Feuil1!E$1,IF(#REF!=Feuil1!$A$2,#REF!,""),"") -> #REF! | F6: =IF(#REF!=Feuil1!F$1,IF(#REF!=Feuil1!$A$2,#REF!,""),"") -> #REF!
B7: =IF(#REF!=Feuil1!B$1,IF(#REF!=Feuil1!$A$2,#REF!,""),"") -> #REF! | C7: =IF(#REF!=Feuil1!C$1,IF(#REF!=Feuil1!$A$2,#REF!,""),"") -> #REF! | D7: =IF(#REF!=Feuil1!D$1,IF(#REF!=Feuil1!$A$2,#REF!,""),"") -> #REF! | E7: =IF(#REF!=Feuil1!E$1,IF(#REF!=Feuil1!$A$2,#REF!,""),"") -> #REF! | F7: =IF(#REF!=Feuil1!F$1,IF(#REF!=Feuil1!$A$2,#REF!,""),"") -> #REF!
B8: =IF(#REF!=Feuil1!B$1,IF(#REF!=Feuil1!$A$2,#REF!,""),"") -> #REF! | C8: =IF(#REF!=Feuil1!C$1,IF(#REF!=Feuil1!$A$2,#REF!,""),"") -> #REF! | D8: =IF(#REF!=Feuil1!D$1,IF(#REF!=Feuil1!$A$2,#REF!,""),"") -> #REF! | E8: =IF(#REF!=Feuil1!E$1,IF(#REF!=Feuil1!$A$2,#REF!,""),"") -> #REF! | F8: =IF(#REF!=Feuil1!F$1,IF(#REF!=Feuil1!$A$2,#REF!,""),"") -> #REF!
B9: =IF(#REF!=Feuil1!B$1,IF(#REF!=Feuil1!$A$2,#REF!,""),"") -> #REF! | C9: =IF(#REF!=Feuil1!C$1,IF(#REF!=Feuil1!$A$2,#REF!,""),"") -> #REF! | E9: =IF(#REF!=Feuil1!E$1,IF(#REF!=Feuil1!$A$2,#REF!,""),"") -> #REF! | F9: =IF(#REF!=Feuil1!F$1,IF(#REF!=Feuil1!$A$2,#REF!,""),"") -> #REF!
B10: =IF(#REF!=Feuil1!B$1,IF(#REF!=Feuil1!$A$2,#REF!,""),"") -> #REF! | C10: =IF(#REF!=Feuil1!C$1,IF(#REF!=Feuil1!$A$2,#REF!,""),"") -> #REF! | D10: =IF(#REF!=Feuil1!D$1,IF(#REF!=Feuil1!$A$2,#REF!,""),"") -> #REF! | E10: =IF(#REF!=Feuil1!E$1,IF(#REF!=Feuil1!$A$2,#REF!,""),"") -> #REF! | F10: =IF(#REF!=Feuil1!F$1,IF(#REF!=Feuil1!$A$2,#REF!,""),"") -> #REF!
B11: =IF(#REF!=Feuil1!B$1,IF(#REF!=Feuil1!$A$2,#REF!,""),"") -> #REF! | C11: =IF(#REF!=Feuil1!C$1,IF(#REF!=Feuil1!$A$2,#REF!,""),"") -> #REF! | D11: =IF(#REF!=Feuil1!D$1,IF(#REF!=Feuil1!$A$2,#REF!,""),"") -> #REF! | E11: =IF(#REF!=Feuil1!E$1,IF(#REF!=Feuil1!$A$2,#REF!,""),"") -> #REF! | F11: =IF(#REF!=Feuil1!F$1,IF(#REF!=Feuil1!$A$2,#REF!,""),"") -> #REF!
B12: =IF(#REF!=Feuil1!B$1,IF(#REF!=Feuil1!$A$2,#REF!,""),"") -> #REF! | C12: =IF(#REF!=Feuil1!C$1,IF(#REF!=Feuil1!$A$2,#REF!,""),"") -> #REF! | D12: =IF(#REF!=Feuil1!D$1,IF(#REF!=Feuil1!$A$2,#REF!,""),"") -> #REF! | E12: =IF(#REF!=Feuil1!E$1,IF(#REF!=Feuil1!$A$2,#REF!,""),"") -> #REF! | F12: =IF(#REF!=Feuil1!F$1,IF(#REF!=Feuil1!$A$2,#REF!,""),"") -> #REF!
B13: =IF(#REF!=Feuil1!B$1,IF(#REF!=Feuil1!$A$2,#REF!,""),"") -> #REF! | C13: =IF(#REF!=Feuil1!C$1,IF(#REF!=Feuil1!$A$2,#REF!,""),"") -> #REF! | D13: =IF(#REF!=Feuil1!D$1,IF(#REF!=Feuil1!$A$2,#REF!,""),"") -> #REF! | E13: =IF(#REF!=Feuil1!E$1,IF(#REF!=Feuil1!$A$2,#REF!,""),"") -> #REF! | F13: =IF(#REF!=Feuil1!F$1,IF(#REF!=Feuil1!$A$2,#REF!,""),"") -> #REF!
B14: =IF(#REF!=Feuil1!B$1,IF(#REF!=Feuil1!$A$2,#REF!,""),"") -> #REF! | C14: =IF(#REF!=Feuil1!C$1,IF(#REF!=Feuil1!$A$2,#REF!,""),"") -> #REF! | D14: =IF(#REF!=Feuil1!D$1,IF(#REF!=Feuil1!$A$2,#REF!,""),"") -> #REF! | E14: =IF(#REF!=Feuil1!E$1,IF(#REF!=Feuil1!$A$2,#REF!,""),"") -> #REF! | F14: =IF(#REF!=Feuil1!F$1,IF(#REF!=Feuil1!$A$2,#REF!,""),"") -> #REF!
B15: =IF(#REF!=Feuil1!B$1,IF(#REF!=Feuil1!$A$2,#REF!,""),"") -> #REF! | C15: =IF(#REF!=Feuil1!C$1,IF(#REF!=Feuil1!$A$2,#REF!,""),"") -> #REF! | D15: =IF(#REF!=Feuil1!D$1,IF(#REF!=Feuil1!$A$2,#REF!,""),"") -> #REF! | E15: =IF(#REF!=Feuil1!E$1,IF(#REF!=Feuil1!$A$2,#REF!,""),"") -> #REF! | F15: =IF(#REF!=Feuil1!F$1,IF(#REF!=Feuil1!$A$2,#REF!,""),"") -> #REF!
B16: =IF(#REF!=Feuil1!B$1,IF(#REF!=Feuil1!$A$2,#REF!,""),"") -> #REF! | C16: =IF(#REF!=Feuil1!C$1,IF(#REF!=Feuil1!$A$2,#REF!,""),"") -> #REF! | D16: =IF(#REF!=Feuil1!D$1,IF(#REF!=Feuil1!$A$2,#REF!,""),"") -> #REF! | E16: =IF(#REF!=Feuil1!E$1,IF(#REF!=Feuil1!$A$2,#REF!,""),"") -> #REF! | F16: =IF(#REF!=Feuil1!F$1,IF(#REF!=Feuil1!$A$2,#REF!,""),"") -> #REF!
B17: =IF(#REF!=Feuil1!B$1,IF(#REF!=Feuil1!$A$2,#REF!,""),"") -> #REF! | C17: =IF(#REF!=Feuil1!C$1,IF(#REF!=Feuil1!$A$2,#REF!,""),"") -> #REF! | D17: =IF(#REF!=Feuil1!D$1,IF(#REF!=Feuil1!$A$2,#REF!,""),"") -> #REF! | E17: =IF(#REF!=Feuil1!E$1,IF(#REF!=Feuil1!$A$2,#REF!,""),"") -> #REF! | F17: =IF(#REF!=Feuil1!F$1,IF(#REF!=Feuil1!$A$2,#REF!,""),"") -> #REF!
B18: =IF(#REF!=Feuil1!B$1,IF(#REF!=Feuil1!$A$2,#REF!,""),"") -> #REF! | C18: =IF(#REF!=Feuil1!C$1,IF(#REF!=Feuil1!$A$2,#REF!,""),"") -> #REF! | D18: =IF(#REF!=Feuil1!D$1,IF(#REF!=Feuil1!$A$2,#REF!,""),"") -> #REF! | E18: =IF(#REF!=Feuil1!E$1,IF(#REF!=Feuil1!$A$2,#REF!,""),"") -> #REF! | F18: =IF(#REF!=Feuil1!F$1,IF(#REF!=Feuil1!$A$2,#REF!,""),"") -> #REF!
B19: =IF(#REF!=Feuil1!B$1,IF(#REF!=Feuil1!$A$2,#REF!,""),"") -> #REF! | C19: =IF(#REF!=Feuil1!C$1,IF(#REF!=Feuil1!$A$2,#REF!,""),"") -> #REF! | D19: =IF(#REF!=Feuil1!D$1,IF(#REF!=Feuil1!$A$2,#REF!,""),"") -> #REF! | E19: =IF(#REF!=Feuil1!E$1,IF(#REF!=Feuil1!$A$2,#REF!,""),"") -> #REF! | F19: =IF(#REF!=Feuil1!F$1,IF(#REF!=Feuil1!$A$2,#REF!,""),"") -> #REF!
B20: =IF(#REF!=Feuil1!B$1,IF(#REF!=Feuil1!$A$2,#REF!,""),"") -> #REF! | C20: =IF(#REF!=Feuil1!C$1,IF(#REF!=Feuil1!$A$2,#REF!,""),"") -> #REF! | D20: =IF(#REF!=Feuil1!D$1,IF(#REF!=Feuil1!$A$2,#REF!,""),"") -> #REF! | E20: =IF(#REF!=Feuil1!E$1,IF(#REF!=Feuil1!$A$2,#REF!,""),"") -> #REF! | F20: =IF(#REF!=Feuil1!F$1,IF(#REF!=Feuil1!$A$2,#REF!,""),"") -> #REF!
B21: =IF(#REF!=Feuil1!B$1,IF(#REF!=Feuil1!$A$2,#REF!,""),"") -> #REF! | C21: =IF(#REF!=Feuil1!C$1,IF(#REF!=Feuil1!$A$2,#REF!,""),"") -> #REF! | D21: =IF(#REF!=Feuil1!D$1,IF(#REF!=Feuil1!$A$2,#REF!,""),"") -> #REF! | E21: =IF(#REF!=Feuil1!E$1,IF(#REF!=Feuil1!$A$2,#REF!,""),"") -> #REF! | F21: =IF(#REF!=Feuil1!F$1,IF(#REF!=Feuil1!$A$2,#REF!,""),"") -> #REF!
... B556: =IF(#REF!=Feuil1!B$1,IF(#REF!=Feuil1!$A$2,#REF!,""),"") -> #REF! | C556: =IF(#REF!=Feuil1!C$1,IF(#REF!=Feuil1!$A$2,#REF!,""),"") -> #REF! | D556: =IF(#REF!=Feuil1!D$1,IF(#REF!=Feuil1!$A$2,#REF!,""),"") -> #REF! | E556: =IF(#REF!=Feuil1!E$1,IF(#REF!=Feuil1!$A$2,#REF!,""),"") -> #REF! | F556: =IF(#REF!=Feuil1!F$1,IF(#REF!=Feuil1!$A$2,#REF!,""),"") -> #REF!
B557: =IF(#REF!=Feuil1!B$1,IF(#REF!=Feuil1!$A$2,Feuil1!$A$2,""),"") -> #REF! | C557: =IF(#REF!=Feuil1!C$1,IF(#REF!=Feuil1!$A$2,#REF!,""),"") -> #REF! | D557: =IF(#REF!=Feuil1!D$1,IF(#REF!=Feuil1!$A$2,#REF!,""),"") -> #REF! | E557: =IF(#REF!=Feuil1!E$1,IF(#REF!=Feuil1!$A$2,#REF!,""),"") -> #REF! | F557: =IF(#REF!=Feuil1!F$1,IF(#REF!=Feuil1!$A$2,#REF!,""),"") -> #REF!
B558: =IF(#REF!=Feuil1!B$1,IF(#REF!=Feuil1!$A$2,Feuil1!$A$2,""),"") -> #REF! | C558: =IF(#REF!=Feuil1!C$1,IF(#REF!=Feuil1!$A$2,#REF!,""),"") -> #REF! | D558: =IF(#REF!=Feuil1!D$1,IF(#REF!=Feuil1!$A$2,#REF!,""),"") -> #REF! | E558: =IF(#REF!=Feuil1!E$1,IF(#REF!=Feuil1!$A$2,#REF!,""),"") -> #REF! | F558: =IF(#REF!=Feuil1!F$1,IF(#REF!=Feuil1!$A$2,#REF!,""),"") -> #REF!
B559: =IF(#REF!=Feuil1!B$1,IF(#REF!=Feuil1!$A$2,Feuil1!$A$2,""),"") -> #REF! | C559: =IF(#REF!=Feuil1!C$1,IF(#REF!=Feuil1!$A$2,#REF!,""),"") -> #REF! | D559: =IF(#REF!=Feuil1!D$1,IF(#REF!=Feuil1!$A$2,#REF!,""),"") -> #REF! | E559: =IF(#REF!=Feuil1!E$1,IF(#REF!=Feuil1!$A$2,#REF!,""),"") -> #REF! | F559: =IF(#REF!=Feuil1!F$1,IF(#REF!=Feuil1!$A$2,#REF!,""),"") -> #REF!
B560: =IF(#REF!=Feuil1!B$1,IF(#REF!=Feuil1!$A$2,Feuil1!$A$2,""),"") -> #REF! | C560: =IF(#REF!=Feuil1!C$1,IF(#REF!=Feuil1!$A$2,#REF!,""),"") -> #REF! | D560: =IF(#REF!=Feuil1!D$1,IF(#REF!=Feuil1!$A$2,#REF!,""),"") -> #REF! | E560: =IF(#REF!=Feuil1!E$1,IF(#REF!=Feuil1!$A$2,#REF!,""),"") -> #REF! | F560: =IF(#REF!=Feuil1!F$1,IF(#REF!=Feuil1!$A$2,#REF!,""),"") -> #REF!
B561: =IF(#REF!=Feuil1!B$1,IF(#REF!=Feuil1!$A$2,Feuil1!$A$2,""),"") -> #REF! | C561: =IF(#REF!=Feuil1!C$1,IF(#REF!=Feuil1!$A$2,#REF!,""),"") -> #REF! | D561: =IF(#REF!=Feuil1!D$1,IF(#REF!=Feuil1!$A$2,#REF!,""),"") -> #REF! | E561: =IF(#REF!=Feuil1!E$1,IF(#REF!=Feuil1!$A$2,#REF!,""),"") -> #REF! | F561: =IF(#REF!=Feuil1!F$1,IF(#REF!=Feuil1!$A$2,#REF!,""),"") -> #REF!
B562: =IF(#REF!=Feuil1!B$1,IF(#REF!=Feuil1!$A$2,Feuil1!$A$2,""),"") -> #REF! | C562: =IF(#REF!=Feuil1!C$1,IF(#REF!=Feuil1!$A$2,#REF!,""),"") -> #REF! | D562: =IF(#REF!=Feuil1!D$1,IF(#REF!=Feuil1!$A$2,#REF!,""),"") -> #REF! | E562: =IF(#REF!=Feuil1!E$1,IF(#REF!=Feuil1!$A$2,#REF!,""),"") -> #REF! | F562: =IF(#REF!=Feuil1!F$1,IF(#REF!=Feuil1!$A$2,#REF!,""),"") -> #REF!
B563: =IF(#REF!=Feuil1!B$1,IF(#REF!=Feuil1!$A$2,Feuil1!$A$2,""),"") -> #REF! | C563: =IF(#REF!=Feuil1!C$1,IF(#REF!=Feuil1!$A$2,#REF!,""),"") -> #REF! | D563: =IF(#REF!=Feuil1!D$1,IF(#REF!=Feuil1!$A$2,#REF!,""),"") -> #REF! | E563: =IF(#REF!=Feuil1!E$1,IF(#REF!=Feuil1!$A$2,#REF!,""),"") -> #REF! | F563: =IF(#REF!=Feuil1!F$1,IF(#REF!=Feuil1!$A$2,#REF!,""),"") -> #REF!
B564: =IF(#REF!=Feuil1!B$1,IF(#REF!=Feuil1!$A$2,Feuil1!$A$2,""),"") -> #REF! | C564: =IF(#REF!=Feuil1!C$1,IF(#REF!=Feuil1!$A$2,#REF!,""),"") -> #REF! | D564: =IF(#REF!=Feuil1!D$1,IF(#REF!=Feuil1!$A$2,#REF!,""),"") -> #REF! | E564: =IF(#REF!=Feuil1!E$1,IF(#REF!=Feuil1!$A$2,#REF!,""),"") -> #REF! | F564: =IF(#REF!=Feuil1!F$1,IF(#REF!=Feuil1!$A$2,#REF!,""),"") -> #REF!
B565: =IF(#REF!=Feuil1!B$1,IF(#REF!=Feuil1!$A$2,Feuil1!$A$2,""),"") -> #REF! | C565: =IF(#REF!=Feuil1!C$1,IF(#REF!=Feuil1!$A$2,#REF!,""),"") -> #REF! | D565: =IF(#REF!=Feuil1!D$1,IF(#REF!=Feuil1!$A$2,#REF!,""),"") -> #REF! | E565: =IF(#REF!=Feuil1!E$1,IF(#REF!=Feuil1!$A$2,#REF!,""),"") -> #REF! | F565: =IF(#REF!=Feuil1!F$1,IF(#REF!=Feuil1!$A$2,#REF!,""),"") -> #REF!
B566: =IF(#REF!=Feuil1!B$1,IF(#REF!=Feuil1!$A$2,Feuil1!$A$2,""),"") -> #REF! | C566: =IF(#REF!=Feuil1!C$1,IF(#REF!=Feuil1!$A$2,#REF!,""),"") -> #REF! | D566: =IF(#REF!=Feuil1!D$1,IF(#REF!=Feuil1!$A$2,#REF!,""),"") -> #REF! | E566: =IF(#REF!=Feuil1!E$1,IF(#REF!=Feuil1!$A$2,#REF!,""),"") -> #REF! | F566: =IF(#REF!=Feuil1!F$1,IF(#REF!=Feuil1!$A$2,#REF!,""),"") -> #REF!
B567: =IF(#REF!=Feuil1!B$1,IF(#REF!=Feuil1!$A$2,Feuil1!$A$2,""),"") -> #REF! | C567: =IF(#REF!=Feuil1!C$1,IF(#REF!=Feuil1!$A$2,#REF!,""),"") -> #REF! | D567: =IF(#REF!=Feuil1!D$1,IF(#REF!=Feuil1!$A$2,#REF!,""),"") -> #REF! | E567: =IF(#REF!=Feuil1!E$1,IF(#REF!=Feuil1!$A$2,#REF!,""),"") -> #REF! | F567: =IF(#REF!=Feuil1!F$1,IF(#REF!=Feuil1!$A$2,#REF!,""),"") -> #REF!
B568: =IF(#REF!=Feuil1!B$1,IF(#REF!=Feuil1!$A$2,Feuil1!$A$2,""),"") -> #REF! | C568: =IF(#REF!=Feuil1!C$1,IF(#REF!=Feuil1!$A$2,#REF!,""),"") -> #REF! | D568: =IF(#REF!=Feuil1!D$1,IF(#REF!=Feuil1!$A$2,#REF!,""),"") -> #REF! | E568: =IF(#REF!=Feuil1!E$1,IF(#REF!=Feuil1!$A$2,#REF!,""),"") -> #REF! | F568: =IF(#REF!=Feuil1!F$1,IF(#REF!=Feuil1!$A$2,#REF!,""),"") -> #REF!
... B570: =IF(#REF!=Feuil1!B$1,IF(#REF!=Feuil1!$A$2,Feuil1!$A$2,""),"") -> #REF! | C570: =IF(#REF!=Feuil1!C$1,IF(#REF!=Feuil1!$A$2,#REF!,""),"") -> #REF! | D570: =IF(#REF!=Feuil1!D$1,IF(#REF!=Feuil1!$A$2,#REF!,""),"") -> #REF! | E570: =IF(#REF!=Feuil1!E$1,IF(#REF!=Feuil1!$A$2,#REF!,""),"") -> #REF! | F570: =IF(#REF!=Feuil1!F$1,IF(#REF!=Feuil1!$A$2,#REF!,""),"") -> #REF!
B571: =IF(#REF!=Feuil1!B$1,IF(#REF!=Feuil1!$A$2,Feuil1!$A$2,""),"") -> #REF!
B572: =IF(#REF!=Feuil1!B$1,IF(#REF!=Feuil1!$A$2,Feuil1!$A$2,""),"") -> #REF!
B573: =IF(#REF!=Feuil1!B$1,IF(#REF!=Feuil1!$A$2,Feuil1!$A$2,""),"") -> #REF!
B574: =IF(#REF!=Feuil1!B$1,IF(#REF!=Feuil1!$A$2,Feuil1!$A$2,""),"") -> #REF!
B575: =IF(#REF!=Feuil1!B$1,IF(#REF!=Feuil1!$A$2,Feuil1!$A$2,""),"") -> #REF!
B576: =IF(#REF!=Feuil1!B$1,IF(#REF!=Feuil1!$A$2,Feuil1!$A$2,""),"") -> #REF!
B577: =IF(#REF!=Feuil1!B$1,IF(#REF!=Feuil1!$A$2,Feuil1!$A$2,""),"") -> #REF!
B578: =IF(#REF!=Feuil1!B$1,IF(#REF!=Feuil1!$A$2,Feuil1!$A$2,""),"") -> #REF!
B579: =IF(#REF!=Feuil1!B$1,IF(#REF!=Feuil1!$A$2,Feuil1!$A$2,""),"") -> #REF!
B580: =IF(#REF!=Feuil1!B$1,IF(#REF!=Feuil1!$A$3,Feuil1!$A$2,""),"") -> #REF!
