Workbook

Sheet Planning employés
A1: Employés | B1: Jour | C1: Unité
A2: Liliane | B2: jeudi | C2: U1
A3: Liliane | B3: jeudi | C3: Pédibus 1
A4: Liliane | B4: jeudi | C4: U3
A5: Liliane | B5: lundi | C5: U1
A6: Liliane | B6: lundi | C6: Pédibus 1
A7: Liliane | B7: lundi | C7: U3
A8: Liliane | B8: lundi | C8: U4
A9: Liliane | B9: mardi | C9: U1
A10: Liliane | B10: mardi | C10: Pédibus 1
A11: Liliane | B11: mardi | C11: U3
A12: Liliane | B12: mercredi | C12: U3
... A66: Sandy | B66: vendredi | C66: Préparation repas de midi (heures)

Sheet Planning par enfant
A1: Nom | B1: Jour | C1: Unité
A2: Tristan | B2: vendredi | C2: Pédibus 1
A3: Dimitri | B3: lundi | C3: Pédibus 1
A4: Joana | B4: jeudi | C4: Pédibus 1
A5: Joana | B5: vendredi | C5: Pédibus 1
A6: Rafael | B6: jeudi | C6: Pédibus 1
A7: Rafael | B7: vendredi | C7: Pédibus 1
A9: Maéva | B9: lundi | C9: Pédibus 2
A10: Maéva | B10: jeudi | C10: Pédibus 2
A11: Luca B | B11: jeudi | C11: Pédibus 2
A12: Théo B | B12: Jeudi | C12: Pédibus 2
A13: Lola | B13: lundi | C13: Pédibus 2
A14: Lola | B14: mardi | C14: Pédibus 2
A15: Florian | B15: lundi | C15: Pédibus 2 | E15: lundi et mardi - irrégulier
A16: Florian | B16: mardi | C16: Pédibus 2
A17: Maylis | B17: lundi | C17: Pédibus 2
A18: Maylis | B18: mardi | C18: Pédibus 2
A19: Maylis | B19: mercredi | C19: Pédibus 2
A20: Maylis | B20: jeudi | C20: Pédibus 2 | E20: lundi et mardi - irrégulier
A21: Maylis | B21: vendredi | C21: Pédibus 2
A22: Tristan | B22: mercredi | C22: Pédibus 2
A23: Tristan | B23: vendredi | C23: Pédibus 2
A24: Nicolas | B24: lundi | C24: Pédibus 2
A25: Nicolas | B25: mercredi | C25: Pédibus 2
A26: Nicolas | B26: jeudi | C26: Pédibus 2
A27: Amandine | B27: lundi | C27: Pédibus 2
A28: Amandine | B28: jeudi | C28: Pédibus 2
A29: Nathanaël | B29: lundi | C29: Pédibus 2
A30: Nathanaël | B30: jeudi | C30: Pédibus 2
A31: Baptiste | B31: lundi | C31: Pédibus 2
A32: Baptiste | B32: mercredi | C32: Pédibus 2
... A51: Nathan | B51: mercredi | C51: Pédibus 2
A52: Nathan | B52: jeudi | C52: Pédibus 2 | E52: irrégulier jeudi U5+U6
A53: Nathan | B53: vendredi | C53: Pédibus 2
A54: Eve | B54: lundi | C54: Pédibus 2
A55: Tilouhan | B55: Jeudi | C55: Pédibus 2
A56: Elinoé | B56: Jeudi | C56: Pédibus 2
A57: Joana | B57: jeudi | C57: Pédibus 2
A58: Joana | B58: vendredi | C58: Pédibus 2
A59: Rafael | B59: jeudi | C59: Pédibus 2
...

Sheet Planning hebdo
A1: 2013/2014 | B1: Semaine n° | G1: 34 | L1: 41275
H2: en plus
A3: jours fériés et vacances ??? | H3: ne vient pas
H4: part +vite
H5: congé/férié
B6: horaire | D6: durée indicative | E6: durée indicative en cent. | F6: No code | G6: Lundi | H6: Mardi | I6: Mercredi | J6: Jeudi | K6: Vendredi
G7: =(L1+((G1-1)*7))-((WEEKDAY((L1+((G1-1)*7)),2))-1) -> 41505 | H7: =G7+1 -> 41506 | I7: =H7+1 -> 41507 | J7: =I7+1 -> 41508 | K7: =J7+1 -> 41509
A8: Unité 1 - personnel | B8: 0.27083333 | C8: 0.32638889 | D8: 0.055555556 | E8: 1.34 | F8: 401
A9: U1
A19: Pédibus matin - personnel | D19: 0.010416667 | E19: 0.2 | F19: 410
A20: Pédibus 1
A30: Unité 2 - personnel | B30: 0.32638889 | C30: 0.47569444 | D30: 0.14930556 | E30: 3.59 | F30: 402
A31: U2
A39: Pédibus avant midi personnel | D39: 0.010416667 | E39: 0.2 | F39: 410
A40: Pédibus 2
A49: Préparation repas de midi (heures) | F49: 440
A50: U3
A51: Repas pris à l'accueil
A62: Unité 3 - personnel | B62: 0.47569444 | C62: 0.55555556 | D62: 0.079861111 | E62: 1.92 | F62: 403
A63: U3
A73: Pédibus après-midi - pers. | D73: 0.010416667 | E73: 0.2 | F73: 410
A74: Pédibus 3
A84: Unité 4 | B84: 0.55555556 | C84: 0.625 | D84: 0.069444444 | E84: 1.67 | F84: 404
A85: U4
A94: Pédibus fin de l'école - personnel | D94: 0.010416667 | E94: 0.2 | F94: 410
A95: Pédibus 4
A105: Unité 5 - personnel | B105: 0.625 | C105: 0.6875 | D105: 0.0625 | E105: 1.5 | F105: 405
A106: U5
A114: Unité 6 - personnel | B114: 0.6875 | C114: 0.77083333 | D114: 0.083333333 | E114: 2 | F114: 406
A115: U6
A125: Devoirs accompagnés - personnel si autre que U6 | F125: 420
A126: DA
A143: Administration | F143: 430

Sheet Feuil1
B1: lundi | C1: mardi | D1: mercredi | E1: jeudi | F1: vendredi
A2: U1 | B2: =IF('Planning par enfant'!$B2=Feuil1!B$1,IF('Planning par enfant'!$C2=Feuil1!$A$2,'Planning par enfant'!$A2,""),"") | C2: =IF('Planning par enfant'!$B2=Feuil1!C$1,IF('Planning par enfant'!$C2=Feuil1!$A$2,'Planning par enfant'!$A2,""),"") | D2: =IF('Planning par enfant'!$B2=Feuil1!D$1,IF('Planning par enfant'!$C2=Feuil1!$A$2,'Planning par enfant'!$A2,""),"") | E2: =IF('Planning par enfant'!$B2=Feuil1!E$1,IF('Planning par enfant'!$C2=Feuil1!$A$2,'Planning par enfant'!$A2,""),"") | F2: =IF('Planning par enfant'!$B2=Feuil1!F$1,IF('Planning par enfant'!$C2=Feuil1!$A$2,'Planning par enfant'!$A2,""),"")
B3: =IF('Planning par enfant'!$B3=Feuil1!B$1,IF('Planning par enfant'!$C3=Feuil1!$A$2,'Planning par enfant'!$A3,""),"") | C3: =IF('Planning par enfant'!$B3=Feuil1!C$1,IF('Planning par enfant'!$C3=Feuil1!$A$2,'Planning par enfant'!$A3,""),"") | D3: =IF('Planning par enfant'!$B3=Feuil1!D$1,IF('Planning par enfant'!$C3=Feuil1!$A$2,'Planning par enfant'!$A3,""),"") | E3: =IF('Planning par enfant'!$B3=Feuil1!E$1,IF('Planning par enfant'!$C3=Feuil1!$A$2,'Planning par enfant'!$A3,""),"") | F3: =IF('Planning par enfant'!$B3=Feuil1!F$1,IF('Planning par enfant'!$C3=Feuil1!$A$2,'Planning par enfant'!$A3,""),"")
B4: =IF('Planning par enfant'!$B4=Feuil1!B$1,IF('Planning par enfant'!$C4=Feuil1!$A$2,'Planning par enfant'!$A4,""),"") | C4: =IF('Planning par enfant'!$B4=Feuil1!C$1,IF('Planning par enfant'!$C4=Feuil1!$A$2,'Planning par enfant'!$A4,""),"") | D4: =IF('Planning par enfant'!$B4=Feuil1!D$1,IF('Planning par enfant'!$C4=Feuil1!$A$2,'Planning par enfant'!$A4,""),"") | E4: =IF('Planning par enfant'!$B4=Feuil1!E$1,IF('Planning par enfant'!$C4=Feuil1!$A$2,'Planning par enfant'!$A4,""),"") | F4: =IF('Planning par enfant'!$B4=Feuil1!F$1,IF('Planning par enfant'!$C4=Feuil1!$A$2,'Planning par enfant'!$A4,""),"")
B5: =IF('Planning par enfant'!$B5=Feuil1!B$1,IF('Planning par enfant'!$C5=Feuil1!$A$2,'Planning par enfant'!$A5,""),"") | C5: =IF('Planning par enfant'!$B5=Feuil1!C$1,IF('Planning par enfant'!$C5=Feuil1!$A$2,'Planning par enfant'!$A5,""),"") | D5: =IF('Planning par enfant'!$B5=Feuil1!D$1,IF('Planning par enfant'!$C5=Feuil1!$A$2,'Planning par enfant'!$A5,""),"") | E5: =IF('Planning par enfant'!$B5=Feuil1!E$1,IF('Planning par enfant'!$C5=Feuil1!$A$2,'Planning par enfant'!$A5,""),"") | F5: =IF('Planning par enfant'!$B5=Feuil1!F$1,IF('Planning par enfant'!$C5=Feuil1!$A$2,'Planning par enfant'!$A5,""),"")
B6: =IF('Planning par enfant'!$B6=Feuil1!B$1,IF('Planning par enfant'!$C6=Feuil1!$A$2,'Planning par enfant'!$A6,""),"") | C6: =IF('Planning par enfant'!$B6=Feuil1!C$1,IF('Planning par enfant'!$C6=Feuil1!$A$2,'Planning par enfant'!$A6,""),"") | D6: =IF('Planning par enfant'!$B6=Feuil1!D$1,IF('Planning par enfant'!$C6=Feuil1!$A$2,'Planning par enfant'!$A6,""),"") | E6: =IF('Planning par enfant'!$B6=Feuil1!E$1,IF('Planning par enfant'!$C6=Feuil1!$A$2,'Planning par enfant'!$A6,""),"") | F6: =IF('Planning par enfant'!$B6=Feuil1!F$1,IF('Planning par enfant'!$C6=Feuil1!$A$2,'Planning par enfant'!$A6,""),"")
B7: =IF('Planning par enfant'!$B7=Feuil1!B$1,IF('Planning par enfant'!$C7=Feuil1!$A$2,'Planning par enfant'!$A7,""),"") | C7: =IF('Planning par enfant'!$B7=Feuil1!C$1,IF('Planning par enfant'!$C7=Feuil1!$A$2,'Planning par enfant'!$A7,""),"") | D7: =IF('Planning par enfant'!$B7=Feuil1!D$1,IF('Planning par enfant'!$C7=Feuil1!$A$2,'Planning par enfant'!$A7,""),"") | E7: =IF('Planning par enfant'!$B7=Feuil1!E$1,IF('Planning par enfant'!$C7=Feuil1!$A$2,'Planning par enfant'!$A7,""),"") | F7: =IF('Planning par enfant'!$B7=Feuil1!F$1,IF('Planning par enfant'!$C7=Feuil1!$A$2,'Planning par enfant'!$A7,""),"")
B8: =IF('Planning par enfant'!$B9=Feuil1!B$1,IF('Planning par enfant'!$C9=Feuil1!$A$2,'Planning par enfant'!$A9,""),"") | C8: =IF('Planning par enfant'!$B9=Feuil1!C$1,IF('Planning par enfant'!$C9=Feuil1!$A$2,'Planning par enfant'!$A9,""),"") | D8: =IF('Planning par enfant'!$B9=Feuil1!D$1,IF('Planning par enfant'!$C9=Feuil1!$A$2,'Planning par enfant'!$A9,""),"") | E8: =IF('Planning par enfant'!$B9=Feuil1!E$1,IF('Planning par enfant'!$C9=Feuil1!$A$2,'Planning par enfant'!$A9,""),"") | F8: =IF('Planning par enfant'!$B9=Feuil1!F$1,IF('Planning par enfant'!$C9=Feuil1!$A$2,'Planning par enfant'!$A9,""),"")
B9: =IF('Planning par enfant'!$B10=Feuil1!B$1,IF('Planning par enfant'!$C10=Feuil1!$A$2,'Planning par enfant'!$A10,""),"") | C9: =IF('Planning par enfant'!$B10=Feuil1!C$1,IF('Planning par enfant'!$C10=Feuil1!$A$2,'Planning par enfant'!$A10,""),"") | E9: =IF('Planning par enfant'!$B10=Feuil1!E$1,IF('Planning par enfant'!$C10=Feuil1!$A$2,'Planning par enfant'!$A10,""),"") | F9: =IF('Planning par enfant'!$B10=Feuil1!F$1,IF('Planning par enfant'!$C10=Feuil1!$A$2,'Planning par enfant'!$A10,""),"")
B10: =IF('Planning par enfant'!$B11=Feuil1!B$1,IF('Planning par enfant'!$C11=Feuil1!$A$2,'Planning par enfant'!$A11,""),"") | C10: =IF('Planning par enfant'!$B11=Feuil1!C$1,IF('Planning par enfant'!$C11=Feuil1!$A$2,'Planning par enfant'!$A11,""),"") | D10: =IF('Planning par enfant'!$B11=Feuil1!D$1,IF('Planning par enfant'!$C11=Feuil1!$A$2,'Planning par enfant'!$A11,""),"") | E10: =IF('Planning par enfant'!$B11=Feuil1!E$1,IF('Planning par enfant'!$C11=Feuil1!$A$2,'Planning par enfant'!$A11,""),"") | F10: =IF('Planning par enfant'!$B11=Feuil1!F$1,IF('Planning par enfant'!$C11=Feuil1!$A$2,'Planning par enfant'!$A11,""),"")
B11: =IF('Planning par enfant'!$B12=Feuil1!B$1,IF('Planning par enfant'!$C12=Feuil1!$A$2,'Planning par enfant'!$A12,""),"") | C11: =IF('Planning par enfant'!$B12=Feuil1!C$1,IF('Planning par enfant'!$C12=Feuil1!$A$2,'Planning par enfant'!$A12,""),"") | D11: =IF('Planning par enfant'!$B12=Feuil1!D$1,IF('Planning par enfant'!$C12=Feuil1!$A$2,'Planning par enfant'!$A12,""),"") | E11: =IF('Planning par enfant'!$B12=Feuil1!E$1,IF('Planning par enfant'!$C12=Feuil1!$A$2,'Planning par enfant'!$A12,""),"") | F11: =IF('Planning par enfant'!$B12=Feuil1!F$1,IF('Planning par enfant'!$C12=Feuil1!$A$2,'Planning par enfant'!$A12,""),"")
B12: =IF('Planning par enfant'!$B13=Feuil1!B$1,IF('Planning par enfant'!$C13=Feuil1!$A$2,'Planning par enfant'!$A13,""),"") | C12: =IF('Planning par enfant'!$B13=Feuil1!C$1,IF('Planning par enfant'!$C13=Feuil1!$A$2,'Planning par enfant'!$A13,""),"") | D12: =IF('Planning par enfant'!$B13=Feuil1!D$1,IF('Planning par enfant'!$C13=Feuil1!$A$2,'Planning par enfant'!$A13,""),"") | E12: =IF('Planning par enfant'!$B13=Feuil1!E$1,IF('Planning par enfant'!$C13=Feuil1!$A$2,'Planning par enfant'!$A13,""),"") | F12: =IF('Planning par enfant'!$B13=Feuil1!F$1,IF('Planning par enfant'!$C13=Feuil1!$A$2,'Planning par enfant'!$A13,""),"")
B13: =IF('Planning par enfant'!$B14=Feuil1!B$1,IF('Planning par enfant'!$C14=Feuil1!$A$2,'Planning par enfant'!$A14,""),"") | C13: =IF('Planning par enfant'!$B14=Feuil1!C$1,IF('Planning par enfant'!$C14=Feuil1!$A$2,'Planning par enfant'!$A14,""),"") | D13: =IF('Planning par enfant'!$B14=Feuil1!D$1,IF('Planning par enfant'!$C14=Feuil1!$A$2,'Planning par enfant'!$A14,""),"") | E13: =IF('Planning par enfant'!$B14=Feuil1!E$1,IF('Planning par enfant'!$C14=Feuil1!$A$2,'Planning par enfant'!$A14,""),"") | F13: =IF('Planning par enfant'!$B14=Feuil1!F$1,IF('Planning par enfant'!$C14=Feuil1!$A$2,'Planning par enfant'!$A14,""),"")
B14: =IF('Planning par enfant'!$B15=Feuil1!B$1,IF('Planning par enfant'!$C15=Feuil1!$A$2,'Planning par enfant'!$A15,""),"") | C14: =IF('Planning par enfant'!$B15=Feuil1!C$1,IF('Planning par enfant'!$C15=Feuil1!$A$2,'Planning par enfant'!$A15,""),"") | D14: =IF('Planning par enfant'!$B15=Feuil1!D$1,IF('Planning par enfant'!$C15=Feuil1!$A$2,'Planning par enfant'!$A15,""),"") | E14: =IF('Planning par enfant'!$B15=Feuil1!E$1,IF('Planning par enfant'!$C15=Feuil1!$A$2,'Planning par enfant'!$A15,""),"") | F14: =IF('Planning par enfant'!$B15=Feuil1!F$1,IF('Planning par enfant'!$C15=Feuil1!$A$2,'Planning par enfant'!$A15,""),"")
B15: =IF('Planning par enfant'!$B16=Feuil1!B$1,IF('Planning par enfant'!$C16=Feuil1!$A$2,'Planning par enfant'!$A16,""),"") | C15: =IF('Planning par enfant'!$B16=Feuil1!C$1,IF('Planning par enfant'!$C16=Feuil1!$A$2,'Planning par enfant'!$A16,""),"") | D15: =IF('Planning par enfant'!$B16=Feuil1!D$1,IF('Planning par enfant'!$C16=Feuil1!$A$2,'Planning par enfant'!$A16,""),"") | E15: =IF('Planning par enfant'!$B16=Feuil1!E$1,IF('Planning par enfant'!$C16=Feuil1!$A$2,'Planning par enfant'!$A16,""),"") | F15: =IF('Planning par enfant'!$B16=Feuil1!F$1,IF('Planning par enfant'!$C16=Feuil1!$A$2,'Planning par enfant'!$A16,""),"")
B16: =IF('Planning par enfant'!$B17=Feuil1!B$1,IF('Planning par enfant'!$C17=Feuil1!$A$2,'Planning par enfant'!$A17,""),"") | C16: =IF('Planning par enfant'!$B17=Feuil1!C$1,IF('Planning par enfant'!$C17=Feuil1!$A$2,'Planning par enfant'!$A17,""),"") | D16: =IF('Planning par enfant'!$B17=Feuil1!D$1,IF('Planning par enfant'!$C17=Feuil1!$A$2,'Planning par enfant'!$A17,""),"") | E16: =IF('Planning par enfant'!$B17=Feuil1!E$1,IF('Planning par enfant'!$C17=Feuil1!$A$2,'Planning par enfant'!$A17,""),"") | F16: =IF('Planning par enfant'!$B17=Feuil1!F$1,IF('Planning par enfant'!$C17=Feuil1!$A$2,'Planning par enfant'!$A17,""),"")
B17: =IF('Planning par enfant'!$B18=Feuil1!B$1,IF('Planning par enfant'!$C18=Feuil1!$A$2,'Planning par enfant'!$A18,""),"") | C17: =IF('Planning par enfant'!$B18=Feuil1!C$1,IF('Planning par enfant'!$C18=Feuil1!$A$2,'Planning par enfant'!$A18,""),"") | D17: =IF('Planning par enfant'!$B18=Feuil1!D$1,IF('Planning par enfant'!$C18=Feuil1!$A$2,'Planning par enfant'!$A18,""),"") | E17: =IF('Planning par enfant'!$B18=Feuil1!E$1,IF('Planning par enfant'!$C18=Feuil1!$A$2,'Planning par enfant'!$A18,""),"") | F17: =IF('Planning par enfant'!$B18=Feuil1!F$1,IF('Planning par enfant'!$C18=Feuil1!$A$2,'Planning par enfant'!$A18,""),"")
B18: =IF('Planning par enfant'!$B19=Feuil1!B$1,IF('Planning par enfant'!$C19=Feuil1!$A$2,'Planning par enfant'!$A19,""),"") | C18: =IF('Planning par enfant'!$B19=Feuil1!C$1,IF('Planning par enfant'!$C19=Feuil1!$A$2,'Planning par enfant'!$A19,""),"") | D18: =IF('Planning par enfant'!$B19=Feuil1!D$1,IF('Planning par enfant'!$C19=Feuil1!$A$2,'Planning par enfant'!$A19,""),"") | E18: =IF('Planning par enfant'!$B19=Feuil1!E$1,IF('Planning par enfant'!$C19=Feuil1!$A$2,'Planning par enfant'!$A19,""),"") | F18: =IF('Planning par enfant'!$B19=Feuil1!F$1,IF('Planning par enfant'!$C19=Feuil1!$A$2,'Planning par enfant'!$A19,""),"")
B19: =IF('Planning par enfant'!$B20=Feuil1!B$1,IF('Planning par enfant'!$C20=Feuil1!$A$2,'Planning par enfant'!$A20,""),"") | C19: =IF('Planning par enfant'!$B20=Feuil1!C$1,IF('Planning par enfant'!$C20=Feuil1!$A$2,'Planning par enfant'!$A20,""),"") | D19: =IF('Planning par enfant'!$B20=Feuil1!D$1,IF('Planning par enfant'!$C20=Feuil1!$A$2,'Planning par enfant'!$A20,""),"") | E19: =IF('Planning par enfant'!$B20=Feuil1!E$1,IF('Planning par enfant'!$C20=Feuil1!$A$2,'Planning par enfant'!$A20,""),"") | F19: =IF('Planning par enfant'!$B20=Feuil1!F$1,IF('Planning par enfant'!$C20=Feuil1!$A$2,'Planning par enfant'!$A20,""),"")
B20: =IF('Planning par enfant'!$B21=Feuil1!B$1,IF('Planning par enfant'!$C21=Feuil1!$A$2,'Planning par enfant'!$A21,""),"") | C20: =IF('Planning par enfant'!$B21=Feuil1!C$1,IF('Planning par enfant'!$C21=Feuil1!$A$2,'Planning par enfant'!$A21,""),"") | D20: =IF('Planning par enfant'!$B21=Feuil1!D$1,IF('Planning par enfant'!$C21=Feuil1!$A$2,'Planning par enfant'!$A21,""),"") | E20: =IF('Planning par enfant'!$B21=Feuil1!E$1,IF('Planning par enfant'!$C21=Feuil1!$A$2,'Planning par enfant'!$A21,""),"") | F20: =IF('Planning par enfant'!$B21=Feuil1!F$1,IF('Planning par enfant'!$C21=Feuil1!$A$2,'Planning par enfant'!$A21,""),"")
B21: =IF('Planning par enfant'!$B22=Feuil1!B$1,IF('Planning par enfant'!$C22=Feuil1!$A$2,'Planning par enfant'!$A22,""),"") | C21: =IF('Planning par enfant'!$B22=Feuil1!C$1,IF('Planning par enfant'!$C22=Feuil1!$A$2,'Planning par enfant'!$A22,""),"") | D21: =IF('Planning par enfant'!$B22=Feuil1!D$1,IF('Planning par enfant'!$C22=Feuil1!$A$2,'Planning par enfant'!$A22,""),"") | E21: =IF('Planning par enfant'!$B22=Feuil1!E$1,IF('Planning par enfant'!$C22=Feuil1!$A$2,'Planning par enfant'!$A22,""),"") | F21: =IF('Planning par enfant'!$B22=Feuil1!F$1,IF('Planning par enfant'!$C22=Feuil1!$A$2,'Planning par enfant'!$A22,""),"")
... B59: =IF('Planning par enfant'!$B60=Feuil1!B$1,IF('Planning par enfant'!$C60=Feuil1!$A$2,'Planning par enfant'!$A60,""),"") | C59: =IF('Planning par enfant'!$B60=Feuil1!C$1,IF('Planning par enfant'!$C60=Feuil1!$A$2,'Planning par enfant'!$A60,""),"") | D59: =IF('Planning par enfant'!$B60=Feuil1!D$1,IF('Planning par enfant'!$C60=Feuil1!$A$2,'Planning par enfant'!$A60,""),"") | E59: =IF('Planning par enfant'!$B60=Feuil1!E$1,IF('Planning par enfant'!$C60=Feuil1!$A$2,'Planning par enfant'!$A60,""),"") | F59: =IF('Planning par enfant'!$B60=Feuil1!F$1,IF('Planning par enfant'!$C60=Feuil1!$A$2,'Planning par enfant'!$A60,""),"")
B60: =IF('Planning par enfant'!$B62=Feuil1!B$1,IF('Planning par enfant'!$C62=Feuil1!$A$2,'Planning par enfant'!$A62,""),"") | C60: =IF('Planning par enfant'!$B62=Feuil1!C$1,IF('Planning par enfant'!$C62=Feuil1!$A$2,'Planning par enfant'!$A62,""),"") | D60: =IF('Planning par enfant'!$B62=Feuil1!D$1,IF('Planning par enfant'!$C62=Feuil1!$A$2,'Planning par enfant'!$A62,""),"") | E60: =IF('Planning par enfant'!$B62=Feuil1!E$1,IF('Planning par enfant'!$C62=Feuil1!$A$2,'Planning par enfant'!$A62,""),"") | F60: =IF('Planning par enfant'!$B62=Feuil1!F$1,IF('Planning par enfant'!$C62=Feuil1!$A$2,'Planning par enfant'!$A62,""),"")
B61: =IF('Planning par enfant'!$B63=Feuil1!B$1,IF('Planning par enfant'!$C63=Feuil1!$A$2,'Planning par enfant'!$A63,""),"") | C61: =IF('Planning par enfant'!$B63=Feuil1!C$1,IF('Planning par enfant'!$C63=Feuil1!$A$2,'Planning par enfant'!$A63,""),"") | D61: =IF('Planning par enfant'!$B63=Feuil1!D$1,IF('Planning par enfant'!$C63=Feuil1!$A$2,'Planning par enfant'!$A63,""),"") | E61: =IF('Planning par enfant'!$B63=Feuil1!E$1,IF('Planning par enfant'!$C63=Feuil1!$A$2,'Planning par enfant'!$A63,""),"") | F61: =IF('Planning par enfant'!$B63=Feuil1!F$1,IF('Planning par enfant'!$C63=Feuil1!$A$2,'Planning par enfant'!$A63,""),"")
B62: =IF('Planning par enfant'!$B64=Feuil1!B$1,IF('Planning par enfant'!$C64=Feuil1!$A$2,'Planning par enfant'!$A64,""),"") | C62: =IF('Planning par enfant'!$B64=Feuil1!C$1,IF('Planning par enfant'!$C64=Feuil1!$A$2,'Planning par enfant'!$A64,""),"") | D62: =IF('Planning par enfant'!$B64=Feuil1!D$1,IF('Planning par enfant'!$C64=Feuil1!$A$2,'Planning par enfant'!$A64,""),"") | E62: =IF('Planning par enfant'!$B64=Feuil1!E$1,IF('Planning par enfant'!$C64=Feuil1!$A$2,'Planning par enfant'!$A64,""),"") | F62: =IF('Planning par enfant'!$B64=Feuil1!F$1,IF('Planning par enfant'!$C64=Feuil1!$A$2,'Planning par enfant'!$A64,""),"")
B63: =IF('Planning par enfant'!$B65=Feuil1!B$1,IF('Planning par enfant'!$C65=Feuil1!$A$2,'Planning par enfant'!$A65,""),"") | C63: =IF('Planning par enfant'!$B65=Feuil1!C$1,IF('Planning par enfant'!$C65=Feuil1!$A$2,'Planning par enfant'!$A65,""),"") | D63: =IF('Planning par enfant'!$B65=Feuil1!D$1,IF('Planning par enfant'!$C65=Feuil1!$A$2,'Planning par enfant'!$A65,""),"") | E63: =IF('Planning par enfant'!$B65=Feuil1!E$1,IF('Planning par enfant'!$C65=Feuil1!$A$2,'Planning par enfant'!$A65,""),"") | F63: =IF('Planning par enfant'!$B65=Feuil1!F$1,IF('Planning par enfant'!$C65=Feuil1!$A$2,'Planning par enfant'!$A65,""),"")
B64: =IF('Planning par enfant'!$B66=Feuil1!B$1,IF('Planning par enfant'!$C66=Feuil1!$A$2,'Planning par enfant'!$A66,""),"") | C64: =IF('Planning par enfant'!$B66=Feuil1!C$1,IF('Planning par enfant'!$C66=Feuil1!$A$2,'Planning par enfant'!$A66,""),"") | D64: =IF('Planning par enfant'!$B66=Feuil1!D$1,IF('Planning par enfant'!$C66=Feuil1!$A$2,'Planning par enfant'!$A66,""),"") | E64: =IF('Planning par enfant'!$B66=Feuil1!E$1,IF('Planning par enfant'!$C66=Feuil1!$A$2,'Planning par enfant'!$A66,""),"") | F64: =IF('Planning par enfant'!$B66=Feuil1!F$1,IF('Planning par enfant'!$C66=Feuil1!$A$2,'Planning par enfant'!$A66,""),"")
B65: =IF('Planning par enfant'!$B67=Feuil1!B$1,IF('Planning par enfant'!$C67=Feuil1!$A$2,'Planning par enfant'!$A67,""),"") | C65: =IF('Planning par enfant'!$B67=Feuil1!C$1,IF('Planning par enfant'!$C67=Feuil1!$A$2,'Planning par enfant'!$A67,""),"") | D65: =IF('Planning par enfant'!$B67=Feuil1!D$1,IF('Planning par enfant'!$C67=Feuil1!$A$2,'Planning par enfant'!$A67,""),"") | E65: =IF('Planning par enfant'!$B67=Feuil1!E$1,IF('Planning par enfant'!$C67=Feuil1!$A$2,'Planning par enfant'!$A67,""),"") | F65: =IF('Planning par enfant'!$B67=Feuil1!F$1,IF('Planning par enfant'!$C67=Feuil1!$A$2,'Planning par enfant'!$A67,""),"")
B66: =IF('Planning par enfant'!$B68=Feuil1!B$1,IF('Planning par enfant'!$C68=Feuil1!$A$2,'Planning par enfant'!$A68,""),"") | C66: =IF('Planning par enfant'!$B68=Feuil1!C$1,IF('Planning par enfant'!$C68=Feuil1!$A$2,'Planning par enfant'!$A68,""),"") | D66: =IF('Planning par enfant'!$B68=Feuil1!D$1,IF('Planning par enfant'!$C68=Feuil1!$A$2,'Planning par enfant'!$A68,""),"") | E66: =IF('Planning par enfant'!$B68=Feuil1!E$1,IF('Planning par enfant'!$C68=Feuil1!$A$2,'Planning par enfant'!$A68,""),"") | F66: =IF('Planning par enfant'!$B68=Feuil1!F$1,IF('Planning par enfant'!$C68=Feuil1!$A$2,'Planning par enfant'!$A68,""),"")
B67: =IF('Planning par enfant'!$B69=Feuil1!B$1,IF('Planning par enfant'!$C69=Feuil1!$A$2,'Planning par enfant'!$A69,""),"") | C67: =IF('Planning par enfant'!$B69=Feuil1!C$1,IF('Planning par enfant'!$C69=Feuil1!$A$2,'Planning par enfant'!$A69,""),"") | D67: =IF('Planning par enfant'!$B69=Feuil1!D$1,IF('Planning par enfant'!$C69=Feuil1!$A$2,'Planning par enfant'!$A69,""),"") | E67: =IF('Planning par enfant'!$B69=Feuil1!E$1,IF('Planning par enfant'!$C69=Feuil1!$A$2,'Planning par enfant'!$A69,""),"") | F67: =IF('Planning par enfant'!$B69=Feuil1!F$1,IF('Planning par enfant'!$C69=Feuil1!$A$2,'Planning par enfant'!$A69,""),"")
B68: =IF('Planning par enfant'!$B70=Feuil1!B$1,IF('Planning par enfant'!$C70=Feuil1!$A$2,'Planning par enfant'!$A70,""),"") | C68: =IF('Planning par enfant'!$B70=Feuil1!C$1,IF('Planning par enfant'!$C70=Feuil1!$A$2,'Planning par enfant'!$A70,""),"") | D68: =IF('Planning par enfant'!$B70=Feuil1!D$1,IF('Planning par enfant'!$C70=Feuil1!$A$2,'Planning par enfant'!$A70,""),"") | E68: =IF('Planning par enfant'!$B70=Feuil1!E$1,IF('Planning par enfant'!$C70=Feuil1!$A$2,'Planning par enfant'!$A70,""),"") | F68: =IF('Planning par enfant'!$B70=Feuil1!F$1,IF('Planning par enfant'!$C70=Feuil1!$A$2,'Planning par enfant'!$A70,""),"")
B69: =IF('Planning par enfant'!$B71=Feuil1!B$1,IF('Planning par enfant'!$C71=Feuil1!$A$2,'Planning par enfant'!$A71,""),"") | C69: =IF('Planning par enfant'!$B71=Feuil1!C$1,IF('Planning par enfant'!$C71=Feuil1!$A$2,'Planning par enfant'!$A71,""),"") | D69: =IF('Planning par enfant'!$B71=Feuil1!D$1,IF('Planning par enfant'!$C71=Feuil1!$A$2,'Planning par enfant'!$A71,""),"") | E69: =IF('Planning par enfant'!$B71=Feuil1!E$1,IF('Planning par enfant'!$C71=Feuil1!$A$2,'Planning par enfant'!$A71,""),"") | F69: =IF('Planning par enfant'!$B71=Feuil1!F$1,IF('Planning par enfant'!$C71=Feuil1!$A$2,'Planning par enfant'!$A71,""),"")
B70: =IF('Planning par enfant'!$B72=Feuil1!B$1,IF('Planning par enfant'!$C72=Feuil1!$A$2,'Planning par enfant'!$A72,""),"") | C70: =IF('Planning par enfant'!$B72=Feuil1!C$1,IF('Planning par enfant'!$C72=Feuil1!$A$2,'Planning par enfant'!$A72,""),"") | D70: =IF('Planning par enfant'!$B72=Feuil1!D$1,IF('Planning par enfant'!$C72=Feuil1!$A$2,'Planning par enfant'!$A72,""),"") | E70: =IF('Planning par enfant'!$B72=Feuil1!E$1,IF('Planning par enfant'!$C72=Feuil1!$A$2,'Planning par enfant'!$A72,""),"") | F70: =IF('Planning par enfant'!$B72=Feuil1!F$1,IF('Planning par enfant'!$C72=Feuil1!$A$2,'Planning par enfant'!$A72,""),"")
B71: =IF('Planning par enfant'!$B73=Feuil1!B$1,IF('Planning par enfant'!$C73=Feuil1!$A$2,'Planning par enfant'!$A73,""),"") | C71: =IF('Planning par enfant'!$B73=Feuil1!C$1,IF('Planning par enfant'!$C73=Feuil1!$A$2,'Planning par enfant'!$A73,""),"") | D71: =IF('Planning par enfant'!$B73=Feuil1!D$1,IF('Planning par enfant'!$C73=Feuil1!$A$2,'Planning par enfant'!$A73,""),"") | E71: =IF('Planning par enfant'!$B73=Feuil1!E$1,IF('Planning par enfant'!$C73=Feuil1!$A$2,'Planning par enfant'!$A73,""),"") | F71: =IF('Planning par enfant'!$B73=Feuil1!F$1,IF('Planning par enfant'!$C73=Feuil1!$A$2,'Planning par enfant'!$A73,""),"")
... B106: =IF('Planning par enfant'!$B108=Feuil1!B$1,IF('Planning par enfant'!$C108=Feuil1!$A$2,'Planning par enfant'!$A108,""),"") | C106: =IF('Planning par enfant'!$B108=Feuil1!C$1,IF('Planning par enfant'!$C108=Feuil1!$A$2,'Planning par enfant'!$A108,""),"") | D106: =IF('Planning par enfant'!$B108=Feuil1!D$1,IF('Planning par enfant'!$C108=Feuil1!$A$2,'Planning par enfant'!$A108,""),"") | E106: =IF('Planning par enfant'!$B108=Feuil1!E$1,IF('Planning par enfant'!$C108=Feuil1!$A$2,'Planning par enfant'!$A108,""),"") | F106: =IF('Planning par enfant'!$B108=Feuil1!F$1,IF('Planning par enfant'!$C108=Feuil1!$A$2,'Planning par enfant'!$A108,""),"")
B107: =IF('Planning par enfant'!$B110=Feuil1!B$1,IF('Planning par enfant'!$C110=Feuil1!$A$2,'Planning par enfant'!$A110,""),"") | C107: =IF('Planning par enfant'!$B110=Feuil1!C$1,IF('Planning par enfant'!$C110=Feuil1!$A$2,'Planning par enfant'!$A110,""),"") | D107: =IF('Planning par enfant'!$B110=Feuil1!D$1,IF('Planning par enfant'!$C110=Feuil1!$A$2,'Planning par enfant'!$A110,""),"") | E107: =IF('Planning par enfant'!$B110=Feuil1!E$1,IF('Planning par enfant'!$C110=Feuil1!$A$2,'Planning par enfant'!$A110,""),"") | F107: =IF('Planning par enfant'!$B110=Feuil1!F$1,IF('Planning par enfant'!$C110=Feuil1!$A$2,'Planning par enfant'!$A110,""),"")
B108: =IF('Planning par enfant'!$B111=Feuil1!B$1,IF('Planning par enfant'!$C111=Feuil1!$A$2,'Planning par enfant'!$A111,""),"") | C108: =IF('Planning par enfant'!$B111=Feuil1!C$1,IF('Planning par enfant'!$C111=Feuil1!$A$2,'Planning par enfant'!$A111,""),"") | D108: =IF('Planning par enfant'!$B111=Feuil1!D$1,IF('Planning par enfant'!$C111=Feuil1!$A$2,'Planning par enfant'!$A111,""),"") | E108: =IF('Planning par enfant'!$B111=Feuil1!E$1,IF('Planning par enfant'!$C111=Feuil1!$A$2,'Planning par enfant'!$A111,""),"") | F108: =IF('Planning par enfant'!$B111=Feuil1!F$1,IF('Planning par enfant'!$C111=Feuil1!$A$2,'Planning par enfant'!$A111,""),"")
B109: =IF('Planning par enfant'!$B112=Feuil1!B$1,IF('Planning par enfant'!$C112=Feuil1!$A$2,'Planning par enfant'!$A112,""),"") | C109: =IF('Planning par enfant'!$B112=Feuil1!C$1,IF('Planning par enfant'!$C112=Feuil1!$A$2,'Planning par enfant'!$A112,""),"") | D109: =IF('Planning par enfant'!$B112=Feuil1!D$1,IF('Planning par enfant'!$C112=Feuil1!$A$2,'Planning par enfant'!$A112,""),"") | E109: =IF('Planning par enfant'!$B112=Feuil1!E$1,IF('Planning par enfant'!$C112=Feuil1!$A$2,'Planning par enfant'!$A112,""),"") | F109: =IF('Planning par enfant'!$B112=Feuil1!F$1,IF('Planning par enfant'!$C112=Feuil1!$A$2,'Planning par enfant'!$A112,""),"")
B110: =IF('Planning par enfant'!$B113=Feuil1!B$1,IF('Planning par enfant'!$C113=Feuil1!$A$2,'Planning par enfant'!$A113,""),"") | C110: =IF('Planning par enfant'!$B113=Feuil1!C$1,IF('Planning par enfant'!$C113=Feuil1!$A$2,'Planning par enfant'!$A113,""),"") | D110: =IF('Planning par enfant'!$B113=Feuil1!D$1,IF('Planning par enfant'!$C113=Feuil1!$A$2,'Planning par enfant'!$A113,""),"") | E110: =IF('Planning par enfant'!$B113=Feuil1!E$1,IF('Planning par enfant'!$C113=Feuil1!$A$2,'Planning par enfant'!$A113,""),"") | F110: =IF('Planning par enfant'!$B113=Feuil1!F$1,IF('Planning par enfant'!$C113=Feuil1!$A$2,'Planning par enfant'!$A113,""),"")
B111: =IF('Planning par enfant'!$B114=Feuil1!B$1,IF('Planning par enfant'!$C114=Feuil1!$A$2,'Planning par enfant'!$A114,""),"") | C111: =IF('Planning par enfant'!$B114=Feuil1!C$1,IF('Planning par enfant'!$C114=Feuil1!$A$2,'Planning par enfant'!$A114,""),"") | D111: =IF('Planning par enfant'!$B114=Feuil1!D$1,IF('Planning par enfant'!$C114=Feuil1!$A$2,'Planning par enfant'!$A114,""),"") | E111: =IF('Planning par enfant'!$B114=Feuil1!E$1,IF('Planning par enfant'!$C114=Feuil1!$A$2,'Planning par enfant'!$A114,""),"") | F111: =IF('Planning par enfant'!$B114=Feuil1!F$1,IF('Planning par enfant'!$C114=Feuil1!$A$2,'Planning par enfant'!$A114,""),"")
...
