Workbook
Name Listeannees: [1]!Tableau1[ANNÉES]
Name Listeannes: [1]!Tableau1[ANNÉES]
Name Listeannes: [1]!Tableau1[ANNÉES]

Sheet COUTMECA
D2: COÛT DE LA MÉCANISTION PAR BATIMENT | T2: COÛT DU MATERIEL MENSUEL | AM2: QUANTITÉ MATERIEL MENSUELLE
G4: Mois | H4: Année | AM4: Année : | AN4: 2025
F5: Date de référence : | G5: 1 | H5: 2025
D7: BATIMENT | E7: CATÉGORIE | F7: =EOMONTH(DATE(H5,G5,1),0) -> 45688 | G7: =EOMONTH(F7,1) -> 45716 | H7: =EOMONTH(F7,2) -> 45747 | I7: =EOMONTH(F7,3) -> 45777 | J7: =EOMONTH(F7,4) -> 45808 | K7: =EOMONTH($F$7,5) -> 45838 | L7: =EOMONTH($F$7,6) -> 45869 | M7: =EOMONTH($F$7,7) -> 45900 | N7: =EOMONTH($F$7,8) -> 45930 | O7: =EOMONTH($F$7,9) -> 45961 | P7: =EOMONTH($F$7,10) -> 45991 | Q7: =EOMONTH($F$7,11) -> 46022 | AP7: =YEAR(AP8) -> 2024 | AR7: =YEAR(AR8) -> 2024 | AT7: =YEAR(AT8) -> 2024 | AV7: =YEAR(AV8) -> 2024 | AX7: =YEAR(AX8) -> 2024 | AZ7: =YEAR(AZ8) -> 2024 | BB7: =YEAR(BB8) -> 2024 | BD7: =YEAR(BD8) -> 2024 | BF7: =YEAR(BF8) -> 2024 | BH7: =YEAR(BH8) -> 2024 | BJ7: =YEAR(BJ8) -> 2024 | BL7: =YEAR(BL8) -> 2024 | BN7: =YEAR(BN8) -> 2025 | BP7: =YEAR(BP8) -> 2025 | BR7: =YEAR(BR8) -> 2025 | BT7: =YEAR(BT8) -> 2025 | BV7: =YEAR(BV8) -> 2025 | BX7: =YEAR(BX8) -> 2025 | BZ7: =YEAR(BZ8) -> 2025 | CB7: =YEAR(CB8) -> 2025 | CD7: =YEAR(CD8) -> 2025 | CF7: =YEAR(CF8) -> 2025 | CH7: =YEAR(CH8) -> 2025 | CJ7: =YEAR(CJ8) -> 2025 | CL7: =YEAR(CL8) -> 2026 | CN7: =YEAR(CN8) -> 2026 | CP7: =YEAR(CP8) -> 2026 | CR7: =YEAR(CR8) -> 2026 | CT7: =YEAR(CT8) -> 2026 | CV7: =YEAR(CV8) -> 2026 | CX7: =YEAR(CX8) -> 2026 | CZ7: =YEAR(CZ8) -> 2026 | DB7: =YEAR(DB8) -> 2026 | DD7: =YEAR(DD8) -> 2026 | DF7: =YEAR(DF8) -> 2026 | DH7: =YEAR(DH8) -> 2026 | DJ7: =YEAR(DJ8) -> 2027 | DL7: =YEAR(DL8) -> 2027 | DN7: =YEAR(DN8) -> 2027 | DP7: =YEAR(DP8) -> 2027 | DR7: =YEAR(DR8) -> 2027 | DT7: =YEAR(DT8) -> 2027 | DV7: =YEAR(DV8) -> 2027 | DX7: =YEAR(DX8) -> 2027 | DZ7: =YEAR(DZ8) -> 2027 | EB7: =YEAR(EB8) -> 2027 | ED7: =YEAR(ED8) -> 2027 | EF7: =YEAR(EF8) -> 2027 | EH7: =YEAR(EH8) -> 2028 | EJ7: =YEAR(EJ8) -> 2028 | EL7: =YEAR(EL8) -> 2028 | EN7: =YEAR(EN8) -> 2028 | EP7: =YEAR(EP8) -> 2028 | ER7: =YEAR(ER8) -> 2028 | ET7: =YEAR(ET8) -> 2028 | EV7: =YEAR(EV8) -> 2028 | EX7: =YEAR(EX8) -> 2028 | EZ7: =YEAR(EZ8) -> 2028 | FB7: =YEAR(FB8) -> 2028 | FD7: =YEAR(FD8) -> 2028 | FF7: =YEAR(FF8) -> 2029 | FH7: =YEAR(FH8) -> 2029 | FJ7: =YEAR(FJ8) -> 2029 | FL7: =YEAR(FL8) -> 2029 | FN7: =YEAR(FN8) -> 2029 | FP7: =YEAR(FP8) -> 2029 | FR7: =YEAR(FR8) -> 2029 | FT7: =YEAR(FT8) -> 2029 | FV7: =YEAR(FV8) -> 2029 | FX7: =YEAR(FX8) -> 2029 | FZ7: =YEAR(FZ8) -> 2029 | GB7: =YEAR(GB8) -> 2029 | GD7: =YEAR(GD8) -> 2030 | GF7: =YEAR(GF8) -> 2030 | GH7: =YEAR(GH8) -> 2030 | GJ7: =YEAR(GJ8) -> 2030 | GL7: =YEAR(GL8) -> 2030 | GN7: =YEAR(GN8) -> 2030 | GP7: =YEAR(GP8) -> 2030 | GR7: =YEAR(GR8) -> 2030 | GT7: =YEAR(GT8) -> 2030 | GV7: =YEAR(GV8) -> 2030 | GX7: =YEAR(GX8) -> 2030 | GZ7: =YEAR(GZ8) -> 2030 | HB7: =YEAR(HB8) -> 2031 | HD7: =YEAR(HD8) -> 2031 | HF7: =YEAR(HF8) -> 2031 | HH7: =YEAR(HH8) -> 2031 | HJ7: =YEAR(HJ8) -> 2031 | HL7: =YEAR(HL8) -> 2031 | HN7: =YEAR(HN8) -> 2031 | HP7: =YEAR(HP8) -> 2031 | HR7: =YEAR(HR8) -> 2031 | HT7: =YEAR(HT8) -> 2031 | HV7: =YEAR(HV8) -> 2031 | HX7: =YEAR(HX8) -> 2031 | HZ7: =YEAR(HZ8) -> 2032 | IB7: =YEAR(IB8) -> 2032 | ID7: =YEAR(ID8) -> 2032 | IF7: =YEAR(IF8) -> 2032 | IH7: =YEAR(IH8) -> 2032 | IJ7: =YEAR(IJ8) -> 2032 | IL7: =YEAR(IL8) -> 2032 | IN7: =YEAR(IN8) -> 2032 | IP7: =YEAR(IP8) -> 2032 | IR7: =YEAR(IR8) -> 2032 | IT7: =YEAR(IT8) -> 2032 | IV7: =YEAR(IV8) -> 2032 | IX7: =YEAR(IX8) -> 2033 | IZ7: =YEAR(IZ8) -> 2033 | JB7: =YEAR(JB8) -> 2033 | JD7: =YEAR(JD8) -> 2033 | JF7: =YEAR(JF8) -> 2033 | JH7: =YEAR(JH8) -> 2033 | JJ7: =YEAR(JJ8) -> 2033 | JL7: =YEAR(JL8) -> 2033 | JN7: =YEAR(JN8) -> 2033 | JP7: =YEAR(JP8) -> 2033 | JR7: =YEAR(JR8) -> 2033 | JT7: =YEAR(JT8) -> 2033 | JV7: =YEAR(JV8) -> 2034 | JX7: =YEAR(JX8) -> 2034 | JZ7: =YEAR(JZ8) -> 2034 | KB7: =YEAR(KB8) -> 2034 | KD7: =YEAR(KD8) -> 2034 | KF7: =YEAR(KF8) -> 2034 | KH7: =YEAR(KH8) -> 2034 | KJ7: =YEAR(KJ8) -> 2034 | KL7: =YEAR(KL8) -> 2034 | KN7: =YEAR(KN8) -> 2034 | KP7: =YEAR(KP8) -> 2034 | KR7: =YEAR(KR8) -> 2034 | KT7: =YEAR(KT8) -> 2035 | KV7: =YEAR(KV8) -> 2035 | KX7: =YEAR(KX8) -> 2035 | KZ7: =YEAR(KZ8) -> 2035 | LB7: =YEAR(LB8) -> 2035 | LD7: =YEAR(LD8) -> 2035 | LF7: =YEAR(LF8) -> 2035 | LH7: =YEAR(LH8) -> 2035 | LJ7: =YEAR(LJ8) -> 2035 | LL7: =YEAR(LL8) -> 2035 | LN7: =YEAR(LN8) -> 2035 | LP7: =YEAR(LP8) -> 2035 | LR7: =YEAR(LR8) -> 2036 | LT7: =YEAR(LT8) -> 2036 | LV7: =YEAR(LV8) -> 2036 | LX7: =YEAR(LX8) -> 2036 | LZ7: =YEAR(LZ8) -> 2036 | MB7: =YEAR(MB8) -> 2036 | MD7: =YEAR(MD8) -> 2036 | MF7: =YEAR(MF8) -> 2036 | MH7: =YEAR(MH8) -> 2036 | MJ7: =YEAR(MJ8) -> 2036 | ML7: =YEAR(ML8) -> 2036 | MN7: =YEAR(MN8) -> 2036 | MP7: =YEAR(MP8) -> 2037 | MR7: =YEAR(MR8) -> 2037 | MT7: =YEAR(MT8) -> 2037 | MV7: =YEAR(MV8) -> 2037 | MX7: =YEAR(MX8) -> 2037 | MZ7: =YEAR(MZ8) -> 2037 | NB7: =YEAR(NB8) -> 2037 | ND7: =YEAR(ND8) -> 2037 | NF7: =YEAR(NF8) -> 2037 | NH7: =YEAR(NH8) -> 2037 | NJ7: =YEAR(NJ8) -> 2037 | NL7: =YEAR(NL8) -> 2037 | NN7: =YEAR(NN8) -> 2038 | NP7: =YEAR(NP8) -> 2038 | NR7: =YEAR(NR8) -> 2038 | NT7: =YEAR(NT8) -> 2038 | NV7: =YEAR(NV8) -> 2038 | NX7: =YEAR(NX8) -> 2038 | NZ7: =YEAR(NZ8) -> 2038 | OB7: =YEAR(OB8) -> 2038 | OD7: =YEAR(OD8) -> 2038 | OF7: =YEAR(OF8) -> 2038 | OH7: =YEAR(OH8) -> 2038 | OJ7: =YEAR(OJ8) -> 2038 | OL7: =YEAR(OL8) -> 2039 | ON7: =YEAR(ON8) -> 2039 | OP7: =YEAR(OP8) -> 2039 | OR7: =YEAR(OR8) -> 2039 | OT7: =YEAR(OT8) -> 2039 | OV7: =YEAR(OV8) -> 2039 | OX7: =YEAR(OX8) -> 2039 | OZ7: =YEAR(OZ8) -> 2039 | PB7: =YEAR(PB8) -> 2039 | PD7: =YEAR(PD8) -> 2039 | PF7: =YEAR(PF8) -> 2039 | PH7: =YEAR(PH8) -> 2039 | PJ7: =YEAR(PJ8) -> 2040 | PL7: =YEAR(PL8) -> 2040 | PN7: =YEAR(PN8) -> 2040 | PP7: =YEAR(PP8) -> 2040 | PR7: =YEAR(PR8) -> 2040 | PT7: =YEAR(PT8) -> 2040 | PV7: =YEAR(PV8) -> 2040 | PX7: =YEAR(PX8) -> 2040 | PZ7: =YEAR(PZ8) -> 2040 | QB7: =YEAR(QB8) -> 2040 | QD7: =YEAR(QD8) -> 2040 | QF7: =YEAR(QF8) -> 2040
F8: =YEAR(F7) -> 2025 | G8: =YEAR(G7) -> 2025 | H8: =YEAR(H7) -> 2025 | I8: =YEAR(I7) -> 2025 | J8: =YEAR(J7) -> 2025 | K8: =YEAR(K7) -> 2025 | L8: =YEAR(L7) -> 2025 | M8: =YEAR(M7) -> 2025 | ... Q8: =YEAR(Q7) -> 2025 | U8: 2024 | V8: =U8+1 -> 2025 | W8: =V8+1 -> 2026 | X8: =W8+1 -> 2027 | Y8: =X8+1 -> 2028 | Z8: =Y8+1 -> 2029 | AA8: =Z8+1 -> 2030 | AB8: =AA8+1 -> 2031 | AC8: =AB8+1 -> 2032 | ... AK8: =AJ8+1 -> 2040 | AM8: BÂTIMENT | AN8: MATERIEL | AP8: =EOMONTH(DATE(2024,1,1),0) -> 45322 | AR8: =EDATE(AP8,1) -> 45351 | AT8: =EDATE(AR8,1) -> 45380 | AV8: =EDATE(AT8,1) -> 45411 | AX8: =EDATE(AV8,1) -> 45441 | AZ8: =EDATE(AX8,1) -> 45472 | BB8: =EDATE(AZ8,1) -> 45502 | BD8: =EDATE(BB8,1) -> 45533 | BF8: =EDATE(BD8,1) -> 45564 | BH8: =EDATE(BF8,1) -> 45594 | BJ8: =EDATE(BH8,1) -> 45625 | BL8: =EDATE(BJ8,1) -> 45655 | BN8: =EDATE(BL8,1) -> 45686 | BP8: =EDATE(BN8,1) -> 45716 | BR8: =EDATE(BP8,1) -> 45744 | BT8: =EDATE(BR8,1) -> 45775 | BV8: =EDATE(BT8,1) -> 45805 | BX8: =EDATE(BV8,1) -> 45836 | BZ8: =EDATE(BX8,1) -> 45866 | CB8: =EDATE(BZ8,1) -> 45897 | CD8: =EDATE(CB8,1) -> 45928 | CF8: =EDATE(CD8,1) -> 45958 | CH8: =EDATE(CF8,1) -> 45989 | CJ8: =EDATE(CH8,1) -> 46019 | CL8: =EDATE(CJ8,1) -> 46050 | CN8: =EDATE(CL8,1) -> 46081 | CP8: =EDATE(CN8,1) -> 46109 | CR8: =EDATE(CP8,1) -> 46140 | CT8: =EDATE(CR8,1) -> 46170 | CV8: =EDATE(CT8,1) -> 46201 | CX8: =EDATE(CV8,1) -> 46231 | CZ8: =EDATE(CX8,1) -> 46262 | DB8: =EDATE(CZ8,1) -> 46293 | DD8: =EDATE(DB8,1) -> 46323 | DF8: =EDATE(DD8,1) -> 46354 | DH8: =EDATE(DF8,1) -> 46384 | DJ8: =EDATE(DH8,1) -> 46415 | DL8: =EDATE(DJ8,1) -> 46446 | DN8: =EDATE(DL8,1) -> 46474 | DP8: =EDATE(DN8,1) -> 46505 | DR8: =EDATE(DP8,1) -> 46535 | DT8: =EDATE(DR8,1) -> 46566 | DV8: =EDATE(DT8,1) -> 46596 | DX8: =EDATE(DV8,1) -> 46627 | DZ8: =EDATE(DX8,1) -> 46658 | EB8: =EDATE(DZ8,1) -> 46688 | ED8: =EDATE(EB8,1) -> 46719 | EF8: =EDATE(ED8,1) -> 46749 | EH8: =EDATE(EF8,1) -> 46780 | EJ8: =EDATE(EH8,1) -> 46811 | EL8: =EDATE(EJ8,1) -> 46840 | EN8: =EDATE(EL8,1) -> 46871 | EP8: =EDATE(EN8,1) -> 46901 | ER8: =EDATE(EP8,1) -> 46932 | ET8: =EDATE(ER8,1) -> 46962 | EV8: =EDATE(ET8,1) -> 46993 | EX8: =EDATE(EV8,1) -> 47024 | EZ8: =EDATE(EX8,1) -> 47054 | FB8: =EDATE(EZ8,1) -> 47085 | FD8: =EDATE(FB8,1) -> 47115 | FF8: =EDATE(FD8,1) -> 47146 | FH8: =EDATE(FF8,1) -> 47177 | FJ8: =EDATE(FH8,1) -> 47205 | FL8: =EDATE(FJ8,1) -> 47236 | FN8: =EDATE(FL8,1) -> 47266 | FP8: =EDATE(FN8,1) -> 47297 | FR8: =EDATE(FP8,1) -> 47327 | FT8: =EDATE(FR8,1) -> 47358 | FV8: =EDATE(FT8,1) -> 47389 | FX8: =EDATE(FV8,1) -> 47419 | FZ8: =EDATE(FX8,1) -> 47450 | GB8: =EDATE(FZ8,1) -> 47480 | GD8: =EDATE(GB8,1) -> 47511 | GF8: =EDATE(GD8,1) -> 47542 | GH8: =EDATE(GF8,1) -> 47570 | GJ8: =EDATE(GH8,1) -> 47601 | GL8: =EDATE(GJ8,1) -> 47631 | GN8: =EDATE(GL8,1) -> 47662 | GP8: =EDATE(GN8,1) -> 47692 | GR8: =EDATE(GP8,1) -> 47723 | GT8: =EDATE(GR8,1) -> 47754 | GV8: =EDATE(GT8,1) -> 47784 | GX8: =EDATE(GV8,1) -> 47815 | GZ8: =EDATE(GX8,1) -> 47845 | HB8: =EDATE(GZ8,1) -> 47876 | HD8: =EDATE(HB8,1) -> 47907 | HF8: =EDATE(HD8,1) -> 47935 | HH8: =EDATE(HF8,1) -> 47966 | HJ8: =EDATE(HH8,1) -> 47996 | HL8: =EDATE(HJ8,1) -> 48027 | HN8: =EDATE(HL8,1) -> 48057 | HP8: =EDATE(HN8,1) -> 48088 | HR8: =EDATE(HP8,1) -> 48119 | HT8: =EDATE(HR8,1) -> 48149 | HV8: =EDATE(HT8,1) -> 48180 | HX8: =EDATE(HV8,1) -> 48210 | HZ8: =EDATE(HX8,1) -> 48241 | IB8: =EDATE(HZ8,1) -> 48272 | ID8: =EDATE(IB8,1) -> 48301 | IF8: =EDATE(ID8,1) -> 48332 | IH8: =EDATE(IF8,1) -> 48362 | IJ8: =EDATE(IH8,1) -> 48393 | IL8: =EDATE(IJ8,1) -> 48423 | IN8: =EDATE(IL8,1) -> 48454 | IP8: =EDATE(IN8,1) -> 48485 | IR8: =EDATE(IP8,1) -> 48515 | IT8: =EDATE(IR8,1) -> 48546 | IV8: =EDATE(IT8,1) -> 48576 | IX8: =EDATE(IV8,1) -> 48607 | IZ8: =EDATE(IX8,1) -> 48638 | JB8: =EDATE(IZ8,1) -> 48666 | JD8: =EDATE(JB8,1) -> 48697 | JF8: =EDATE(JD8,1) -> 48727 | JH8: =EDATE(JF8,1) -> 48758 | JJ8: =EDATE(JH8,1) -> 48788 | JL8: =EDATE(JJ8,1) -> 48819 | JN8: =EDATE(JL8,1) -> 48850 | JP8: =EDATE(JN8,1) -> 48880 | JR8: =EDATE(JP8,1) -> 48911 | JT8: =EDATE(JR8,1) -> 48941 | JV8: =EDATE(JT8,1) -> 48972 | JX8: =EDATE(JV8,1) -> 49003 | JZ8: =EDATE(JX8,1) -> 49031 | KB8: =EDATE(JZ8,1) -> 49062 | KD8: =EDATE(KB8,1) -> 49092 | KF8: =EDATE(KD8,1) -> 49123 | KH8: =EDATE(KF8,1) -> 49153 | KJ8: =EDATE(KH8,1) -> 49184 | KL8: =EDATE(KJ8,1) -> 49215 | KN8: =EDATE(KL8,1) -> 49245 | KP8: =EDATE(KN8,1) -> 49276 | KR8: =EDATE(KP8,1) -> 49306 | KT8: =EDATE(KR8,1) -> 49337 | KV8: =EDATE(KT8,1) -> 49368 | KX8: =EDATE(KV8,1) -> 49396 | KZ8: =EDATE(KX8,1) -> 49427 | LB8: =EDATE(KZ8,1) -> 49457 | LD8: =EDATE(LB8,1) -> 49488 | LF8: =EDATE(LD8,1) -> 49518 | LH8: =EDATE(LF8,1) -> 49549 | LJ8: =EDATE(LH8,1) -> 49580 | LL8: =EDATE(LJ8,1) -> 49610 | LN8: =EDATE(LL8,1) -> 49641 | LP8: =EDATE(LN8,1) -> 49671 | LR8: =EDATE(LP8,1) -> 49702 | LT8: =EDATE(LR8,1) -> 49733 | LV8: =EDATE(LT8,1) -> 49762 | LX8: =EDATE(LV8,1) -> 49793 | LZ8: =EDATE(LX8,1) -> 49823 | MB8: =EDATE(LZ8,1) -> 49854 | MD8: =EDATE(MB8,1) -> 49884 | MF8: =EDATE(MD8,1) -> 49915 | MH8: =EDATE(MF8,1) -> 49946 | MJ8: =EDATE(MH8,1) -> 49976 | ML8: =EDATE(MJ8,1) -> 50007 | MN8: =EDATE(ML8,1) -> 50037 | MP8: =EDATE(MN8,1) -> 50068 | MR8: =EDATE(MP8,1) -> 50099 | MT8: =EDATE(MR8,1) -> 50127 | MV8: =EDATE(MT8,1) -> 50158 | MX8: =EDATE(MV8,1) -> 50188 | MZ8: =EDATE(MX8,1) -> 50219 | NB8: =EDATE(MZ8,1) -> 50249 | ND8: =EDATE(NB8,1) -> 50280 | NF8: =EDATE(ND8,1) -> 50311 | NH8: =EDATE(NF8,1) -> 50341 | NJ8: =EDATE(NH8,1) -> 50372 | NL8: =EDATE(NJ8,1) -> 50402 | NN8: =EDATE(NL8,1) -> 50433 | NP8: =EDATE(NN8,1) -> 50464 | NR8: =EDATE(NP8,1) -> 50492 | NT8: =EDATE(NR8,1) -> 50523 | NV8: =EDATE(NT8,1) -> 50553 | NX8: =EDATE(NV8,1) -> 50584 | NZ8: =EDATE(NX8,1) -> 50614 | OB8: =EDATE(NZ8,1) -> 50645 | OD8: =EDATE(OB8,1) -> 50676 | OF8: =EDATE(OD8,1) -> 50706 | OH8: =EDATE(OF8,1) -> 50737 | OJ8: =EDATE(OH8,1) -> 50767 | OL8: =EDATE(OJ8,1) -> 50798 | ON8: =EDATE(OL8,1) -> 50829 | OP8: =EDATE(ON8,1) -> 50857 | OR8: =EDATE(OP8,1) -> 50888 | OT8: =EDATE(OR8,1) -> 50918 | OV8: =EDATE(OT8,1) -> 50949 | OX8: =EDATE(OV8,1) -> 50979 | OZ8: =EDATE(OX8,1) -> 51010 | PB8: =EDATE(OZ8,1) -> 51041 | PD8: =EDATE(PB8,1) -> 51071 | PF8: =EDATE(PD8,1) -> 51102 | PH8: =EDATE(PF8,1) -> 51132 | PJ8: =EDATE(PH8,1) -> 51163 | PL8: =EDATE(PJ8,1) -> 51194 | PN8: =EDATE(PL8,1) -> 51223 | PP8: =EDATE(PN8,1) -> 51254 | PR8: =EDATE(PP8,1) -> 51284 | PT8: =EDATE(PR8,1) -> 51315 | PV8: =EDATE(PT8,1) -> 51345 | PX8: =EDATE(PV8,1) -> 51376 | PZ8: =EDATE(PX8,1) -> 51407 | QB8: =EDATE(PZ8,1) -> 51437 | QD8: =EDATE(QB8,1) -> 51468 | QF8: =EDATE(QD8,1) -> 51498
D9: {=IF([1]Paramètres!R3:R20=0,"",[1]Paramètres!R3:R20)} -> BAT A | E9: Mécanisation | F9: {=SUMPRODUCT(($AO$8:$QF$98=F$7)*($AM$8:$AM$98=$D9)*($AO$8:$QF$98))} -> 0 | G9: {=SUMPRODUCT(($AO$8:$QF$8=G$7)*($AM$9:$AM$98=$D9)*($AO$9:$QF$98))} -> 7314.24 | H9: {=SUMPRODUCT(($AO$8:$QF$8=H$7)*($AM$9:$AM$98=$D9)*($AO$9:$QF$98))} -> 0 | I9: {=SUMPRODUCT(($AO$8:$QF$8=I$7)*($AM$9:$AM$98=$D9)*($AO$9:$QF$98))} -> 0 | J9: {=SUMPRODUCT(($AO$8:$QF$8=J$7)*($AM$9:$AM$98=$D9)*($AO$9:$QF$98))} -> 0 | K9: {=SUMPRODUCT(($AO$8:$QF$8=K$7)*($AM$9:$AM$98=$D9)*($AO$9:$QF$98))} -> 0 | L9: {=SUMPRODUCT(($AO$8:$QF$8=L$7)*($AM$9:$AM$98=$D9)*($AO$9:$QF$98))} -> 0 | M9: {=SUMPRODUCT(($AO$8:$QF$8=M$7)*($AM$9:$AM$98=$D9)*($AO$9:$QF$98))} -> 0 | N9: {=SUMPRODUCT(($AO$8:$QF$8=N$7)*($AM$9:$AM$98=$D9)*($AO$9:$QF$98))} -> 0 | ... Q9: {=SUMPRODUCT(($AO$8:$QF$8=Q$7)*($AM$9:$AM$98=$D9)*($AO$9:$QF$98))} -> 0 | T9: Mât retractable | V9: 358.55 | AM9: =[1]Paramètres!R3 -> BAT A | AN9: =T9 -> Mât retractable | AP9: =IFERROR(AO9*INDEX($T$8:$AK$14,MATCH($AN9,$T$8:$T$14,0),MATCH(AP$7,$T$8:$AK$8,0)),0) -> 0 | AR9: =IFERROR(AQ9*INDEX($T$8:$AK$14,MATCH($AN9,$T$8:$T$14,0),MATCH(AR$7,$T$8:$AK$8,0)),0) -> 0 | AT9: =IFERROR(AS9*INDEX($T$8:$AK$14,MATCH($AN9,$T$8:$T$14,0),MATCH(AT$7,$T$8:$AK$8,0)),0) -> 0 | AV9: =IFERROR(AU9*INDEX($T$8:$AK$14,MATCH($AN9,$T$8:$T$14,0),MATCH(AV$7,$T$8:$AK$8,0)),0) -> 0 | AX9: =IFERROR(AW9*INDEX($T$8:$AK$14,MATCH($AN9,$T$8:$T$14,0),MATCH(AX$7,$T$8:$AK$8,0)),0) -> 0 | AZ9: =IFERROR(AY9*INDEX($T$8:$AK$14,MATCH($AN9,$T$8:$T$14,0),MATCH(AZ$7,$T$8:$AK$8,0)),0) -> 0 | BB9: =IFERROR(BA9*INDEX($T$8:$AK$14,MATCH($AN9,$T$8:$T$14,0),MATCH(BB$7,$T$8:$AK$8,0)),0) -> 0 | BD9: =IFERROR(BC9*INDEX($T$8:$AK$14,MATCH($AN9,$T$8:$T$14,0),MATCH(BD$7,$T$8:$AK$8,0)),0) -> 0 | BF9: =IFERROR(BE9*INDEX($T$8:$AK$14,MATCH($AN9,$T$8:$T$14,0),MATCH(BF$7,$T$8:$AK$8,0)),0) -> 0 | BH9: =IFERROR(BG9*INDEX($T$8:$AK$14,MATCH($AN9,$T$8:$T$14,0),MATCH(BH$7,$T$8:$AK$8,0)),0) -> 0 | BJ9: =IFERROR(BI9*INDEX($T$8:$AK$14,MATCH($AN9,$T$8:$T$14,0),MATCH(BJ$7,$T$8:$AK$8,0)),0) -> 0 | BL9: =IFERROR(BK9*INDEX($T$8:$AK$14,MATCH($AN9,$T$8:$T$14,0),MATCH(BL$7,$T$8:$AK$8,0)),0) -> 0 | BM9: 16 | BN9: =IFERROR(BM9*INDEX($T$8:$AK$14,MATCH($AN9,$T$8:$T$14,0),MATCH(BN$7,$T$8:$AK$8,0)),0) -> 5736.8 | BO9: 16 | BP9: =IFERROR(BO9*INDEX($T$8:$AK$14,MATCH($AN9,$T$8:$T$14,0),MATCH(BP$7,$T$8:$AK$8,0)),0) -> 5736.8 | BQ9: 16 | BR9: =IFERROR(BQ9*INDEX($T$8:$AK$14,MATCH($AN9,$T$8:$T$14,0),MATCH(BR$7,$T$8:$AK$8,0)),0) -> 5736.8 | BS9: 16 | BT9: =IFERROR(BS9*INDEX($T$8:$AK$14,MATCH($AN9,$T$8:$T$14,0),MATCH(BT$7,$T$8:$AK$8,0)),0) -> 5736.8 | BU9: 16 | BV9: =IFERROR(BU9*INDEX($T$8:$AK$14,MATCH($AN9,$T$8:$T$14,0),MATCH(BV$7,$T$8:$AK$8,0)),0) -> 5736.8 | BW9: 16 | BX9: =IFERROR(BW9*INDEX($T$8:$AK$14,MATCH($AN9,$T$8:$T$14,0),MATCH(BX$7,$T$8:$AK$8,0)),0) -> 5736.8 | BY9: 16 | BZ9: =IFERROR(BY9*INDEX($T$8:$AK$14,MATCH($AN9,$T$8:$T$14,0),MATCH(BZ$7,$T$8:$AK$8,0)),0) -> 5736.8 | CA9: 16 | CB9: =IFERROR(CA9*INDEX($T$8:$AK$14,MATCH($AN9,$T$8:$T$14,0),MATCH(CB$7,$T$8:$AK$8,0)),0) -> 5736.8 | CC9: 16 | CD9: =IFERROR(CC9*INDEX($T$8:$AK$14,MATCH($AN9,$T$8:$T$14,0),MATCH(CD$7,$T$8:$AK$8,0)),0) -> 5736.8 | CE9: 16 | CF9: =IFERROR(CE9*INDEX($T$8:$AK$14,MATCH($AN9,$T$8:$T$14,0),MATCH(CF$7,$T$8:$AK$8,0)),0) -> 5736.8 | CG9: 16 | CH9: =IFERROR(CG9*INDEX($T$8:$AK$14,MATCH($AN9,$T$8:$T$14,0),MATCH(CH$7,$T$8:$AK$8,0)),0) -> 5736.8 | CI9: 16 | CJ9: =IFERROR(CI9*INDEX($T$8:$AK$14,MATCH($AN9,$T$8:$T$14,0),MATCH(CJ$7,$T$8:$AK$8,0)),0) -> 5736.8 | CL9: =IFERROR(CK9*INDEX($T$8:$AK$14,MATCH($AN9,$T$8:$T$14,0),MATCH(CL$7,$T$8:$AK$8,0)),0) -> 0 | CN9: =IFERROR(CM9*INDEX($T$8:$AK$14,MATCH($AN9,$T$8:$T$14,0),MATCH(CN$7,$T$8:$AK$8,0)),0) -> 0 | CP9: =IFERROR(CO9*INDEX($T$8:$AK$14,MATCH($AN9,$T$8:$T$14,0),MATCH(CP$7,$T$8:$AK$8,0)),0) -> 0 | CR9: =IFERROR(CQ9*INDEX($T$8:$AK$14,MATCH($AN9,$T$8:$T$14,0),MATCH(CR$7,$T$8:$AK$8,0)),0) -> 0 | CT9: =IFERROR(CS9*INDEX($T$8:$AK$14,MATCH($AN9,$T$8:$T$14,0),MATCH(CT$7,$T$8:$AK$8,0)),0) -> 0 | CV9: =IFERROR(CU9*INDEX($T$8:$AK$14,MATCH($AN9,$T$8:$T$14,0),MATCH(CV$7,$T$8:$AK$8,0)),0) -> 0 | CX9: =IFERROR(CW9*INDEX($T$8:$AK$14,MATCH($AN9,$T$8:$T$14,0),MATCH(CX$7,$T$8:$AK$8,0)),0) -> 0 | CZ9: =IFERROR(CY9*INDEX($T$8:$AK$14,MATCH($AN9,$T$8:$T$14,0),MATCH(CZ$7,$T$8:$AK$8,0)),0) -> 0 | DB9: =IFERROR(DA9*INDEX($T$8:$AK$14,MATCH($AN9,$T$8:$T$14,0),MATCH(DB$7,$T$8:$AK$8,0)),0) -> 0 | DD9: =IFERROR(DC9*INDEX($T$8:$AK$14,MATCH($AN9,$T$8:$T$14,0),MATCH(DD$7,$T$8:$AK$8,0)),0) -> 0 | DF9: =IFERROR(DE9*INDEX($T$8:$AK$14,MATCH($AN9,$T$8:$T$14,0),MATCH(DF$7,$T$8:$AK$8,0)),0) -> 0 | DH9: =IFERROR(DG9*INDEX($T$8:$AK$14,MATCH($AN9,$T$8:$T$14,0),MATCH(DH$7,$T$8:$AK$8,0)),0) -> 0 | DJ9: =IFERROR(DI9*INDEX($T$8:$AK$14,MATCH($AN9,$T$8:$T$14,0),MATCH(DJ$7,$T$8:$AK$8,0)),0) -> 0 | DL9: =IFERROR(DK9*INDEX($T$8:$AK$14,MATCH($AN9,$T$8:$T$14,0),MATCH(DL$7,$T$8:$AK$8,0)),0) -> 0 | DN9: =IFERROR(DM9*INDEX($T$8:$AK$14,MATCH($AN9,$T$8:$T$14,0),MATCH(DN$7,$T$8:$AK$8,0)),0) -> 0 | DP9: =IFERROR(DO9*INDEX($T$8:$AK$14,MATCH($AN9,$T$8:$T$14,0),MATCH(DP$7,$T$8:$AK$8,0)),0) -> 0 | DR9: =IFERROR(DQ9*INDEX($T$8:$AK$14,MATCH($AN9,$T$8:$T$14,0),MATCH(DR$7,$T$8:$AK$8,0)),0) -> 0 | DT9: =IFERROR(DS9*INDEX($T$8:$AK$14,MATCH($AN9,$T$8:$T$14,0),MATCH(DT$7,$T$8:$AK$8,0)),0) -> 0 | DV9: =IFERROR(DU9*INDEX($T$8:$AK$14,MATCH($AN9,$T$8:$T$14,0),MATCH(DV$7,$T$8:$AK$8,0)),0) -> 0 | DX9: =IFERROR(DW9*INDEX($T$8:$AK$14,MATCH($AN9,$T$8:$T$14,0),MATCH(DX$7,$T$8:$AK$8,0)),0) -> 0 | DZ9: =IFERROR(DY9*INDEX($T$8:$AK$14,MATCH($AN9,$T$8:$T$14,0),MATCH(DZ$7,$T$8:$AK$8,0)),0) -> 0 | EB9: =IFERROR(EA9*INDEX($T$8:$AK$14,MATCH($AN9,$T$8:$T$14,0),MATCH(EB$7,$T$8:$AK$8,0)),0) -> 0 | ED9: =IFERROR(EC9*INDEX($T$8:$AK$14,MATCH($AN9,$T$8:$T$14,0),MATCH(ED$7,$T$8:$AK$8,0)),0) -> 0 | EF9: =IFERROR(EE9*INDEX($T$8:$AK$14,MATCH($AN9,$T$8:$T$14,0),MATCH(EF$7,$T$8:$AK$8,0)),0) -> 0 | EH9: =IFERROR(EG9*INDEX($T$8:$AK$14,MATCH($AN9,$T$8:$T$14,0),MATCH(EH$7,$T$8:$AK$8,0)),0) -> 0 | EJ9: =IFERROR(EI9*INDEX($T$8:$AK$14,MATCH($AN9,$T$8:$T$14,0),MATCH(EJ$7,$T$8:$AK$8,0)),0) -> 0 | EL9: =IFERROR(EK9*INDEX($T$8:$AK$14,MATCH($AN9,$T$8:$T$14,0),MATCH(EL$7,$T$8:$AK$8,0)),0) -> 0 | EN9: =IFERROR(EM9*INDEX($T$8:$AK$14,MATCH($AN9,$T$8:$T$14,0),MATCH(EN$7,$T$8:$AK$8,0)),0) -> 0 | EP9: =IFERROR(EO9*INDEX($T$8:$AK$14,MATCH($AN9,$T$8:$T$14,0),MATCH(EP$7,$T$8:$AK$8,0)),0) -> 0 | ER9: =IFERROR(EQ9*INDEX($T$8:$AK$14,MATCH($AN9,$T$8:$T$14,0),MATCH(ER$7,$T$8:$AK$8,0)),0) -> 0 | ET9: =IFERROR(ES9*INDEX($T$8:$AK$14,MATCH($AN9,$T$8:$T$14,0),MATCH(ET$7,$T$8:$AK$8,0)),0) -> 0 | EV9: =IFERROR(EU9*INDEX($T$8:$AK$14,MATCH($AN9,$T$8:$T$14,0),MATCH(EV$7,$T$8:$AK$8,0)),0) -> 0 | EX9: =IFERROR(EW9*INDEX($T$8:$AK$14,MATCH($AN9,$T$8:$T$14,0),MATCH(EX$7,$T$8:$AK$8,0)),0) -> 0 | EZ9: =IFERROR(EY9*INDEX($T$8:$AK$14,MATCH($AN9,$T$8:$T$14,0),MATCH(EZ$7,$T$8:$AK$8,0)),0) -> 0 | FB9: =IFERROR(FA9*INDEX($T$8:$AK$14,MATCH($AN9,$T$8:$T$14,0),MATCH(FB$7,$T$8:$AK$8,0)),0) -> 0 | FD9: =IFERROR(FC9*INDEX($T$8:$AK$14,MATCH($AN9,$T$8:$T$14,0),MATCH(FD$7,$T$8:$AK$8,0)),0) -> 0 | FF9: =IFERROR(FE9*INDEX($T$8:$AK$14,MATCH($AN9,$T$8:$T$14,0),MATCH(FF$7,$T$8:$AK$8,0)),0) -> 0 | FH9: =IFERROR(FG9*INDEX($T$8:$AK$14,MATCH($AN9,$T$8:$T$14,0),MATCH(FH$7,$T$8:$AK$8,0)),0) -> 0 | FJ9: =IFERROR(FI9*INDEX($T$8:$AK$14,MATCH($AN9,$T$8:$T$14,0),MATCH(FJ$7,$T$8:$AK$8,0)),0) -> 0 | FL9: =IFERROR(FK9*INDEX($T$8:$AK$14,MATCH($AN9,$T$8:$T$14,0),MATCH(FL$7,$T$8:$AK$8,0)),0) -> 0 | FN9: =IFERROR(FM9*INDEX($T$8:$AK$14,MATCH($AN9,$T$8:$T$14,0),MATCH(FN$7,$T$8:$AK$8,0)),0) -> 0 | FP9: =IFERROR(FO9*INDEX($T$8:$AK$14,MATCH($AN9,$T$8:$T$14,0),MATCH(FP$7,$T$8:$AK$8,0)),0) -> 0 | FR9: =IFERROR(FQ9*INDEX($T$8:$AK$14,MATCH($AN9,$T$8:$T$14,0),MATCH(FR$7,$T$8:$AK$8,0)),0) -> 0 | FT9: =IFERROR(FS9*INDEX($T$8:$AK$14,MATCH($AN9,$T$8:$T$14,0),MATCH(FT$7,$T$8:$AK$8,0)),0) -> 0 | FV9: =IFERROR(FU9*INDEX($T$8:$AK$14,MATCH($AN9,$T$8:$T$14,0),MATCH(FV$7,$T$8:$AK$8,0)),0) -> 0 | FX9: =IFERROR(FW9*INDEX($T$8:$AK$14,MATCH($AN9,$T$8:$T$14,0),MATCH(FX$7,$T$8:$AK$8,0)),0) -> 0 | FZ9: =IFERROR(FY9*INDEX($T$8:$AK$14,MATCH($AN9,$T$8:$T$14,0),MATCH(FZ$7,$T$8:$AK$8,0)),0) -> 0 | GB9: =IFERROR(GA9*INDEX($T$8:$AK$14,MATCH($AN9,$T$8:$T$14,0),MATCH(GB$7,$T$8:$AK$8,0)),0) -> 0 | GD9: =IFERROR(GC9*INDEX($T$8:$AK$14,MATCH($AN9,$T$8:$T$14,0),MATCH(GD$7,$T$8:$AK$8,0)),0) -> 0 | GF9: =IFERROR(GE9*INDEX($T$8:$AK$14,MATCH($AN9,$T$8:$T$14,0),MATCH(GF$7,$T$8:$AK$8,0)),0) -> 0 | GH9: =IFERROR(GG9*INDEX($T$8:$AK$14,MATCH($AN9,$T$8:$T$14,0),MATCH(GH$7,$T$8:$AK$8,0)),0) -> 0 | GJ9: =IFERROR(GI9*INDEX($T$8:$AK$14,MATCH($AN9,$T$8:$T$14,0),MATCH(GJ$7,$T$8:$AK$8,0)),0) -> 0 | GL9: =IFERROR(GK9*INDEX($T$8:$AK$14,MATCH($AN9,$T$8:$T$14,0),MATCH(GL$7,$T$8:$AK$8,0)),0) -> 0 | GN9: =IFERROR(GM9*INDEX($T$8:$AK$14,MATCH($AN9,$T$8:$T$14,0),MATCH(GN$7,$T$8:$AK$8,0)),0) -> 0 | GP9: =IFERROR(GO9*INDEX($T$8:$AK$14,MATCH($AN9,$T$8:$T$14,0),MATCH(GP$7,$T$8:$AK$8,0)),0) -> 0 | GR9: =IFERROR(GQ9*INDEX($T$8:$AK$14,MATCH($AN9,$T$8:$T$14,0),MATCH(GR$7,$T$8:$AK$8,0)),0) -> 0 | GT9: =IFERROR(GS9*INDEX($T$8:$AK$14,MATCH($AN9,$T$8:$T$14,0),MATCH(GT$7,$T$8:$AK$8,0)),0) -> 0 | GV9: =IFERROR(GU9*INDEX($T$8:$AK$14,MATCH($AN9,$T$8:$T$14,0),MATCH(GV$7,$T$8:$AK$8,0)),0) -> 0 | GX9: =IFERROR(GW9*INDEX($T$8:$AK$14,MATCH($AN9,$T$8:$T$14,0),MATCH(GX$7,$T$8:$AK$8,0)),0) -> 0 | GZ9: =IFERROR(GY9*INDEX($T$8:$AK$14,MATCH($AN9,$T$8:$T$14,0),MATCH(GZ$7,$T$8:$AK$8,0)),0) -> 0 | HB9: =IFERROR(HA9*INDEX($T$8:$AK$14,MATCH($AN9,$T$8:$T$14,0),MATCH(HB$7,$T$8:$AK$8,0)),0) -> 0 | HD9: =IFERROR(HC9*INDEX($T$8:$AK$14,MATCH($AN9,$T$8:$T$14,0),MATCH(HD$7,$T$8:$AK$8,0)),0) -> 0 | HF9: =IFERROR(HE9*INDEX($T$8:$AK$14,MATCH($AN9,$T$8:$T$14,0),MATCH(HF$7,$T$8:$AK$8,0)),0) -> 0 | HH9: =IFERROR(HG9*INDEX($T$8:$AK$14,MATCH($AN9,$T$8:$T$14,0),MATCH(HH$7,$T$8:$AK$8,0)),0) -> 0 | HJ9: =IFERROR(HI9*INDEX($T$8:$AK$14,MATCH($AN9,$T$8:$T$14,0),MATCH(HJ$7,$T$8:$AK$8,0)),0) -> 0 | HL9: =IFERROR(HK9*INDEX($T$8:$AK$14,MATCH($AN9,$T$8:$T$14,0),MATCH(HL$7,$T$8:$AK$8,0)),0) -> 0 | HN9: =IFERROR(HM9*INDEX($T$8:$AK$14,MATCH($AN9,$T$8:$T$14,0),MATCH(HN$7,$T$8:$AK$8,0)),0) -> 0 | HP9: =IFERROR(HO9*INDEX($T$8:$AK$14,MATCH($AN9,$T$8:$T$14,0),MATCH(HP$7,$T$8:$AK$8,0)),0) -> 0 | HR9: =IFERROR(HQ9*INDEX($T$8:$AK$14,MATCH($AN9,$T$8:$T$14,0),MATCH(HR$7,$T$8:$AK$8,0)),0) -> 0 | HT9: =IFERROR(HS9*INDEX($T$8:$AK$14,MATCH($AN9,$T$8:$T$14,0),MATCH(HT$7,$T$8:$AK$8,0)),0) -> 0 | HV9: =IFERROR(HU9*INDEX($T$8:$AK$14,MATCH($AN9,$T$8:$T$14,0),MATCH(HV$7,$T$8:$AK$8,0)),0) -> 0 | HX9: =IFERROR(HW9*INDEX($T$8:$AK$14,MATCH($AN9,$T$8:$T$14,0),MATCH(HX$7,$T$8:$AK$8,0)),0) -> 0 | HZ9: =IFERROR(HY9*INDEX($T$8:$AK$14,MATCH($AN9,$T$8:$T$14,0),MATCH(HZ$7,$T$8:$AK$8,0)),0) -> 0 | IB9: =IFERROR(IA9*INDEX($T$8:$AK$14,MATCH($AN9,$T$8:$T$14,0),MATCH(IB$7,$T$8:$AK$8,0)),0) -> 0 | ID9: =IFERROR(IC9*INDEX($T$8:$AK$14,MATCH($AN9,$T$8:$T$14,0),MATCH(ID$7,$T$8:$AK$8,0)),0) -> 0 | IF9: =IFERROR(IE9*INDEX($T$8:$AK$14,MATCH($AN9,$T$8:$T$14,0),MATCH(IF$7,$T$8:$AK$8,0)),0) -> 0 | IH9: =IFERROR(IG9*INDEX($T$8:$AK$14,MATCH($AN9,$T$8:$T$14,0),MATCH(IH$7,$T$8:$AK$8,0)),0) -> 0 | IJ9: =IFERROR(II9*INDEX($T$8:$AK$14,MATCH($AN9,$T$8:$T$14,0),MATCH(IJ$7,$T$8:$AK$8,0)),0) -> 0 | IL9: =IFERROR(IK9*INDEX($T$8:$AK$14,MATCH($AN9,$T$8:$T$14,0),MATCH(IL$7,$T$8:$AK$8,0)),0) -> 0 | IN9: =IFERROR(IM9*INDEX($T$8:$AK$14,MATCH($AN9,$T$8:$T$14,0),MATCH(IN$7,$T$8:$AK$8,0)),0) -> 0 | IP9: =IFERROR(IO9*INDEX($T$8:$AK$14,MATCH($AN9,$T$8:$T$14,0),MATCH(IP$7,$T$8:$AK$8,0)),0) -> 0 | IR9: =IFERROR(IQ9*INDEX($T$8:$AK$14,MATCH($AN9,$T$8:$T$14,0),MATCH(IR$7,$T$8:$AK$8,0)),0) -> 0 | IT9: =IFERROR(IS9*INDEX($T$8:$AK$14,MATCH($AN9,$T$8:$T$14,0),MATCH(IT$7,$T$8:$AK$8,0)),0) -> 0 | IV9: =IFERROR(IU9*INDEX($T$8:$AK$14,MATCH($AN9,$T$8:$T$14,0),MATCH(IV$7,$T$8:$AK$8,0)),0) -> 0 | IX9: =IFERROR(IW9*INDEX($T$8:$AK$14,MATCH($AN9,$T$8:$T$14,0),MATCH(IX$7,$T$8:$AK$8,0)),0) -> 0 | IZ9: =IFERROR(IY9*INDEX($T$8:$AK$14,MATCH($AN9,$T$8:$T$14,0),MATCH(IZ$7,$T$8:$AK$8,0)),0) -> 0 | JB9: =IFERROR(JA9*INDEX($T$8:$AK$14,MATCH($AN9,$T$8:$T$14,0),MATCH(JB$7,$T$8:$AK$8,0)),0) -> 0 | JD9: =IFERROR(JC9*INDEX($T$8:$AK$14,MATCH($AN9,$T$8:$T$14,0),MATCH(JD$7,$T$8:$AK$8,0)),0) -> 0 | JF9: =IFERROR(JE9*INDEX($T$8:$AK$14,MATCH($AN9,$T$8:$T$14,0),MATCH(JF$7,$T$8:$AK$8,0)),0) -> 0 | JH9: =IFERROR(JG9*INDEX($T$8:$AK$14,MATCH($AN9,$T$8:$T$14,0),MATCH(JH$7,$T$8:$AK$8,0)),0) -> 0 | JJ9: =IFERROR(JI9*INDEX($T$8:$AK$14,MATCH($AN9,$T$8:$T$14,0),MATCH(JJ$7,$T$8:$AK$8,0)),0) -> 0 | JL9: =IFERROR(JK9*INDEX($T$8:$AK$14,MATCH($AN9,$T$8:$T$14,0),MATCH(JL$7,$T$8:$AK$8,0)),0) -> 0 | JN9: =IFERROR(JM9*INDEX($T$8:$AK$14,MATCH($AN9,$T$8:$T$14,0),MATCH(JN$7,$T$8:$AK$8,0)),0) -> 0 | JP9: =IFERROR(JO9*INDEX($T$8:$AK$14,MATCH($AN9,$T$8:$T$14,0),MATCH(JP$7,$T$8:$AK$8,0)),0) -> 0 | JR9: =IFERROR(JQ9*INDEX($T$8:$AK$14,MATCH($AN9,$T$8:$T$14,0),MATCH(JR$7,$T$8:$AK$8,0)),0) -> 0 | JT9: =IFERROR(JS9*INDEX($T$8:$AK$14,MATCH($AN9,$T$8:$T$14,0),MATCH(JT$7,$T$8:$AK$8,0)),0) -> 0 | JV9: =IFERROR(JU9*INDEX($T$8:$AK$14,MATCH($AN9,$T$8:$T$14,0),MATCH(JV$7,$T$8:$AK$8,0)),0) -> 0 | JX9: =IFERROR(JW9*INDEX($T$8:$AK$14,MATCH($AN9,$T$8:$T$14,0),MATCH(JX$7,$T$8:$AK$8,0)),0) -> 0 | JZ9: =IFERROR(JY9*INDEX($T$8:$AK$14,MATCH($AN9,$T$8:$T$14,0),MATCH(JZ$7,$T$8:$AK$8,0)),0) -> 0 | KB9: =IFERROR(KA9*INDEX($T$8:$AK$14,MATCH($AN9,$T$8:$T$14,0),MATCH(KB$7,$T$8:$AK$8,0)),0) -> 0 | KD9: =IFERROR(KC9*INDEX($T$8:$AK$14,MATCH($AN9,$T$8:$T$14,0),MATCH(KD$7,$T$8:$AK$8,0)),0) -> 0 | KF9: =IFERROR(KE9*INDEX($T$8:$AK$14,MATCH($AN9,$T$8:$T$14,0),MATCH(KF$7,$T$8:$AK$8,0)),0) -> 0 | KH9: =IFERROR(KG9*INDEX($T$8:$AK$14,MATCH($AN9,$T$8:$T$14,0),MATCH(KH$7,$T$8:$AK$8,0)),0) -> 0 | KJ9: =IFERROR(KI9*INDEX($T$8:$AK$14,MATCH($AN9,$T$8:$T$14,0),MATCH(KJ$7,$T$8:$AK$8,0)),0) -> 0 | KL9: =IFERROR(KK9*INDEX($T$8:$AK$14,MATCH($AN9,$T$8:$T$14,0),MATCH(KL$7,$T$8:$AK$8,0)),0) -> 0 | KN9: =IFERROR(KM9*INDEX($T$8:$AK$14,MATCH($AN9,$T$8:$T$14,0),MATCH(KN$7,$T$8:$AK$8,0)),0) -> 0 | KP9: =IFERROR(KO9*INDEX($T$8:$AK$14,MATCH($AN9,$T$8:$T$14,0),MATCH(KP$7,$T$8:$AK$8,0)),0) -> 0 | KR9: =IFERROR(KQ9*INDEX($T$8:$AK$14,MATCH($AN9,$T$8:$T$14,0),MATCH(KR$7,$T$8:$AK$8,0)),0) -> 0 | KT9: =IFERROR(KS9*INDEX($T$8:$AK$14,MATCH($AN9,$T$8:$T$14,0),MATCH(KT$7,$T$8:$AK$8,0)),0) -> 0 | KV9: =IFERROR(KU9*INDEX($T$8:$AK$14,MATCH($AN9,$T$8:$T$14,0),MATCH(KV$7,$T$8:$AK$8,0)),0) -> 0 | KX9: =IFERROR(KW9*INDEX($T$8:$AK$14,MATCH($AN9,$T$8:$T$14,0),MATCH(KX$7,$T$8:$AK$8,0)),0) -> 0 | KZ9: =IFERROR(KY9*INDEX($T$8:$AK$14,MATCH($AN9,$T$8:$T$14,0),MATCH(KZ$7,$T$8:$AK$8,0)),0) -> 0 | LB9: =IFERROR(LA9*INDEX($T$8:$AK$14,MATCH($AN9,$T$8:$T$14,0),MATCH(LB$7,$T$8:$AK$8,0)),0) -> 0 | LD9: =IFERROR(LC9*INDEX($T$8:$AK$14,MATCH($AN9,$T$8:$T$14,0),MATCH(LD$7,$T$8:$AK$8,0)),0) -> 0 | LF9: =IFERROR(LE9*INDEX($T$8:$AK$14,MATCH($AN9,$T$8:$T$14,0),MATCH(LF$7,$T$8:$AK$8,0)),0) -> 0 | LH9: =IFERROR(LG9*INDEX($T$8:$AK$14,MATCH($AN9,$T$8:$T$14,0),MATCH(LH$7,$T$8:$AK$8,0)),0) -> 0 | LJ9: =IFERROR(LI9*INDEX($T$8:$AK$14,MATCH($AN9,$T$8:$T$14,0),MATCH(LJ$7,$T$8:$AK$8,0)),0) -> 0 | LL9: =IFERROR(LK9*INDEX($T$8:$AK$14,MATCH($AN9,$T$8:$T$14,0),MATCH(LL$7,$T$8:$AK$8,0)),0) -> 0 | LN9: =IFERROR(LM9*INDEX($T$8:$AK$14,MATCH($AN9,$T$8:$T$14,0),MATCH(LN$7,$T$8:$AK$8,0)),0) -> 0 | LP9: =IFERROR(LO9*INDEX($T$8:$AK$14,MATCH($AN9,$T$8:$T$14,0),MATCH(LP$7,$T$8:$AK$8,0)),0) -> 0 | LR9: =IFERROR(LQ9*INDEX($T$8:$AK$14,MATCH($AN9,$T$8:$T$14,0),MATCH(LR$7,$T$8:$AK$8,0)),0) -> 0 | LT9: =IFERROR(LS9*INDEX($T$8:$AK$14,MATCH($AN9,$T$8:$T$14,0),MATCH(LT$7,$T$8:$AK$8,0)),0) -> 0 | LV9: =IFERROR(LU9*INDEX($T$8:$AK$14,MATCH($AN9,$T$8:$T$14,0),MATCH(LV$7,$T$8:$AK$8,0)),0) -> 0 | LX9: =IFERROR(LW9*INDEX($T$8:$AK$14,MATCH($AN9,$T$8:$T$14,0),MATCH(LX$7,$T$8:$AK$8,0)),0) -> 0 | LZ9: =IFERROR(LY9*INDEX($T$8:$AK$14,MATCH($AN9,$T$8:$T$14,0),MATCH(LZ$7,$T$8:$AK$8,0)),0) -> 0 | MB9: =IFERROR(MA9*INDEX($T$8:$AK$14,MATCH($AN9,$T$8:$T$14,0),MATCH(MB$7,$T$8:$AK$8,0)),0) -> 0 | MD9: =IFERROR(MC9*INDEX($T$8:$AK$14,MATCH($AN9,$T$8:$T$14,0),MATCH(MD$7,$T$8:$AK$8,0)),0) -> 0 | MF9: =IFERROR(ME9*INDEX($T$8:$AK$14,MATCH($AN9,$T$8:$T$14,0),MATCH(MF$7,$T$8:$AK$8,0)),0) -> 0 | MH9: =IFERROR(MG9*INDEX($T$8:$AK$14,MATCH($AN9,$T$8:$T$14,0),MATCH(MH$7,$T$8:$AK$8,0)),0) -> 0 | MJ9: =IFERROR(MI9*INDEX($T$8:$AK$14,MATCH($AN9,$T$8:$T$14,0),MATCH(MJ$7,$T$8:$AK$8,0)),0) -> 0 | ML9: =IFERROR(MK9*INDEX($T$8:$AK$14,MATCH($AN9,$T$8:$T$14,0),MATCH(ML$7,$T$8:$AK$8,0)),0) -> 0 | MN9: =IFERROR(MM9*INDEX($T$8:$AK$14,MATCH($AN9,$T$8:$T$14,0),MATCH(MN$7,$T$8:$AK$8,0)),0) -> 0 | MP9: =IFERROR(MO9*INDEX($T$8:$AK$14,MATCH($AN9,$T$8:$T$14,0),MATCH(MP$7,$T$8:$AK$8,0)),0) -> 0 | MR9: =IFERROR(MQ9*INDEX($T$8:$AK$14,MATCH($AN9,$T$8:$T$14,0),MATCH(MR$7,$T$8:$AK$8,0)),0) -> 0 | MT9: =IFERROR(MS9*INDEX($T$8:$AK$14,MATCH($AN9,$T$8:$T$14,0),MATCH(MT$7,$T$8:$AK$8,0)),0) -> 0 | MV9: =IFERROR(MU9*INDEX($T$8:$AK$14,MATCH($AN9,$T$8:$T$14,0),MATCH(MV$7,$T$8:$AK$8,0)),0) -> 0 | MX9: =IFERROR(MW9*INDEX($T$8:$AK$14,MATCH($AN9,$T$8:$T$14,0),MATCH(MX$7,$T$8:$AK$8,0)),0) -> 0 | MZ9: =IFERROR(MY9*INDEX($T$8:$AK$14,MATCH($AN9,$T$8:$T$14,0),MATCH(MZ$7,$T$8:$AK$8,0)),0) -> 0 | NB9: =IFERROR(NA9*INDEX($T$8:$AK$14,MATCH($AN9,$T$8:$T$14,0),MATCH(NB$7,$T$8:$AK$8,0)),0) -> 0 | ND9: =IFERROR(NC9*INDEX($T$8:$AK$14,MATCH($AN9,$T$8:$T$14,0),MATCH(ND$7,$T$8:$AK$8,0)),0) -> 0 | NF9: =IFERROR(NE9*INDEX($T$8:$AK$14,MATCH($AN9,$T$8:$T$14,0),MATCH(NF$7,$T$8:$AK$8,0)),0) -> 0 | NH9: =IFERROR(NG9*INDEX($T$8:$AK$14,MATCH($AN9,$T$8:$T$14,0),MATCH(NH$7,$T$8:$AK$8,0)),0) -> 0 | NJ9: =IFERROR(NI9*INDEX($T$8:$AK$14,MATCH($AN9,$T$8:$T$14,0),MATCH(NJ$7,$T$8:$AK$8,0)),0) -> 0 | NL9: =IFERROR(NK9*INDEX($T$8:$AK$14,MATCH($AN9,$T$8:$T$14,0),MATCH(NL$7,$T$8:$AK$8,0)),0) -> 0 | NN9: =IFERROR(NM9*INDEX($T$8:$AK$14,MATCH($AN9,$T$8:$T$14,0),MATCH(NN$7,$T$8:$AK$8,0)),0) -> 0 | NP9: =IFERROR(NO9*INDEX($T$8:$AK$14,MATCH($AN9,$T$8:$T$14,0),MATCH(NP$7,$T$8:$AK$8,0)),0) -> 0 | NR9: =IFERROR(NQ9*INDEX($T$8:$AK$14,MATCH($AN9,$T$8:$T$14,0),MATCH(NR$7,$T$8:$AK$8,0)),0) -> 0 | NT9: =IFERROR(NS9*INDEX($T$8:$AK$14,MATCH($AN9,$T$8:$T$14,0),MATCH(NT$7,$T$8:$AK$8,0)),0) -> 0 | NV9: =IFERROR(NU9*INDEX($T$8:$AK$14,MATCH($AN9,$T$8:$T$14,0),MATCH(NV$7,$T$8:$AK$8,0)),0) -> 0 | NX9: =IFERROR(NW9*INDEX($T$8:$AK$14,MATCH($AN9,$T$8:$T$14,0),MATCH(NX$7,$T$8:$AK$8,0)),0) -> 0 | NZ9: =IFERROR(NY9*INDEX($T$8:$AK$14,MATCH($AN9,$T$8:$T$14,0),MATCH(NZ$7,$T$8:$AK$8,0)),0) -> 0 | OB9: =IFERROR(OA9*INDEX($T$8:$AK$14,MATCH($AN9,$T$8:$T$14,0),MATCH(OB$7,$T$8:$AK$8,0)),0) -> 0 | OD9: =IFERROR(OC9*INDEX($T$8:$AK$14,MATCH($AN9,$T$8:$T$14,0),MATCH(OD$7,$T$8:$AK$8,0)),0) -> 0 | OF9: =IFERROR(OE9*INDEX($T$8:$AK$14,MATCH($AN9,$T$8:$T$14,0),MATCH(OF$7,$T$8:$AK$8,0)),0) -> 0 | OH9: =IFERROR(OG9*INDEX($T$8:$AK$14,MATCH($AN9,$T$8:$T$14,0),MATCH(OH$7,$T$8:$AK$8,0)),0) -> 0 | OJ9: =IFERROR(OI9*INDEX($T$8:$AK$14,MATCH($AN9,$T$8:$T$14,0),MATCH(OJ$7,$T$8:$AK$8,0)),0) -> 0 | OL9: =IFERROR(OK9*INDEX($T$8:$AK$14,MATCH($AN9,$T$8:$T$14,0),MATCH(OL$7,$T$8:$AK$8,0)),0) -> 0 | ON9: =IFERROR(OM9*INDEX($T$8:$AK$14,MATCH($AN9,$T$8:$T$14,0),MATCH(ON$7,$T$8:$AK$8,0)),0) -> 0 | OP9: =IFERROR(OO9*INDEX($T$8:$AK$14,MATCH($AN9,$T$8:$T$14,0),MATCH(OP$7,$T$8:$AK$8,0)),0) -> 0 | OR9: =IFERROR(OQ9*INDEX($T$8:$AK$14,MATCH($AN9,$T$8:$T$14,0),MATCH(OR$7,$T$8:$AK$8,0)),0) -> 0 | OT9: =IFERROR(OS9*INDEX($T$8:$AK$14,MATCH($AN9,$T$8:$T$14,0),MATCH(OT$7,$T$8:$AK$8,0)),0) -> 0 | OV9: =IFERROR(OU9*INDEX($T$8:$AK$14,MATCH($AN9,$T$8:$T$14,0),MATCH(OV$7,$T$8:$AK$8,0)),0) -> 0 | OX9: =IFERROR(OW9*INDEX($T$8:$AK$14,MATCH($AN9,$T$8:$T$14,0),MATCH(OX$7,$T$8:$AK$8,0)),0) -> 0 | OZ9: =IFERROR(OY9*INDEX($T$8:$AK$14,MATCH($AN9,$T$8:$T$14,0),MATCH(OZ$7,$T$8:$AK$8,0)),0) -> 0 | PB9: =IFERROR(PA9*INDEX($T$8:$AK$14,MATCH($AN9,$T$8:$T$14,0),MATCH(PB$7,$T$8:$AK$8,0)),0) -> 0 | PD9: =IFERROR(PC9*INDEX($T$8:$AK$14,MATCH($AN9,$T$8:$T$14,0),MATCH(PD$7,$T$8:$AK$8,0)),0) -> 0 | PF9: =IFERROR(PE9*INDEX($T$8:$AK$14,MATCH($AN9,$T$8:$T$14,0),MATCH(PF$7,$T$8:$AK$8,0)),0) -> 0 | PH9: =IFERROR(PG9*INDEX($T$8:$AK$14,MATCH($AN9,$T$8:$T$14,0),MATCH(PH$7,$T$8:$AK$8,0)),0) -> 0 | PJ9: =IFERROR(PI9*INDEX($T$8:$AK$14,MATCH($AN9,$T$8:$T$14,0),MATCH(PJ$7,$T$8:$AK$8,0)),0) -> 0 | PL9: =IFERROR(PK9*INDEX($T$8:$AK$14,MATCH($AN9,$T$8:$T$14,0),MATCH(PL$7,$T$8:$AK$8,0)),0) -> 0 | PN9: =IFERROR(PM9*INDEX($T$8:$AK$14,MATCH($AN9,$T$8:$T$14,0),MATCH(PN$7,$T$8:$AK$8,0)),0) -> 0 | PP9: =IFERROR(PO9*INDEX($T$8:$AK$14,MATCH($AN9,$T$8:$T$14,0),MATCH(PP$7,$T$8:$AK$8,0)),0) -> 0 | PR9: =IFERROR(PQ9*INDEX($T$8:$AK$14,MATCH($AN9,$T$8:$T$14,0),MATCH(PR$7,$T$8:$AK$8,0)),0) -> 0 | PT9: =IFERROR(PS9*INDEX($T$8:$AK$14,MATCH($AN9,$T$8:$T$14,0),MATCH(PT$7,$T$8:$AK$8,0)),0) -> 0 | PV9: =IFERROR(PU9*INDEX($T$8:$AK$14,MATCH($AN9,$T$8:$T$14,0),MATCH(PV$7,$T$8:$AK$8,0)),0) -> 0 | PX9: =IFERROR(PW9*INDEX($T$8:$AK$14,MATCH($AN9,$T$8:$T$14,0),MATCH(PX$7,$T$8:$AK$8,0)),0) -> 0 | PZ9: =IFERROR(PY9*INDEX($T$8:$AK$14,MATCH($AN9,$T$8:$T$14,0),MATCH(PZ$7,$T$8:$AK$8,0)),0) -> 0 | QB9: =IFERROR(QA9*INDEX($T$8:$AK$14,MATCH($AN9,$T$8:$T$14,0),MATCH(QB$7,$T$8:$AK$8,0)),0) -> 0 | QD9: =IFERROR(QC9*INDEX($T$8:$AK$14,MATCH($AN9,$T$8:$T$14,0),MATCH(QD$7,$T$8:$AK$8,0)),0) -> 0 | QF9: =IFERROR(QE9*INDEX($T$8:$AK$14,MATCH($AN9,$T$8:$T$14,0),MATCH(QF$7,$T$8:$AK$8,0)),0) -> 0
D10: BAT B | E10: Mécanisation | F10: {=SUMPRODUCT(($AO$8:$QF$98=F$7)*($AM$8:$AM$98=$D10)*($AO$8:$QF$98))} -> 0 | G10: {=SUMPRODUCT(($AO$8:$QF$8=G$7)*($AM$9:$AM$98=$D10)*($AO$9:$QF$98))} -> 5893.44 | H10: {=SUMPRODUCT(($AO$8:$QF$8=H$7)*($AM$9:$AM$98=$D10)*($AO$9:$QF$98))} -> 0 | I10: {=SUMPRODUCT(($AO$8:$QF$8=I$7)*($AM$9:$AM$98=$D10)*($AO$9:$QF$98))} -> 0 | J10: {=SUMPRODUCT(($AO$8:$QF$8=J$7)*($AM$9:$AM$98=$D10)*($AO$9:$QF$98))} -> 0 | K10: {=SUMPRODUCT(($AO$8:$QF$8=K$7)*($AM$9:$AM$98=$D10)*($AO$9:$QF$98))} -> 0 | L10: {=SUMPRODUCT(($AO$8:$QF$8=L$7)*($AM$9:$AM$98=$D10)*($AO$9:$QF$98))} -> 0 | M10: {=SUMPRODUCT(($AO$8:$QF$8=M$7)*($AM$9:$AM$98=$D10)*($AO$9:$QF$98))} -> 0 | N10: {=SUMPRODUCT(($AO$8:$QF$8=N$7)*($AM$9:$AM$98=$D10)*($AO$9:$QF$98))} -> 0 | ... Q10: {=SUMPRODUCT(($AO$8:$QF$8=Q$7)*($AM$9:$AM$98=$D10)*($AO$9:$QF$98))} -> 0 | T10: Chariots | V10: 188.17 | AM10: =AM9 -> BAT A | AN10: =T10 -> Chariots | AP10: =IFERROR(AO10*INDEX($T$8:$AK$14,MATCH($AN10,$T$8:$T$14,0),MATCH(AP$7,$T$8:$AK$8,0)),0) -> 0 | AR10: =IFERROR(AQ10*INDEX($T$8:$AK$14,MATCH($AN10,$T$8:$T$14,0),MATCH(AR$7,$T$8:$AK$8,0)),0) -> 0 | AT10: =IFERROR(AS10*INDEX($T$8:$AK$14,MATCH($AN10,$T$8:$T$14,0),MATCH(AT$7,$T$8:$AK$8,0)),0) -> 0 | AV10: =IFERROR(AU10*INDEX($T$8:$AK$14,MATCH($AN10,$T$8:$T$14,0),MATCH(AV$7,$T$8:$AK$8,0)),0) -> 0 | AX10: =IFERROR(AW10*INDEX($T$8:$AK$14,MATCH($AN10,$T$8:$T$14,0),MATCH(AX$7,$T$8:$AK$8,0)),0) -> 0 | AZ10: =IFERROR(AY10*INDEX($T$8:$AK$14,MATCH($AN10,$T$8:$T$14,0),MATCH(AZ$7,$T$8:$AK$8,0)),0) -> 0 | BB10: =IFERROR(BA10*INDEX($T$8:$AK$14,MATCH($AN10,$T$8:$T$14,0),MATCH(BB$7,$T$8:$AK$8,0)),0) -> 0 | BD10: =IFERROR(BC10*INDEX($T$8:$AK$14,MATCH($AN10,$T$8:$T$14,0),MATCH(BD$7,$T$8:$AK$8,0)),0) -> 0 | BF10: =IFERROR(BE10*INDEX($T$8:$AK$14,MATCH($AN10,$T$8:$T$14,0),MATCH(BF$7,$T$8:$AK$8,0)),0) -> 0 | BH10: =IFERROR(BG10*INDEX($T$8:$AK$14,MATCH($AN10,$T$8:$T$14,0),MATCH(BH$7,$T$8:$AK$8,0)),0) -> 0 | BJ10: =IFERROR(BI10*INDEX($T$8:$AK$14,MATCH($AN10,$T$8:$T$14,0),MATCH(BJ$7,$T$8:$AK$8,0)),0) -> 0 | BL10: =IFERROR(BK10*INDEX($T$8:$AK$14,MATCH($AN10,$T$8:$T$14,0),MATCH(BL$7,$T$8:$AK$8,0)),0) -> 0 | BM10: 7 | BN10: =IFERROR(BM10*INDEX($T$8:$AK$14,MATCH($AN10,$T$8:$T$14,0),MATCH(BN$7,$T$8:$AK$8,0)),0) -> 1317.19 | BO10: 7 | BP10: =IFERROR(BO10*INDEX($T$8:$AK$14,MATCH($AN10,$T$8:$T$14,0),MATCH(BP$7,$T$8:$AK$8,0)),0) -> 1317.19 | BQ10: 7 | BR10: =IFERROR(BQ10*INDEX($T$8:$AK$14,MATCH($AN10,$T$8:$T$14,0),MATCH(BR$7,$T$8:$AK$8,0)),0) -> 1317.19 | BS10: 7 | BT10: =IFERROR(BS10*INDEX($T$8:$AK$14,MATCH($AN10,$T$8:$T$14,0),MATCH(BT$7,$T$8:$AK$8,0)),0) -> 1317.19 | BU10: 7 | BV10: =IFERROR(BU10*INDEX($T$8:$AK$14,MATCH($AN10,$T$8:$T$14,0),MATCH(BV$7,$T$8:$AK$8,0)),0) -> 1317.19 | BW10: 7 | BX10: =IFERROR(BW10*INDEX($T$8:$AK$14,MATCH($AN10,$T$8:$T$14,0),MATCH(BX$7,$T$8:$AK$8,0)),0) -> 1317.19 | BY10: 7 | BZ10: =IFERROR(BY10*INDEX($T$8:$AK$14,MATCH($AN10,$T$8:$T$14,0),MATCH(BZ$7,$T$8:$AK$8,0)),0) -> 1317.19 | CA10: 7 | CB10: =IFERROR(CA10*INDEX($T$8:$AK$14,MATCH($AN10,$T$8:$T$14,0),MATCH(CB$7,$T$8:$AK$8,0)),0) -> 1317.19 | CC10: 7 | CD10: =IFERROR(CC10*INDEX($T$8:$AK$14,MATCH($AN10,$T$8:$T$14,0),MATCH(CD$7,$T$8:$AK$8,0)),0) -> 1317.19 | CE10: 7 | CF10: =IFERROR(CE10*INDEX($T$8:$AK$14,MATCH($AN10,$T$8:$T$14,0),MATCH(CF$7,$T$8:$AK$8,0)),0) -> 1317.19 | CG10: 7 | CH10: =IFERROR(CG10*INDEX($T$8:$AK$14,MATCH($AN10,$T$8:$T$14,0),MATCH(CH$7,$T$8:$AK$8,0)),0) -> 1317.19 | CI10: 7 | CJ10: =IFERROR(CI10*INDEX($T$8:$AK$14,MATCH($AN10,$T$8:$T$14,0),MATCH(CJ$7,$T$8:$AK$8,0)),0) -> 1317.19 | CL10: =IFERROR(CK10*INDEX($T$8:$AK$14,MATCH($AN10,$T$8:$T$14,0),MATCH(CL$7,$T$8:$AK$8,0)),0) -> 0 | CN10: =IFERROR(CM10*INDEX($T$8:$AK$14,MATCH($AN10,$T$8:$T$14,0),MATCH(CN$7,$T$8:$AK$8,0)),0) -> 0 | CP10: =IFERROR(CO10*INDEX($T$8:$AK$14,MATCH($AN10,$T$8:$T$14,0),MATCH(CP$7,$T$8:$AK$8,0)),0) -> 0 | CR10: =IFERROR(CQ10*INDEX($T$8:$AK$14,MATCH($AN10,$T$8:$T$14,0),MATCH(CR$7,$T$8:$AK$8,0)),0) -> 0 | CT10: =IFERROR(CS10*INDEX($T$8:$AK$14,MATCH($AN10,$T$8:$T$14,0),MATCH(CT$7,$T$8:$AK$8,0)),0) -> 0 | CV10: =IFERROR(CU10*INDEX($T$8:$AK$14,MATCH($AN10,$T$8:$T$14,0),MATCH(CV$7,$T$8:$AK$8,0)),0) -> 0 | CX10: =IFERROR(CW10*INDEX($T$8:$AK$14,MATCH($AN10,$T$8:$T$14,0),MATCH(CX$7,$T$8:$AK$8,0)),0) -> 0 | CZ10: =IFERROR(CY10*INDEX($T$8:$AK$14,MATCH($AN10,$T$8:$T$14,0),MATCH(CZ$7,$T$8:$AK$8,0)),0) -> 0 | DB10: =IFERROR(DA10*INDEX($T$8:$AK$14,MATCH($AN10,$T$8:$T$14,0),MATCH(DB$7,$T$8:$AK$8,0)),0) -> 0 | DD10: =IFERROR(DC10*INDEX($T$8:$AK$14,MATCH($AN10,$T$8:$T$14,0),MATCH(DD$7,$T$8:$AK$8,0)),0) -> 0 | DF10: =IFERROR(DE10*INDEX($T$8:$AK$14,MATCH($AN10,$T$8:$T$14,0),MATCH(DF$7,$T$8:$AK$8,0)),0) -> 0 | DH10: =IFERROR(DG10*INDEX($T$8:$AK$14,MATCH($AN10,$T$8:$T$14,0),MATCH(DH$7,$T$8:$AK$8,0)),0) -> 0 | DJ10: =IFERROR(DI10*INDEX($T$8:$AK$14,MATCH($AN10,$T$8:$T$14,0),MATCH(DJ$7,$T$8:$AK$8,0)),0) -> 0 | DL10: =IFERROR(DK10*INDEX($T$8:$AK$14,MATCH($AN10,$T$8:$T$14,0),MATCH(DL$7,$T$8:$AK$8,0)),0) -> 0 | DN10: =IFERROR(DM10*INDEX($T$8:$AK$14,MATCH($AN10,$T$8:$T$14,0),MATCH(DN$7,$T$8:$AK$8,0)),0) -> 0 | DP10: =IFERROR(DO10*INDEX($T$8:$AK$14,MATCH($AN10,$T$8:$T$14,0),MATCH(DP$7,$T$8:$AK$8,0)),0) -> 0 | DR10: =IFERROR(DQ10*INDEX($T$8:$AK$14,MATCH($AN10,$T$8:$T$14,0),MATCH(DR$7,$T$8:$AK$8,0)),0) -> 0 | DT10: =IFERROR(DS10*INDEX($T$8:$AK$14,MATCH($AN10,$T$8:$T$14,0),MATCH(DT$7,$T$8:$AK$8,0)),0) -> 0 | DV10: =IFERROR(DU10*INDEX($T$8:$AK$14,MATCH($AN10,$T$8:$T$14,0),MATCH(DV$7,$T$8:$AK$8,0)),0) -> 0 | DX10: =IFERROR(DW10*INDEX($T$8:$AK$14,MATCH($AN10,$T$8:$T$14,0),MATCH(DX$7,$T$8:$AK$8,0)),0) -> 0 | DZ10: =IFERROR(DY10*INDEX($T$8:$AK$14,MATCH($AN10,$T$8:$T$14,0),MATCH(DZ$7,$T$8:$AK$8,0)),0) -> 0 | EB10: =IFERROR(EA10*INDEX($T$8:$AK$14,MATCH($AN10,$T$8:$T$14,0),MATCH(EB$7,$T$8:$AK$8,0)),0) -> 0 | ED10: =IFERROR(EC10*INDEX($T$8:$AK$14,MATCH($AN10,$T$8:$T$14,0),MATCH(ED$7,$T$8:$AK$8,0)),0) -> 0 | EF10: =IFERROR(EE10*INDEX($T$8:$AK$14,MATCH($AN10,$T$8:$T$14,0),MATCH(EF$7,$T$8:$AK$8,0)),0) -> 0 | EH10: =IFERROR(EG10*INDEX($T$8:$AK$14,MATCH($AN10,$T$8:$T$14,0),MATCH(EH$7,$T$8:$AK$8,0)),0) -> 0 | EJ10: =IFERROR(EI10*INDEX($T$8:$AK$14,MATCH($AN10,$T$8:$T$14,0),MATCH(EJ$7,$T$8:$AK$8,0)),0) -> 0 | EL10: =IFERROR(EK10*INDEX($T$8:$AK$14,MATCH($AN10,$T$8:$T$14,0),MATCH(EL$7,$T$8:$AK$8,0)),0) -> 0 | EN10: =IFERROR(EM10*INDEX($T$8:$AK$14,MATCH($AN10,$T$8:$T$14,0),MATCH(EN$7,$T$8:$AK$8,0)),0) -> 0 | EP10: =IFERROR(EO10*INDEX($T$8:$AK$14,MATCH($AN10,$T$8:$T$14,0),MATCH(EP$7,$T$8:$AK$8,0)),0) -> 0 | ER10: =IFERROR(EQ10*INDEX($T$8:$AK$14,MATCH($AN10,$T$8:$T$14,0),MATCH(ER$7,$T$8:$AK$8,0)),0) -> 0 | ET10: =IFERROR(ES10*INDEX($T$8:$AK$14,MATCH($AN10,$T$8:$T$14,0),MATCH(ET$7,$T$8:$AK$8,0)),0) -> 0 | EV10: =IFERROR(EU10*INDEX($T$8:$AK$14,MATCH($AN10,$T$8:$T$14,0),MATCH(EV$7,$T$8:$AK$8,0)),0) -> 0 | EX10: =IFERROR(EW10*INDEX($T$8:$AK$14,MATCH($AN10,$T$8:$T$14,0),MATCH(EX$7,$T$8:$AK$8,0)),0) -> 0 | EZ10: =IFERROR(EY10*INDEX($T$8:$AK$14,MATCH($AN10,$T$8:$T$14,0),MATCH(EZ$7,$T$8:$AK$8,0)),0) -> 0 | FB10: =IFERROR(FA10*INDEX($T$8:$AK$14,MATCH($AN10,$T$8:$T$14,0),MATCH(FB$7,$T$8:$AK$8,0)),0) -> 0 | FD10: =IFERROR(FC10*INDEX($T$8:$AK$14,MATCH($AN10,$T$8:$T$14,0),MATCH(FD$7,$T$8:$AK$8,0)),0) -> 0 | FF10: =IFERROR(FE10*INDEX($T$8:$AK$14,MATCH($AN10,$T$8:$T$14,0),MATCH(FF$7,$T$8:$AK$8,0)),0) -> 0 | FH10: =IFERROR(FG10*INDEX($T$8:$AK$14,MATCH($AN10,$T$8:$T$14,0),MATCH(FH$7,$T$8:$AK$8,0)),0) -> 0 | FJ10: =IFERROR(FI10*INDEX($T$8:$AK$14,MATCH($AN10,$T$8:$T$14,0),MATCH(FJ$7,$T$8:$AK$8,0)),0) -> 0 | FL10: =IFERROR(FK10*INDEX($T$8:$AK$14,MATCH($AN10,$T$8:$T$14,0),MATCH(FL$7,$T$8:$AK$8,0)),0) -> 0 | FN10: =IFERROR(FM10*INDEX($T$8:$AK$14,MATCH($AN10,$T$8:$T$14,0),MATCH(FN$7,$T$8:$AK$8,0)),0) -> 0 | FP10: =IFERROR(FO10*INDEX($T$8:$AK$14,MATCH($AN10,$T$8:$T$14,0),MATCH(FP$7,$T$8:$AK$8,0)),0) -> 0 | FR10: =IFERROR(FQ10*INDEX($T$8:$AK$14,MATCH($AN10,$T$8:$T$14,0),MATCH(FR$7,$T$8:$AK$8,0)),0) -> 0 | FT10: =IFERROR(FS10*INDEX($T$8:$AK$14,MATCH($AN10,$T$8:$T$14,0),MATCH(FT$7,$T$8:$AK$8,0)),0) -> 0 | FV10: =IFERROR(FU10*INDEX($T$8:$AK$14,MATCH($AN10,$T$8:$T$14,0),MATCH(FV$7,$T$8:$AK$8,0)),0) -> 0 | FX10: =IFERROR(FW10*INDEX($T$8:$AK$14,MATCH($AN10,$T$8:$T$14,0),MATCH(FX$7,$T$8:$AK$8,0)),0) -> 0 | FZ10: =IFERROR(FY10*INDEX($T$8:$AK$14,MATCH($AN10,$T$8:$T$14,0),MATCH(FZ$7,$T$8:$AK$8,0)),0) -> 0 | GB10: =IFERROR(GA10*INDEX($T$8:$AK$14,MATCH($AN10,$T$8:$T$14,0),MATCH(GB$7,$T$8:$AK$8,0)),0) -> 0 | GD10: =IFERROR(GC10*INDEX($T$8:$AK$14,MATCH($AN10,$T$8:$T$14,0),MATCH(GD$7,$T$8:$AK$8,0)),0) -> 0 | GF10: =IFERROR(GE10*INDEX($T$8:$AK$14,MATCH($AN10,$T$8:$T$14,0),MATCH(GF$7,$T$8:$AK$8,0)),0) -> 0 | GH10: =IFERROR(GG10*INDEX($T$8:$AK$14,MATCH($AN10,$T$8:$T$14,0),MATCH(GH$7,$T$8:$AK$8,0)),0) -> 0 | GJ10: =IFERROR(GI10*INDEX($T$8:$AK$14,MATCH($AN10,$T$8:$T$14,0),MATCH(GJ$7,$T$8:$AK$8,0)),0) -> 0 | GL10: =IFERROR(GK10*INDEX($T$8:$AK$14,MATCH($AN10,$T$8:$T$14,0),MATCH(GL$7,$T$8:$AK$8,0)),0) -> 0 | GN10: =IFERROR(GM10*INDEX($T$8:$AK$14,MATCH($AN10,$T$8:$T$14,0),MATCH(GN$7,$T$8:$AK$8,0)),0) -> 0 | GP10: =IFERROR(GO10*INDEX($T$8:$AK$14,MATCH($AN10,$T$8:$T$14,0),MATCH(GP$7,$T$8:$AK$8,0)),0) -> 0 | GR10: =IFERROR(GQ10*INDEX($T$8:$AK$14,MATCH($AN10,$T$8:$T$14,0),MATCH(GR$7,$T$8:$AK$8,0)),0) -> 0 | GT10: =IFERROR(GS10*INDEX($T$8:$AK$14,MATCH($AN10,$T$8:$T$14,0),MATCH(GT$7,$T$8:$AK$8,0)),0) -> 0 | GV10: =IFERROR(GU10*INDEX($T$8:$AK$14,MATCH($AN10,$T$8:$T$14,0),MATCH(GV$7,$T$8:$AK$8,0)),0) -> 0 | GX10: =IFERROR(GW10*INDEX($T$8:$AK$14,MATCH($AN10,$T$8:$T$14,0),MATCH(GX$7,$T$8:$AK$8,0)),0) -> 0 | GZ10: =IFERROR(GY10*INDEX($T$8:$AK$14,MATCH($AN10,$T$8:$T$14,0),MATCH(GZ$7,$T$8:$AK$8,0)),0) -> 0 | HB10: =IFERROR(HA10*INDEX($T$8:$AK$14,MATCH($AN10,$T$8:$T$14,0),MATCH(HB$7,$T$8:$AK$8,0)),0) -> 0 | HD10: =IFERROR(HC10*INDEX($T$8:$AK$14,MATCH($AN10,$T$8:$T$14,0),MATCH(HD$7,$T$8:$AK$8,0)),0) -> 0 | HF10: =IFERROR(HE10*INDEX($T$8:$AK$14,MATCH($AN10,$T$8:$T$14,0),MATCH(HF$7,$T$8:$AK$8,0)),0) -> 0 | HH10: =IFERROR(HG10*INDEX($T$8:$AK$14,MATCH($AN10,$T$8:$T$14,0),MATCH(HH$7,$T$8:$AK$8,0)),0) -> 0 | HJ10: =IFERROR(HI10*INDEX($T$8:$AK$14,MATCH($AN10,$T$8:$T$14,0),MATCH(HJ$7,$T$8:$AK$8,0)),0) -> 0 | HL10: =IFERROR(HK10*INDEX($T$8:$AK$14,MATCH($AN10,$T$8:$T$14,0),MATCH(HL$7,$T$8:$AK$8,0)),0) -> 0 | HN10: =IFERROR(HM10*INDEX($T$8:$AK$14,MATCH($AN10,$T$8:$T$14,0),MATCH(HN$7,$T$8:$AK$8,0)),0) -> 0 | HP10: =IFERROR(HO10*INDEX($T$8:$AK$14,MATCH($AN10,$T$8:$T$14,0),MATCH(HP$7,$T$8:$AK$8,0)),0) -> 0 | HR10: =IFERROR(HQ10*INDEX($T$8:$AK$14,MATCH($AN10,$T$8:$T$14,0),MATCH(HR$7,$T$8:$AK$8,0)),0) -> 0 | HT10: =IFERROR(HS10*INDEX($T$8:$AK$14,MATCH($AN10,$T$8:$T$14,0),MATCH(HT$7,$T$8:$AK$8,0)),0) -> 0 | HV10: =IFERROR(HU10*INDEX($T$8:$AK$14,MATCH($AN10,$T$8:$T$14,0),MATCH(HV$7,$T$8:$AK$8,0)),0) -> 0 | HX10: =IFERROR(HW10*INDEX($T$8:$AK$14,MATCH($AN10,$T$8:$T$14,0),MATCH(HX$7,$T$8:$AK$8,0)),0) -> 0 | HZ10: =IFERROR(HY10*INDEX($T$8:$AK$14,MATCH($AN10,$T$8:$T$14,0),MATCH(HZ$7,$T$8:$AK$8,0)),0) -> 0 | IB10: =IFERROR(IA10*INDEX($T$8:$AK$14,MATCH($AN10,$T$8:$T$14,0),MATCH(IB$7,$T$8:$AK$8,0)),0) -> 0 | ID10: =IFERROR(IC10*INDEX($T$8:$AK$14,MATCH($AN10,$T$8:$T$14,0),MATCH(ID$7,$T$8:$AK$8,0)),0) -> 0 | IF10: =IFERROR(IE10*INDEX($T$8:$AK$14,MATCH($AN10,$T$8:$T$14,0),MATCH(IF$7,$T$8:$AK$8,0)),0) -> 0 | IH10: =IFERROR(IG10*INDEX($T$8:$AK$14,MATCH($AN10,$T$8:$T$14,0),MATCH(IH$7,$T$8:$AK$8,0)),0) -> 0 | IJ10: =IFERROR(II10*INDEX($T$8:$AK$14,MATCH($AN10,$T$8:$T$14,0),MATCH(IJ$7,$T$8:$AK$8,0)),0) -> 0 | IL10: =IFERROR(IK10*INDEX($T$8:$AK$14,MATCH($AN10,$T$8:$T$14,0),MATCH(IL$7,$T$8:$AK$8,0)),0) -> 0 | IN10: =IFERROR(IM10*INDEX($T$8:$AK$14,MATCH($AN10,$T$8:$T$14,0),MATCH(IN$7,$T$8:$AK$8,0)),0) -> 0 | IP10: =IFERROR(IO10*INDEX($T$8:$AK$14,MATCH($AN10,$T$8:$T$14,0),MATCH(IP$7,$T$8:$AK$8,0)),0) -> 0 | IR10: =IFERROR(IQ10*INDEX($T$8:$AK$14,MATCH($AN10,$T$8:$T$14,0),MATCH(IR$7,$T$8:$AK$8,0)),0) -> 0 | IT10: =IFERROR(IS10*INDEX($T$8:$AK$14,MATCH($AN10,$T$8:$T$14,0),MATCH(IT$7,$T$8:$AK$8,0)),0) -> 0 | IV10: =IFERROR(IU10*INDEX($T$8:$AK$14,MATCH($AN10,$T$8:$T$14,0),MATCH(IV$7,$T$8:$AK$8,0)),0) -> 0 | IX10: =IFERROR(IW10*INDEX($T$8:$AK$14,MATCH($AN10,$T$8:$T$14,0),MATCH(IX$7,$T$8:$AK$8,0)),0) -> 0 | IZ10: =IFERROR(IY10*INDEX($T$8:$AK$14,MATCH($AN10,$T$8:$T$14,0),MATCH(IZ$7,$T$8:$AK$8,0)),0) -> 0 | JB10: =IFERROR(JA10*INDEX($T$8:$AK$14,MATCH($AN10,$T$8:$T$14,0),MATCH(JB$7,$T$8:$AK$8,0)),0) -> 0 | JD10: =IFERROR(JC10*INDEX($T$8:$AK$14,MATCH($AN10,$T$8:$T$14,0),MATCH(JD$7,$T$8:$AK$8,0)),0) -> 0 | JF10: =IFERROR(JE10*INDEX($T$8:$AK$14,MATCH($AN10,$T$8:$T$14,0),MATCH(JF$7,$T$8:$AK$8,0)),0) -> 0 | JH10: =IFERROR(JG10*INDEX($T$8:$AK$14,MATCH($AN10,$T$8:$T$14,0),MATCH(JH$7,$T$8:$AK$8,0)),0) -> 0 | JJ10: =IFERROR(JI10*INDEX($T$8:$AK$14,MATCH($AN10,$T$8:$T$14,0),MATCH(JJ$7,$T$8:$AK$8,0)),0) -> 0 | JL10: =IFERROR(JK10*INDEX($T$8:$AK$14,MATCH($AN10,$T$8:$T$14,0),MATCH(JL$7,$T$8:$AK$8,0)),0) -> 0 | JN10: =IFERROR(JM10*INDEX($T$8:$AK$14,MATCH($AN10,$T$8:$T$14,0),MATCH(JN$7,$T$8:$AK$8,0)),0) -> 0 | JP10: =IFERROR(JO10*INDEX($T$8:$AK$14,MATCH($AN10,$T$8:$T$14,0),MATCH(JP$7,$T$8:$AK$8,0)),0) -> 0 | JR10: =IFERROR(JQ10*INDEX($T$8:$AK$14,MATCH($AN10,$T$8:$T$14,0),MATCH(JR$7,$T$8:$AK$8,0)),0) -> 0 | JT10: =IFERROR(JS10*INDEX($T$8:$AK$14,MATCH($AN10,$T$8:$T$14,0),MATCH(JT$7,$T$8:$AK$8,0)),0) -> 0 | JV10: =IFERROR(JU10*INDEX($T$8:$AK$14,MATCH($AN10,$T$8:$T$14,0),MATCH(JV$7,$T$8:$AK$8,0)),0) -> 0 | JX10: =IFERROR(JW10*INDEX($T$8:$AK$14,MATCH($AN10,$T$8:$T$14,0),MATCH(JX$7,$T$8:$AK$8,0)),0) -> 0 | JZ10: =IFERROR(JY10*INDEX($T$8:$AK$14,MATCH($AN10,$T$8:$T$14,0),MATCH(JZ$7,$T$8:$AK$8,0)),0) -> 0 | KB10: =IFERROR(KA10*INDEX($T$8:$AK$14,MATCH($AN10,$T$8:$T$14,0),MATCH(KB$7,$T$8:$AK$8,0)),0) -> 0 | KD10: =IFERROR(KC10*INDEX($T$8:$AK$14,MATCH($AN10,$T$8:$T$14,0),MATCH(KD$7,$T$8:$AK$8,0)),0) -> 0 | KF10: =IFERROR(KE10*INDEX($T$8:$AK$14,MATCH($AN10,$T$8:$T$14,0),MATCH(KF$7,$T$8:$AK$8,0)),0) -> 0 | KH10: =IFERROR(KG10*INDEX($T$8:$AK$14,MATCH($AN10,$T$8:$T$14,0),MATCH(KH$7,$T$8:$AK$8,0)),0) -> 0 | KJ10: =IFERROR(KI10*INDEX($T$8:$AK$14,MATCH($AN10,$T$8:$T$14,0),MATCH(KJ$7,$T$8:$AK$8,0)),0) -> 0 | KL10: =IFERROR(KK10*INDEX($T$8:$AK$14,MATCH($AN10,$T$8:$T$14,0),MATCH(KL$7,$T$8:$AK$8,0)),0) -> 0 | KN10: =IFERROR(KM10*INDEX($T$8:$AK$14,MATCH($AN10,$T$8:$T$14,0),MATCH(KN$7,$T$8:$AK$8,0)),0) -> 0 | KP10: =IFERROR(KO10*INDEX($T$8:$AK$14,MATCH($AN10,$T$8:$T$14,0),MATCH(KP$7,$T$8:$AK$8,0)),0) -> 0 | KR10: =IFERROR(KQ10*INDEX($T$8:$AK$14,MATCH($AN10,$T$8:$T$14,0),MATCH(KR$7,$T$8:$AK$8,0)),0) -> 0 | KT10: =IFERROR(KS10*INDEX($T$8:$AK$14,MATCH($AN10,$T$8:$T$14,0),MATCH(KT$7,$T$8:$AK$8,0)),0) -> 0 | KV10: =IFERROR(KU10*INDEX($T$8:$AK$14,MATCH($AN10,$T$8:$T$14,0),MATCH(KV$7,$T$8:$AK$8,0)),0) -> 0 | KX10: =IFERROR(KW10*INDEX($T$8:$AK$14,MATCH($AN10,$T$8:$T$14,0),MATCH(KX$7,$T$8:$AK$8,0)),0) -> 0 | KZ10: =IFERROR(KY10*INDEX($T$8:$AK$14,MATCH($AN10,$T$8:$T$14,0),MATCH(KZ$7,$T$8:$AK$8,0)),0) -> 0 | LB10: =IFERROR(LA10*INDEX($T$8:$AK$14,MATCH($AN10,$T$8:$T$14,0),MATCH(LB$7,$T$8:$AK$8,0)),0) -> 0 | LD10: =IFERROR(LC10*INDEX($T$8:$AK$14,MATCH($AN10,$T$8:$T$14,0),MATCH(LD$7,$T$8:$AK$8,0)),0) -> 0 | LF10: =IFERROR(LE10*INDEX($T$8:$AK$14,MATCH($AN10,$T$8:$T$14,0),MATCH(LF$7,$T$8:$AK$8,0)),0) -> 0 | LH10: =IFERROR(LG10*INDEX($T$8:$AK$14,MATCH($AN10,$T$8:$T$14,0),MATCH(LH$7,$T$8:$AK$8,0)),0) -> 0 | LJ10: =IFERROR(LI10*INDEX($T$8:$AK$14,MATCH($AN10,$T$8:$T$14,0),MATCH(LJ$7,$T$8:$AK$8,0)),0) -> 0 | LL10: =IFERROR(LK10*INDEX($T$8:$AK$14,MATCH($AN10,$T$8:$T$14,0),MATCH(LL$7,$T$8:$AK$8,0)),0) -> 0 | LN10: =IFERROR(LM10*INDEX($T$8:$AK$14,MATCH($AN10,$T$8:$T$14,0),MATCH(LN$7,$T$8:$AK$8,0)),0) -> 0 | LP10: =IFERROR(LO10*INDEX($T$8:$AK$14,MATCH($AN10,$T$8:$T$14,0),MATCH(LP$7,$T$8:$AK$8,0)),0) -> 0 | LR10: =IFERROR(LQ10*INDEX($T$8:$AK$14,MATCH($AN10,$T$8:$T$14,0),MATCH(LR$7,$T$8:$AK$8,0)),0) -> 0 | LT10: =IFERROR(LS10*INDEX($T$8:$AK$14,MATCH($AN10,$T$8:$T$14,0),MATCH(LT$7,$T$8:$AK$8,0)),0) -> 0 | LV10: =IFERROR(LU10*INDEX($T$8:$AK$14,MATCH($AN10,$T$8:$T$14,0),MATCH(LV$7,$T$8:$AK$8,0)),0) -> 0 | LX10: =IFERROR(LW10*INDEX($T$8:$AK$14,MATCH($AN10,$T$8:$T$14,0),MATCH(LX$7,$T$8:$AK$8,0)),0) -> 0 | LZ10: =IFERROR(LY10*INDEX($T$8:$AK$14,MATCH($AN10,$T$8:$T$14,0),MATCH(LZ$7,$T$8:$AK$8,0)),0) -> 0 | MB10: =IFERROR(MA10*INDEX($T$8:$AK$14,MATCH($AN10,$T$8:$T$14,0),MATCH(MB$7,$T$8:$AK$8,0)),0) -> 0 | MD10: =IFERROR(MC10*INDEX($T$8:$AK$14,MATCH($AN10,$T$8:$T$14,0),MATCH(MD$7,$T$8:$AK$8,0)),0) -> 0 | MF10: =IFERROR(ME10*INDEX($T$8:$AK$14,MATCH($AN10,$T$8:$T$14,0),MATCH(MF$7,$T$8:$AK$8,0)),0) -> 0 | MH10: =IFERROR(MG10*INDEX($T$8:$AK$14,MATCH($AN10,$T$8:$T$14,0),MATCH(MH$7,$T$8:$AK$8,0)),0) -> 0 | MJ10: =IFERROR(MI10*INDEX($T$8:$AK$14,MATCH($AN10,$T$8:$T$14,0),MATCH(MJ$7,$T$8:$AK$8,0)),0) -> 0 | ML10: =IFERROR(MK10*INDEX($T$8:$AK$14,MATCH($AN10,$T$8:$T$14,0),MATCH(ML$7,$T$8:$AK$8,0)),0) -> 0 | MN10: =IFERROR(MM10*INDEX($T$8:$AK$14,MATCH($AN10,$T$8:$T$14,0),MATCH(MN$7,$T$8:$AK$8,0)),0) -> 0 | MP10: =IFERROR(MO10*INDEX($T$8:$AK$14,MATCH($AN10,$T$8:$T$14,0),MATCH(MP$7,$T$8:$AK$8,0)),0) -> 0 | MR10: =IFERROR(MQ10*INDEX($T$8:$AK$14,MATCH($AN10,$T$8:$T$14,0),MATCH(MR$7,$T$8:$AK$8,0)),0) -> 0 | MT10: =IFERROR(MS10*INDEX($T$8:$AK$14,MATCH($AN10,$T$8:$T$14,0),MATCH(MT$7,$T$8:$AK$8,0)),0) -> 0 | MV10: =IFERROR(MU10*INDEX($T$8:$AK$14,MATCH($AN10,$T$8:$T$14,0),MATCH(MV$7,$T$8:$AK$8,0)),0) -> 0 | MX10: =IFERROR(MW10*INDEX($T$8:$AK$14,MATCH($AN10,$T$8:$T$14,0),MATCH(MX$7,$T$8:$AK$8,0)),0) -> 0 | MZ10: =IFERROR(MY10*INDEX($T$8:$AK$14,MATCH($AN10,$T$8:$T$14,0),MATCH(MZ$7,$T$8:$AK$8,0)),0) -> 0 | NB10: =IFERROR(NA10*INDEX($T$8:$AK$14,MATCH($AN10,$T$8:$T$14,0),MATCH(NB$7,$T$8:$AK$8,0)),0) -> 0 | ND10: =IFERROR(NC10*INDEX($T$8:$AK$14,MATCH($AN10,$T$8:$T$14,0),MATCH(ND$7,$T$8:$AK$8,0)),0) -> 0 | NF10: =IFERROR(NE10*INDEX($T$8:$AK$14,MATCH($AN10,$T$8:$T$14,0),MATCH(NF$7,$T$8:$AK$8,0)),0) -> 0 | NH10: =IFERROR(NG10*INDEX($T$8:$AK$14,MATCH($AN10,$T$8:$T$14,0),MATCH(NH$7,$T$8:$AK$8,0)),0) -> 0 | NJ10: =IFERROR(NI10*INDEX($T$8:$AK$14,MATCH($AN10,$T$8:$T$14,0),MATCH(NJ$7,$T$8:$AK$8,0)),0) -> 0 | NL10: =IFERROR(NK10*INDEX($T$8:$AK$14,MATCH($AN10,$T$8:$T$14,0),MATCH(NL$7,$T$8:$AK$8,0)),0) -> 0 | NN10: =IFERROR(NM10*INDEX($T$8:$AK$14,MATCH($AN10,$T$8:$T$14,0),MATCH(NN$7,$T$8:$AK$8,0)),0) -> 0 | NP10: =IFERROR(NO10*INDEX($T$8:$AK$14,MATCH($AN10,$T$8:$T$14,0),MATCH(NP$7,$T$8:$AK$8,0)),0) -> 0 | NR10: =IFERROR(NQ10*INDEX($T$8:$AK$14,MATCH($AN10,$T$8:$T$14,0),MATCH(NR$7,$T$8:$AK$8,0)),0) -> 0 | NT10: =IFERROR(NS10*INDEX($T$8:$AK$14,MATCH($AN10,$T$8:$T$14,0),MATCH(NT$7,$T$8:$AK$8,0)),0) -> 0 | NV10: =IFERROR(NU10*INDEX($T$8:$AK$14,MATCH($AN10,$T$8:$T$14,0),MATCH(NV$7,$T$8:$AK$8,0)),0) -> 0 | NX10: =IFERROR(NW10*INDEX($T$8:$AK$14,MATCH($AN10,$T$8:$T$14,0),MATCH(NX$7,$T$8:$AK$8,0)),0) -> 0 | NZ10: =IFERROR(NY10*INDEX($T$8:$AK$14,MATCH($AN10,$T$8:$T$14,0),MATCH(NZ$7,$T$8:$AK$8,0)),0) -> 0 | OB10: =IFERROR(OA10*INDEX($T$8:$AK$14,MATCH($AN10,$T$8:$T$14,0),MATCH(OB$7,$T$8:$AK$8,0)),0) -> 0 | OD10: =IFERROR(OC10*INDEX($T$8:$AK$14,MATCH($AN10,$T$8:$T$14,0),MATCH(OD$7,$T$8:$AK$8,0)),0) -> 0 | OF10: =IFERROR(OE10*INDEX($T$8:$AK$14,MATCH($AN10,$T$8:$T$14,0),MATCH(OF$7,$T$8:$AK$8,0)),0) -> 0 | OH10: =IFERROR(OG10*INDEX($T$8:$AK$14,MATCH($AN10,$T$8:$T$14,0),MATCH(OH$7,$T$8:$AK$8,0)),0) -> 0 | OJ10: =IFERROR(OI10*INDEX($T$8:$AK$14,MATCH($AN10,$T$8:$T$14,0),MATCH(OJ$7,$T$8:$AK$8,0)),0) -> 0 | OL10: =IFERROR(OK10*INDEX($T$8:$AK$14,MATCH($AN10,$T$8:$T$14,0),MATCH(OL$7,$T$8:$AK$8,0)),0) -> 0 | ON10: =IFERROR(OM10*INDEX($T$8:$AK$14,MATCH($AN10,$T$8:$T$14,0),MATCH(ON$7,$T$8:$AK$8,0)),0) -> 0 | OP10: =IFERROR(OO10*INDEX($T$8:$AK$14,MATCH($AN10,$T$8:$T$14,0),MATCH(OP$7,$T$8:$AK$8,0)),0) -> 0 | OR10: =IFERROR(OQ10*INDEX($T$8:$AK$14,MATCH($AN10,$T$8:$T$14,0),MATCH(OR$7,$T$8:$AK$8,0)),0) -> 0 | OT10: =IFERROR(OS10*INDEX($T$8:$AK$14,MATCH($AN10,$T$8:$T$14,0),MATCH(OT$7,$T$8:$AK$8,0)),0) -> 0 | OV10: =IFERROR(OU10*INDEX($T$8:$AK$14,MATCH($AN10,$T$8:$T$14,0),MATCH(OV$7,$T$8:$AK$8,0)),0) -> 0 | OX10: =IFERROR(OW10*INDEX($T$8:$AK$14,MATCH($AN10,$T$8:$T$14,0),MATCH(OX$7,$T$8:$AK$8,0)),0) -> 0 | OZ10: =IFERROR(OY10*INDEX($T$8:$AK$14,MATCH($AN10,$T$8:$T$14,0),MATCH(OZ$7,$T$8:$AK$8,0)),0) -> 0 | PB10: =IFERROR(PA10*INDEX($T$8:$AK$14,MATCH($AN10,$T$8:$T$14,0),MATCH(PB$7,$T$8:$AK$8,0)),0) -> 0 | PD10: =IFERROR(PC10*INDEX($T$8:$AK$14,MATCH($AN10,$T$8:$T$14,0),MATCH(PD$7,$T$8:$AK$8,0)),0) -> 0 | PF10: =IFERROR(PE10*INDEX($T$8:$AK$14,MATCH($AN10,$T$8:$T$14,0),MATCH(PF$7,$T$8:$AK$8,0)),0) -> 0 | PH10: =IFERROR(PG10*INDEX($T$8:$AK$14,MATCH($AN10,$T$8:$T$14,0),MATCH(PH$7,$T$8:$AK$8,0)),0) -> 0 | PJ10: =IFERROR(PI10*INDEX($T$8:$AK$14,MATCH($AN10,$T$8:$T$14,0),MATCH(PJ$7,$T$8:$AK$8,0)),0) -> 0 | PL10: =IFERROR(PK10*INDEX($T$8:$AK$14,MATCH($AN10,$T$8:$T$14,0),MATCH(PL$7,$T$8:$AK$8,0)),0) -> 0 | PN10: =IFERROR(PM10*INDEX($T$8:$AK$14,MATCH($AN10,$T$8:$T$14,0),MATCH(PN$7,$T$8:$AK$8,0)),0) -> 0 | PP10: =IFERROR(PO10*INDEX($T$8:$AK$14,MATCH($AN10,$T$8:$T$14,0),MATCH(PP$7,$T$8:$AK$8,0)),0) -> 0 | PR10: =IFERROR(PQ10*INDEX($T$8:$AK$14,MATCH($AN10,$T$8:$T$14,0),MATCH(PR$7,$T$8:$AK$8,0)),0) -> 0 | PT10: =IFERROR(PS10*INDEX($T$8:$AK$14,MATCH($AN10,$T$8:$T$14,0),MATCH(PT$7,$T$8:$AK$8,0)),0) -> 0 | PV10: =IFERROR(PU10*INDEX($T$8:$AK$14,MATCH($AN10,$T$8:$T$14,0),MATCH(PV$7,$T$8:$AK$8,0)),0) -> 0 | PX10: =IFERROR(PW10*INDEX($T$8:$AK$14,MATCH($AN10,$T$8:$T$14,0),MATCH(PX$7,$T$8:$AK$8,0)),0) -> 0 | PZ10: =IFERROR(PY10*INDEX($T$8:$AK$14,MATCH($AN10,$T$8:$T$14,0),MATCH(PZ$7,$T$8:$AK$8,0)),0) -> 0 | QB10: =IFERROR(QA10*INDEX($T$8:$AK$14,MATCH($AN10,$T$8:$T$14,0),MATCH(QB$7,$T$8:$AK$8,0)),0) -> 0 | QD10: =IFERROR(QC10*INDEX($T$8:$AK$14,MATCH($AN10,$T$8:$T$14,0),MATCH(QD$7,$T$8:$AK$8,0)),0) -> 0 | QF10: =IFERROR(QE10*INDEX($T$8:$AK$14,MATCH($AN10,$T$8:$T$14,0),MATCH(QF$7,$T$8:$AK$8,0)),0) -> 0
D11: BAT L'OREAL | E11: Mécanisation | F11: {=SUMPRODUCT(($AO$8:$QF$98=F$7)*($AM$8:$AM$98=$D11)*($AO$8:$QF$98))} -> 0 | G11: {=SUMPRODUCT(($AO$8:$QF$8=G$7)*($AM$9:$AM$98=$D11)*($AO$9:$QF$98))} -> 1075.65 | H11: {=SUMPRODUCT(($AO$8:$QF$8=H$7)*($AM$9:$AM$98=$D11)*($AO$9:$QF$98))} -> 0 | I11: {=SUMPRODUCT(($AO$8:$QF$8=I$7)*($AM$9:$AM$98=$D11)*($AO$9:$QF$98))} -> 0 | J11: {=SUMPRODUCT(($AO$8:$QF$8=J$7)*($AM$9:$AM$98=$D11)*($AO$9:$QF$98))} -> 0 | K11: {=SUMPRODUCT(($AO$8:$QF$8=K$7)*($AM$9:$AM$98=$D11)*($AO$9:$QF$98))} -> 0 | L11: {=SUMPRODUCT(($AO$8:$QF$8=L$7)*($AM$9:$AM$98=$D11)*($AO$9:$QF$98))} -> 0 | M11: {=SUMPRODUCT(($AO$8:$QF$8=M$7)*($AM$9:$AM$98=$D11)*($AO$9:$QF$98))} -> 0 | N11: {=SUMPRODUCT(($AO$8:$QF$8=N$7)*($AM$9:$AM$98=$D11)*($AO$9:$QF$98))} -> 0 | ... Q11: {=SUMPRODUCT(($AO$8:$QF$8=Q$7)*($AM$9:$AM$98=$D11)*($AO$9:$QF$98))} -> 0 | T11: Transpalette | V11: 86.75 | AM11: =AM10 -> BAT A | AN11: =T11 -> Transpalette | AP11: =IFERROR(AO11*INDEX($T$8:$AK$14,MATCH($AN11,$T$8:$T$14,0),MATCH(AP$7,$T$8:$AK$8,0)),0) -> 0 | AR11: =IFERROR(AQ11*INDEX($T$8:$AK$14,MATCH($AN11,$T$8:$T$14,0),MATCH(AR$7,$T$8:$AK$8,0)),0) -> 0 | AT11: =IFERROR(AS11*INDEX($T$8:$AK$14,MATCH($AN11,$T$8:$T$14,0),MATCH(AT$7,$T$8:$AK$8,0)),0) -> 0 | AV11: =IFERROR(AU11*INDEX($T$8:$AK$14,MATCH($AN11,$T$8:$T$14,0),MATCH(AV$7,$T$8:$AK$8,0)),0) -> 0 | AX11: =IFERROR(AW11*INDEX($T$8:$AK$14,MATCH($AN11,$T$8:$T$14,0),MATCH(AX$7,$T$8:$AK$8,0)),0) -> 0 | AZ11: =IFERROR(AY11*INDEX($T$8:$AK$14,MATCH($AN11,$T$8:$T$14,0),MATCH(AZ$7,$T$8:$AK$8,0)),0) -> 0 | BB11: =IFERROR(BA11*INDEX($T$8:$AK$14,MATCH($AN11,$T$8:$T$14,0),MATCH(BB$7,$T$8:$AK$8,0)),0) -> 0 | BD11: =IFERROR(BC11*INDEX($T$8:$AK$14,MATCH($AN11,$T$8:$T$14,0),MATCH(BD$7,$T$8:$AK$8,0)),0) -> 0 | BF11: =IFERROR(BE11*INDEX($T$8:$AK$14,MATCH($AN11,$T$8:$T$14,0),MATCH(BF$7,$T$8:$AK$8,0)),0) -> 0 | BH11: =IFERROR(BG11*INDEX($T$8:$AK$14,MATCH($AN11,$T$8:$T$14,0),MATCH(BH$7,$T$8:$AK$8,0)),0) -> 0 | BJ11: =IFERROR(BI11*INDEX($T$8:$AK$14,MATCH($AN11,$T$8:$T$14,0),MATCH(BJ$7,$T$8:$AK$8,0)),0) -> 0 | BL11: =IFERROR(BK11*INDEX($T$8:$AK$14,MATCH($AN11,$T$8:$T$14,0),MATCH(BL$7,$T$8:$AK$8,0)),0) -> 0 | BM11: 3 | BN11: =IFERROR(BM11*INDEX($T$8:$AK$14,MATCH($AN11,$T$8:$T$14,0),MATCH(BN$7,$T$8:$AK$8,0)),0) -> 260.25 | BO11: 3 | BP11: =IFERROR(BO11*INDEX($T$8:$AK$14,MATCH($AN11,$T$8:$T$14,0),MATCH(BP$7,$T$8:$AK$8,0)),0) -> 260.25 | BQ11: 3 | BR11: =IFERROR(BQ11*INDEX($T$8:$AK$14,MATCH($AN11,$T$8:$T$14,0),MATCH(BR$7,$T$8:$AK$8,0)),0) -> 260.25 | BS11: 3 | BT11: =IFERROR(BS11*INDEX($T$8:$AK$14,MATCH($AN11,$T$8:$T$14,0),MATCH(BT$7,$T$8:$AK$8,0)),0) -> 260.25 | BU11: 3 | BV11: =IFERROR(BU11*INDEX($T$8:$AK$14,MATCH($AN11,$T$8:$T$14,0),MATCH(BV$7,$T$8:$AK$8,0)),0) -> 260.25 | BW11: 3 | BX11: =IFERROR(BW11*INDEX($T$8:$AK$14,MATCH($AN11,$T$8:$T$14,0),MATCH(BX$7,$T$8:$AK$8,0)),0) -> 260.25 | BY11: 3 | BZ11: =IFERROR(BY11*INDEX($T$8:$AK$14,MATCH($AN11,$T$8:$T$14,0),MATCH(BZ$7,$T$8:$AK$8,0)),0) -> 260.25 | CA11: 3 | CB11: =IFERROR(CA11*INDEX($T$8:$AK$14,MATCH($AN11,$T$8:$T$14,0),MATCH(CB$7,$T$8:$AK$8,0)),0) -> 260.25 | CC11: 3 | CD11: =IFERROR(CC11*INDEX($T$8:$AK$14,MATCH($AN11,$T$8:$T$14,0),MATCH(CD$7,$T$8:$AK$8,0)),0) -> 260.25 | CE11: 3 | CF11: =IFERROR(CE11*INDEX($T$8:$AK$14,MATCH($AN11,$T$8:$T$14,0),MATCH(CF$7,$T$8:$AK$8,0)),0) -> 260.25 | CG11: 3 | CH11: =IFERROR(CG11*INDEX($T$8:$AK$14,MATCH($AN11,$T$8:$T$14,0),MATCH(CH$7,$T$8:$AK$8,0)),0) -> 260.25 | CI11: 3 | CJ11: =IFERROR(CI11*INDEX($T$8:$AK$14,MATCH($AN11,$T$8:$T$14,0),MATCH(CJ$7,$T$8:$AK$8,0)),0) -> 260.25 | CL11: =IFERROR(CK11*INDEX($T$8:$AK$14,MATCH($AN11,$T$8:$T$14,0),MATCH(CL$7,$T$8:$AK$8,0)),0) -> 0 | CN11: =IFERROR(CM11*INDEX($T$8:$AK$14,MATCH($AN11,$T$8:$T$14,0),MATCH(CN$7,$T$8:$AK$8,0)),0) -> 0 | CP11: =IFERROR(CO11*INDEX($T$8:$AK$14,MATCH($AN11,$T$8:$T$14,0),MATCH(CP$7,$T$8:$AK$8,0)),0) -> 0 | CR11: =IFERROR(CQ11*INDEX($T$8:$AK$14,MATCH($AN11,$T$8:$T$14,0),MATCH(CR$7,$T$8:$AK$8,0)),0) -> 0 | CT11: =IFERROR(CS11*INDEX($T$8:$AK$14,MATCH($AN11,$T$8:$T$14,0),MATCH(CT$7,$T$8:$AK$8,0)),0) -> 0 | CV11: =IFERROR(CU11*INDEX($T$8:$AK$14,MATCH($AN11,$T$8:$T$14,0),MATCH(CV$7,$T$8:$AK$8,0)),0) -> 0 | CX11: =IFERROR(CW11*INDEX($T$8:$AK$14,MATCH($AN11,$T$8:$T$14,0),MATCH(CX$7,$T$8:$AK$8,0)),0) -> 0 | CZ11: =IFERROR(CY11*INDEX($T$8:$AK$14,MATCH($AN11,$T$8:$T$14,0),MATCH(CZ$7,$T$8:$AK$8,0)),0) -> 0 | DB11: =IFERROR(DA11*INDEX($T$8:$AK$14,MATCH($AN11,$T$8:$T$14,0),MATCH(DB$7,$T$8:$AK$8,0)),0) -> 0 | DD11: =IFERROR(DC11*INDEX($T$8:$AK$14,MATCH($AN11,$T$8:$T$14,0),MATCH(DD$7,$T$8:$AK$8,0)),0) -> 0 | DF11: =IFERROR(DE11*INDEX($T$8:$AK$14,MATCH($AN11,$T$8:$T$14,0),MATCH(DF$7,$T$8:$AK$8,0)),0) -> 0 | DH11: =IFERROR(DG11*INDEX($T$8:$AK$14,MATCH($AN11,$T$8:$T$14,0),MATCH(DH$7,$T$8:$AK$8,0)),0) -> 0 | DJ11: =IFERROR(DI11*INDEX($T$8:$AK$14,MATCH($AN11,$T$8:$T$14,0),MATCH(DJ$7,$T$8:$AK$8,0)),0) -> 0 | DL11: =IFERROR(DK11*INDEX($T$8:$AK$14,MATCH($AN11,$T$8:$T$14,0),MATCH(DL$7,$T$8:$AK$8,0)),0) -> 0 | DN11: =IFERROR(DM11*INDEX($T$8:$AK$14,MATCH($AN11,$T$8:$T$14,0),MATCH(DN$7,$T$8:$AK$8,0)),0) -> 0 | DP11: =IFERROR(DO11*INDEX($T$8:$AK$14,MATCH($AN11,$T$8:$T$14,0),MATCH(DP$7,$T$8:$AK$8,0)),0) -> 0 | DR11: =IFERROR(DQ11*INDEX($T$8:$AK$14,MATCH($AN11,$T$8:$T$14,0),MATCH(DR$7,$T$8:$AK$8,0)),0) -> 0 | DT11: =IFERROR(DS11*INDEX($T$8:$AK$14,MATCH($AN11,$T$8:$T$14,0),MATCH(DT$7,$T$8:$AK$8,0)),0) -> 0 | DV11: =IFERROR(DU11*INDEX($T$8:$AK$14,MATCH($AN11,$T$8:$T$14,0),MATCH(DV$7,$T$8:$AK$8,0)),0) -> 0 | DX11: =IFERROR(DW11*INDEX($T$8:$AK$14,MATCH($AN11,$T$8:$T$14,0),MATCH(DX$7,$T$8:$AK$8,0)),0) -> 0 | DZ11: =IFERROR(DY11*INDEX($T$8:$AK$14,MATCH($AN11,$T$8:$T$14,0),MATCH(DZ$7,$T$8:$AK$8,0)),0) -> 0 | EB11: =IFERROR(EA11*INDEX($T$8:$AK$14,MATCH($AN11,$T$8:$T$14,0),MATCH(EB$7,$T$8:$AK$8,0)),0) -> 0 | ED11: =IFERROR(EC11*INDEX($T$8:$AK$14,MATCH($AN11,$T$8:$T$14,0),MATCH(ED$7,$T$8:$AK$8,0)),0) -> 0 | EF11: =IFERROR(EE11*INDEX($T$8:$AK$14,MATCH($AN11,$T$8:$T$14,0),MATCH(EF$7,$T$8:$AK$8,0)),0) -> 0 | EH11: =IFERROR(EG11*INDEX($T$8:$AK$14,MATCH($AN11,$T$8:$T$14,0),MATCH(EH$7,$T$8:$AK$8,0)),0) -> 0 | EJ11: =IFERROR(EI11*INDEX($T$8:$AK$14,MATCH($AN11,$T$8:$T$14,0),MATCH(EJ$7,$T$8:$AK$8,0)),0) -> 0 | EL11: =IFERROR(EK11*INDEX($T$8:$AK$14,MATCH($AN11,$T$8:$T$14,0),MATCH(EL$7,$T$8:$AK$8,0)),0) -> 0 | EN11: =IFERROR(EM11*INDEX($T$8:$AK$14,MATCH($AN11,$T$8:$T$14,0),MATCH(EN$7,$T$8:$AK$8,0)),0) -> 0 | EP11: =IFERROR(EO11*INDEX($T$8:$AK$14,MATCH($AN11,$T$8:$T$14,0),MATCH(EP$7,$T$8:$AK$8,0)),0) -> 0 | ER11: =IFERROR(EQ11*INDEX($T$8:$AK$14,MATCH($AN11,$T$8:$T$14,0),MATCH(ER$7,$T$8:$AK$8,0)),0) -> 0 | ET11: =IFERROR(ES11*INDEX($T$8:$AK$14,MATCH($AN11,$T$8:$T$14,0),MATCH(ET$7,$T$8:$AK$8,0)),0) -> 0 | EV11: =IFERROR(EU11*INDEX($T$8:$AK$14,MATCH($AN11,$T$8:$T$14,0),MATCH(EV$7,$T$8:$AK$8,0)),0) -> 0 | EX11: =IFERROR(EW11*INDEX($T$8:$AK$14,MATCH($AN11,$T$8:$T$14,0),MATCH(EX$7,$T$8:$AK$8,0)),0) -> 0 | EZ11: =IFERROR(EY11*INDEX($T$8:$AK$14,MATCH($AN11,$T$8:$T$14,0),MATCH(EZ$7,$T$8:$AK$8,0)),0) -> 0 | FB11: =IFERROR(FA11*INDEX($T$8:$AK$14,MATCH($AN11,$T$8:$T$14,0),MATCH(FB$7,$T$8:$AK$8,0)),0) -> 0 | FD11: =IFERROR(FC11*INDEX($T$8:$AK$14,MATCH($AN11,$T$8:$T$14,0),MATCH(FD$7,$T$8:$AK$8,0)),0) -> 0 | FF11: =IFERROR(FE11*INDEX($T$8:$AK$14,MATCH($AN11,$T$8:$T$14,0),MATCH(FF$7,$T$8:$AK$8,0)),0) -> 0 | FH11: =IFERROR(FG11*INDEX($T$8:$AK$14,MATCH($AN11,$T$8:$T$14,0),MATCH(FH$7,$T$8:$AK$8,0)),0) -> 0 | FJ11: =IFERROR(FI11*INDEX($T$8:$AK$14,MATCH($AN11,$T$8:$T$14,0),MATCH(FJ$7,$T$8:$AK$8,0)),0) -> 0 | FL11: =IFERROR(FK11*INDEX($T$8:$AK$14,MATCH($AN11,$T$8:$T$14,0),MATCH(FL$7,$T$8:$AK$8,0)),0) -> 0 | FN11: =IFERROR(FM11*INDEX($T$8:$AK$14,MATCH($AN11,$T$8:$T$14,0),MATCH(FN$7,$T$8:$AK$8,0)),0) -> 0 | FP11: =IFERROR(FO11*INDEX($T$8:$AK$14,MATCH($AN11,$T$8:$T$14,0),MATCH(FP$7,$T$8:$AK$8,0)),0) -> 0 | FR11: =IFERROR(FQ11*INDEX($T$8:$AK$14,MATCH($AN11,$T$8:$T$14,0),MATCH(FR$7,$T$8:$AK$8,0)),0) -> 0 | FT11: =IFERROR(FS11*INDEX($T$8:$AK$14,MATCH($AN11,$T$8:$T$14,0),MATCH(FT$7,$T$8:$AK$8,0)),0) -> 0 | FV11: =IFERROR(FU11*INDEX($T$8:$AK$14,MATCH($AN11,$T$8:$T$14,0),MATCH(FV$7,$T$8:$AK$8,0)),0) -> 0 | FX11: =IFERROR(FW11*INDEX($T$8:$AK$14,MATCH($AN11,$T$8:$T$14,0),MATCH(FX$7,$T$8:$AK$8,0)),0) -> 0 | FZ11: =IFERROR(FY11*INDEX($T$8:$AK$14,MATCH($AN11,$T$8:$T$14,0),MATCH(FZ$7,$T$8:$AK$8,0)),0) -> 0 | GB11: =IFERROR(GA11*INDEX($T$8:$AK$14,MATCH($AN11,$T$8:$T$14,0),MATCH(GB$7,$T$8:$AK$8,0)),0) -> 0 | GD11: =IFERROR(GC11*INDEX($T$8:$AK$14,MATCH($AN11,$T$8:$T$14,0),MATCH(GD$7,$T$8:$AK$8,0)),0) -> 0 | GF11: =IFERROR(GE11*INDEX($T$8:$AK$14,MATCH($AN11,$T$8:$T$14,0),MATCH(GF$7,$T$8:$AK$8,0)),0) -> 0 | GH11: =IFERROR(GG11*INDEX($T$8:$AK$14,MATCH($AN11,$T$8:$T$14,0),MATCH(GH$7,$T$8:$AK$8,0)),0) -> 0 | GJ11: =IFERROR(GI11*INDEX($T$8:$AK$14,MATCH($AN11,$T$8:$T$14,0),MATCH(GJ$7,$T$8:$AK$8,0)),0) -> 0 | GL11: =IFERROR(GK11*INDEX($T$8:$AK$14,MATCH($AN11,$T$8:$T$14,0),MATCH(GL$7,$T$8:$AK$8,0)),0) -> 0 | GN11: =IFERROR(GM11*INDEX($T$8:$AK$14,MATCH($AN11,$T$8:$T$14,0),MATCH(GN$7,$T$8:$AK$8,0)),0) -> 0 | GP11: =IFERROR(GO11*INDEX($T$8:$AK$14,MATCH($AN11,$T$8:$T$14,0),MATCH(GP$7,$T$8:$AK$8,0)),0) -> 0 | GR11: =IFERROR(GQ11*INDEX($T$8:$AK$14,MATCH($AN11,$T$8:$T$14,0),MATCH(GR$7,$T$8:$AK$8,0)),0) -> 0 | GT11: =IFERROR(GS11*INDEX($T$8:$AK$14,MATCH($AN11,$T$8:$T$14,0),MATCH(GT$7,$T$8:$AK$8,0)),0) -> 0 | GV11: =IFERROR(GU11*INDEX($T$8:$AK$14,MATCH($AN11,$T$8:$T$14,0),MATCH(GV$7,$T$8:$AK$8,0)),0) -> 0 | GX11: =IFERROR(GW11*INDEX($T$8:$AK$14,MATCH($AN11,$T$8:$T$14,0),MATCH(GX$7,$T$8:$AK$8,0)),0) -> 0 | GZ11: =IFERROR(GY11*INDEX($T$8:$AK$14,MATCH($AN11,$T$8:$T$14,0),MATCH(GZ$7,$T$8:$AK$8,0)),0) -> 0 | HB11: =IFERROR(HA11*INDEX($T$8:$AK$14,MATCH($AN11,$T$8:$T$14,0),MATCH(HB$7,$T$8:$AK$8,0)),0) -> 0 | HD11: =IFERROR(HC11*INDEX($T$8:$AK$14,MATCH($AN11,$T$8:$T$14,0),MATCH(HD$7,$T$8:$AK$8,0)),0) -> 0 | HF11: =IFERROR(HE11*INDEX($T$8:$AK$14,MATCH($AN11,$T$8:$T$14,0),MATCH(HF$7,$T$8:$AK$8,0)),0) -> 0 | HH11: =IFERROR(HG11*INDEX($T$8:$AK$14,MATCH($AN11,$T$8:$T$14,0),MATCH(HH$7,$T$8:$AK$8,0)),0) -> 0 | HJ11: =IFERROR(HI11*INDEX($T$8:$AK$14,MATCH($AN11,$T$8:$T$14,0),MATCH(HJ$7,$T$8:$AK$8,0)),0) -> 0 | HL11: =IFERROR(HK11*INDEX($T$8:$AK$14,MATCH($AN11,$T$8:$T$14,0),MATCH(HL$7,$T$8:$AK$8,0)),0) -> 0 | HN11: =IFERROR(HM11*INDEX($T$8:$AK$14,MATCH($AN11,$T$8:$T$14,0),MATCH(HN$7,$T$8:$AK$8,0)),0) -> 0 | HP11: =IFERROR(HO11*INDEX($T$8:$AK$14,MATCH($AN11,$T$8:$T$14,0),MATCH(HP$7,$T$8:$AK$8,0)),0) -> 0 | HR11: =IFERROR(HQ11*INDEX($T$8:$AK$14,MATCH($AN11,$T$8:$T$14,0),MATCH(HR$7,$T$8:$AK$8,0)),0) -> 0 | HT11: =IFERROR(HS11*INDEX($T$8:$AK$14,MATCH($AN11,$T$8:$T$14,0),MATCH(HT$7,$T$8:$AK$8,0)),0) -> 0 | HV11: =IFERROR(HU11*INDEX($T$8:$AK$14,MATCH($AN11,$T$8:$T$14,0),MATCH(HV$7,$T$8:$AK$8,0)),0) -> 0 | HX11: =IFERROR(HW11*INDEX($T$8:$AK$14,MATCH($AN11,$T$8:$T$14,0),MATCH(HX$7,$T$8:$AK$8,0)),0) -> 0 | HZ11: =IFERROR(HY11*INDEX($T$8:$AK$14,MATCH($AN11,$T$8:$T$14,0),MATCH(HZ$7,$T$8:$AK$8,0)),0) -> 0 | IB11: =IFERROR(IA11*INDEX($T$8:$AK$14,MATCH($AN11,$T$8:$T$14,0),MATCH(IB$7,$T$8:$AK$8,0)),0) -> 0 | ID11: =IFERROR(IC11*INDEX($T$8:$AK$14,MATCH($AN11,$T$8:$T$14,0),MATCH(ID$7,$T$8:$AK$8,0)),0) -> 0 | IF11: =IFERROR(IE11*INDEX($T$8:$AK$14,MATCH($AN11,$T$8:$T$14,0),MATCH(IF$7,$T$8:$AK$8,0)),0) -> 0 | IH11: =IFERROR(IG11*INDEX($T$8:$AK$14,MATCH($AN11,$T$8:$T$14,0),MATCH(IH$7,$T$8:$AK$8,0)),0) -> 0 | IJ11: =IFERROR(II11*INDEX($T$8:$AK$14,MATCH($AN11,$T$8:$T$14,0),MATCH(IJ$7,$T$8:$AK$8,0)),0) -> 0 | IL11: =IFERROR(IK11*INDEX($T$8:$AK$14,MATCH($AN11,$T$8:$T$14,0),MATCH(IL$7,$T$8:$AK$8,0)),0) -> 0 | IN11: =IFERROR(IM11*INDEX($T$8:$AK$14,MATCH($AN11,$T$8:$T$14,0),MATCH(IN$7,$T$8:$AK$8,0)),0) -> 0 | IP11: =IFERROR(IO11*INDEX($T$8:$AK$14,MATCH($AN11,$T$8:$T$14,0),MATCH(IP$7,$T$8:$AK$8,0)),0) -> 0 | IR11: =IFERROR(IQ11*INDEX($T$8:$AK$14,MATCH($AN11,$T$8:$T$14,0),MATCH(IR$7,$T$8:$AK$8,0)),0) -> 0 | IT11: =IFERROR(IS11*INDEX($T$8:$AK$14,MATCH($AN11,$T$8:$T$14,0),MATCH(IT$7,$T$8:$AK$8,0)),0) -> 0 | IV11: =IFERROR(IU11*INDEX($T$8:$AK$14,MATCH($AN11,$T$8:$T$14,0),MATCH(IV$7,$T$8:$AK$8,0)),0) -> 0 | IX11: =IFERROR(IW11*INDEX($T$8:$AK$14,MATCH($AN11,$T$8:$T$14,0),MATCH(IX$7,$T$8:$AK$8,0)),0) -> 0 | IZ11: =IFERROR(IY11*INDEX($T$8:$AK$14,MATCH($AN11,$T$8:$T$14,0),MATCH(IZ$7,$T$8:$AK$8,0)),0) -> 0 | JB11: =IFERROR(JA11*INDEX($T$8:$AK$14,MATCH($AN11,$T$8:$T$14,0),MATCH(JB$7,$T$8:$AK$8,0)),0) -> 0 | JD11: =IFERROR(JC11*INDEX($T$8:$AK$14,MATCH($AN11,$T$8:$T$14,0),MATCH(JD$7,$T$8:$AK$8,0)),0) -> 0 | JF11: =IFERROR(JE11*INDEX($T$8:$AK$14,MATCH($AN11,$T$8:$T$14,0),MATCH(JF$7,$T$8:$AK$8,0)),0) -> 0 | JH11: =IFERROR(JG11*INDEX($T$8:$AK$14,MATCH($AN11,$T$8:$T$14,0),MATCH(JH$7,$T$8:$AK$8,0)),0) -> 0 | JJ11: =IFERROR(JI11*INDEX($T$8:$AK$14,MATCH($AN11,$T$8:$T$14,0),MATCH(JJ$7,$T$8:$AK$8,0)),0) -> 0 | JL11: =IFERROR(JK11*INDEX($T$8:$AK$14,MATCH($AN11,$T$8:$T$14,0),MATCH(JL$7,$T$8:$AK$8,0)),0) -> 0 | JN11: =IFERROR(JM11*INDEX($T$8:$AK$14,MATCH($AN11,$T$8:$T$14,0),MATCH(JN$7,$T$8:$AK$8,0)),0) -> 0 | JP11: =IFERROR(JO11*INDEX($T$8:$AK$14,MATCH($AN11,$T$8:$T$14,0),MATCH(JP$7,$T$8:$AK$8,0)),0) -> 0 | JR11: =IFERROR(JQ11*INDEX($T$8:$AK$14,MATCH($AN11,$T$8:$T$14,0),MATCH(JR$7,$T$8:$AK$8,0)),0) -> 0 | JT11: =IFERROR(JS11*INDEX($T$8:$AK$14,MATCH($AN11,$T$8:$T$14,0),MATCH(JT$7,$T$8:$AK$8,0)),0) -> 0 | JV11: =IFERROR(JU11*INDEX($T$8:$AK$14,MATCH($AN11,$T$8:$T$14,0),MATCH(JV$7,$T$8:$AK$8,0)),0) -> 0 | JX11: =IFERROR(JW11*INDEX($T$8:$AK$14,MATCH($AN11,$T$8:$T$14,0),MATCH(JX$7,$T$8:$AK$8,0)),0) -> 0 | JZ11: =IFERROR(JY11*INDEX($T$8:$AK$14,MATCH($AN11,$T$8:$T$14,0),MATCH(JZ$7,$T$8:$AK$8,0)),0) -> 0 | KB11: =IFERROR(KA11*INDEX($T$8:$AK$14,MATCH($AN11,$T$8:$T$14,0),MATCH(KB$7,$T$8:$AK$8,0)),0) -> 0 | KD11: =IFERROR(KC11*INDEX($T$8:$AK$14,MATCH($AN11,$T$8:$T$14,0),MATCH(KD$7,$T$8:$AK$8,0)),0) -> 0 | KF11: =IFERROR(KE11*INDEX($T$8:$AK$14,MATCH($AN11,$T$8:$T$14,0),MATCH(KF$7,$T$8:$AK$8,0)),0) -> 0 | KH11: =IFERROR(KG11*INDEX($T$8:$AK$14,MATCH($AN11,$T$8:$T$14,0),MATCH(KH$7,$T$8:$AK$8,0)),0) -> 0 | KJ11: =IFERROR(KI11*INDEX($T$8:$AK$14,MATCH($AN11,$T$8:$T$14,0),MATCH(KJ$7,$T$8:$AK$8,0)),0) -> 0 | KL11: =IFERROR(KK11*INDEX($T$8:$AK$14,MATCH($AN11,$T$8:$T$14,0),MATCH(KL$7,$T$8:$AK$8,0)),0) -> 0 | KN11: =IFERROR(KM11*INDEX($T$8:$AK$14,MATCH($AN11,$T$8:$T$14,0),MATCH(KN$7,$T$8:$AK$8,0)),0) -> 0 | KP11: =IFERROR(KO11*INDEX($T$8:$AK$14,MATCH($AN11,$T$8:$T$14,0),MATCH(KP$7,$T$8:$AK$8,0)),0) -> 0 | KR11: =IFERROR(KQ11*INDEX($T$8:$AK$14,MATCH($AN11,$T$8:$T$14,0),MATCH(KR$7,$T$8:$AK$8,0)),0) -> 0 | KT11: =IFERROR(KS11*INDEX($T$8:$AK$14,MATCH($AN11,$T$8:$T$14,0),MATCH(KT$7,$T$8:$AK$8,0)),0) -> 0 | KV11: =IFERROR(KU11*INDEX($T$8:$AK$14,MATCH($AN11,$T$8:$T$14,0),MATCH(KV$7,$T$8:$AK$8,0)),0) -> 0 | KX11: =IFERROR(KW11*INDEX($T$8:$AK$14,MATCH($AN11,$T$8:$T$14,0),MATCH(KX$7,$T$8:$AK$8,0)),0) -> 0 | KZ11: =IFERROR(KY11*INDEX($T$8:$AK$14,MATCH($AN11,$T$8:$T$14,0),MATCH(KZ$7,$T$8:$AK$8,0)),0) -> 0 | LB11: =IFERROR(LA11*INDEX($T$8:$AK$14,MATCH($AN11,$T$8:$T$14,0),MATCH(LB$7,$T$8:$AK$8,0)),0) -> 0 | LD11: =IFERROR(LC11*INDEX($T$8:$AK$14,MATCH($AN11,$T$8:$T$14,0),MATCH(LD$7,$T$8:$AK$8,0)),0) -> 0 | LF11: =IFERROR(LE11*INDEX($T$8:$AK$14,MATCH($AN11,$T$8:$T$14,0),MATCH(LF$7,$T$8:$AK$8,0)),0) -> 0 | LH11: =IFERROR(LG11*INDEX($T$8:$AK$14,MATCH($AN11,$T$8:$T$14,0),MATCH(LH$7,$T$8:$AK$8,0)),0) -> 0 | LJ11: =IFERROR(LI11*INDEX($T$8:$AK$14,MATCH($AN11,$T$8:$T$14,0),MATCH(LJ$7,$T$8:$AK$8,0)),0) -> 0 | LL11: =IFERROR(LK11*INDEX($T$8:$AK$14,MATCH($AN11,$T$8:$T$14,0),MATCH(LL$7,$T$8:$AK$8,0)),0) -> 0 | LN11: =IFERROR(LM11*INDEX($T$8:$AK$14,MATCH($AN11,$T$8:$T$14,0),MATCH(LN$7,$T$8:$AK$8,0)),0) -> 0 | LP11: =IFERROR(LO11*INDEX($T$8:$AK$14,MATCH($AN11,$T$8:$T$14,0),MATCH(LP$7,$T$8:$AK$8,0)),0) -> 0 | LR11: =IFERROR(LQ11*INDEX($T$8:$AK$14,MATCH($AN11,$T$8:$T$14,0),MATCH(LR$7,$T$8:$AK$8,0)),0) -> 0 | LT11: =IFERROR(LS11*INDEX($T$8:$AK$14,MATCH($AN11,$T$8:$T$14,0),MATCH(LT$7,$T$8:$AK$8,0)),0) -> 0 | LV11: =IFERROR(LU11*INDEX($T$8:$AK$14,MATCH($AN11,$T$8:$T$14,0),MATCH(LV$7,$T$8:$AK$8,0)),0) -> 0 | LX11: =IFERROR(LW11*INDEX($T$8:$AK$14,MATCH($AN11,$T$8:$T$14,0),MATCH(LX$7,$T$8:$AK$8,0)),0) -> 0 | LZ11: =IFERROR(LY11*INDEX($T$8:$AK$14,MATCH($AN11,$T$8:$T$14,0),MATCH(LZ$7,$T$8:$AK$8,0)),0) -> 0 | MB11: =IFERROR(MA11*INDEX($T$8:$AK$14,MATCH($AN11,$T$8:$T$14,0),MATCH(MB$7,$T$8:$AK$8,0)),0) -> 0 | MD11: =IFERROR(MC11*INDEX($T$8:$AK$14,MATCH($AN11,$T$8:$T$14,0),MATCH(MD$7,$T$8:$AK$8,0)),0) -> 0 | MF11: =IFERROR(ME11*INDEX($T$8:$AK$14,MATCH($AN11,$T$8:$T$14,0),MATCH(MF$7,$T$8:$AK$8,0)),0) -> 0 | MH11: =IFERROR(MG11*INDEX($T$8:$AK$14,MATCH($AN11,$T$8:$T$14,0),MATCH(MH$7,$T$8:$AK$8,0)),0) -> 0 | MJ11: =IFERROR(MI11*INDEX($T$8:$AK$14,MATCH($AN11,$T$8:$T$14,0),MATCH(MJ$7,$T$8:$AK$8,0)),0) -> 0 | ML11: =IFERROR(MK11*INDEX($T$8:$AK$14,MATCH($AN11,$T$8:$T$14,0),MATCH(ML$7,$T$8:$AK$8,0)),0) -> 0 | MN11: =IFERROR(MM11*INDEX($T$8:$AK$14,MATCH($AN11,$T$8:$T$14,0),MATCH(MN$7,$T$8:$AK$8,0)),0) -> 0 | MP11: =IFERROR(MO11*INDEX($T$8:$AK$14,MATCH($AN11,$T$8:$T$14,0),MATCH(MP$7,$T$8:$AK$8,0)),0) -> 0 | MR11: =IFERROR(MQ11*INDEX($T$8:$AK$14,MATCH($AN11,$T$8:$T$14,0),MATCH(MR$7,$T$8:$AK$8,0)),0) -> 0 | MT11: =IFERROR(MS11*INDEX($T$8:$AK$14,MATCH($AN11,$T$8:$T$14,0),MATCH(MT$7,$T$8:$AK$8,0)),0) -> 0 | MV11: =IFERROR(MU11*INDEX($T$8:$AK$14,MATCH($AN11,$T$8:$T$14,0),MATCH(MV$7,$T$8:$AK$8,0)),0) -> 0 | MX11: =IFERROR(MW11*INDEX($T$8:$AK$14,MATCH($AN11,$T$8:$T$14,0),MATCH(MX$7,$T$8:$AK$8,0)),0) -> 0 | MZ11: =IFERROR(MY11*INDEX($T$8:$AK$14,MATCH($AN11,$T$8:$T$14,0),MATCH(MZ$7,$T$8:$AK$8,0)),0) -> 0 | NB11: =IFERROR(NA11*INDEX($T$8:$AK$14,MATCH($AN11,$T$8:$T$14,0),MATCH(NB$7,$T$8:$AK$8,0)),0) -> 0 | ND11: =IFERROR(NC11*INDEX($T$8:$AK$14,MATCH($AN11,$T$8:$T$14,0),MATCH(ND$7,$T$8:$AK$8,0)),0) -> 0 | NF11: =IFERROR(NE11*INDEX($T$8:$AK$14,MATCH($AN11,$T$8:$T$14,0),MATCH(NF$7,$T$8:$AK$8,0)),0) -> 0 | NH11: =IFERROR(NG11*INDEX($T$8:$AK$14,MATCH($AN11,$T$8:$T$14,0),MATCH(NH$7,$T$8:$AK$8,0)),0) -> 0 | NJ11: =IFERROR(NI11*INDEX($T$8:$AK$14,MATCH($AN11,$T$8:$T$14,0),MATCH(NJ$7,$T$8:$AK$8,0)),0) -> 0 | NL11: =IFERROR(NK11*INDEX($T$8:$AK$14,MATCH($AN11,$T$8:$T$14,0),MATCH(NL$7,$T$8:$AK$8,0)),0) -> 0 | NN11: =IFERROR(NM11*INDEX($T$8:$AK$14,MATCH($AN11,$T$8:$T$14,0),MATCH(NN$7,$T$8:$AK$8,0)),0) -> 0 | NP11: =IFERROR(NO11*INDEX($T$8:$AK$14,MATCH($AN11,$T$8:$T$14,0),MATCH(NP$7,$T$8:$AK$8,0)),0) -> 0 | NR11: =IFERROR(NQ11*INDEX($T$8:$AK$14,MATCH($AN11,$T$8:$T$14,0),MATCH(NR$7,$T$8:$AK$8,0)),0) -> 0 | NT11: =IFERROR(NS11*INDEX($T$8:$AK$14,MATCH($AN11,$T$8:$T$14,0),MATCH(NT$7,$T$8:$AK$8,0)),0) -> 0 | NV11: =IFERROR(NU11*INDEX($T$8:$AK$14,MATCH($AN11,$T$8:$T$14,0),MATCH(NV$7,$T$8:$AK$8,0)),0) -> 0 | NX11: =IFERROR(NW11*INDEX($T$8:$AK$14,MATCH($AN11,$T$8:$T$14,0),MATCH(NX$7,$T$8:$AK$8,0)),0) -> 0 | NZ11: =IFERROR(NY11*INDEX($T$8:$AK$14,MATCH($AN11,$T$8:$T$14,0),MATCH(NZ$7,$T$8:$AK$8,0)),0) -> 0 | OB11: =IFERROR(OA11*INDEX($T$8:$AK$14,MATCH($AN11,$T$8:$T$14,0),MATCH(OB$7,$T$8:$AK$8,0)),0) -> 0 | OD11: =IFERROR(OC11*INDEX($T$8:$AK$14,MATCH($AN11,$T$8:$T$14,0),MATCH(OD$7,$T$8:$AK$8,0)),0) -> 0 | OF11: =IFERROR(OE11*INDEX($T$8:$AK$14,MATCH($AN11,$T$8:$T$14,0),MATCH(OF$7,$T$8:$AK$8,0)),0) -> 0 | OH11: =IFERROR(OG11*INDEX($T$8:$AK$14,MATCH($AN11,$T$8:$T$14,0),MATCH(OH$7,$T$8:$AK$8,0)),0) -> 0 | OJ11: =IFERROR(OI11*INDEX($T$8:$AK$14,MATCH($AN11,$T$8:$T$14,0),MATCH(OJ$7,$T$8:$AK$8,0)),0) -> 0 | OL11: =IFERROR(OK11*INDEX($T$8:$AK$14,MATCH($AN11,$T$8:$T$14,0),MATCH(OL$7,$T$8:$AK$8,0)),0) -> 0 | ON11: =IFERROR(OM11*INDEX($T$8:$AK$14,MATCH($AN11,$T$8:$T$14,0),MATCH(ON$7,$T$8:$AK$8,0)),0) -> 0 | OP11: =IFERROR(OO11*INDEX($T$8:$AK$14,MATCH($AN11,$T$8:$T$14,0),MATCH(OP$7,$T$8:$AK$8,0)),0) -> 0 | OR11: =IFERROR(OQ11*INDEX($T$8:$AK$14,MATCH($AN11,$T$8:$T$14,0),MATCH(OR$7,$T$8:$AK$8,0)),0) -> 0 | OT11: =IFERROR(OS11*INDEX($T$8:$AK$14,MATCH($AN11,$T$8:$T$14,0),MATCH(OT$7,$T$8:$AK$8,0)),0) -> 0 | OV11: =IFERROR(OU11*INDEX($T$8:$AK$14,MATCH($AN11,$T$8:$T$14,0),MATCH(OV$7,$T$8:$AK$8,0)),0) -> 0 | OX11: =IFERROR(OW11*INDEX($T$8:$AK$14,MATCH($AN11,$T$8:$T$14,0),MATCH(OX$7,$T$8:$AK$8,0)),0) -> 0 | OZ11: =IFERROR(OY11*INDEX($T$8:$AK$14,MATCH($AN11,$T$8:$T$14,0),MATCH(OZ$7,$T$8:$AK$8,0)),0) -> 0 | PB11: =IFERROR(PA11*INDEX($T$8:$AK$14,MATCH($AN11,$T$8:$T$14,0),MATCH(PB$7,$T$8:$AK$8,0)),0) -> 0 | PD11: =IFERROR(PC11*INDEX($T$8:$AK$14,MATCH($AN11,$T$8:$T$14,0),MATCH(PD$7,$T$8:$AK$8,0)),0) -> 0 | PF11: =IFERROR(PE11*INDEX($T$8:$AK$14,MATCH($AN11,$T$8:$T$14,0),MATCH(PF$7,$T$8:$AK$8,0)),0) -> 0 | PH11: =IFERROR(PG11*INDEX($T$8:$AK$14,MATCH($AN11,$T$8:$T$14,0),MATCH(PH$7,$T$8:$AK$8,0)),0) -> 0 | PJ11: =IFERROR(PI11*INDEX($T$8:$AK$14,MATCH($AN11,$T$8:$T$14,0),MATCH(PJ$7,$T$8:$AK$8,0)),0) -> 0 | PL11: =IFERROR(PK11*INDEX($T$8:$AK$14,MATCH($AN11,$T$8:$T$14,0),MATCH(PL$7,$T$8:$AK$8,0)),0) -> 0 | PN11: =IFERROR(PM11*INDEX($T$8:$AK$14,MATCH($AN11,$T$8:$T$14,0),MATCH(PN$7,$T$8:$AK$8,0)),0) -> 0 | PP11: =IFERROR(PO11*INDEX($T$8:$AK$14,MATCH($AN11,$T$8:$T$14,0),MATCH(PP$7,$T$8:$AK$8,0)),0) -> 0 | PR11: =IFERROR(PQ11*INDEX($T$8:$AK$14,MATCH($AN11,$T$8:$T$14,0),MATCH(PR$7,$T$8:$AK$8,0)),0) -> 0 | PT11: =IFERROR(PS11*INDEX($T$8:$AK$14,MATCH($AN11,$T$8:$T$14,0),MATCH(PT$7,$T$8:$AK$8,0)),0) -> 0 | PV11: =IFERROR(PU11*INDEX($T$8:$AK$14,MATCH($AN11,$T$8:$T$14,0),MATCH(PV$7,$T$8:$AK$8,0)),0) -> 0 | PX11: =IFERROR(PW11*INDEX($T$8:$AK$14,MATCH($AN11,$T$8:$T$14,0),MATCH(PX$7,$T$8:$AK$8,0)),0) -> 0 | PZ11: =IFERROR(PY11*INDEX($T$8:$AK$14,MATCH($AN11,$T$8:$T$14,0),MATCH(PZ$7,$T$8:$AK$8,0)),0) -> 0 | QB11: =IFERROR(QA11*INDEX($T$8:$AK$14,MATCH($AN11,$T$8:$T$14,0),MATCH(QB$7,$T$8:$AK$8,0)),0) -> 0 | QD11: =IFERROR(QC11*INDEX($T$8:$AK$14,MATCH($AN11,$T$8:$T$14,0),MATCH(QD$7,$T$8:$AK$8,0)),0) -> 0 | QF11: =IFERROR(QE11*INDEX($T$8:$AK$14,MATCH($AN11,$T$8:$T$14,0),MATCH(QF$7,$T$8:$AK$8,0)),0) -> 0
D12: BAT C/D | E12: Mécanisation | F12: {=SUMPRODUCT(($AO$8:$QF$98=F$7)*($AM$8:$AM$98=$D12)*($AO$8:$QF$98))} -> 0 | G12: {=SUMPRODUCT(($AO$8:$QF$8=G$7)*($AM$9:$AM$98=$D12)*($AO$9:$QF$98))} -> 4323.51 | H12: {=SUMPRODUCT(($AO$8:$QF$8=H$7)*($AM$9:$AM$98=$D12)*($AO$9:$QF$98))} -> 0 | I12: {=SUMPRODUCT(($AO$8:$QF$8=I$7)*($AM$9:$AM$98=$D12)*($AO$9:$QF$98))} -> 0 | J12: {=SUMPRODUCT(($AO$8:$QF$8=J$7)*($AM$9:$AM$98=$D12)*($AO$9:$QF$98))} -> 0 | K12: {=SUMPRODUCT(($AO$8:$QF$8=K$7)*($AM$9:$AM$98=$D12)*($AO$9:$QF$98))} -> 0 | L12: {=SUMPRODUCT(($AO$8:$QF$8=L$7)*($AM$9:$AM$98=$D12)*($AO$9:$QF$98))} -> 0 | M12: {=SUMPRODUCT(($AO$8:$QF$8=M$7)*($AM$9:$AM$98=$D12)*($AO$9:$QF$98))} -> 0 | N12: {=SUMPRODUCT(($AO$8:$QF$8=N$7)*($AM$9:$AM$98=$D12)*($AO$9:$QF$98))} -> 0 | ... Q12: {=SUMPRODUCT(($AO$8:$QF$8=Q$7)*($AM$9:$AM$98=$D12)*($AO$9:$QF$98))} -> 0 | AM12: =AM11 -> BAT A | AN12: =T12 -> 0 | AP12: =IFERROR(AO12*INDEX($T$8:$AK$14,MATCH($AN12,$T$8:$T$14,0),MATCH(AP$7,$T$8:$AK$8,0)),0) -> 0 | AR12: =IFERROR(AQ12*INDEX($T$8:$AK$14,MATCH($AN12,$T$8:$T$14,0),MATCH(AR$7,$T$8:$AK$8,0)),0) -> 0 | AT12: =IFERROR(AS12*INDEX($T$8:$AK$14,MATCH($AN12,$T$8:$T$14,0),MATCH(AT$7,$T$8:$AK$8,0)),0) -> 0 | AV12: =IFERROR(AU12*INDEX($T$8:$AK$14,MATCH($AN12,$T$8:$T$14,0),MATCH(AV$7,$T$8:$AK$8,0)),0) -> 0 | AX12: =IFERROR(AW12*INDEX($T$8:$AK$14,MATCH($AN12,$T$8:$T$14,0),MATCH(AX$7,$T$8:$AK$8,0)),0) -> 0 | AZ12: =IFERROR(AY12*INDEX($T$8:$AK$14,MATCH($AN12,$T$8:$T$14,0),MATCH(AZ$7,$T$8:$AK$8,0)),0) -> 0 | BB12: =IFERROR(BA12*INDEX($T$8:$AK$14,MATCH($AN12,$T$8:$T$14,0),MATCH(BB$7,$T$8:$AK$8,0)),0) -> 0 | BD12: =IFERROR(BC12*INDEX($T$8:$AK$14,MATCH($AN12,$T$8:$T$14,0),MATCH(BD$7,$T$8:$AK$8,0)),0) -> 0 | BF12: =IFERROR(BE12*INDEX($T$8:$AK$14,MATCH($AN12,$T$8:$T$14,0),MATCH(BF$7,$T$8:$AK$8,0)),0) -> 0 | BH12: =IFERROR(BG12*INDEX($T$8:$AK$14,MATCH($AN12,$T$8:$T$14,0),MATCH(BH$7,$T$8:$AK$8,0)),0) -> 0 | BJ12: =IFERROR(BI12*INDEX($T$8:$AK$14,MATCH($AN12,$T$8:$T$14,0),MATCH(BJ$7,$T$8:$AK$8,0)),0) -> 0 | BL12: =IFERROR(BK12*INDEX($T$8:$AK$14,MATCH($AN12,$T$8:$T$14,0),MATCH(BL$7,$T$8:$AK$8,0)),0) -> 0 | BN12: =IFERROR(BM12*INDEX($T$8:$AK$14,MATCH($AN12,$T$8:$T$14,0),MATCH(BN$7,$T$8:$AK$8,0)),0) -> 0 | BP12: =IFERROR(BO12*INDEX($T$8:$AK$14,MATCH($AN12,$T$8:$T$14,0),MATCH(BP$7,$T$8:$AK$8,0)),0) -> 0 | BR12: =IFERROR(BQ12*INDEX($T$8:$AK$14,MATCH($AN12,$T$8:$T$14,0),MATCH(BR$7,$T$8:$AK$8,0)),0) -> 0 | BT12: =IFERROR(BS12*INDEX($T$8:$AK$14,MATCH($AN12,$T$8:$T$14,0),MATCH(BT$7,$T$8:$AK$8,0)),0) -> 0 | BV12: =IFERROR(BU12*INDEX($T$8:$AK$14,MATCH($AN12,$T$8:$T$14,0),MATCH(BV$7,$T$8:$AK$8,0)),0) -> 0 | BX12: =IFERROR(BW12*INDEX($T$8:$AK$14,MATCH($AN12,$T$8:$T$14,0),MATCH(BX$7,$T$8:$AK$8,0)),0) -> 0 | BZ12: =IFERROR(BY12*INDEX($T$8:$AK$14,MATCH($AN12,$T$8:$T$14,0),MATCH(BZ$7,$T$8:$AK$8,0)),0) -> 0 | CB12: =IFERROR(CA12*INDEX($T$8:$AK$14,MATCH($AN12,$T$8:$T$14,0),MATCH(CB$7,$T$8:$AK$8,0)),0) -> 0 | CD12: =IFERROR(CC12*INDEX($T$8:$AK$14,MATCH($AN12,$T$8:$T$14,0),MATCH(CD$7,$T$8:$AK$8,0)),0) -> 0 | CF12: =IFERROR(CE12*INDEX($T$8:$AK$14,MATCH($AN12,$T$8:$T$14,0),MATCH(CF$7,$T$8:$AK$8,0)),0) -> 0 | CH12: =IFERROR(CG12*INDEX($T$8:$AK$14,MATCH($AN12,$T$8:$T$14,0),MATCH(CH$7,$T$8:$AK$8,0)),0) -> 0 | CJ12: =IFERROR(CI12*INDEX($T$8:$AK$14,MATCH($AN12,$T$8:$T$14,0),MATCH(CJ$7,$T$8:$AK$8,0)),0) -> 0 | CL12: =IFERROR(CK12*INDEX($T$8:$AK$14,MATCH($AN12,$T$8:$T$14,0),MATCH(CL$7,$T$8:$AK$8,0)),0) -> 0 | CN12: =IFERROR(CM12*INDEX($T$8:$AK$14,MATCH($AN12,$T$8:$T$14,0),MATCH(CN$7,$T$8:$AK$8,0)),0) -> 0 | CP12: =IFERROR(CO12*INDEX($T$8:$AK$14,MATCH($AN12,$T$8:$T$14,0),MATCH(CP$7,$T$8:$AK$8,0)),0) -> 0 | CR12: =IFERROR(CQ12*INDEX($T$8:$AK$14,MATCH($AN12,$T$8:$T$14,0),MATCH(CR$7,$T$8:$AK$8,0)),0) -> 0 | CT12: =IFERROR(CS12*INDEX($T$8:$AK$14,MATCH($AN12,$T$8:$T$14,0),MATCH(CT$7,$T$8:$AK$8,0)),0) -> 0 | CV12: =IFERROR(CU12*INDEX($T$8:$AK$14,MATCH($AN12,$T$8:$T$14,0),MATCH(CV$7,$T$8:$AK$8,0)),0) -> 0 | CX12: =IFERROR(CW12*INDEX($T$8:$AK$14,MATCH($AN12,$T$8:$T$14,0),MATCH(CX$7,$T$8:$AK$8,0)),0) -> 0 | CZ12: =IFERROR(CY12*INDEX($T$8:$AK$14,MATCH($AN12,$T$8:$T$14,0),MATCH(CZ$7,$T$8:$AK$8,0)),0) -> 0 | DB12: =IFERROR(DA12*INDEX($T$8:$AK$14,MATCH($AN12,$T$8:$T$14,0),MATCH(DB$7,$T$8:$AK$8,0)),0) -> 0 | DD12: =IFERROR(DC12*INDEX($T$8:$AK$14,MATCH($AN12,$T$8:$T$14,0),MATCH(DD$7,$T$8:$AK$8,0)),0) -> 0 | DF12: =IFERROR(DE12*INDEX($T$8:$AK$14,MATCH($AN12,$T$8:$T$14,0),MATCH(DF$7,$T$8:$AK$8,0)),0) -> 0 | DH12: =IFERROR(DG12*INDEX($T$8:$AK$14,MATCH($AN12,$T$8:$T$14,0),MATCH(DH$7,$T$8:$AK$8,0)),0) -> 0 | DJ12: =IFERROR(DI12*INDEX($T$8:$AK$14,MATCH($AN12,$T$8:$T$14,0),MATCH(DJ$7,$T$8:$AK$8,0)),0) -> 0 | DL12: =IFERROR(DK12*INDEX($T$8:$AK$14,MATCH($AN12,$T$8:$T$14,0),MATCH(DL$7,$T$8:$AK$8,0)),0) -> 0 | DN12: =IFERROR(DM12*INDEX($T$8:$AK$14,MATCH($AN12,$T$8:$T$14,0),MATCH(DN$7,$T$8:$AK$8,0)),0) -> 0 | DP12: =IFERROR(DO12*INDEX($T$8:$AK$14,MATCH($AN12,$T$8:$T$14,0),MATCH(DP$7,$T$8:$AK$8,0)),0) -> 0 | DR12: =IFERROR(DQ12*INDEX($T$8:$AK$14,MATCH($AN12,$T$8:$T$14,0),MATCH(DR$7,$T$8:$AK$8,0)),0) -> 0 | DT12: =IFERROR(DS12*INDEX($T$8:$AK$14,MATCH($AN12,$T$8:$T$14,0),MATCH(DT$7,$T$8:$AK$8,0)),0) -> 0 | DV12: =IFERROR(DU12*INDEX($T$8:$AK$14,MATCH($AN12,$T$8:$T$14,0),MATCH(DV$7,$T$8:$AK$8,0)),0) -> 0 | DX12: =IFERROR(DW12*INDEX($T$8:$AK$14,MATCH($AN12,$T$8:$T$14,0),MATCH(DX$7,$T$8:$AK$8,0)),0) -> 0 | DZ12: =IFERROR(DY12*INDEX($T$8:$AK$14,MATCH($AN12,$T$8:$T$14,0),MATCH(DZ$7,$T$8:$AK$8,0)),0) -> 0 | EB12: =IFERROR(EA12*INDEX($T$8:$AK$14,MATCH($AN12,$T$8:$T$14,0),MATCH(EB$7,$T$8:$AK$8,0)),0) -> 0 | ED12: =IFERROR(EC12*INDEX($T$8:$AK$14,MATCH($AN12,$T$8:$T$14,0),MATCH(ED$7,$T$8:$AK$8,0)),0) -> 0 | EF12: =IFERROR(EE12*INDEX($T$8:$AK$14,MATCH($AN12,$T$8:$T$14,0),MATCH(EF$7,$T$8:$AK$8,0)),0) -> 0 | EH12: =IFERROR(EG12*INDEX($T$8:$AK$14,MATCH($AN12,$T$8:$T$14,0),MATCH(EH$7,$T$8:$AK$8,0)),0) -> 0 | EJ12: =IFERROR(EI12*INDEX($T$8:$AK$14,MATCH($AN12,$T$8:$T$14,0),MATCH(EJ$7,$T$8:$AK$8,0)),0) -> 0 | EL12: =IFERROR(EK12*INDEX($T$8:$AK$14,MATCH($AN12,$T$8:$T$14,0),MATCH(EL$7,$T$8:$AK$8,0)),0) -> 0 | EN12: =IFERROR(EM12*INDEX($T$8:$AK$14,MATCH($AN12,$T$8:$T$14,0),MATCH(EN$7,$T$8:$AK$8,0)),0) -> 0 | EP12: =IFERROR(EO12*INDEX($T$8:$AK$14,MATCH($AN12,$T$8:$T$14,0),MATCH(EP$7,$T$8:$AK$8,0)),0) -> 0 | ER12: =IFERROR(EQ12*INDEX($T$8:$AK$14,MATCH($AN12,$T$8:$T$14,0),MATCH(ER$7,$T$8:$AK$8,0)),0) -> 0 | ET12: =IFERROR(ES12*INDEX($T$8:$AK$14,MATCH($AN12,$T$8:$T$14,0),MATCH(ET$7,$T$8:$AK$8,0)),0) -> 0 | EV12: =IFERROR(EU12*INDEX($T$8:$AK$14,MATCH($AN12,$T$8:$T$14,0),MATCH(EV$7,$T$8:$AK$8,0)),0) -> 0 | EX12: =IFERROR(EW12*INDEX($T$8:$AK$14,MATCH($AN12,$T$8:$T$14,0),MATCH(EX$7,$T$8:$AK$8,0)),0) -> 0 | EZ12: =IFERROR(EY12*INDEX($T$8:$AK$14,MATCH($AN12,$T$8:$T$14,0),MATCH(EZ$7,$T$8:$AK$8,0)),0) -> 0 | FB12: =IFERROR(FA12*INDEX($T$8:$AK$14,MATCH($AN12,$T$8:$T$14,0),MATCH(FB$7,$T$8:$AK$8,0)),0) -> 0 | FD12: =IFERROR(FC12*INDEX($T$8:$AK$14,MATCH($AN12,$T$8:$T$14,0),MATCH(FD$7,$T$8:$AK$8,0)),0) -> 0 | FF12: =IFERROR(FE12*INDEX($T$8:$AK$14,MATCH($AN12,$T$8:$T$14,0),MATCH(FF$7,$T$8:$AK$8,0)),0) -> 0 | FH12: =IFERROR(FG12*INDEX($T$8:$AK$14,MATCH($AN12,$T$8:$T$14,0),MATCH(FH$7,$T$8:$AK$8,0)),0) -> 0 | FJ12: =IFERROR(FI12*INDEX($T$8:$AK$14,MATCH($AN12,$T$8:$T$14,0),MATCH(FJ$7,$T$8:$AK$8,0)),0) -> 0 | FL12: =IFERROR(FK12*INDEX($T$8:$AK$14,MATCH($AN12,$T$8:$T$14,0),MATCH(FL$7,$T$8:$AK$8,0)),0) -> 0 | FN12: =IFERROR(FM12*INDEX($T$8:$AK$14,MATCH($AN12,$T$8:$T$14,0),MATCH(FN$7,$T$8:$AK$8,0)),0) -> 0 | FP12: =IFERROR(FO12*INDEX($T$8:$AK$14,MATCH($AN12,$T$8:$T$14,0),MATCH(FP$7,$T$8:$AK$8,0)),0) -> 0 | FR12: =IFERROR(FQ12*INDEX($T$8:$AK$14,MATCH($AN12,$T$8:$T$14,0),MATCH(FR$7,$T$8:$AK$8,0)),0) -> 0 | FT12: =IFERROR(FS12*INDEX($T$8:$AK$14,MATCH($AN12,$T$8:$T$14,0),MATCH(FT$7,$T$8:$AK$8,0)),0) -> 0 | FV12: =IFERROR(FU12*INDEX($T$8:$AK$14,MATCH($AN12,$T$8:$T$14,0),MATCH(FV$7,$T$8:$AK$8,0)),0) -> 0 | FX12: =IFERROR(FW12*INDEX($T$8:$AK$14,MATCH($AN12,$T$8:$T$14,0),MATCH(FX$7,$T$8:$AK$8,0)),0) -> 0 | FZ12: =IFERROR(FY12*INDEX($T$8:$AK$14,MATCH($AN12,$T$8:$T$14,0),MATCH(FZ$7,$T$8:$AK$8,0)),0) -> 0 | GB12: =IFERROR(GA12*INDEX($T$8:$AK$14,MATCH($AN12,$T$8:$T$14,0),MATCH(GB$7,$T$8:$AK$8,0)),0) -> 0 | GD12: =IFERROR(GC12*INDEX($T$8:$AK$14,MATCH($AN12,$T$8:$T$14,0),MATCH(GD$7,$T$8:$AK$8,0)),0) -> 0 | GF12: =IFERROR(GE12*INDEX($T$8:$AK$14,MATCH($AN12,$T$8:$T$14,0),MATCH(GF$7,$T$8:$AK$8,0)),0) -> 0 | GH12: =IFERROR(GG12*INDEX($T$8:$AK$14,MATCH($AN12,$T$8:$T$14,0),MATCH(GH$7,$T$8:$AK$8,0)),0) -> 0 | GJ12: =IFERROR(GI12*INDEX($T$8:$AK$14,MATCH($AN12,$T$8:$T$14,0),MATCH(GJ$7,$T$8:$AK$8,0)),0) -> 0 | GL12: =IFERROR(GK12*INDEX($T$8:$AK$14,MATCH($AN12,$T$8:$T$14,0),MATCH(GL$7,$T$8:$AK$8,0)),0) -> 0 | GN12: =IFERROR(GM12*INDEX($T$8:$AK$14,MATCH($AN12,$T$8:$T$14,0),MATCH(GN$7,$T$8:$AK$8,0)),0) -> 0 | GP12: =IFERROR(GO12*INDEX($T$8:$AK$14,MATCH($AN12,$T$8:$T$14,0),MATCH(GP$7,$T$8:$AK$8,0)),0) -> 0 | GR12: =IFERROR(GQ12*INDEX($T$8:$AK$14,MATCH($AN12,$T$8:$T$14,0),MATCH(GR$7,$T$8:$AK$8,0)),0) -> 0 | GT12: =IFERROR(GS12*INDEX($T$8:$AK$14,MATCH($AN12,$T$8:$T$14,0),MATCH(GT$7,$T$8:$AK$8,0)),0) -> 0 | GV12: =IFERROR(GU12*INDEX($T$8:$AK$14,MATCH($AN12,$T$8:$T$14,0),MATCH(GV$7,$T$8:$AK$8,0)),0) -> 0 | GX12: =IFERROR(GW12*INDEX($T$8:$AK$14,MATCH($AN12,$T$8:$T$14,0),MATCH(GX$7,$T$8:$AK$8,0)),0) -> 0 | GZ12: =IFERROR(GY12*INDEX($T$8:$AK$14,MATCH($AN12,$T$8:$T$14,0),MATCH(GZ$7,$T$8:$AK$8,0)),0) -> 0 | HB12: =IFERROR(HA12*INDEX($T$8:$AK$14,MATCH($AN12,$T$8:$T$14,0),MATCH(HB$7,$T$8:$AK$8,0)),0) -> 0 | HD12: =IFERROR(HC12*INDEX($T$8:$AK$14,MATCH($AN12,$T$8:$T$14,0),MATCH(HD$7,$T$8:$AK$8,0)),0) -> 0 | HF12: =IFERROR(HE12*INDEX($T$8:$AK$14,MATCH($AN12,$T$8:$T$14,0),MATCH(HF$7,$T$8:$AK$8,0)),0) -> 0 | HH12: =IFERROR(HG12*INDEX($T$8:$AK$14,MATCH($AN12,$T$8:$T$14,0),MATCH(HH$7,$T$8:$AK$8,0)),0) -> 0 | HJ12: =IFERROR(HI12*INDEX($T$8:$AK$14,MATCH($AN12,$T$8:$T$14,0),MATCH(HJ$7,$T$8:$AK$8,0)),0) -> 0 | HL12: =IFERROR(HK12*INDEX($T$8:$AK$14,MATCH($AN12,$T$8:$T$14,0),MATCH(HL$7,$T$8:$AK$8,0)),0) -> 0 | HN12: =IFERROR(HM12*INDEX($T$8:$AK$14,MATCH($AN12,$T$8:$T$14,0),MATCH(HN$7,$T$8:$AK$8,0)),0) -> 0 | HP12: =IFERROR(HO12*INDEX($T$8:$AK$14,MATCH($AN12,$T$8:$T$14,0),MATCH(HP$7,$T$8:$AK$8,0)),0) -> 0 | HR12: =IFERROR(HQ12*INDEX($T$8:$AK$14,MATCH($AN12,$T$8:$T$14,0),MATCH(HR$7,$T$8:$AK$8,0)),0) -> 0 | HT12: =IFERROR(HS12*INDEX($T$8:$AK$14,MATCH($AN12,$T$8:$T$14,0),MATCH(HT$7,$T$8:$AK$8,0)),0) -> 0 | HV12: =IFERROR(HU12*INDEX($T$8:$AK$14,MATCH($AN12,$T$8:$T$14,0),MATCH(HV$7,$T$8:$AK$8,0)),0) -> 0 | HX12: =IFERROR(HW12*INDEX($T$8:$AK$14,MATCH($AN12,$T$8:$T$14,0),MATCH(HX$7,$T$8:$AK$8,0)),0) -> 0 | HZ12: =IFERROR(HY12*INDEX($T$8:$AK$14,MATCH($AN12,$T$8:$T$14,0),MATCH(HZ$7,$T$8:$AK$8,0)),0) -> 0 | IB12: =IFERROR(IA12*INDEX($T$8:$AK$14,MATCH($AN12,$T$8:$T$14,0),MATCH(IB$7,$T$8:$AK$8,0)),0) -> 0 | ID12: =IFERROR(IC12*INDEX($T$8:$AK$14,MATCH($AN12,$T$8:$T$14,0),MATCH(ID$7,$T$8:$AK$8,0)),0) -> 0 | IF12: =IFERROR(IE12*INDEX($T$8:$AK$14,MATCH($AN12,$T$8:$T$14,0),MATCH(IF$7,$T$8:$AK$8,0)),0) -> 0 | IH12: =IFERROR(IG12*INDEX($T$8:$AK$14,MATCH($AN12,$T$8:$T$14,0),MATCH(IH$7,$T$8:$AK$8,0)),0) -> 0 | IJ12: =IFERROR(II12*INDEX($T$8:$AK$14,MATCH($AN12,$T$8:$T$14,0),MATCH(IJ$7,$T$8:$AK$8,0)),0) -> 0 | IL12: =IFERROR(IK12*INDEX($T$8:$AK$14,MATCH($AN12,$T$8:$T$14,0),MATCH(IL$7,$T$8:$AK$8,0)),0) -> 0 | IN12: =IFERROR(IM12*INDEX($T$8:$AK$14,MATCH($AN12,$T$8:$T$14,0),MATCH(IN$7,$T$8:$AK$8,0)),0) -> 0 | IP12: =IFERROR(IO12*INDEX($T$8:$AK$14,MATCH($AN12,$T$8:$T$14,0),MATCH(IP$7,$T$8:$AK$8,0)),0) -> 0 | IR12: =IFERROR(IQ12*INDEX($T$8:$AK$14,MATCH($AN12,$T$8:$T$14,0),MATCH(IR$7,$T$8:$AK$8,0)),0) -> 0 | IT12: =IFERROR(IS12*INDEX($T$8:$AK$14,MATCH($AN12,$T$8:$T$14,0),MATCH(IT$7,$T$8:$AK$8,0)),0) -> 0 | IV12: =IFERROR(IU12*INDEX($T$8:$AK$14,MATCH($AN12,$T$8:$T$14,0),MATCH(IV$7,$T$8:$AK$8,0)),0) -> 0 | IX12: =IFERROR(IW12*INDEX($T$8:$AK$14,MATCH($AN12,$T$8:$T$14,0),MATCH(IX$7,$T$8:$AK$8,0)),0) -> 0 | IZ12: =IFERROR(IY12*INDEX($T$8:$AK$14,MATCH($AN12,$T$8:$T$14,0),MATCH(IZ$7,$T$8:$AK$8,0)),0) -> 0 | JB12: =IFERROR(JA12*INDEX($T$8:$AK$14,MATCH($AN12,$T$8:$T$14,0),MATCH(JB$7,$T$8:$AK$8,0)),0) -> 0 | JD12: =IFERROR(JC12*INDEX($T$8:$AK$14,MATCH($AN12,$T$8:$T$14,0),MATCH(JD$7,$T$8:$AK$8,0)),0) -> 0 | JF12: =IFERROR(JE12*INDEX($T$8:$AK$14,MATCH($AN12,$T$8:$T$14,0),MATCH(JF$7,$T$8:$AK$8,0)),0) -> 0 | JH12: =IFERROR(JG12*INDEX($T$8:$AK$14,MATCH($AN12,$T$8:$T$14,0),MATCH(JH$7,$T$8:$AK$8,0)),0) -> 0 | JJ12: =IFERROR(JI12*INDEX($T$8:$AK$14,MATCH($AN12,$T$8:$T$14,0),MATCH(JJ$7,$T$8:$AK$8,0)),0) -> 0 | JL12: =IFERROR(JK12*INDEX($T$8:$AK$14,MATCH($AN12,$T$8:$T$14,0),MATCH(JL$7,$T$8:$AK$8,0)),0) -> 0 | JN12: =IFERROR(JM12*INDEX($T$8:$AK$14,MATCH($AN12,$T$8:$T$14,0),MATCH(JN$7,$T$8:$AK$8,0)),0) -> 0 | JP12: =IFERROR(JO12*INDEX($T$8:$AK$14,MATCH($AN12,$T$8:$T$14,0),MATCH(JP$7,$T$8:$AK$8,0)),0) -> 0 | JR12: =IFERROR(JQ12*INDEX($T$8:$AK$14,MATCH($AN12,$T$8:$T$14,0),MATCH(JR$7,$T$8:$AK$8,0)),0) -> 0 | JT12: =IFERROR(JS12*INDEX($T$8:$AK$14,MATCH($AN12,$T$8:$T$14,0),MATCH(JT$7,$T$8:$AK$8,0)),0) -> 0 | JV12: =IFERROR(JU12*INDEX($T$8:$AK$14,MATCH($AN12,$T$8:$T$14,0),MATCH(JV$7,$T$8:$AK$8,0)),0) -> 0 | JX12: =IFERROR(JW12*INDEX($T$8:$AK$14,MATCH($AN12,$T$8:$T$14,0),MATCH(JX$7,$T$8:$AK$8,0)),0) -> 0 | JZ12: =IFERROR(JY12*INDEX($T$8:$AK$14,MATCH($AN12,$T$8:$T$14,0),MATCH(JZ$7,$T$8:$AK$8,0)),0) -> 0 | KB12: =IFERROR(KA12*INDEX($T$8:$AK$14,MATCH($AN12,$T$8:$T$14,0),MATCH(KB$7,$T$8:$AK$8,0)),0) -> 0 | KD12: =IFERROR(KC12*INDEX($T$8:$AK$14,MATCH($AN12,$T$8:$T$14,0),MATCH(KD$7,$T$8:$AK$8,0)),0) -> 0 | KF12: =IFERROR(KE12*INDEX($T$8:$AK$14,MATCH($AN12,$T$8:$T$14,0),MATCH(KF$7,$T$8:$AK$8,0)),0) -> 0 | KH12: =IFERROR(KG12*INDEX($T$8:$AK$14,MATCH($AN12,$T$8:$T$14,0),MATCH(KH$7,$T$8:$AK$8,0)),0) -> 0 | KJ12: =IFERROR(KI12*INDEX($T$8:$AK$14,MATCH($AN12,$T$8:$T$14,0),MATCH(KJ$7,$T$8:$AK$8,0)),0) -> 0 | KL12: =IFERROR(KK12*INDEX($T$8:$AK$14,MATCH($AN12,$T$8:$T$14,0),MATCH(KL$7,$T$8:$AK$8,0)),0) -> 0 | KN12: =IFERROR(KM12*INDEX($T$8:$AK$14,MATCH($AN12,$T$8:$T$14,0),MATCH(KN$7,$T$8:$AK$8,0)),0) -> 0 | KP12: =IFERROR(KO12*INDEX($T$8:$AK$14,MATCH($AN12,$T$8:$T$14,0),MATCH(KP$7,$T$8:$AK$8,0)),0) -> 0 | KR12: =IFERROR(KQ12*INDEX($T$8:$AK$14,MATCH($AN12,$T$8:$T$14,0),MATCH(KR$7,$T$8:$AK$8,0)),0) -> 0 | KT12: =IFERROR(KS12*INDEX($T$8:$AK$14,MATCH($AN12,$T$8:$T$14,0),MATCH(KT$7,$T$8:$AK$8,0)),0) -> 0 | KV12: =IFERROR(KU12*INDEX($T$8:$AK$14,MATCH($AN12,$T$8:$T$14,0),MATCH(KV$7,$T$8:$AK$8,0)),0) -> 0 | KX12: =IFERROR(KW12*INDEX($T$8:$AK$14,MATCH($AN12,$T$8:$T$14,0),MATCH(KX$7,$T$8:$AK$8,0)),0) -> 0 | KZ12: =IFERROR(KY12*INDEX($T$8:$AK$14,MATCH($AN12,$T$8:$T$14,0),MATCH(KZ$7,$T$8:$AK$8,0)),0) -> 0 | LB12: =IFERROR(LA12*INDEX($T$8:$AK$14,MATCH($AN12,$T$8:$T$14,0),MATCH(LB$7,$T$8:$AK$8,0)),0) -> 0 | LD12: =IFERROR(LC12*INDEX($T$8:$AK$14,MATCH($AN12,$T$8:$T$14,0),MATCH(LD$7,$T$8:$AK$8,0)),0) -> 0 | LF12: =IFERROR(LE12*INDEX($T$8:$AK$14,MATCH($AN12,$T$8:$T$14,0),MATCH(LF$7,$T$8:$AK$8,0)),0) -> 0 | LH12: =IFERROR(LG12*INDEX($T$8:$AK$14,MATCH($AN12,$T$8:$T$14,0),MATCH(LH$7,$T$8:$AK$8,0)),0) -> 0 | LJ12: =IFERROR(LI12*INDEX($T$8:$AK$14,MATCH($AN12,$T$8:$T$14,0),MATCH(LJ$7,$T$8:$AK$8,0)),0) -> 0 | LL12: =IFERROR(LK12*INDEX($T$8:$AK$14,MATCH($AN12,$T$8:$T$14,0),MATCH(LL$7,$T$8:$AK$8,0)),0) -> 0 | LN12: =IFERROR(LM12*INDEX($T$8:$AK$14,MATCH($AN12,$T$8:$T$14,0),MATCH(LN$7,$T$8:$AK$8,0)),0) -> 0 | LP12: =IFERROR(LO12*INDEX($T$8:$AK$14,MATCH($AN12,$T$8:$T$14,0),MATCH(LP$7,$T$8:$AK$8,0)),0) -> 0 | LR12: =IFERROR(LQ12*INDEX($T$8:$AK$14,MATCH($AN12,$T$8:$T$14,0),MATCH(LR$7,$T$8:$AK$8,0)),0) -> 0 | LT12: =IFERROR(LS12*INDEX($T$8:$AK$14,MATCH($AN12,$T$8:$T$14,0),MATCH(LT$7,$T$8:$AK$8,0)),0) -> 0 | LV12: =IFERROR(LU12*INDEX($T$8:$AK$14,MATCH($AN12,$T$8:$T$14,0),MATCH(LV$7,$T$8:$AK$8,0)),0) -> 0 | LX12: =IFERROR(LW12*INDEX($T$8:$AK$14,MATCH($AN12,$T$8:$T$14,0),MATCH(LX$7,$T$8:$AK$8,0)),0) -> 0 | LZ12: =IFERROR(LY12*INDEX($T$8:$AK$14,MATCH($AN12,$T$8:$T$14,0),MATCH(LZ$7,$T$8:$AK$8,0)),0) -> 0 | MB12: =IFERROR(MA12*INDEX($T$8:$AK$14,MATCH($AN12,$T$8:$T$14,0),MATCH(MB$7,$T$8:$AK$8,0)),0) -> 0 | MD12: =IFERROR(MC12*INDEX($T$8:$AK$14,MATCH($AN12,$T$8:$T$14,0),MATCH(MD$7,$T$8:$AK$8,0)),0) -> 0 | MF12: =IFERROR(ME12*INDEX($T$8:$AK$14,MATCH($AN12,$T$8:$T$14,0),MATCH(MF$7,$T$8:$AK$8,0)),0) -> 0 | MH12: =IFERROR(MG12*INDEX($T$8:$AK$14,MATCH($AN12,$T$8:$T$14,0),MATCH(MH$7,$T$8:$AK$8,0)),0) -> 0 | MJ12: =IFERROR(MI12*INDEX($T$8:$AK$14,MATCH($AN12,$T$8:$T$14,0),MATCH(MJ$7,$T$8:$AK$8,0)),0) -> 0 | ML12: =IFERROR(MK12*INDEX($T$8:$AK$14,MATCH($AN12,$T$8:$T$14,0),MATCH(ML$7,$T$8:$AK$8,0)),0) -> 0 | MN12: =IFERROR(MM12*INDEX($T$8:$AK$14,MATCH($AN12,$T$8:$T$14,0),MATCH(MN$7,$T$8:$AK$8,0)),0) -> 0 | MP12: =IFERROR(MO12*INDEX($T$8:$AK$14,MATCH($AN12,$T$8:$T$14,0),MATCH(MP$7,$T$8:$AK$8,0)),0) -> 0 | MR12: =IFERROR(MQ12*INDEX($T$8:$AK$14,MATCH($AN12,$T$8:$T$14,0),MATCH(MR$7,$T$8:$AK$8,0)),0) -> 0 | MT12: =IFERROR(MS12*INDEX($T$8:$AK$14,MATCH($AN12,$T$8:$T$14,0),MATCH(MT$7,$T$8:$AK$8,0)),0) -> 0 | MV12: =IFERROR(MU12*INDEX($T$8:$AK$14,MATCH($AN12,$T$8:$T$14,0),MATCH(MV$7,$T$8:$AK$8,0)),0) -> 0 | MX12: =IFERROR(MW12*INDEX($T$8:$AK$14,MATCH($AN12,$T$8:$T$14,0),MATCH(MX$7,$T$8:$AK$8,0)),0) -> 0 | MZ12: =IFERROR(MY12*INDEX($T$8:$AK$14,MATCH($AN12,$T$8:$T$14,0),MATCH(MZ$7,$T$8:$AK$8,0)),0) -> 0 | NB12: =IFERROR(NA12*INDEX($T$8:$AK$14,MATCH($AN12,$T$8:$T$14,0),MATCH(NB$7,$T$8:$AK$8,0)),0) -> 0 | ND12: =IFERROR(NC12*INDEX($T$8:$AK$14,MATCH($AN12,$T$8:$T$14,0),MATCH(ND$7,$T$8:$AK$8,0)),0) -> 0 | NF12: =IFERROR(NE12*INDEX($T$8:$AK$14,MATCH($AN12,$T$8:$T$14,0),MATCH(NF$7,$T$8:$AK$8,0)),0) -> 0 | NH12: =IFERROR(NG12*INDEX($T$8:$AK$14,MATCH($AN12,$T$8:$T$14,0),MATCH(NH$7,$T$8:$AK$8,0)),0) -> 0 | NJ12: =IFERROR(NI12*INDEX($T$8:$AK$14,MATCH($AN12,$T$8:$T$14,0),MATCH(NJ$7,$T$8:$AK$8,0)),0) -> 0 | NL12: =IFERROR(NK12*INDEX($T$8:$AK$14,MATCH($AN12,$T$8:$T$14,0),MATCH(NL$7,$T$8:$AK$8,0)),0) -> 0 | NN12: =IFERROR(NM12*INDEX($T$8:$AK$14,MATCH($AN12,$T$8:$T$14,0),MATCH(NN$7,$T$8:$AK$8,0)),0) -> 0 | NP12: =IFERROR(NO12*INDEX($T$8:$AK$14,MATCH($AN12,$T$8:$T$14,0),MATCH(NP$7,$T$8:$AK$8,0)),0) -> 0 | NR12: =IFERROR(NQ12*INDEX($T$8:$AK$14,MATCH($AN12,$T$8:$T$14,0),MATCH(NR$7,$T$8:$AK$8,0)),0) -> 0 | NT12: =IFERROR(NS12*INDEX($T$8:$AK$14,MATCH($AN12,$T$8:$T$14,0),MATCH(NT$7,$T$8:$AK$8,0)),0) -> 0 | NV12: =IFERROR(NU12*INDEX($T$8:$AK$14,MATCH($AN12,$T$8:$T$14,0),MATCH(NV$7,$T$8:$AK$8,0)),0) -> 0 | NX12: =IFERROR(NW12*INDEX($T$8:$AK$14,MATCH($AN12,$T$8:$T$14,0),MATCH(NX$7,$T$8:$AK$8,0)),0) -> 0 | NZ12: =IFERROR(NY12*INDEX($T$8:$AK$14,MATCH($AN12,$T$8:$T$14,0),MATCH(NZ$7,$T$8:$AK$8,0)),0) -> 0 | OB12: =IFERROR(OA12*INDEX($T$8:$AK$14,MATCH($AN12,$T$8:$T$14,0),MATCH(OB$7,$T$8:$AK$8,0)),0) -> 0 | OD12: =IFERROR(OC12*INDEX($T$8:$AK$14,MATCH($AN12,$T$8:$T$14,0),MATCH(OD$7,$T$8:$AK$8,0)),0) -> 0 | OF12: =IFERROR(OE12*INDEX($T$8:$AK$14,MATCH($AN12,$T$8:$T$14,0),MATCH(OF$7,$T$8:$AK$8,0)),0) -> 0 | OH12: =IFERROR(OG12*INDEX($T$8:$AK$14,MATCH($AN12,$T$8:$T$14,0),MATCH(OH$7,$T$8:$AK$8,0)),0) -> 0 | OJ12: =IFERROR(OI12*INDEX($T$8:$AK$14,MATCH($AN12,$T$8:$T$14,0),MATCH(OJ$7,$T$8:$AK$8,0)),0) -> 0 | OL12: =IFERROR(OK12*INDEX($T$8:$AK$14,MATCH($AN12,$T$8:$T$14,0),MATCH(OL$7,$T$8:$AK$8,0)),0) -> 0 | ON12: =IFERROR(OM12*INDEX($T$8:$AK$14,MATCH($AN12,$T$8:$T$14,0),MATCH(ON$7,$T$8:$AK$8,0)),0) -> 0 | OP12: =IFERROR(OO12*INDEX($T$8:$AK$14,MATCH($AN12,$T$8:$T$14,0),MATCH(OP$7,$T$8:$AK$8,0)),0) -> 0 | OR12: =IFERROR(OQ12*INDEX($T$8:$AK$14,MATCH($AN12,$T$8:$T$14,0),MATCH(OR$7,$T$8:$AK$8,0)),0) -> 0 | OT12: =IFERROR(OS12*INDEX($T$8:$AK$14,MATCH($AN12,$T$8:$T$14,0),MATCH(OT$7,$T$8:$AK$8,0)),0) -> 0 | OV12: =IFERROR(OU12*INDEX($T$8:$AK$14,MATCH($AN12,$T$8:$T$14,0),MATCH(OV$7,$T$8:$AK$8,0)),0) -> 0 | OX12: =IFERROR(OW12*INDEX($T$8:$AK$14,MATCH($AN12,$T$8:$T$14,0),MATCH(OX$7,$T$8:$AK$8,0)),0) -> 0 | OZ12: =IFERROR(OY12*INDEX($T$8:$AK$14,MATCH($AN12,$T$8:$T$14,0),MATCH(OZ$7,$T$8:$AK$8,0)),0) -> 0 | PB12: =IFERROR(PA12*INDEX($T$8:$AK$14,MATCH($AN12,$T$8:$T$14,0),MATCH(PB$7,$T$8:$AK$8,0)),0) -> 0 | PD12: =IFERROR(PC12*INDEX($T$8:$AK$14,MATCH($AN12,$T$8:$T$14,0),MATCH(PD$7,$T$8:$AK$8,0)),0) -> 0 | PF12: =IFERROR(PE12*INDEX($T$8:$AK$14,MATCH($AN12,$T$8:$T$14,0),MATCH(PF$7,$T$8:$AK$8,0)),0) -> 0 | PH12: =IFERROR(PG12*INDEX($T$8:$AK$14,MATCH($AN12,$T$8:$T$14,0),MATCH(PH$7,$T$8:$AK$8,0)),0) -> 0 | PJ12: =IFERROR(PI12*INDEX($T$8:$AK$14,MATCH($AN12,$T$8:$T$14,0),MATCH(PJ$7,$T$8:$AK$8,0)),0) -> 0 | PL12: =IFERROR(PK12*INDEX($T$8:$AK$14,MATCH($AN12,$T$8:$T$14,0),MATCH(PL$7,$T$8:$AK$8,0)),0) -> 0 | PN12: =IFERROR(PM12*INDEX($T$8:$AK$14,MATCH($AN12,$T$8:$T$14,0),MATCH(PN$7,$T$8:$AK$8,0)),0) -> 0 | PP12: =IFERROR(PO12*INDEX($T$8:$AK$14,MATCH($AN12,$T$8:$T$14,0),MATCH(PP$7,$T$8:$AK$8,0)),0) -> 0 | PR12: =IFERROR(PQ12*INDEX($T$8:$AK$14,MATCH($AN12,$T$8:$T$14,0),MATCH(PR$7,$T$8:$AK$8,0)),0) -> 0 | PT12: =IFERROR(PS12*INDEX($T$8:$AK$14,MATCH($AN12,$T$8:$T$14,0),MATCH(PT$7,$T$8:$AK$8,0)),0) -> 0 | PV12: =IFERROR(PU12*INDEX($T$8:$AK$14,MATCH($AN12,$T$8:$T$14,0),MATCH(PV$7,$T$8:$AK$8,0)),0) -> 0 | PX12: =IFERROR(PW12*INDEX($T$8:$AK$14,MATCH($AN12,$T$8:$T$14,0),MATCH(PX$7,$T$8:$AK$8,0)),0) -> 0 | PZ12: =IFERROR(PY12*INDEX($T$8:$AK$14,MATCH($AN12,$T$8:$T$14,0),MATCH(PZ$7,$T$8:$AK$8,0)),0) -> 0 | QB12: =IFERROR(QA12*INDEX($T$8:$AK$14,MATCH($AN12,$T$8:$T$14,0),MATCH(QB$7,$T$8:$AK$8,0)),0) -> 0 | QD12: =IFERROR(QC12*INDEX($T$8:$AK$14,MATCH($AN12,$T$8:$T$14,0),MATCH(QD$7,$T$8:$AK$8,0)),0) -> 0 | QF12: =IFERROR(QE12*INDEX($T$8:$AK$14,MATCH($AN12,$T$8:$T$14,0),MATCH(QF$7,$T$8:$AK$8,0)),0) -> 0
D13: BAT E | E13: Mécanisation | F13: {=SUMPRODUCT(($AO$8:$QF$98=F$7)*($AM$8:$AM$98=$D13)*($AO$8:$QF$98))} -> 0 | G13: {=SUMPRODUCT(($AO$8:$QF$8=G$7)*($AM$9:$AM$98=$D13)*($AO$9:$QF$98))} -> 4580.64 | H13: {=SUMPRODUCT(($AO$8:$QF$8=H$7)*($AM$9:$AM$98=$D13)*($AO$9:$QF$98))} -> 0 | I13: {=SUMPRODUCT(($AO$8:$QF$8=I$7)*($AM$9:$AM$98=$D13)*($AO$9:$QF$98))} -> 0 | J13: {=SUMPRODUCT(($AO$8:$QF$8=J$7)*($AM$9:$AM$98=$D13)*($AO$9:$QF$98))} -> 0 | K13: {=SUMPRODUCT(($AO$8:$QF$8=K$7)*($AM$9:$AM$98=$D13)*($AO$9:$QF$98))} -> 0 | L13: {=SUMPRODUCT(($AO$8:$QF$8=L$7)*($AM$9:$AM$98=$D13)*($AO$9:$QF$98))} -> 0 | M13: {=SUMPRODUCT(($AO$8:$QF$8=M$7)*($AM$9:$AM$98=$D13)*($AO$9:$QF$98))} -> 0 | N13: {=SUMPRODUCT(($AO$8:$QF$8=N$7)*($AM$9:$AM$98=$D13)*($AO$9:$QF$98))} -> 0 | ... Q13: {=SUMPRODUCT(($AO$8:$QF$8=Q$7)*($AM$9:$AM$98=$D13)*($AO$9:$QF$98))} -> 0 | AM13: =AM12 -> BAT A | AN13: =T13 -> 0 | AP13: =IFERROR(AO13*INDEX($T$8:$AK$14,MATCH($AN13,$T$8:$T$14,0),MATCH(AP$7,$T$8:$AK$8,0)),0) -> 0 | AR13: =IFERROR(AQ13*INDEX($T$8:$AK$14,MATCH($AN13,$T$8:$T$14,0),MATCH(AR$7,$T$8:$AK$8,0)),0) -> 0 | AT13: =IFERROR(AS13*INDEX($T$8:$AK$14,MATCH($AN13,$T$8:$T$14,0),MATCH(AT$7,$T$8:$AK$8,0)),0) -> 0 | AV13: =IFERROR(AU13*INDEX($T$8:$AK$14,MATCH($AN13,$T$8:$T$14,0),MATCH(AV$7,$T$8:$AK$8,0)),0) -> 0 | AX13: =IFERROR(AW13*INDEX($T$8:$AK$14,MATCH($AN13,$T$8:$T$14,0),MATCH(AX$7,$T$8:$AK$8,0)),0) -> 0 | AZ13: =IFERROR(AY13*INDEX($T$8:$AK$14,MATCH($AN13,$T$8:$T$14,0),MATCH(AZ$7,$T$8:$AK$8,0)),0) -> 0 | BB13: =IFERROR(BA13*INDEX($T$8:$AK$14,MATCH($AN13,$T$8:$T$14,0),MATCH(BB$7,$T$8:$AK$8,0)),0) -> 0 | BD13: =IFERROR(BC13*INDEX($T$8:$AK$14,MATCH($AN13,$T$8:$T$14,0),MATCH(BD$7,$T$8:$AK$8,0)),0) -> 0 | BF13: =IFERROR(BE13*INDEX($T$8:$AK$14,MATCH($AN13,$T$8:$T$14,0),MATCH(BF$7,$T$8:$AK$8,0)),0) -> 0 | BH13: =IFERROR(BG13*INDEX($T$8:$AK$14,MATCH($AN13,$T$8:$T$14,0),MATCH(BH$7,$T$8:$AK$8,0)),0) -> 0 | BJ13: =IFERROR(BI13*INDEX($T$8:$AK$14,MATCH($AN13,$T$8:$T$14,0),MATCH(BJ$7,$T$8:$AK$8,0)),0) -> 0 | BL13: =IFERROR(BK13*INDEX($T$8:$AK$14,MATCH($AN13,$T$8:$T$14,0),MATCH(BL$7,$T$8:$AK$8,0)),0) -> 0 | BN13: =IFERROR(BM13*INDEX($T$8:$AK$14,MATCH($AN13,$T$8:$T$14,0),MATCH(BN$7,$T$8:$AK$8,0)),0) -> 0 | BP13: =IFERROR(BO13*INDEX($T$8:$AK$14,MATCH($AN13,$T$8:$T$14,0),MATCH(BP$7,$T$8:$AK$8,0)),0) -> 0 | BR13: =IFERROR(BQ13*INDEX($T$8:$AK$14,MATCH($AN13,$T$8:$T$14,0),MATCH(BR$7,$T$8:$AK$8,0)),0) -> 0 | BT13: =IFERROR(BS13*INDEX($T$8:$AK$14,MATCH($AN13,$T$8:$T$14,0),MATCH(BT$7,$T$8:$AK$8,0)),0) -> 0 | BV13: =IFERROR(BU13*INDEX($T$8:$AK$14,MATCH($AN13,$T$8:$T$14,0),MATCH(BV$7,$T$8:$AK$8,0)),0) -> 0 | BX13: =IFERROR(BW13*INDEX($T$8:$AK$14,MATCH($AN13,$T$8:$T$14,0),MATCH(BX$7,$T$8:$AK$8,0)),0) -> 0 | BZ13: =IFERROR(BY13*INDEX($T$8:$AK$14,MATCH($AN13,$T$8:$T$14,0),MATCH(BZ$7,$T$8:$AK$8,0)),0) -> 0 | CB13: =IFERROR(CA13*INDEX($T$8:$AK$14,MATCH($AN13,$T$8:$T$14,0),MATCH(CB$7,$T$8:$AK$8,0)),0) -> 0 | CD13: =IFERROR(CC13*INDEX($T$8:$AK$14,MATCH($AN13,$T$8:$T$14,0),MATCH(CD$7,$T$8:$AK$8,0)),0) -> 0 | CF13: =IFERROR(CE13*INDEX($T$8:$AK$14,MATCH($AN13,$T$8:$T$14,0),MATCH(CF$7,$T$8:$AK$8,0)),0) -> 0 | CH13: =IFERROR(CG13*INDEX($T$8:$AK$14,MATCH($AN13,$T$8:$T$14,0),MATCH(CH$7,$T$8:$AK$8,0)),0) -> 0 | CJ13: =IFERROR(CI13*INDEX($T$8:$AK$14,MATCH($AN13,$T$8:$T$14,0),MATCH(CJ$7,$T$8:$AK$8,0)),0) -> 0 | CL13: =IFERROR(CK13*INDEX($T$8:$AK$14,MATCH($AN13,$T$8:$T$14,0),MATCH(CL$7,$T$8:$AK$8,0)),0) -> 0 | CN13: =IFERROR(CM13*INDEX($T$8:$AK$14,MATCH($AN13,$T$8:$T$14,0),MATCH(CN$7,$T$8:$AK$8,0)),0) -> 0 | CP13: =IFERROR(CO13*INDEX($T$8:$AK$14,MATCH($AN13,$T$8:$T$14,0),MATCH(CP$7,$T$8:$AK$8,0)),0) -> 0 | CR13: =IFERROR(CQ13*INDEX($T$8:$AK$14,MATCH($AN13,$T$8:$T$14,0),MATCH(CR$7,$T$8:$AK$8,0)),0) -> 0 | CT13: =IFERROR(CS13*INDEX($T$8:$AK$14,MATCH($AN13,$T$8:$T$14,0),MATCH(CT$7,$T$8:$AK$8,0)),0) -> 0 | CV13: =IFERROR(CU13*INDEX($T$8:$AK$14,MATCH($AN13,$T$8:$T$14,0),MATCH(CV$7,$T$8:$AK$8,0)),0) -> 0 | CX13: =IFERROR(CW13*INDEX($T$8:$AK$14,MATCH($AN13,$T$8:$T$14,0),MATCH(CX$7,$T$8:$AK$8,0)),0) -> 0 | CZ13: =IFERROR(CY13*INDEX($T$8:$AK$14,MATCH($AN13,$T$8:$T$14,0),MATCH(CZ$7,$T$8:$AK$8,0)),0) -> 0 | DB13: =IFERROR(DA13*INDEX($T$8:$AK$14,MATCH($AN13,$T$8:$T$14,0),MATCH(DB$7,$T$8:$AK$8,0)),0) -> 0 | DD13: =IFERROR(DC13*INDEX($T$8:$AK$14,MATCH($AN13,$T$8:$T$14,0),MATCH(DD$7,$T$8:$AK$8,0)),0) -> 0 | DF13: =IFERROR(DE13*INDEX($T$8:$AK$14,MATCH($AN13,$T$8:$T$14,0),MATCH(DF$7,$T$8:$AK$8,0)),0) -> 0 | DH13: =IFERROR(DG13*INDEX($T$8:$AK$14,MATCH($AN13,$T$8:$T$14,0),MATCH(DH$7,$T$8:$AK$8,0)),0) -> 0 | DJ13: =IFERROR(DI13*INDEX($T$8:$AK$14,MATCH($AN13,$T$8:$T$14,0),MATCH(DJ$7,$T$8:$AK$8,0)),0) -> 0 | DL13: =IFERROR(DK13*INDEX($T$8:$AK$14,MATCH($AN13,$T$8:$T$14,0),MATCH(DL$7,$T$8:$AK$8,0)),0) -> 0 | DN13: =IFERROR(DM13*INDEX($T$8:$AK$14,MATCH($AN13,$T$8:$T$14,0),MATCH(DN$7,$T$8:$AK$8,0)),0) -> 0 | DP13: =IFERROR(DO13*INDEX($T$8:$AK$14,MATCH($AN13,$T$8:$T$14,0),MATCH(DP$7,$T$8:$AK$8,0)),0) -> 0 | DR13: =IFERROR(DQ13*INDEX($T$8:$AK$14,MATCH($AN13,$T$8:$T$14,0),MATCH(DR$7,$T$8:$AK$8,0)),0) -> 0 | DT13: =IFERROR(DS13*INDEX($T$8:$AK$14,MATCH($AN13,$T$8:$T$14,0),MATCH(DT$7,$T$8:$AK$8,0)),0) -> 0 | DV13: =IFERROR(DU13*INDEX($T$8:$AK$14,MATCH($AN13,$T$8:$T$14,0),MATCH(DV$7,$T$8:$AK$8,0)),0) -> 0 | DX13: =IFERROR(DW13*INDEX($T$8:$AK$14,MATCH($AN13,$T$8:$T$14,0),MATCH(DX$7,$T$8:$AK$8,0)),0) -> 0 | DZ13: =IFERROR(DY13*INDEX($T$8:$AK$14,MATCH($AN13,$T$8:$T$14,0),MATCH(DZ$7,$T$8:$AK$8,0)),0) -> 0 | EB13: =IFERROR(EA13*INDEX($T$8:$AK$14,MATCH($AN13,$T$8:$T$14,0),MATCH(EB$7,$T$8:$AK$8,0)),0) -> 0 | ED13: =IFERROR(EC13*INDEX($T$8:$AK$14,MATCH($AN13,$T$8:$T$14,0),MATCH(ED$7,$T$8:$AK$8,0)),0) -> 0 | EF13: =IFERROR(EE13*INDEX($T$8:$AK$14,MATCH($AN13,$T$8:$T$14,0),MATCH(EF$7,$T$8:$AK$8,0)),0) -> 0 | EH13: =IFERROR(EG13*INDEX($T$8:$AK$14,MATCH($AN13,$T$8:$T$14,0),MATCH(EH$7,$T$8:$AK$8,0)),0) -> 0 | EJ13: =IFERROR(EI13*INDEX($T$8:$AK$14,MATCH($AN13,$T$8:$T$14,0),MATCH(EJ$7,$T$8:$AK$8,0)),0) -> 0 | EL13: =IFERROR(EK13*INDEX($T$8:$AK$14,MATCH($AN13,$T$8:$T$14,0),MATCH(EL$7,$T$8:$AK$8,0)),0) -> 0 | EN13: =IFERROR(EM13*INDEX($T$8:$AK$14,MATCH($AN13,$T$8:$T$14,0),MATCH(EN$7,$T$8:$AK$8,0)),0) -> 0 | EP13: =IFERROR(EO13*INDEX($T$8:$AK$14,MATCH($AN13,$T$8:$T$14,0),MATCH(EP$7,$T$8:$AK$8,0)),0) -> 0 | ER13: =IFERROR(EQ13*INDEX($T$8:$AK$14,MATCH($AN13,$T$8:$T$14,0),MATCH(ER$7,$T$8:$AK$8,0)),0) -> 0 | ET13: =IFERROR(ES13*INDEX($T$8:$AK$14,MATCH($AN13,$T$8:$T$14,0),MATCH(ET$7,$T$8:$AK$8,0)),0) -> 0 | EV13: =IFERROR(EU13*INDEX($T$8:$AK$14,MATCH($AN13,$T$8:$T$14,0),MATCH(EV$7,$T$8:$AK$8,0)),0) -> 0 | EX13: =IFERROR(EW13*INDEX($T$8:$AK$14,MATCH($AN13,$T$8:$T$14,0),MATCH(EX$7,$T$8:$AK$8,0)),0) -> 0 | EZ13: =IFERROR(EY13*INDEX($T$8:$AK$14,MATCH($AN13,$T$8:$T$14,0),MATCH(EZ$7,$T$8:$AK$8,0)),0) -> 0 | FB13: =IFERROR(FA13*INDEX($T$8:$AK$14,MATCH($AN13,$T$8:$T$14,0),MATCH(FB$7,$T$8:$AK$8,0)),0) -> 0 | FD13: =IFERROR(FC13*INDEX($T$8:$AK$14,MATCH($AN13,$T$8:$T$14,0),MATCH(FD$7,$T$8:$AK$8,0)),0) -> 0 | FF13: =IFERROR(FE13*INDEX($T$8:$AK$14,MATCH($AN13,$T$8:$T$14,0),MATCH(FF$7,$T$8:$AK$8,0)),0) -> 0 | FH13: =IFERROR(FG13*INDEX($T$8:$AK$14,MATCH($AN13,$T$8:$T$14,0),MATCH(FH$7,$T$8:$AK$8,0)),0) -> 0 | FJ13: =IFERROR(FI13*INDEX($T$8:$AK$14,MATCH($AN13,$T$8:$T$14,0),MATCH(FJ$7,$T$8:$AK$8,0)),0) -> 0 | FL13: =IFERROR(FK13*INDEX($T$8:$AK$14,MATCH($AN13,$T$8:$T$14,0),MATCH(FL$7,$T$8:$AK$8,0)),0) -> 0 | FN13: =IFERROR(FM13*INDEX($T$8:$AK$14,MATCH($AN13,$T$8:$T$14,0),MATCH(FN$7,$T$8:$AK$8,0)),0) -> 0 | FP13: =IFERROR(FO13*INDEX($T$8:$AK$14,MATCH($AN13,$T$8:$T$14,0),MATCH(FP$7,$T$8:$AK$8,0)),0) -> 0 | FR13: =IFERROR(FQ13*INDEX($T$8:$AK$14,MATCH($AN13,$T$8:$T$14,0),MATCH(FR$7,$T$8:$AK$8,0)),0) -> 0 | FT13: =IFERROR(FS13*INDEX($T$8:$AK$14,MATCH($AN13,$T$8:$T$14,0),MATCH(FT$7,$T$8:$AK$8,0)),0) -> 0 | FV13: =IFERROR(FU13*INDEX($T$8:$AK$14,MATCH($AN13,$T$8:$T$14,0),MATCH(FV$7,$T$8:$AK$8,0)),0) -> 0 | FX13: =IFERROR(FW13*INDEX($T$8:$AK$14,MATCH($AN13,$T$8:$T$14,0),MATCH(FX$7,$T$8:$AK$8,0)),0) -> 0 | FZ13: =IFERROR(FY13*INDEX($T$8:$AK$14,MATCH($AN13,$T$8:$T$14,0),MATCH(FZ$7,$T$8:$AK$8,0)),0) -> 0 | GB13: =IFERROR(GA13*INDEX($T$8:$AK$14,MATCH($AN13,$T$8:$T$14,0),MATCH(GB$7,$T$8:$AK$8,0)),0) -> 0 | GD13: =IFERROR(GC13*INDEX($T$8:$AK$14,MATCH($AN13,$T$8:$T$14,0),MATCH(GD$7,$T$8:$AK$8,0)),0) -> 0 | GF13: =IFERROR(GE13*INDEX($T$8:$AK$14,MATCH($AN13,$T$8:$T$14,0),MATCH(GF$7,$T$8:$AK$8,0)),0) -> 0 | GH13: =IFERROR(GG13*INDEX($T$8:$AK$14,MATCH($AN13,$T$8:$T$14,0),MATCH(GH$7,$T$8:$AK$8,0)),0) -> 0 | GJ13: =IFERROR(GI13*INDEX($T$8:$AK$14,MATCH($AN13,$T$8:$T$14,0),MATCH(GJ$7,$T$8:$AK$8,0)),0) -> 0 | GL13: =IFERROR(GK13*INDEX($T$8:$AK$14,MATCH($AN13,$T$8:$T$14,0),MATCH(GL$7,$T$8:$AK$8,0)),0) -> 0 | GN13: =IFERROR(GM13*INDEX($T$8:$AK$14,MATCH($AN13,$T$8:$T$14,0),MATCH(GN$7,$T$8:$AK$8,0)),0) -> 0 | GP13: =IFERROR(GO13*INDEX($T$8:$AK$14,MATCH($AN13,$T$8:$T$14,0),MATCH(GP$7,$T$8:$AK$8,0)),0) -> 0 | GR13: =IFERROR(GQ13*INDEX($T$8:$AK$14,MATCH($AN13,$T$8:$T$14,0),MATCH(GR$7,$T$8:$AK$8,0)),0) -> 0 | GT13: =IFERROR(GS13*INDEX($T$8:$AK$14,MATCH($AN13,$T$8:$T$14,0),MATCH(GT$7,$T$8:$AK$8,0)),0) -> 0 | GV13: =IFERROR(GU13*INDEX($T$8:$AK$14,MATCH($AN13,$T$8:$T$14,0),MATCH(GV$7,$T$8:$AK$8,0)),0) -> 0 | GX13: =IFERROR(GW13*INDEX($T$8:$AK$14,MATCH($AN13,$T$8:$T$14,0),MATCH(GX$7,$T$8:$AK$8,0)),0) -> 0 | GZ13: =IFERROR(GY13*INDEX($T$8:$AK$14,MATCH($AN13,$T$8:$T$14,0),MATCH(GZ$7,$T$8:$AK$8,0)),0) -> 0 | HB13: =IFERROR(HA13*INDEX($T$8:$AK$14,MATCH($AN13,$T$8:$T$14,0),MATCH(HB$7,$T$8:$AK$8,0)),0) -> 0 | HD13: =IFERROR(HC13*INDEX($T$8:$AK$14,MATCH($AN13,$T$8:$T$14,0),MATCH(HD$7,$T$8:$AK$8,0)),0) -> 0 | HF13: =IFERROR(HE13*INDEX($T$8:$AK$14,MATCH($AN13,$T$8:$T$14,0),MATCH(HF$7,$T$8:$AK$8,0)),0) -> 0 | HH13: =IFERROR(HG13*INDEX($T$8:$AK$14,MATCH($AN13,$T$8:$T$14,0),MATCH(HH$7,$T$8:$AK$8,0)),0) -> 0 | HJ13: =IFERROR(HI13*INDEX($T$8:$AK$14,MATCH($AN13,$T$8:$T$14,0),MATCH(HJ$7,$T$8:$AK$8,0)),0) -> 0 | HL13: =IFERROR(HK13*INDEX($T$8:$AK$14,MATCH($AN13,$T$8:$T$14,0),MATCH(HL$7,$T$8:$AK$8,0)),0) -> 0 | HN13: =IFERROR(HM13*INDEX($T$8:$AK$14,MATCH($AN13,$T$8:$T$14,0),MATCH(HN$7,$T$8:$AK$8,0)),0) -> 0 | HP13: =IFERROR(HO13*INDEX($T$8:$AK$14,MATCH($AN13,$T$8:$T$14,0),MATCH(HP$7,$T$8:$AK$8,0)),0) -> 0 | HR13: =IFERROR(HQ13*INDEX($T$8:$AK$14,MATCH($AN13,$T$8:$T$14,0),MATCH(HR$7,$T$8:$AK$8,0)),0) -> 0 | HT13: =IFERROR(HS13*INDEX($T$8:$AK$14,MATCH($AN13,$T$8:$T$14,0),MATCH(HT$7,$T$8:$AK$8,0)),0) -> 0 | HV13: =IFERROR(HU13*INDEX($T$8:$AK$14,MATCH($AN13,$T$8:$T$14,0),MATCH(HV$7,$T$8:$AK$8,0)),0) -> 0 | HX13: =IFERROR(HW13*INDEX($T$8:$AK$14,MATCH($AN13,$T$8:$T$14,0),MATCH(HX$7,$T$8:$AK$8,0)),0) -> 0 | HZ13: =IFERROR(HY13*INDEX($T$8:$AK$14,MATCH($AN13,$T$8:$T$14,0),MATCH(HZ$7,$T$8:$AK$8,0)),0) -> 0 | IB13: =IFERROR(IA13*INDEX($T$8:$AK$14,MATCH($AN13,$T$8:$T$14,0),MATCH(IB$7,$T$8:$AK$8,0)),0) -> 0 | ID13: =IFERROR(IC13*INDEX($T$8:$AK$14,MATCH($AN13,$T$8:$T$14,0),MATCH(ID$7,$T$8:$AK$8,0)),0) -> 0 | IF13: =IFERROR(IE13*INDEX($T$8:$AK$14,MATCH($AN13,$T$8:$T$14,0),MATCH(IF$7,$T$8:$AK$8,0)),0) -> 0 | IH13: =IFERROR(IG13*INDEX($T$8:$AK$14,MATCH($AN13,$T$8:$T$14,0),MATCH(IH$7,$T$8:$AK$8,0)),0) -> 0 | IJ13: =IFERROR(II13*INDEX($T$8:$AK$14,MATCH($AN13,$T$8:$T$14,0),MATCH(IJ$7,$T$8:$AK$8,0)),0) -> 0 | IL13: =IFERROR(IK13*INDEX($T$8:$AK$14,MATCH($AN13,$T$8:$T$14,0),MATCH(IL$7,$T$8:$AK$8,0)),0) -> 0 | IN13: =IFERROR(IM13*INDEX($T$8:$AK$14,MATCH($AN13,$T$8:$T$14,0),MATCH(IN$7,$T$8:$AK$8,0)),0) -> 0 | IP13: =IFERROR(IO13*INDEX($T$8:$AK$14,MATCH($AN13,$T$8:$T$14,0),MATCH(IP$7,$T$8:$AK$8,0)),0) -> 0 | IR13: =IFERROR(IQ13*INDEX($T$8:$AK$14,MATCH($AN13,$T$8:$T$14,0),MATCH(IR$7,$T$8:$AK$8,0)),0) -> 0 | IT13: =IFERROR(IS13*INDEX($T$8:$AK$14,MATCH($AN13,$T$8:$T$14,0),MATCH(IT$7,$T$8:$AK$8,0)),0) -> 0 | IV13: =IFERROR(IU13*INDEX($T$8:$AK$14,MATCH($AN13,$T$8:$T$14,0),MATCH(IV$7,$T$8:$AK$8,0)),0) -> 0 | IX13: =IFERROR(IW13*INDEX($T$8:$AK$14,MATCH($AN13,$T$8:$T$14,0),MATCH(IX$7,$T$8:$AK$8,0)),0) -> 0 | IZ13: =IFERROR(IY13*INDEX($T$8:$AK$14,MATCH($AN13,$T$8:$T$14,0),MATCH(IZ$7,$T$8:$AK$8,0)),0) -> 0 | JB13: =IFERROR(JA13*INDEX($T$8:$AK$14,MATCH($AN13,$T$8:$T$14,0),MATCH(JB$7,$T$8:$AK$8,0)),0) -> 0 | JD13: =IFERROR(JC13*INDEX($T$8:$AK$14,MATCH($AN13,$T$8:$T$14,0),MATCH(JD$7,$T$8:$AK$8,0)),0) -> 0 | JF13: =IFERROR(JE13*INDEX($T$8:$AK$14,MATCH($AN13,$T$8:$T$14,0),MATCH(JF$7,$T$8:$AK$8,0)),0) -> 0 | JH13: =IFERROR(JG13*INDEX($T$8:$AK$14,MATCH($AN13,$T$8:$T$14,0),MATCH(JH$7,$T$8:$AK$8,0)),0) -> 0 | JJ13: =IFERROR(JI13*INDEX($T$8:$AK$14,MATCH($AN13,$T$8:$T$14,0),MATCH(JJ$7,$T$8:$AK$8,0)),0) -> 0 | JL13: =IFERROR(JK13*INDEX($T$8:$AK$14,MATCH($AN13,$T$8:$T$14,0),MATCH(JL$7,$T$8:$AK$8,0)),0) -> 0 | JN13: =IFERROR(JM13*INDEX($T$8:$AK$14,MATCH($AN13,$T$8:$T$14,0),MATCH(JN$7,$T$8:$AK$8,0)),0) -> 0 | JP13: =IFERROR(JO13*INDEX($T$8:$AK$14,MATCH($AN13,$T$8:$T$14,0),MATCH(JP$7,$T$8:$AK$8,0)),0) -> 0 | JR13: =IFERROR(JQ13*INDEX($T$8:$AK$14,MATCH($AN13,$T$8:$T$14,0),MATCH(JR$7,$T$8:$AK$8,0)),0) -> 0 | JT13: =IFERROR(JS13*INDEX($T$8:$AK$14,MATCH($AN13,$T$8:$T$14,0),MATCH(JT$7,$T$8:$AK$8,0)),0) -> 0 | JV13: =IFERROR(JU13*INDEX($T$8:$AK$14,MATCH($AN13,$T$8:$T$14,0),MATCH(JV$7,$T$8:$AK$8,0)),0) -> 0 | JX13: =IFERROR(JW13*INDEX($T$8:$AK$14,MATCH($AN13,$T$8:$T$14,0),MATCH(JX$7,$T$8:$AK$8,0)),0) -> 0 | JZ13: =IFERROR(JY13*INDEX($T$8:$AK$14,MATCH($AN13,$T$8:$T$14,0),MATCH(JZ$7,$T$8:$AK$8,0)),0) -> 0 | KB13: =IFERROR(KA13*INDEX($T$8:$AK$14,MATCH($AN13,$T$8:$T$14,0),MATCH(KB$7,$T$8:$AK$8,0)),0) -> 0 | KD13: =IFERROR(KC13*INDEX($T$8:$AK$14,MATCH($AN13,$T$8:$T$14,0),MATCH(KD$7,$T$8:$AK$8,0)),0) -> 0 | KF13: =IFERROR(KE13*INDEX($T$8:$AK$14,MATCH($AN13,$T$8:$T$14,0),MATCH(KF$7,$T$8:$AK$8,0)),0) -> 0 | KH13: =IFERROR(KG13*INDEX($T$8:$AK$14,MATCH($AN13,$T$8:$T$14,0),MATCH(KH$7,$T$8:$AK$8,0)),0) -> 0 | KJ13: =IFERROR(KI13*INDEX($T$8:$AK$14,MATCH($AN13,$T$8:$T$14,0),MATCH(KJ$7,$T$8:$AK$8,0)),0) -> 0 | KL13: =IFERROR(KK13*INDEX($T$8:$AK$14,MATCH($AN13,$T$8:$T$14,0),MATCH(KL$7,$T$8:$AK$8,0)),0) -> 0 | KN13: =IFERROR(KM13*INDEX($T$8:$AK$14,MATCH($AN13,$T$8:$T$14,0),MATCH(KN$7,$T$8:$AK$8,0)),0) -> 0 | KP13: =IFERROR(KO13*INDEX($T$8:$AK$14,MATCH($AN13,$T$8:$T$14,0),MATCH(KP$7,$T$8:$AK$8,0)),0) -> 0 | KR13: =IFERROR(KQ13*INDEX($T$8:$AK$14,MATCH($AN13,$T$8:$T$14,0),MATCH(KR$7,$T$8:$AK$8,0)),0) -> 0 | KT13: =IFERROR(KS13*INDEX($T$8:$AK$14,MATCH($AN13,$T$8:$T$14,0),MATCH(KT$7,$T$8:$AK$8,0)),0) -> 0 | KV13: =IFERROR(KU13*INDEX($T$8:$AK$14,MATCH($AN13,$T$8:$T$14,0),MATCH(KV$7,$T$8:$AK$8,0)),0) -> 0 | KX13: =IFERROR(KW13*INDEX($T$8:$AK$14,MATCH($AN13,$T$8:$T$14,0),MATCH(KX$7,$T$8:$AK$8,0)),0) -> 0 | KZ13: =IFERROR(KY13*INDEX($T$8:$AK$14,MATCH($AN13,$T$8:$T$14,0),MATCH(KZ$7,$T$8:$AK$8,0)),0) -> 0 | LB13: =IFERROR(LA13*INDEX($T$8:$AK$14,MATCH($AN13,$T$8:$T$14,0),MATCH(LB$7,$T$8:$AK$8,0)),0) -> 0 | LD13: =IFERROR(LC13*INDEX($T$8:$AK$14,MATCH($AN13,$T$8:$T$14,0),MATCH(LD$7,$T$8:$AK$8,0)),0) -> 0 | LF13: =IFERROR(LE13*INDEX($T$8:$AK$14,MATCH($AN13,$T$8:$T$14,0),MATCH(LF$7,$T$8:$AK$8,0)),0) -> 0 | LH13: =IFERROR(LG13*INDEX($T$8:$AK$14,MATCH($AN13,$T$8:$T$14,0),MATCH(LH$7,$T$8:$AK$8,0)),0) -> 0 | LJ13: =IFERROR(LI13*INDEX($T$8:$AK$14,MATCH($AN13,$T$8:$T$14,0),MATCH(LJ$7,$T$8:$AK$8,0)),0) -> 0 | LL13: =IFERROR(LK13*INDEX($T$8:$AK$14,MATCH($AN13,$T$8:$T$14,0),MATCH(LL$7,$T$8:$AK$8,0)),0) -> 0 | LN13: =IFERROR(LM13*INDEX($T$8:$AK$14,MATCH($AN13,$T$8:$T$14,0),MATCH(LN$7,$T$8:$AK$8,0)),0) -> 0 | LP13: =IFERROR(LO13*INDEX($T$8:$AK$14,MATCH($AN13,$T$8:$T$14,0),MATCH(LP$7,$T$8:$AK$8,0)),0) -> 0 | LR13: =IFERROR(LQ13*INDEX($T$8:$AK$14,MATCH($AN13,$T$8:$T$14,0),MATCH(LR$7,$T$8:$AK$8,0)),0) -> 0 | LT13: =IFERROR(LS13*INDEX($T$8:$AK$14,MATCH($AN13,$T$8:$T$14,0),MATCH(LT$7,$T$8:$AK$8,0)),0) -> 0 | LV13: =IFERROR(LU13*INDEX($T$8:$AK$14,MATCH($AN13,$T$8:$T$14,0),MATCH(LV$7,$T$8:$AK$8,0)),0) -> 0 | LX13: =IFERROR(LW13*INDEX($T$8:$AK$14,MATCH($AN13,$T$8:$T$14,0),MATCH(LX$7,$T$8:$AK$8,0)),0) -> 0 | LZ13: =IFERROR(LY13*INDEX($T$8:$AK$14,MATCH($AN13,$T$8:$T$14,0),MATCH(LZ$7,$T$8:$AK$8,0)),0) -> 0 | MB13: =IFERROR(MA13*INDEX($T$8:$AK$14,MATCH($AN13,$T$8:$T$14,0),MATCH(MB$7,$T$8:$AK$8,0)),0) -> 0 | MD13: =IFERROR(MC13*INDEX($T$8:$AK$14,MATCH($AN13,$T$8:$T$14,0),MATCH(MD$7,$T$8:$AK$8,0)),0) -> 0 | MF13: =IFERROR(ME13*INDEX($T$8:$AK$14,MATCH($AN13,$T$8:$T$14,0),MATCH(MF$7,$T$8:$AK$8,0)),0) -> 0 | MH13: =IFERROR(MG13*INDEX($T$8:$AK$14,MATCH($AN13,$T$8:$T$14,0),MATCH(MH$7,$T$8:$AK$8,0)),0) -> 0 | MJ13: =IFERROR(MI13*INDEX($T$8:$AK$14,MATCH($AN13,$T$8:$T$14,0),MATCH(MJ$7,$T$8:$AK$8,0)),0) -> 0 | ML13: =IFERROR(MK13*INDEX($T$8:$AK$14,MATCH($AN13,$T$8:$T$14,0),MATCH(ML$7,$T$8:$AK$8,0)),0) -> 0 | MN13: =IFERROR(MM13*INDEX($T$8:$AK$14,MATCH($AN13,$T$8:$T$14,0),MATCH(MN$7,$T$8:$AK$8,0)),0) -> 0 | MP13: =IFERROR(MO13*INDEX($T$8:$AK$14,MATCH($AN13,$T$8:$T$14,0),MATCH(MP$7,$T$8:$AK$8,0)),0) -> 0 | MR13: =IFERROR(MQ13*INDEX($T$8:$AK$14,MATCH($AN13,$T$8:$T$14,0),MATCH(MR$7,$T$8:$AK$8,0)),0) -> 0 | MT13: =IFERROR(MS13*INDEX($T$8:$AK$14,MATCH($AN13,$T$8:$T$14,0),MATCH(MT$7,$T$8:$AK$8,0)),0) -> 0 | MV13: =IFERROR(MU13*INDEX($T$8:$AK$14,MATCH($AN13,$T$8:$T$14,0),MATCH(MV$7,$T$8:$AK$8,0)),0) -> 0 | MX13: =IFERROR(MW13*INDEX($T$8:$AK$14,MATCH($AN13,$T$8:$T$14,0),MATCH(MX$7,$T$8:$AK$8,0)),0) -> 0 | MZ13: =IFERROR(MY13*INDEX($T$8:$AK$14,MATCH($AN13,$T$8:$T$14,0),MATCH(MZ$7,$T$8:$AK$8,0)),0) -> 0 | NB13: =IFERROR(NA13*INDEX($T$8:$AK$14,MATCH($AN13,$T$8:$T$14,0),MATCH(NB$7,$T$8:$AK$8,0)),0) -> 0 | ND13: =IFERROR(NC13*INDEX($T$8:$AK$14,MATCH($AN13,$T$8:$T$14,0),MATCH(ND$7,$T$8:$AK$8,0)),0) -> 0 | NF13: =IFERROR(NE13*INDEX($T$8:$AK$14,MATCH($AN13,$T$8:$T$14,0),MATCH(NF$7,$T$8:$AK$8,0)),0) -> 0 | NH13: =IFERROR(NG13*INDEX($T$8:$AK$14,MATCH($AN13,$T$8:$T$14,0),MATCH(NH$7,$T$8:$AK$8,0)),0) -> 0 | NJ13: =IFERROR(NI13*INDEX($T$8:$AK$14,MATCH($AN13,$T$8:$T$14,0),MATCH(NJ$7,$T$8:$AK$8,0)),0) -> 0 | NL13: =IFERROR(NK13*INDEX($T$8:$AK$14,MATCH($AN13,$T$8:$T$14,0),MATCH(NL$7,$T$8:$AK$8,0)),0) -> 0 | NN13: =IFERROR(NM13*INDEX($T$8:$AK$14,MATCH($AN13,$T$8:$T$14,0),MATCH(NN$7,$T$8:$AK$8,0)),0) -> 0 | NP13: =IFERROR(NO13*INDEX($T$8:$AK$14,MATCH($AN13,$T$8:$T$14,0),MATCH(NP$7,$T$8:$AK$8,0)),0) -> 0 | NR13: =IFERROR(NQ13*INDEX($T$8:$AK$14,MATCH($AN13,$T$8:$T$14,0),MATCH(NR$7,$T$8:$AK$8,0)),0) -> 0 | NT13: =IFERROR(NS13*INDEX($T$8:$AK$14,MATCH($AN13,$T$8:$T$14,0),MATCH(NT$7,$T$8:$AK$8,0)),0) -> 0 | NV13: =IFERROR(NU13*INDEX($T$8:$AK$14,MATCH($AN13,$T$8:$T$14,0),MATCH(NV$7,$T$8:$AK$8,0)),0) -> 0 | NX13: =IFERROR(NW13*INDEX($T$8:$AK$14,MATCH($AN13,$T$8:$T$14,0),MATCH(NX$7,$T$8:$AK$8,0)),0) -> 0 | NZ13: =IFERROR(NY13*INDEX($T$8:$AK$14,MATCH($AN13,$T$8:$T$14,0),MATCH(NZ$7,$T$8:$AK$8,0)),0) -> 0 | OB13: =IFERROR(OA13*INDEX($T$8:$AK$14,MATCH($AN13,$T$8:$T$14,0),MATCH(OB$7,$T$8:$AK$8,0)),0) -> 0 | OD13: =IFERROR(OC13*INDEX($T$8:$AK$14,MATCH($AN13,$T$8:$T$14,0),MATCH(OD$7,$T$8:$AK$8,0)),0) -> 0 | OF13: =IFERROR(OE13*INDEX($T$8:$AK$14,MATCH($AN13,$T$8:$T$14,0),MATCH(OF$7,$T$8:$AK$8,0)),0) -> 0 | OH13: =IFERROR(OG13*INDEX($T$8:$AK$14,MATCH($AN13,$T$8:$T$14,0),MATCH(OH$7,$T$8:$AK$8,0)),0) -> 0 | OJ13: =IFERROR(OI13*INDEX($T$8:$AK$14,MATCH($AN13,$T$8:$T$14,0),MATCH(OJ$7,$T$8:$AK$8,0)),0) -> 0 | OL13: =IFERROR(OK13*INDEX($T$8:$AK$14,MATCH($AN13,$T$8:$T$14,0),MATCH(OL$7,$T$8:$AK$8,0)),0) -> 0 | ON13: =IFERROR(OM13*INDEX($T$8:$AK$14,MATCH($AN13,$T$8:$T$14,0),MATCH(ON$7,$T$8:$AK$8,0)),0) -> 0 | OP13: =IFERROR(OO13*INDEX($T$8:$AK$14,MATCH($AN13,$T$8:$T$14,0),MATCH(OP$7,$T$8:$AK$8,0)),0) -> 0 | OR13: =IFERROR(OQ13*INDEX($T$8:$AK$14,MATCH($AN13,$T$8:$T$14,0),MATCH(OR$7,$T$8:$AK$8,0)),0) -> 0 | OT13: =IFERROR(OS13*INDEX($T$8:$AK$14,MATCH($AN13,$T$8:$T$14,0),MATCH(OT$7,$T$8:$AK$8,0)),0) -> 0 | OV13: =IFERROR(OU13*INDEX($T$8:$AK$14,MATCH($AN13,$T$8:$T$14,0),MATCH(OV$7,$T$8:$AK$8,0)),0) -> 0 | OX13: =IFERROR(OW13*INDEX($T$8:$AK$14,MATCH($AN13,$T$8:$T$14,0),MATCH(OX$7,$T$8:$AK$8,0)),0) -> 0 | OZ13: =IFERROR(OY13*INDEX($T$8:$AK$14,MATCH($AN13,$T$8:$T$14,0),MATCH(OZ$7,$T$8:$AK$8,0)),0) -> 0 | PB13: =IFERROR(PA13*INDEX($T$8:$AK$14,MATCH($AN13,$T$8:$T$14,0),MATCH(PB$7,$T$8:$AK$8,0)),0) -> 0 | PD13: =IFERROR(PC13*INDEX($T$8:$AK$14,MATCH($AN13,$T$8:$T$14,0),MATCH(PD$7,$T$8:$AK$8,0)),0) -> 0 | PF13: =IFERROR(PE13*INDEX($T$8:$AK$14,MATCH($AN13,$T$8:$T$14,0),MATCH(PF$7,$T$8:$AK$8,0)),0) -> 0 | PH13: =IFERROR(PG13*INDEX($T$8:$AK$14,MATCH($AN13,$T$8:$T$14,0),MATCH(PH$7,$T$8:$AK$8,0)),0) -> 0 | PJ13: =IFERROR(PI13*INDEX($T$8:$AK$14,MATCH($AN13,$T$8:$T$14,0),MATCH(PJ$7,$T$8:$AK$8,0)),0) -> 0 | PL13: =IFERROR(PK13*INDEX($T$8:$AK$14,MATCH($AN13,$T$8:$T$14,0),MATCH(PL$7,$T$8:$AK$8,0)),0) -> 0 | PN13: =IFERROR(PM13*INDEX($T$8:$AK$14,MATCH($AN13,$T$8:$T$14,0),MATCH(PN$7,$T$8:$AK$8,0)),0) -> 0 | PP13: =IFERROR(PO13*INDEX($T$8:$AK$14,MATCH($AN13,$T$8:$T$14,0),MATCH(PP$7,$T$8:$AK$8,0)),0) -> 0 | PR13: =IFERROR(PQ13*INDEX($T$8:$AK$14,MATCH($AN13,$T$8:$T$14,0),MATCH(PR$7,$T$8:$AK$8,0)),0) -> 0 | PT13: =IFERROR(PS13*INDEX($T$8:$AK$14,MATCH($AN13,$T$8:$T$14,0),MATCH(PT$7,$T$8:$AK$8,0)),0) -> 0 | PV13: =IFERROR(PU13*INDEX($T$8:$AK$14,MATCH($AN13,$T$8:$T$14,0),MATCH(PV$7,$T$8:$AK$8,0)),0) -> 0 | PX13: =IFERROR(PW13*INDEX($T$8:$AK$14,MATCH($AN13,$T$8:$T$14,0),MATCH(PX$7,$T$8:$AK$8,0)),0) -> 0 | PZ13: =IFERROR(PY13*INDEX($T$8:$AK$14,MATCH($AN13,$T$8:$T$14,0),MATCH(PZ$7,$T$8:$AK$8,0)),0) -> 0 | QB13: =IFERROR(QA13*INDEX($T$8:$AK$14,MATCH($AN13,$T$8:$T$14,0),MATCH(QB$7,$T$8:$AK$8,0)),0) -> 0 | QD13: =IFERROR(QC13*INDEX($T$8:$AK$14,MATCH($AN13,$T$8:$T$14,0),MATCH(QD$7,$T$8:$AK$8,0)),0) -> 0 | QF13: =IFERROR(QE13*INDEX($T$8:$AK$14,MATCH($AN13,$T$8:$T$14,0),MATCH(QF$7,$T$8:$AK$8,0)),0) -> 0
D14: BAT F | E14: Mécanisation | F14: {=SUMPRODUCT(($AO$8:$QF$98=F$7)*($AM$8:$AM$98=$D14)*($AO$8:$QF$98))} -> 0 | G14: {=SUMPRODUCT(($AO$8:$QF$8=G$7)*($AM$9:$AM$98=$D14)*($AO$9:$QF$98))} -> 4112.24 | H14: {=SUMPRODUCT(($AO$8:$QF$8=H$7)*($AM$9:$AM$98=$D14)*($AO$9:$QF$98))} -> 0 | I14: {=SUMPRODUCT(($AO$8:$QF$8=I$7)*($AM$9:$AM$98=$D14)*($AO$9:$QF$98))} -> 0 | J14: {=SUMPRODUCT(($AO$8:$QF$8=J$7)*($AM$9:$AM$98=$D14)*($AO$9:$QF$98))} -> 0 | K14: {=SUMPRODUCT(($AO$8:$QF$8=K$7)*($AM$9:$AM$98=$D14)*($AO$9:$QF$98))} -> 0 | L14: {=SUMPRODUCT(($AO$8:$QF$8=L$7)*($AM$9:$AM$98=$D14)*($AO$9:$QF$98))} -> 0 | M14: {=SUMPRODUCT(($AO$8:$QF$8=M$7)*($AM$9:$AM$98=$D14)*($AO$9:$QF$98))} -> 0 | N14: {=SUMPRODUCT(($AO$8:$QF$8=N$7)*($AM$9:$AM$98=$D14)*($AO$9:$QF$98))} -> 0 | ... Q14: {=SUMPRODUCT(($AO$8:$QF$8=Q$7)*($AM$9:$AM$98=$D14)*($AO$9:$QF$98))} -> 0 | AM14: =AM13 -> BAT A | AN14: =T14 -> 0 | AP14: =IFERROR(AO14*INDEX($T$8:$AK$14,MATCH($AN14,$T$8:$T$14,0),MATCH(AP$7,$T$8:$AK$8,0)),0) -> 0 | AR14: =IFERROR(AQ14*INDEX($T$8:$AK$14,MATCH($AN14,$T$8:$T$14,0),MATCH(AR$7,$T$8:$AK$8,0)),0) -> 0 | AT14: =IFERROR(AS14*INDEX($T$8:$AK$14,MATCH($AN14,$T$8:$T$14,0),MATCH(AT$7,$T$8:$AK$8,0)),0) -> 0 | AV14: =IFERROR(AU14*INDEX($T$8:$AK$14,MATCH($AN14,$T$8:$T$14,0),MATCH(AV$7,$T$8:$AK$8,0)),0) -> 0 | AX14: =IFERROR(AW14*INDEX($T$8:$AK$14,MATCH($AN14,$T$8:$T$14,0),MATCH(AX$7,$T$8:$AK$8,0)),0) -> 0 | AZ14: =IFERROR(AY14*INDEX($T$8:$AK$14,MATCH($AN14,$T$8:$T$14,0),MATCH(AZ$7,$T$8:$AK$8,0)),0) -> 0 | BB14: =IFERROR(BA14*INDEX($T$8:$AK$14,MATCH($AN14,$T$8:$T$14,0),MATCH(BB$7,$T$8:$AK$8,0)),0) -> 0 | BD14: =IFERROR(BC14*INDEX($T$8:$AK$14,MATCH($AN14,$T$8:$T$14,0),MATCH(BD$7,$T$8:$AK$8,0)),0) -> 0 | BF14: =IFERROR(BE14*INDEX($T$8:$AK$14,MATCH($AN14,$T$8:$T$14,0),MATCH(BF$7,$T$8:$AK$8,0)),0) -> 0 | BH14: =IFERROR(BG14*INDEX($T$8:$AK$14,MATCH($AN14,$T$8:$T$14,0),MATCH(BH$7,$T$8:$AK$8,0)),0) -> 0 | BJ14: =IFERROR(BI14*INDEX($T$8:$AK$14,MATCH($AN14,$T$8:$T$14,0),MATCH(BJ$7,$T$8:$AK$8,0)),0) -> 0 | BL14: =IFERROR(BK14*INDEX($T$8:$AK$14,MATCH($AN14,$T$8:$T$14,0),MATCH(BL$7,$T$8:$AK$8,0)),0) -> 0 | BN14: =IFERROR(BM14*INDEX($T$8:$AK$14,MATCH($AN14,$T$8:$T$14,0),MATCH(BN$7,$T$8:$AK$8,0)),0) -> 0 | BP14: =IFERROR(BO14*INDEX($T$8:$AK$14,MATCH($AN14,$T$8:$T$14,0),MATCH(BP$7,$T$8:$AK$8,0)),0) -> 0 | BR14: =IFERROR(BQ14*INDEX($T$8:$AK$14,MATCH($AN14,$T$8:$T$14,0),MATCH(BR$7,$T$8:$AK$8,0)),0) -> 0 | BT14: =IFERROR(BS14*INDEX($T$8:$AK$14,MATCH($AN14,$T$8:$T$14,0),MATCH(BT$7,$T$8:$AK$8,0)),0) -> 0 | BV14: =IFERROR(BU14*INDEX($T$8:$AK$14,MATCH($AN14,$T$8:$T$14,0),MATCH(BV$7,$T$8:$AK$8,0)),0) -> 0 | BX14: =IFERROR(BW14*INDEX($T$8:$AK$14,MATCH($AN14,$T$8:$T$14,0),MATCH(BX$7,$T$8:$AK$8,0)),0) -> 0 | BZ14: =IFERROR(BY14*INDEX($T$8:$AK$14,MATCH($AN14,$T$8:$T$14,0),MATCH(BZ$7,$T$8:$AK$8,0)),0) -> 0 | CB14: =IFERROR(CA14*INDEX($T$8:$AK$14,MATCH($AN14,$T$8:$T$14,0),MATCH(CB$7,$T$8:$AK$8,0)),0) -> 0 | CD14: =IFERROR(CC14*INDEX($T$8:$AK$14,MATCH($AN14,$T$8:$T$14,0),MATCH(CD$7,$T$8:$AK$8,0)),0) -> 0 | CF14: =IFERROR(CE14*INDEX($T$8:$AK$14,MATCH($AN14,$T$8:$T$14,0),MATCH(CF$7,$T$8:$AK$8,0)),0) -> 0 | CH14: =IFERROR(CG14*INDEX($T$8:$AK$14,MATCH($AN14,$T$8:$T$14,0),MATCH(CH$7,$T$8:$AK$8,0)),0) -> 0 | CJ14: =IFERROR(CI14*INDEX($T$8:$AK$14,MATCH($AN14,$T$8:$T$14,0),MATCH(CJ$7,$T$8:$AK$8,0)),0) -> 0 | CL14: =IFERROR(CK14*INDEX($T$8:$AK$14,MATCH($AN14,$T$8:$T$14,0),MATCH(CL$7,$T$8:$AK$8,0)),0) -> 0 | CN14: =IFERROR(CM14*INDEX($T$8:$AK$14,MATCH($AN14,$T$8:$T$14,0),MATCH(CN$7,$T$8:$AK$8,0)),0) -> 0 | CP14: =IFERROR(CO14*INDEX($T$8:$AK$14,MATCH($AN14,$T$8:$T$14,0),MATCH(CP$7,$T$8:$AK$8,0)),0) -> 0 | CR14: =IFERROR(CQ14*INDEX($T$8:$AK$14,MATCH($AN14,$T$8:$T$14,0),MATCH(CR$7,$T$8:$AK$8,0)),0) -> 0 | CT14: =IFERROR(CS14*INDEX($T$8:$AK$14,MATCH($AN14,$T$8:$T$14,0),MATCH(CT$7,$T$8:$AK$8,0)),0) -> 0 | CV14: =IFERROR(CU14*INDEX($T$8:$AK$14,MATCH($AN14,$T$8:$T$14,0),MATCH(CV$7,$T$8:$AK$8,0)),0) -> 0 | CX14: =IFERROR(CW14*INDEX($T$8:$AK$14,MATCH($AN14,$T$8:$T$14,0),MATCH(CX$7,$T$8:$AK$8,0)),0) -> 0 | CZ14: =IFERROR(CY14*INDEX($T$8:$AK$14,MATCH($AN14,$T$8:$T$14,0),MATCH(CZ$7,$T$8:$AK$8,0)),0) -> 0 | DB14: =IFERROR(DA14*INDEX($T$8:$AK$14,MATCH($AN14,$T$8:$T$14,0),MATCH(DB$7,$T$8:$AK$8,0)),0) -> 0 | DD14: =IFERROR(DC14*INDEX($T$8:$AK$14,MATCH($AN14,$T$8:$T$14,0),MATCH(DD$7,$T$8:$AK$8,0)),0) -> 0 | DF14: =IFERROR(DE14*INDEX($T$8:$AK$14,MATCH($AN14,$T$8:$T$14,0),MATCH(DF$7,$T$8:$AK$8,0)),0) -> 0 | DH14: =IFERROR(DG14*INDEX($T$8:$AK$14,MATCH($AN14,$T$8:$T$14,0),MATCH(DH$7,$T$8:$AK$8,0)),0) -> 0 | DJ14: =IFERROR(DI14*INDEX($T$8:$AK$14,MATCH($AN14,$T$8:$T$14,0),MATCH(DJ$7,$T$8:$AK$8,0)),0) -> 0 | DL14: =IFERROR(DK14*INDEX($T$8:$AK$14,MATCH($AN14,$T$8:$T$14,0),MATCH(DL$7,$T$8:$AK$8,0)),0) -> 0 | DN14: =IFERROR(DM14*INDEX($T$8:$AK$14,MATCH($AN14,$T$8:$T$14,0),MATCH(DN$7,$T$8:$AK$8,0)),0) -> 0 | DP14: =IFERROR(DO14*INDEX($T$8:$AK$14,MATCH($AN14,$T$8:$T$14,0),MATCH(DP$7,$T$8:$AK$8,0)),0) -> 0 | DR14: =IFERROR(DQ14*INDEX($T$8:$AK$14,MATCH($AN14,$T$8:$T$14,0),MATCH(DR$7,$T$8:$AK$8,0)),0) -> 0 | DT14: =IFERROR(DS14*INDEX($T$8:$AK$14,MATCH($AN14,$T$8:$T$14,0),MATCH(DT$7,$T$8:$AK$8,0)),0) -> 0 | DV14: =IFERROR(DU14*INDEX($T$8:$AK$14,MATCH($AN14,$T$8:$T$14,0),MATCH(DV$7,$T$8:$AK$8,0)),0) -> 0 | DX14: =IFERROR(DW14*INDEX($T$8:$AK$14,MATCH($AN14,$T$8:$T$14,0),MATCH(DX$7,$T$8:$AK$8,0)),0) -> 0 | DZ14: =IFERROR(DY14*INDEX($T$8:$AK$14,MATCH($AN14,$T$8:$T$14,0),MATCH(DZ$7,$T$8:$AK$8,0)),0) -> 0 | EB14: =IFERROR(EA14*INDEX($T$8:$AK$14,MATCH($AN14,$T$8:$T$14,0),MATCH(EB$7,$T$8:$AK$8,0)),0) -> 0 | ED14: =IFERROR(EC14*INDEX($T$8:$AK$14,MATCH($AN14,$T$8:$T$14,0),MATCH(ED$7,$T$8:$AK$8,0)),0) -> 0 | EF14: =IFERROR(EE14*INDEX($T$8:$AK$14,MATCH($AN14,$T$8:$T$14,0),MATCH(EF$7,$T$8:$AK$8,0)),0) -> 0 | EH14: =IFERROR(EG14*INDEX($T$8:$AK$14,MATCH($AN14,$T$8:$T$14,0),MATCH(EH$7,$T$8:$AK$8,0)),0) -> 0 | EJ14: =IFERROR(EI14*INDEX($T$8:$AK$14,MATCH($AN14,$T$8:$T$14,0),MATCH(EJ$7,$T$8:$AK$8,0)),0) -> 0 | EL14: =IFERROR(EK14*INDEX($T$8:$AK$14,MATCH($AN14,$T$8:$T$14,0),MATCH(EL$7,$T$8:$AK$8,0)),0) -> 0 | EN14: =IFERROR(EM14*INDEX($T$8:$AK$14,MATCH($AN14,$T$8:$T$14,0),MATCH(EN$7,$T$8:$AK$8,0)),0) -> 0 | EP14: =IFERROR(EO14*INDEX($T$8:$AK$14,MATCH($AN14,$T$8:$T$14,0),MATCH(EP$7,$T$8:$AK$8,0)),0) -> 0 | ER14: =IFERROR(EQ14*INDEX($T$8:$AK$14,MATCH($AN14,$T$8:$T$14,0),MATCH(ER$7,$T$8:$AK$8,0)),0) -> 0 | ET14: =IFERROR(ES14*INDEX($T$8:$AK$14,MATCH($AN14,$T$8:$T$14,0),MATCH(ET$7,$T$8:$AK$8,0)),0) -> 0 | EV14: =IFERROR(EU14*INDEX($T$8:$AK$14,MATCH($AN14,$T$8:$T$14,0),MATCH(EV$7,$T$8:$AK$8,0)),0) -> 0 | EX14: =IFERROR(EW14*INDEX($T$8:$AK$14,MATCH($AN14,$T$8:$T$14,0),MATCH(EX$7,$T$8:$AK$8,0)),0) -> 0 | EZ14: =IFERROR(EY14*INDEX($T$8:$AK$14,MATCH($AN14,$T$8:$T$14,0),MATCH(EZ$7,$T$8:$AK$8,0)),0) -> 0 | FB14: =IFERROR(FA14*INDEX($T$8:$AK$14,MATCH($AN14,$T$8:$T$14,0),MATCH(FB$7,$T$8:$AK$8,0)),0) -> 0 | FD14: =IFERROR(FC14*INDEX($T$8:$AK$14,MATCH($AN14,$T$8:$T$14,0),MATCH(FD$7,$T$8:$AK$8,0)),0) -> 0 | FF14: =IFERROR(FE14*INDEX($T$8:$AK$14,MATCH($AN14,$T$8:$T$14,0),MATCH(FF$7,$T$8:$AK$8,0)),0) -> 0 | FH14: =IFERROR(FG14*INDEX($T$8:$AK$14,MATCH($AN14,$T$8:$T$14,0),MATCH(FH$7,$T$8:$AK$8,0)),0) -> 0 | FJ14: =IFERROR(FI14*INDEX($T$8:$AK$14,MATCH($AN14,$T$8:$T$14,0),MATCH(FJ$7,$T$8:$AK$8,0)),0) -> 0 | FL14: =IFERROR(FK14*INDEX($T$8:$AK$14,MATCH($AN14,$T$8:$T$14,0),MATCH(FL$7,$T$8:$AK$8,0)),0) -> 0 | FN14: =IFERROR(FM14*INDEX($T$8:$AK$14,MATCH($AN14,$T$8:$T$14,0),MATCH(FN$7,$T$8:$AK$8,0)),0) -> 0 | FP14: =IFERROR(FO14*INDEX($T$8:$AK$14,MATCH($AN14,$T$8:$T$14,0),MATCH(FP$7,$T$8:$AK$8,0)),0) -> 0 | FR14: =IFERROR(FQ14*INDEX($T$8:$AK$14,MATCH($AN14,$T$8:$T$14,0),MATCH(FR$7,$T$8:$AK$8,0)),0) -> 0 | FT14: =IFERROR(FS14*INDEX($T$8:$AK$14,MATCH($AN14,$T$8:$T$14,0),MATCH(FT$7,$T$8:$AK$8,0)),0) -> 0 | FV14: =IFERROR(FU14*INDEX($T$8:$AK$14,MATCH($AN14,$T$8:$T$14,0),MATCH(FV$7,$T$8:$AK$8,0)),0) -> 0 | FX14: =IFERROR(FW14*INDEX($T$8:$AK$14,MATCH($AN14,$T$8:$T$14,0),MATCH(FX$7,$T$8:$AK$8,0)),0) -> 0 | FZ14: =IFERROR(FY14*INDEX($T$8:$AK$14,MATCH($AN14,$T$8:$T$14,0),MATCH(FZ$7,$T$8:$AK$8,0)),0) -> 0 | GB14: =IFERROR(GA14*INDEX($T$8:$AK$14,MATCH($AN14,$T$8:$T$14,0),MATCH(GB$7,$T$8:$AK$8,0)),0) -> 0 | GD14: =IFERROR(GC14*INDEX($T$8:$AK$14,MATCH($AN14,$T$8:$T$14,0),MATCH(GD$7,$T$8:$AK$8,0)),0) -> 0 | GF14: =IFERROR(GE14*INDEX($T$8:$AK$14,MATCH($AN14,$T$8:$T$14,0),MATCH(GF$7,$T$8:$AK$8,0)),0) -> 0 | GH14: =IFERROR(GG14*INDEX($T$8:$AK$14,MATCH($AN14,$T$8:$T$14,0),MATCH(GH$7,$T$8:$AK$8,0)),0) -> 0 | GJ14: =IFERROR(GI14*INDEX($T$8:$AK$14,MATCH($AN14,$T$8:$T$14,0),MATCH(GJ$7,$T$8:$AK$8,0)),0) -> 0 | GL14: =IFERROR(GK14*INDEX($T$8:$AK$14,MATCH($AN14,$T$8:$T$14,0),MATCH(GL$7,$T$8:$AK$8,0)),0) -> 0 | GN14: =IFERROR(GM14*INDEX($T$8:$AK$14,MATCH($AN14,$T$8:$T$14,0),MATCH(GN$7,$T$8:$AK$8,0)),0) -> 0 | GP14: =IFERROR(GO14*INDEX($T$8:$AK$14,MATCH($AN14,$T$8:$T$14,0),MATCH(GP$7,$T$8:$AK$8,0)),0) -> 0 | GR14: =IFERROR(GQ14*INDEX($T$8:$AK$14,MATCH($AN14,$T$8:$T$14,0),MATCH(GR$7,$T$8:$AK$8,0)),0) -> 0 | GT14: =IFERROR(GS14*INDEX($T$8:$AK$14,MATCH($AN14,$T$8:$T$14,0),MATCH(GT$7,$T$8:$AK$8,0)),0) -> 0 | GV14: =IFERROR(GU14*INDEX($T$8:$AK$14,MATCH($AN14,$T$8:$T$14,0),MATCH(GV$7,$T$8:$AK$8,0)),0) -> 0 | GX14: =IFERROR(GW14*INDEX($T$8:$AK$14,MATCH($AN14,$T$8:$T$14,0),MATCH(GX$7,$T$8:$AK$8,0)),0) -> 0 | GZ14: =IFERROR(GY14*INDEX($T$8:$AK$14,MATCH($AN14,$T$8:$T$14,0),MATCH(GZ$7,$T$8:$AK$8,0)),0) -> 0 | HB14: =IFERROR(HA14*INDEX($T$8:$AK$14,MATCH($AN14,$T$8:$T$14,0),MATCH(HB$7,$T$8:$AK$8,0)),0) -> 0 | HD14: =IFERROR(HC14*INDEX($T$8:$AK$14,MATCH($AN14,$T$8:$T$14,0),MATCH(HD$7,$T$8:$AK$8,0)),0) -> 0 | HF14: =IFERROR(HE14*INDEX($T$8:$AK$14,MATCH($AN14,$T$8:$T$14,0),MATCH(HF$7,$T$8:$AK$8,0)),0) -> 0 | HH14: =IFERROR(HG14*INDEX($T$8:$AK$14,MATCH($AN14,$T$8:$T$14,0),MATCH(HH$7,$T$8:$AK$8,0)),0) -> 0 | HJ14: =IFERROR(HI14*INDEX($T$8:$AK$14,MATCH($AN14,$T$8:$T$14,0),MATCH(HJ$7,$T$8:$AK$8,0)),0) -> 0 | HL14: =IFERROR(HK14*INDEX($T$8:$AK$14,MATCH($AN14,$T$8:$T$14,0),MATCH(HL$7,$T$8:$AK$8,0)),0) -> 0 | HN14: =IFERROR(HM14*INDEX($T$8:$AK$14,MATCH($AN14,$T$8:$T$14,0),MATCH(HN$7,$T$8:$AK$8,0)),0) -> 0 | HP14: =IFERROR(HO14*INDEX($T$8:$AK$14,MATCH($AN14,$T$8:$T$14,0),MATCH(HP$7,$T$8:$AK$8,0)),0) -> 0 | HR14: =IFERROR(HQ14*INDEX($T$8:$AK$14,MATCH($AN14,$T$8:$T$14,0),MATCH(HR$7,$T$8:$AK$8,0)),0) -> 0 | HT14: =IFERROR(HS14*INDEX($T$8:$AK$14,MATCH($AN14,$T$8:$T$14,0),MATCH(HT$7,$T$8:$AK$8,0)),0) -> 0 | HV14: =IFERROR(HU14*INDEX($T$8:$AK$14,MATCH($AN14,$T$8:$T$14,0),MATCH(HV$7,$T$8:$AK$8,0)),0) -> 0 | HX14: =IFERROR(HW14*INDEX($T$8:$AK$14,MATCH($AN14,$T$8:$T$14,0),MATCH(HX$7,$T$8:$AK$8,0)),0) -> 0 | HZ14: =IFERROR(HY14*INDEX($T$8:$AK$14,MATCH($AN14,$T$8:$T$14,0),MATCH(HZ$7,$T$8:$AK$8,0)),0) -> 0 | IB14: =IFERROR(IA14*INDEX($T$8:$AK$14,MATCH($AN14,$T$8:$T$14,0),MATCH(IB$7,$T$8:$AK$8,0)),0) -> 0 | ID14: =IFERROR(IC14*INDEX($T$8:$AK$14,MATCH($AN14,$T$8:$T$14,0),MATCH(ID$7,$T$8:$AK$8,0)),0) -> 0 | IF14: =IFERROR(IE14*INDEX($T$8:$AK$14,MATCH($AN14,$T$8:$T$14,0),MATCH(IF$7,$T$8:$AK$8,0)),0) -> 0 | IH14: =IFERROR(IG14*INDEX($T$8:$AK$14,MATCH($AN14,$T$8:$T$14,0),MATCH(IH$7,$T$8:$AK$8,0)),0) -> 0 | IJ14: =IFERROR(II14*INDEX($T$8:$AK$14,MATCH($AN14,$T$8:$T$14,0),MATCH(IJ$7,$T$8:$AK$8,0)),0) -> 0 | IL14: =IFERROR(IK14*INDEX($T$8:$AK$14,MATCH($AN14,$T$8:$T$14,0),MATCH(IL$7,$T$8:$AK$8,0)),0) -> 0 | IN14: =IFERROR(IM14*INDEX($T$8:$AK$14,MATCH($AN14,$T$8:$T$14,0),MATCH(IN$7,$T$8:$AK$8,0)),0) -> 0 | IP14: =IFERROR(IO14*INDEX($T$8:$AK$14,MATCH($AN14,$T$8:$T$14,0),MATCH(IP$7,$T$8:$AK$8,0)),0) -> 0 | IR14: =IFERROR(IQ14*INDEX($T$8:$AK$14,MATCH($AN14,$T$8:$T$14,0),MATCH(IR$7,$T$8:$AK$8,0)),0) -> 0 | IT14: =IFERROR(IS14*INDEX($T$8:$AK$14,MATCH($AN14,$T$8:$T$14,0),MATCH(IT$7,$T$8:$AK$8,0)),0) -> 0 | IV14: =IFERROR(IU14*INDEX($T$8:$AK$14,MATCH($AN14,$T$8:$T$14,0),MATCH(IV$7,$T$8:$AK$8,0)),0) -> 0 | IX14: =IFERROR(IW14*INDEX($T$8:$AK$14,MATCH($AN14,$T$8:$T$14,0),MATCH(IX$7,$T$8:$AK$8,0)),0) -> 0 | IZ14: =IFERROR(IY14*INDEX($T$8:$AK$14,MATCH($AN14,$T$8:$T$14,0),MATCH(IZ$7,$T$8:$AK$8,0)),0) -> 0 | JB14: =IFERROR(JA14*INDEX($T$8:$AK$14,MATCH($AN14,$T$8:$T$14,0),MATCH(JB$7,$T$8:$AK$8,0)),0) -> 0 | JD14: =IFERROR(JC14*INDEX($T$8:$AK$14,MATCH($AN14,$T$8:$T$14,0),MATCH(JD$7,$T$8:$AK$8,0)),0) -> 0 | JF14: =IFERROR(JE14*INDEX($T$8:$AK$14,MATCH($AN14,$T$8:$T$14,0),MATCH(JF$7,$T$8:$AK$8,0)),0) -> 0 | JH14: =IFERROR(JG14*INDEX($T$8:$AK$14,MATCH($AN14,$T$8:$T$14,0),MATCH(JH$7,$T$8:$AK$8,0)),0) -> 0 | JJ14: =IFERROR(JI14*INDEX($T$8:$AK$14,MATCH($AN14,$T$8:$T$14,0),MATCH(JJ$7,$T$8:$AK$8,0)),0) -> 0 | JL14: =IFERROR(JK14*INDEX($T$8:$AK$14,MATCH($AN14,$T$8:$T$14,0),MATCH(JL$7,$T$8:$AK$8,0)),0) -> 0 | JN14: =IFERROR(JM14*INDEX($T$8:$AK$14,MATCH($AN14,$T$8:$T$14,0),MATCH(JN$7,$T$8:$AK$8,0)),0) -> 0 | JP14: =IFERROR(JO14*INDEX($T$8:$AK$14,MATCH($AN14,$T$8:$T$14,0),MATCH(JP$7,$T$8:$AK$8,0)),0) -> 0 | JR14: =IFERROR(JQ14*INDEX($T$8:$AK$14,MATCH($AN14,$T$8:$T$14,0),MATCH(JR$7,$T$8:$AK$8,0)),0) -> 0 | JT14: =IFERROR(JS14*INDEX($T$8:$AK$14,MATCH($AN14,$T$8:$T$14,0),MATCH(JT$7,$T$8:$AK$8,0)),0) -> 0 | JV14: =IFERROR(JU14*INDEX($T$8:$AK$14,MATCH($AN14,$T$8:$T$14,0),MATCH(JV$7,$T$8:$AK$8,0)),0) -> 0 | JX14: =IFERROR(JW14*INDEX($T$8:$AK$14,MATCH($AN14,$T$8:$T$14,0),MATCH(JX$7,$T$8:$AK$8,0)),0) -> 0 | JZ14: =IFERROR(JY14*INDEX($T$8:$AK$14,MATCH($AN14,$T$8:$T$14,0),MATCH(JZ$7,$T$8:$AK$8,0)),0) -> 0 | KB14: =IFERROR(KA14*INDEX($T$8:$AK$14,MATCH($AN14,$T$8:$T$14,0),MATCH(KB$7,$T$8:$AK$8,0)),0) -> 0 | KD14: =IFERROR(KC14*INDEX($T$8:$AK$14,MATCH($AN14,$T$8:$T$14,0),MATCH(KD$7,$T$8:$AK$8,0)),0) -> 0 | KF14: =IFERROR(KE14*INDEX($T$8:$AK$14,MATCH($AN14,$T$8:$T$14,0),MATCH(KF$7,$T$8:$AK$8,0)),0) -> 0 | KH14: =IFERROR(KG14*INDEX($T$8:$AK$14,MATCH($AN14,$T$8:$T$14,0),MATCH(KH$7,$T$8:$AK$8,0)),0) -> 0 | KJ14: =IFERROR(KI14*INDEX($T$8:$AK$14,MATCH($AN14,$T$8:$T$14,0),MATCH(KJ$7,$T$8:$AK$8,0)),0) -> 0 | KL14: =IFERROR(KK14*INDEX($T$8:$AK$14,MATCH($AN14,$T$8:$T$14,0),MATCH(KL$7,$T$8:$AK$8,0)),0) -> 0 | KN14: =IFERROR(KM14*INDEX($T$8:$AK$14,MATCH($AN14,$T$8:$T$14,0),MATCH(KN$7,$T$8:$AK$8,0)),0) -> 0 | KP14: =IFERROR(KO14*INDEX($T$8:$AK$14,MATCH($AN14,$T$8:$T$14,0),MATCH(KP$7,$T$8:$AK$8,0)),0) -> 0 | KR14: =IFERROR(KQ14*INDEX($T$8:$AK$14,MATCH($AN14,$T$8:$T$14,0),MATCH(KR$7,$T$8:$AK$8,0)),0) -> 0 | KT14: =IFERROR(KS14*INDEX($T$8:$AK$14,MATCH($AN14,$T$8:$T$14,0),MATCH(KT$7,$T$8:$AK$8,0)),0) -> 0 | KV14: =IFERROR(KU14*INDEX($T$8:$AK$14,MATCH($AN14,$T$8:$T$14,0),MATCH(KV$7,$T$8:$AK$8,0)),0) -> 0 | KX14: =IFERROR(KW14*INDEX($T$8:$AK$14,MATCH($AN14,$T$8:$T$14,0),MATCH(KX$7,$T$8:$AK$8,0)),0) -> 0 | KZ14: =IFERROR(KY14*INDEX($T$8:$AK$14,MATCH($AN14,$T$8:$T$14,0),MATCH(KZ$7,$T$8:$AK$8,0)),0) -> 0 | LB14: =IFERROR(LA14*INDEX($T$8:$AK$14,MATCH($AN14,$T$8:$T$14,0),MATCH(LB$7,$T$8:$AK$8,0)),0) -> 0 | LD14: =IFERROR(LC14*INDEX($T$8:$AK$14,MATCH($AN14,$T$8:$T$14,0),MATCH(LD$7,$T$8:$AK$8,0)),0) -> 0 | LF14: =IFERROR(LE14*INDEX($T$8:$AK$14,MATCH($AN14,$T$8:$T$14,0),MATCH(LF$7,$T$8:$AK$8,0)),0) -> 0 | LH14: =IFERROR(LG14*INDEX($T$8:$AK$14,MATCH($AN14,$T$8:$T$14,0),MATCH(LH$7,$T$8:$AK$8,0)),0) -> 0 | LJ14: =IFERROR(LI14*INDEX($T$8:$AK$14,MATCH($AN14,$T$8:$T$14,0),MATCH(LJ$7,$T$8:$AK$8,0)),0) -> 0 | LL14: =IFERROR(LK14*INDEX($T$8:$AK$14,MATCH($AN14,$T$8:$T$14,0),MATCH(LL$7,$T$8:$AK$8,0)),0) -> 0 | LN14: =IFERROR(LM14*INDEX($T$8:$AK$14,MATCH($AN14,$T$8:$T$14,0),MATCH(LN$7,$T$8:$AK$8,0)),0) -> 0 | LP14: =IFERROR(LO14*INDEX($T$8:$AK$14,MATCH($AN14,$T$8:$T$14,0),MATCH(LP$7,$T$8:$AK$8,0)),0) -> 0 | LR14: =IFERROR(LQ14*INDEX($T$8:$AK$14,MATCH($AN14,$T$8:$T$14,0),MATCH(LR$7,$T$8:$AK$8,0)),0) -> 0 | LT14: =IFERROR(LS14*INDEX($T$8:$AK$14,MATCH($AN14,$T$8:$T$14,0),MATCH(LT$7,$T$8:$AK$8,0)),0) -> 0 | LV14: =IFERROR(LU14*INDEX($T$8:$AK$14,MATCH($AN14,$T$8:$T$14,0),MATCH(LV$7,$T$8:$AK$8,0)),0) -> 0 | LX14: =IFERROR(LW14*INDEX($T$8:$AK$14,MATCH($AN14,$T$8:$T$14,0),MATCH(LX$7,$T$8:$AK$8,0)),0) -> 0 | LZ14: =IFERROR(LY14*INDEX($T$8:$AK$14,MATCH($AN14,$T$8:$T$14,0),MATCH(LZ$7,$T$8:$AK$8,0)),0) -> 0 | MB14: =IFERROR(MA14*INDEX($T$8:$AK$14,MATCH($AN14,$T$8:$T$14,0),MATCH(MB$7,$T$8:$AK$8,0)),0) -> 0 | MD14: =IFERROR(MC14*INDEX($T$8:$AK$14,MATCH($AN14,$T$8:$T$14,0),MATCH(MD$7,$T$8:$AK$8,0)),0) -> 0 | MF14: =IFERROR(ME14*INDEX($T$8:$AK$14,MATCH($AN14,$T$8:$T$14,0),MATCH(MF$7,$T$8:$AK$8,0)),0) -> 0 | MH14: =IFERROR(MG14*INDEX($T$8:$AK$14,MATCH($AN14,$T$8:$T$14,0),MATCH(MH$7,$T$8:$AK$8,0)),0) -> 0 | MJ14: =IFERROR(MI14*INDEX($T$8:$AK$14,MATCH($AN14,$T$8:$T$14,0),MATCH(MJ$7,$T$8:$AK$8,0)),0) -> 0 | ML14: =IFERROR(MK14*INDEX($T$8:$AK$14,MATCH($AN14,$T$8:$T$14,0),MATCH(ML$7,$T$8:$AK$8,0)),0) -> 0 | MN14: =IFERROR(MM14*INDEX($T$8:$AK$14,MATCH($AN14,$T$8:$T$14,0),MATCH(MN$7,$T$8:$AK$8,0)),0) -> 0 | MP14: =IFERROR(MO14*INDEX($T$8:$AK$14,MATCH($AN14,$T$8:$T$14,0),MATCH(MP$7,$T$8:$AK$8,0)),0) -> 0 | MR14: =IFERROR(MQ14*INDEX($T$8:$AK$14,MATCH($AN14,$T$8:$T$14,0),MATCH(MR$7,$T$8:$AK$8,0)),0) -> 0 | MT14: =IFERROR(MS14*INDEX($T$8:$AK$14,MATCH($AN14,$T$8:$T$14,0),MATCH(MT$7,$T$8:$AK$8,0)),0) -> 0 | MV14: =IFERROR(MU14*INDEX($T$8:$AK$14,MATCH($AN14,$T$8:$T$14,0),MATCH(MV$7,$T$8:$AK$8,0)),0) -> 0 | MX14: =IFERROR(MW14*INDEX($T$8:$AK$14,MATCH($AN14,$T$8:$T$14,0),MATCH(MX$7,$T$8:$AK$8,0)),0) -> 0 | MZ14: =IFERROR(MY14*INDEX($T$8:$AK$14,MATCH($AN14,$T$8:$T$14,0),MATCH(MZ$7,$T$8:$AK$8,0)),0) -> 0 | NB14: =IFERROR(NA14*INDEX($T$8:$AK$14,MATCH($AN14,$T$8:$T$14,0),MATCH(NB$7,$T$8:$AK$8,0)),0) -> 0 | ND14: =IFERROR(NC14*INDEX($T$8:$AK$14,MATCH($AN14,$T$8:$T$14,0),MATCH(ND$7,$T$8:$AK$8,0)),0) -> 0 | NF14: =IFERROR(NE14*INDEX($T$8:$AK$14,MATCH($AN14,$T$8:$T$14,0),MATCH(NF$7,$T$8:$AK$8,0)),0) -> 0 | NH14: =IFERROR(NG14*INDEX($T$8:$AK$14,MATCH($AN14,$T$8:$T$14,0),MATCH(NH$7,$T$8:$AK$8,0)),0) -> 0 | NJ14: =IFERROR(NI14*INDEX($T$8:$AK$14,MATCH($AN14,$T$8:$T$14,0),MATCH(NJ$7,$T$8:$AK$8,0)),0) -> 0 | NL14: =IFERROR(NK14*INDEX($T$8:$AK$14,MATCH($AN14,$T$8:$T$14,0),MATCH(NL$7,$T$8:$AK$8,0)),0) -> 0 | NN14: =IFERROR(NM14*INDEX($T$8:$AK$14,MATCH($AN14,$T$8:$T$14,0),MATCH(NN$7,$T$8:$AK$8,0)),0) -> 0 | NP14: =IFERROR(NO14*INDEX($T$8:$AK$14,MATCH($AN14,$T$8:$T$14,0),MATCH(NP$7,$T$8:$AK$8,0)),0) -> 0 | NR14: =IFERROR(NQ14*INDEX($T$8:$AK$14,MATCH($AN14,$T$8:$T$14,0),MATCH(NR$7,$T$8:$AK$8,0)),0) -> 0 | NT14: =IFERROR(NS14*INDEX($T$8:$AK$14,MATCH($AN14,$T$8:$T$14,0),MATCH(NT$7,$T$8:$AK$8,0)),0) -> 0 | NV14: =IFERROR(NU14*INDEX($T$8:$AK$14,MATCH($AN14,$T$8:$T$14,0),MATCH(NV$7,$T$8:$AK$8,0)),0) -> 0 | NX14: =IFERROR(NW14*INDEX($T$8:$AK$14,MATCH($AN14,$T$8:$T$14,0),MATCH(NX$7,$T$8:$AK$8,0)),0) -> 0 | NZ14: =IFERROR(NY14*INDEX($T$8:$AK$14,MATCH($AN14,$T$8:$T$14,0),MATCH(NZ$7,$T$8:$AK$8,0)),0) -> 0 | OB14: =IFERROR(OA14*INDEX($T$8:$AK$14,MATCH($AN14,$T$8:$T$14,0),MATCH(OB$7,$T$8:$AK$8,0)),0) -> 0 | OD14: =IFERROR(OC14*INDEX($T$8:$AK$14,MATCH($AN14,$T$8:$T$14,0),MATCH(OD$7,$T$8:$AK$8,0)),0) -> 0 | OF14: =IFERROR(OE14*INDEX($T$8:$AK$14,MATCH($AN14,$T$8:$T$14,0),MATCH(OF$7,$T$8:$AK$8,0)),0) -> 0 | OH14: =IFERROR(OG14*INDEX($T$8:$AK$14,MATCH($AN14,$T$8:$T$14,0),MATCH(OH$7,$T$8:$AK$8,0)),0) -> 0 | OJ14: =IFERROR(OI14*INDEX($T$8:$AK$14,MATCH($AN14,$T$8:$T$14,0),MATCH(OJ$7,$T$8:$AK$8,0)),0) -> 0 | OL14: =IFERROR(OK14*INDEX($T$8:$AK$14,MATCH($AN14,$T$8:$T$14,0),MATCH(OL$7,$T$8:$AK$8,0)),0) -> 0 | ON14: =IFERROR(OM14*INDEX($T$8:$AK$14,MATCH($AN14,$T$8:$T$14,0),MATCH(ON$7,$T$8:$AK$8,0)),0) -> 0 | OP14: =IFERROR(OO14*INDEX($T$8:$AK$14,MATCH($AN14,$T$8:$T$14,0),MATCH(OP$7,$T$8:$AK$8,0)),0) -> 0 | OR14: =IFERROR(OQ14*INDEX($T$8:$AK$14,MATCH($AN14,$T$8:$T$14,0),MATCH(OR$7,$T$8:$AK$8,0)),0) -> 0 | OT14: =IFERROR(OS14*INDEX($T$8:$AK$14,MATCH($AN14,$T$8:$T$14,0),MATCH(OT$7,$T$8:$AK$8,0)),0) -> 0 | OV14: =IFERROR(OU14*INDEX($T$8:$AK$14,MATCH($AN14,$T$8:$T$14,0),MATCH(OV$7,$T$8:$AK$8,0)),0) -> 0 | OX14: =IFERROR(OW14*INDEX($T$8:$AK$14,MATCH($AN14,$T$8:$T$14,0),MATCH(OX$7,$T$8:$AK$8,0)),0) -> 0 | OZ14: =IFERROR(OY14*INDEX($T$8:$AK$14,MATCH($AN14,$T$8:$T$14,0),MATCH(OZ$7,$T$8:$AK$8,0)),0) -> 0 | PB14: =IFERROR(PA14*INDEX($T$8:$AK$14,MATCH($AN14,$T$8:$T$14,0),MATCH(PB$7,$T$8:$AK$8,0)),0) -> 0 | PD14: =IFERROR(PC14*INDEX($T$8:$AK$14,MATCH($AN14,$T$8:$T$14,0),MATCH(PD$7,$T$8:$AK$8,0)),0) -> 0 | PF14: =IFERROR(PE14*INDEX($T$8:$AK$14,MATCH($AN14,$T$8:$T$14,0),MATCH(PF$7,$T$8:$AK$8,0)),0) -> 0 | PH14: =IFERROR(PG14*INDEX($T$8:$AK$14,MATCH($AN14,$T$8:$T$14,0),MATCH(PH$7,$T$8:$AK$8,0)),0) -> 0 | PJ14: =IFERROR(PI14*INDEX($T$8:$AK$14,MATCH($AN14,$T$8:$T$14,0),MATCH(PJ$7,$T$8:$AK$8,0)),0) -> 0 | PL14: =IFERROR(PK14*INDEX($T$8:$AK$14,MATCH($AN14,$T$8:$T$14,0),MATCH(PL$7,$T$8:$AK$8,0)),0) -> 0 | PN14: =IFERROR(PM14*INDEX($T$8:$AK$14,MATCH($AN14,$T$8:$T$14,0),MATCH(PN$7,$T$8:$AK$8,0)),0) -> 0 | PP14: =IFERROR(PO14*INDEX($T$8:$AK$14,MATCH($AN14,$T$8:$T$14,0),MATCH(PP$7,$T$8:$AK$8,0)),0) -> 0 | PR14: =IFERROR(PQ14*INDEX($T$8:$AK$14,MATCH($AN14,$T$8:$T$14,0),MATCH(PR$7,$T$8:$AK$8,0)),0) -> 0 | PT14: =IFERROR(PS14*INDEX($T$8:$AK$14,MATCH($AN14,$T$8:$T$14,0),MATCH(PT$7,$T$8:$AK$8,0)),0) -> 0 | PV14: =IFERROR(PU14*INDEX($T$8:$AK$14,MATCH($AN14,$T$8:$T$14,0),MATCH(PV$7,$T$8:$AK$8,0)),0) -> 0 | PX14: =IFERROR(PW14*INDEX($T$8:$AK$14,MATCH($AN14,$T$8:$T$14,0),MATCH(PX$7,$T$8:$AK$8,0)),0) -> 0 | PZ14: =IFERROR(PY14*INDEX($T$8:$AK$14,MATCH($AN14,$T$8:$T$14,0),MATCH(PZ$7,$T$8:$AK$8,0)),0) -> 0 | QB14: =IFERROR(QA14*INDEX($T$8:$AK$14,MATCH($AN14,$T$8:$T$14,0),MATCH(QB$7,$T$8:$AK$8,0)),0) -> 0 | QD14: =IFERROR(QC14*INDEX($T$8:$AK$14,MATCH($AN14,$T$8:$T$14,0),MATCH(QD$7,$T$8:$AK$8,0)),0) -> 0 | QF14: =IFERROR(QE14*INDEX($T$8:$AK$14,MATCH($AN14,$T$8:$T$14,0),MATCH(QF$7,$T$8:$AK$8,0)),0) -> 0
D15: BAT H | E15: Mécanisation | F15: {=SUMPRODUCT(($AO$8:$QF$98=F$7)*($AM$8:$AM$98=$D15)*($AO$8:$QF$98))} -> 0 | G15: {=SUMPRODUCT(($AO$8:$QF$8=G$7)*($AM$9:$AM$98=$D15)*($AO$9:$QF$98))} -> 633.47 | H15: {=SUMPRODUCT(($AO$8:$QF$8=H$7)*($AM$9:$AM$98=$D15)*($AO$9:$QF$98))} -> 0 | I15: {=SUMPRODUCT(($AO$8:$QF$8=I$7)*($AM$9:$AM$98=$D15)*($AO$9:$QF$98))} -> 0 | J15: {=SUMPRODUCT(($AO$8:$QF$8=J$7)*($AM$9:$AM$98=$D15)*($AO$9:$QF$98))} -> 0 | K15: {=SUMPRODUCT(($AO$8:$QF$8=K$7)*($AM$9:$AM$98=$D15)*($AO$9:$QF$98))} -> 0 | L15: {=SUMPRODUCT(($AO$8:$QF$8=L$7)*($AM$9:$AM$98=$D15)*($AO$9:$QF$98))} -> 0 | M15: {=SUMPRODUCT(($AO$8:$QF$8=M$7)*($AM$9:$AM$98=$D15)*($AO$9:$QF$98))} -> 0 | N15: {=SUMPRODUCT(($AO$8:$QF$8=N$7)*($AM$9:$AM$98=$D15)*($AO$9:$QF$98))} -> 0 | ... Q15: {=SUMPRODUCT(($AO$8:$QF$8=Q$7)*($AM$9:$AM$98=$D15)*($AO$9:$QF$98))} -> 0 | AM15: =[1]Paramètres!R4 -> BAT B | AN15: =AN9 -> Mât retractable | AP15: =IFERROR(AO15*INDEX($T$8:$AK$14,MATCH($AN15,$T$8:$T$14,0),MATCH(AP$7,$T$8:$AK$8,0)),0) -> 0 | AR15: =IFERROR(AQ15*INDEX($T$8:$AK$14,MATCH($AN15,$T$8:$T$14,0),MATCH(AR$7,$T$8:$AK$8,0)),0) -> 0 | AT15: =IFERROR(AS15*INDEX($T$8:$AK$14,MATCH($AN15,$T$8:$T$14,0),MATCH(AT$7,$T$8:$AK$8,0)),0) -> 0 | AV15: =IFERROR(AU15*INDEX($T$8:$AK$14,MATCH($AN15,$T$8:$T$14,0),MATCH(AV$7,$T$8:$AK$8,0)),0) -> 0 | AX15: =IFERROR(AW15*INDEX($T$8:$AK$14,MATCH($AN15,$T$8:$T$14,0),MATCH(AX$7,$T$8:$AK$8,0)),0) -> 0 | AZ15: =IFERROR(AY15*INDEX($T$8:$AK$14,MATCH($AN15,$T$8:$T$14,0),MATCH(AZ$7,$T$8:$AK$8,0)),0) -> 0 | BB15: =IFERROR(BA15*INDEX($T$8:$AK$14,MATCH($AN15,$T$8:$T$14,0),MATCH(BB$7,$T$8:$AK$8,0)),0) -> 0 | BD15: =IFERROR(BC15*INDEX($T$8:$AK$14,MATCH($AN15,$T$8:$T$14,0),MATCH(BD$7,$T$8:$AK$8,0)),0) -> 0 | BF15: =IFERROR(BE15*INDEX($T$8:$AK$14,MATCH($AN15,$T$8:$T$14,0),MATCH(BF$7,$T$8:$AK$8,0)),0) -> 0 | BH15: =IFERROR(BG15*INDEX($T$8:$AK$14,MATCH($AN15,$T$8:$T$14,0),MATCH(BH$7,$T$8:$AK$8,0)),0) -> 0 | BJ15: =IFERROR(BI15*INDEX($T$8:$AK$14,MATCH($AN15,$T$8:$T$14,0),MATCH(BJ$7,$T$8:$AK$8,0)),0) -> 0 | BL15: =IFERROR(BK15*INDEX($T$8:$AK$14,MATCH($AN15,$T$8:$T$14,0),MATCH(BL$7,$T$8:$AK$8,0)),0) -> 0 | BM15: 12 | BN15: =IFERROR(BM15*INDEX($T$8:$AK$14,MATCH($AN15,$T$8:$T$14,0),MATCH(BN$7,$T$8:$AK$8,0)),0) -> 4302.6 | BO15: 12 | BP15: =IFERROR(BO15*INDEX($T$8:$AK$14,MATCH($AN15,$T$8:$T$14,0),MATCH(BP$7,$T$8:$AK$8,0)),0) -> 4302.6 | BQ15: 12 | BR15: =IFERROR(BQ15*INDEX($T$8:$AK$14,MATCH($AN15,$T$8:$T$14,0),MATCH(BR$7,$T$8:$AK$8,0)),0) -> 4302.6 | BS15: 12 | BT15: =IFERROR(BS15*INDEX($T$8:$AK$14,MATCH($AN15,$T$8:$T$14,0),MATCH(BT$7,$T$8:$AK$8,0)),0) -> 4302.6 | BU15: 12 | BV15: =IFERROR(BU15*INDEX($T$8:$AK$14,MATCH($AN15,$T$8:$T$14,0),MATCH(BV$7,$T$8:$AK$8,0)),0) -> 4302.6 | BW15: 12 | BX15: =IFERROR(BW15*INDEX($T$8:$AK$14,MATCH($AN15,$T$8:$T$14,0),MATCH(BX$7,$T$8:$AK$8,0)),0) -> 4302.6 | BY15: 12 | BZ15: =IFERROR(BY15*INDEX($T$8:$AK$14,MATCH($AN15,$T$8:$T$14,0),MATCH(BZ$7,$T$8:$AK$8,0)),0) -> 4302.6 | CA15: 12 | CB15: =IFERROR(CA15*INDEX($T$8:$AK$14,MATCH($AN15,$T$8:$T$14,0),MATCH(CB$7,$T$8:$AK$8,0)),0) -> 4302.6 | CC15: 12 | CD15: =IFERROR(CC15*INDEX($T$8:$AK$14,MATCH($AN15,$T$8:$T$14,0),MATCH(CD$7,$T$8:$AK$8,0)),0) -> 4302.6 | CE15: 12 | CF15: =IFERROR(CE15*INDEX($T$8:$AK$14,MATCH($AN15,$T$8:$T$14,0),MATCH(CF$7,$T$8:$AK$8,0)),0) -> 4302.6 | CG15: 12 | CH15: =IFERROR(CG15*INDEX($T$8:$AK$14,MATCH($AN15,$T$8:$T$14,0),MATCH(CH$7,$T$8:$AK$8,0)),0) -> 4302.6 | CI15: 12 | CJ15: =IFERROR(CI15*INDEX($T$8:$AK$14,MATCH($AN15,$T$8:$T$14,0),MATCH(CJ$7,$T$8:$AK$8,0)),0) -> 4302.6 | CL15: =IFERROR(CK15*INDEX($T$8:$AK$14,MATCH($AN15,$T$8:$T$14,0),MATCH(CL$7,$T$8:$AK$8,0)),0) -> 0 | CN15: =IFERROR(CM15*INDEX($T$8:$AK$14,MATCH($AN15,$T$8:$T$14,0),MATCH(CN$7,$T$8:$AK$8,0)),0) -> 0 | CP15: =IFERROR(CO15*INDEX($T$8:$AK$14,MATCH($AN15,$T$8:$T$14,0),MATCH(CP$7,$T$8:$AK$8,0)),0) -> 0 | CR15: =IFERROR(CQ15*INDEX($T$8:$AK$14,MATCH($AN15,$T$8:$T$14,0),MATCH(CR$7,$T$8:$AK$8,0)),0) -> 0 | CT15: =IFERROR(CS15*INDEX($T$8:$AK$14,MATCH($AN15,$T$8:$T$14,0),MATCH(CT$7,$T$8:$AK$8,0)),0) -> 0 | CV15: =IFERROR(CU15*INDEX($T$8:$AK$14,MATCH($AN15,$T$8:$T$14,0),MATCH(CV$7,$T$8:$AK$8,0)),0) -> 0 | CX15: =IFERROR(CW15*INDEX($T$8:$AK$14,MATCH($AN15,$T$8:$T$14,0),MATCH(CX$7,$T$8:$AK$8,0)),0) -> 0 | CZ15: =IFERROR(CY15*INDEX($T$8:$AK$14,MATCH($AN15,$T$8:$T$14,0),MATCH(CZ$7,$T$8:$AK$8,0)),0) -> 0 | DB15: =IFERROR(DA15*INDEX($T$8:$AK$14,MATCH($AN15,$T$8:$T$14,0),MATCH(DB$7,$T$8:$AK$8,0)),0) -> 0 | DD15: =IFERROR(DC15*INDEX($T$8:$AK$14,MATCH($AN15,$T$8:$T$14,0),MATCH(DD$7,$T$8:$AK$8,0)),0) -> 0 | DF15: =IFERROR(DE15*INDEX($T$8:$AK$14,MATCH($AN15,$T$8:$T$14,0),MATCH(DF$7,$T$8:$AK$8,0)),0) -> 0 | DH15: =IFERROR(DG15*INDEX($T$8:$AK$14,MATCH($AN15,$T$8:$T$14,0),MATCH(DH$7,$T$8:$AK$8,0)),0) -> 0 | DJ15: =IFERROR(DI15*INDEX($T$8:$AK$14,MATCH($AN15,$T$8:$T$14,0),MATCH(DJ$7,$T$8:$AK$8,0)),0) -> 0 | DL15: =IFERROR(DK15*INDEX($T$8:$AK$14,MATCH($AN15,$T$8:$T$14,0),MATCH(DL$7,$T$8:$AK$8,0)),0) -> 0 | DN15: =IFERROR(DM15*INDEX($T$8:$AK$14,MATCH($AN15,$T$8:$T$14,0),MATCH(DN$7,$T$8:$AK$8,0)),0) -> 0 | DP15: =IFERROR(DO15*INDEX($T$8:$AK$14,MATCH($AN15,$T$8:$T$14,0),MATCH(DP$7,$T$8:$AK$8,0)),0) -> 0 | DR15: =IFERROR(DQ15*INDEX($T$8:$AK$14,MATCH($AN15,$T$8:$T$14,0),MATCH(DR$7,$T$8:$AK$8,0)),0) -> 0 | DT15: =IFERROR(DS15*INDEX($T$8:$AK$14,MATCH($AN15,$T$8:$T$14,0),MATCH(DT$7,$T$8:$AK$8,0)),0) -> 0 | DV15: =IFERROR(DU15*INDEX($T$8:$AK$14,MATCH($AN15,$T$8:$T$14,0),MATCH(DV$7,$T$8:$AK$8,0)),0) -> 0 | DX15: =IFERROR(DW15*INDEX($T$8:$AK$14,MATCH($AN15,$T$8:$T$14,0),MATCH(DX$7,$T$8:$AK$8,0)),0) -> 0 | DZ15: =IFERROR(DY15*INDEX($T$8:$AK$14,MATCH($AN15,$T$8:$T$14,0),MATCH(DZ$7,$T$8:$AK$8,0)),0) -> 0 | EB15: =IFERROR(EA15*INDEX($T$8:$AK$14,MATCH($AN15,$T$8:$T$14,0),MATCH(EB$7,$T$8:$AK$8,0)),0) -> 0 | ED15: =IFERROR(EC15*INDEX($T$8:$AK$14,MATCH($AN15,$T$8:$T$14,0),MATCH(ED$7,$T$8:$AK$8,0)),0) -> 0 | EF15: =IFERROR(EE15*INDEX($T$8:$AK$14,MATCH($AN15,$T$8:$T$14,0),MATCH(EF$7,$T$8:$AK$8,0)),0) -> 0 | EH15: =IFERROR(EG15*INDEX($T$8:$AK$14,MATCH($AN15,$T$8:$T$14,0),MATCH(EH$7,$T$8:$AK$8,0)),0) -> 0 | EJ15: =IFERROR(EI15*INDEX($T$8:$AK$14,MATCH($AN15,$T$8:$T$14,0),MATCH(EJ$7,$T$8:$AK$8,0)),0) -> 0 | EL15: =IFERROR(EK15*INDEX($T$8:$AK$14,MATCH($AN15,$T$8:$T$14,0),MATCH(EL$7,$T$8:$AK$8,0)),0) -> 0 | EN15: =IFERROR(EM15*INDEX($T$8:$AK$14,MATCH($AN15,$T$8:$T$14,0),MATCH(EN$7,$T$8:$AK$8,0)),0) -> 0 | EP15: =IFERROR(EO15*INDEX($T$8:$AK$14,MATCH($AN15,$T$8:$T$14,0),MATCH(EP$7,$T$8:$AK$8,0)),0) -> 0 | ER15: =IFERROR(EQ15*INDEX($T$8:$AK$14,MATCH($AN15,$T$8:$T$14,0),MATCH(ER$7,$T$8:$AK$8,0)),0) -> 0 | ET15: =IFERROR(ES15*INDEX($T$8:$AK$14,MATCH($AN15,$T$8:$T$14,0),MATCH(ET$7,$T$8:$AK$8,0)),0) -> 0 | EV15: =IFERROR(EU15*INDEX($T$8:$AK$14,MATCH($AN15,$T$8:$T$14,0),MATCH(EV$7,$T$8:$AK$8,0)),0) -> 0 | EX15: =IFERROR(EW15*INDEX($T$8:$AK$14,MATCH($AN15,$T$8:$T$14,0),MATCH(EX$7,$T$8:$AK$8,0)),0) -> 0 | EZ15: =IFERROR(EY15*INDEX($T$8:$AK$14,MATCH($AN15,$T$8:$T$14,0),MATCH(EZ$7,$T$8:$AK$8,0)),0) -> 0 | FB15: =IFERROR(FA15*INDEX($T$8:$AK$14,MATCH($AN15,$T$8:$T$14,0),MATCH(FB$7,$T$8:$AK$8,0)),0) -> 0 | FD15: =IFERROR(FC15*INDEX($T$8:$AK$14,MATCH($AN15,$T$8:$T$14,0),MATCH(FD$7,$T$8:$AK$8,0)),0) -> 0 | FF15: =IFERROR(FE15*INDEX($T$8:$AK$14,MATCH($AN15,$T$8:$T$14,0),MATCH(FF$7,$T$8:$AK$8,0)),0) -> 0 | FH15: =IFERROR(FG15*INDEX($T$8:$AK$14,MATCH($AN15,$T$8:$T$14,0),MATCH(FH$7,$T$8:$AK$8,0)),0) -> 0 | FJ15: =IFERROR(FI15*INDEX($T$8:$AK$14,MATCH($AN15,$T$8:$T$14,0),MATCH(FJ$7,$T$8:$AK$8,0)),0) -> 0 | FL15: =IFERROR(FK15*INDEX($T$8:$AK$14,MATCH($AN15,$T$8:$T$14,0),MATCH(FL$7,$T$8:$AK$8,0)),0) -> 0 | FN15: =IFERROR(FM15*INDEX($T$8:$AK$14,MATCH($AN15,$T$8:$T$14,0),MATCH(FN$7,$T$8:$AK$8,0)),0) -> 0 | FP15: =IFERROR(FO15*INDEX($T$8:$AK$14,MATCH($AN15,$T$8:$T$14,0),MATCH(FP$7,$T$8:$AK$8,0)),0) -> 0 | FR15: =IFERROR(FQ15*INDEX($T$8:$AK$14,MATCH($AN15,$T$8:$T$14,0),MATCH(FR$7,$T$8:$AK$8,0)),0) -> 0 | FT15: =IFERROR(FS15*INDEX($T$8:$AK$14,MATCH($AN15,$T$8:$T$14,0),MATCH(FT$7,$T$8:$AK$8,0)),0) -> 0 | FV15: =IFERROR(FU15*INDEX($T$8:$AK$14,MATCH($AN15,$T$8:$T$14,0),MATCH(FV$7,$T$8:$AK$8,0)),0) -> 0 | FX15: =IFERROR(FW15*INDEX($T$8:$AK$14,MATCH($AN15,$T$8:$T$14,0),MATCH(FX$7,$T$8:$AK$8,0)),0) -> 0 | FZ15: =IFERROR(FY15*INDEX($T$8:$AK$14,MATCH($AN15,$T$8:$T$14,0),MATCH(FZ$7,$T$8:$AK$8,0)),0) -> 0 | GB15: =IFERROR(GA15*INDEX($T$8:$AK$14,MATCH($AN15,$T$8:$T$14,0),MATCH(GB$7,$T$8:$AK$8,0)),0) -> 0 | GD15: =IFERROR(GC15*INDEX($T$8:$AK$14,MATCH($AN15,$T$8:$T$14,0),MATCH(GD$7,$T$8:$AK$8,0)),0) -> 0 | GF15: =IFERROR(GE15*INDEX($T$8:$AK$14,MATCH($AN15,$T$8:$T$14,0),MATCH(GF$7,$T$8:$AK$8,0)),0) -> 0 | GH15: =IFERROR(GG15*INDEX($T$8:$AK$14,MATCH($AN15,$T$8:$T$14,0),MATCH(GH$7,$T$8:$AK$8,0)),0) -> 0 | GJ15: =IFERROR(GI15*INDEX($T$8:$AK$14,MATCH($AN15,$T$8:$T$14,0),MATCH(GJ$7,$T$8:$AK$8,0)),0) -> 0 | GL15: =IFERROR(GK15*INDEX($T$8:$AK$14,MATCH($AN15,$T$8:$T$14,0),MATCH(GL$7,$T$8:$AK$8,0)),0) -> 0 | GN15: =IFERROR(GM15*INDEX($T$8:$AK$14,MATCH($AN15,$T$8:$T$14,0),MATCH(GN$7,$T$8:$AK$8,0)),0) -> 0 | GP15: =IFERROR(GO15*INDEX($T$8:$AK$14,MATCH($AN15,$T$8:$T$14,0),MATCH(GP$7,$T$8:$AK$8,0)),0) -> 0 | GR15: =IFERROR(GQ15*INDEX($T$8:$AK$14,MATCH($AN15,$T$8:$T$14,0),MATCH(GR$7,$T$8:$AK$8,0)),0) -> 0 | GT15: =IFERROR(GS15*INDEX($T$8:$AK$14,MATCH($AN15,$T$8:$T$14,0),MATCH(GT$7,$T$8:$AK$8,0)),0) -> 0 | GV15: =IFERROR(GU15*INDEX($T$8:$AK$14,MATCH($AN15,$T$8:$T$14,0),MATCH(GV$7,$T$8:$AK$8,0)),0) -> 0 | GX15: =IFERROR(GW15*INDEX($T$8:$AK$14,MATCH($AN15,$T$8:$T$14,0),MATCH(GX$7,$T$8:$AK$8,0)),0) -> 0 | GZ15: =IFERROR(GY15*INDEX($T$8:$AK$14,MATCH($AN15,$T$8:$T$14,0),MATCH(GZ$7,$T$8:$AK$8,0)),0) -> 0 | HB15: =IFERROR(HA15*INDEX($T$8:$AK$14,MATCH($AN15,$T$8:$T$14,0),MATCH(HB$7,$T$8:$AK$8,0)),0) -> 0 | HD15: =IFERROR(HC15*INDEX($T$8:$AK$14,MATCH($AN15,$T$8:$T$14,0),MATCH(HD$7,$T$8:$AK$8,0)),0) -> 0 | HF15: =IFERROR(HE15*INDEX($T$8:$AK$14,MATCH($AN15,$T$8:$T$14,0),MATCH(HF$7,$T$8:$AK$8,0)),0) -> 0 | HH15: =IFERROR(HG15*INDEX($T$8:$AK$14,MATCH($AN15,$T$8:$T$14,0),MATCH(HH$7,$T$8:$AK$8,0)),0) -> 0 | HJ15: =IFERROR(HI15*INDEX($T$8:$AK$14,MATCH($AN15,$T$8:$T$14,0),MATCH(HJ$7,$T$8:$AK$8,0)),0) -> 0 | HL15: =IFERROR(HK15*INDEX($T$8:$AK$14,MATCH($AN15,$T$8:$T$14,0),MATCH(HL$7,$T$8:$AK$8,0)),0) -> 0 | HN15: =IFERROR(HM15*INDEX($T$8:$AK$14,MATCH($AN15,$T$8:$T$14,0),MATCH(HN$7,$T$8:$AK$8,0)),0) -> 0 | HP15: =IFERROR(HO15*INDEX($T$8:$AK$14,MATCH($AN15,$T$8:$T$14,0),MATCH(HP$7,$T$8:$AK$8,0)),0) -> 0 | HR15: =IFERROR(HQ15*INDEX($T$8:$AK$14,MATCH($AN15,$T$8:$T$14,0),MATCH(HR$7,$T$8:$AK$8,0)),0) -> 0 | HT15: =IFERROR(HS15*INDEX($T$8:$AK$14,MATCH($AN15,$T$8:$T$14,0),MATCH(HT$7,$T$8:$AK$8,0)),0) -> 0 | HV15: =IFERROR(HU15*INDEX($T$8:$AK$14,MATCH($AN15,$T$8:$T$14,0),MATCH(HV$7,$T$8:$AK$8,0)),0) -> 0 | HX15: =IFERROR(HW15*INDEX($T$8:$AK$14,MATCH($AN15,$T$8:$T$14,0),MATCH(HX$7,$T$8:$AK$8,0)),0) -> 0 | HZ15: =IFERROR(HY15*INDEX($T$8:$AK$14,MATCH($AN15,$T$8:$T$14,0),MATCH(HZ$7,$T$8:$AK$8,0)),0) -> 0 | IB15: =IFERROR(IA15*INDEX($T$8:$AK$14,MATCH($AN15,$T$8:$T$14,0),MATCH(IB$7,$T$8:$AK$8,0)),0) -> 0 | ID15: =IFERROR(IC15*INDEX($T$8:$AK$14,MATCH($AN15,$T$8:$T$14,0),MATCH(ID$7,$T$8:$AK$8,0)),0) -> 0 | IF15: =IFERROR(IE15*INDEX($T$8:$AK$14,MATCH($AN15,$T$8:$T$14,0),MATCH(IF$7,$T$8:$AK$8,0)),0) -> 0 | IH15: =IFERROR(IG15*INDEX($T$8:$AK$14,MATCH($AN15,$T$8:$T$14,0),MATCH(IH$7,$T$8:$AK$8,0)),0) -> 0 | IJ15: =IFERROR(II15*INDEX($T$8:$AK$14,MATCH($AN15,$T$8:$T$14,0),MATCH(IJ$7,$T$8:$AK$8,0)),0) -> 0 | IL15: =IFERROR(IK15*INDEX($T$8:$AK$14,MATCH($AN15,$T$8:$T$14,0),MATCH(IL$7,$T$8:$AK$8,0)),0) -> 0 | IN15: =IFERROR(IM15*INDEX($T$8:$AK$14,MATCH($AN15,$T$8:$T$14,0),MATCH(IN$7,$T$8:$AK$8,0)),0) -> 0 | IP15: =IFERROR(IO15*INDEX($T$8:$AK$14,MATCH($AN15,$T$8:$T$14,0),MATCH(IP$7,$T$8:$AK$8,0)),0) -> 0 | IR15: =IFERROR(IQ15*INDEX($T$8:$AK$14,MATCH($AN15,$T$8:$T$14,0),MATCH(IR$7,$T$8:$AK$8,0)),0) -> 0 | IT15: =IFERROR(IS15*INDEX($T$8:$AK$14,MATCH($AN15,$T$8:$T$14,0),MATCH(IT$7,$T$8:$AK$8,0)),0) -> 0 | IV15: =IFERROR(IU15*INDEX($T$8:$AK$14,MATCH($AN15,$T$8:$T$14,0),MATCH(IV$7,$T$8:$AK$8,0)),0) -> 0 | IX15: =IFERROR(IW15*INDEX($T$8:$AK$14,MATCH($AN15,$T$8:$T$14,0),MATCH(IX$7,$T$8:$AK$8,0)),0) -> 0 | IZ15: =IFERROR(IY15*INDEX($T$8:$AK$14,MATCH($AN15,$T$8:$T$14,0),MATCH(IZ$7,$T$8:$AK$8,0)),0) -> 0 | JB15: =IFERROR(JA15*INDEX($T$8:$AK$14,MATCH($AN15,$T$8:$T$14,0),MATCH(JB$7,$T$8:$AK$8,0)),0) -> 0 | JD15: =IFERROR(JC15*INDEX($T$8:$AK$14,MATCH($AN15,$T$8:$T$14,0),MATCH(JD$7,$T$8:$AK$8,0)),0) -> 0 | JF15: =IFERROR(JE15*INDEX($T$8:$AK$14,MATCH($AN15,$T$8:$T$14,0),MATCH(JF$7,$T$8:$AK$8,0)),0) -> 0 | JH15: =IFERROR(JG15*INDEX($T$8:$AK$14,MATCH($AN15,$T$8:$T$14,0),MATCH(JH$7,$T$8:$AK$8,0)),0) -> 0 | JJ15: =IFERROR(JI15*INDEX($T$8:$AK$14,MATCH($AN15,$T$8:$T$14,0),MATCH(JJ$7,$T$8:$AK$8,0)),0) -> 0 | JL15: =IFERROR(JK15*INDEX($T$8:$AK$14,MATCH($AN15,$T$8:$T$14,0),MATCH(JL$7,$T$8:$AK$8,0)),0) -> 0 | JN15: =IFERROR(JM15*INDEX($T$8:$AK$14,MATCH($AN15,$T$8:$T$14,0),MATCH(JN$7,$T$8:$AK$8,0)),0) -> 0 | JP15: =IFERROR(JO15*INDEX($T$8:$AK$14,MATCH($AN15,$T$8:$T$14,0),MATCH(JP$7,$T$8:$AK$8,0)),0) -> 0 | JR15: =IFERROR(JQ15*INDEX($T$8:$AK$14,MATCH($AN15,$T$8:$T$14,0),MATCH(JR$7,$T$8:$AK$8,0)),0) -> 0 | JT15: =IFERROR(JS15*INDEX($T$8:$AK$14,MATCH($AN15,$T$8:$T$14,0),MATCH(JT$7,$T$8:$AK$8,0)),0) -> 0 | JV15: =IFERROR(JU15*INDEX($T$8:$AK$14,MATCH($AN15,$T$8:$T$14,0),MATCH(JV$7,$T$8:$AK$8,0)),0) -> 0 | JX15: =IFERROR(JW15*INDEX($T$8:$AK$14,MATCH($AN15,$T$8:$T$14,0),MATCH(JX$7,$T$8:$AK$8,0)),0) -> 0 | JZ15: =IFERROR(JY15*INDEX($T$8:$AK$14,MATCH($AN15,$T$8:$T$14,0),MATCH(JZ$7,$T$8:$AK$8,0)),0) -> 0 | KB15: =IFERROR(KA15*INDEX($T$8:$AK$14,MATCH($AN15,$T$8:$T$14,0),MATCH(KB$7,$T$8:$AK$8,0)),0) -> 0 | KD15: =IFERROR(KC15*INDEX($T$8:$AK$14,MATCH($AN15,$T$8:$T$14,0),MATCH(KD$7,$T$8:$AK$8,0)),0) -> 0 | KF15: =IFERROR(KE15*INDEX($T$8:$AK$14,MATCH($AN15,$T$8:$T$14,0),MATCH(KF$7,$T$8:$AK$8,0)),0) -> 0 | KH15: =IFERROR(KG15*INDEX($T$8:$AK$14,MATCH($AN15,$T$8:$T$14,0),MATCH(KH$7,$T$8:$AK$8,0)),0) -> 0 | KJ15: =IFERROR(KI15*INDEX($T$8:$AK$14,MATCH($AN15,$T$8:$T$14,0),MATCH(KJ$7,$T$8:$AK$8,0)),0) -> 0 | KL15: =IFERROR(KK15*INDEX($T$8:$AK$14,MATCH($AN15,$T$8:$T$14,0),MATCH(KL$7,$T$8:$AK$8,0)),0) -> 0 | KN15: =IFERROR(KM15*INDEX($T$8:$AK$14,MATCH($AN15,$T$8:$T$14,0),MATCH(KN$7,$T$8:$AK$8,0)),0) -> 0 | KP15: =IFERROR(KO15*INDEX($T$8:$AK$14,MATCH($AN15,$T$8:$T$14,0),MATCH(KP$7,$T$8:$AK$8,0)),0) -> 0 | KR15: =IFERROR(KQ15*INDEX($T$8:$AK$14,MATCH($AN15,$T$8:$T$14,0),MATCH(KR$7,$T$8:$AK$8,0)),0) -> 0 | KT15: =IFERROR(KS15*INDEX($T$8:$AK$14,MATCH($AN15,$T$8:$T$14,0),MATCH(KT$7,$T$8:$AK$8,0)),0) -> 0 | KV15: =IFERROR(KU15*INDEX($T$8:$AK$14,MATCH($AN15,$T$8:$T$14,0),MATCH(KV$7,$T$8:$AK$8,0)),0) -> 0 | KX15: =IFERROR(KW15*INDEX($T$8:$AK$14,MATCH($AN15,$T$8:$T$14,0),MATCH(KX$7,$T$8:$AK$8,0)),0) -> 0 | KZ15: =IFERROR(KY15*INDEX($T$8:$AK$14,MATCH($AN15,$T$8:$T$14,0),MATCH(KZ$7,$T$8:$AK$8,0)),0) -> 0 | LB15: =IFERROR(LA15*INDEX($T$8:$AK$14,MATCH($AN15,$T$8:$T$14,0),MATCH(LB$7,$T$8:$AK$8,0)),0) -> 0 | LD15: =IFERROR(LC15*INDEX($T$8:$AK$14,MATCH($AN15,$T$8:$T$14,0),MATCH(LD$7,$T$8:$AK$8,0)),0) -> 0 | LF15: =IFERROR(LE15*INDEX($T$8:$AK$14,MATCH($AN15,$T$8:$T$14,0),MATCH(LF$7,$T$8:$AK$8,0)),0) -> 0 | LH15: =IFERROR(LG15*INDEX($T$8:$AK$14,MATCH($AN15,$T$8:$T$14,0),MATCH(LH$7,$T$8:$AK$8,0)),0) -> 0 | LJ15: =IFERROR(LI15*INDEX($T$8:$AK$14,MATCH($AN15,$T$8:$T$14,0),MATCH(LJ$7,$T$8:$AK$8,0)),0) -> 0 | LL15: =IFERROR(LK15*INDEX($T$8:$AK$14,MATCH($AN15,$T$8:$T$14,0),MATCH(LL$7,$T$8:$AK$8,0)),0) -> 0 | LN15: =IFERROR(LM15*INDEX($T$8:$AK$14,MATCH($AN15,$T$8:$T$14,0),MATCH(LN$7,$T$8:$AK$8,0)),0) -> 0 | LP15: =IFERROR(LO15*INDEX($T$8:$AK$14,MATCH($AN15,$T$8:$T$14,0),MATCH(LP$7,$T$8:$AK$8,0)),0) -> 0 | LR15: =IFERROR(LQ15*INDEX($T$8:$AK$14,MATCH($AN15,$T$8:$T$14,0),MATCH(LR$7,$T$8:$AK$8,0)),0) -> 0 | LT15: =IFERROR(LS15*INDEX($T$8:$AK$14,MATCH($AN15,$T$8:$T$14,0),MATCH(LT$7,$T$8:$AK$8,0)),0) -> 0 | LV15: =IFERROR(LU15*INDEX($T$8:$AK$14,MATCH($AN15,$T$8:$T$14,0),MATCH(LV$7,$T$8:$AK$8,0)),0) -> 0 | LX15: =IFERROR(LW15*INDEX($T$8:$AK$14,MATCH($AN15,$T$8:$T$14,0),MATCH(LX$7,$T$8:$AK$8,0)),0) -> 0 | LZ15: =IFERROR(LY15*INDEX($T$8:$AK$14,MATCH($AN15,$T$8:$T$14,0),MATCH(LZ$7,$T$8:$AK$8,0)),0) -> 0 | MB15: =IFERROR(MA15*INDEX($T$8:$AK$14,MATCH($AN15,$T$8:$T$14,0),MATCH(MB$7,$T$8:$AK$8,0)),0) -> 0 | MD15: =IFERROR(MC15*INDEX($T$8:$AK$14,MATCH($AN15,$T$8:$T$14,0),MATCH(MD$7,$T$8:$AK$8,0)),0) -> 0 | MF15: =IFERROR(ME15*INDEX($T$8:$AK$14,MATCH($AN15,$T$8:$T$14,0),MATCH(MF$7,$T$8:$AK$8,0)),0) -> 0 | MH15: =IFERROR(MG15*INDEX($T$8:$AK$14,MATCH($AN15,$T$8:$T$14,0),MATCH(MH$7,$T$8:$AK$8,0)),0) -> 0 | MJ15: =IFERROR(MI15*INDEX($T$8:$AK$14,MATCH($AN15,$T$8:$T$14,0),MATCH(MJ$7,$T$8:$AK$8,0)),0) -> 0 | ML15: =IFERROR(MK15*INDEX($T$8:$AK$14,MATCH($AN15,$T$8:$T$14,0),MATCH(ML$7,$T$8:$AK$8,0)),0) -> 0 | MN15: =IFERROR(MM15*INDEX($T$8:$AK$14,MATCH($AN15,$T$8:$T$14,0),MATCH(MN$7,$T$8:$AK$8,0)),0) -> 0 | MP15: =IFERROR(MO15*INDEX($T$8:$AK$14,MATCH($AN15,$T$8:$T$14,0),MATCH(MP$7,$T$8:$AK$8,0)),0) -> 0 | MR15: =IFERROR(MQ15*INDEX($T$8:$AK$14,MATCH($AN15,$T$8:$T$14,0),MATCH(MR$7,$T$8:$AK$8,0)),0) -> 0 | MT15: =IFERROR(MS15*INDEX($T$8:$AK$14,MATCH($AN15,$T$8:$T$14,0),MATCH(MT$7,$T$8:$AK$8,0)),0) -> 0 | MV15: =IFERROR(MU15*INDEX($T$8:$AK$14,MATCH($AN15,$T$8:$T$14,0),MATCH(MV$7,$T$8:$AK$8,0)),0) -> 0 | MX15: =IFERROR(MW15*INDEX($T$8:$AK$14,MATCH($AN15,$T$8:$T$14,0),MATCH(MX$7,$T$8:$AK$8,0)),0) -> 0 | MZ15: =IFERROR(MY15*INDEX($T$8:$AK$14,MATCH($AN15,$T$8:$T$14,0),MATCH(MZ$7,$T$8:$AK$8,0)),0) -> 0 | NB15: =IFERROR(NA15*INDEX($T$8:$AK$14,MATCH($AN15,$T$8:$T$14,0),MATCH(NB$7,$T$8:$AK$8,0)),0) -> 0 | ND15: =IFERROR(NC15*INDEX($T$8:$AK$14,MATCH($AN15,$T$8:$T$14,0),MATCH(ND$7,$T$8:$AK$8,0)),0) -> 0 | NF15: =IFERROR(NE15*INDEX($T$8:$AK$14,MATCH($AN15,$T$8:$T$14,0),MATCH(NF$7,$T$8:$AK$8,0)),0) -> 0 | NH15: =IFERROR(NG15*INDEX($T$8:$AK$14,MATCH($AN15,$T$8:$T$14,0),MATCH(NH$7,$T$8:$AK$8,0)),0) -> 0 | NJ15: =IFERROR(NI15*INDEX($T$8:$AK$14,MATCH($AN15,$T$8:$T$14,0),MATCH(NJ$7,$T$8:$AK$8,0)),0) -> 0 | NL15: =IFERROR(NK15*INDEX($T$8:$AK$14,MATCH($AN15,$T$8:$T$14,0),MATCH(NL$7,$T$8:$AK$8,0)),0) -> 0 | NN15: =IFERROR(NM15*INDEX($T$8:$AK$14,MATCH($AN15,$T$8:$T$14,0),MATCH(NN$7,$T$8:$AK$8,0)),0) -> 0 | NP15: =IFERROR(NO15*INDEX($T$8:$AK$14,MATCH($AN15,$T$8:$T$14,0),MATCH(NP$7,$T$8:$AK$8,0)),0) -> 0 | NR15: =IFERROR(NQ15*INDEX($T$8:$AK$14,MATCH($AN15,$T$8:$T$14,0),MATCH(NR$7,$T$8:$AK$8,0)),0) -> 0 | NT15: =IFERROR(NS15*INDEX($T$8:$AK$14,MATCH($AN15,$T$8:$T$14,0),MATCH(NT$7,$T$8:$AK$8,0)),0) -> 0 | NV15: =IFERROR(NU15*INDEX($T$8:$AK$14,MATCH($AN15,$T$8:$T$14,0),MATCH(NV$7,$T$8:$AK$8,0)),0) -> 0 | NX15: =IFERROR(NW15*INDEX($T$8:$AK$14,MATCH($AN15,$T$8:$T$14,0),MATCH(NX$7,$T$8:$AK$8,0)),0) -> 0 | NZ15: =IFERROR(NY15*INDEX($T$8:$AK$14,MATCH($AN15,$T$8:$T$14,0),MATCH(NZ$7,$T$8:$AK$8,0)),0) -> 0 | OB15: =IFERROR(OA15*INDEX($T$8:$AK$14,MATCH($AN15,$T$8:$T$14,0),MATCH(OB$7,$T$8:$AK$8,0)),0) -> 0 | OD15: =IFERROR(OC15*INDEX($T$8:$AK$14,MATCH($AN15,$T$8:$T$14,0),MATCH(OD$7,$T$8:$AK$8,0)),0) -> 0 | OF15: =IFERROR(OE15*INDEX($T$8:$AK$14,MATCH($AN15,$T$8:$T$14,0),MATCH(OF$7,$T$8:$AK$8,0)),0) -> 0 | OH15: =IFERROR(OG15*INDEX($T$8:$AK$14,MATCH($AN15,$T$8:$T$14,0),MATCH(OH$7,$T$8:$AK$8,0)),0) -> 0 | OJ15: =IFERROR(OI15*INDEX($T$8:$AK$14,MATCH($AN15,$T$8:$T$14,0),MATCH(OJ$7,$T$8:$AK$8,0)),0) -> 0 | OL15: =IFERROR(OK15*INDEX($T$8:$AK$14,MATCH($AN15,$T$8:$T$14,0),MATCH(OL$7,$T$8:$AK$8,0)),0) -> 0 | ON15: =IFERROR(OM15*INDEX($T$8:$AK$14,MATCH($AN15,$T$8:$T$14,0),MATCH(ON$7,$T$8:$AK$8,0)),0) -> 0 | OP15: =IFERROR(OO15*INDEX($T$8:$AK$14,MATCH($AN15,$T$8:$T$14,0),MATCH(OP$7,$T$8:$AK$8,0)),0) -> 0 | OR15: =IFERROR(OQ15*INDEX($T$8:$AK$14,MATCH($AN15,$T$8:$T$14,0),MATCH(OR$7,$T$8:$AK$8,0)),0) -> 0 | OT15: =IFERROR(OS15*INDEX($T$8:$AK$14,MATCH($AN15,$T$8:$T$14,0),MATCH(OT$7,$T$8:$AK$8,0)),0) -> 0 | OV15: =IFERROR(OU15*INDEX($T$8:$AK$14,MATCH($AN15,$T$8:$T$14,0),MATCH(OV$7,$T$8:$AK$8,0)),0) -> 0 | OX15: =IFERROR(OW15*INDEX($T$8:$AK$14,MATCH($AN15,$T$8:$T$14,0),MATCH(OX$7,$T$8:$AK$8,0)),0) -> 0 | OZ15: =IFERROR(OY15*INDEX($T$8:$AK$14,MATCH($AN15,$T$8:$T$14,0),MATCH(OZ$7,$T$8:$AK$8,0)),0) -> 0 | PB15: =IFERROR(PA15*INDEX($T$8:$AK$14,MATCH($AN15,$T$8:$T$14,0),MATCH(PB$7,$T$8:$AK$8,0)),0) -> 0 | PD15: =IFERROR(PC15*INDEX($T$8:$AK$14,MATCH($AN15,$T$8:$T$14,0),MATCH(PD$7,$T$8:$AK$8,0)),0) -> 0 | PF15: =IFERROR(PE15*INDEX($T$8:$AK$14,MATCH($AN15,$T$8:$T$14,0),MATCH(PF$7,$T$8:$AK$8,0)),0) -> 0 | PH15: =IFERROR(PG15*INDEX($T$8:$AK$14,MATCH($AN15,$T$8:$T$14,0),MATCH(PH$7,$T$8:$AK$8,0)),0) -> 0 | PJ15: =IFERROR(PI15*INDEX($T$8:$AK$14,MATCH($AN15,$T$8:$T$14,0),MATCH(PJ$7,$T$8:$AK$8,0)),0) -> 0 | PL15: =IFERROR(PK15*INDEX($T$8:$AK$14,MATCH($AN15,$T$8:$T$14,0),MATCH(PL$7,$T$8:$AK$8,0)),0) -> 0 | PN15: =IFERROR(PM15*INDEX($T$8:$AK$14,MATCH($AN15,$T$8:$T$14,0),MATCH(PN$7,$T$8:$AK$8,0)),0) -> 0 | PP15: =IFERROR(PO15*INDEX($T$8:$AK$14,MATCH($AN15,$T$8:$T$14,0),MATCH(PP$7,$T$8:$AK$8,0)),0) -> 0 | PR15: =IFERROR(PQ15*INDEX($T$8:$AK$14,MATCH($AN15,$T$8:$T$14,0),MATCH(PR$7,$T$8:$AK$8,0)),0) -> 0 | PT15: =IFERROR(PS15*INDEX($T$8:$AK$14,MATCH($AN15,$T$8:$T$14,0),MATCH(PT$7,$T$8:$AK$8,0)),0) -> 0 | PV15: =IFERROR(PU15*INDEX($T$8:$AK$14,MATCH($AN15,$T$8:$T$14,0),MATCH(PV$7,$T$8:$AK$8,0)),0) -> 0 | PX15: =IFERROR(PW15*INDEX($T$8:$AK$14,MATCH($AN15,$T$8:$T$14,0),MATCH(PX$7,$T$8:$AK$8,0)),0) -> 0 | PZ15: =IFERROR(PY15*INDEX($T$8:$AK$14,MATCH($AN15,$T$8:$T$14,0),MATCH(PZ$7,$T$8:$AK$8,0)),0) -> 0 | QB15: =IFERROR(QA15*INDEX($T$8:$AK$14,MATCH($AN15,$T$8:$T$14,0),MATCH(QB$7,$T$8:$AK$8,0)),0) -> 0 | QD15: =IFERROR(QC15*INDEX($T$8:$AK$14,MATCH($AN15,$T$8:$T$14,0),MATCH(QD$7,$T$8:$AK$8,0)),0) -> 0 | QF15: =IFERROR(QE15*INDEX($T$8:$AK$14,MATCH($AN15,$T$8:$T$14,0),MATCH(QF$7,$T$8:$AK$8,0)),0) -> 0
D16: BAT ENT LAURENT | E16: Mécanisation | F16: {=SUMPRODUCT(($AO$8:$QF$98=F$7)*($AM$8:$AM$98=$D16)*($AO$8:$QF$98))} -> 0 | G16: {=SUMPRODUCT(($AO$8:$QF$8=G$7)*($AM$9:$AM$98=$D16)*($AO$9:$QF$98))} -> 3436.03 | H16: {=SUMPRODUCT(($AO$8:$QF$8=H$7)*($AM$9:$AM$98=$D16)*($AO$9:$QF$98))} -> 0 | I16: {=SUMPRODUCT(($AO$8:$QF$8=I$7)*($AM$9:$AM$98=$D16)*($AO$9:$QF$98))} -> 0 | J16: {=SUMPRODUCT(($AO$8:$QF$8=J$7)*($AM$9:$AM$98=$D16)*($AO$9:$QF$98))} -> 0 | K16: {=SUMPRODUCT(($AO$8:$QF$8=K$7)*($AM$9:$AM$98=$D16)*($AO$9:$QF$98))} -> 0 | L16: {=SUMPRODUCT(($AO$8:$QF$8=L$7)*($AM$9:$AM$98=$D16)*($AO$9:$QF$98))} -> 0 | M16: {=SUMPRODUCT(($AO$8:$QF$8=M$7)*($AM$9:$AM$98=$D16)*($AO$9:$QF$98))} -> 0 | N16: {=SUMPRODUCT(($AO$8:$QF$8=N$7)*($AM$9:$AM$98=$D16)*($AO$9:$QF$98))} -> 0 | ... Q16: {=SUMPRODUCT(($AO$8:$QF$8=Q$7)*($AM$9:$AM$98=$D16)*($AO$9:$QF$98))} -> 0 | AM16: =AM15 -> BAT B | AN16: =AN10 -> Chariots | AP16: =IFERROR(AO16*INDEX($T$8:$AK$14,MATCH($AN16,$T$8:$T$14,0),MATCH(AP$7,$T$8:$AK$8,0)),0) -> 0 | AR16: =IFERROR(AQ16*INDEX($T$8:$AK$14,MATCH($AN16,$T$8:$T$14,0),MATCH(AR$7,$T$8:$AK$8,0)),0) -> 0 | AT16: =IFERROR(AS16*INDEX($T$8:$AK$14,MATCH($AN16,$T$8:$T$14,0),MATCH(AT$7,$T$8:$AK$8,0)),0) -> 0 | AV16: =IFERROR(AU16*INDEX($T$8:$AK$14,MATCH($AN16,$T$8:$T$14,0),MATCH(AV$7,$T$8:$AK$8,0)),0) -> 0 | AX16: =IFERROR(AW16*INDEX($T$8:$AK$14,MATCH($AN16,$T$8:$T$14,0),MATCH(AX$7,$T$8:$AK$8,0)),0) -> 0 | AZ16: =IFERROR(AY16*INDEX($T$8:$AK$14,MATCH($AN16,$T$8:$T$14,0),MATCH(AZ$7,$T$8:$AK$8,0)),0) -> 0 | BB16: =IFERROR(BA16*INDEX($T$8:$AK$14,MATCH($AN16,$T$8:$T$14,0),MATCH(BB$7,$T$8:$AK$8,0)),0) -> 0 | BD16: =IFERROR(BC16*INDEX($T$8:$AK$14,MATCH($AN16,$T$8:$T$14,0),MATCH(BD$7,$T$8:$AK$8,0)),0) -> 0 | BF16: =IFERROR(BE16*INDEX($T$8:$AK$14,MATCH($AN16,$T$8:$T$14,0),MATCH(BF$7,$T$8:$AK$8,0)),0) -> 0 | BH16: =IFERROR(BG16*INDEX($T$8:$AK$14,MATCH($AN16,$T$8:$T$14,0),MATCH(BH$7,$T$8:$AK$8,0)),0) -> 0 | BJ16: =IFERROR(BI16*INDEX($T$8:$AK$14,MATCH($AN16,$T$8:$T$14,0),MATCH(BJ$7,$T$8:$AK$8,0)),0) -> 0 | BL16: =IFERROR(BK16*INDEX($T$8:$AK$14,MATCH($AN16,$T$8:$T$14,0),MATCH(BL$7,$T$8:$AK$8,0)),0) -> 0 | BM16: 2 | BN16: =IFERROR(BM16*INDEX($T$8:$AK$14,MATCH($AN16,$T$8:$T$14,0),MATCH(BN$7,$T$8:$AK$8,0)),0) -> 376.34 | BO16: 2 | BP16: =IFERROR(BO16*INDEX($T$8:$AK$14,MATCH($AN16,$T$8:$T$14,0),MATCH(BP$7,$T$8:$AK$8,0)),0) -> 376.34 | BQ16: 2 | BR16: =IFERROR(BQ16*INDEX($T$8:$AK$14,MATCH($AN16,$T$8:$T$14,0),MATCH(BR$7,$T$8:$AK$8,0)),0) -> 376.34 | BS16: 2 | BT16: =IFERROR(BS16*INDEX($T$8:$AK$14,MATCH($AN16,$T$8:$T$14,0),MATCH(BT$7,$T$8:$AK$8,0)),0) -> 376.34 | BU16: 2 | BV16: =IFERROR(BU16*INDEX($T$8:$AK$14,MATCH($AN16,$T$8:$T$14,0),MATCH(BV$7,$T$8:$AK$8,0)),0) -> 376.34 | BW16: 2 | BX16: =IFERROR(BW16*INDEX($T$8:$AK$14,MATCH($AN16,$T$8:$T$14,0),MATCH(BX$7,$T$8:$AK$8,0)),0) -> 376.34 | BY16: 2 | BZ16: =IFERROR(BY16*INDEX($T$8:$AK$14,MATCH($AN16,$T$8:$T$14,0),MATCH(BZ$7,$T$8:$AK$8,0)),0) -> 376.34 | CA16: 2 | CB16: =IFERROR(CA16*INDEX($T$8:$AK$14,MATCH($AN16,$T$8:$T$14,0),MATCH(CB$7,$T$8:$AK$8,0)),0) -> 376.34 | CC16: 2 | CD16: =IFERROR(CC16*INDEX($T$8:$AK$14,MATCH($AN16,$T$8:$T$14,0),MATCH(CD$7,$T$8:$AK$8,0)),0) -> 376.34 | CE16: 2 | CF16: =IFERROR(CE16*INDEX($T$8:$AK$14,MATCH($AN16,$T$8:$T$14,0),MATCH(CF$7,$T$8:$AK$8,0)),0) -> 376.34 | CG16: 2 | CH16: =IFERROR(CG16*INDEX($T$8:$AK$14,MATCH($AN16,$T$8:$T$14,0),MATCH(CH$7,$T$8:$AK$8,0)),0) -> 376.34 | CI16: 2 | CJ16: =IFERROR(CI16*INDEX($T$8:$AK$14,MATCH($AN16,$T$8:$T$14,0),MATCH(CJ$7,$T$8:$AK$8,0)),0) -> 376.34 | CL16: =IFERROR(CK16*INDEX($T$8:$AK$14,MATCH($AN16,$T$8:$T$14,0),MATCH(CL$7,$T$8:$AK$8,0)),0) -> 0 | CN16: =IFERROR(CM16*INDEX($T$8:$AK$14,MATCH($AN16,$T$8:$T$14,0),MATCH(CN$7,$T$8:$AK$8,0)),0) -> 0 | CP16: =IFERROR(CO16*INDEX($T$8:$AK$14,MATCH($AN16,$T$8:$T$14,0),MATCH(CP$7,$T$8:$AK$8,0)),0) -> 0 | CR16: =IFERROR(CQ16*INDEX($T$8:$AK$14,MATCH($AN16,$T$8:$T$14,0),MATCH(CR$7,$T$8:$AK$8,0)),0) -> 0 | CT16: =IFERROR(CS16*INDEX($T$8:$AK$14,MATCH($AN16,$T$8:$T$14,0),MATCH(CT$7,$T$8:$AK$8,0)),0) -> 0 | CV16: =IFERROR(CU16*INDEX($T$8:$AK$14,MATCH($AN16,$T$8:$T$14,0),MATCH(CV$7,$T$8:$AK$8,0)),0) -> 0 | CX16: =IFERROR(CW16*INDEX($T$8:$AK$14,MATCH($AN16,$T$8:$T$14,0),MATCH(CX$7,$T$8:$AK$8,0)),0) -> 0 | CZ16: =IFERROR(CY16*INDEX($T$8:$AK$14,MATCH($AN16,$T$8:$T$14,0),MATCH(CZ$7,$T$8:$AK$8,0)),0) -> 0 | DB16: =IFERROR(DA16*INDEX($T$8:$AK$14,MATCH($AN16,$T$8:$T$14,0),MATCH(DB$7,$T$8:$AK$8,0)),0) -> 0 | DD16: =IFERROR(DC16*INDEX($T$8:$AK$14,MATCH($AN16,$T$8:$T$14,0),MATCH(DD$7,$T$8:$AK$8,0)),0) -> 0 | DF16: =IFERROR(DE16*INDEX($T$8:$AK$14,MATCH($AN16,$T$8:$T$14,0),MATCH(DF$7,$T$8:$AK$8,0)),0) -> 0 | DH16: =IFERROR(DG16*INDEX($T$8:$AK$14,MATCH($AN16,$T$8:$T$14,0),MATCH(DH$7,$T$8:$AK$8,0)),0) -> 0 | DJ16: =IFERROR(DI16*INDEX($T$8:$AK$14,MATCH($AN16,$T$8:$T$14,0),MATCH(DJ$7,$T$8:$AK$8,0)),0) -> 0 | DL16: =IFERROR(DK16*INDEX($T$8:$AK$14,MATCH($AN16,$T$8:$T$14,0),MATCH(DL$7,$T$8:$AK$8,0)),0) -> 0 | DN16: =IFERROR(DM16*INDEX($T$8:$AK$14,MATCH($AN16,$T$8:$T$14,0),MATCH(DN$7,$T$8:$AK$8,0)),0) -> 0 | DP16: =IFERROR(DO16*INDEX($T$8:$AK$14,MATCH($AN16,$T$8:$T$14,0),MATCH(DP$7,$T$8:$AK$8,0)),0) -> 0 | DR16: =IFERROR(DQ16*INDEX($T$8:$AK$14,MATCH($AN16,$T$8:$T$14,0),MATCH(DR$7,$T$8:$AK$8,0)),0) -> 0 | DT16: =IFERROR(DS16*INDEX($T$8:$AK$14,MATCH($AN16,$T$8:$T$14,0),MATCH(DT$7,$T$8:$AK$8,0)),0) -> 0 | DV16: =IFERROR(DU16*INDEX($T$8:$AK$14,MATCH($AN16,$T$8:$T$14,0),MATCH(DV$7,$T$8:$AK$8,0)),0) -> 0 | DX16: =IFERROR(DW16*INDEX($T$8:$AK$14,MATCH($AN16,$T$8:$T$14,0),MATCH(DX$7,$T$8:$AK$8,0)),0) -> 0 | DZ16: =IFERROR(DY16*INDEX($T$8:$AK$14,MATCH($AN16,$T$8:$T$14,0),MATCH(DZ$7,$T$8:$AK$8,0)),0) -> 0 | EB16: =IFERROR(EA16*INDEX($T$8:$AK$14,MATCH($AN16,$T$8:$T$14,0),MATCH(EB$7,$T$8:$AK$8,0)),0) -> 0 | ED16: =IFERROR(EC16*INDEX($T$8:$AK$14,MATCH($AN16,$T$8:$T$14,0),MATCH(ED$7,$T$8:$AK$8,0)),0) -> 0 | EF16: =IFERROR(EE16*INDEX($T$8:$AK$14,MATCH($AN16,$T$8:$T$14,0),MATCH(EF$7,$T$8:$AK$8,0)),0) -> 0 | EH16: =IFERROR(EG16*INDEX($T$8:$AK$14,MATCH($AN16,$T$8:$T$14,0),MATCH(EH$7,$T$8:$AK$8,0)),0) -> 0 | EJ16: =IFERROR(EI16*INDEX($T$8:$AK$14,MATCH($AN16,$T$8:$T$14,0),MATCH(EJ$7,$T$8:$AK$8,0)),0) -> 0 | EL16: =IFERROR(EK16*INDEX($T$8:$AK$14,MATCH($AN16,$T$8:$T$14,0),MATCH(EL$7,$T$8:$AK$8,0)),0) -> 0 | EN16: =IFERROR(EM16*INDEX($T$8:$AK$14,MATCH($AN16,$T$8:$T$14,0),MATCH(EN$7,$T$8:$AK$8,0)),0) -> 0 | EP16: =IFERROR(EO16*INDEX($T$8:$AK$14,MATCH($AN16,$T$8:$T$14,0),MATCH(EP$7,$T$8:$AK$8,0)),0) -> 0 | ER16: =IFERROR(EQ16*INDEX($T$8:$AK$14,MATCH($AN16,$T$8:$T$14,0),MATCH(ER$7,$T$8:$AK$8,0)),0) -> 0 | ET16: =IFERROR(ES16*INDEX($T$8:$AK$14,MATCH($AN16,$T$8:$T$14,0),MATCH(ET$7,$T$8:$AK$8,0)),0) -> 0 | EV16: =IFERROR(EU16*INDEX($T$8:$AK$14,MATCH($AN16,$T$8:$T$14,0),MATCH(EV$7,$T$8:$AK$8,0)),0) -> 0 | EX16: =IFERROR(EW16*INDEX($T$8:$AK$14,MATCH($AN16,$T$8:$T$14,0),MATCH(EX$7,$T$8:$AK$8,0)),0) -> 0 | EZ16: =IFERROR(EY16*INDEX($T$8:$AK$14,MATCH($AN16,$T$8:$T$14,0),MATCH(EZ$7,$T$8:$AK$8,0)),0) -> 0 | FB16: =IFERROR(FA16*INDEX($T$8:$AK$14,MATCH($AN16,$T$8:$T$14,0),MATCH(FB$7,$T$8:$AK$8,0)),0) -> 0 | FD16: =IFERROR(FC16*INDEX($T$8:$AK$14,MATCH($AN16,$T$8:$T$14,0),MATCH(FD$7,$T$8:$AK$8,0)),0) -> 0 | FF16: =IFERROR(FE16*INDEX($T$8:$AK$14,MATCH($AN16,$T$8:$T$14,0),MATCH(FF$7,$T$8:$AK$8,0)),0) -> 0 | FH16: =IFERROR(FG16*INDEX($T$8:$AK$14,MATCH($AN16,$T$8:$T$14,0),MATCH(FH$7,$T$8:$AK$8,0)),0) -> 0 | FJ16: =IFERROR(FI16*INDEX($T$8:$AK$14,MATCH($AN16,$T$8:$T$14,0),MATCH(FJ$7,$T$8:$AK$8,0)),0) -> 0 | FL16: =IFERROR(FK16*INDEX($T$8:$AK$14,MATCH($AN16,$T$8:$T$14,0),MATCH(FL$7,$T$8:$AK$8,0)),0) -> 0 | FN16: =IFERROR(FM16*INDEX($T$8:$AK$14,MATCH($AN16,$T$8:$T$14,0),MATCH(FN$7,$T$8:$AK$8,0)),0) -> 0 | FP16: =IFERROR(FO16*INDEX($T$8:$AK$14,MATCH($AN16,$T$8:$T$14,0),MATCH(FP$7,$T$8:$AK$8,0)),0) -> 0 | FR16: =IFERROR(FQ16*INDEX($T$8:$AK$14,MATCH($AN16,$T$8:$T$14,0),MATCH(FR$7,$T$8:$AK$8,0)),0) -> 0 | FT16: =IFERROR(FS16*INDEX($T$8:$AK$14,MATCH($AN16,$T$8:$T$14,0),MATCH(FT$7,$T$8:$AK$8,0)),0) -> 0 | FV16: =IFERROR(FU16*INDEX($T$8:$AK$14,MATCH($AN16,$T$8:$T$14,0),MATCH(FV$7,$T$8:$AK$8,0)),0) -> 0 | FX16: =IFERROR(FW16*INDEX($T$8:$AK$14,MATCH($AN16,$T$8:$T$14,0),MATCH(FX$7,$T$8:$AK$8,0)),0) -> 0 | FZ16: =IFERROR(FY16*INDEX($T$8:$AK$14,MATCH($AN16,$T$8:$T$14,0),MATCH(FZ$7,$T$8:$AK$8,0)),0) -> 0 | GB16: =IFERROR(GA16*INDEX($T$8:$AK$14,MATCH($AN16,$T$8:$T$14,0),MATCH(GB$7,$T$8:$AK$8,0)),0) -> 0 | GD16: =IFERROR(GC16*INDEX($T$8:$AK$14,MATCH($AN16,$T$8:$T$14,0),MATCH(GD$7,$T$8:$AK$8,0)),0) -> 0 | GF16: =IFERROR(GE16*INDEX($T$8:$AK$14,MATCH($AN16,$T$8:$T$14,0),MATCH(GF$7,$T$8:$AK$8,0)),0) -> 0 | GH16: =IFERROR(GG16*INDEX($T$8:$AK$14,MATCH($AN16,$T$8:$T$14,0),MATCH(GH$7,$T$8:$AK$8,0)),0) -> 0 | GJ16: =IFERROR(GI16*INDEX($T$8:$AK$14,MATCH($AN16,$T$8:$T$14,0),MATCH(GJ$7,$T$8:$AK$8,0)),0) -> 0 | GL16: =IFERROR(GK16*INDEX($T$8:$AK$14,MATCH($AN16,$T$8:$T$14,0),MATCH(GL$7,$T$8:$AK$8,0)),0) -> 0 | GN16: =IFERROR(GM16*INDEX($T$8:$AK$14,MATCH($AN16,$T$8:$T$14,0),MATCH(GN$7,$T$8:$AK$8,0)),0) -> 0 | GP16: =IFERROR(GO16*INDEX($T$8:$AK$14,MATCH($AN16,$T$8:$T$14,0),MATCH(GP$7,$T$8:$AK$8,0)),0) -> 0 | GR16: =IFERROR(GQ16*INDEX($T$8:$AK$14,MATCH($AN16,$T$8:$T$14,0),MATCH(GR$7,$T$8:$AK$8,0)),0) -> 0 | GT16: =IFERROR(GS16*INDEX($T$8:$AK$14,MATCH($AN16,$T$8:$T$14,0),MATCH(GT$7,$T$8:$AK$8,0)),0) -> 0 | GV16: =IFERROR(GU16*INDEX($T$8:$AK$14,MATCH($AN16,$T$8:$T$14,0),MATCH(GV$7,$T$8:$AK$8,0)),0) -> 0 | GX16: =IFERROR(GW16*INDEX($T$8:$AK$14,MATCH($AN16,$T$8:$T$14,0),MATCH(GX$7,$T$8:$AK$8,0)),0) -> 0 | GZ16: =IFERROR(GY16*INDEX($T$8:$AK$14,MATCH($AN16,$T$8:$T$14,0),MATCH(GZ$7,$T$8:$AK$8,0)),0) -> 0 | HB16: =IFERROR(HA16*INDEX($T$8:$AK$14,MATCH($AN16,$T$8:$T$14,0),MATCH(HB$7,$T$8:$AK$8,0)),0) -> 0 | HD16: =IFERROR(HC16*INDEX($T$8:$AK$14,MATCH($AN16,$T$8:$T$14,0),MATCH(HD$7,$T$8:$AK$8,0)),0) -> 0 | HF16: =IFERROR(HE16*INDEX($T$8:$AK$14,MATCH($AN16,$T$8:$T$14,0),MATCH(HF$7,$T$8:$AK$8,0)),0) -> 0 | HH16: =IFERROR(HG16*INDEX($T$8:$AK$14,MATCH($AN16,$T$8:$T$14,0),MATCH(HH$7,$T$8:$AK$8,0)),0) -> 0 | HJ16: =IFERROR(HI16*INDEX($T$8:$AK$14,MATCH($AN16,$T$8:$T$14,0),MATCH(HJ$7,$T$8:$AK$8,0)),0) -> 0 | HL16: =IFERROR(HK16*INDEX($T$8:$AK$14,MATCH($AN16,$T$8:$T$14,0),MATCH(HL$7,$T$8:$AK$8,0)),0) -> 0 | HN16: =IFERROR(HM16*INDEX($T$8:$AK$14,MATCH($AN16,$T$8:$T$14,0),MATCH(HN$7,$T$8:$AK$8,0)),0) -> 0 | HP16: =IFERROR(HO16*INDEX($T$8:$AK$14,MATCH($AN16,$T$8:$T$14,0),MATCH(HP$7,$T$8:$AK$8,0)),0) -> 0 | HR16: =IFERROR(HQ16*INDEX($T$8:$AK$14,MATCH($AN16,$T$8:$T$14,0),MATCH(HR$7,$T$8:$AK$8,0)),0) -> 0 | HT16: =IFERROR(HS16*INDEX($T$8:$AK$14,MATCH($AN16,$T$8:$T$14,0),MATCH(HT$7,$T$8:$AK$8,0)),0) -> 0 | HV16: =IFERROR(HU16*INDEX($T$8:$AK$14,MATCH($AN16,$T$8:$T$14,0),MATCH(HV$7,$T$8:$AK$8,0)),0) -> 0 | HX16: =IFERROR(HW16*INDEX($T$8:$AK$14,MATCH($AN16,$T$8:$T$14,0),MATCH(HX$7,$T$8:$AK$8,0)),0) -> 0 | HZ16: =IFERROR(HY16*INDEX($T$8:$AK$14,MATCH($AN16,$T$8:$T$14,0),MATCH(HZ$7,$T$8:$AK$8,0)),0) -> 0 | IB16: =IFERROR(IA16*INDEX($T$8:$AK$14,MATCH($AN16,$T$8:$T$14,0),MATCH(IB$7,$T$8:$AK$8,0)),0) -> 0 | ID16: =IFERROR(IC16*INDEX($T$8:$AK$14,MATCH($AN16,$T$8:$T$14,0),MATCH(ID$7,$T$8:$AK$8,0)),0) -> 0 | IF16: =IFERROR(IE16*INDEX($T$8:$AK$14,MATCH($AN16,$T$8:$T$14,0),MATCH(IF$7,$T$8:$AK$8,0)),0) -> 0 | IH16: =IFERROR(IG16*INDEX($T$8:$AK$14,MATCH($AN16,$T$8:$T$14,0),MATCH(IH$7,$T$8:$AK$8,0)),0) -> 0 | IJ16: =IFERROR(II16*INDEX($T$8:$AK$14,MATCH($AN16,$T$8:$T$14,0),MATCH(IJ$7,$T$8:$AK$8,0)),0) -> 0 | IL16: =IFERROR(IK16*INDEX($T$8:$AK$14,MATCH($AN16,$T$8:$T$14,0),MATCH(IL$7,$T$8:$AK$8,0)),0) -> 0 | IN16: =IFERROR(IM16*INDEX($T$8:$AK$14,MATCH($AN16,$T$8:$T$14,0),MATCH(IN$7,$T$8:$AK$8,0)),0) -> 0 | IP16: =IFERROR(IO16*INDEX($T$8:$AK$14,MATCH($AN16,$T$8:$T$14,0),MATCH(IP$7,$T$8:$AK$8,0)),0) -> 0 | IR16: =IFERROR(IQ16*INDEX($T$8:$AK$14,MATCH($AN16,$T$8:$T$14,0),MATCH(IR$7,$T$8:$AK$8,0)),0) -> 0 | IT16: =IFERROR(IS16*INDEX($T$8:$AK$14,MATCH($AN16,$T$8:$T$14,0),MATCH(IT$7,$T$8:$AK$8,0)),0) -> 0 | IV16: =IFERROR(IU16*INDEX($T$8:$AK$14,MATCH($AN16,$T$8:$T$14,0),MATCH(IV$7,$T$8:$AK$8,0)),0) -> 0 | IX16: =IFERROR(IW16*INDEX($T$8:$AK$14,MATCH($AN16,$T$8:$T$14,0),MATCH(IX$7,$T$8:$AK$8,0)),0) -> 0 | IZ16: =IFERROR(IY16*INDEX($T$8:$AK$14,MATCH($AN16,$T$8:$T$14,0),MATCH(IZ$7,$T$8:$AK$8,0)),0) -> 0 | JB16: =IFERROR(JA16*INDEX($T$8:$AK$14,MATCH($AN16,$T$8:$T$14,0),MATCH(JB$7,$T$8:$AK$8,0)),0) -> 0 | JD16: =IFERROR(JC16*INDEX($T$8:$AK$14,MATCH($AN16,$T$8:$T$14,0),MATCH(JD$7,$T$8:$AK$8,0)),0) -> 0 | JF16: =IFERROR(JE16*INDEX($T$8:$AK$14,MATCH($AN16,$T$8:$T$14,0),MATCH(JF$7,$T$8:$AK$8,0)),0) -> 0 | JH16: =IFERROR(JG16*INDEX($T$8:$AK$14,MATCH($AN16,$T$8:$T$14,0),MATCH(JH$7,$T$8:$AK$8,0)),0) -> 0 | JJ16: =IFERROR(JI16*INDEX($T$8:$AK$14,MATCH($AN16,$T$8:$T$14,0),MATCH(JJ$7,$T$8:$AK$8,0)),0) -> 0 | JL16: =IFERROR(JK16*INDEX($T$8:$AK$14,MATCH($AN16,$T$8:$T$14,0),MATCH(JL$7,$T$8:$AK$8,0)),0) -> 0 | JN16: =IFERROR(JM16*INDEX($T$8:$AK$14,MATCH($AN16,$T$8:$T$14,0),MATCH(JN$7,$T$8:$AK$8,0)),0) -> 0 | JP16: =IFERROR(JO16*INDEX($T$8:$AK$14,MATCH($AN16,$T$8:$T$14,0),MATCH(JP$7,$T$8:$AK$8,0)),0) -> 0 | JR16: =IFERROR(JQ16*INDEX($T$8:$AK$14,MATCH($AN16,$T$8:$T$14,0),MATCH(JR$7,$T$8:$AK$8,0)),0) -> 0 | JT16: =IFERROR(JS16*INDEX($T$8:$AK$14,MATCH($AN16,$T$8:$T$14,0),MATCH(JT$7,$T$8:$AK$8,0)),0) -> 0 | JV16: =IFERROR(JU16*INDEX($T$8:$AK$14,MATCH($AN16,$T$8:$T$14,0),MATCH(JV$7,$T$8:$AK$8,0)),0) -> 0 | JX16: =IFERROR(JW16*INDEX($T$8:$AK$14,MATCH($AN16,$T$8:$T$14,0),MATCH(JX$7,$T$8:$AK$8,0)),0) -> 0 | JZ16: =IFERROR(JY16*INDEX($T$8:$AK$14,MATCH($AN16,$T$8:$T$14,0),MATCH(JZ$7,$T$8:$AK$8,0)),0) -> 0 | KB16: =IFERROR(KA16*INDEX($T$8:$AK$14,MATCH($AN16,$T$8:$T$14,0),MATCH(KB$7,$T$8:$AK$8,0)),0) -> 0 | KD16: =IFERROR(KC16*INDEX($T$8:$AK$14,MATCH($AN16,$T$8:$T$14,0),MATCH(KD$7,$T$8:$AK$8,0)),0) -> 0 | KF16: =IFERROR(KE16*INDEX($T$8:$AK$14,MATCH($AN16,$T$8:$T$14,0),MATCH(KF$7,$T$8:$AK$8,0)),0) -> 0 | KH16: =IFERROR(KG16*INDEX($T$8:$AK$14,MATCH($AN16,$T$8:$T$14,0),MATCH(KH$7,$T$8:$AK$8,0)),0) -> 0 | KJ16: =IFERROR(KI16*INDEX($T$8:$AK$14,MATCH($AN16,$T$8:$T$14,0),MATCH(KJ$7,$T$8:$AK$8,0)),0) -> 0 | KL16: =IFERROR(KK16*INDEX($T$8:$AK$14,MATCH($AN16,$T$8:$T$14,0),MATCH(KL$7,$T$8:$AK$8,0)),0) -> 0 | KN16: =IFERROR(KM16*INDEX($T$8:$AK$14,MATCH($AN16,$T$8:$T$14,0),MATCH(KN$7,$T$8:$AK$8,0)),0) -> 0 | KP16: =IFERROR(KO16*INDEX($T$8:$AK$14,MATCH($AN16,$T$8:$T$14,0),MATCH(KP$7,$T$8:$AK$8,0)),0) -> 0 | KR16: =IFERROR(KQ16*INDEX($T$8:$AK$14,MATCH($AN16,$T$8:$T$14,0),MATCH(KR$7,$T$8:$AK$8,0)),0) -> 0 | KT16: =IFERROR(KS16*INDEX($T$8:$AK$14,MATCH($AN16,$T$8:$T$14,0),MATCH(KT$7,$T$8:$AK$8,0)),0) -> 0 | KV16: =IFERROR(KU16*INDEX($T$8:$AK$14,MATCH($AN16,$T$8:$T$14,0),MATCH(KV$7,$T$8:$AK$8,0)),0) -> 0 | KX16: =IFERROR(KW16*INDEX($T$8:$AK$14,MATCH($AN16,$T$8:$T$14,0),MATCH(KX$7,$T$8:$AK$8,0)),0) -> 0 | KZ16: =IFERROR(KY16*INDEX($T$8:$AK$14,MATCH($AN16,$T$8:$T$14,0),MATCH(KZ$7,$T$8:$AK$8,0)),0) -> 0 | LB16: =IFERROR(LA16*INDEX($T$8:$AK$14,MATCH($AN16,$T$8:$T$14,0),MATCH(LB$7,$T$8:$AK$8,0)),0) -> 0 | LD16: =IFERROR(LC16*INDEX($T$8:$AK$14,MATCH($AN16,$T$8:$T$14,0),MATCH(LD$7,$T$8:$AK$8,0)),0) -> 0 | LF16: =IFERROR(LE16*INDEX($T$8:$AK$14,MATCH($AN16,$T$8:$T$14,0),MATCH(LF$7,$T$8:$AK$8,0)),0) -> 0 | LH16: =IFERROR(LG16*INDEX($T$8:$AK$14,MATCH($AN16,$T$8:$T$14,0),MATCH(LH$7,$T$8:$AK$8,0)),0) -> 0 | LJ16: =IFERROR(LI16*INDEX($T$8:$AK$14,MATCH($AN16,$T$8:$T$14,0),MATCH(LJ$7,$T$8:$AK$8,0)),0) -> 0 | LL16: =IFERROR(LK16*INDEX($T$8:$AK$14,MATCH($AN16,$T$8:$T$14,0),MATCH(LL$7,$T$8:$AK$8,0)),0) -> 0 | LN16: =IFERROR(LM16*INDEX($T$8:$AK$14,MATCH($AN16,$T$8:$T$14,0),MATCH(LN$7,$T$8:$AK$8,0)),0) -> 0 | LP16: =IFERROR(LO16*INDEX($T$8:$AK$14,MATCH($AN16,$T$8:$T$14,0),MATCH(LP$7,$T$8:$AK$8,0)),0) -> 0 | LR16: =IFERROR(LQ16*INDEX($T$8:$AK$14,MATCH($AN16,$T$8:$T$14,0),MATCH(LR$7,$T$8:$AK$8,0)),0) -> 0 | LT16: =IFERROR(LS16*INDEX($T$8:$AK$14,MATCH($AN16,$T$8:$T$14,0),MATCH(LT$7,$T$8:$AK$8,0)),0) -> 0 | LV16: =IFERROR(LU16*INDEX($T$8:$AK$14,MATCH($AN16,$T$8:$T$14,0),MATCH(LV$7,$T$8:$AK$8,0)),0) -> 0 | LX16: =IFERROR(LW16*INDEX($T$8:$AK$14,MATCH($AN16,$T$8:$T$14,0),MATCH(LX$7,$T$8:$AK$8,0)),0) -> 0 | LZ16: =IFERROR(LY16*INDEX($T$8:$AK$14,MATCH($AN16,$T$8:$T$14,0),MATCH(LZ$7,$T$8:$AK$8,0)),0) -> 0 | MB16: =IFERROR(MA16*INDEX($T$8:$AK$14,MATCH($AN16,$T$8:$T$14,0),MATCH(MB$7,$T$8:$AK$8,0)),0) -> 0 | MD16: =IFERROR(MC16*INDEX($T$8:$AK$14,MATCH($AN16,$T$8:$T$14,0),MATCH(MD$7,$T$8:$AK$8,0)),0) -> 0 | MF16: =IFERROR(ME16*INDEX($T$8:$AK$14,MATCH($AN16,$T$8:$T$14,0),MATCH(MF$7,$T$8:$AK$8,0)),0) -> 0 | MH16: =IFERROR(MG16*INDEX($T$8:$AK$14,MATCH($AN16,$T$8:$T$14,0),MATCH(MH$7,$T$8:$AK$8,0)),0) -> 0 | MJ16: =IFERROR(MI16*INDEX($T$8:$AK$14,MATCH($AN16,$T$8:$T$14,0),MATCH(MJ$7,$T$8:$AK$8,0)),0) -> 0 | ML16: =IFERROR(MK16*INDEX($T$8:$AK$14,MATCH($AN16,$T$8:$T$14,0),MATCH(ML$7,$T$8:$AK$8,0)),0) -> 0 | MN16: =IFERROR(MM16*INDEX($T$8:$AK$14,MATCH($AN16,$T$8:$T$14,0),MATCH(MN$7,$T$8:$AK$8,0)),0) -> 0 | MP16: =IFERROR(MO16*INDEX($T$8:$AK$14,MATCH($AN16,$T$8:$T$14,0),MATCH(MP$7,$T$8:$AK$8,0)),0) -> 0 | MR16: =IFERROR(MQ16*INDEX($T$8:$AK$14,MATCH($AN16,$T$8:$T$14,0),MATCH(MR$7,$T$8:$AK$8,0)),0) -> 0 | MT16: =IFERROR(MS16*INDEX($T$8:$AK$14,MATCH($AN16,$T$8:$T$14,0),MATCH(MT$7,$T$8:$AK$8,0)),0) -> 0 | MV16: =IFERROR(MU16*INDEX($T$8:$AK$14,MATCH($AN16,$T$8:$T$14,0),MATCH(MV$7,$T$8:$AK$8,0)),0) -> 0 | MX16: =IFERROR(MW16*INDEX($T$8:$AK$14,MATCH($AN16,$T$8:$T$14,0),MATCH(MX$7,$T$8:$AK$8,0)),0) -> 0 | MZ16: =IFERROR(MY16*INDEX($T$8:$AK$14,MATCH($AN16,$T$8:$T$14,0),MATCH(MZ$7,$T$8:$AK$8,0)),0) -> 0 | NB16: =IFERROR(NA16*INDEX($T$8:$AK$14,MATCH($AN16,$T$8:$T$14,0),MATCH(NB$7,$T$8:$AK$8,0)),0) -> 0 | ND16: =IFERROR(NC16*INDEX($T$8:$AK$14,MATCH($AN16,$T$8:$T$14,0),MATCH(ND$7,$T$8:$AK$8,0)),0) -> 0 | NF16: =IFERROR(NE16*INDEX($T$8:$AK$14,MATCH($AN16,$T$8:$T$14,0),MATCH(NF$7,$T$8:$AK$8,0)),0) -> 0 | NH16: =IFERROR(NG16*INDEX($T$8:$AK$14,MATCH($AN16,$T$8:$T$14,0),MATCH(NH$7,$T$8:$AK$8,0)),0) -> 0 | NJ16: =IFERROR(NI16*INDEX($T$8:$AK$14,MATCH($AN16,$T$8:$T$14,0),MATCH(NJ$7,$T$8:$AK$8,0)),0) -> 0 | NL16: =IFERROR(NK16*INDEX($T$8:$AK$14,MATCH($AN16,$T$8:$T$14,0),MATCH(NL$7,$T$8:$AK$8,0)),0) -> 0 | NN16: =IFERROR(NM16*INDEX($T$8:$AK$14,MATCH($AN16,$T$8:$T$14,0),MATCH(NN$7,$T$8:$AK$8,0)),0) -> 0 | NP16: =IFERROR(NO16*INDEX($T$8:$AK$14,MATCH($AN16,$T$8:$T$14,0),MATCH(NP$7,$T$8:$AK$8,0)),0) -> 0 | NR16: =IFERROR(NQ16*INDEX($T$8:$AK$14,MATCH($AN16,$T$8:$T$14,0),MATCH(NR$7,$T$8:$AK$8,0)),0) -> 0 | NT16: =IFERROR(NS16*INDEX($T$8:$AK$14,MATCH($AN16,$T$8:$T$14,0),MATCH(NT$7,$T$8:$AK$8,0)),0) -> 0 | NV16: =IFERROR(NU16*INDEX($T$8:$AK$14,MATCH($AN16,$T$8:$T$14,0),MATCH(NV$7,$T$8:$AK$8,0)),0) -> 0 | NX16: =IFERROR(NW16*INDEX($T$8:$AK$14,MATCH($AN16,$T$8:$T$14,0),MATCH(NX$7,$T$8:$AK$8,0)),0) -> 0 | NZ16: =IFERROR(NY16*INDEX($T$8:$AK$14,MATCH($AN16,$T$8:$T$14,0),MATCH(NZ$7,$T$8:$AK$8,0)),0) -> 0 | OB16: =IFERROR(OA16*INDEX($T$8:$AK$14,MATCH($AN16,$T$8:$T$14,0),MATCH(OB$7,$T$8:$AK$8,0)),0) -> 0 | OD16: =IFERROR(OC16*INDEX($T$8:$AK$14,MATCH($AN16,$T$8:$T$14,0),MATCH(OD$7,$T$8:$AK$8,0)),0) -> 0 | OF16: =IFERROR(OE16*INDEX($T$8:$AK$14,MATCH($AN16,$T$8:$T$14,0),MATCH(OF$7,$T$8:$AK$8,0)),0) -> 0 | OH16: =IFERROR(OG16*INDEX($T$8:$AK$14,MATCH($AN16,$T$8:$T$14,0),MATCH(OH$7,$T$8:$AK$8,0)),0) -> 0 | OJ16: =IFERROR(OI16*INDEX($T$8:$AK$14,MATCH($AN16,$T$8:$T$14,0),MATCH(OJ$7,$T$8:$AK$8,0)),0) -> 0 | OL16: =IFERROR(OK16*INDEX($T$8:$AK$14,MATCH($AN16,$T$8:$T$14,0),MATCH(OL$7,$T$8:$AK$8,0)),0) -> 0 | ON16: =IFERROR(OM16*INDEX($T$8:$AK$14,MATCH($AN16,$T$8:$T$14,0),MATCH(ON$7,$T$8:$AK$8,0)),0) -> 0 | OP16: =IFERROR(OO16*INDEX($T$8:$AK$14,MATCH($AN16,$T$8:$T$14,0),MATCH(OP$7,$T$8:$AK$8,0)),0) -> 0 | OR16: =IFERROR(OQ16*INDEX($T$8:$AK$14,MATCH($AN16,$T$8:$T$14,0),MATCH(OR$7,$T$8:$AK$8,0)),0) -> 0 | OT16: =IFERROR(OS16*INDEX($T$8:$AK$14,MATCH($AN16,$T$8:$T$14,0),MATCH(OT$7,$T$8:$AK$8,0)),0) -> 0 | OV16: =IFERROR(OU16*INDEX($T$8:$AK$14,MATCH($AN16,$T$8:$T$14,0),MATCH(OV$7,$T$8:$AK$8,0)),0) -> 0 | OX16: =IFERROR(OW16*INDEX($T$8:$AK$14,MATCH($AN16,$T$8:$T$14,0),MATCH(OX$7,$T$8:$AK$8,0)),0) -> 0 | OZ16: =IFERROR(OY16*INDEX($T$8:$AK$14,MATCH($AN16,$T$8:$T$14,0),MATCH(OZ$7,$T$8:$AK$8,0)),0) -> 0 | PB16: =IFERROR(PA16*INDEX($T$8:$AK$14,MATCH($AN16,$T$8:$T$14,0),MATCH(PB$7,$T$8:$AK$8,0)),0) -> 0 | PD16: =IFERROR(PC16*INDEX($T$8:$AK$14,MATCH($AN16,$T$8:$T$14,0),MATCH(PD$7,$T$8:$AK$8,0)),0) -> 0 | PF16: =IFERROR(PE16*INDEX($T$8:$AK$14,MATCH($AN16,$T$8:$T$14,0),MATCH(PF$7,$T$8:$AK$8,0)),0) -> 0 | PH16: =IFERROR(PG16*INDEX($T$8:$AK$14,MATCH($AN16,$T$8:$T$14,0),MATCH(PH$7,$T$8:$AK$8,0)),0) -> 0 | PJ16: =IFERROR(PI16*INDEX($T$8:$AK$14,MATCH($AN16,$T$8:$T$14,0),MATCH(PJ$7,$T$8:$AK$8,0)),0) -> 0 | PL16: =IFERROR(PK16*INDEX($T$8:$AK$14,MATCH($AN16,$T$8:$T$14,0),MATCH(PL$7,$T$8:$AK$8,0)),0) -> 0 | PN16: =IFERROR(PM16*INDEX($T$8:$AK$14,MATCH($AN16,$T$8:$T$14,0),MATCH(PN$7,$T$8:$AK$8,0)),0) -> 0 | PP16: =IFERROR(PO16*INDEX($T$8:$AK$14,MATCH($AN16,$T$8:$T$14,0),MATCH(PP$7,$T$8:$AK$8,0)),0) -> 0 | PR16: =IFERROR(PQ16*INDEX($T$8:$AK$14,MATCH($AN16,$T$8:$T$14,0),MATCH(PR$7,$T$8:$AK$8,0)),0) -> 0 | PT16: =IFERROR(PS16*INDEX($T$8:$AK$14,MATCH($AN16,$T$8:$T$14,0),MATCH(PT$7,$T$8:$AK$8,0)),0) -> 0 | PV16: =IFERROR(PU16*INDEX($T$8:$AK$14,MATCH($AN16,$T$8:$T$14,0),MATCH(PV$7,$T$8:$AK$8,0)),0) -> 0 | PX16: =IFERROR(PW16*INDEX($T$8:$AK$14,MATCH($AN16,$T$8:$T$14,0),MATCH(PX$7,$T$8:$AK$8,0)),0) -> 0 | PZ16: =IFERROR(PY16*INDEX($T$8:$AK$14,MATCH($AN16,$T$8:$T$14,0),MATCH(PZ$7,$T$8:$AK$8,0)),0) -> 0 | QB16: =IFERROR(QA16*INDEX($T$8:$AK$14,MATCH($AN16,$T$8:$T$14,0),MATCH(QB$7,$T$8:$AK$8,0)),0) -> 0 | QD16: =IFERROR(QC16*INDEX($T$8:$AK$14,MATCH($AN16,$T$8:$T$14,0),MATCH(QD$7,$T$8:$AK$8,0)),0) -> 0 | QF16: =IFERROR(QE16*INDEX($T$8:$AK$14,MATCH($AN16,$T$8:$T$14,0),MATCH(QF$7,$T$8:$AK$8,0)),0) -> 0
