Workbook
Name Listeannees: [1]!Tableau1[ANNÉES]
Name Listeannes: [1]!Tableau1[ANNÉES]
Name Listeannes: [1]!Tableau1[ANNÉES]

Sheet COUTMECA
D2: COÛT DE LA MÉCANISTION PAR BATIMENT | T2: COÛT DU MATERIEL MENSUEL | AM2: QUANTITÉ MATERIEL MENSUELLE
G4: Mois | H4: Année | AM4: Année : | AN4: 2025
F5: Date de référence : | G5: 1 | H5: 2025
D7: BATIMENT | E7: CATÉGORIE | F7: =EOMONTH(DATE(H5,G5,1),0) -> 45688 | G7: =EOMONTH(F7,1) -> 45716 | H7: =EOMONTH(F7,2) -> 45747 | I7: =EOMONTH(F7,3) -> 45777 | J7: =EOMONTH(F7,4) -> 45808 | K7: =EOMONTH($F$7,5) -> 45838 | L7: =EOMONTH($F$7,6) -> 45869 | M7: =EOMONTH($F$7,7) -> 45900 | N7: =EOMONTH($F$7,8) -> 45930 | O7: =EOMONTH($F$7,9) -> 45961 | P7: =EOMONTH($F$7,10) -> 45991 | Q7: =EOMONTH($F$7,11) -> 46022 | AP7: =YEAR(AP8) -> 2024 | AR7: =YEAR(AR8) -> 2024 | AT7: =YEAR(AT8) -> 2024 | AV7: =YEAR(AV8) -> 2024 | AX7: =YEAR(AX8) -> 2024 | AZ7: =YEAR(AZ8) -> 2024 | BB7: =YEAR(BB8) -> 2024 | BD7: =YEAR(BD8) -> 2024 | BF7: =YEAR(BF8) -> 2024 | BH7: =YEAR(BH8) -> 2024 | BJ7: =YEAR(BJ8) -> 2024 | BL7: =YEAR(BL8) -> 2024 | BN7: =YEAR(BN8) -> 2025 | BP7: =YEAR(BP8) -> 2025 | BR7: =YEAR(BR8) -> 2025 | BT7: =YEAR(BT8) -> 2025 | BV7: =YEAR(BV8) -> 2025 | BX7: =YEAR(BX8) -> 2025 | BZ7: =YEAR(BZ8) -> 2025 | CB7: =YEAR(CB8) -> 2025 | CD7: =YEAR(CD8) -> 2025 | CF7: =YEAR(CF8) -> 2025 | CH7: =YEAR(CH8) -> 2025 | CJ7: =YEAR(CJ8) -> 2025 | CL7: =YEAR(CL8) -> 2026 | CN7: =YEAR(CN8) -> 2026 | CP7: =YEAR(CP8) -> 2026 | CR7: =YEAR(CR8) -> 2026 | CT7: =YEAR(CT8) -> 2026 | CV7: =YEAR(CV8) -> 2026 | CX7: =YEAR(CX8) -> 2026 | CZ7: =YEAR(CZ8) -> 2026 | DB7: =YEAR(DB8) -> 2026 | DD7: =YEAR(DD8) -> 2026 | DF7: =YEAR(DF8) -> 2026 | DH7: =YEAR(DH8) -> 2026 | DJ7: =YEAR(DJ8) -> 2027 | DL7: =YEAR(DL8) -> 2027 | DN7: =YEAR(DN8) -> 2027 | DP7: =YEAR(DP8) -> 2027 | DR7: =YEAR(DR8) -> 2027 | DT7: =YEAR(DT8) -> 2027 | DV7: =YEAR(DV8) -> 2027 | DX7: =YEAR(DX8) -> 2027 | DZ7: =YEAR(DZ8) -> 2027 | EB7: =YEAR(EB8) -> 2027 | ED7: =YEAR(ED8) -> 2027 | EF7: =YEAR(EF8) -> 2027 | EH7: =YEAR(EH8) -> 2028 | EJ7: =YEAR(EJ8) -> 2028 | EL7: =YEAR(EL8) -> 2028 | EN7: =YEAR(EN8) -> 2028 | EP7: =YEAR(EP8) -> 2028 | ER7: =YEAR(ER8) -> 2028 | ET7: =YEAR(ET8) -> 2028 | EV7: =YEAR(EV8) -> 2028 | EX7: =YEAR(EX8) -> 2028 | EZ7: =YEAR(EZ8) -> 2028 | FB7: =YEAR(FB8) -> 2028 | FD7: =YEAR(FD8) -> 2028 | FF7: =YEAR(FF8) -> 2029 | FH7: =YEAR(FH8) -> 2029 | FJ7: =YEAR(FJ8) -> 2029 | FL7: =YEAR(FL8) -> 2029 | FN7: =YEAR(FN8) -> 2029 | FP7: =YEAR(FP8) -> 2029 | FR7: =YEAR(FR8) -> 2029 | FT7: =YEAR(FT8) -> 2029 | FV7: =YEAR(FV8) -> 2029 | FX7: =YEAR(FX8) -> 2029 | FZ7: =YEAR(FZ8) -> 2029 | GB7: =YEAR(GB8) -> 2029 | GD7: =YEAR(GD8) -> 2030 | GF7: =YEAR(GF8) -> 2030 | GH7: =YEAR(GH8) -> 2030 | GJ7: =YEAR(GJ8) -> 2030 | GL7: =YEAR(GL8) -> 2030 | GN7: =YEAR(GN8) -> 2030 | GP7: =YEAR(GP8) -> 2030 | GR7: =YEAR(GR8) -> 2030 | GT7: =YEAR(GT8) -> 2030 | GV7: =YEAR(GV8) -> 2030 | GX7: =YEAR(GX8) -> 2030 | GZ7: =YEAR(GZ8) -> 2030 | HB7: =YEAR(HB8) -> 2031 | HD7: =YEAR(HD8) -> 2031 | HF7: =YEAR(HF8) -> 2031 | HH7: =YEAR(HH8) -> 2031 | HJ7: =YEAR(HJ8) -> 2031 | HL7: =YEAR(HL8) -> 2031 | HN7: =YEAR(HN8) -> 2031 | HP7: =YEAR(HP8) -> 2031 | HR7: =YEAR(HR8) -> 2031 | HT7: =YEAR(HT8) -> 2031 | HV7: =YEAR(HV8) -> 2031 | HX7: =YEAR(HX8) -> 2031 | HZ7: =YEAR(HZ8) -> 2032 | IB7: =YEAR(IB8) -> 2032 | ID7: =YEAR(ID8) -> 2032 | IF7: =YEAR(IF8) -> 2032 | IH7: =YEAR(IH8) -> 2032 | IJ7: =YEAR(IJ8) -> 2032 | IL7: =YEAR(IL8) -> 2032 | IN7: =YEAR(IN8) -> 2032 | IP7: =YEAR(IP8) -> 2032 | IR7: =YEAR(IR8) -> 2032 | IT7: =YEAR(IT8) -> 2032 | IV7: =YEAR(IV8) -> 2032 | IX7: =YEAR(IX8) -> 2033 | IZ7: =YEAR(IZ8) -> 2033 | JB7: =YEAR(JB8) -> 2033 | JD7: =YEAR(JD8) -> 2033 | JF7: =YEAR(JF8) -> 2033 | JH7: =YEAR(JH8) -> 2033 | JJ7: =YEAR(JJ8) -> 2033 | JL7: =YEAR(JL8) -> 2033 | JN7: =YEAR(JN8) -> 2033 | JP7: =YEAR(JP8) -> 2033 | JR7: =YEAR(JR8) -> 2033 | JT7: =YEAR(JT8) -> 2033 | JV7: =YEAR(JV8) -> 2034 | JX7: =YEAR(JX8) -> 2034 | JZ7: =YEAR(JZ8) -> 2034 | KB7: =YEAR(KB8) -> 2034 | KD7: =YEAR(KD8) -> 2034 | KF7: =YEAR(KF8) -> 2034 | KH7: =YEAR(KH8) -> 2034 | KJ7: =YEAR(KJ8) -> 2034 | KL7: =YEAR(KL8) -> 2034 | KN7: =YEAR(KN8) -> 2034 | KP7: =YEAR(KP8) -> 2034 | KR7: =YEAR(KR8) -> 2034 | KT7: =YEAR(KT8) -> 2035 | KV7: =YEAR(KV8) -> 2035 | KX7: =YEAR(KX8) -> 2035 | KZ7: =YEAR(KZ8) -> 2035 | LB7: =YEAR(LB8) -> 2035 | LD7: =YEAR(LD8) -> 2035 | LF7: =YEAR(LF8) -> 2035 | LH7: =YEAR(LH8) -> 2035 | LJ7: =YEAR(LJ8) -> 2035 | LL7: =YEAR(LL8) -> 2035 | LN7: =YEAR(LN8) -> 2035 | LP7: =YEAR(LP8) -> 2035 | LR7: =YEAR(LR8) -> 2036 | LT7: =YEAR(LT8) -> 2036 | LV7: =YEAR(LV8) -> 2036 | LX7: =YEAR(LX8) -> 2036 | LZ7: =YEAR(LZ8) -> 2036 | MB7: =YEAR(MB8) -> 2036 | MD7: =YEAR(MD8) -> 2036 | MF7: =YEAR(MF8) -> 2036 | MH7: =YEAR(MH8) -> 2036 | MJ7: =YEAR(MJ8) -> 2036 | ML7: =YEAR(ML8) -> 2036 | MN7: =YEAR(MN8) -> 2036 | MP7: =YEAR(MP8) -> 2037 | MR7: =YEAR(MR8) -> 2037 | MT7: =YEAR(MT8) -> 2037 | MV7: =YEAR(MV8) -> 2037 | MX7: =YEAR(MX8) -> 2037 | MZ7: =YEAR(MZ8) -> 2037 | NB7: =YEAR(NB8) -> 2037 | ND7: =YEAR(ND8) -> 2037 | NF7: =YEAR(NF8) -> 2037 | NH7: =YEAR(NH8) -> 2037 | NJ7: =YEAR(NJ8) -> 2037 | NL7: =YEAR(NL8) -> 2037 | NN7: =YEAR(NN8) -> 2038 | NP7: =YEAR(NP8) -> 2038 | NR7: =YEAR(NR8) -> 2038 | NT7: =YEAR(NT8) -> 2038 | NV7: =YEAR(NV8) -> 2038 | NX7: =YEAR(NX8) -> 2038 | NZ7: =YEAR(NZ8) -> 2038 | OB7: =YEAR(OB8) -> 2038 | OD7: =YEAR(OD8) -> 2038 | OF7: =YEAR(OF8) -> 2038 | OH7: =YEAR(OH8) -> 2038 | OJ7: =YEAR(OJ8) -> 2038 | OL7: =YEAR(OL8) -> 2039 | ON7: =YEAR(ON8) -> 2039 | OP7: =YEAR(OP8) -> 2039 | OR7: =YEAR(OR8) -> 2039 | OT7: =YEAR(OT8) -> 2039 | OV7: =YEAR(OV8) -> 2039 | OX7: =YEAR(OX8) -> 2039 | OZ7: =YEAR(OZ8) -> 2039 | PB7: =YEAR(PB8) -> 2039 | PD7: =YEAR(PD8) -> 2039 | PF7: =YEAR(PF8) -> 2039 | PH7: =YEAR(PH8) -> 2039 | PJ7: =YEAR(PJ8) -> 2040 | PL7: =YEAR(PL8) -> 2040 | PN7: =YEAR(PN8) -> 2040 | PP7: =YEAR(PP8) -> 2040 | PR7: =YEAR(PR8) -> 2040 | PT7: =YEAR(PT8) -> 2040 | PV7: =YEAR(PV8) -> 2040 | PX7: =YEAR(PX8) -> 2040 | PZ7: =YEAR(PZ8) -> 2040 | QB7: =YEAR(QB8) -> 2040 | QD7: =YEAR(QD8) -> 2040 | QF7: =YEAR(QF8) -> 2040
F8: =YEAR(F7) -> 2025 | G8: =YEAR(G7) -> 2025 | H8: =YEAR(H7) -> 2025 | I8: =YEAR(I7) -> 2025 | J8: =YEAR(J7) -> 2025 | K8: =YEAR(K7) -> 2025 | L8: =YEAR(L7) -> 2025 | M8: =YEAR(M7) -> 2025 | ... Q8: =YEAR(Q7) -> 2025 | U8: 2024 | V8: =U8+1 -> 2025 | W8: =V8+1 -> 2026 | X8: =W8+1 -> 2027 | Y8: =X8+1 -> 2028 | Z8: =Y8+1 -> 2029 | AA8: =Z8+1 -> 2030 | AB8: =AA8+1 -> 2031 | AC8: =AB8+1 -> 2032 | ... AK8: =AJ8+1 -> 2040 | AM8: BÂTIMENT | AN8: MATERIEL | AP8: =EOMONTH(DATE(2024,1,1),0) -> 45322 | AR8: =EDATE(AP8,1) -> 45351 | AT8: =EDATE(AR8,1) -> 45380 | AV8: =EDATE(AT8,1) -> 45411 | AX8: =EDATE(AV8,1) -> 45441 | AZ8: =EDATE(AX8,1) -> 45472 | BB8: =EDATE(AZ8,1) -> 45502 | BD8: =EDATE(BB8,1) -> 45533 | BF8: =EDATE(BD8,1) -> 45564 | BH8: =EDATE(BF8,1) -> 45594 | BJ8: =EDATE(BH8,1) -> 45625 | BL8: =EDATE(BJ8,1) -> 45655 | BN8: =EDATE(BL8,1) -> 45686 | BP8: =EDATE(BN8,1) -> 45716 | BR8: =EDATE(BP8,1) -> 45744 | BT8: =EDATE(BR8,1) -> 45775 | BV8: =EDATE(BT8,1) -> 45805 | BX8: =EDATE(BV8,1) -> 45836 | BZ8: =EDATE(BX8,1) -> 45866 | CB8: =EDATE(BZ8,1) -> 45897 | CD8: =EDATE(CB8,1) -> 45928 | CF8: =EDATE(CD8,1) -> 45958 | CH8: =EDATE(CF8,1) -> 45989 | CJ8: =EDATE(CH8,1) -> 46019 | CL8: =EDATE(CJ8,1) -> 46050 | CN8: =EDATE(CL8,1) -> 46081 | CP8: =EDATE(CN8,1) -> 46109 | CR8: =EDATE(CP8,1) -> 46140 | CT8: =EDATE(CR8,1) -> 46170 | CV8: =EDATE(CT8,1) -> 46201 | CX8: =EDATE(CV8,1) -> 46231 | CZ8: =EDATE(CX8,1) -> 46262 | DB8: =EDATE(CZ8,1) -> 46293 | DD8: =EDATE(DB8,1) -> 46323 | DF8: =EDATE(DD8,1) -> 46354 | DH8: =EDATE(DF8,1) -> 46384 | DJ8: =EDATE(DH8,1) -> 46415 | DL8: =EDATE(DJ8,1) -> 46446 | DN8: =EDATE(DL8,1) -> 46474 | DP8: =EDATE(DN8,1) -> 46505 | DR8: =EDATE(DP8,1) -> 46535 | DT8: =EDATE(DR8,1) -> 46566 | DV8: =EDATE(DT8,1) -> 46596 | DX8: =EDATE(DV8,1) -> 46627 | DZ8: =EDATE(DX8,1) -> 46658 | EB8: =EDATE(DZ8,1) -> 46688 | ED8: =EDATE(EB8,1) -> 46719 | EF8: =EDATE(ED8,1) -> 46749 | EH8: =EDATE(EF8,1) -> 46780 | EJ8: =EDATE(EH8,1) -> 46811 | EL8: =EDATE(EJ8,1) -> 46840 | EN8: =EDATE(EL8,1) -> 46871 | EP8: =EDATE(EN8,1) -> 46901 | ER8: =EDATE(EP8,1) -> 46932 | ET8: =EDATE(ER8,1) -> 46962 | EV8: =EDATE(ET8,1) -> 46993 | EX8: =EDATE(EV8,1) -> 47024 | EZ8: =EDATE(EX8,1) -> 47054 | FB8: =EDATE(EZ8,1) -> 47085 | FD8: =EDATE(FB8,1) -> 47115 | FF8: =EDATE(FD8,1) -> 47146 | FH8: =EDATE(FF8,1) -> 47177 | FJ8: =EDATE(FH8,1) -> 47205 | FL8: =EDATE(FJ8,1) -> 47236 | FN8: =EDATE(FL8,1) -> 47266 | FP8: =EDATE(FN8,1) -> 47297 | FR8: =EDATE(FP8,1) -> 47327 | FT8: =EDATE(FR8,1) -> 47358 | FV8: =EDATE(FT8,1) -> 47389 | FX8: =EDATE(FV8,1) -> 47419 | FZ8: =EDATE(FX8,1) -> 47450 | GB8: =EDATE(FZ8,1) -> 47480 | GD8: =EDATE(GB8,1) -> 47511 | GF8: =EDATE(GD8,1) -> 47542 | GH8: =EDATE(GF8,1) -> 47570 | GJ8: =EDATE(GH8,1) -> 47601 | GL8: =EDATE(GJ8,1) -> 47631 | GN8: =EDATE(GL8,1) -> 47662 | GP8: =EDATE(GN8,1) -> 47692 | GR8: =EDATE(GP8,1) -> 47723 | GT8: =EDATE(GR8,1) -> 47754 | GV8: =EDATE(GT8,1) -> 47784 | GX8: =EDATE(GV8,1) -> 47815 | GZ8: =EDATE(GX8,1) -> 47845 | HB8: =EDATE(GZ8,1) -> 47876 | HD8: =EDATE(HB8,1) -> 47907 | HF8: =EDATE(HD8,1) -> 47935 | HH8: =EDATE(HF8,1) -> 47966 | HJ8: =EDATE(HH8,1) -> 47996 | HL8: =EDATE(HJ8,1) -> 48027 | HN8: =EDATE(HL8,1) -> 48057 | HP8: =EDATE(HN8,1) -> 48088 | HR8: =EDATE(HP8,1) -> 48119 | HT8: =EDATE(HR8,1) -> 48149 | HV8: =EDATE(HT8,1) -> 48180 | HX8: =EDATE(HV8,1) -> 48210 | HZ8: =EDATE(HX8,1) -> 48241 | IB8: =EDATE(HZ8,1) -> 48272 | ID8: =EDATE(IB8,1) -> 48301 | IF8: =EDATE(ID8,1) -> 48332 | IH8: =EDATE(IF8,1) -> 48362 | IJ8: =EDATE(IH8,1) -> 48393 | IL8: =EDATE(IJ8,1) -> 48423 | IN8: =EDATE(IL8,1) -> 48454 | IP8: =EDATE(IN8,1) -> 48485 | IR8: =EDATE(IP8,1) -> 48515 | IT8: =EDATE(IR8,1) -> 48546 | IV8: =EDATE(IT8,1) -> 48576 | IX8: =EDATE(IV8,1) -> 48607 | IZ8: =EDATE(IX8,1) -> 48638 | JB8: =EDATE(IZ8,1) -> 48666 | JD8: =EDATE(JB8,1) -> 48697 | JF8: =EDATE(JD8,1) -> 48727 | JH8: =EDATE(JF8,1) -> 48758 | JJ8: =EDATE(JH8,1) -> 48788 | JL8: =EDATE(JJ8,1) -> 48819 | JN8: =EDATE(JL8,1) -> 48850 | JP8: =EDATE(JN8,1) -> 48880 | JR8: =EDATE(JP8,1) -> 48911 | JT8: =EDATE(JR8,1) -> 48941 | JV8: =EDATE(JT8,1) -> 48972 | JX8: =EDATE(JV8,1) -> 49003 | JZ8: =EDATE(JX8,1) -> 49031 | KB8: =EDATE(JZ8,1) -> 49062 | KD8: =EDATE(KB8,1) -> 49092 | KF8: =EDATE(KD8,1) -> 49123 | KH8: =EDATE(KF8,1) -> 49153 | KJ8: =EDATE(KH8,1) -> 49184 | KL8: =EDATE(KJ8,1) -> 49215 | KN8: =EDATE(KL8,1) -> 49245 | KP8: =EDATE(KN8,1) -> 49276 | KR8: =EDATE(KP8,1) -> 49306 | KT8: =EDATE(KR8,1) -> 49337 | KV8: =EDATE(KT8,1) -> 49368 | KX8: =EDATE(KV8,1) -> 49396 | KZ8: =EDATE(KX8,1) -> 49427 | LB8: =EDATE(KZ8,1) -> 49457 | LD8: =EDATE(LB8,1) -> 49488 | LF8: =EDATE(LD8,1) -> 49518 | LH8: =EDATE(LF8,1) -> 49549 | LJ8: =EDATE(LH8,1) -> 49580 | LL8: =EDATE(LJ8,1) -> 49610 | LN8: =EDATE(LL8,1) -> 49641 | LP8: =EDATE(LN8,1) -> 49671 | LR8: =EDATE(LP8,1) -> 49702 | LT8: =EDATE(LR8,1) -> 49733 | LV8: =EDATE(LT8,1) -> 49762 | LX8: =EDATE(LV8,1) -> 49793 | LZ8: =EDATE(LX8,1) -> 49823 | MB8: =EDATE(LZ8,1) -> 49854 | MD8: =EDATE(MB8,1) -> 49884 | MF8: =EDATE(MD8,1) -> 49915 | MH8: =EDATE(MF8,1) -> 49946 | MJ8: =EDATE(MH8,1) -> 49976 | ML8: =EDATE(MJ8,1) -> 50007 | MN8: =EDATE(ML8,1) -> 50037 | MP8: =EDATE(MN8,1) -> 50068 | MR8: =EDATE(MP8,1) -> 50099 | MT8: =EDATE(MR8,1) -> 50127 | MV8: =EDATE(MT8,1) -> 50158 | MX8: =EDATE(MV8,1) -> 50188 | MZ8: =EDATE(MX8,1) -> 50219 | NB8: =EDATE(MZ8,1) -> 50249 | ND8: =EDATE(NB8,1) -> 50280 | NF8: =EDATE(ND8,1) -> 50311 | NH8: =EDATE(NF8,1) -> 50341 | NJ8: =EDATE(NH8,1) -> 50372 | NL8: =EDATE(NJ8,1) -> 50402 | NN8: =EDATE(NL8,1) -> 50433 | NP8: =EDATE(NN8,1) -> 50464 | NR8: =EDATE(NP8,1) -> 50492 | NT8: =EDATE(NR8,1) -> 50523 | NV8: =EDATE(NT8,1) -> 50553 | NX8: =EDATE(NV8,1) -> 50584 | NZ8: =EDATE(NX8,1) -> 50614 | OB8: =EDATE(NZ8,1) -> 50645 | OD8: =EDATE(OB8,1) -> 50676 | OF8: =EDATE(OD8,1) -> 50706 | OH8: =EDATE(OF8,1) -> 50737 | OJ8: =EDATE(OH8,1) -> 50767 | OL8: =EDATE(OJ8,1) -> 50798 | ON8: =EDATE(OL8,1) -> 50829 | OP8: =EDATE(ON8,1) -> 50857 | OR8: =EDATE(OP8,1) -> 50888 | OT8: =EDATE(OR8,1) -> 50918 | OV8: =EDATE(OT8,1) -> 50949 | OX8: =EDATE(OV8,1) -> 50979 | OZ8: =EDATE(OX8,1) -> 51010 | PB8: =EDATE(OZ8,1) -> 51041 | PD8: =EDATE(PB8,1) -> 51071 | PF8: =EDATE(PD8,1) -> 51102 | PH8: =EDATE(PF8,1) -> 51132 | PJ8: =EDATE(PH8,1) -> 51163 | PL8: =EDATE(PJ8,1) -> 51194 | PN8: =EDATE(PL8,1) -> 51223 | PP8: =EDATE(PN8,1) -> 51254 | PR8: =EDATE(PP8,1) -> 51284 | PT8: =EDATE(PR8,1) -> 51315 | PV8: =EDATE(PT8,1) -> 51345 | PX8: =EDATE(PV8,1) -> 51376 | PZ8: =EDATE(PX8,1) -> 51407 | QB8: =EDATE(PZ8,1) -> 51437 | QD8: =EDATE(QB8,1) -> 51468 | QF8: =EDATE(QD8,1) -> 51498
D9: {=IF([1]Paramètres!R3:R20=0,"",[1]Paramètres!R3:R20)} -> BAT A | E9: Mécanisation | F9: {=SUMPRODUCT(($AO$8:$QF$98=F$7)*($AM$8:$AM$98=$D9)*($AO$8:$QF$98))} -> 0 | G9: {=SUMPRODUCT(($AO$8:$QF$8=G$7)*($AM$9:$AM$98=$D9)*($AO$9:$QF$98))} -> 7314.24 | H9: {=SUMPRODUCT(($AO$8:$QF$8=H$7)*($AM$9:$AM$98=$D9)*($AO$9:$QF$98))} -> 0 | I9: {=SUMPRODUCT(($AO$8:$QF$8=I$7)*($AM$9:$AM$98=$D9)*($AO$9:$QF$98))} -> 0 | J9: {=SUMPRODUCT(($AO$8:$QF$8=J$7)*($AM$9:$AM$98=$D9)*($AO$9:$QF$98))} -> 0 | K9: {=SUMPRODUCT(($AO$8:$QF$8=K$7)*($AM$9:$AM$98=$D9)*($AO$9:$QF$98))} -> 0 | L9: {=SUMPRODUCT(($AO$8:$QF$8=L$7)*($AM$9:$AM$98=$D9)*($AO$9:$QF$98))} -> 0 | M9: {=SUMPRODUCT(($AO$8:$QF$8=M$7)*($AM$9:$AM$98=$D9)*($AO$9:$QF$98))} -> 0 | N9: {=SUMPRODUCT(($AO$8:$QF$8=N$7)*($AM$9:$AM$98=$D9)*($AO$9:$QF$98))} -> 0 | ... Q9: {=SUMPRODUCT(($AO$8:$QF$8=Q$7)*($AM$9:$AM$98=$D9)*($AO$9:$QF$98))} -> 0 | T9: Mât retractable | V9: 358.55 | AM9: =[1]Paramètres!R3 -> BAT A | AN9: =T9 -> Mât retractable | AP9: =IFERROR(AO9*INDEX($T$8:$AK$14,MATCH($AN9,$T$8:$T$14,0),MATCH(AP$7,$T$8:$AK$8,0)),0) -> 0 | AR9: =IFERROR(AQ9*INDEX($T$8:$AK$14,MATCH($AN9,$T$8:$T$14,0),MATCH(AR$7,$T$8:$AK$8,0)),0) -> 0 | AT9: =IFERROR(AS9*INDEX($T$8:$AK$14,MATCH($AN9,$T$8:$T$14,0),MATCH(AT$7,$T$8:$AK$8,0)),0) -> 0 | AV9: =IFERROR(AU9*INDEX($T$8:$AK$14,MATCH($AN9,$T$8:$T$14,0),MATCH(AV$7,$T$8:$AK$8,0)),0) -> 0 | AX9: =IFERROR(AW9*INDEX($T$8:$AK$14,MATCH($AN9,$T$8:$T$14,0),MATCH(AX$7,$T$8:$AK$8,0)),0) -> 0 | AZ9: =IFERROR(AY9*INDEX($T$8:$AK$14,MATCH($AN9,$T$8:$T$14,0),MATCH(AZ$7,$T$8:$AK$8,0)),0) -> 0 | BB9: =IFERROR(BA9*INDEX($T$8:$AK$14,MATCH($AN9,$T$8:$T$14,0),MATCH(BB$7,$T$8:$AK$8,0)),0) -> 0 | BD9: =IFERROR(BC9*INDEX($T$8:$AK$14,MATCH($AN9,$T$8:$T$14,0),MATCH(BD$7,$T$8:$AK$8,0)),0) -> 0 | BF9: =IFERROR(BE9*INDEX($T$8:$AK$14,MATCH($AN9,$T$8:$T$14,0),MATCH(BF$7,$T$8:$AK$8,0)),0) -> 0 | BH9: =IFERROR(BG9*INDEX($T$8:$AK$14,MATCH($AN9,$T$8:$T$14,0),MATCH(BH$7,$T$8:$AK$8,0)),0) -> 0 | BJ9: =IFERROR(BI9*INDEX($T$8:$AK$14,MATCH($AN9,$T$8:$T$14,0),MATCH(BJ$7,$T$8:$AK$8,0)),0) -> 0 | BL9: =IFERROR(BK9*INDEX($T$8:$AK$14,MATCH($AN9,$T$8:$T$14,0),MATCH(BL$7,$T$8:$AK$8,0)),0) -> 0 | BM9: 16 | BN9: =IFERROR(BM9*INDEX($T$8:$AK$14,MATCH($AN9,$T$8:$T$14,0),MATCH(BN$7,$T$8:$AK$8,0)),0) -> 5736.8 | BO9: 16 | BP9: =IFERROR(BO9*INDEX($T$8:$AK$14,MATCH($AN9,$T$8:$T$14,0),MATCH(BP$7,$T$8:$AK$8,0)),0) -> 5736.8 | BQ9: 16 | BR9: =IFERROR(BQ9*INDEX($T$8:$AK$14,MATCH($AN9,$T$8:$T$14,0),MATCH(BR$7,$T$8:$AK$8,0)),0) -> 5736.8 | BS9: 16 | BT9: =IFERROR(BS9*INDEX($T$8:$AK$14,MATCH($AN9,$T$8:$T$14,0),MATCH(BT$7,$T$8:$AK$8,0)),0) -> 5736.8 | BU9: 16 | BV9: =IFERROR(BU9*INDEX($T$8:$AK$14,MATCH($AN9,$T$8:$T$14,0),MATCH(BV$7,$T$8:$AK$8,0)),0) -> 5736.8 | BW9: 16 | BX9: =IFERROR(BW9*INDEX($T$8:$AK$14,MATCH($AN9,$T$8:$T$14,0),MATCH(BX$7,$T$8:$AK$8,0)),0) -> 5736.8 | BY9: 16 | BZ9: =IFERROR(BY9*INDEX($T$8:$AK$14,MATCH($AN9,$T$8:$T$14,0),MATCH(BZ$7,$T$8:$AK$8,0)),0) -> 5736.8 | CA9: 16 | CB9: =IFERROR(CA9*INDEX($T$8:$AK$14,MATCH($AN9,$T$8:$T$14,0),MATCH(CB$7,$T$8:$AK$8,0)),0) -> 5736.8 | CC9: 16 | CD9: =IFERROR(CC9*INDEX($T$8:$AK$14,MATCH($AN9,$T$8:$T$14,0),MATCH(CD$7,$T$8:$AK$8,0)),0) -> 5736.8 | CE9: 16 | CF9: =IFERROR(CE9*INDEX($T$8:$AK$14,MATCH($AN9,$T$8:$T$14,0),MATCH(CF$7,$T$8:$AK$8,0)),0) -> 5736.8 | CG9: 16 | CH9: =IFERROR(CG9*INDEX($T$8:$AK$14,MATCH($AN9,$T$8:$T$14,0),MATCH(CH$7,$T$8:$AK$8,0)),0) -> 5736.8 | CI9: 16 | CJ9: =IFERROR(CI9*INDEX($T$8:$AK$14,MATCH($AN9,$T$8:$T$14,0),MATCH(CJ$7,$T$8:$AK$8,0)),0) -> 5736.8 | CL9: =IFERROR(CK9*INDEX($T$8:$AK$14,MATCH($AN9,$T$8:$T$14,0),MATCH(CL$7,$T$8:$AK$8,0)),0) -> 0 | CN9: =IFERROR(CM9*INDEX($T$8:$AK$14,MATCH($AN9,$T$8:$T$14,0),MATCH(CN$7,$T$8:$AK$8,0)),0) -> 0 | CP9: =IFERROR(CO9*INDEX($T$8:$AK$14,MATCH($AN9,$T$8:$T$14,0),MATCH(CP$7,$T$8:$AK$8,0)),0) -> 0 | CR9: =IFERROR(CQ9*INDEX($T$8:$AK$14,MATCH($AN9,$T$8:$T$14,0),MATCH(CR$7,$T$8:$AK$8,0)),0) -> 0 | CT9: =IFERROR(CS9*INDEX($T$8:$AK$14,MATCH($AN9,$T$8:$T$14,0),MATCH(CT$7,$T$8:$AK$8,0)),0) -> 0 | CV9: =IFERROR(CU9*INDEX($T$8:$AK$14,MATCH($AN9,$T$8:$T$14,0),MATCH(CV$7,$T$8:$AK$8,0)),0) -> 0 | CX9: =IFERROR(CW9*INDEX($T$8:$AK$14,MATCH($AN9,$T$8:$T$14,0),MATCH(CX$7,$T$8:$AK$8,0)),0) -> 0 | CZ9: =IFERROR(CY9*INDEX($T$8:$AK$14,MATCH($AN9,$T$8:$T$14,0),MATCH(CZ$7,$T$8:$AK$8,0)),0) -> 0 | DB9: =IFERROR(DA9*INDEX($T$8:$AK$14,MATCH($AN9,$T$8:$T$14,0),MATCH(DB$7,$T$8:$AK$8,0)),0) -> 0 | DD9: =IFERROR(DC9*INDEX($T$8:$AK$14,MATCH($AN9,$T$8:$T$14,0),MATCH(DD$7,$T$8:$AK$8,0)),0) -> 0 | DF9: =IFERROR(DE9*INDEX($T$8:$AK$14,MATCH($AN9,$T$8:$T$14,0),MATCH(DF$7,$T$8:$AK$8,0)),0) -> 0 | DH9: =IFERROR(DG9*INDEX($T$8:$AK$14,MATCH($AN9,$T$8:$T$14,0),MATCH(DH$7,$T$8:$AK$8,0)),0) -> 0 | DJ9: =IFERROR(DI9*INDEX($T$8:$AK$14,MATCH($AN9,$T$8:$T$14,0),MATCH(DJ$7,$T$8:$AK$8,0)),0) -> 0 | DL9: =IFERROR(DK9*INDEX($T$8:$AK$14,MATCH($AN9,$T$8:$T$14,0),MATCH(DL$7,$T$8:$AK$8,0)),0) -> 0 | DN9: =IFERROR(DM9*INDEX($T$8:$AK$14,MATCH($AN9,$T$8:$T$14,0),MATCH(DN$7,$T$8:$AK$8,0)),0) -> 0 | DP9: =IFERROR(DO9*INDEX($T$8:$AK$14,MATCH($AN9,$T$8:$T$14,0),MATCH(DP$7,$T$8:$AK$8,0)),0) -> 0 | DR9: =IFERROR(DQ9*INDEX($T$8:$AK$14,MATCH($AN9,$T$8:$T$14,0),MATCH(DR$7,$T$8:$AK$8,0)),0) -> 0 | DT9: =IFERROR(DS9*INDEX($T$8:$AK$14,MATCH($AN9,$T$8:$T$14,0),MATCH(DT$7,$T$8:$AK$8,0)),0) -> 0 | DV9: =IFERROR(DU9*INDEX($T$8:$AK$14,MATCH($AN9,$T$8:$T$14,0),MATCH(DV$7,$T$8:$AK$8,0)),0) -> 0 | DX9: =IFERROR(DW9*INDEX($T$8:$AK$14,MATCH($AN9,$T$8:$T$14,0),MATCH(DX$7,$T$8:$AK$8,0)),0) -> 0 | DZ9: =IFERROR(DY9*INDEX($T$8:$AK$14,MATCH($AN9,$T$8:$T$14,0),MATCH(DZ$7,$T$8:$AK$8,0)),0) -> 0 | EB9: =IFERROR(EA9*INDEX($T$8:$AK$14,MATCH($AN9,$T$8:$T$14,0),MATCH(EB$7,$T$8:$AK$8,0)),0) -> 0 | ED9: =IFERROR(EC9*INDEX($T$8:$AK$14,MATCH($AN9,$T$8:$T$14,0),MATCH(ED$7,$T$8:$AK$8,0)),0) -> 0 | EF9: =IFERROR(EE9*INDEX($T$8:$AK$14,MATCH($AN9,$T$8:$T$14,0),MATCH(EF$7,$T$8:$AK$8,0)),0) -> 0 | EH9: =IFERROR(EG9*INDEX($T$8:$AK$14,MATCH($AN9,$T$8:$T$14,0),MATCH(EH$7,$T$8:$AK$8,0)),0) -> 0 | EJ9: =IFERROR(EI9*INDEX($T$8:$AK$14,MATCH($AN9,$T$8:$T$14,0),MATCH(EJ$7,$T$8:$AK$8,0)),0) -> 0 | EL9: =IFERROR(EK9*INDEX($T$8:$AK$14,MATCH($AN9,$T$8:$T$14,0),MATCH(EL$7,$T$8:$AK$8,0)),0) -> 0 | EN9: =IFERROR(EM9*INDEX($T$8:$AK$14,MATCH($AN9,$T$8:$T$14,0),MATCH(EN$7,$T$8:$AK$8,0)),0) -> 0 | EP9: =IFERROR(EO9*INDEX($T$8:$AK$14,MATCH($AN9,$T$8:$T$14,0),MATCH(EP$7,$T$8:$AK$8,0)),0) -> 0 | ER9: =IFERROR(EQ9*INDEX($T$8:$AK$14,MATCH($AN9,$T$8:$T$14,0),MATCH(ER$7,$T$8:$AK$8,0)),0) -> 0 | ET9: =IFERROR(ES9*INDEX($T$8:$AK$14,MATCH($AN9,$T$8:$T$14,0),MATCH(ET$7,$T$8:$AK$8,0)),0) -> 0 | EV9: =IFERROR(EU9*INDEX($T$8:$AK$14,MATCH($AN9,$T$8:$T$14,0),MATCH(EV$7,$T$8:$AK$8,0)),0) -> 0 | EX9: =IFERROR(EW9*INDEX($T$8:$AK$14,MATCH($AN9,$T$8:$T$14,0),MATCH(EX$7,$T$8:$AK$8,0)),0) -> 0 | EZ9: =IFERROR(EY9*INDEX($T$8:$AK$14,MATCH($AN9,$T$8:$T$14,0),MATCH(EZ$7,$T$8:$AK$8,0)),0) -> 0 | FB9: =IFERROR(FA9*INDEX($T$8:$AK$14,MATCH($AN9,$T$8:$T$14,0),MATCH(FB$7,$T$8:$AK$8,0)),0) -> 0 | FD9: =IFERROR(FC9*INDEX($T$8:$AK$14,MATCH($AN9,$T$8:$T$14,0),MATCH(FD$7,$T$8:$AK$8,0)),0) -> 0 | FF9: =IFERROR(FE9*INDEX($T$8:$AK$14,MATCH($AN9,$T$8:$T$14,0),MATCH(FF$7,$T$8:$AK$8,0)),0) -> 0 | FH9: =IFERROR(FG9*INDEX($T$8:$AK$14,MATCH($AN9,$T$8:$T$14,0),MATCH(FH$7,$T$8:$AK$8,0)),0) -> 0 | FJ9: =IFERROR(FI9*INDEX($T$8:$AK$14,MATCH($AN9,$T$8:$T$14,0),MATCH(FJ$7,$T$8:$AK$8,0)),0) -> 0 | FL9: =IFERROR(FK9*INDEX($T$8:$AK$14,MATCH($AN9,$T$8:$T$14,0),MATCH(FL$7,$T$8:$AK$8,0)),0) -> 0 | FN9: =IFERROR(FM9*INDEX($T$8:$AK$14,MATCH($AN9,$T$8:$T$14,0),MATCH(FN$7,$T$8:$AK$8,0)),0) -> 0 | FP9: =IFERROR(FO9*INDEX($T$8:$AK$14,MATCH($AN9,$T$8:$T$14,0),MATCH(FP$7,$T$8:$AK$8,0)),0) -> 0 | FR9: =IFERROR(FQ9*INDEX($T$8:$AK$14,MATCH($AN9,$T$8:$T$14,0),MATCH(FR$7,$T$8:$AK$8,0)),0) -> 0 | FT9: =IFERROR(FS9*INDEX($T$8:$AK$14,MATCH($AN9,$T$8:$T$14,0),MATCH(FT$7,$T$8:$AK$8,0)),0) -> 0 | FV9: =IFERROR(FU9*INDEX($T$8:$AK$14,MATCH($AN9,$T$8:$T$14,0),MATCH(FV$7,$T$8:$AK$8,0)),0) -> 0 | FX9: =IFERROR(FW9*INDEX($T$8:$AK$14,MATCH($AN9,$T$8:$T$14,0),MATCH(FX$7,$T$8:$AK$8,0)),0) -> 0 | FZ9: =IFERROR(FY9*INDEX($T$8:$AK$14,MATCH($AN9,$T$8:$T$14,0),MATCH(FZ$7,$T$8:$AK$8,0)),0) -> 0 | GB9: =IFERROR(GA9*INDEX($T$8:$AK$14,MATCH($AN9,$T$8:$T$14,0),MATCH(GB$7,$T$8:$AK$8,0)),0) -> 0 | GD9: =IFERROR(GC9*INDEX($T$8:$AK$14,MATCH($AN9,$T$8:$T$14,0),MATCH(GD$7,$T$8:$AK$8,0)),0) -> 0 | GF9: =IFERROR(GE9*INDEX($T$8:$AK$14,MATCH($AN9,$T$8:$T$14,0),MATCH(GF$7,$T$8:$AK$8,0)),0) -> 0 | GH9: =IFERROR(GG9*INDEX($T$8:$AK$14,MATCH($AN9,$T$8:$T$14,0),MATCH(GH$7,$T$8:$AK$8,0)),0) -> 0 | GJ9: =IFERROR(GI9*INDEX($T$8:$AK$14,MATCH($AN9,$T$8:$T$14,0),MATCH(GJ$7,$T$8:$AK$8,0)),0) -> 0 | GL9: =IFERROR(GK9*INDEX($T$8:$AK$14,MATCH($AN9,$T$8:$T$14,0),MATCH(GL$7,$T$8:$AK$8,0)),0) -> 0 | GN9: =IFERROR(GM9*INDEX($T$8:$AK$14,MATCH($AN9,$T$8:$T$14,0),MATCH(GN$7,$T$8:$AK$8,0)),0) -> 0 | GP9: =IFERROR(GO9*INDEX($T$8:$AK$14,MATCH($AN9,$T$8:$T$14,0),MATCH(GP$7,$T$8:$AK$8,0)),0) -> 0 | GR9: =IFERROR(GQ9*INDEX($T$8:$AK$14,MATCH($AN9,$T$8:$T$14,0),MATCH(GR$7,$T$8:$AK$8,0)),0) -> 0 | GT9: =IFERROR(GS9*INDEX($T$8:$AK$14,MATCH($AN9,$T$8:$T$14,0),MATCH(GT$7,$T$8:$AK$8,0)),0) -> 0 | GV9: =IFERROR(GU9*INDEX($T$8:$AK$14,MATCH($AN9,$T$8:$T$14,0),MATCH(GV$7,$T$8:$AK$8,0)),0) -> 0 | GX9: =IFERROR(GW9*INDEX($T$8:$AK$14,MATCH($AN9,$T$8:$T$14,0),MATCH(GX$7,$T$8:$AK$8,0)),0) -> 0 | GZ9: =IFERROR(GY9*INDEX($T$8:$AK$14,MATCH($AN9,$T$8:$T$14,0),MATCH(GZ$7,$T$8:$AK$8,0)),0) -> 0 | HB9: =IFERROR(HA9*INDEX($T$8:$AK$14,MATCH($AN9,$T$8:$T$14,0),MATCH(HB$7,$T$8:$AK$8,0)),0) -> 0 | HD9: =IFERROR(HC9*INDEX($T$8:$AK$14,MATCH($AN9,$T$8:$T$14,0),MATCH(HD$7,$T$8:$AK$8,0)),0) -> 0 | HF9: =IFERROR(HE9*INDEX($T$8:$AK$14,MATCH($AN9,$T$8:$T$14,0),MATCH(HF$7,$T$8:$AK$8,0)),0) -> 0 | HH9: =IFERROR(HG9*INDEX($T$8:$AK$14,MATCH($AN9,$T$8:$T$14,0),MATCH(HH$7,$T$8:$AK$8,0)),0) -> 0 | HJ9: =IFERROR(HI9*INDEX($T$8:$AK$14,MATCH($AN9,$T$8:$T$14,0),MATCH(HJ$7,$T$8:$AK$8,0)),0) -> 0 | HL9: =IFERROR(HK9*INDEX($T$8:$AK$14,MATCH($AN9,$T$8:$T$14,0),MATCH(HL$7,$T$8:$AK$8,0)),0) -> 0 | HN9: =IFERROR(HM9*INDEX($T$8:$AK$14,MATCH($AN9,$T$8:$T$14,0),MATCH(HN$7,$T$8:$AK$8,0)),0) -> 0 | HP9: =IFERROR(HO9*INDEX($T$8:$AK$14,MATCH($AN9,$T$8:$T$14,0),MATCH(HP$7,$T$8:$AK$8,0)),0) -> 0 | HR9: =IFERROR(HQ9*INDEX($T$8:$AK$14,MATCH($AN9,$T$8:$T$14,0),MATCH(HR$7,$T$8:$AK$8,0)),0) -> 0 | HT9: =IFERROR(HS9*INDEX($T$8:$AK$14,MATCH($AN9,$T$8:$T$14,0),MATCH(HT$7,$T$8:$AK$8,0)),0) -> 0 | HV9: =IFERROR(HU9*INDEX($T$8:$AK$14,MATCH($AN9,$T$8:$T$14,0),MATCH(HV$7,$T$8:$AK$8,0)),0) -> 0 | HX9: =IFERROR(HW9*INDEX($T$8:$AK$14,MATCH($AN9,$T$8:$T$14,0),MATCH(HX$7,$T$8:$AK$8,0)),0) -> 0 | HZ9: =IFERROR(HY9*INDEX($T$8:$AK$14,MATCH($AN9,$T$8:$T$14,0),MATCH(HZ$7,$T$8:$AK$8,0)),0) -> 0 | IB9: =IFERROR(IA9*INDEX($T$8:$AK$14,MATCH($AN9,$T$8:$T$14,0),MATCH(IB$7,$T$8:$AK$8,0)),0) -> 0 | ID9: =IFERROR(IC9*INDEX($T$8:$AK$14,MATCH($AN9,$T$8:$T$14,0),MATCH(ID$7,$T$8:$AK$8,0)),0) -> 0 | IF9: =IFERROR(IE9*INDEX($T$8:$AK$14,MATCH($AN9,$T$8:$T$14,0),MATCH(IF$7,$T$8:$AK$8,0)),0) -> 0 | IH9: =IFERROR(IG9*INDEX($T$8:$AK$14,MATCH($AN9,$T$8:$T$14,0),MATCH(IH$7,$T$8:$AK$8,0)),0) -> 0 | IJ9: =IFERROR(II9*INDEX($T$8:$AK$14,MATCH($AN9,$T$8:$T$14,0),MATCH(IJ$7,$T$8:$AK$8,0)),0) -> 0 | IL9: =IFERROR(IK9*INDEX($T$8:$AK$14,MATCH($AN9,$T$8:$T$14,0),MATCH(IL$7,$T$8:$AK$8,0)),0) -> 0 | IN9: =IFERROR(IM9*INDEX($T$8:$AK$14,MATCH($AN9,$T$8:$T$14,0),MATCH(IN$7,$T$8:$AK$8,0)),0) -> 0 | IP9: =IFERROR(IO9*INDEX($T$8:$AK$14,MATCH($AN9,$T$8:$T$14,0),MATCH(IP$7,$T$8:$AK$8,0)),0) -> 0 | IR9: =IFERROR(IQ9*INDEX($T$8:$AK$14,MATCH($AN9,$T$8:$T$14,0),MATCH(IR$7,$T$8:$AK$8,0)),0) -> 0 | IT9: =IFERROR(IS9*INDEX($T$8:$AK$14,MATCH($AN9,$T$8:$T$14,0),MATCH(IT$7,$T$8:$AK$8,0)),0) -> 0 | IV9: =IFERROR(IU9*INDEX($T$8:$AK$14,MATCH($AN9,$T$8:$T$14,0),MATCH(IV$7,$T$8:$AK$8,0)),0) -> 0 | IX9: =IFERROR(IW9*INDEX($T$8:$AK$14,MATCH($AN9,$T$8:$T$14,0),MATCH(IX$7,$T$8:$AK$8,0)),0) -> 0 | IZ9: =IFERROR(IY9*INDEX($T$8:$AK$14,MATCH($AN9,$T$8:$T$14,0),MATCH(IZ$7,$T$8:$AK$8,0)),0) -> 0 | JB9: =IFERROR(JA9*INDEX($T$8:$AK$14,MATCH($AN9,$T$8:$T$14,0),MATCH(JB$7,$T$8:$AK$8,0)),0) -> 0 | JD9: =IFERROR(JC9*INDEX($T$8:$AK$14,MATCH($AN9,$T$8:$T$14,0),MATCH(JD$7,$T$8:$AK$8,0)),0) -> 0 | JF9: =IFERROR(JE9*INDEX($T$8:$AK$14,MATCH($AN9,$T$8:$T$14,0),MATCH(JF$7,$T$8:$AK$8,0)),0) -> 0 | JH9: =IFERROR(JG9*INDEX($T$8:$AK$14,MATCH($AN9,$T$8:$T$14,0),MATCH(JH$7,$T$8:$AK$8,0)),0) -> 0 | JJ9: =IFERROR(JI9*INDEX($T$8:$AK$14,MATCH($AN9,$T$8:$T$14,0),MATCH(JJ$7,$T$8:$AK$8,0)),0) -> 0 | JL9: =IFERROR(JK9*INDEX($T$8:$AK$14,MATCH($AN9,$T$8:$T$14,0),MATCH(JL$7,$T$8:$AK$8,0)),0) -> 0 | JN9: =IFERROR(JM9*INDEX($T$8:$AK$14,MATCH($AN9,$T$8:$T$14,0),MATCH(JN$7,$T$8:$AK$8,0)),0) -> 0 | JP9: =IFERROR(JO9*INDEX($T$8:$AK$14,MATCH($AN9,$T$8:$T$14,0),MATCH(JP$7,$T$8:$AK$8,0)),0) -> 0 | JR9: =IFERROR(JQ9*INDEX($T$8:$AK$14,MATCH($AN9,$T$8:$T$14,0),MATCH(JR$7,$T$8:$AK$8,0)),0) -> 0 | JT9: =IFERROR(JS9*INDEX($T$8:$AK$14,MATCH($AN9,$T$8:$T$14,0),MATCH(JT$7,$T$8:$AK$8,0)),0) -> 0 | JV9: =IFERROR(JU9*INDEX($T$8:$AK$14,MATCH($AN9,$T$8:$T$14,0),MATCH(JV$7,$T$8:$AK$8,0)),0) -> 0 | JX9: =IFERROR(JW9*INDEX($T$8:$AK$14,MATCH($AN9,$T$8:$T$14,0),MATCH(JX$7,$T$8:$AK$8,0)),0) -> 0 | JZ9: =IFERROR(JY9*INDEX($T$8:$AK$14,MATCH($AN9,$T$8:$T$14,0),MATCH(JZ$7,$T$8:$AK$8,0)),0) -> 0 | KB9: =IFERROR(KA9*INDEX($T$8:$AK$14,MATCH($AN9,$T$8:$T$14,0),MATCH(KB$7,$T$8:$AK$8,0)),0) -> 0 | KD9: =IFERROR(KC9*INDEX($T$8:$AK$14,MATCH($AN9,$T$8:$T$14,0),MATCH(KD$7,$T$8:$AK$8,0)),0) -> 0 | KF9: =IFERROR(KE9*INDEX($T$8:$AK$14,MATCH($AN9,$T$8:$T$14,0),MATCH(KF$7,$T$8:$AK$8,0)),0) -> 0 | KH9: =IFERROR(KG9*INDEX($T$8:$AK$14,MATCH($AN9,$T$8:$T$14,0),MATCH(KH$7,$T$8:$AK$8,0)),0) -> 0 | KJ9: =IFERROR(KI9*INDEX($T$8:$AK$14,MATCH($AN9,$T$8:$T$14,0),MATCH(KJ$7,$T$8:$AK$8,0)),0) -> 0 | KL9: =IFERROR(KK9*INDEX($T$8:$AK$14,MATCH($AN9,$T$8:$T$14,0),MATCH(KL$7,$T$8:$AK$8,0)),0) -> 0 | KN9: =IFERROR(KM9*INDEX($T$8:$AK$14,MATCH($AN9,$T$8:$T$14,0),MATCH(KN$7,$T$8:$AK$8,0)),0) -> 0 | KP9: =IFERROR(KO9*INDEX($T$8:$AK$14,MATCH($AN9,$T$8:$T$14,0),MATCH(KP$7,$T$8:$AK$8,0)),0) -> 0 | KR9: =IFERROR(KQ9*INDEX($T$8:$AK$14,MATCH($AN9,$T$8:$T$14,0),MATCH(KR$7,$T$8:$AK$8,0)),0) -> 0 | KT9: =IFERROR(KS9*INDEX($T$8:$AK$14,MATCH($AN9,$T$8:$T$14,0),MATCH(KT$7,$T$8:$AK$8,0)),0) -> 0 | KV9: =IFERROR(KU9*INDEX($T$8:$AK$14,MATCH($AN9,$T$8:$T$14,0),MATCH(KV$7,$T$8:$AK$8,0)),0) -> 0 | KX9: =IFERROR(KW9*INDEX($T$8:$AK$14,MATCH($AN9,$T$8:$T$14,0),MATCH(KX$7,$T$8:$AK$8,0)),0) -> 0 | KZ9: =IFERROR(KY9*INDEX($T$8:$AK$14,MATCH($AN9,$T$8:$T$14,0),MATCH(KZ$7,$T$8:$AK$8,0)),0) -> 0 | LB9: =IFERROR(LA9*INDEX($T$8:$AK$14,MATCH($AN9,$T$8:$T$14,0),MATCH(LB$7,$T$8:$AK$8,0)),0) -> 0 | LD9: =IFERROR(LC9*INDEX($T$8:$AK$14,MATCH($AN9,$T$8:$T$14,0),MATCH(LD$7,$T$8:$AK$8,0)),0) -> 0 | LF9: =IFERROR(LE9*INDEX($T$8:$AK$14,MATCH($AN9,$T$8:$T$14,0),MATCH(LF$7,$T$8:$AK$8,0)),0) -> 0 | LH9: =IFERROR(LG9*INDEX($T$8:$AK$14,MATCH($AN9,$T$8:$T$14,0),MATCH(LH$7,$T$8:$AK$8,0)),0) -> 0 | LJ9: =IFERROR(LI9*INDEX($T$8:$AK$14,MATCH($AN9,$T$8:$T$14,0),MATCH(LJ$7,$T$8:$AK$8,0)),0) -> 0 | LL9: =IFERROR(LK9*INDEX($T$8:$AK$14,MATCH($AN9,$T$8:$T$14,0),MATCH(LL$7,$T$8:$AK$8,0)),0) -> 0 | LN9: =IFERROR(LM9*INDEX($T$8:$AK$14,MATCH($AN9,$T$8:$T$14,0),MATCH(LN$7,$T$8:$AK$8,0)),0) -> 0 | LP9: =IFERROR(LO9*INDEX($T$8:$AK$14,MATCH($AN9,$T$8:$T$14,0),MATCH(LP$7,$T$8:$AK$8,0)),0) -> 0 | LR9: =IFERROR(LQ9*INDEX($T$8:$AK$14,MATCH($AN9,$T$8:$T$14,0),MATCH(LR$7,$T$8:$AK$8,0)),0) -> 0 | LT9: =IFERROR(LS9*INDEX($T$8:$AK$14,MATCH($AN9,$T$8:$T$14,0),MATCH(LT$7,$T$8:$AK$8,0)),0) -> 0 | LV9: =IFERROR(LU9*INDEX($T$8:$AK$14,MATCH($AN9,$T$8:$T$14,0),MATCH(LV$7,$T$8:$AK$8,0)),0) -> 0 | LX9: =IFERROR(LW9*INDEX($T$8:$AK$14,MATCH($AN9,$T$8:$T$14,0),MATCH(LX$7,$T$8:$AK$8,0)),0) -> 0 | LZ9: =IFERROR(LY9*INDEX($T$8:$AK$14,MATCH($AN9,$T$8:$T$14,0),MATCH(LZ$7,$T$8:$AK$8,0)),0) -> 0 | MB9: =IFERROR(MA9*INDEX($T$8:$AK$14,MATCH($AN9,$T$8:$T$14,0),MATCH(MB$7,$T$8:$AK$8,0)),0) -> 0 | MD9: =IFERROR(MC9*INDEX($T$8:$AK$14,MATCH($AN9,$T$8:$T$14,0),MATCH(MD$7,$T$8:$AK$8,0)),0) -> 0 | MF9: =IFERROR(ME9*INDEX($T$8:$AK$14,MATCH($AN9,$T$8:$T$14,0),MATCH(MF$7,$T$8:$AK$8,0)),0) -> 0 | MH9: =IFERROR(MG9*INDEX($T$8:$AK$14,MATCH($AN9,$T$8:$T$14,0),MATCH(MH$7,$T$8:$AK$8,0)),0) -> 0 | MJ9: =IFERROR(MI9*INDEX($T$8:$AK$14,MATCH($AN9,$T$8:$T$14,0),MATCH(MJ$7,$T$8:$AK$8,0)),0) -> 0 | ML9: =IFERROR(MK9*INDEX($T$8:$AK$14,MATCH($AN9,$T$8:$T$14,0),MATCH(ML$7,$T$8:$AK$8,0)),0) -> 0 | MN9: =IFERROR(MM9*INDEX($T$8:$AK$14,MATCH($AN9,$T$8:$T$14,0),MATCH(MN$7,$T$8:$AK$8,0)),0) -> 0 | MP9: =IFERROR(MO9*INDEX($T$8:$AK$14,MATCH($AN9,$T$8:$T$14,0),MATCH(MP$7,$T$8:$AK$8,0)),0) -> 0 | MR9: =IFERROR(MQ9*INDEX($T$8:$AK$14,MATCH($AN9,$T$8:$T$14,0),MATCH(MR$7,$T$8:$AK$8,0)),0) -> 0 | MT9: =IFERROR(MS9*INDEX($T$8:$AK$14,MATCH($AN9,$T$8:$T$14,0),MATCH(MT$7,$T$8:$AK$8,0)),0) -> 0 | MV9: =IFERROR(MU9*INDEX($T$8:$AK$14,MATCH($AN9,$T$8:$T$14,0),MATCH(MV$7,$T$8:$AK$8,0)),0) -> 0 | MX9: =IFERROR(MW9*INDEX($T$8:$AK$14,MATCH($AN9,$T$8:$T$14,0),MATCH(MX$7,$T$8:$AK$8,0)),0) -> 0 | MZ9: =IFERROR(MY9*INDEX($T$8:$AK$14,MATCH($AN9,$T$8:$T$14,0),MATCH(MZ$7,$T$8:$AK$8,0)),0) -> 0 | NB9: =IFERROR(NA9*INDEX($T$8:$AK$14,MATCH($AN9,$T$8:$T$14,0),MATCH(NB$7,$T$8:$AK$8,0)),0) -> 0 | ND9: =IFERROR(NC9*INDEX($T$8:$AK$14,MATCH($AN9,$T$8:$T$14,0),MATCH(ND$7,$T$8:$AK$8,0)),0) -> 0 | NF9: =IFERROR(NE9*INDEX($T$8:$AK$14,MATCH($AN9,$T$8:$T$14,0),MATCH(NF$7,$T$8:$AK$8,0)),0) -> 0 | NH9: =IFERROR(NG9*INDEX($T$8:$AK$14,MATCH($AN9,$T$8:$T$14,0),MATCH(NH$7,$T$8:$AK$8,0)),0) -> 0 | NJ9: =IFERROR(NI9*INDEX($T$8:$AK$14,MATCH($AN9,$T$8:$T$14,0),MATCH(NJ$7,$T$8:$AK$8,0)),0) -> 0 | NL9: =IFERROR(NK9*INDEX($T$8:$AK$14,MATCH($AN9,$T$8:$T$14,0),MATCH(NL$7,$T$8:$AK$8,0)),0) -> 0 | NN9: =IFERROR(NM9*INDEX($T$8:$AK$14,MATCH($AN9,$T$8:$T$14,0),MATCH(NN$7,$T$8:$AK$8,0)),0) -> 0 | NP9: =IFERROR(NO9*INDEX($T$8:$AK$14,MATCH($AN9,$T$8:$T$14,0),MATCH(NP$7,$T$8:$AK$8,0)),0) -> 0 | NR9: =IFERROR(NQ9*INDEX($T$8:$AK$14,MATCH($AN9,$T$8:$T$14,0),MATCH(NR$7,$T$8:$AK$8,0)),0) -> 0 | NT9: =IFERROR(NS9*INDEX($T$8:$AK$14,MATCH($AN9,$T$8:$T$14,0),MATCH(NT$7,$T$8:$AK$8,0)),0) -> 0 | NV9: =IFERROR(NU9*INDEX($T$8:$AK$14,MATCH($AN9,$T$8:$T$14,0),MATCH(NV$7,$T$8:$AK$8,0)),0) -> 0 | NX9: =IFERROR(NW9*INDEX($T$8:$AK$14,MATCH($AN9,$T$8:$T$14,0),MATCH(NX$7,$T$8:$AK$8,0)),0) -> 0 | NZ9: =IFERROR(NY9*INDEX($T$8:$AK$14,MATCH($AN9,$T$8:$T$14,0),MATCH(NZ$7,$T$8:$AK$8,0)),0) -> 0 | OB9: =IFERROR(OA9*INDEX($T$8:$AK$14,MATCH($AN9,$T$8:$T$14,0),MATCH(OB$7,$T$8:$AK$8,0)),0) -> 0 | OD9: =IFERROR(OC9*INDEX($T$8:$AK$14,MATCH($AN9,$T$8:$T$14,0),MATCH(OD$7,$T$8:$AK$8,0)),0) -> 0 | OF9: =IFERROR(OE9*INDEX($T$8:$AK$14,MATCH($AN9,$T$8:$T$14,0),MATCH(OF$7,$T$8:$AK$8,0)),0) -> 0 | OH9: =IFERROR(OG9*INDEX($T$8:$AK$14,MATCH($AN9,$T$8:$T$14,0),MATCH(OH$7,$T$8:$AK$8,0)),0) -> 0 | OJ9: =IFERROR(OI9*INDEX($T$8:$AK$14,MATCH($AN9,$T$8:$T$14,0),MATCH(OJ$7,$T$8:$AK$8,0)),0) -> 0 | OL9: =IFERROR(OK9*INDEX($T$8:$AK$14,MATCH($AN9,$T$8:$T$14,0),MATCH(OL$7,$T$8:$AK$8,0)),0) -> 0 | ON9: =IFERROR(OM9*INDEX($T$8:$AK$14,MATCH($AN9,$T$8:$T$14,0),MATCH(ON$7,$T$8:$AK$8,0)),0) -> 0 | OP9: =IFERROR(OO9*INDEX($T$8:$AK$14,MATCH($AN9,$T$8:$T$14,0),MATCH(OP$7,$T$8:$AK$8,0)),0) -> 0 | OR9: =IFERROR(OQ9*INDEX($T$8:$AK$14,MATCH($AN9,$T$8:$T$14,0),MATCH(OR$7,$T$8:$AK$8,0)),0) -> 0 | OT9: =IFERROR(OS9*INDEX($T$8:$AK$14,MATCH($AN9,$T$8:$T$14,0),MATCH(OT$7,$T$8:$AK$8,0)),0) -> 0 | OV9: =IFERROR(OU9*INDEX($T$8:$AK$14,MATCH($AN9,$T$8:$T$14,0),MATCH(OV$7,$T$8:$AK$8,0)),0) -> 0 | OX9: =IFERROR(OW9*INDEX($T$8:$AK$14,MATCH($AN9,$T$8:$T$14,0),MATCH(OX$7,$T$8:$AK$8,0)),0) -> 0 | OZ9: =IFERROR(OY9*INDEX($T$8:$AK$14,MATCH($AN9,$T$8:$T$14,0),MATCH(OZ$7,$T$8:$AK$8,0)),0) -> 0 | PB9: =IFERROR(PA9*INDEX($T$8:$AK$14,MATCH($AN9,$T$8:$T$14,0),MATCH(PB$7,$T$8:$AK$8,0)),0) -> 0 | PD9: =IFERROR(PC9*INDEX($T$8:$AK$14,MATCH($AN9,$T$8:$T$14,0),MATCH(PD$7,$T$8:$AK$8,0)),0) -> 0 | PF9: =IFERROR(PE9*INDEX($T$8:$AK$14,MATCH($AN9,$T$8:$T$14,0),MATCH(PF$7,$T$8:$AK$8,0)),0) -> 0 | PH9: =IFERROR(PG9*INDEX($T$8:$AK$14,MATCH($AN9,$T$8:$T$14,0),MATCH(PH$7,$T$8:$AK$8,0)),0) -> 0 | PJ9: =IFERROR(PI9*INDEX($T$8:$AK$14,MATCH($AN9,$T$8:$T$14,0),MATCH(PJ$7,$T$8:$AK$8,0)),0) -> 0 | PL9: =IFERROR(PK9*INDEX($T$8:$AK$14,MATCH($AN9,$T$8:$T$14,0),MATCH(PL$7,$T$8:$AK$8,0)),0) -> 0 | PN9: =IFERROR(PM9*INDEX($T$8:$AK$14,MATCH($AN9,$T$8:$T$14,0),MATCH(PN$7,$T$8:$AK$8,0)),0) -> 0 | PP9: =IFERROR(PO9*INDEX($T$8:$AK$14,MATCH($AN9,$T$8:$T$14,0),MATCH(PP$7,$T$8:$AK$8,0)),0) -> 0 | PR9: =IFERROR(PQ9*INDEX($T$8:$AK$14,MATCH($AN9,$T$8:$T$14,0),MATCH(PR$7,$T$8:$AK$8,0)),0) -> 0 | PT9: =IFERROR(PS9*INDEX($T$8:$AK$14,MATCH($AN9,$T$8:$T$14,0),MATCH(PT$7,$T$8:$AK$8,0)),0) -> 0 | PV9: =IFERROR(PU9*INDEX($T$8:$AK$14,MATCH($AN9,$T$8:$T$14,0),MATCH(PV$7,$T$8:$AK$8,0)),0) -> 0 | PX9: =IFERROR(PW9*INDEX($T$8:$AK$14,MATCH($AN9,$T$8:$T$14,0),MATCH(PX$7,$T$8:$AK$8,0)),0) -> 0 | PZ9: =IFERROR(PY9*INDEX($T$8:$AK$14,MATCH($AN9,$T$8:$T$14,0),MATCH(PZ$7,$T$8:$AK$8,0)),0) -> 0 | QB9: =IFERROR(QA9*INDEX($T$8:$AK$14,MATCH($AN9,$T$8:$T$14,0),MATCH(QB$7,$T$8:$AK$8,0)),0) -> 0 | QD9: =IFERROR(QC9*INDEX($T$8:$AK$14,MATCH($AN9,$T$8:$T$14,0),MATCH(QD$7,$T$8:$AK$8,0)),0) -> 0 | QF9: =IFERROR(QE9*INDEX($T$8:$AK$14,MATCH($AN9,$T$8:$T$14,0),MATCH(QF$7,$T$8:$AK$8,0)),0) -> 0
D10: BAT B | E10: Mécanisation | F10: {=SUMPRODUCT(($AO$8:$QF$98=F$7)*($AM$8:$AM$98=$D10)*($AO$8:$QF$98))} -> 0 | G10: {=SUMPRODUCT(($AO$8:$QF$8=G$7)*($AM$9:$AM$98=$D10)*($AO$9:$QF$98))} -> 5893.44 | H10: {=SUMPRODUCT(($AO$8:$QF$8=H$7)*($AM$9:$AM$98=$D10)*($AO$9:$QF$98))} -> 0 | I10: {=SUMPRODUCT(($AO$8:$QF$8=I$7)*($AM$9:$AM$98=$D10)*($AO$9:$QF$98))} -> 0 | J10: {=SUMPRODUCT(($AO$8:$QF$8=J$7)*($AM$9:$AM$98=$D10)*($AO$9:$QF$98))} -> 0 | K10: {=SUMPRODUCT(($AO$8:$QF$8=K$7)*($AM$9:$AM$98=$D10)*($AO$9:$QF$98))} -> 0 | L10: {=SUMPRODUCT(($AO$8:$QF$8=L$7)*($AM$9:$AM$98=$D10)*($AO$9:$QF$98))} -> 0 | M10: {=SUMPRODUCT(($AO$8:$QF$8=M$7)*($AM$9:$AM$98=$D10)*($AO$9:$QF$98))} -> 0 | N10: {=SUMPRODUCT(($AO$8:$QF$8=N$7)*($AM$9:$AM$98=$D10)*($AO$9:$QF$98))} -> 0 | ... Q10: {=SUMPRODUCT(($AO$8:$QF$8=Q$7)*($AM$9:$AM$98=$D10)*($AO$9:$QF$98))} -> 0 | T10: Chariots | V10: 188.17 | AM10: =AM9 -> BAT A | AN10: =T10 -> Chariots | AP10: =IFERROR(AO10*INDEX($T$8:$AK$14,MATCH($AN10,$T$8:$T$14,0),MATCH(AP$7,$T$8:$AK$8,0)),0) -> 0 | AR10: =IFERROR(AQ10*INDEX($T$8:$AK$14,MATCH($AN10,$T$8:$T$14,0),MATCH(AR$7,$T$8:$AK$8,0)),0) -> 0 | AT10: =IFERROR(AS10*INDEX($T$8:$AK$14,MATCH($AN10,$T$8:$T$14,0),MATCH(AT$7,$T$8:$AK$8,0)),0) -> 0 | AV10: =IFERROR(AU10*INDEX($T$8:$AK$14,MATCH($AN10,$T$8:$T$14,0),MATCH(AV$7,$T$8:$AK$8,0)),0) -> 0 | AX10: =IFERROR(AW10*INDEX($T$8:$AK$14,MATCH($AN10,$T$8:$T$14,0),MATCH(AX$7,$T$8:$AK$8,0)),0) -> 0 | AZ10: =IFERROR(AY10*INDEX($T$8:$AK$14,MATCH($AN10,$T$8:$T$14,0),MATCH(AZ$7,$T$8:$AK$8,0)),0) -> 0 | BB10: =IFERROR(BA10*INDEX($T$8:$AK$14,MATCH($AN10,$T$8:$T$14,0),MATCH(BB$7,$T$8:$AK$8,0)),0) -> 0 | BD10: =IFERROR(BC10*INDEX($T$8:$AK$14,MATCH($AN10,$T$8:$T$14,0),MATCH(BD$7,$T$8:$AK$8,0)),0) -> 0 | BF10: =IFERROR(BE10*INDEX($T$8:$AK$14,MATCH($AN10,$T$8:$T$14,0),MATCH(BF$7,$T$8:$AK$8,0)),0) -> 0 | BH10: =IFERROR(BG10*INDEX($T$8:$AK$14,MATCH($AN10,$T$8:$T$14,0),MATCH(BH$7,$T$8:$AK$8,0)),0) -> 0 | BJ10: =IFERROR(BI10*INDEX($T$8:$AK$14,MATCH($AN10,$T$8:$T$14,0),MATCH(BJ$7,$T$8:$AK$8,0)),0) -> 0 | BL10: =IFERROR(BK10*INDEX($T$8:$AK$14,MATCH($AN10,$T$8:$T$14,0),MATCH(BL$7,$T$8:$AK$8,0)),0) -> 0 | BM10: 7 | BN10: =IFERROR(BM10*INDEX($T$8:$AK$14,MATCH($AN10,$T$8:$T$14,0),MATCH(BN$7,$T$8:$AK$8,0)),0) -> 1317.19 | BO10: 7 | BP10: =IFERROR(BO10*INDEX($T$8:$AK$14,MATCH($AN10,$T$8:$T$14,0),MATCH(BP$7,$T$8:$AK$8,0)),0) -> 1317.19 | BQ10: 7 | BR10: =IFERROR(BQ10*INDEX($T$8:$AK$14,MATCH($AN10,$T$8:$T$14,0),MATCH(BR$7,$T$8:$AK$8,0)),0) -> 1317.19 | BS10: 7 | BT10: =IFERROR(BS10*INDEX($T$8:$AK$14,MATCH($AN10,$T$8:$T$14,0),MATCH(BT$7,$T$8:$AK$8,0)),0) -> 1317.19 | BU10: 7 | BV10: =IFERROR(BU10*INDEX($T$8:$AK$14,MATCH($AN10,$T$8:$T$14,0),MATCH(BV$7,$T$8:$AK$8,0)),0) -> 1317.19 | BW10: 7 | BX10: =IFERROR(BW10*INDEX($T$8:$AK$14,MATCH($AN10,$T$8:$T$14,0),MATCH(BX$7,$T$8:$AK$8,0)),0) -> 1317.19 | BY10: 7 | BZ10: =IFERROR(BY10*INDEX($T$8:$AK$14,MATCH($AN10,$T$8:$T$14,0),MATCH(BZ$7,$T$8:$AK$8,0)),0) -> 1317.19 | CA10: 7 | CB10: =IFERROR(CA10*INDEX($T$8:$AK$14,MATCH($AN10,$T$8:$T$14,0),MATCH(CB$7,$T$8:$AK$8,0)),0) -> 1317.19 | CC10: 7 | CD10: =IFERROR(CC10*INDEX($T$8:$AK$14,MATCH($AN10,$T$8:$T$14,0),MATCH(CD$7,$T$8:$AK$8,0)),0) -> 1317.19 | CE10: 7 | CF10: =IFERROR(CE10*INDEX($T$8:$AK$14,MATCH($AN10,$T$8:$T$14,0),MATCH(CF$7,$T$8:$AK$8,0)),0) -> 1317.19 | CG10: 7 | CH10: =IFERROR(CG10*INDEX($T$8:$AK$14,MATCH($AN10,$T$8:$T$14,0),MATCH(CH$7,$T$8:$AK$8,0)),0) -> 1317.19 | CI10: 7 | CJ10: =IFERROR(CI10*INDEX($T$8:$AK$14,MATCH($AN10,$T$8:$T$14,0),MATCH(CJ$7,$T$8:$AK$8,0)),0) -> 1317.19 | CL10: =IFERROR(CK10*INDEX($T$8:$AK$14,MATCH($AN10,$T$8:$T$14,0),MATCH(CL$7,$T$8:$AK$8,0)),0) -> 0 | CN10: =IFERROR(CM10*INDEX($T$8:$AK$14,MATCH($AN10,$T$8:$T$14,0),MATCH(CN$7,$T$8:$AK$8,0)),0) -> 0 | CP10: =IFERROR(CO10*INDEX($T$8:$AK$14,MATCH($AN10,$T$8:$T$14,0),MATCH(CP$7,$T$8:$AK$8,0)),0) -> 0 | CR10: =IFERROR(CQ10*INDEX($T$8:$AK$14,MATCH($AN10,$T$8:$T$14,0),MATCH(CR$7,$T$8:$AK$8,0)),0) -> 0 | CT10: =IFERROR(CS10*INDEX($T$8:$AK$14,MATCH($AN10,$T$8:$T$14,0),MATCH(CT$7,$T$8:$AK$8,0)),0) -> 0 | CV10: =IFERROR(CU10*INDEX($T$8:$AK$14,MATCH($AN10,$T$8:$T$14,0),MATCH(CV$7,$T$8:$AK$8,0)),0) -> 0 | CX10: =IFERROR(CW10*INDEX($T$8:$AK$14,MATCH($AN10,$T$8:$T$14,0),MATCH(CX$7,$T$8:$AK$8,0)),0) -> 0 | CZ10: =IFERROR(CY10*INDEX($T$8:$AK$14,MATCH($AN10,$T$8:$T$14,0),MATCH(CZ$7,$T$8:$AK$8,0)),0) -> 0 | DB10: =IFERROR(DA10*INDEX($T$8:$AK$14,MATCH($AN10,$T$8:$T$14,0),MATCH(DB$7,$T$8:$AK$8,0)),0) -> 0 | DD10: =IFERROR(DC10*INDEX($T$8:$AK$14,MATCH($AN10,$T$8:$T$14,0),MATCH(DD$7,$T$8:$AK$8,0)),0) -> 0 | DF10: =IFERROR(DE10*INDEX($T$8:$AK$14,MATCH($AN10,$T$8:$T$14,0),MATCH(DF$7,$T$8:$AK$8,0)),0) -> 0 | DH10: =IFERROR(DG10*INDEX($T$8:$AK$14,MATCH($AN10,$T$8:$T$14,0),MATCH(DH$7,$T$8:$AK$8,0)),0) -> 0 | DJ10: =IFERROR(DI10*INDEX($T$8:$AK$14,MATCH($AN10,$T$8:$T$14,0),MATCH(DJ$7,$T$8:$AK$8,0)),0) -> 0 | DL10: =IFERROR(DK10*INDEX($T$8:$AK$14,MATCH($AN10,$T$8:$T$14,0),MATCH(DL$7,$T$8:$AK$8,0)),0) -> 0 | DN10: =IFERROR(DM10*INDEX($T$8:$AK$14,MATCH($AN10,$T$8:$T$14,0),MATCH(DN$7,$T$8:$AK$8,0)),0) -> 0 | DP10: =IFERROR(DO10*INDEX($T$8:$AK$14,MATCH($AN10,$T$8:$T$14,0),MATCH(DP$7,$T$8:$AK$8,0)),0) -> 0 | DR10: =IFERROR(DQ10*INDEX($T$8:$AK$14,MATCH($AN10,$T$8:$T$14,0),MATCH(DR$7,$T$8:$AK$8,0)),0) -> 0 | DT10: =IFERROR(DS10*INDEX($T$8:$AK$14,MATCH($AN10,$T$8:$T$14,0),MATCH(DT$7,$T$8:$AK$8,0)),0) -> 0 | DV10: =IFERROR(DU10*INDEX($T$8:$AK$14,MATCH($AN10,$T$8:$T$14,0),MATCH(DV$7,$T$8:$AK$8,0)),0) -> 0 | DX10: =IFERROR(DW10*INDEX($T$8:$AK$14,MATCH($AN10,$T$8:$T$14,0),MATCH(DX$7,$T$8:$AK$8,0)),0) -> 0 | DZ10: =IFERROR(DY10*INDEX($T$8:$AK$14,MATCH($AN10,$T$8:$T$14,0),MATCH(DZ$7,$T$8:$AK$8,0)),0) -> 0 | EB10: =IFERROR(EA10*INDEX($T$8:$AK$14,MATCH($AN10,$T$8:$T$14,0),MATCH(EB$7,$T$8:$AK$8,0)),0) -> 0 | ED10: =IFERROR(EC10*INDEX($T$8:$AK$14,MATCH($AN10,$T$8:$T$14,0),MATCH(ED$7,$T$8:$AK$8,0)),0) -> 0 | EF10: =IFERROR(EE10*INDEX($T$8:$AK$14,MATCH($AN10,$T$8:$T$14,0),MATCH(EF$7,$T$8:$AK$8,0)),0) -> 0 | EH10: =IFERROR(EG10*INDEX($T$8:$AK$14,MATCH($AN10,$T$8:$T$14,0),MATCH(EH$7,$T$8:$AK$8,0)),0) -> 0 | EJ10: =IFERROR(EI10*INDEX($T$8:$AK$14,MATCH($AN10,$T$8:$T$14,0),MATCH(EJ$7,$T$8:$AK$8,0)),0) -> 0 | EL10: =IFERROR(EK10*INDEX($T$8:$AK$14,MATCH($AN10,$T$8:$T$14,0),MATCH(EL$7,$T$8:$AK$8,0)),0) -> 0 | EN10: =IFERROR(EM10*INDEX($T$8:$AK$14,MATCH($AN10,$T$8:$T$14,0),MATCH(EN$7,$T$8:$AK$8,0)),0) -> 0 | EP10: =IFERROR(EO10*INDEX($T$8:$AK$14,MATCH($AN10,$T$8:$T$14,0),MATCH(EP$7,$T$8:$AK$8,0)),0) -> 0 | ER10: =IFERROR(EQ10*INDEX($T$8:$AK$14,MATCH($AN10,$T$8:$T$14,0),MATCH(ER$7,$T$8:$AK$8,0)),0) -> 0 | ET10: =IFERROR(ES10*INDEX($T$8:$AK$14,MATCH($AN10,$T$8:$T$14,0),MATCH(ET$7,$T$8:$AK$8,0)),0) -> 0 | EV10: =IFERROR(EU10*INDEX($T$8:$AK$14,MATCH($AN10,$T$8:$T$14,0),MATCH(EV$7,$T$8:$AK$8,0)),0) -> 0 | EX10: =IFERROR(EW10*INDEX($T$8:$AK$14,MATCH($AN10,$T$8:$T$14,0),MATCH(EX$7,$T$8:$AK$8,0)),0) -> 0 | EZ10: =IFERROR(EY10*INDEX($T$8:$AK$14,MATCH($AN10,$T$8:$T$14,0),MATCH(EZ$7,$T$8:$AK$8,0)),0) -> 0 | FB10: =IFERROR(FA10*INDEX($T$8:$AK$14,MATCH($AN10,$T$8:$T$14,0),MATCH(FB$7,$T$8:$AK$8,0)),0) -> 0 | FD10: =IFERROR(FC10*INDEX($T$8:$AK$14,MATCH($AN10,$T$8:$T$14,0),MATCH(FD$7,$T$8:$AK$8,0)),0) -> 0 | FF10: =IFERROR(FE10*INDEX($T$8:$AK$14,MATCH($AN10,$T$8:$T$14,0),MATCH(FF$7,$T$8:$AK$8,0)),0) -> 0 | FH10: =IFERROR(FG10*INDEX($T$8:$AK$14,MATCH($AN10,$T$8:$T$14,0),MATCH(FH$7,$T$8:$AK$8,0)),0) -> 0 | FJ10: =IFERROR(FI10*INDEX($T$8:$AK$14,MATCH($AN10,$T$8:$T$14,0),MATCH(FJ$7,$T$8:$AK$8,0)),0) -> 0 | FL10: =IFERROR(FK10*INDEX($T$8:$AK$14,MATCH($AN10,$T$8:$T$14,0),MATCH(FL$7,$T$8:$AK$8,0)),0) -> 0 | FN10: =IFERROR(FM10*INDEX($T$8:$AK$14,MATCH($AN10,$T$8:$T$14,0),MATCH(FN$7,$T$8:$AK$8,0)),0) -> 0 | FP10: =IFERROR(FO10*INDEX($T$8:$AK$14,MATCH($AN10,$T$8:$T$14,0),MATCH(FP$7,$T$8:$AK$8,0)),0) -> 0 | FR10: =IFERROR(FQ10*INDEX($T$8:$AK$14,MATCH($AN10,$T$8:$T$14,0),MATCH(FR$7,$T$8:$AK$8,0)),0) -> 0 | FT10: =IFERROR(FS10*INDEX($T$8:$AK$14,MATCH($AN10,$T$8:$T$14,0),MATCH(FT$7,$T$8:$AK$8,0)),0) -> 0 | FV10: =IFERROR(FU10*INDEX($T$8:$AK$14,MATCH($AN10,$T$8:$T$14,0),MATCH(FV$7,$T$8:$AK$8,0)),0) -> 0 | FX10: =IFERROR(FW10*INDEX($T$8:$AK$14,MATCH($AN10,$T$8:$T$14,0),MATCH(FX$7,$T$8:$AK$8,0)),0) -> 0 | FZ10: =IFERROR(FY10*INDEX($T$8:$AK$14,MATCH($AN10,$T$8:$T$14,0),MATCH(FZ$7,$T$8:$AK$8,0)),0) -> 0 | GB10: =IFERROR(GA10*INDEX($T$8:$AK$14,MATCH($AN10,$T$8:$T$14,0),MATCH(GB$7,$T$8:$AK$8,0)),0) -> 0 | GD10: =IFERROR(GC10*INDEX($T$8:$AK$14,MATCH($AN10,$T$8:$T$14,0),MATCH(GD$7,$T$8:$AK$8,0)),0) -> 0 | GF10: =IFERROR(GE10*INDEX($T$8:$AK$14,MATCH($AN10,$T$8:$T$14,0),MATCH(GF$7,$T$8:$AK$8,0)),0) -> 0 | GH10: =IFERROR(GG10*INDEX($T$8:$AK$14,MATCH($AN10,$T$8:$T$14,0),MATCH(GH$7,$T$8:$AK$8,0)),0) -> 0 | GJ10: =IFERROR(GI10*INDEX($T$8:$AK$14,MATCH($AN10,$T$8:$T$14,0),MATCH(GJ$7,$T$8:$AK$8,0)),0) -> 0 | GL10: =IFERROR(GK10*INDEX($T$8:$AK$14,MATCH($AN10,$T$8:$T$14,0),MATCH(GL$7,$T$8:$AK$8,0)),0) -> 0 | GN10: =IFERROR(GM10*INDEX($T$8:$AK$14,MATCH($AN10,$T$8:$T$14,0),MATCH(GN$7,$T$8:$AK$8,0)),0) -> 0 | GP10: =IFERROR(GO10*INDEX($T$8:$AK$14,MATCH($AN10,$T$8:$T$14,0),MATCH(GP$7,$T$8:$AK$8,0)),0) -> 0 | GR10: =IFERROR(GQ10*INDEX($T$8:$AK$14,MATCH($AN10,$T$8:$T$14,0),MATCH(GR$7,$T$8:$AK$8,0)),0) -> 0 | GT10: =IFERROR(GS10*INDEX($T$8:$AK$14,MATCH($AN10,$T$8:$T$14,0),MATCH(GT$7,$T$8:$AK$8,0)),0) -> 0 | GV10: =IFERROR(GU10*INDEX($T$8:$AK$14,MATCH($AN10,$T$8:$T$14,0),MATCH(GV$7,$T$8:$AK$8,0)),0) -> 0 | GX10: =IFERROR(GW10*INDEX($T$8:$AK$14,MATCH($AN10,$T$8:$T$14,0),MATCH(GX$7,$T$8:$AK$8,0)),0) -> 0 | GZ10: =IFERROR(GY10*INDEX($T$8:$AK$14,MATCH($AN10,$T$8:$T$14,0),MATCH(GZ$7,$T$8:$AK$8,0)),0) -> 0 | HB10: =IFERROR(HA10*INDEX($T$8:$AK$14,MATCH($AN10,$T$8:$T$14,0),MATCH(HB$7,$T$8:$AK$8,0)),0) -> 0 | HD10: =IFERROR(HC10*INDEX($T$8:$AK$14,MATCH($AN10,$T$8:$T$14,0),MATCH(HD$7,$T$8:$AK$8,0)),0) -> 0 | HF10: =IFERROR(HE10*INDEX($T$8:$AK$14,MATCH($AN10,$T$8:$T$14,0),MATCH(HF$7,$T$8:$AK$8,0)),0) -> 0 | HH10: =IFERROR(HG10*INDEX($T$8:$AK$14,MATCH($AN10,$T$8:$T$14,0),MATCH(HH$7,$T$8:$AK$8,0)),0) -> 0 | HJ10: =IFERROR(HI10*INDEX($T$8:$AK$14,MATCH($AN10,$T$8:$T$14,0),MATCH(HJ$7,$T$8:$AK$8,0)),0) -> 0 | HL10: =IFERROR(HK10*INDEX($T$8:$AK$14,MATCH($AN10,$T$8:$T$14,0),MATCH(HL$7,$T$8:$AK$8,0)),0) -> 0 | HN10: =IFERROR(HM10*INDEX($T$8:$AK$14,MATCH($AN10,$T$8:$T$14,0),MATCH(HN$7,$T$8:$AK$8,0)),0) -> 0 | HP10: =IFERROR(HO10*INDEX($T$8:$AK$14,MATCH($AN10,$T$8:$T$14,0),MATCH(HP$7,$T$8:$AK$8,0)),0) -> 0 | HR10: =IFERROR(HQ10*INDEX($T$8:$AK$14,MATCH($AN10,$T$8:$T$14,0),MATCH(HR$7,$T$8:$AK$8,0)),0) -> 0 | HT10: =IFERROR(HS10*INDEX($T$8:$AK$14,MATCH($AN10,$T$8:$T$14,0),MATCH(HT$7,$T$8:$AK$8,0)),0) -> 0 | HV10: =IFERROR(HU10*INDEX($T$8:$AK$14,MATCH($AN10,$T$8:$T$14,0),MATCH(HV$7,$T$8:$AK$8,0)),0) -> 0 | HX10: =IFERROR(HW10*INDEX($T$8:$AK$14,MATCH($AN10,$T$8:$T$14,0),MATCH(HX$7,$T$8:$AK$8,0)),0) -> 0 | HZ10: =IFERROR(HY10*INDEX($T$8:$AK$14,MATCH($AN10,$T$8:$T$14,0),MATCH(HZ$7,$T$8:$AK$8,0)),0) -> 0 | IB10: =IFERROR(IA10*INDEX($T$8:$AK$14,MATCH($AN10,$T$8:$T$14,0),MATCH(IB$7,$T$8:$AK$8,0)),0) -> 0 | ID10: =IFERROR(IC10*INDEX($T$8:$AK$14,MATCH($AN10,$T$8:$T$14,0),MATCH(ID$7,$T$8:$AK$8,0)),0) -> 0 | IF10: =IFERROR(IE10*INDEX($T$8:$AK$14,MATCH($AN10,$T$8:$T$14,0),MATCH(IF$7,$T$8:$AK$8,0)),0) -> 0 | IH10: =IFERROR(IG10*INDEX($T$8:$AK$14,MATCH($AN10,$T$8:$T$14,0),MATCH(IH$7,$T$8:$AK$8,0)),0) -> 0 | IJ10: =IFERROR(II10*INDEX($T$8:$AK$14,MATCH($AN10,$T$8:$T$14,0),MATCH(IJ$7,$T$8:$AK$8,0)),0) -> 0 | IL10: =IFERROR(IK10*INDEX($T$8:$AK$14,MATCH($AN10,$T$8:$T$14,0),MATCH(IL$7,$T$8:$AK$8,0)),0) -> 0 | IN10: =IFERROR(IM10*INDEX($T$8:$AK$14,MATCH($AN10,$T$8:$T$14,0),MATCH(IN$7,$T$8:$AK$8,0)),0) -> 0 | IP10: =IFERROR(IO10*INDEX($T$8:$AK$14,MATCH($AN10,$T$8:$T$14,0),MATCH(IP$7,$T$8:$AK$8,0)),0) -> 0 | IR10: =IFERROR(IQ10*INDEX($T$8:$AK$14,MATCH($AN10,$T$8:$T$14,0),MATCH(IR$7,$T$8:$AK$8,0)),0) -> 0 | IT10: =IFERROR(IS10*INDEX($T$8:$AK$14,MATCH($AN10,$T$8:$T$14,0),MATCH(IT$7,$T$8:$AK$8,0)),0) -> 0 | IV10: =IFERROR(IU10*INDEX($T$8:$AK$14,MATCH($AN10,$T$8:$T$14,0),MATCH(IV$7,$T$8:$AK$8,0)),0) -> 0 | IX10: =IFERROR(IW10*INDEX($T$8:$AK$14,MATCH($AN10,$T$8:$T$14,0),MATCH(IX$7,$T$8:$AK$8,0)),0) -> 0 | IZ10: =IFERROR(IY10*INDEX($T$8:$AK$14,MATCH($AN10,$T$8:$T$14,0),MATCH(IZ$7,$T$8:$AK$8,0)),0) -> 0 | JB10: =IFERROR(JA10*INDEX($T$8:$AK$14,MATCH($AN10,$T$8:$T$14,0),MATCH(JB$7,$T$8:$AK$8,0)),0) -> 0 | JD10: =IFERROR(JC10*INDEX($T$8:$AK$14,MATCH($AN10,$T$8:$T$14,0),MATCH(JD$7,$T$8:$AK$8,0)),0) -> 0 | JF10: =IFERROR(JE10*INDEX($T$8:$AK$14,MATCH($AN10,$T$8:$T$14,0),MATCH(JF$7,$T$8:$AK$8,0)),0) -> 0 | JH10: =IFERROR(JG10*INDEX($T$8:$AK$14,MATCH($AN10,$T$8:$T$14,0),MATCH(JH$7,$T$8:$AK$8,0)),0) -> 0 | JJ10: =IFERROR(JI10*INDEX($T$8:$AK$14,MATCH($AN10,$T$8:$T$14,0),MATCH(JJ$7,$T$8:$AK$8,0)),0) -> 0 | JL10: =IFERROR(JK10*INDEX($T$8:$AK$14,MATCH($AN10,$T$8:$T$14,0),MATCH(JL$7,$T$8:$AK$8,0)),0) -> 0 | JN10: =IFERROR(JM10*INDEX($T$8:$AK$14,MATCH($AN10,$T$8:$T$14,0),MATCH(JN$7,$T$8:$AK$8,0)),0) -> 0 | JP10: =IFERROR(JO10*INDEX($T$8:$AK$14,MATCH($AN10,$T$8:$T$14,0),MATCH(JP$7,$T$8:$AK$8,0)),0) -> 0 | JR10: =IFERROR(JQ10*INDEX($T$8:$AK$14,MATCH($AN10,$T$8:$T$14,0),MATCH(JR$7,$T$8:$AK$8,0)),0) -> 0 | JT10: =IFERROR(JS10*INDEX($T$8:$AK$14,MATCH($AN10,$T$8:$T$14,0),MATCH(JT$7,$T$8:$AK$8,0)),0) -> 0 | JV10: =IFERROR(JU10*INDEX($T$8:$AK$14,MATCH($AN10,$T$8:$T$14,0),MATCH(JV$7,$T$8:$AK$8,0)),0) -> 0 | JX10: =IFERROR(JW10*INDEX($T$8:$AK$14,MATCH($AN10,$T$8:$T$14,0),MATCH(JX$7,$T$8:$AK$8,0)),0) -> 0 | JZ10: =IFERROR(JY10*INDEX($T$8:$AK$14,MATCH($AN10,$T$8:$T$14,0),MATCH(JZ$7,$T$8:$AK$8,0)),0) -> 0 | KB10: =IFERROR(KA10*INDEX($T$8:$AK$14,MATCH($AN10,$T$8:$T$14,0),MATCH(KB$7,$T$8:$AK$8,0)),0) -> 0 | KD10: =IFERROR(KC10*INDEX($T$8:$AK$14,MATCH($AN10,$T$8:$T$14,0),MATCH(KD$7,$T$8:$AK$8,0)),0) -> 0 | KF10: =IFERROR(KE10*INDEX($T$8:$AK$14,MATCH($AN10,$T$8:$T$14,0),MATCH(KF$7,$T$8:$AK$8,0)),0) -> 0 | KH10: =IFERROR(KG10*INDEX($T$8:$AK$14,MATCH($AN10,$T$8:$T$14,0),MATCH(KH$7,$T$8:$AK$8,0)),0) -> 0 | KJ10: =IFERROR(KI10*INDEX($T$8:$AK$14,MATCH($AN10,$T$8:$T$14,0),MATCH(KJ$7,$T$8:$AK$8,0)),0) -> 0 | KL10: =IFERROR(KK10*INDEX($T$8:$AK$14,MATCH($AN10,$T$8:$T$14,0),MATCH(KL$7,$T$8:$AK$8,0)),0) -> 0 | KN10: =IFERROR(KM10*INDEX($T$8:$AK$14,MATCH($AN10,$T$8:$T$14,0),MATCH(KN$7,$T$8:$AK$8,0)),0) -> 0 | KP10: =IFERROR(KO10*INDEX($T$8:$AK$14,MATCH($AN10,$T$8:$T$14,0),MATCH(KP$7,$T$8:$AK$8,0)),0) -> 0 | KR10: =IFERROR(KQ10*INDEX($T$8:$AK$14,MATCH($AN10,$T$8:$T$14,0),MATCH(KR$7,$T$8:$AK$8,0)),0) -> 0 | KT10: =IFERROR(KS10*INDEX($T$8:$AK$14,MATCH($AN10,$T$8:$T$14,0),MATCH(KT$7,$T$8:$AK$8,0)),0) -> 0 | KV10: =IFERROR(KU10*INDEX($T$8:$AK$14,MATCH($AN10,$T$8:$T$14,0),MATCH(KV$7,$T$8:$AK$8,0)),0) -> 0 | KX10: =IFERROR(KW10*INDEX($T$8:$AK$14,MATCH($AN10,$T$8:$T$14,0),MATCH(KX$7,$T$8:$AK$8,0)),0) -> 0 | KZ10: =IFERROR(KY10*INDEX($T$8:$AK$14,MATCH($AN10,$T$8:$T$14,0),MATCH(KZ$7,$T$8:$AK$8,0)),0) -> 0 | LB10: =IFERROR(LA10*INDEX($T$8:$AK$14,MATCH($AN10,$T$8:$T$14,0),MATCH(LB$7,$T$8:$AK$8,0)),0) -> 0 | LD10: =IFERROR(LC10*INDEX($T$8:$AK$14,MATCH($AN10,$T$8:$T$14,0),MATCH(LD$7,$T$8:$AK$8,0)),0) -> 0 | LF10: =IFERROR(LE10*INDEX($T$8:$AK$14,MATCH($AN10,$T$8:$T$14,0),MATCH(LF$7,$T$8:$AK$8,0)),0) -> 0 | LH10: =IFERROR(LG10*INDEX($T$8:$AK$14,MATCH($AN10,$T$8:$T$14,0),MATCH(LH$7,$T$8:$AK$8,0)),0) -> 0 | LJ10: =IFERROR(LI10*INDEX($T$8:$AK$14,MATCH($AN10,$T$8:$T$14,0),MATCH(LJ$7,$T$8:$AK$8,0)),0) -> 0 | LL10: =IFERROR(LK10*INDEX($T$8:$AK$14,MATCH($AN10,$T$8:$T$14,0),MATCH(LL$7,$T$8:$AK$8,0)),0) -> 0 | LN10: =IFERROR(LM10*INDEX($T$8:$AK$14,MATCH($AN10,$T$8:$T$14,0),MATCH(LN$7,$T$8:$AK$8,0)),0) -> 0 | LP10: =IFERROR(LO10*INDEX($T$8:$AK$14,MATCH($AN10,$T$8:$T$14,0),MATCH(LP$7,$T$8:$AK$8,0)),0) -> 0 | LR10: =IFERROR(LQ10*INDEX($T$8:$AK$14,MATCH($AN10,$T$8:$T$14,0),MATCH(LR$7,$T$8:$AK$8,0)),0) -> 0 | LT10: =IFERROR(LS10*INDEX($T$8:$AK$14,MATCH($AN10,$T$8:$T$14,0),MATCH(LT$7,$T$8:$AK$8,0)),0) -> 0 | LV10: =IFERROR(LU10*INDEX($T$8:$AK$14,MATCH($AN10,$T$8:$T$14,0),MATCH(LV$7,$T$8:$AK$8,0)),0) -> 0 | LX10: =IFERROR(LW10*INDEX($T$8:$AK$14,MATCH($AN10,$T$8:$T$14,0),MATCH(LX$7,$T$8:$AK$8,0)),0) -> 0 | LZ10: =IFERROR(LY10*INDEX($T$8:$AK$14,MATCH($AN10,$T$8:$T$14,0),MATCH(LZ$7,$T$8:$AK$8,0)),0) -> 0 | MB10: =IFERROR(MA10*INDEX($T$8:$AK$14,MATCH($AN10,$T$8:$T$14,0),MATCH(MB$7,$T$8:$AK$8,0)),0) -> 0 | MD10: =IFERROR(MC10*INDEX($T$8:$AK$14,MATCH($AN10,$T$8:$T$14,0),MATCH(MD$7,$T$8:$AK$8,0)),0) -> 0 | MF10: =IFERROR(ME10*INDEX($T$8:$AK$14,MATCH($AN10,$T$8:$T$14,0),MATCH(MF$7,$T$8:$AK$8,0)),0) -> 0 | MH10: =IFERROR(MG10*INDEX($T$8:$AK$14,MATCH($AN10,$T$8:$T$14,0),MATCH(MH$7,$T$8:$AK$8,0)),0) -> 0 | MJ10: =IFERROR(MI10*INDEX($T$8:$AK$14,MATCH($AN10,$T$8:$T$14,0),MATCH(MJ$7,$T$8:$AK$8,0)),0) -> 0 | ML10: =IFERROR(MK10*INDEX($T$8:$AK$14,MATCH($AN10,$T$8:$T$14,0),MATCH(ML$7,$T$8:$AK$8,0)),0) -> 0 | MN10: =IFERROR(MM10*INDEX($T$8:$AK$14,MATCH($AN10,$T$8:$T$14,0),MATCH(MN$7,$T$8:$AK$8,0)),0) -> 0 | MP10: =IFERROR(MO10*INDEX($T$8:$AK$14,MATCH($AN10,$T$8:$T$14,0),MATCH(MP$7,$T$8:$AK$8,0)),0) -> 0 | MR10: =IFERROR(MQ10*INDEX($T$8:$AK$14,MATCH($AN10,$T$8:$T$14,0),MATCH(MR$7,$T$8:$AK$8,0)),0) -> 0 | MT10: =IFERROR(MS10*INDEX($T$8:$AK$14,MATCH($AN10,$T$8:$T$14,0),MATCH(MT$7,$T$8:$AK$8,0)),0) -> 0 | MV10: =IFERROR(MU10*INDEX($T$8:$AK$14,MATCH($AN10,$T$8:$T$14,0),MATCH(MV$7,$T$8:$AK$8,0)),0) -> 0 | MX10: =IFERROR(MW10*INDEX($T$8:$AK$14,MATCH($AN10,$T$8:$T$14,0),MATCH(MX$7,$T$8:$AK$8,0)),0) -> 0 | MZ10: =IFERROR(MY10*INDEX($T$8:$AK$14,MATCH($AN10,$T$8:$T$14,0),MATCH(MZ$7,$T$8:$AK$8,0)),0) -> 0 | NB10: =IFERROR(NA10*INDEX($T$8:$AK$14,MATCH($AN10,$T$8:$T$14,0),MATCH(NB$7,$T$8:$AK$8,0)),0) -> 0 | ND10: =IFERROR(NC10*INDEX($T$8:$AK$14,MATCH($AN10,$T$8:$T$14,0),MATCH(ND$7,$T$8:$AK$8,0)),0) -> 0 | NF10: =IFERROR(NE10*INDEX($T$8:$AK$14,MATCH($AN10,$T$8:$T$14,0),MATCH(NF$7,$T$8:$AK$8,0)),0) -> 0 | NH10: =IFERROR(NG10*INDEX($T$8:$AK$14,MATCH($AN10,$T$8:$T$14,0),MATCH(NH$7,$T$8:$AK$8,0)),0) -> 0 | NJ10: =IFERROR(NI10*INDEX($T$8:$AK$14,MATCH($AN10,$T$8:$T$14,0),MATCH(NJ$7,$T$8:$AK$8,0)),0) -> 0 | NL10: =IFERROR(NK10*INDEX($T$8:$AK$14,MATCH($AN10,$T$8:$T$14,0),MATCH(NL$7,$T$8:$AK$8,0)),0) -> 0 | NN10: =IFERROR(NM10*INDEX($T$8:$AK$14,MATCH($AN10,$T$8:$T$14,0),MATCH(NN$7,$T$8:$AK$8,0)),0) -> 0 | NP10: =IFERROR(NO10*INDEX($T$8:$AK$14,MATCH($AN10,$T$8:$T$14,0),MATCH(NP$7,$T$8:$AK$8,0)),0) -> 0 | NR10: =IFERROR(NQ10*INDEX($T$8:$AK$14,MATCH($AN10,$T$8:$T$14,0),MATCH(NR$7,$T$8:$AK$8,0)),0) -> 0 | NT10: =IFERROR(NS10*INDEX($T$8:$AK$14,MATCH($AN10,$T$8:$T$14,0),MATCH(NT$7,$T$8:$AK$8,0)),0) -> 0 | NV10: =IFERROR(NU10*INDEX($T$8:$AK$14,MATCH($AN10,$T$8:$T$14,0),MATCH(NV$7,$T$8:$AK$8,0)),0) -> 0 | NX10: =IFERROR(NW10*INDEX($T$8:$AK$14,MATCH($AN10,$T$8:$T$14,0),MATCH(NX$7,$T$8:$AK$8,0)),0) -> 0 | NZ10: =IFERROR(NY10*INDEX($T$8:$AK$14,MATCH($AN10,$T$8:$T$14,0),MATCH(NZ$7,$T$8:$AK$8,0)),0) -> 0 | OB10: =IFERROR(OA10*INDEX($T$8:$AK$14,MATCH($AN10,$T$8:$T$14,0),MATCH(OB$7,$T$8:$AK$8,0)),0) -> 0 | OD10: =IFERROR(OC10*INDEX($T$8:$AK$14,MATCH($AN10,$T$8:$T$14,0),MATCH(OD$7,$T$8:$AK$8,0)),0) -> 0 | OF10: =IFERROR(OE10*INDEX($T$8:$AK$14,MATCH($AN10,$T$8:$T$14,0),MATCH(OF$7,$T$8:$AK$8,0)),0) -> 0 | OH10: =IFERROR(OG10*INDEX($T$8:$AK$14,MATCH($AN10,$T$8:$T$14,0),MATCH(OH$7,$T$8:$AK$8,0)),0) -> 0 | OJ10: =IFERROR(OI10*INDEX($T$8:$AK$14,MATCH($AN10,$T$8:$T$14,0),MATCH(OJ$7,$T$8:$AK$8,0)),0) -> 0 | OL10: =IFERROR(OK10*INDEX($T$8:$AK$14,MATCH($AN10,$T$8:$T$14,0),MATCH(OL$7,$T$8:$AK$8,0)),0) -> 0 | ON10: =IFERROR(OM10*INDEX($T$8:$AK$14,MATCH($AN10,$T$8:$T$14,0),MATCH(ON$7,$T$8:$AK$8,0)),0) -> 0 | OP10: =IFERROR(OO10*INDEX($T$8:$AK$14,MATCH($AN10,$T$8:$T$14,0),MATCH(OP$7,$T$8:$AK$8,0)),0) -> 0 | OR10: =IFERROR(OQ10*INDEX($T$8:$AK$14,MATCH($AN10,$T$8:$T$14,0),MATCH(OR$7,$T$8:$AK$8,0)),0) -> 0 | OT10: =IFERROR(OS10*INDEX($T$8:$AK$14,MATCH($AN10,$T$8:$T$14,0),MATCH(OT$7,$T$8:$AK$8,0)),0) -> 0 | OV10: =IFERROR(OU10*INDEX($T$8:$AK$14,MATCH($AN10,$T$8:$T$14,0),MATCH(OV$7,$T$8:$AK$8,0)),0) -> 0 | OX10: =IFERROR(OW10*INDEX($T$8:$AK$14,MATCH($AN10,$T$8:$T$14,0),MATCH(OX$7,$T$8:$AK$8,0)),0) -> 0 | OZ10: =IFERROR(OY10*INDEX($T$8:$AK$14,MATCH($AN10,$T$8:$T$14,0),MATCH(OZ$7,$T$8:$AK$8,0)),0) -> 0 | PB10: =IFERROR(PA10*INDEX($T$8:$AK$14,MATCH($AN10,$T$8:$T$14,0),MATCH(PB$7,$T$8:$AK$8,0)),0) -> 0 | PD10: =IFERROR(PC10*INDEX($T$8:$AK$14,MATCH($AN10,$T$8:$T$14,0),MATCH(PD$7,$T$8:$AK$8,0)),0) -> 0 | PF10: =IFERROR(PE10*INDEX($T$8:$AK$14,MATCH($AN10,$T$8:$T$14,0),MATCH(PF$7,$T$8:$AK$8,0)),0) -> 0 | PH10: =IFERROR(PG10*INDEX($T$8:$AK$14,MATCH($AN10,$T$8:$T$14,0),MATCH(PH$7,$T$8:$AK$8,0)),0) -> 0 | PJ10: =IFERROR(PI10*INDEX($T$8:$AK$14,MATCH($AN10,$T$8:$T$14,0),MATCH(PJ$7,$T$8:$AK$8,0)),0) -> 0 | PL10: =IFERROR(PK10*INDEX($T$8:$AK$14,MATCH($AN10,$T$8:$T$14,0),MATCH(PL$7,$T$8:$AK$8,0)),0) -> 0 | PN10: =IFERROR(PM10*INDEX($T$8:$AK$14,MATCH($AN10,$T$8:$T$14,0),MATCH(PN$7,$T$8:$AK$8,0)),0) -> 0 | PP10: =IFERROR(PO10*INDEX($T$8:$AK$14,MATCH($AN10,$T$8:$T$14,0),MATCH(PP$7,$T$8:$AK$8,0)),0) -> 0 | PR10: =IFERROR(PQ10*INDEX($T$8:$AK$14,MATCH($AN10,$T$8:$T$14,0),MATCH(PR$7,$T$8:$AK$8,0)),0) -> 0 | PT10: =IFERROR(PS10*INDEX($T$8:$AK$14,MATCH($AN10,$T$8:$T$14,0),MATCH(PT$7,$T$8:$AK$8,0)),0) -> 0 | PV10: =IFERROR(PU10*INDEX($T$8:$AK$14,MATCH($AN10,$T$8:$T$14,0),MATCH(PV$7,$T$8:$AK$8,0)),0) -> 0 | PX10: =IFERROR(PW10*INDEX($T$8:$AK$14,MATCH($AN10,$T$8:$T$14,0),MATCH(PX$7,$T$8:$AK$8,0)),0) -> 0 | PZ10: =IFERROR(PY10*INDEX($T$8:$AK$14,MATCH($AN10,$T$8:$T$14,0),MATCH(PZ$7,$T$8:$AK$8,0)),0) -> 0 | QB10: =IFERROR(QA10*INDEX($T$8:$AK$14,MATCH($AN10,$T$8:$T$14,0),MATCH(QB$7,$T$8:$AK$8,0)),0) -> 0 | QD10: =IFERROR(QC10*INDEX($T$8:$AK$14,MATCH($AN10,$T$8:$T$14,0),MATCH(QD$7,$T$8:$AK$8,0)),0) -> 0 | QF10: =IFERROR(QE10*INDEX($T$8:$AK$14,MATCH($AN10,$T$8:$T$14,0),MATCH(QF$7,$T$8:$AK$8,0)),0) -> 0
