Workbook
Name AN: 'Récap annuel'!$A$1
Name CODES: Données!$A$16:$A$25
Name COULEUR: Données!$B$16:$B$25
Name Mois: Données!$A$1:$B$12

Sheet Données
A1: Janvier | B1: 1
A2: Février | B2: 2
A3: Mars | B3: 3
A4: Avril | B4: 4
A5: Mai | B5: 5
A6: Juin | B6: 6
A7: Juillet | B7: 7
A8: Août | B8: 8
A9: Septembre | B9: 9
A10: Octobre | B10: 10
A11: Novembre | B11: 11
A12: Décembre | B12: 12
E14: Personnels :
A15: Codes | B15: Couleur | E15: aa
A16: A | E16: zz
A17: A/2 | E17: ee
A18: C | E18: rr
A19: C/2 | E19: tt
A20: REC | E20: yy
A21: REC/2 | E21: uu
A22: RT | E22: ii
A23: RT/2 | E23: titi
A24: EX | E24: tata
A25: EX/2

Sheet Récap annuel
A1: 2013
A3: RECAP ANNUEL
A4: A | C4: A/2 | E4: C | G4: C/2 | I4: REC | K4: REC/2 | M4: RT | O4: RT/2 | Q4: EX | S4: EX/2
A5: H | B5: NB | C5: H | D5: NB | E5: H | F5: NB | G5: H | H5: NB | I5: H | J5: NB | K5: H | L5: NB | M5: H | N5: NB | O5: H | P5: NB | Q5: H | R5: NB | S5: H | T5: NB
B6: 0 | D6: 0 | F6: 0 | H6: 0 | J6: 0 | L6: 0 | N6: 0 | P6: 0 | R6: 0 | T6: 0
B7: 0 | D7: 0 | F7: 0 | H7: 0 | J7: 0 | L7: 0 | N7: 0 | P7: 0 | R7: 0 | T7: 0
B8: 0 | D8: 0 | F8: 0 | H8: 0 | J8: 0 | L8: 0 | N8: 0 | P8: 0 | R8: 0 | T8: 0
B9: 0 | D9: 0 | F9: 0 | H9: 0 | J9: 0 | L9: 0 | N9: 0 | P9: 0 | R9: 0 | T9: 0
B10: 0 | D10: 0 | F10: 0 | H10: 0 | J10: 0 | L10: 0 | N10: 0 | P10: 0 | R10: 0 | T10: 0
B11: 0 | D11: 0 | F11: 0 | H11: 0 | J11: 0 | L11: 0 | N11: 0 | P11: 0 | R11: 0 | T11: 0
B12: 0 | D12: 0 | F12: 0 | H12: 0 | J12: 0 | L12: 0 | N12: 0 | P12: 0 | R12: 0 | T12: 0
B13: 0 | D13: 0 | F13: 0 | H13: 0 | J13: 0 | L13: 0 | N13: 0 | P13: 0 | R13: 0 | T13: 0
B14: 0 | D14: 0 | F14: 0 | H14: 0 | J14: 0 | L14: 0 | N14: 0 | P14: 0 | R14: 0 | T14: 0
B15: 0 | D15: 0 | F15: 0 | H15: 0 | J15: 0 | L15: 0 | N15: 0 | P15: 0 | R15: 0 | T15: 0
B16: 0 | D16: 0 | F16: 0 | H16: 0 | J16: 0 | L16: 0 | N16: 0 | P16: 0 | R16: 0 | T16: 0
B17: 0 | D17: 0 | F17: 0 | H17: 0 | J17: 0 | L17: 0 | N17: 0 | P17: 0 | R17: 0 | T17: 0
... B21: 0 | D21: 0 | F21: 0 | H21: 0 | J21: 0 | L21: 0 | N21: 0 | P21: 0 | R21: 0 | T21: 0

Sheet JANVIER
B1: =AN -> 2013 | E1: =DATE(AN,1,1) -> 41275 | HN1: RECAP
E2: =E1 -> 41275 | L2: =E2+1 -> 41276 | S2: =L2+1 -> 41277 | Z2: =S2+1 -> 41278 | AG2: =Z2+1 -> 41279 | AN2: =AG2+1 -> 41280 | AU2: =AN2+1 -> 41281 | BB2: =AU2+1 -> 41282 | BI2: =BB2+1 -> 41283 | BP2: =BI2+1 -> 41284 | BW2: =BP2+1 -> 41285 | CD2: =BW2+1 -> 41286 | CK2: =CD2+1 -> 41287 | CR2: =CK2+1 -> 41288 | CY2: =CR2+1 -> 41289 | DF2: =CY2+1 -> 41290 | DM2: =DF2+1 -> 41291 | DT2: =DM2+1 -> 41292 | EA2: =DT2+1 -> 41293 | EH2: =EA2+1 -> 41294 | EO2: =EH2+1 -> 41295 | EV2: =EO2+1 -> 41296 | FC2: =EV2+1 -> 41297 | FJ2: =FC2+1 -> 41298 | FQ2: =FJ2+1 -> 41299 | FX2: =FQ2+1 -> 41300 | GE2: =FX2+1 -> 41301 | GL2: =GE2+1 -> 41302 | GS2: =GL2+1 -> 41303 | GZ2: =GS2+1 -> 41304 | HG2: =GZ2+1 -> 41305 | HN2: A | HP2: A/2 | HR2: C | HT2: C/2 | HV2: REC | HX2: REC/2 | HZ2: RT | IB2: RT/2 | ID2: EX | IF2: EX/2
B3: NOM & PRENOM | E3: Matin | G3: Soir | I3: TOT | J3: T.H.T | K3: MOTIF | L3: Matin | N3: Soir | P3: TOT | Q3: RECAP | R3: MOTIF | S3: Matin | U3: Soir | W3: TOT | X3: RECAP | Y3: MOTIF | Z3: Matin | AB3: Soir | AD3: TOT | AE3: RECAP | AF3: MOTIF | AG3: Matin | AI3: Soir | AK3: TOT | AL3: RECAP | AM3: MOTIF | AN3: Matin | AP3: Soir | AR3: TOT | AS3: RECAP | AT3: MOTIF | AU3: Matin | AW3: Soir | AY3: TOT | AZ3: RECAP | BA3: MOTIF | BB3: Matin | BD3: Soir | BF3: TOT | BG3: RECAP | BH3: MOTIF | BI3: Matin | BK3: Soir | BM3: TOT | BN3: RECAP | BO3: MOTIF | BP3: Matin | BR3: Soir | BT3: TOT | BU3: RECAP | BV3: MOTIF | BW3: Matin | BY3: Soir | CA3: TOT | CB3: RECAP | CC3: MOTIF | CD3: Matin | CF3: Soir | CH3: TOT | CI3: RECAP | CJ3: MOTIF | CK3: Matin | CM3: Soir | CO3: TOT | CP3: RECAP | CQ3: MOTIF | CR3: Matin | CT3: Soir | CV3: TOT | CW3: RECAP | CX3: MOTIF | CY3: Matin | DA3: Soir | DC3: TOT | DD3: RECAP | DE3: MOTIF | DF3: Matin | DH3: Soir | DJ3: TOT | DK3: RECAP | DL3: MOTIF | DM3: Matin | DO3: Soir | DQ3: TOT | DR3: RECAP | DS3: MOTIF | DT3: Matin | DV3: Soir | DX3: TOT | DY3: RECAP | DZ3: MOTIF | EA3: Matin | EC3: Soir | EE3: TOT | EF3: RECAP | EG3: MOTIF | EH3: Matin | EJ3: Soir | EL3: TOT | EM3: RECAP | EN3: MOTIF | EO3: Matin | EQ3: Soir | ES3: TOT | ET3: RECAP | EU3: MOTIF | EV3: Matin | EX3: Soir | EZ3: TOT | FA3: RECAP | FB3: MOTIF | FC3: Matin | FE3: Soir | FG3: TOT | FH3: RECAP | FI3: MOTIF | FJ3: Matin | FL3: Soir | FN3: TOT | FO3: RECAP | FP3: MOTIF | FQ3: Matin | FS3: Soir | FU3: TOT | FV3: RECAP | FW3: MOTIF | FX3: Matin | FZ3: Soir | GB3: TOT | GC3: RECAP | GD3: MOTIF | GE3: Matin | GG3: Soir | GI3: TOT | GJ3: RECAP | GK3: MOTIF | GL3: Matin | GN3: Soir | GP3: TOT | GQ3: RECAP | GR3: MOTIF | GS3: Matin | GU3: Soir | GW3: TOT | GX3: RECAP | GY3: MOTIF | GZ3: Matin | HB3: Soir | HD3: TOT | HE3: RECAP | HF3: MOTIF | HG3: Matin | HI3: Soir | HK3: TOT | HL3: RECAP | HM3: MOTIF | HN3: H | HO3: NB | HP3: H | HQ3: NB | HR3: H | HS3: NB | HT3: H | HU3: NB | HV3: H | HW3: NB | HX3: H | HY3: NB | HZ3: H | IA3: NB | IB3: H | IC3: NB | ID3: H | IE3: NB | IF3: H | IG3: NB
E4: Entree | F4: Sortie | G4: Entree | H4: Sortie | L4: Entree | M4: Sortie | N4: Entree | O4: Sortie | S4: Entree | T4: Sortie | U4: Entree | V4: Sortie | Z4: Entree | AA4: Sortie | AB4: Entree | AC4: Sortie | AG4: Entree | AH4: Sortie | AI4: Entree | AJ4: Sortie | AN4: Entree | AO4: Sortie | AP4: Entree | AQ4: Sortie | AU4: Entree | AV4: Sortie | AW4: Entree | AX4: Sortie | BB4: Entree | BC4: Sortie | BD4: Entree | BE4: Sortie | BI4: Entree | BJ4: Sortie | BK4: Entree | BL4: Sortie | BP4: Entree | BQ4: Sortie | BR4: Entree | BS4: Sortie | BW4: Entree | BX4: Sortie | BY4: Entree | BZ4: Sortie | CD4: Entree | CE4: Sortie | CF4: Entree | CG4: Sortie | CK4: Entree | CL4: Sortie | CM4: Entree | CN4: Sortie | CR4: Entree | CS4: Sortie | CT4: Entree | CU4: Sortie | CY4: Entree | CZ4: Sortie | DA4: Entree | DB4: Sortie | DF4: Entree | DG4: Sortie | DH4: Entree | DI4: Sortie | DM4: Entree | DN4: Sortie | DO4: Entree | DP4: Sortie | DT4: Entree | DU4: Sortie | DV4: Entree | DW4: Sortie | EA4: Entree | EB4: Sortie | EC4: Entree | ED4: Sortie | EH4: Entree | EI4: Sortie | EJ4: Entree | EK4: Sortie | EO4: Entree | EP4: Sortie | EQ4: Entree | ER4: Sortie | EV4: Entree | EW4: Sortie | EX4: Entree | EY4: Sortie | FC4: Entree | FD4: Sortie | FE4: Entree | FF4: Sortie | FJ4: Entree | FK4: Sortie | FL4: Entree | FM4: Sortie | FQ4: Entree | FR4: Sortie | FS4: Entree | FT4: Sortie | FX4: Entree | FY4: Sortie | FZ4: Entree | GA4: Sortie | GE4: Entree | GF4: Sortie | GG4: Entree | GH4: Sortie | GL4: Entree | GM4: Sortie | GN4: Entree | GO4: Sortie | GS4: Entree | GT4: Sortie | GU4: Entree | GV4: Sortie | GZ4: Entree | HA4: Sortie | HB4: Entree | HC4: Sortie | HG4: Entree | HH4: Sortie | HI4: Entree | HJ4: Sortie | HO4: 0 | HQ4: 0 | HS4: 0 | HU4: 0 | HW4: 0 | HY4: 0 | IA4: 0 | IC4: 0 | IE4: 0 | IG4: 0
B5: =Données!E15 -> aa | E5: 0.375 | F5: 0.54166667 | G5: 0.625 | H5: 0.8125 | I5: =(F5-E5)+(H5-G5) -> 0.35416667 | J5: =$A$10-I5 -> 0 | K5: REC/2 | L5: 0.375 | M5: 0.54166667 | N5: 0.625 | O5: 0.8125 | P5: =(M5-L5)+(O5-N5) -> 0.35416667 | Q5: =$A$10-P5 -> 0 | R5: R | S5: 0.375 | T5: 0.54166667 | U5: 0.625 | V5: 0.8125 | W5: =(T5-S5)+(V5-U5) -> 0.35416667 | X5: =$A$10-W5 -> 0 | Y5: R | Z5: 0.375 | AA5: 0.54166667 | AB5: 0.625 | AC5: 0.8125 | AD5: =(AA5-Z5)+(AC5-AB5) -> 0.35416667 | AE5: =$A$10-AD5 -> 0 | AF5: R | AG5: 0.375 | AH5: 0.54166667 | AI5: 0.625 | AJ5: 0.8125 | AK5: =(AH5-AG5)+(AJ5-AI5) -> 0.35416667 | AL5: =$A$10-AK5 -> 0 | AM5: R | AN5: 0.375 | AO5: 0.54166667 | AP5: 0.625 | AQ5: 0.8125 | AR5: =(AO5-AN5)+(AQ5-AP5) -> 0.35416667 | AS5: =$A$10-AR5 -> 0 | AT5: R | AU5: 0.375 | AV5: 0.54166667 | AW5: 0.625 | AX5: 0.8125 | AY5: =(AV5-AU5)+(AX5-AW5) -> 0.35416667 | AZ5: =$A$10-AY5 -> 0 | BA5: R | BB5: 0.375 | BC5: 0.54166667 | BD5: 0.625 | BE5: 0.8125 | BF5: =(BC5-BB5)+(BE5-BD5) -> 0.35416667 | BG5: =$A$10-BF5 -> 0 | BH5: R | BI5: 0.375 | BJ5: 0.54166667 | BK5: 0.625 | BL5: 0.8125 | BM5: =(BJ5-BI5)+(BL5-BK5) -> 0.35416667 | BN5: =$A$10-BM5 -> 0 | BO5: R | BP5: 0.375 | BQ5: 0.54166667 | BR5: 0.625 | BS5: 0.8125 | BT5: =(BQ5-BP5)+(BS5-BR5) -> 0.35416667 | BU5: =$A$10-BT5 -> 0 | BV5: R | BW5: 0.375 | BX5: 0.54166667 | BY5: 0.625 | BZ5: 0.8125 | CA5: =(BX5-BW5)+(BZ5-BY5) -> 0.35416667 | CB5: =$A$10-CA5 -> 0 | CC5: R | CD5: 0.375 | CE5: 0.54166667 | CF5: 0.625 | CG5: 0.8125 | CH5: =(CE5-CD5)+(CG5-CF5) -> 0.35416667 | CI5: =$A$10-CH5 -> 0 | CJ5: R | CK5: 0.375 | CL5: 0.54166667 | CM5: 0.625 | CN5: 0.8125 | CO5: =(CL5-CK5)+(CN5-CM5) -> 0.35416667 | CP5: =$A$10-CO5 -> 0 | CQ5: R | CR5: 0.375 | CS5: 0.54166667 | CT5: 0.625 | CU5: 0.8125 | CV5: =(CS5-CR5)+(CU5-CT5) -> 0.35416667 | CW5: =$A$10-CV5 -> 0 | CX5: R | CY5: 0.375 | CZ5: 0.54166667 | DA5: 0.625 | DB5: 0.8125 | DC5: =(CZ5-CY5)+(DB5-DA5) -> 0.35416667 | DD5: =$A$10-DC5 -> 0 | DE5: R | DF5: 0.375 | DG5: 0.54166667 | DH5: 0.625 | DI5: 0.8125 | DJ5: =(DG5-DF5)+(DI5-DH5) -> 0.35416667 | DK5: =$A$10-DJ5 -> 0 | DL5: R | DM5: 0.375 | DN5: 0.54166667 | DO5: 0.625 | DP5: 0.8125 | DQ5: =(DN5-DM5)+(DP5-DO5) -> 0.35416667 | DR5: =$A$10-DQ5 -> 0 | DS5: R | DT5: 0.375 | DU5: 0.54166667 | DV5: 0.625 | DW5: 0.8125 | DX5: =(DU5-DT5)+(DW5-DV5) -> 0.35416667 | DY5: =$A$10-DX5 -> 0 | DZ5: R | EA5: 0.375 | EB5: 0.54166667 | EC5: 0.625 | ED5: 0.8125 | EE5: =(EB5-EA5)+(ED5-EC5) -> 0.35416667 | EF5: =$A$10-EE5 -> 0 | EG5: R | EH5: 0.375 | EI5: 0.54166667 | EJ5: 0.625 | EK5: 0.8125 | EL5: =(EI5-EH5)+(EK5-EJ5) -> 0.35416667 | EM5: =$A$10-EL5 -> 0 | EN5: R | EO5: 0.375 | EP5: 0.54166667 | EQ5: 0.625 | ER5: 0.8125 | ES5: =(EP5-EO5)+(ER5-EQ5) -> 0.35416667 | ET5: =$A$10-ES5 -> 0 | EU5: R | EV5: 0.375 | EW5: 0.54166667 | EX5: 0.625 | EY5: 0.8125 | EZ5: =(EW5-EV5)+(EY5-EX5) -> 0.35416667 | FA5: =$A$10-EZ5 -> 0 | FB5: R | FC5: 0.375 | FD5: 0.54166667 | FE5: 0.625 | FF5: 0.8125 | FG5: =(FD5-FC5)+(FF5-FE5) -> 0.35416667 | FH5: =$A$10-FG5 -> 0 | FI5: R | FJ5: 0.375 | FK5: 0.54166667 | FL5: 0.625 | FM5: 0.8125 | FN5: =(FK5-FJ5)+(FM5-FL5) -> 0.35416667 | FO5: =$A$10-FN5 -> 0 | FP5: R | FQ5: 0.375 | FR5: 0.54166667 | FS5: 0.625 | FT5: 0.8125 | FU5: =(FR5-FQ5)+(FT5-FS5) -> 0.35416667 | FV5: =$A$10-FU5 -> 0 | FW5: R | FX5: 0.375 | FY5: 0.54166667 | FZ5: 0.625 | GA5: 0.8125 | GB5: =(FY5-FX5)+(GA5-FZ5) -> 0.35416667 | GC5: =$A$10-GB5 -> 0 | GD5: R | GE5: 0.375 | GF5: 0.54166667 | GG5: 0.625 | GH5: 0.8125 | GI5: =(GF5-GE5)+(GH5-GG5) -> 0.35416667 | GJ5: =$A$10-GI5 -> 0 | GK5: R | GL5: 0.375 | GM5: 0.54166667 | GN5: 0.625 | GO5: 0.8125 | GP5: =(GM5-GL5)+(GO5-GN5) -> 0.35416667 | GQ5: =$A$10-GP5 -> 0 | GR5: R | GS5: 0.375 | GT5: 0.54166667 | GU5: 0.625 | GV5: 0.8125 | GW5: =(GT5-GS5)+(GV5-GU5) -> 0.35416667 | GX5: =$A$10-GW5 -> 0 | GY5: R | GZ5: 0.375 | HA5: 0.54166667 | HB5: 0.625 | HC5: 0.8125 | HD5: =(HA5-GZ5)+(HC5-HB5) -> 0.35416667 | HE5: =$A$10-HD5 -> 0 | HF5: R | HG5: 0.375 | HH5: 0.54166667 | HI5: 0.625 | HJ5: 0.8125 | HK5: =(HH5-HG5)+(HJ5-HI5) -> 0.35416667 | HL5: =$A$10-HK5 -> 0 | HM5: REC/2 | HO5: 0 | HQ5: 0 | HS5: 0 | HU5: 0 | HW5: 0 | HY5: 0 | IA5: 0 | IC5: 0 | IE5: 0 | IG5: 0
B6: =Données!E16 -> zz | I6: =(F6-E6)+(H6-G6) -> 0 | J6: =$A$10-I6 -> 0.35416667 | P6: =(M6-L6)+(O6-N6) -> 0 | Q6: =$A$10-P6 -> 0.35416667 | W6: =(T6-S6)+(V6-U6) -> 0 | X6: =$A$10-W6 -> 0.35416667 | AD6: =(AA6-Z6)+(AC6-AB6) -> 0 | AE6: =$A$10-AD6 -> 0.35416667 | AK6: =(AH6-AG6)+(AJ6-AI6) -> 0 | AL6: =$A$10-AK6 -> 0.35416667 | AR6: =(AO6-AN6)+(AQ6-AP6) -> 0 | AS6: =$A$10-AR6 -> 0.35416667 | AY6: =(AV6-AU6)+(AX6-AW6) -> 0 | AZ6: =$A$10-AY6 -> 0.35416667 | BF6: =(BC6-BB6)+(BE6-BD6) -> 0 | BG6: =$A$10-BF6 -> 0.35416667 | BM6: =(BJ6-BI6)+(BL6-BK6) -> 0 | BN6: =$A$10-BM6 -> 0.35416667 | BT6: =(BQ6-BP6)+(BS6-BR6) -> 0 | BU6: =$A$10-BT6 -> 0.35416667 | CA6: =(BX6-BW6)+(BZ6-BY6) -> 0 | CB6: =$A$10-CA6 -> 0.35416667 | CH6: =(CE6-CD6)+(CG6-CF6) -> 0 | CI6: =$A$10-CH6 -> 0.35416667 | CO6: =(CL6-CK6)+(CN6-CM6) -> 0 | CP6: =$A$10-CO6 -> 0.35416667 | CV6: =(CS6-CR6)+(CU6-CT6) -> 0 | CW6: =$A$10-CV6 -> 0.35416667 | DC6: =(CZ6-CY6)+(DB6-DA6) -> 0 | DD6: =$A$10-DC6 -> 0.35416667 | DJ6: =(DG6-DF6)+(DI6-DH6) -> 0 | DK6: =$A$10-DJ6 -> 0.35416667 | DQ6: =(DN6-DM6)+(DP6-DO6) -> 0 | DR6: =$A$10-DQ6 -> 0.35416667 | DX6: =(DU6-DT6)+(DW6-DV6) -> 0 | DY6: =$A$10-DX6 -> 0.35416667 | EE6: =(EB6-EA6)+(ED6-EC6) -> 0 | EF6: =$A$10-EE6 -> 0.35416667 | EL6: =(EI6-EH6)+(EK6-EJ6) -> 0 | EM6: =$A$10-EL6 -> 0.35416667 | ES6: =(EP6-EO6)+(ER6-EQ6) -> 0 | ET6: =$A$10-ES6 -> 0.35416667 | EZ6: =(EW6-EV6)+(EY6-EX6) -> 0 | FA6: =$A$10-EZ6 -> 0.35416667 | FG6: =(FD6-FC6)+(FF6-FE6) -> 0 | FH6: =$A$10-FG6 -> 0.35416667 | FN6: =(FK6-FJ6)+(FM6-FL6) -> 0 | FO6: =$A$10-FN6 -> 0.35416667 | FU6: =(FR6-FQ6)+(FT6-FS6) -> 0 | FV6: =$A$10-FU6 -> 0.35416667 | GB6: =(FY6-FX6)+(GA6-FZ6) -> 0 | GC6: =$A$10-GB6 -> 0.35416667 | GI6: =(GF6-GE6)+(GH6-GG6) -> 0 | GJ6: =$A$10-GI6 -> 0.35416667 | GP6: =(GM6-GL6)+(GO6-GN6) -> 0 | GQ6: =$A$10-GP6 -> 0.35416667 | GW6: =(GT6-GS6)+(GV6-GU6) -> 0 | GX6: =$A$10-GW6 -> 0.35416667 | HD6: =(HA6-GZ6)+(HC6-HB6) -> 0 | HE6: =$A$10-HD6 -> 0.35416667 | HK6: =(HH6-HG6)+(HJ6-HI6) -> 0 | HL6: =$A$10-HK6 -> 0.35416667 | HO6: 0 | HQ6: 0 | HS6: 0 | HU6: 0 | HW6: 0 | HY6: 0 | IA6: 0 | IC6: 0 | IE6: 0 | IG6: 0
B7: =Données!E17 -> ee | I7: =(F7-E7)+(H7-G7) -> 0 | J7: =$A$10-I7 -> 0.35416667 | P7: =(M7-L7)+(O7-N7) -> 0 | Q7: =$A$10-P7 -> 0.35416667 | W7: =(T7-S7)+(V7-U7) -> 0 | X7: =$A$10-W7 -> 0.35416667 | AD7: =(AA7-Z7)+(AC7-AB7) -> 0 | AE7: =$A$10-AD7 -> 0.35416667 | AK7: =(AH7-AG7)+(AJ7-AI7) -> 0 | AL7: =$A$10-AK7 -> 0.35416667 | AR7: =(AO7-AN7)+(AQ7-AP7) -> 0 | AS7: =$A$10-AR7 -> 0.35416667 | AY7: =(AV7-AU7)+(AX7-AW7) -> 0 | AZ7: =$A$10-AY7 -> 0.35416667 | BF7: =(BC7-BB7)+(BE7-BD7) -> 0 | BG7: =$A$10-BF7 -> 0.35416667 | BM7: =(BJ7-BI7)+(BL7-BK7) -> 0 | BN7: =$A$10-BM7 -> 0.35416667 | BT7: =(BQ7-BP7)+(BS7-BR7) -> 0 | BU7: =$A$10-BT7 -> 0.35416667 | CA7: =(BX7-BW7)+(BZ7-BY7) -> 0 | CB7: =$A$10-CA7 -> 0.35416667 | CH7: =(CE7-CD7)+(CG7-CF7) -> 0 | CI7: =$A$10-CH7 -> 0.35416667 | CO7: =(CL7-CK7)+(CN7-CM7) -> 0 | CP7: =$A$10-CO7 -> 0.35416667 | CV7: =(CS7-CR7)+(CU7-CT7) -> 0 | CW7: =$A$10-CV7 -> 0.35416667 | DC7: =(CZ7-CY7)+(DB7-DA7) -> 0 | DD7: =$A$10-DC7 -> 0.35416667 | DJ7: =(DG7-DF7)+(DI7-DH7) -> 0 | DK7: =$A$10-DJ7 -> 0.35416667 | DQ7: =(DN7-DM7)+(DP7-DO7) -> 0 | DR7: =$A$10-DQ7 -> 0.35416667 | DX7: =(DU7-DT7)+(DW7-DV7) -> 0 | DY7: =$A$10-DX7 -> 0.35416667 | EE7: =(EB7-EA7)+(ED7-EC7) -> 0 | EF7: =$A$10-EE7 -> 0.35416667 | EL7: =(EI7-EH7)+(EK7-EJ7) -> 0 | EM7: =$A$10-EL7 -> 0.35416667 | ES7: =(EP7-EO7)+(ER7-EQ7) -> 0 | ET7: =$A$10-ES7 -> 0.35416667 | EZ7: =(EW7-EV7)+(EY7-EX7) -> 0 | FA7: =$A$10-EZ7 -> 0.35416667 | FG7: =(FD7-FC7)+(FF7-FE7) -> 0 | FH7: =$A$10-FG7 -> 0.35416667 | FN7: =(FK7-FJ7)+(FM7-FL7) -> 0 | FO7: =$A$10-FN7 -> 0.35416667 | FU7: =(FR7-FQ7)+(FT7-FS7) -> 0 | FV7: =$A$10-FU7 -> 0.35416667 | GB7: =(FY7-FX7)+(GA7-FZ7) -> 0 | GC7: =$A$10-GB7 -> 0.35416667 | GI7: =(GF7-GE7)+(GH7-GG7) -> 0 | GJ7: =$A$10-GI7 -> 0.35416667 | GP7: =(GM7-GL7)+(GO7-GN7) -> 0 | GQ7: =$A$10-GP7 -> 0.35416667 | GW7: =(GT7-GS7)+(GV7-GU7) -> 0 | GX7: =$A$10-GW7 -> 0.35416667 | HD7: =(HA7-GZ7)+(HC7-HB7) -> 0 | HE7: =$A$10-HD7 -> 0.35416667 | HK7: =(HH7-HG7)+(HJ7-HI7) -> 0 | HL7: =$A$10-HK7 -> 0.35416667 | HO7: 0 | HQ7: 0 | HS7: 0 | HU7: 0 | HW7: 0 | HY7: 0 | IA7: 0 | IC7: 0 | IE7: 0 | IG7: 0
B8: =Données!E18 -> rr | I8: =(F8-E8)+(H8-G8) -> 0 | J8: =$A$10-I8 -> 0.35416667 | P8: =(M8-L8)+(O8-N8) -> 0 | Q8: =$A$10-P8 -> 0.35416667 | W8: =(T8-S8)+(V8-U8) -> 0 | X8: =$A$10-W8 -> 0.35416667 | AD8: =(AA8-Z8)+(AC8-AB8) -> 0 | AE8: =$A$10-AD8 -> 0.35416667 | AK8: =(AH8-AG8)+(AJ8-AI8) -> 0 | AL8: =$A$10-AK8 -> 0.35416667 | AR8: =(AO8-AN8)+(AQ8-AP8) -> 0 | AS8: =$A$10-AR8 -> 0.35416667 | AY8: =(AV8-AU8)+(AX8-AW8) -> 0 | AZ8: =$A$10-AY8 -> 0.35416667 | BF8: =(BC8-BB8)+(BE8-BD8) -> 0 | BG8: =$A$10-BF8 -> 0.35416667 | BM8: =(BJ8-BI8)+(BL8-BK8) -> 0 | BN8: =$A$10-BM8 -> 0.35416667 | BT8: =(BQ8-BP8)+(BS8-BR8) -> 0 | BU8: =$A$10-BT8 -> 0.35416667 | CA8: =(BX8-BW8)+(BZ8-BY8) -> 0 | CB8: =$A$10-CA8 -> 0.35416667 | CH8: =(CE8-CD8)+(CG8-CF8) -> 0 | CI8: =$A$10-CH8 -> 0.35416667 | CO8: =(CL8-CK8)+(CN8-CM8) -> 0 | CP8: =$A$10-CO8 -> 0.35416667 | CV8: =(CS8-CR8)+(CU8-CT8) -> 0 | CW8: =$A$10-CV8 -> 0.35416667 | DC8: =(CZ8-CY8)+(DB8-DA8) -> 0 | DD8: =$A$10-DC8 -> 0.35416667 | DJ8: =(DG8-DF8)+(DI8-DH8) -> 0 | DK8: =$A$10-DJ8 -> 0.35416667 | DQ8: =(DN8-DM8)+(DP8-DO8) -> 0 | DR8: =$A$10-DQ8 -> 0.35416667 | DX8: =(DU8-DT8)+(DW8-DV8) -> 0 | DY8: =$A$10-DX8 -> 0.35416667 | EE8: =(EB8-EA8)+(ED8-EC8) -> 0 | EF8: =$A$10-EE8 -> 0.35416667 | EL8: =(EI8-EH8)+(EK8-EJ8) -> 0 | EM8: =$A$10-EL8 -> 0.35416667 | ES8: =(EP8-EO8)+(ER8-EQ8) -> 0 | ET8: =$A$10-ES8 -> 0.35416667 | EZ8: =(EW8-EV8)+(EY8-EX8) -> 0 | FA8: =$A$10-EZ8 -> 0.35416667 | FG8: =(FD8-FC8)+(FF8-FE8) -> 0 | FH8: =$A$10-FG8 -> 0.35416667 | FN8: =(FK8-FJ8)+(FM8-FL8) -> 0 | FO8: =$A$10-FN8 -> 0.35416667 | FU8: =(FR8-FQ8)+(FT8-FS8) -> 0 | FV8: =$A$10-FU8 -> 0.35416667 | GB8: =(FY8-FX8)+(GA8-FZ8) -> 0 | GC8: =$A$10-GB8 -> 0.35416667 | GI8: =(GF8-GE8)+(GH8-GG8) -> 0 | GJ8: =$A$10-GI8 -> 0.35416667 | GP8: =(GM8-GL8)+(GO8-GN8) -> 0 | GQ8: =$A$10-GP8 -> 0.35416667 | GW8: =(GT8-GS8)+(GV8-GU8) -> 0 | GX8: =$A$10-GW8 -> 0.35416667 | HD8: =(HA8-GZ8)+(HC8-HB8) -> 0 | HE8: =$A$10-HD8 -> 0.35416667 | HK8: =(HH8-HG8)+(HJ8-HI8) -> 0 | HL8: =$A$10-HK8 -> 0.35416667 | HO8: 0 | HQ8: 0 | HS8: 0 | HU8: 0 | HW8: 0 | HY8: 0 | IA8: 0 | IC8: 0 | IE8: 0 | IG8: 0
B9: =Données!E19 -> tt | I9: =(F9-E9)+(H9-G9) -> 0 | J9: =$A$10-I9 -> 0.35416667 | P9: =(M9-L9)+(O9-N9) -> 0 | Q9: =$A$10-P9 -> 0.35416667 | W9: =(T9-S9)+(V9-U9) -> 0 | X9: =$A$10-W9 -> 0.35416667 | AD9: =(AA9-Z9)+(AC9-AB9) -> 0 | AE9: =$A$10-AD9 -> 0.35416667 | AK9: =(AH9-AG9)+(AJ9-AI9) -> 0 | AL9: =$A$10-AK9 -> 0.35416667 | AR9: =(AO9-AN9)+(AQ9-AP9) -> 0 | AS9: =$A$10-AR9 -> 0.35416667 | AY9: =(AV9-AU9)+(AX9-AW9) -> 0 | AZ9: =$A$10-AY9 -> 0.35416667 | BF9: =(BC9-BB9)+(BE9-BD9) -> 0 | BG9: =$A$10-BF9 -> 0.35416667 | BM9: =(BJ9-BI9)+(BL9-BK9) -> 0 | BN9: =$A$10-BM9 -> 0.35416667 | BT9: =(BQ9-BP9)+(BS9-BR9) -> 0 | BU9: =$A$10-BT9 -> 0.35416667 | CA9: =(BX9-BW9)+(BZ9-BY9) -> 0 | CB9: =$A$10-CA9 -> 0.35416667 | CH9: =(CE9-CD9)+(CG9-CF9) -> 0 | CI9: =$A$10-CH9 -> 0.35416667 | CO9: =(CL9-CK9)+(CN9-CM9) -> 0 | CP9: =$A$10-CO9 -> 0.35416667 | CV9: =(CS9-CR9)+(CU9-CT9) -> 0 | CW9: =$A$10-CV9 -> 0.35416667 | DC9: =(CZ9-CY9)+(DB9-DA9) -> 0 | DD9: =$A$10-DC9 -> 0.35416667 | DJ9: =(DG9-DF9)+(DI9-DH9) -> 0 | DK9: =$A$10-DJ9 -> 0.35416667 | DQ9: =(DN9-DM9)+(DP9-DO9) -> 0 | DR9: =$A$10-DQ9 -> 0.35416667 | DX9: =(DU9-DT9)+(DW9-DV9) -> 0 | DY9: =$A$10-DX9 -> 0.35416667 | EE9: =(EB9-EA9)+(ED9-EC9) -> 0 | EF9: =$A$10-EE9 -> 0.35416667 | EL9: =(EI9-EH9)+(EK9-EJ9) -> 0 | EM9: =$A$10-EL9 -> 0.35416667 | ES9: =(EP9-EO9)+(ER9-EQ9) -> 0 | ET9: =$A$10-ES9 -> 0.35416667 | EZ9: =(EW9-EV9)+(EY9-EX9) -> 0 | FA9: =$A$10-EZ9 -> 0.35416667 | FG9: =(FD9-FC9)+(FF9-FE9) -> 0 | FH9: =$A$10-FG9 -> 0.35416667 | FN9: =(FK9-FJ9)+(FM9-FL9) -> 0 | FO9: =$A$10-FN9 -> 0.35416667 | FU9: =(FR9-FQ9)+(FT9-FS9) -> 0 | FV9: =$A$10-FU9 -> 0.35416667 | GB9: =(FY9-FX9)+(GA9-FZ9) -> 0 | GC9: =$A$10-GB9 -> 0.35416667 | GI9: =(GF9-GE9)+(GH9-GG9) -> 0 | GJ9: =$A$10-GI9 -> 0.35416667 | GP9: =(GM9-GL9)+(GO9-GN9) -> 0 | GQ9: =$A$10-GP9 -> 0.35416667 | GW9: =(GT9-GS9)+(GV9-GU9) -> 0 | GX9: =$A$10-GW9 -> 0.35416667 | HD9: =(HA9-GZ9)+(HC9-HB9) -> 0 | HE9: =$A$10-HD9 -> 0.35416667 | HK9: =(HH9-HG9)+(HJ9-HI9) -> 0 | HL9: =$A$10-HK9 -> 0.35416667 | HO9: 0 | HQ9: 0 | HS9: 0 | HU9: 0 | HW9: 0 | HY9: 0 | IA9: 0 | IC9: 0 | IE9: 0 | IG9: 0
A10: 0.35416667 | B10: =Données!E20 -> yy | I10: =(F10-E10)+(H10-G10) -> 0 | J10: =$A$10-I10 -> 0.35416667 | P10: =(M10-L10)+(O10-N10) -> 0 | Q10: =$A$10-P10 -> 0.35416667 | W10: =(T10-S10)+(V10-U10) -> 0 | X10: =$A$10-W10 -> 0.35416667 | AD10: =(AA10-Z10)+(AC10-AB10) -> 0 | AE10: =$A$10-AD10 -> 0.35416667 | AK10: =(AH10-AG10)+(AJ10-AI10) -> 0 | AL10: =$A$10-AK10 -> 0.35416667 | AR10: =(AO10-AN10)+(AQ10-AP10) -> 0 | AS10: =$A$10-AR10 -> 0.35416667 | AY10: =(AV10-AU10)+(AX10-AW10) -> 0 | AZ10: =$A$10-AY10 -> 0.35416667 | BF10: =(BC10-BB10)+(BE10-BD10) -> 0 | BG10: =$A$10-BF10 -> 0.35416667 | BM10: =(BJ10-BI10)+(BL10-BK10) -> 0 | BN10: =$A$10-BM10 -> 0.35416667 | BT10: =(BQ10-BP10)+(BS10-BR10) -> 0 | BU10: =$A$10-BT10 -> 0.35416667 | CA10: =(BX10-BW10)+(BZ10-BY10) -> 0 | CB10: =$A$10-CA10 -> 0.35416667 | CH10: =(CE10-CD10)+(CG10-CF10) -> 0 | CI10: =$A$10-CH10 -> 0.35416667 | CO10: =(CL10-CK10)+(CN10-CM10) -> 0 | CP10: =$A$10-CO10 -> 0.35416667 | CV10: =(CS10-CR10)+(CU10-CT10) -> 0 | CW10: =$A$10-CV10 -> 0.35416667 | DC10: =(CZ10-CY10)+(DB10-DA10) -> 0 | DD10: =$A$10-DC10 -> 0.35416667 | DJ10: =(DG10-DF10)+(DI10-DH10) -> 0 | DK10: =$A$10-DJ10 -> 0.35416667 | DQ10: =(DN10-DM10)+(DP10-DO10) -> 0 | DR10: =$A$10-DQ10 -> 0.35416667 | DX10: =(DU10-DT10)+(DW10-DV10) -> 0 | DY10: =$A$10-DX10 -> 0.35416667 | EE10: =(EB10-EA10)+(ED10-EC10) -> 0 | EF10: =$A$10-EE10 -> 0.35416667 | EL10: =(EI10-EH10)+(EK10-EJ10) -> 0 | EM10: =$A$10-EL10 -> 0.35416667 | ES10: =(EP10-EO10)+(ER10-EQ10) -> 0 | ET10: =$A$10-ES10 -> 0.35416667 | EZ10: =(EW10-EV10)+(EY10-EX10) -> 0 | FA10: =$A$10-EZ10 -> 0.35416667 | FG10: =(FD10-FC10)+(FF10-FE10) -> 0 | FH10: =$A$10-FG10 -> 0.35416667 | FN10: =(FK10-FJ10)+(FM10-FL10) -> 0 | FO10: =$A$10-FN10 -> 0.35416667 | FU10: =(FR10-FQ10)+(FT10-FS10) -> 0 | FV10: =$A$10-FU10 -> 0.35416667 | GB10: =(FY10-FX10)+(GA10-FZ10) -> 0 | GC10: =$A$10-GB10 -> 0.35416667 | GI10: =(GF10-GE10)+(GH10-GG10) -> 0 | GJ10: =$A$10-GI10 -> 0.35416667 | GP10: =(GM10-GL10)+(GO10-GN10) -> 0 | GQ10: =$A$10-GP10 -> 0.35416667 | GW10: =(GT10-GS10)+(GV10-GU10) -> 0 | GX10: =$A$10-GW10 -> 0.35416667 | HD10: =(HA10-GZ10)+(HC10-HB10) -> 0 | HE10: =$A$10-HD10 -> 0.35416667 | HK10: =(HH10-HG10)+(HJ10-HI10) -> 0 | HL10: =$A$10-HK10 -> 0.35416667 | HO10: 0 | HQ10: 0 | HS10: 0 | HU10: 0 | HW10: 0 | HY10: 0 | IA10: 0 | IC10: 0 | IE10: 0 | IG10: 0
B11: =Données!E21 -> uu | I11: =(F11-E11)+(H11-G11) -> 0 | J11: =$A$10-I11 -> 0.35416667 | P11: =(M11-L11)+(O11-N11) -> 0 | Q11: =$A$10-P11 -> 0.35416667 | W11: =(T11-S11)+(V11-U11) -> 0 | X11: =$A$10-W11 -> 0.35416667 | AD11: =(AA11-Z11)+(AC11-AB11) -> 0 | AE11: =$A$10-AD11 -> 0.35416667 | AK11: =(AH11-AG11)+(AJ11-AI11) -> 0 | AL11: =$A$10-AK11 -> 0.35416667 | AR11: =(AO11-AN11)+(AQ11-AP11) -> 0 | AS11: =$A$10-AR11 -> 0.35416667 | AY11: =(AV11-AU11)+(AX11-AW11) -> 0 | AZ11: =$A$10-AY11 -> 0.35416667 | BF11: =(BC11-BB11)+(BE11-BD11) -> 0 | BG11: =$A$10-BF11 -> 0.35416667 | BM11: =(BJ11-BI11)+(BL11-BK11) -> 0 | BN11: =$A$10-BM11 -> 0.35416667 | BT11: =(BQ11-BP11)+(BS11-BR11) -> 0 | BU11: =$A$10-BT11 -> 0.35416667 | CA11: =(BX11-BW11)+(BZ11-BY11) -> 0 | CB11: =$A$10-CA11 -> 0.35416667 | CH11: =(CE11-CD11)+(CG11-CF11) -> 0 | CI11: =$A$10-CH11 -> 0.35416667 | CO11: =(CL11-CK11)+(CN11-CM11) -> 0 | CP11: =$A$10-CO11 -> 0.35416667 | CV11: =(CS11-CR11)+(CU11-CT11) -> 0 | CW11: =$A$10-CV11 -> 0.35416667 | DC11: =(CZ11-CY11)+(DB11-DA11) -> 0 | DD11: =$A$10-DC11 -> 0.35416667 | DJ11: =(DG11-DF11)+(DI11-DH11) -> 0 | DK11: =$A$10-DJ11 -> 0.35416667 | DQ11: =(DN11-DM11)+(DP11-DO11) -> 0 | DR11: =$A$10-DQ11 -> 0.35416667 | DX11: =(DU11-DT11)+(DW11-DV11) -> 0 | DY11: =$A$10-DX11 -> 0.35416667 | EE11: =(EB11-EA11)+(ED11-EC11) -> 0 | EF11: =$A$10-EE11 -> 0.35416667 | EL11: =(EI11-EH11)+(EK11-EJ11) -> 0 | EM11: =$A$10-EL11 -> 0.35416667 | ES11: =(EP11-EO11)+(ER11-EQ11) -> 0 | ET11: =$A$10-ES11 -> 0.35416667 | EZ11: =(EW11-EV11)+(EY11-EX11) -> 0 | FA11: =$A$10-EZ11 -> 0.35416667 | FG11: =(FD11-FC11)+(FF11-FE11) -> 0 | FH11: =$A$10-FG11 -> 0.35416667 | FN11: =(FK11-FJ11)+(FM11-FL11) -> 0 | FO11: =$A$10-FN11 -> 0.35416667 | FU11: =(FR11-FQ11)+(FT11-FS11) -> 0 | FV11: =$A$10-FU11 -> 0.35416667 | GB11: =(FY11-FX11)+(GA11-FZ11) -> 0 | GC11: =$A$10-GB11 -> 0.35416667 | GI11: =(GF11-GE11)+(GH11-GG11) -> 0 | GJ11: =$A$10-GI11 -> 0.35416667 | GP11: =(GM11-GL11)+(GO11-GN11) -> 0 | GQ11: =$A$10-GP11 -> 0.35416667 | GW11: =(GT11-GS11)+(GV11-GU11) -> 0 | GX11: =$A$10-GW11 -> 0.35416667 | HD11: =(HA11-GZ11)+(HC11-HB11) -> 0 | HE11: =$A$10-HD11 -> 0.35416667 | HK11: =(HH11-HG11)+(HJ11-HI11) -> 0 | HL11: =$A$10-HK11 -> 0.35416667 | HO11: 0 | HQ11: 0 | HS11: 0 | HU11: 0 | HW11: 0 | HY11: 0 | IA11: 0 | IC11: 0 | IE11: 0 | IG11: 0
B12: =Données!E22 -> ii | I12: =(F12-E12)+(H12-G12) -> 0 | J12: =$A$10-I12 -> 0.35416667 | P12: =(M12-L12)+(O12-N12) -> 0 | Q12: =$A$10-P12 -> 0.35416667 | W12: =(T12-S12)+(V12-U12) -> 0 | X12: =$A$10-W12 -> 0.35416667 | AD12: =(AA12-Z12)+(AC12-AB12) -> 0 | AE12: =$A$10-AD12 -> 0.35416667 | AK12: =(AH12-AG12)+(AJ12-AI12) -> 0 | AL12: =$A$10-AK12 -> 0.35416667 | AR12: =(AO12-AN12)+(AQ12-AP12) -> 0 | AS12: =$A$10-AR12 -> 0.35416667 | AY12: =(AV12-AU12)+(AX12-AW12) -> 0 | AZ12: =$A$10-AY12 -> 0.35416667 | BF12: =(BC12-BB12)+(BE12-BD12) -> 0 | BG12: =$A$10-BF12 -> 0.35416667 | BM12: =(BJ12-BI12)+(BL12-BK12) -> 0 | BN12: =$A$10-BM12 -> 0.35416667 | BT12: =(BQ12-BP12)+(BS12-BR12) -> 0 | BU12: =$A$10-BT12 -> 0.35416667 | CA12: =(BX12-BW12)+(BZ12-BY12) -> 0 | CB12: =$A$10-CA12 -> 0.35416667 | CH12: =(CE12-CD12)+(CG12-CF12) -> 0 | CI12: =$A$10-CH12 -> 0.35416667 | CO12: =(CL12-CK12)+(CN12-CM12) -> 0 | CP12: =$A$10-CO12 -> 0.35416667 | CV12: =(CS12-CR12)+(CU12-CT12) -> 0 | CW12: =$A$10-CV12 -> 0.35416667 | DC12: =(CZ12-CY12)+(DB12-DA12) -> 0 | DD12: =$A$10-DC12 -> 0.35416667 | DJ12: =(DG12-DF12)+(DI12-DH12) -> 0 | DK12: =$A$10-DJ12 -> 0.35416667 | DQ12: =(DN12-DM12)+(DP12-DO12) -> 0 | DR12: =$A$10-DQ12 -> 0.35416667 | DX12: =(DU12-DT12)+(DW12-DV12) -> 0 | DY12: =$A$10-DX12 -> 0.35416667 | EE12: =(EB12-EA12)+(ED12-EC12) -> 0 | EF12: =$A$10-EE12 -> 0.35416667 | EL12: =(EI12-EH12)+(EK12-EJ12) -> 0 | EM12: =$A$10-EL12 -> 0.35416667 | ES12: =(EP12-EO12)+(ER12-EQ12) -> 0 | ET12: =$A$10-ES12 -> 0.35416667 | EZ12: =(EW12-EV12)+(EY12-EX12) -> 0 | FA12: =$A$10-EZ12 -> 0.35416667 | FG12: =(FD12-FC12)+(FF12-FE12) -> 0 | FH12: =$A$10-FG12 -> 0.35416667 | FN12: =(FK12-FJ12)+(FM12-FL12) -> 0 | FO12: =$A$10-FN12 -> 0.35416667 | FU12: =(FR12-FQ12)+(FT12-FS12) -> 0 | FV12: =$A$10-FU12 -> 0.35416667 | GB12: =(FY12-FX12)+(GA12-FZ12) -> 0 | GC12: =$A$10-GB12 -> 0.35416667 | GI12: =(GF12-GE12)+(GH12-GG12) -> 0 | GJ12: =$A$10-GI12 -> 0.35416667 | GP12: =(GM12-GL12)+(GO12-GN12) -> 0 | GQ12: =$A$10-GP12 -> 0.35416667 | GW12: =(GT12-GS12)+(GV12-GU12) -> 0 | GX12: =$A$10-GW12 -> 0.35416667 | HD12: =(HA12-GZ12)+(HC12-HB12) -> 0 | HE12: =$A$10-HD12 -> 0.35416667 | HK12: =(HH12-HG12)+(HJ12-HI12) -> 0 | HL12: =$A$10-HK12 -> 0.35416667 | HO12: 0 | HQ12: 0 | HS12: 0 | HU12: 0 | HW12: 0 | HY12: 0 | IA12: 0 | IC12: 0 | IE12: 0 | IG12: 0
B13: =Données!E23 -> titi | I13: =(F13-E13)+(H13-G13) -> 0 | J13: =$A$10-I13 -> 0.35416667 | P13: =(M13-L13)+(O13-N13) -> 0 | Q13: =$A$10-P13 -> 0.35416667 | W13: =(T13-S13)+(V13-U13) -> 0 | X13: =$A$10-W13 -> 0.35416667 | AD13: =(AA13-Z13)+(AC13-AB13) -> 0 | AE13: =$A$10-AD13 -> 0.35416667 | AK13: =(AH13-AG13)+(AJ13-AI13) -> 0 | AL13: =$A$10-AK13 -> 0.35416667 | AR13: =(AO13-AN13)+(AQ13-AP13) -> 0 | AS13: =$A$10-AR13 -> 0.35416667 | AY13: =(AV13-AU13)+(AX13-AW13) -> 0 | AZ13: =$A$10-AY13 -> 0.35416667 | BF13: =(BC13-BB13)+(BE13-BD13) -> 0 | BG13: =$A$10-BF13 -> 0.35416667 | BM13: =(BJ13-BI13)+(BL13-BK13) -> 0 | BN13: =$A$10-BM13 -> 0.35416667 | BT13: =(BQ13-BP13)+(BS13-BR13) -> 0 | BU13: =$A$10-BT13 -> 0.35416667 | CA13: =(BX13-BW13)+(BZ13-BY13) -> 0 | CB13: =$A$10-CA13 -> 0.35416667 | CH13: =(CE13-CD13)+(CG13-CF13) -> 0 | CI13: =$A$10-CH13 -> 0.35416667 | CO13: =(CL13-CK13)+(CN13-CM13) -> 0 | CP13: =$A$10-CO13 -> 0.35416667 | CV13: =(CS13-CR13)+(CU13-CT13) -> 0 | CW13: =$A$10-CV13 -> 0.35416667 | DC13: =(CZ13-CY13)+(DB13-DA13) -> 0 | DD13: =$A$10-DC13 -> 0.35416667 | DJ13: =(DG13-DF13)+(DI13-DH13) -> 0 | DK13: =$A$10-DJ13 -> 0.35416667 | DQ13: =(DN13-DM13)+(DP13-DO13) -> 0 | DR13: =$A$10-DQ13 -> 0.35416667 | DX13: =(DU13-DT13)+(DW13-DV13) -> 0 | DY13: =$A$10-DX13 -> 0.35416667 | EE13: =(EB13-EA13)+(ED13-EC13) -> 0 | EF13: =$A$10-EE13 -> 0.35416667 | EL13: =(EI13-EH13)+(EK13-EJ13) -> 0 | EM13: =$A$10-EL13 -> 0.35416667 | ES13: =(EP13-EO13)+(ER13-EQ13) -> 0 | ET13: =$A$10-ES13 -> 0.35416667 | EZ13: =(EW13-EV13)+(EY13-EX13) -> 0 | FA13: =$A$10-EZ13 -> 0.35416667 | FG13: =(FD13-FC13)+(FF13-FE13) -> 0 | FH13: =$A$10-FG13 -> 0.35416667 | FN13: =(FK13-FJ13)+(FM13-FL13) -> 0 | FO13: =$A$10-FN13 -> 0.35416667 | FU13: =(FR13-FQ13)+(FT13-FS13) -> 0 | FV13: =$A$10-FU13 -> 0.35416667 | GB13: =(FY13-FX13)+(GA13-FZ13) -> 0 | GC13: =$A$10-GB13 -> 0.35416667 | GI13: =(GF13-GE13)+(GH13-GG13) -> 0 | GJ13: =$A$10-GI13 -> 0.35416667 | GP13: =(GM13-GL13)+(GO13-GN13) -> 0 | GQ13: =$A$10-GP13 -> 0.35416667 | GW13: =(GT13-GS13)+(GV13-GU13) -> 0 | GX13: =$A$10-GW13 -> 0.35416667 | HD13: =(HA13-GZ13)+(HC13-HB13) -> 0 | HE13: =$A$10-HD13 -> 0.35416667 | HK13: =(HH13-HG13)+(HJ13-HI13) -> 0 | HL13: =$A$10-HK13 -> 0.35416667 | HO13: 0 | HQ13: 0 | HS13: 0 | HU13: 0 | HW13: 0 | HY13: 0 | IA13: 0 | IC13: 0 | IE13: 0 | IG13: 0
B14: =Données!E24 -> tata | I14: =(F14-E14)+(H14-G14) -> 0 | J14: =$A$10-I14 -> 0.35416667 | P14: =(M14-L14)+(O14-N14) -> 0 | Q14: =$A$10-P14 -> 0.35416667 | W14: =(T14-S14)+(V14-U14) -> 0 | X14: =$A$10-W14 -> 0.35416667 | AD14: =(AA14-Z14)+(AC14-AB14) -> 0 | AE14: =$A$10-AD14 -> 0.35416667 | AK14: =(AH14-AG14)+(AJ14-AI14) -> 0 | AL14: =$A$10-AK14 -> 0.35416667 | AR14: =(AO14-AN14)+(AQ14-AP14) -> 0 | AS14: =$A$10-AR14 -> 0.35416667 | AY14: =(AV14-AU14)+(AX14-AW14) -> 0 | AZ14: =$A$10-AY14 -> 0.35416667 | BF14: =(BC14-BB14)+(BE14-BD14) -> 0 | BG14: =$A$10-BF14 -> 0.35416667 | BM14: =(BJ14-BI14)+(BL14-BK14) -> 0 | BN14: =$A$10-BM14 -> 0.35416667 | BT14: =(BQ14-BP14)+(BS14-BR14) -> 0 | BU14: =$A$10-BT14 -> 0.35416667 | CA14: =(BX14-BW14)+(BZ14-BY14) -> 0 | CB14: =$A$10-CA14 -> 0.35416667 | CH14: =(CE14-CD14)+(CG14-CF14) -> 0 | CI14: =$A$10-CH14 -> 0.35416667 | CO14: =(CL14-CK14)+(CN14-CM14) -> 0 | CP14: =$A$10-CO14 -> 0.35416667 | CV14: =(CS14-CR14)+(CU14-CT14) -> 0 | CW14: =$A$10-CV14 -> 0.35416667 | DC14: =(CZ14-CY14)+(DB14-DA14) -> 0 | DD14: =$A$10-DC14 -> 0.35416667 | DJ14: =(DG14-DF14)+(DI14-DH14) -> 0 | DK14: =$A$10-DJ14 -> 0.35416667 | DQ14: =(DN14-DM14)+(DP14-DO14) -> 0 | DR14: =$A$10-DQ14 -> 0.35416667 | DX14: =(DU14-DT14)+(DW14-DV14) -> 0 | DY14: =$A$10-DX14 -> 0.35416667 | EE14: =(EB14-EA14)+(ED14-EC14) -> 0 | EF14: =$A$10-EE14 -> 0.35416667 | EL14: =(EI14-EH14)+(EK14-EJ14) -> 0 | EM14: =$A$10-EL14 -> 0.35416667 | ES14: =(EP14-EO14)+(ER14-EQ14) -> 0 | ET14: =$A$10-ES14 -> 0.35416667 | EZ14: =(EW14-EV14)+(EY14-EX14) -> 0 | FA14: =$A$10-EZ14 -> 0.35416667 | FG14: =(FD14-FC14)+(FF14-FE14) -> 0 | FH14: =$A$10-FG14 -> 0.35416667 | FN14: =(FK14-FJ14)+(FM14-FL14) -> 0 | FO14: =$A$10-FN14 -> 0.35416667 | FU14: =(FR14-FQ14)+(FT14-FS14) -> 0 | FV14: =$A$10-FU14 -> 0.35416667 | GB14: =(FY14-FX14)+(GA14-FZ14) -> 0 | GC14: =$A$10-GB14 -> 0.35416667 | GI14: =(GF14-GE14)+(GH14-GG14) -> 0 | GJ14: =$A$10-GI14 -> 0.35416667 | GP14: =(GM14-GL14)+(GO14-GN14) -> 0 | GQ14: =$A$10-GP14 -> 0.35416667 | GW14: =(GT14-GS14)+(GV14-GU14) -> 0 | GX14: =$A$10-GW14 -> 0.35416667 | HD14: =(HA14-GZ14)+(HC14-HB14) -> 0 | HE14: =$A$10-HD14 -> 0.35416667 | HK14: =(HH14-HG14)+(HJ14-HI14) -> 0 | HL14: =$A$10-HK14 -> 0.35416667 | HO14: 0 | HQ14: 0 | HS14: 0 | HU14: 0 | HW14: 0 | HY14: 0 | IA14: 0 | IC14: 0 | IE14: 0 | IG14: 0
B15: =Données!E25 -> 0 | I15: =(F15-E15)+(H15-G15) -> 0 | J15: =$A$10-I15 -> 0.35416667 | P15: =(M15-L15)+(O15-N15) -> 0 | Q15: =$A$10-P15 -> 0.35416667 | W15: =(T15-S15)+(V15-U15) -> 0 | X15: =$A$10-W15 -> 0.35416667 | AD15: =(AA15-Z15)+(AC15-AB15) -> 0 | AE15: =$A$10-AD15 -> 0.35416667 | AK15: =(AH15-AG15)+(AJ15-AI15) -> 0 | AL15: =$A$10-AK15 -> 0.35416667 | AR15: =(AO15-AN15)+(AQ15-AP15) -> 0 | AS15: =$A$10-AR15 -> 0.35416667 | AY15: =(AV15-AU15)+(AX15-AW15) -> 0 | AZ15: =$A$10-AY15 -> 0.35416667 | BF15: =(BC15-BB15)+(BE15-BD15) -> 0 | BG15: =$A$10-BF15 -> 0.35416667 | BM15: =(BJ15-BI15)+(BL15-BK15) -> 0 | BN15: =$A$10-BM15 -> 0.35416667 | BT15: =(BQ15-BP15)+(BS15-BR15) -> 0 | BU15: =$A$10-BT15 -> 0.35416667 | CA15: =(BX15-BW15)+(BZ15-BY15) -> 0 | CB15: =$A$10-CA15 -> 0.35416667 | CH15: =(CE15-CD15)+(CG15-CF15) -> 0 | CI15: =$A$10-CH15 -> 0.35416667 | CO15: =(CL15-CK15)+(CN15-CM15) -> 0 | CP15: =$A$10-CO15 -> 0.35416667 | CV15: =(CS15-CR15)+(CU15-CT15) -> 0 | CW15: =$A$10-CV15 -> 0.35416667 | DC15: =(CZ15-CY15)+(DB15-DA15) -> 0 | DD15: =$A$10-DC15 -> 0.35416667 | DJ15: =(DG15-DF15)+(DI15-DH15) -> 0 | DK15: =$A$10-DJ15 -> 0.35416667 | DQ15: =(DN15-DM15)+(DP15-DO15) -> 0 | DR15: =$A$10-DQ15 -> 0.35416667 | DX15: =(DU15-DT15)+(DW15-DV15) -> 0 | DY15: =$A$10-DX15 -> 0.35416667 | EE15: =(EB15-EA15)+(ED15-EC15) -> 0 | EF15: =$A$10-EE15 -> 0.35416667 | EL15: =(EI15-EH15)+(EK15-EJ15) -> 0 | EM15: =$A$10-EL15 -> 0.35416667 | ES15: =(EP15-EO15)+(ER15-EQ15) -> 0 | ET15: =$A$10-ES15 -> 0.35416667 | EZ15: =(EW15-EV15)+(EY15-EX15) -> 0 | FA15: =$A$10-EZ15 -> 0.35416667 | FG15: =(FD15-FC15)+(FF15-FE15) -> 0 | FH15: =$A$10-FG15 -> 0.35416667 | FN15: =(FK15-FJ15)+(FM15-FL15) -> 0 | FO15: =$A$10-FN15 -> 0.35416667 | FU15: =(FR15-FQ15)+(FT15-FS15) -> 0 | FV15: =$A$10-FU15 -> 0.35416667 | GB15: =(FY15-FX15)+(GA15-FZ15) -> 0 | GC15: =$A$10-GB15 -> 0.35416667 | GI15: =(GF15-GE15)+(GH15-GG15) -> 0 | GJ15: =$A$10-GI15 -> 0.35416667 | GP15: =(GM15-GL15)+(GO15-GN15) -> 0 | GQ15: =$A$10-GP15 -> 0.35416667 | GW15: =(GT15-GS15)+(GV15-GU15) -> 0 | GX15: =$A$10-GW15 -> 0.35416667 | HD15: =(HA15-GZ15)+(HC15-HB15) -> 0 | HE15: =$A$10-HD15 -> 0.35416667 | HK15: =(HH15-HG15)+(HJ15-HI15) -> 0 | HL15: =$A$10-HK15 -> 0.35416667 | HO15: 0 | HQ15: 0 | HS15: 0 | HU15: 0 | HW15: 0 | HY15: 0 | IA15: 0 | IC15: 0 | IE15: 0 | IG15: 0
B16: =Données!E26 -> 0 | I16: =(F16-E16)+(H16-G16) -> 0 | J16: =$A$10-I16 -> 0.35416667 | P16: =(M16-L16)+(O16-N16) -> 0 | Q16: =$A$10-P16 -> 0.35416667 | W16: =(T16-S16)+(V16-U16) -> 0 | X16: =$A$10-W16 -> 0.35416667 | AD16: =(AA16-Z16)+(AC16-AB16) -> 0 | AE16: =$A$10-AD16 -> 0.35416667 | AK16: =(AH16-AG16)+(AJ16-AI16) -> 0 | AL16: =$A$10-AK16 -> 0.35416667 | AR16: =(AO16-AN16)+(AQ16-AP16) -> 0 | AS16: =$A$10-AR16 -> 0.35416667 | AY16: =(AV16-AU16)+(AX16-AW16) -> 0 | AZ16: =$A$10-AY16 -> 0.35416667 | BF16: =(BC16-BB16)+(BE16-BD16) -> 0 | BG16: =$A$10-BF16 -> 0.35416667 | BM16: =(BJ16-BI16)+(BL16-BK16) -> 0 | BN16: =$A$10-BM16 -> 0.35416667 | BT16: =(BQ16-BP16)+(BS16-BR16) -> 0 | BU16: =$A$10-BT16 -> 0.35416667 | CA16: =(BX16-BW16)+(BZ16-BY16) -> 0 | CB16: =$A$10-CA16 -> 0.35416667 | CH16: =(CE16-CD16)+(CG16-CF16) -> 0 | CI16: =$A$10-CH16 -> 0.35416667 | CO16: =(CL16-CK16)+(CN16-CM16) -> 0 | CP16: =$A$10-CO16 -> 0.35416667 | CV16: =(CS16-CR16)+(CU16-CT16) -> 0 | CW16: =$A$10-CV16 -> 0.35416667 | DC16: =(CZ16-CY16)+(DB16-DA16) -> 0 | DD16: =$A$10-DC16 -> 0.35416667 | DJ16: =(DG16-DF16)+(DI16-DH16) -> 0 | DK16: =$A$10-DJ16 -> 0.35416667 | DQ16: =(DN16-DM16)+(DP16-DO16) -> 0 | DR16: =$A$10-DQ16 -> 0.35416667 | DX16: =(DU16-DT16)+(DW16-DV16) -> 0 | DY16: =$A$10-DX16 -> 0.35416667 | EE16: =(EB16-EA16)+(ED16-EC16) -> 0 | EF16: =$A$10-EE16 -> 0.35416667 | EL16: =(EI16-EH16)+(EK16-EJ16) -> 0 | EM16: =$A$10-EL16 -> 0.35416667 | ES16: =(EP16-EO16)+(ER16-EQ16) -> 0 | ET16: =$A$10-ES16 -> 0.35416667 | EZ16: =(EW16-EV16)+(EY16-EX16) -> 0 | FA16: =$A$10-EZ16 -> 0.35416667 | FG16: =(FD16-FC16)+(FF16-FE16) -> 0 | FH16: =$A$10-FG16 -> 0.35416667 | FN16: =(FK16-FJ16)+(FM16-FL16) -> 0 | FO16: =$A$10-FN16 -> 0.35416667 | FU16: =(FR16-FQ16)+(FT16-FS16) -> 0 | FV16: =$A$10-FU16 -> 0.35416667 | GB16: =(FY16-FX16)+(GA16-FZ16) -> 0 | GC16: =$A$10-GB16 -> 0.35416667 | GI16: =(GF16-GE16)+(GH16-GG16) -> 0 | GJ16: =$A$10-GI16 -> 0.35416667 | GP16: =(GM16-GL16)+(GO16-GN16) -> 0 | GQ16: =$A$10-GP16 -> 0.35416667 | GW16: =(GT16-GS16)+(GV16-GU16) -> 0 | GX16: =$A$10-GW16 -> 0.35416667 | HD16: =(HA16-GZ16)+(HC16-HB16) -> 0 | HE16: =$A$10-HD16 -> 0.35416667 | HK16: =(HH16-HG16)+(HJ16-HI16) -> 0 | HL16: =$A$10-HK16 -> 0.35416667 | HO16: 0 | HQ16: 0 | HS16: 0 | HU16: 0 | HW16: 0 | HY16: 0 | IA16: 0 | IC16: 0 | IE16: 0 | IG16: 0
B17: =Données!E27 -> 0 | I17: =(F17-E17)+(H17-G17) -> 0 | J17: =$A$10-I17 -> 0.35416667 | P17: =(M17-L17)+(O17-N17) -> 0 | Q17: =$A$10-P17 -> 0.35416667 | W17: =(T17-S17)+(V17-U17) -> 0 | X17: =$A$10-W17 -> 0.35416667 | AD17: =(AA17-Z17)+(AC17-AB17) -> 0 | AE17: =$A$10-AD17 -> 0.35416667 | AK17: =(AH17-AG17)+(AJ17-AI17) -> 0 | AL17: =$A$10-AK17 -> 0.35416667 | AR17: =(AO17-AN17)+(AQ17-AP17) -> 0 | AS17: =$A$10-AR17 -> 0.35416667 | AY17: =(AV17-AU17)+(AX17-AW17) -> 0 | AZ17: =$A$10-AY17 -> 0.35416667 | BF17: =(BC17-BB17)+(BE17-BD17) -> 0 | BG17: =$A$10-BF17 -> 0.35416667 | BM17: =(BJ17-BI17)+(BL17-BK17) -> 0 | BN17: =$A$10-BM17 -> 0.35416667 | BT17: =(BQ17-BP17)+(BS17-BR17) -> 0 | BU17: =$A$10-BT17 -> 0.35416667 | CA17: =(BX17-BW17)+(BZ17-BY17) -> 0 | CB17: =$A$10-CA17 -> 0.35416667 | CH17: =(CE17-CD17)+(CG17-CF17) -> 0 | CI17: =$A$10-CH17 -> 0.35416667 | CO17: =(CL17-CK17)+(CN17-CM17) -> 0 | CP17: =$A$10-CO17 -> 0.35416667 | CV17: =(CS17-CR17)+(CU17-CT17) -> 0 | CW17: =$A$10-CV17 -> 0.35416667 | DC17: =(CZ17-CY17)+(DB17-DA17) -> 0 | DD17: =$A$10-DC17 -> 0.35416667 | DJ17: =(DG17-DF17)+(DI17-DH17) -> 0 | DK17: =$A$10-DJ17 -> 0.35416667 | DQ17: =(DN17-DM17)+(DP17-DO17) -> 0 | DR17: =$A$10-DQ17 -> 0.35416667 | DX17: =(DU17-DT17)+(DW17-DV17) -> 0 | DY17: =$A$10-DX17 -> 0.35416667 | EE17: =(EB17-EA17)+(ED17-EC17) -> 0 | EF17: =$A$10-EE17 -> 0.35416667 | EL17: =(EI17-EH17)+(EK17-EJ17) -> 0 | EM17: =$A$10-EL17 -> 0.35416667 | ES17: =(EP17-EO17)+(ER17-EQ17) -> 0 | ET17: =$A$10-ES17 -> 0.35416667 | EZ17: =(EW17-EV17)+(EY17-EX17) -> 0 | FA17: =$A$10-EZ17 -> 0.35416667 | FG17: =(FD17-FC17)+(FF17-FE17) -> 0 | FH17: =$A$10-FG17 -> 0.35416667 | FN17: =(FK17-FJ17)+(FM17-FL17) -> 0 | FO17: =$A$10-FN17 -> 0.35416667 | FU17: =(FR17-FQ17)+(FT17-FS17) -> 0 | FV17: =$A$10-FU17 -> 0.35416667 | GB17: =(FY17-FX17)+(GA17-FZ17) -> 0 | GC17: =$A$10-GB17 -> 0.35416667 | GI17: =(GF17-GE17)+(GH17-GG17) -> 0 | GJ17: =$A$10-GI17 -> 0.35416667 | GP17: =(GM17-GL17)+(GO17-GN17) -> 0 | GQ17: =$A$10-GP17 -> 0.35416667 | GW17: =(GT17-GS17)+(GV17-GU17) -> 0 | GX17: =$A$10-GW17 -> 0.35416667 | HD17: =(HA17-GZ17)+(HC17-HB17) -> 0 | HE17: =$A$10-HD17 -> 0.35416667 | HK17: =(HH17-HG17)+(HJ17-HI17) -> 0 | HL17: =$A$10-HK17 -> 0.35416667 | HO17: 0 | HQ17: 0 | HS17: 0 | HU17: 0 | HW17: 0 | HY17: 0 | IA17: 0 | IC17: 0 | IE17: 0 | IG17: 0
B18: =Données!E28 -> 0 | I18: =(F18-E18)+(H18-G18) -> 0 | J18: =$A$10-I18 -> 0.35416667 | P18: =(M18-L18)+(O18-N18) -> 0 | Q18: =$A$10-P18 -> 0.35416667 | W18: =(T18-S18)+(V18-U18) -> 0 | X18: =$A$10-W18 -> 0.35416667 | AD18: =(AA18-Z18)+(AC18-AB18) -> 0 | AE18: =$A$10-AD18 -> 0.35416667 | AK18: =(AH18-AG18)+(AJ18-AI18) -> 0 | AL18: =$A$10-AK18 -> 0.35416667 | AR18: =(AO18-AN18)+(AQ18-AP18) -> 0 | AS18: =$A$10-AR18 -> 0.35416667 | AY18: =(AV18-AU18)+(AX18-AW18) -> 0 | AZ18: =$A$10-AY18 -> 0.35416667 | BF18: =(BC18-BB18)+(BE18-BD18) -> 0 | BG18: =$A$10-BF18 -> 0.35416667 | BM18: =(BJ18-BI18)+(BL18-BK18) -> 0 | BN18: =$A$10-BM18 -> 0.35416667 | BT18: =(BQ18-BP18)+(BS18-BR18) -> 0 | BU18: =$A$10-BT18 -> 0.35416667 | CA18: =(BX18-BW18)+(BZ18-BY18) -> 0 | CB18: =$A$10-CA18 -> 0.35416667 | CH18: =(CE18-CD18)+(CG18-CF18) -> 0 | CI18: =$A$10-CH18 -> 0.35416667 | CO18: =(CL18-CK18)+(CN18-CM18) -> 0 | CP18: =$A$10-CO18 -> 0.35416667 | CV18: =(CS18-CR18)+(CU18-CT18) -> 0 | CW18: =$A$10-CV18 -> 0.35416667 | DC18: =(CZ18-CY18)+(DB18-DA18) -> 0 | DD18: =$A$10-DC18 -> 0.35416667 | DJ18: =(DG18-DF18)+(DI18-DH18) -> 0 | DK18: =$A$10-DJ18 -> 0.35416667 | DQ18: =(DN18-DM18)+(DP18-DO18) -> 0 | DR18: =$A$10-DQ18 -> 0.35416667 | DX18: =(DU18-DT18)+(DW18-DV18) -> 0 | DY18: =$A$10-DX18 -> 0.35416667 | EE18: =(EB18-EA18)+(ED18-EC18) -> 0 | EF18: =$A$10-EE18 -> 0.35416667 | EL18: =(EI18-EH18)+(EK18-EJ18) -> 0 | EM18: =$A$10-EL18 -> 0.35416667 | ES18: =(EP18-EO18)+(ER18-EQ18) -> 0 | ET18: =$A$10-ES18 -> 0.35416667 | EZ18: =(EW18-EV18)+(EY18-EX18) -> 0 | FA18: =$A$10-EZ18 -> 0.35416667 | FG18: =(FD18-FC18)+(FF18-FE18) -> 0 | FH18: =$A$10-FG18 -> 0.35416667 | FN18: =(FK18-FJ18)+(FM18-FL18) -> 0 | FO18: =$A$10-FN18 -> 0.35416667 | FU18: =(FR18-FQ18)+(FT18-FS18) -> 0 | FV18: =$A$10-FU18 -> 0.35416667 | GB18: =(FY18-FX18)+(GA18-FZ18) -> 0 | GC18: =$A$10-GB18 -> 0.35416667 | GI18: =(GF18-GE18)+(GH18-GG18) -> 0 | GJ18: =$A$10-GI18 -> 0.35416667 | GP18: =(GM18-GL18)+(GO18-GN18) -> 0 | GQ18: =$A$10-GP18 -> 0.35416667 | GW18: =(GT18-GS18)+(GV18-GU18) -> 0 | GX18: =$A$10-GW18 -> 0.35416667 | HD18: =(HA18-GZ18)+(HC18-HB18) -> 0 | HE18: =$A$10-HD18 -> 0.35416667 | HK18: =(HH18-HG18)+(HJ18-HI18) -> 0 | HL18: =$A$10-HK18 -> 0.35416667 | HO18: 0 | HQ18: 0 | HS18: 0 | HU18: 0 | HW18: 0 | HY18: 0 | IA18: 0 | IC18: 0 | IE18: 0 | IG18: 0
B19: =Données!E29 -> 0 | I19: =(F19-E19)+(H19-G19) -> 0 | J19: =$A$10-I19 -> 0.35416667 | P19: =(M19-L19)+(O19-N19) -> 0 | Q19: =$A$10-P19 -> 0.35416667 | W19: =(T19-S19)+(V19-U19) -> 0 | X19: =$A$10-W19 -> 0.35416667 | AD19: =(AA19-Z19)+(AC19-AB19) -> 0 | AE19: =$A$10-AD19 -> 0.35416667 | AK19: =(AH19-AG19)+(AJ19-AI19) -> 0 | AL19: =$A$10-AK19 -> 0.35416667 | AR19: =(AO19-AN19)+(AQ19-AP19) -> 0 | AS19: =$A$10-AR19 -> 0.35416667 | AY19: =(AV19-AU19)+(AX19-AW19) -> 0 | AZ19: =$A$10-AY19 -> 0.35416667 | BF19: =(BC19-BB19)+(BE19-BD19) -> 0 | BG19: =$A$10-BF19 -> 0.35416667 | BM19: =(BJ19-BI19)+(BL19-BK19) -> 0 | BN19: =$A$10-BM19 -> 0.35416667 | BT19: =(BQ19-BP19)+(BS19-BR19) -> 0 | BU19: =$A$10-BT19 -> 0.35416667 | CA19: =(BX19-BW19)+(BZ19-BY19) -> 0 | CB19: =$A$10-CA19 -> 0.35416667 | CH19: =(CE19-CD19)+(CG19-CF19) -> 0 | CI19: =$A$10-CH19 -> 0.35416667 | CO19: =(CL19-CK19)+(CN19-CM19) -> 0 | CP19: =$A$10-CO19 -> 0.35416667 | CV19: =(CS19-CR19)+(CU19-CT19) -> 0 | CW19: =$A$10-CV19 -> 0.35416667 | DC19: =(CZ19-CY19)+(DB19-DA19) -> 0 | DD19: =$A$10-DC19 -> 0.35416667 | DJ19: =(DG19-DF19)+(DI19-DH19) -> 0 | DK19: =$A$10-DJ19 -> 0.35416667 | DQ19: =(DN19-DM19)+(DP19-DO19) -> 0 | DR19: =$A$10-DQ19 -> 0.35416667 | DX19: =(DU19-DT19)+(DW19-DV19) -> 0 | DY19: =$A$10-DX19 -> 0.35416667 | EE19: =(EB19-EA19)+(ED19-EC19) -> 0 | EF19: =$A$10-EE19 -> 0.35416667 | EL19: =(EI19-EH19)+(EK19-EJ19) -> 0 | EM19: =$A$10-EL19 -> 0.35416667 | ES19: =(EP19-EO19)+(ER19-EQ19) -> 0 | ET19: =$A$10-ES19 -> 0.35416667 | EZ19: =(EW19-EV19)+(EY19-EX19) -> 0 | FA19: =$A$10-EZ19 -> 0.35416667 | FG19: =(FD19-FC19)+(FF19-FE19) -> 0 | FH19: =$A$10-FG19 -> 0.35416667 | FN19: =(FK19-FJ19)+(FM19-FL19) -> 0 | FO19: =$A$10-FN19 -> 0.35416667 | FU19: =(FR19-FQ19)+(FT19-FS19) -> 0 | FV19: =$A$10-FU19 -> 0.35416667 | GB19: =(FY19-FX19)+(GA19-FZ19) -> 0 | GC19: =$A$10-GB19 -> 0.35416667 | GI19: =(GF19-GE19)+(GH19-GG19) -> 0 | GJ19: =$A$10-GI19 -> 0.35416667 | GP19: =(GM19-GL19)+(GO19-GN19) -> 0 | GQ19: =$A$10-GP19 -> 0.35416667 | GW19: =(GT19-GS19)+(GV19-GU19) -> 0 | GX19: =$A$10-GW19 -> 0.35416667 | HD19: =(HA19-GZ19)+(HC19-HB19) -> 0 | HE19: =$A$10-HD19 -> 0.35416667 | HK19: =(HH19-HG19)+(HJ19-HI19) -> 0 | HL19: =$A$10-HK19 -> 0.35416667 | HO19: 0 | HQ19: 0 | HS19: 0 | HU19: 0 | HW19: 0 | HY19: 0 | IA19: 0 | IC19: 0 | IE19: 0 | IG19: 0

Sheet fevrier

Sheet mars
