Workbook
Name COLA: 'mes donnees'!$A:$A
Name FAMILLES: OFFSET('mes donnees'!$A$2,,,COUNTA(COLA)-1)
Name LIGNE1: 'mes donnees'!$1:$1

Sheet mes donnees
A1: FAMILLES | B1: AAA | D1: BBB | F1: CCC
A2: AAA | B2: BDV - E 690 / / ME 3 | C2: BLEU RAY | D2: AN-3DG20-B | E2: LUNETTE 3D | F2: BCS - 323 | G2: HOME CINEMA BLEU RAY
A3: BBB | B3: BDV - N 890 W / / ME 3 | C3: BLEU RAY | D3: CARTE AJS VIACCESS | F3: BCS - FS 525 | G3: HOME CINEMA BLEU RAY
A4: CCC | B4: DAV - DZ 840 K | C4: HOME CINEMA | D4: KI-OUA004WJN3 | E4: USB WIRELESS DONGLE(WI FI) | F4: DCS - 222 K | G4: HOME CINEMA DVD
B5: DAV - SZ 1000 W | C5: HOME CINEMA | D5: LC-32 LD 135E | E5: TV / LED | F5: DV - 2022 | G5: D V D
B6: DAV - TZ 140 / / CE 3 | C6: HOME CINEMA | D6: LC-32 LE 350E-BK | E6: TV / LED | F6: DV - 3022 V | G6: D V D
B7: DAV - TZ 715 | C7: HOME CINEMA | D7: LC-39 LE 350E-BK | E7: TV / LED | F7: X - DS 301 - K | G7: RADIO REVEIL
B8: DCR - SR 21 E / BCE 37 | C8: CAMERA | D8: LC-39 LE 650 | E8: TV / LED | F8: X - CM 31 - K | G8: MICRO CHAINE
B9: DCR - SR 21 E / SCE 37 | C9: CAMERA | D9: LC-39 LE 750 E | E9: TV / LED | F9: X - EM 11 | G9: MICRO CHAINE CD
B10: DCR - SX 22 / BCE 37 | C10: CAMERA | D10: LC-50 LE 650 E | E10: TV / LED | F10: X - HM 10-K | G10: MICRO CHAINE
B11: DCR - SX 22 / SC 37 | C11: CAMERA | D11: LC-50 LE 750 E | E11: TV / LED | F11: X - HM 20-S | G11: MICRO CHAINE
B12: DSC - W 610 / BCE32 | C12: APPAREIL PHOTOS | D12: LC-60 LE 635 E | E12: TV / LED | F12: X - SMC 1 - K | G12: MICRO CHAINE
B13: DSC - W 610 / SCE32 | C13: APPAREIL PHOTOS | D13: LC-70 LE 835 E | E13: TV / LED
B14: DSC - W 710 / BCE 37 | C14: APPAREIL PHOTOS | D14: LC-80 LE 657 | E14: TV / LED
B15: DSC - W 710 / PCE 37 | C15: APPAREIL PHOTOS | D15: LC-90 LE 740 X | E15: TV / LED
B16: DSC - W 710 / SCE 37 | C16: APPAREIL PHOTOS
B17: DSC - W 730 / BCE 37 | C17: APPAREIL PHOTOS
B18: DSC - W 730 / SCE 37 | C18: APPAREIL PHOTOS
B19: DSC - WX 80 / BCE 32 | C19: APPAREIL PHOTOS
B20: DSC - WX 80 / WCE 32 | C20: APPAREIL PHOTOS
B21: DVP - SP-R 320 / BCEA 5 | C21: D V D
B22: DVP-SR 760 HPBCEA 5 | C22: D V D
B23: HCD - SH 2000 / MEA 3 | C23: 2/2 CHAINE (WOOFER )
B24: ICF - C 205 / SCSP 5 | C24: RADIO - REVEIL
B25: ICF - C 318 / /BCSP 5 | C25: RADIO - REVEIL
B26: ICF - F 10 / / CE | C26: RADIO
B27: KDL-32 BX 350 AF1 | C27: T V LED
... B56: SS-SH 2000 P / MEA | C56: 1/2 CHAINE( 2-bafes )

Sheet ACHATS
A1: DATE | B1: MOIS | C1: N° BE | D1: FAMILLES | E1: ARTICLES | F1: Qte | G1: PU | H1: TOTAL
A2: 41416 | B2: =UPPER(TEXT(A2,"mmmm")) -> MAI | C2: 18758 | D2: AAA | E2: PLB - 11 E | F2: 104 | G2: 0 | H2: =Tableau4[[#This Row],[PU]]*Tableau4[[#This Row],[Qte]] -> 0
A3: 41416 | B3: =UPPER(TEXT(A3,"mmmm")) -> MAI | C3: 18758 | D3: AAA | E3: KDL-32 BX 350 AF1 | F3: 104 | G3: 2500 | H3: =Tableau4[[#This Row],[PU]]*Tableau4[[#This Row],[Qte]] -> 260000
A4: 41425 | B4: =UPPER(TEXT(A4,"mmmm")) -> MAI | C4: 19019 | D4: CCC | E4: DV - 2022 | F4: 10 | G4: 292.6 | H4: =Tableau4[[#This Row],[PU]]*Tableau4[[#This Row],[Qte]] -> 2926
A5: 41545 | B5: =UPPER(TEXT(A5,"mmmm")) -> SEPTEMBRE | C5: 21362 | D5: BBB | E5: LC-39 LE 350E-BK | F5: 1 | G5: 4499.25 | H5: =Tableau4[[#This Row],[PU]]*Tableau4[[#This Row],[Qte]] -> 4499.25
A6: 41545 | B6: =UPPER(TEXT(A6,"mmmm")) -> SEPTEMBRE | C6: 21392 | D6: AAA | E6: KDL-32 R 400 AME6 | F6: 50 | G6: 2708.58 | H6: =Tableau4[[#This Row],[PU]]*Tableau4[[#This Row],[Qte]] -> 135429

Sheet TCD
A1: MOIS | B1: (Tous)
B3: Valeurs
A4: Étiquettes de lignes | B4: TOTAL VENTE | C4: % DE VENTE
A5: AAA | B5: 5 | C5: 0.55555556
A6: ICF - C 205 / SCSP 5 | B6: 1 | C6: 0.11111111
A7: ICF - F 10 / / CE | B7: 1 | C7: 0.11111111
A8: KDL-32 W 670 AME6 | B8: 1 | C8: 0.11111111
A9: KDL-40 R 450 AME6 | B9: 1 | C9: 0.11111111
A10: KL 14 - 44 F | B10: 1 | C10: 0.11111111
A11: BBB | B11: 4 | C11: 0.44444444
A12: LC-32 LD 135E | B12: 3 | C12: 0.33333333
A13: LC-39 LE 750 E | B13: 1 | C13: 0.11111111
A14: Total général | B14: 9 | C14: 1

Sheet VENTES
A1: DATE | B1: MOIS | C1: N° BE | D1: FAMILLES | E1: ARTICLES | F1: Qte | G1: PU | H1: TOTAL
A2: 41547 | B2: =UPPER(TEXT(A2,"mmmm")) -> SEPTEMBRE | D2: AAA | E2: ICF - C 205 / SCSP 5 | F2: 1 | G2: 150 | H2: =Tableau3[[#This Row],[PU]]*Tableau3[[#This Row],[Qte]] -> 150
A3: 41544 | B3: =UPPER(TEXT(A3,"mmmm")) -> SEPTEMBRE | D3: AAA | E3: KDL-40 R 450 AME6 | F3: 1 | G3: 5700 | H3: =Tableau3[[#This Row],[PU]]*Tableau3[[#This Row],[Qte]] -> 5700
A4: 41559 | B4: =UPPER(TEXT(A4,"mmmm")) -> OCTOBRE | D4: AAA | E4: KDL-32 W 670 AME6 | F4: 1 | G4: 5290 | H4: =Tableau3[[#This Row],[PU]]*Tableau3[[#This Row],[Qte]] -> 5290
A5: 41576 | B5: =UPPER(TEXT(A5,"mmmm")) -> OCTOBRE | D5: BBB | E5: LC-39 LE 750 E | F5: 1 | G5: 8300 | H5: =Tableau3[[#This Row],[PU]]*Tableau3[[#This Row],[Qte]] -> 8300
A6: 41582 | B6: =UPPER(TEXT(A6,"mmmm")) -> NOVEMBRE | C6: 13244 | D6: BBB | E6: LC-32 LD 135E | F6: 2 | G6: 2750 | H6: =Tableau3[[#This Row],[PU]]*Tableau3[[#This Row],[Qte]] -> 5500
A7: 41590 | B7: =UPPER(TEXT(A7,"mmmm")) -> NOVEMBRE | C7: 13253 | D7: BBB | E7: LC-32 LD 135E | F7: 1 | G7: 2900 | H7: =Tableau3[[#This Row],[PU]]*Tableau3[[#This Row],[Qte]] -> 2900
A8: 41590 | B8: =UPPER(TEXT(A8,"mmmm")) -> NOVEMBRE | C8: 13253 | D8: AAA | E8: KL 14 - 44 F | F8: 1 | G8: 0 | H8: =Tableau3[[#This Row],[PU]]*Tableau3[[#This Row],[Qte]] -> 0
A9: 41590 | B9: =UPPER(TEXT(A9,"mmmm")) -> NOVEMBRE | C9: 13253 | D9: AAA | E9: ICF - F 10 / / CE | F9: 1 | G9: 150 | H9: =Tableau3[[#This Row],[PU]]*Tableau3[[#This Row],[Qte]] -> 150

Sheet AAA
C1: CUMUL / ACHAT | F1: CUMUL / VENTE | H1: S.F
A2: DESIGNATION | B2: ARTICLE | C2: Qte | D2: pu | E2: valeur | F2: Qte | G2: valeur | H2: Qte | I2: valeur
B3: ='mes donnees'!B2 -> BDV - E 690 / / ME 3 | C3: =SUMIF(OFFSET(ACHATS!$E$2,,,COUNTA(ACHATS!E:E),),AAA!B3,OFFSET(ACHATS!$F$2,,,COUNTA(ACHATS!F:F),)) -> 0 | D3: =IFERROR(E3/(SUMIFS(ACHATS!F:F,ACHATS!E:E,AAA!B3,ACHATS!G:G,"<>0")),"") | E3: =SUMIF(OFFSET(ACHATS!$E$2,,,COUNTA(ACHATS!E:E),),AAA!B3,OFFSET(ACHATS!$H$2,,,COUNTA(ACHATS!H:H),)) -> 0 | F3: =SUMIF(OFFSET(VENTES!$E$2,,,COUNTA(VENTES!E:E),),AAA!B3,OFFSET(VENTES!$F$2,,,COUNTA(VENTES!F:F),)) -> 0 | G3: =SUMIF(OFFSET(VENTES!$E$2,,,COUNTA(VENTES!E:E),),AAA!B3,OFFSET(VENTES!$H$2,,,COUNTA(VENTES!H:H),)) -> 0 | H3: =C3-F3 -> 0 | I3: =IFERROR(H3*D3,"")
B4: ='mes donnees'!B3 -> BDV - N 890 W / / ME 3 | C4: =SUMIF(OFFSET(ACHATS!$E$2,,,COUNTA(ACHATS!E:E),),AAA!B4,OFFSET(ACHATS!$F$2,,,COUNTA(ACHATS!F:F),)) -> 0 | D4: =IFERROR(E4/(SUMIFS(ACHATS!F:F,ACHATS!E:E,AAA!B4,ACHATS!G:G,"<>0")),"") | E4: =SUMIF(OFFSET(ACHATS!$E$2,,,COUNTA(ACHATS!E:E),),AAA!B4,OFFSET(ACHATS!$H$2,,,COUNTA(ACHATS!H:H),)) -> 0 | F4: =SUMIF(OFFSET(VENTES!$E$2,,,COUNTA(VENTES!E:E),),AAA!B4,OFFSET(VENTES!$F$2,,,COUNTA(VENTES!F:F),)) -> 0 | G4: =SUMIF(OFFSET(VENTES!$E$2,,,COUNTA(VENTES!E:E),),AAA!B4,OFFSET(VENTES!$H$2,,,COUNTA(VENTES!H:H),)) -> 0 | H4: =C4-F4 -> 0 | I4: =IFERROR(H4*D4,"")
B5: ='mes donnees'!B4 -> DAV - DZ 840 K | C5: =SUMIF(OFFSET(ACHATS!$E$2,,,COUNTA(ACHATS!E:E),),AAA!B5,OFFSET(ACHATS!$F$2,,,COUNTA(ACHATS!F:F),)) -> 0 | D5: =IFERROR(E5/(SUMIFS(ACHATS!F:F,ACHATS!E:E,AAA!B5,ACHATS!G:G,"<>0")),"") | E5: =SUMIF(OFFSET(ACHATS!$E$2,,,COUNTA(ACHATS!E:E),),AAA!B5,OFFSET(ACHATS!$H$2,,,COUNTA(ACHATS!H:H),)) -> 0 | F5: =SUMIF(OFFSET(VENTES!$E$2,,,COUNTA(VENTES!E:E),),AAA!B5,OFFSET(VENTES!$F$2,,,COUNTA(VENTES!F:F),)) -> 0 | G5: =SUMIF(OFFSET(VENTES!$E$2,,,COUNTA(VENTES!E:E),),AAA!B5,OFFSET(VENTES!$H$2,,,COUNTA(VENTES!H:H),)) -> 0 | H5: =C5-F5 -> 0 | I5: =IFERROR(H5*D5,"")
B6: ='mes donnees'!B5 -> DAV - SZ 1000 W | C6: =SUMIF(OFFSET(ACHATS!$E$2,,,COUNTA(ACHATS!E:E),),AAA!B6,OFFSET(ACHATS!$F$2,,,COUNTA(ACHATS!F:F),)) -> 0 | D6: =IFERROR(E6/(SUMIFS(ACHATS!F:F,ACHATS!E:E,AAA!B6,ACHATS!G:G,"<>0")),"") | E6: =SUMIF(OFFSET(ACHATS!$E$2,,,COUNTA(ACHATS!E:E),),AAA!B6,OFFSET(ACHATS!$H$2,,,COUNTA(ACHATS!H:H),)) -> 0 | F6: =SUMIF(OFFSET(VENTES!$E$2,,,COUNTA(VENTES!E:E),),AAA!B6,OFFSET(VENTES!$F$2,,,COUNTA(VENTES!F:F),)) -> 0 | G6: =SUMIF(OFFSET(VENTES!$E$2,,,COUNTA(VENTES!E:E),),AAA!B6,OFFSET(VENTES!$H$2,,,COUNTA(VENTES!H:H),)) -> 0 | H6: =C6-F6 -> 0 | I6: =IFERROR(H6*D6,"")
B7: ='mes donnees'!B6 -> DAV - TZ 140 / / CE 3 | C7: =SUMIF(OFFSET(ACHATS!$E$2,,,COUNTA(ACHATS!E:E),),AAA!B7,OFFSET(ACHATS!$F$2,,,COUNTA(ACHATS!F:F),)) -> 0 | D7: =IFERROR(E7/(SUMIFS(ACHATS!F:F,ACHATS!E:E,AAA!B7,ACHATS!G:G,"<>0")),"") | E7: =SUMIF(OFFSET(ACHATS!$E$2,,,COUNTA(ACHATS!E:E),),AAA!B7,OFFSET(ACHATS!$H$2,,,COUNTA(ACHATS!H:H),)) -> 0 | F7: =SUMIF(OFFSET(VENTES!$E$2,,,COUNTA(VENTES!E:E),),AAA!B7,OFFSET(VENTES!$F$2,,,COUNTA(VENTES!F:F),)) -> 0 | G7: =SUMIF(OFFSET(VENTES!$E$2,,,COUNTA(VENTES!E:E),),AAA!B7,OFFSET(VENTES!$H$2,,,COUNTA(VENTES!H:H),)) -> 0 | H7: =C7-F7 -> 0 | I7: =IFERROR(H7*D7,"")
B8: ='mes donnees'!B7 -> DAV - TZ 715 | C8: =SUMIF(OFFSET(ACHATS!$E$2,,,COUNTA(ACHATS!E:E),),AAA!B8,OFFSET(ACHATS!$F$2,,,COUNTA(ACHATS!F:F),)) -> 0 | D8: =IFERROR(E8/(SUMIFS(ACHATS!F:F,ACHATS!E:E,AAA!B8,ACHATS!G:G,"<>0")),"") | E8: =SUMIF(OFFSET(ACHATS!$E$2,,,COUNTA(ACHATS!E:E),),AAA!B8,OFFSET(ACHATS!$H$2,,,COUNTA(ACHATS!H:H),)) -> 0 | F8: =SUMIF(OFFSET(VENTES!$E$2,,,COUNTA(VENTES!E:E),),AAA!B8,OFFSET(VENTES!$F$2,,,COUNTA(VENTES!F:F),)) -> 0 | G8: =SUMIF(OFFSET(VENTES!$E$2,,,COUNTA(VENTES!E:E),),AAA!B8,OFFSET(VENTES!$H$2,,,COUNTA(VENTES!H:H),)) -> 0 | H8: =C8-F8 -> 0 | I8: =IFERROR(H8*D8,"")
B9: ='mes donnees'!B8 -> DCR - SR 21 E / BCE 37 | C9: =SUMIF(OFFSET(ACHATS!$E$2,,,COUNTA(ACHATS!E:E),),AAA!B9,OFFSET(ACHATS!$F$2,,,COUNTA(ACHATS!F:F),)) -> 0 | D9: =IFERROR(E9/(SUMIFS(ACHATS!F:F,ACHATS!E:E,AAA!B9,ACHATS!G:G,"<>0")),"") | E9: =SUMIF(OFFSET(ACHATS!$E$2,,,COUNTA(ACHATS!E:E),),AAA!B9,OFFSET(ACHATS!$H$2,,,COUNTA(ACHATS!H:H),)) -> 0 | F9: =SUMIF(OFFSET(VENTES!$E$2,,,COUNTA(VENTES!E:E),),AAA!B9,OFFSET(VENTES!$F$2,,,COUNTA(VENTES!F:F),)) -> 0 | G9: =SUMIF(OFFSET(VENTES!$E$2,,,COUNTA(VENTES!E:E),),AAA!B9,OFFSET(VENTES!$H$2,,,COUNTA(VENTES!H:H),)) -> 0 | H9: =C9-F9 -> 0 | I9: =IFERROR(H9*D9,"")
B10: ='mes donnees'!B9 -> DCR - SR 21 E / SCE 37 | C10: =SUMIF(OFFSET(ACHATS!$E$2,,,COUNTA(ACHATS!E:E),),AAA!B10,OFFSET(ACHATS!$F$2,,,COUNTA(ACHATS!F:F),)) -> 0 | D10: =IFERROR(E10/(SUMIFS(ACHATS!F:F,ACHATS!E:E,AAA!B10,ACHATS!G:G,"<>0")),"") | E10: =SUMIF(OFFSET(ACHATS!$E$2,,,COUNTA(ACHATS!E:E),),AAA!B10,OFFSET(ACHATS!$H$2,,,COUNTA(ACHATS!H:H),)) -> 0 | F10: =SUMIF(OFFSET(VENTES!$E$2,,,COUNTA(VENTES!E:E),),AAA!B10,OFFSET(VENTES!$F$2,,,COUNTA(VENTES!F:F),)) -> 0 | G10: =SUMIF(OFFSET(VENTES!$E$2,,,COUNTA(VENTES!E:E),),AAA!B10,OFFSET(VENTES!$H$2,,,COUNTA(VENTES!H:H),)) -> 0 | H10: =C10-F10 -> 0 | I10: =IFERROR(H10*D10,"")
B11: ='mes donnees'!B10 -> DCR - SX 22 / BCE 37 | C11: =SUMIF(OFFSET(ACHATS!$E$2,,,COUNTA(ACHATS!E:E),),AAA!B11,OFFSET(ACHATS!$F$2,,,COUNTA(ACHATS!F:F),)) -> 0 | D11: =IFERROR(E11/(SUMIFS(ACHATS!F:F,ACHATS!E:E,AAA!B11,ACHATS!G:G,"<>0")),"") | E11: =SUMIF(OFFSET(ACHATS!$E$2,,,COUNTA(ACHATS!E:E),),AAA!B11,OFFSET(ACHATS!$H$2,,,COUNTA(ACHATS!H:H),)) -> 0 | F11: =SUMIF(OFFSET(VENTES!$E$2,,,COUNTA(VENTES!E:E),),AAA!B11,OFFSET(VENTES!$F$2,,,COUNTA(VENTES!F:F),)) -> 0 | G11: =SUMIF(OFFSET(VENTES!$E$2,,,COUNTA(VENTES!E:E),),AAA!B11,OFFSET(VENTES!$H$2,,,COUNTA(VENTES!H:H),)) -> 0 | H11: =C11-F11 -> 0 | I11: =IFERROR(H11*D11,"")
B12: ='mes donnees'!B11 -> DCR - SX 22 / SC 37 | C12: =SUMIF(OFFSET(ACHATS!$E$2,,,COUNTA(ACHATS!E:E),),AAA!B12,OFFSET(ACHATS!$F$2,,,COUNTA(ACHATS!F:F),)) -> 0 | D12: =IFERROR(E12/(SUMIFS(ACHATS!F:F,ACHATS!E:E,AAA!B12,ACHATS!G:G,"<>0")),"") | E12: =SUMIF(OFFSET(ACHATS!$E$2,,,COUNTA(ACHATS!E:E),),AAA!B12,OFFSET(ACHATS!$H$2,,,COUNTA(ACHATS!H:H),)) -> 0 | F12: =SUMIF(OFFSET(VENTES!$E$2,,,COUNTA(VENTES!E:E),),AAA!B12,OFFSET(VENTES!$F$2,,,COUNTA(VENTES!F:F),)) -> 0 | G12: =SUMIF(OFFSET(VENTES!$E$2,,,COUNTA(VENTES!E:E),),AAA!B12,OFFSET(VENTES!$H$2,,,COUNTA(VENTES!H:H),)) -> 0 | H12: =C12-F12 -> 0 | I12: =IFERROR(H12*D12,"")
B13: ='mes donnees'!B12 -> DSC - W 610 / BCE32 | C13: =SUMIF(OFFSET(ACHATS!$E$2,,,COUNTA(ACHATS!E:E),),AAA!B13,OFFSET(ACHATS!$F$2,,,COUNTA(ACHATS!F:F),)) -> 0 | D13: =IFERROR(E13/(SUMIFS(ACHATS!F:F,ACHATS!E:E,AAA!B13,ACHATS!G:G,"<>0")),"") | E13: =SUMIF(OFFSET(ACHATS!$E$2,,,COUNTA(ACHATS!E:E),),AAA!B13,OFFSET(ACHATS!$H$2,,,COUNTA(ACHATS!H:H),)) -> 0 | F13: =SUMIF(OFFSET(VENTES!$E$2,,,COUNTA(VENTES!E:E),),AAA!B13,OFFSET(VENTES!$F$2,,,COUNTA(VENTES!F:F),)) -> 0 | G13: =SUMIF(OFFSET(VENTES!$E$2,,,COUNTA(VENTES!E:E),),AAA!B13,OFFSET(VENTES!$H$2,,,COUNTA(VENTES!H:H),)) -> 0 | H13: =C13-F13 -> 0 | I13: =IFERROR(H13*D13,"")
B14: ='mes donnees'!B13 -> DSC - W 610 / SCE32 | C14: =SUMIF(OFFSET(ACHATS!$E$2,,,COUNTA(ACHATS!E:E),),AAA!B14,OFFSET(ACHATS!$F$2,,,COUNTA(ACHATS!F:F),)) -> 0 | D14: =IFERROR(E14/(SUMIFS(ACHATS!F:F,ACHATS!E:E,AAA!B14,ACHATS!G:G,"<>0")),"") | E14: =SUMIF(OFFSET(ACHATS!$E$2,,,COUNTA(ACHATS!E:E),),AAA!B14,OFFSET(ACHATS!$H$2,,,COUNTA(ACHATS!H:H),)) -> 0 | F14: =SUMIF(OFFSET(VENTES!$E$2,,,COUNTA(VENTES!E:E),),AAA!B14,OFFSET(VENTES!$F$2,,,COUNTA(VENTES!F:F),)) -> 0 | G14: =SUMIF(OFFSET(VENTES!$E$2,,,COUNTA(VENTES!E:E),),AAA!B14,OFFSET(VENTES!$H$2,,,COUNTA(VENTES!H:H),)) -> 0 | H14: =C14-F14 -> 0 | I14: =IFERROR(H14*D14,"")
... B57: ='mes donnees'!B56 -> SS-SH 2000 P / MEA | C57: =SUMIF(OFFSET(ACHATS!$E$2,,,COUNTA(ACHATS!E:E),),AAA!B57,OFFSET(ACHATS!$F$2,,,COUNTA(ACHATS!F:F),)) -> 0 | D57: =IFERROR(E57/(SUMIFS(ACHATS!F:F,ACHATS!E:E,AAA!B57,ACHATS!G:G,"<>0")),"") | E57: =SUMIF(OFFSET(ACHATS!$E$2,,,COUNTA(ACHATS!E:E),),AAA!B57,OFFSET(ACHATS!$H$2,,,COUNTA(ACHATS!H:H),)) -> 0 | F57: =SUMIF(OFFSET(VENTES!$E$2,,,COUNTA(VENTES!E:E),),AAA!B57,OFFSET(VENTES!$F$2,,,COUNTA(VENTES!F:F),)) -> 0 | G57: =SUMIF(OFFSET(VENTES!$E$2,,,COUNTA(VENTES!E:E),),AAA!B57,OFFSET(VENTES!$H$2,,,COUNTA(VENTES!H:H),)) -> 0 | H57: =C57-F57 -> 0 | I57: =IFERROR(H57*D57,"")
B58: ='mes donnees'!B57 -> 0
B59: ='mes donnees'!B58 -> 0
B60: ='mes donnees'!B59 -> 0
B61: ='mes donnees'!B60 -> 0
B62: ='mes donnees'!B61 -> 0
B63: ='mes donnees'!B62 -> 0
B64: ='mes donnees'!B63 -> 0
B65: ='mes donnees'!B64 -> 0
B66: ='mes donnees'!B65 -> 0
B67: ='mes donnees'!B66 -> 0
B68: ='mes donnees'!B67 -> 0
B69: ='mes donnees'!B68 -> 0
... B143: ='mes donnees'!B142 -> 0

Sheet BBB
C1: CUMUL / ACHAT | F1: CUMUL / VENTE | H1: S.F
A2: DESIGNATION | B2: ARTICLE | C2: Qte | D2: pu | E2: valeur | F2: Qte | G2: valeur | H2: Qte | I2: valeur
B3: ='mes donnees'!D2 -> AN-3DG20-B | C3: =SUMIF(OFFSET(ACHATS!$E$2,,,COUNTA(ACHATS!E:E),),BBB!B3,OFFSET(ACHATS!$F$2,,,COUNTA(ACHATS!F:F),)) -> 0 | D3: =IFERROR(E3/(SUMIFS(ACHATS!F:F,ACHATS!E:E,BBB!B3,ACHATS!G:G,"<>0")),"") | E3: =SUMIF(OFFSET(ACHATS!$E$2,,,COUNTA(ACHATS!E:E),),BBB!B3,OFFSET(ACHATS!$H$2,,,COUNTA(ACHATS!H:H),)) -> 0 | F3: =SUMIF(OFFSET(VENTES!$E$2,,,COUNTA(VENTES!E:E),),BBB!B3,OFFSET(VENTES!$F$2,,,COUNTA(VENTES!F:F),)) -> 0 | G3: =SUMIF(OFFSET(VENTES!$E$2,,,COUNTA(VENTES!E:E),),BBB!B3,OFFSET(VENTES!$H$2,,,COUNTA(VENTES!H:H),)) -> 0 | H3: =C3-F3 -> 0 | I3: =IFERROR(H3*D3,"")
B4: ='mes donnees'!D3 -> CARTE AJS VIACCESS | C4: =SUMIF(OFFSET(ACHATS!$E$2,,,COUNTA(ACHATS!E:E),),BBB!B4,OFFSET(ACHATS!$F$2,,,COUNTA(ACHATS!F:F),)) -> 0 | D4: =IFERROR(E4/(SUMIFS(ACHATS!F:F,ACHATS!E:E,BBB!B4,ACHATS!G:G,"<>0")),"") | E4: =SUMIF(OFFSET(ACHATS!$E$2,,,COUNTA(ACHATS!E:E),),BBB!B4,OFFSET(ACHATS!$H$2,,,COUNTA(ACHATS!H:H),)) -> 0 | F4: =SUMIF(OFFSET(VENTES!$E$2,,,COUNTA(VENTES!E:E),),BBB!B4,OFFSET(VENTES!$F$2,,,COUNTA(VENTES!F:F),)) -> 0 | G4: =SUMIF(OFFSET(VENTES!$E$2,,,COUNTA(VENTES!E:E),),BBB!B4,OFFSET(VENTES!$H$2,,,COUNTA(VENTES!H:H),)) -> 0 | H4: =C4-F4 -> 0 | I4: =IFERROR(H4*D4,"")
B5: ='mes donnees'!D4 -> KI-OUA004WJN3 | C5: =SUMIF(OFFSET(ACHATS!$E$2,,,COUNTA(ACHATS!E:E),),BBB!B5,OFFSET(ACHATS!$F$2,,,COUNTA(ACHATS!F:F),)) -> 0 | D5: =IFERROR(E5/(SUMIFS(ACHATS!F:F,ACHATS!E:E,BBB!B5,ACHATS!G:G,"<>0")),"") | E5: =SUMIF(OFFSET(ACHATS!$E$2,,,COUNTA(ACHATS!E:E),),BBB!B5,OFFSET(ACHATS!$H$2,,,COUNTA(ACHATS!H:H),)) -> 0 | F5: =SUMIF(OFFSET(VENTES!$E$2,,,COUNTA(VENTES!E:E),),BBB!B5,OFFSET(VENTES!$F$2,,,COUNTA(VENTES!F:F),)) -> 0 | G5: =SUMIF(OFFSET(VENTES!$E$2,,,COUNTA(VENTES!E:E),),BBB!B5,OFFSET(VENTES!$H$2,,,COUNTA(VENTES!H:H),)) -> 0 | H5: =C5-F5 -> 0 | I5: =IFERROR(H5*D5,"")
B6: ='mes donnees'!D5 -> LC-32 LD 135E | C6: =SUMIF(OFFSET(ACHATS!$E$2,,,COUNTA(ACHATS!E:E),),BBB!B6,OFFSET(ACHATS!$F$2,,,COUNTA(ACHATS!F:F),)) -> 0 | D6: =IFERROR(E6/(SUMIFS(ACHATS!F:F,ACHATS!E:E,BBB!B6,ACHATS!G:G,"<>0")),"") | E6: =SUMIF(OFFSET(ACHATS!$E$2,,,COUNTA(ACHATS!E:E),),BBB!B6,OFFSET(ACHATS!$H$2,,,COUNTA(ACHATS!H:H),)) -> 0 | F6: =SUMIF(OFFSET(VENTES!$E$2,,,COUNTA(VENTES!E:E),),BBB!B6,OFFSET(VENTES!$F$2,,,COUNTA(VENTES!F:F),)) -> 3 | G6: =SUMIF(OFFSET(VENTES!$E$2,,,COUNTA(VENTES!E:E),),BBB!B6,OFFSET(VENTES!$H$2,,,COUNTA(VENTES!H:H),)) -> 8400 | H6: =C6-F6 -> -3 | I6: =IFERROR(H6*D6,"")
B7: ='mes donnees'!D6 -> LC-32 LE 350E-BK | C7: =SUMIF(OFFSET(ACHATS!$E$2,,,COUNTA(ACHATS!E:E),),BBB!B7,OFFSET(ACHATS!$F$2,,,COUNTA(ACHATS!F:F),)) -> 0 | D7: =IFERROR(E7/(SUMIFS(ACHATS!F:F,ACHATS!E:E,BBB!B7,ACHATS!G:G,"<>0")),"") | E7: =SUMIF(OFFSET(ACHATS!$E$2,,,COUNTA(ACHATS!E:E),),BBB!B7,OFFSET(ACHATS!$H$2,,,COUNTA(ACHATS!H:H),)) -> 0 | F7: =SUMIF(OFFSET(VENTES!$E$2,,,COUNTA(VENTES!E:E),),BBB!B7,OFFSET(VENTES!$F$2,,,COUNTA(VENTES!F:F),)) -> 0 | G7: =SUMIF(OFFSET(VENTES!$E$2,,,COUNTA(VENTES!E:E),),BBB!B7,OFFSET(VENTES!$H$2,,,COUNTA(VENTES!H:H),)) -> 0 | H7: =C7-F7 -> 0 | I7: =IFERROR(H7*D7,"")
B8: ='mes donnees'!D7 -> LC-39 LE 350E-BK | C8: =SUMIF(OFFSET(ACHATS!$E$2,,,COUNTA(ACHATS!E:E),),BBB!B8,OFFSET(ACHATS!$F$2,,,COUNTA(ACHATS!F:F),)) -> 1 | D8: =IFERROR(E8/(SUMIFS(ACHATS!F:F,ACHATS!E:E,BBB!B8,ACHATS!G:G,"<>0")),"") -> 4499.25 | E8: =SUMIF(OFFSET(ACHATS!$E$2,,,COUNTA(ACHATS!E:E),),BBB!B8,OFFSET(ACHATS!$H$2,,,COUNTA(ACHATS!H:H),)) -> 4499.25 | F8: =SUMIF(OFFSET(VENTES!$E$2,,,COUNTA(VENTES!E:E),),BBB!B8,OFFSET(VENTES!$F$2,,,COUNTA(VENTES!F:F),)) -> 0 | G8: =SUMIF(OFFSET(VENTES!$E$2,,,COUNTA(VENTES!E:E),),BBB!B8,OFFSET(VENTES!$H$2,,,COUNTA(VENTES!H:H),)) -> 0 | H8: =C8-F8 -> 1 | I8: =IFERROR(H8*D8,"") -> 4499.25
B9: ='mes donnees'!D8 -> LC-39 LE 650 | C9: =SUMIF(OFFSET(ACHATS!$E$2,,,COUNTA(ACHATS!E:E),),BBB!B9,OFFSET(ACHATS!$F$2,,,COUNTA(ACHATS!F:F),)) -> 0 | D9: =IFERROR(E9/(SUMIFS(ACHATS!F:F,ACHATS!E:E,BBB!B9,ACHATS!G:G,"<>0")),"") | E9: =SUMIF(OFFSET(ACHATS!$E$2,,,COUNTA(ACHATS!E:E),),BBB!B9,OFFSET(ACHATS!$H$2,,,COUNTA(ACHATS!H:H),)) -> 0 | F9: =SUMIF(OFFSET(VENTES!$E$2,,,COUNTA(VENTES!E:E),),BBB!B9,OFFSET(VENTES!$F$2,,,COUNTA(VENTES!F:F),)) -> 0 | G9: =SUMIF(OFFSET(VENTES!$E$2,,,COUNTA(VENTES!E:E),),BBB!B9,OFFSET(VENTES!$H$2,,,COUNTA(VENTES!H:H),)) -> 0 | H9: =C9-F9 -> 0 | I9: =IFERROR(H9*D9,"")
B10: ='mes donnees'!D9 -> LC-39 LE 750 E | C10: =SUMIF(OFFSET(ACHATS!$E$2,,,COUNTA(ACHATS!E:E),),BBB!B10,OFFSET(ACHATS!$F$2,,,COUNTA(ACHATS!F:F),)) -> 0 | D10: =IFERROR(E10/(SUMIFS(ACHATS!F:F,ACHATS!E:E,BBB!B10,ACHATS!G:G,"<>0")),"") | E10: =SUMIF(OFFSET(ACHATS!$E$2,,,COUNTA(ACHATS!E:E),),BBB!B10,OFFSET(ACHATS!$H$2,,,COUNTA(ACHATS!H:H),)) -> 0 | F10: =SUMIF(OFFSET(VENTES!$E$2,,,COUNTA(VENTES!E:E),),BBB!B10,OFFSET(VENTES!$F$2,,,COUNTA(VENTES!F:F),)) -> 1 | G10: =SUMIF(OFFSET(VENTES!$E$2,,,COUNTA(VENTES!E:E),),BBB!B10,OFFSET(VENTES!$H$2,,,COUNTA(VENTES!H:H),)) -> 8300 | H10: =C10-F10 -> -1 | I10: =IFERROR(H10*D10,"")
B11: ='mes donnees'!D10 -> LC-50 LE 650 E | C11: =SUMIF(OFFSET(ACHATS!$E$2,,,COUNTA(ACHATS!E:E),),BBB!B11,OFFSET(ACHATS!$F$2,,,COUNTA(ACHATS!F:F),)) -> 0 | D11: =IFERROR(E11/(SUMIFS(ACHATS!F:F,ACHATS!E:E,BBB!B11,ACHATS!G:G,"<>0")),"") | E11: =SUMIF(OFFSET(ACHATS!$E$2,,,COUNTA(ACHATS!E:E),),BBB!B11,OFFSET(ACHATS!$H$2,,,COUNTA(ACHATS!H:H),)) -> 0 | F11: =SUMIF(OFFSET(VENTES!$E$2,,,COUNTA(VENTES!E:E),),BBB!B11,OFFSET(VENTES!$F$2,,,COUNTA(VENTES!F:F),)) -> 0 | G11: =SUMIF(OFFSET(VENTES!$E$2,,,COUNTA(VENTES!E:E),),BBB!B11,OFFSET(VENTES!$H$2,,,COUNTA(VENTES!H:H),)) -> 0 | H11: =C11-F11 -> 0 | I11: =IFERROR(H11*D11,"")
B12: ='mes donnees'!D11 -> LC-50 LE 750 E | C12: =SUMIF(OFFSET(ACHATS!$E$2,,,COUNTA(ACHATS!E:E),),BBB!B12,OFFSET(ACHATS!$F$2,,,COUNTA(ACHATS!F:F),)) -> 0 | D12: =IFERROR(E12/(SUMIFS(ACHATS!F:F,ACHATS!E:E,BBB!B12,ACHATS!G:G,"<>0")),"") | E12: =SUMIF(OFFSET(ACHATS!$E$2,,,COUNTA(ACHATS!E:E),),BBB!B12,OFFSET(ACHATS!$H$2,,,COUNTA(ACHATS!H:H),)) -> 0 | F12: =SUMIF(OFFSET(VENTES!$E$2,,,COUNTA(VENTES!E:E),),BBB!B12,OFFSET(VENTES!$F$2,,,COUNTA(VENTES!F:F),)) -> 0 | G12: =SUMIF(OFFSET(VENTES!$E$2,,,COUNTA(VENTES!E:E),),BBB!B12,OFFSET(VENTES!$H$2,,,COUNTA(VENTES!H:H),)) -> 0 | H12: =C12-F12 -> 0 | I12: =IFERROR(H12*D12,"")
B13: ='mes donnees'!D12 -> LC-60 LE 635 E | C13: =SUMIF(OFFSET(ACHATS!$E$2,,,COUNTA(ACHATS!E:E),),BBB!B13,OFFSET(ACHATS!$F$2,,,COUNTA(ACHATS!F:F),)) -> 0 | D13: =IFERROR(E13/(SUMIFS(ACHATS!F:F,ACHATS!E:E,BBB!B13,ACHATS!G:G,"<>0")),"") | E13: =SUMIF(OFFSET(ACHATS!$E$2,,,COUNTA(ACHATS!E:E),),BBB!B13,OFFSET(ACHATS!$H$2,,,COUNTA(ACHATS!H:H),)) -> 0 | F13: =SUMIF(OFFSET(VENTES!$E$2,,,COUNTA(VENTES!E:E),),BBB!B13,OFFSET(VENTES!$F$2,,,COUNTA(VENTES!F:F),)) -> 0 | G13: =SUMIF(OFFSET(VENTES!$E$2,,,COUNTA(VENTES!E:E),),BBB!B13,OFFSET(VENTES!$H$2,,,COUNTA(VENTES!H:H),)) -> 0 | H13: =C13-F13 -> 0 | I13: =IFERROR(H13*D13,"")
B14: ='mes donnees'!D13 -> LC-70 LE 835 E | C14: =SUMIF(OFFSET(ACHATS!$E$2,,,COUNTA(ACHATS!E:E),),BBB!B14,OFFSET(ACHATS!$F$2,,,COUNTA(ACHATS!F:F),)) -> 0 | D14: =IFERROR(E14/(SUMIFS(ACHATS!F:F,ACHATS!E:E,BBB!B14,ACHATS!G:G,"<>0")),"") | E14: =SUMIF(OFFSET(ACHATS!$E$2,,,COUNTA(ACHATS!E:E),),BBB!B14,OFFSET(ACHATS!$H$2,,,COUNTA(ACHATS!H:H),)) -> 0 | F14: =SUMIF(OFFSET(VENTES!$E$2,,,COUNTA(VENTES!E:E),),BBB!B14,OFFSET(VENTES!$F$2,,,COUNTA(VENTES!F:F),)) -> 0 | G14: =SUMIF(OFFSET(VENTES!$E$2,,,COUNTA(VENTES!E:E),),BBB!B14,OFFSET(VENTES!$H$2,,,COUNTA(VENTES!H:H),)) -> 0 | H14: =C14-F14 -> 0 | I14: =IFERROR(H14*D14,"")
... B16: ='mes donnees'!D15 -> LC-90 LE 740 X | C16: =SUMIF(OFFSET(ACHATS!$E$2,,,COUNTA(ACHATS!E:E),),BBB!B16,OFFSET(ACHATS!$F$2,,,COUNTA(ACHATS!F:F),)) -> 0 | D16: =IFERROR(E16/(SUMIFS(ACHATS!F:F,ACHATS!E:E,BBB!B16,ACHATS!G:G,"<>0")),"") | E16: =SUMIF(OFFSET(ACHATS!$E$2,,,COUNTA(ACHATS!E:E),),BBB!B16,OFFSET(ACHATS!$H$2,,,COUNTA(ACHATS!H:H),)) -> 0 | F16: =SUMIF(OFFSET(VENTES!$E$2,,,COUNTA(VENTES!E:E),),BBB!B16,OFFSET(VENTES!$F$2,,,COUNTA(VENTES!F:F),)) -> 0 | G16: =SUMIF(OFFSET(VENTES!$E$2,,,COUNTA(VENTES!E:E),),BBB!B16,OFFSET(VENTES!$H$2,,,COUNTA(VENTES!H:H),)) -> 0 | H16: =C16-F16 -> 0 | I16: =IFERROR(H16*D16,"")
B17: ='mes donnees'!D16 -> 0
B18: ='mes donnees'!D17 -> 0
B19: ='mes donnees'!D18 -> 0
B20: ='mes donnees'!D19 -> 0
B21: ='mes donnees'!D20 -> 0
B22: ='mes donnees'!D21 -> 0
B23: ='mes donnees'!D22 -> 0
B24: ='mes donnees'!D23 -> 0
B25: ='mes donnees'!D24 -> 0
B26: ='mes donnees'!D25 -> 0
B27: ='mes donnees'!D26 -> 0
B28: ='mes donnees'!D27 -> 0
... B50: ='mes donnees'!D49 -> 0

Sheet CCC
C1: CUMUL / ACHAT | F1: CUMUL / VENTE | H1: S.F
A2: DESIGNATION | B2: ARTICLE | C2: Qte | D2: pu | E2: valeur | F2: Qte | G2: valeur | H2: Qte | I2: valeur
B3: ='mes donnees'!F2 -> BCS - 323 | C3: =SUMIF(OFFSET(ACHATS!$E$2,,,COUNTA(ACHATS!E:E),),CCC!B3,OFFSET(ACHATS!$F$2,,,COUNTA(ACHATS!F:F),)) -> 0 | D3: =IFERROR(E3/(SUMIFS(ACHATS!F:F,ACHATS!E:E,CCC!B3,ACHATS!G:G,"<>0")),"") | E3: =SUMIF(OFFSET(ACHATS!$E$2,,,COUNTA(ACHATS!E:E),),CCC!B3,OFFSET(ACHATS!$H$2,,,COUNTA(ACHATS!H:H),)) -> 0 | F3: =SUMIF(OFFSET(VENTES!$E$2,,,COUNTA(VENTES!E:E),),CCC!B3,OFFSET(VENTES!$F$2,,,COUNTA(VENTES!F:F),)) -> 0 | G3: =SUMIF(OFFSET(VENTES!$E$2,,,COUNTA(VENTES!E:E),),CCC!B3,OFFSET(VENTES!$H$2,,,COUNTA(VENTES!H:H),)) -> 0 | H3: =C3-F3 -> 0 | I3: =IFERROR(H3*C3,"") -> 0
B4: ='mes donnees'!F3 -> BCS - FS 525 | C4: =SUMIF(OFFSET(ACHATS!$E$2,,,COUNTA(ACHATS!E:E),),CCC!B4,OFFSET(ACHATS!$F$2,,,COUNTA(ACHATS!F:F),)) -> 0 | D4: =IFERROR(E4/(SUMIFS(ACHATS!F:F,ACHATS!E:E,CCC!B4,ACHATS!G:G,"<>0")),"") | E4: =SUMIF(OFFSET(ACHATS!$E$2,,,COUNTA(ACHATS!E:E),),CCC!B4,OFFSET(ACHATS!$H$2,,,COUNTA(ACHATS!H:H),)) -> 0 | F4: =SUMIF(OFFSET(VENTES!$E$2,,,COUNTA(VENTES!E:E),),CCC!B4,OFFSET(VENTES!$F$2,,,COUNTA(VENTES!F:F),)) -> 0 | G4: =SUMIF(OFFSET(VENTES!$E$2,,,COUNTA(VENTES!E:E),),CCC!B4,OFFSET(VENTES!$H$2,,,COUNTA(VENTES!H:H),)) -> 0 | H4: =C4-F4 -> 0 | I4: =IFERROR(H4*C4,"") -> 0
B5: ='mes donnees'!F4 -> DCS - 222 K | C5: =SUMIF(OFFSET(ACHATS!$E$2,,,COUNTA(ACHATS!E:E),),CCC!B5,OFFSET(ACHATS!$F$2,,,COUNTA(ACHATS!F:F),)) -> 0 | D5: =IFERROR(E5/(SUMIFS(ACHATS!F:F,ACHATS!E:E,CCC!B5,ACHATS!G:G,"<>0")),"") | E5: =SUMIF(OFFSET(ACHATS!$E$2,,,COUNTA(ACHATS!E:E),),CCC!B5,OFFSET(ACHATS!$H$2,,,COUNTA(ACHATS!H:H),)) -> 0 | F5: =SUMIF(OFFSET(VENTES!$E$2,,,COUNTA(VENTES!E:E),),CCC!B5,OFFSET(VENTES!$F$2,,,COUNTA(VENTES!F:F),)) -> 0 | G5: =SUMIF(OFFSET(VENTES!$E$2,,,COUNTA(VENTES!E:E),),CCC!B5,OFFSET(VENTES!$H$2,,,COUNTA(VENTES!H:H),)) -> 0 | H5: =C5-F5 -> 0 | I5: =IFERROR(H5*C5,"") -> 0
B6: ='mes donnees'!F5 -> DV - 2022 | C6: =SUMIF(OFFSET(ACHATS!$E$2,,,COUNTA(ACHATS!E:E),),CCC!B6,OFFSET(ACHATS!$F$2,,,COUNTA(ACHATS!F:F),)) -> 10 | D6: =IFERROR(E6/(SUMIFS(ACHATS!F:F,ACHATS!E:E,CCC!B6,ACHATS!G:G,"<>0")),"") -> 292.6 | E6: =SUMIF(OFFSET(ACHATS!$E$2,,,COUNTA(ACHATS!E:E),),CCC!B6,OFFSET(ACHATS!$H$2,,,COUNTA(ACHATS!H:H),)) -> 2926 | F6: =SUMIF(OFFSET(VENTES!$E$2,,,COUNTA(VENTES!E:E),),CCC!B6,OFFSET(VENTES!$F$2,,,COUNTA(VENTES!F:F),)) -> 0 | G6: =SUMIF(OFFSET(VENTES!$E$2,,,COUNTA(VENTES!E:E),),CCC!B6,OFFSET(VENTES!$H$2,,,COUNTA(VENTES!H:H),)) -> 0 | H6: =C6-F6 -> 10 | I6: =IFERROR(H6*C6,"") -> 100
B7: ='mes donnees'!F6 -> DV - 3022 V | C7: =SUMIF(OFFSET(ACHATS!$E$2,,,COUNTA(ACHATS!E:E),),CCC!B7,OFFSET(ACHATS!$F$2,,,COUNTA(ACHATS!F:F),)) -> 0 | D7: =IFERROR(E7/(SUMIFS(ACHATS!F:F,ACHATS!E:E,CCC!B7,ACHATS!G:G,"<>0")),"") | E7: =SUMIF(OFFSET(ACHATS!$E$2,,,COUNTA(ACHATS!E:E),),CCC!B7,OFFSET(ACHATS!$H$2,,,COUNTA(ACHATS!H:H),)) -> 0 | F7: =SUMIF(OFFSET(VENTES!$E$2,,,COUNTA(VENTES!E:E),),CCC!B7,OFFSET(VENTES!$F$2,,,COUNTA(VENTES!F:F),)) -> 0 | G7: =SUMIF(OFFSET(VENTES!$E$2,,,COUNTA(VENTES!E:E),),CCC!B7,OFFSET(VENTES!$H$2,,,COUNTA(VENTES!H:H),)) -> 0 | H7: =C7-F7 -> 0 | I7: =IFERROR(H7*C7,"") -> 0
B8: ='mes donnees'!F7 -> X - DS 301 - K | C8: =SUMIF(OFFSET(ACHATS!$E$2,,,COUNTA(ACHATS!E:E),),CCC!B8,OFFSET(ACHATS!$F$2,,,COUNTA(ACHATS!F:F),)) -> 0 | D8: =IFERROR(E8/(SUMIFS(ACHATS!F:F,ACHATS!E:E,CCC!B8,ACHATS!G:G,"<>0")),"") | E8: =SUMIF(OFFSET(ACHATS!$E$2,,,COUNTA(ACHATS!E:E),),CCC!B8,OFFSET(ACHATS!$H$2,,,COUNTA(ACHATS!H:H),)) -> 0 | F8: =SUMIF(OFFSET(VENTES!$E$2,,,COUNTA(VENTES!E:E),),CCC!B8,OFFSET(VENTES!$F$2,,,COUNTA(VENTES!F:F),)) -> 0 | G8: =SUMIF(OFFSET(VENTES!$E$2,,,COUNTA(VENTES!E:E),),CCC!B8,OFFSET(VENTES!$H$2,,,COUNTA(VENTES!H:H),)) -> 0 | H8: =C8-F8 -> 0 | I8: =IFERROR(H8*C8,"") -> 0
B9: ='mes donnees'!F8 -> X - CM 31 - K | C9: =SUMIF(OFFSET(ACHATS!$E$2,,,COUNTA(ACHATS!E:E),),CCC!B9,OFFSET(ACHATS!$F$2,,,COUNTA(ACHATS!F:F),)) -> 0 | D9: =IFERROR(E9/(SUMIFS(ACHATS!F:F,ACHATS!E:E,CCC!B9,ACHATS!G:G,"<>0")),"") | E9: =SUMIF(OFFSET(ACHATS!$E$2,,,COUNTA(ACHATS!E:E),),CCC!B9,OFFSET(ACHATS!$H$2,,,COUNTA(ACHATS!H:H),)) -> 0 | F9: =SUMIF(OFFSET(VENTES!$E$2,,,COUNTA(VENTES!E:E),),CCC!B9,OFFSET(VENTES!$F$2,,,COUNTA(VENTES!F:F),)) -> 0 | G9: =SUMIF(OFFSET(VENTES!$E$2,,,COUNTA(VENTES!E:E),),CCC!B9,OFFSET(VENTES!$H$2,,,COUNTA(VENTES!H:H),)) -> 0 | H9: =C9-F9 -> 0 | I9: =IFERROR(H9*C9,"") -> 0
B10: ='mes donnees'!F9 -> X - EM 11 | C10: =SUMIF(OFFSET(ACHATS!$E$2,,,COUNTA(ACHATS!E:E),),CCC!B10,OFFSET(ACHATS!$F$2,,,COUNTA(ACHATS!F:F),)) -> 0 | D10: =IFERROR(E10/(SUMIFS(ACHATS!F:F,ACHATS!E:E,CCC!B10,ACHATS!G:G,"<>0")),"") | E10: =SUMIF(OFFSET(ACHATS!$E$2,,,COUNTA(ACHATS!E:E),),CCC!B10,OFFSET(ACHATS!$H$2,,,COUNTA(ACHATS!H:H),)) -> 0 | F10: =SUMIF(OFFSET(VENTES!$E$2,,,COUNTA(VENTES!E:E),),CCC!B10,OFFSET(VENTES!$F$2,,,COUNTA(VENTES!F:F),)) -> 0 | G10: =SUMIF(OFFSET(VENTES!$E$2,,,COUNTA(VENTES!E:E),),CCC!B10,OFFSET(VENTES!$H$2,,,COUNTA(VENTES!H:H),)) -> 0 | H10: =C10-F10 -> 0 | I10: =IFERROR(H10*C10,"") -> 0
B11: ='mes donnees'!F10 -> X - HM 10-K | C11: =SUMIF(OFFSET(ACHATS!$E$2,,,COUNTA(ACHATS!E:E),),CCC!B11,OFFSET(ACHATS!$F$2,,,COUNTA(ACHATS!F:F),)) -> 0 | D11: =IFERROR(E11/(SUMIFS(ACHATS!F:F,ACHATS!E:E,CCC!B11,ACHATS!G:G,"<>0")),"") | E11: =SUMIF(OFFSET(ACHATS!$E$2,,,COUNTA(ACHATS!E:E),),CCC!B11,OFFSET(ACHATS!$H$2,,,COUNTA(ACHATS!H:H),)) -> 0 | F11: =SUMIF(OFFSET(VENTES!$E$2,,,COUNTA(VENTES!E:E),),CCC!B11,OFFSET(VENTES!$F$2,,,COUNTA(VENTES!F:F),)) -> 0 | G11: =SUMIF(OFFSET(VENTES!$E$2,,,COUNTA(VENTES!E:E),),CCC!B11,OFFSET(VENTES!$H$2,,,COUNTA(VENTES!H:H),)) -> 0 | H11: =C11-F11 -> 0 | I11: =IFERROR(H11*C11,"") -> 0
B12: ='mes donnees'!F11 -> X - HM 20-S | C12: =SUMIF(OFFSET(ACHATS!$E$2,,,COUNTA(ACHATS!E:E),),CCC!B12,OFFSET(ACHATS!$F$2,,,COUNTA(ACHATS!F:F),)) -> 0 | D12: =IFERROR(E12/(SUMIFS(ACHATS!F:F,ACHATS!E:E,CCC!B12,ACHATS!G:G,"<>0")),"") | E12: =SUMIF(OFFSET(ACHATS!$E$2,,,COUNTA(ACHATS!E:E),),CCC!B12,OFFSET(ACHATS!$H$2,,,COUNTA(ACHATS!H:H),)) -> 0 | F12: =SUMIF(OFFSET(VENTES!$E$2,,,COUNTA(VENTES!E:E),),CCC!B12,OFFSET(VENTES!$F$2,,,COUNTA(VENTES!F:F),)) -> 0 | G12: =SUMIF(OFFSET(VENTES!$E$2,,,COUNTA(VENTES!E:E),),CCC!B12,OFFSET(VENTES!$H$2,,,COUNTA(VENTES!H:H),)) -> 0 | H12: =C12-F12 -> 0 | I12: =IFERROR(H12*C12,"") -> 0
B13: ='mes donnees'!F12 -> X - SMC 1 - K | C13: =SUMIF(OFFSET(ACHATS!$E$2,,,COUNTA(ACHATS!E:E),),CCC!B13,OFFSET(ACHATS!$F$2,,,COUNTA(ACHATS!F:F),)) -> 0 | D13: =IFERROR(E13/(SUMIFS(ACHATS!F:F,ACHATS!E:E,CCC!B13,ACHATS!G:G,"<>0")),"") | E13: =SUMIF(OFFSET(ACHATS!$E$2,,,COUNTA(ACHATS!E:E),),CCC!B13,OFFSET(ACHATS!$H$2,,,COUNTA(ACHATS!H:H),)) -> 0 | F13: =SUMIF(OFFSET(VENTES!$E$2,,,COUNTA(VENTES!E:E),),CCC!B13,OFFSET(VENTES!$F$2,,,COUNTA(VENTES!F:F),)) -> 0 | G13: =SUMIF(OFFSET(VENTES!$E$2,,,COUNTA(VENTES!E:E),),CCC!B13,OFFSET(VENTES!$H$2,,,COUNTA(VENTES!H:H),)) -> 0 | H13: =C13-F13 -> 0 | I13: =IFERROR(H13*C13,"") -> 0
B14: ='mes donnees'!F13 -> 0
B15: ='mes donnees'!G14 -> 0
B16: ='mes donnees'!G15 -> 0
B17: ='mes donnees'!G16 -> 0
B18: ='mes donnees'!G17 -> 0
B19: ='mes donnees'!G18 -> 0
B20: ='mes donnees'!G19 -> 0
B21: ='mes donnees'!G20 -> 0
B22: ='mes donnees'!G21 -> 0
B23: ='mes donnees'!G22 -> 0
B24: ='mes donnees'!G23 -> 0
B25: ='mes donnees'!G24 -> 0
B26: ='mes donnees'!G25 -> 0
... B33: ='mes donnees'!G32 -> 0

Sheet DESIGNATIONS
B1: AAA | E1: CCC | G1: BBB
B2: BDV - E 690 / / ME 3 | C2: BLEU RAY | E2: HOME CINEMA BLEU RAY | F2: BCS - 323 | G2: LUNETTE 3D | H2: AN - 3DG20 - B
B3: BDV - N 890 W / / ME 3 | C3: BLEU RAY | E3: HOME CINEMA BLEU RAY | F3: BCS - FS 525 | G3: TV / LED | H3: LC - 32 LD 135 E
B4: DAV - DZ 840 K | C4: HOME CINEMA | E4: HOME CINEMA DVD | F4: DCS - 222 K | G4: TV / LED | H4: LC 32 LE 350 E - BK
B5: DAV - SZ 1000 W | C5: HOME CINEMA | E5: D V D | F5: DV - 2022 | G5: TV / LED | H5: LC - 50 LE 750 E
B6: DAV - TZ 140 / / CE 3 | C6: HOME CINEMA | E6: D V D | F6: DV - 3022 V | G6: TV / LED | H6: LC - 39 LE 750 E
B7: DAV - TZ 715 | C7: HOME CINEMA | E7: RADIO REVEIL | F7: X - DS 301 - K | G7: TV / LED | H7: LC - 39 LE 650
B8: DCR - SR 21 E / BCE 37 | C8: CAMERA | E8: MICRO CHAINE | F8: X - CM 31 - K | G8: TV / LED | H8: LC - 50 LE 650 E
B9: DCR - SR 21 E / SCE 37 | C9: CAMERA | E9: MICRO CHAINE CD | F9: X - EM 11 | G9: USB WIRELESS DONGLE(WI FI) | H9: KI-OUA004WJN3
B10: DCR - SX 22 / BCE 37 | C10: CAMERA | E10: MICRO CHAINE | F10: X - HM 10-K
B11: DCR - SX 22 / SC 37 | C11: CAMERA | E11: MICRO CHAINE | F11: X - HM 20-S
B12: DSC - W 610 / BCE32 | C12: APPAREIL PHOTOS | E12: MICRO CHAINE | F12: X - SMC 1 - K
B13: DSC - W 710 / BCE 37 | C13: APPAREIL PHOTOS
B14: DSC - W 710 / PCE 37 | C14: APPAREIL PHOTOS
B15: DSC - W 710 / SCE 37 | C15: APPAREIL PHOTOS
B16: DSC - W 730 / BCE 37 | C16: APPAREIL PHOTOS
B17: DSC - W 730 / SCE 37 | C17: APPAREIL PHOTOS
B18: DSC - W610 / SCE 32 | C18: APPAREIL PHOTOS
B19: DSC - WX 80 / BCE 32 | C19: APPAREIL PHOTOS
B20: DSC - WX 80 / WCE 32 | C20: APPAREIL PHOTOS
B21: DVP - SP-R 320 / BCEA 5 | C21: D V D
B22: DVPSR 760 HPBCEA 5 | C22: D V D
B23: HCD - SH 2000 / MEA 3 | C23: 2/2 CHAINE (WOOFER )
B24: ICF - C 205 / SCSP 5 | C24: RADIO - REVEIL
... B50: SS - SH 2000 P / MEA | C50: 1/2 CHAINE( 2-bafes )
