Workbook

Sheet Feuil1
B2: Prénom | C2: Service | D2: Pathologie | E2: Date de l'intervention | F2: Nature de l'intervention | G2: Durée | H2: Mois
B3: Virginie | C3: Letulle | D3: Tétra | E3: 41493 | F3: Sonette | G3: 3 | H3: =TEXT(E3,"mmmm") -> août
B4: Michel | C4: Letulle | D4: LIS | E4: 41401 | F4: Communication | G4: 1 | H4: =TEXT(E4,"mmmm") -> mai
B5: Benoît | C5: Netter | D5: SEP | E5: 41399 | F5: Informatique | G5: 2 | H5: =TEXT(E5,"mmmm") -> mai
B6: Pascale | C6: Widal | D6: LIS | E6: 41426 | F6: Communication | G6: 8 | H6: =TEXT(E6,"mmmm") -> juin
B7: Corinne | C7: Widal | D7: SEP | E7: 41373 | F7: Informatique | G7: 1 | H7: =TEXT(E7,"mmmm") -> avril
B8: Pascale | C8: Widal | D8: Compression moelle | E8: 41278 | G8: 2 | H8: =TEXT(E8,"mmmm") -> janvier
B9: Jean Paul | D9: LIS | E9: 41406 | F9: Communication | G9: 8 | H9: =TEXT(E9,"mmmm") -> mai
B10: Corinne | C10: Widal | D10: IMC | E10: 41324 | G10: 1 | H10: =TEXT(E10,"mmmm") -> février
B11: Emilien | D11: SEP | E11: 41317 | F11: Informatique | G11: 2 | H11: =TEXT(E11,"mmmm") -> février
B12: Pascale | C12: Widal | D12: Locked-in-syndrome | E12: 41521 | G12: 2 | H12: =TEXT(E12,"mmmm") -> septembre

Sheet Résultats
A1: Résultats par mois (formule) | D1: Résultats par trimestre (formule) | H1: Résultat par mois (Tableau croisé dynamique)
B3: Nombre d'heures | E3: Nombre d'heures
A4: Janvier | B4: =SUMIF(Feuil1!$H$3:$H$12,Résultats!A4,Feuil1!$G$3:$G$12) -> 2 | D4: 1er trimestre | E4: =SUMPRODUCT(SUMIF($A$4:$A$15,{"Janvier";"Février";"Mars"},$B$4:$B$15)) -> 5 | H4: Mois | I4: Durée
A5: Février | B5: =SUMIF(Feuil1!$H$3:$H$12,Résultats!A5,Feuil1!$G$3:$G$12) -> 3 | D5: 2e trimestre | E5: =SUMPRODUCT(SUMIF($A$4:$A$15,{"Avril";"Mai";"Juin"},$B$4:$B$15)) -> 20 | H5: janvier | I5: 2
A6: Mars | B6: =SUMIF(Feuil1!$H$3:$H$12,Résultats!A6,Feuil1!$G$3:$G$12) -> 0 | D6: 3e trimestre | E6: =SUMPRODUCT(SUMIF($A$4:$A$15,{"Juillet";"Août";"Septembre"},$B$4:$B$15)) -> 5 | H6: février | I6: 3
A7: Avril | B7: =SUMIF(Feuil1!$H$3:$H$12,Résultats!A7,Feuil1!$G$3:$G$12) -> 1 | D7: 4e trimestre | E7: =SUMPRODUCT(SUMIF($A$4:$A$15,{"Octobre";"Novembre";"Décembre"},$B$4:$B$15)) -> 0 | H7: mars | I7: 2
A8: Mai | B8: =SUMIF(Feuil1!$H$3:$H$12,Résultats!A8,Feuil1!$G$3:$G$12) -> 11 | H8: avril | I8: 1
A9: Juin | B9: =SUMIF(Feuil1!$H$3:$H$12,Résultats!A9,Feuil1!$G$3:$G$12) -> 8 | H9: mai | I9: 11
A10: Juillet | B10: =SUMIF(Feuil1!$H$3:$H$12,Résultats!A10,Feuil1!$G$3:$G$12) -> 0 | H10: juin | I10: 8
A11: Août | B11: =SUMIF(Feuil1!$H$3:$H$12,Résultats!A11,Feuil1!$G$3:$G$12) -> 3 | H11: août | I11: 3
A12: Septembre | B12: =SUMIF(Feuil1!$H$3:$H$12,Résultats!A12,Feuil1!$G$3:$G$12) -> 2 | H12: Total | I12: 30
A13: Octobre | B13: =SUMIF(Feuil1!$H$3:$H$12,Résultats!A13,Feuil1!$G$3:$G$12) -> 0
A14: Novembre | B14: =SUMIF(Feuil1!$H$3:$H$12,Résultats!A14,Feuil1!$G$3:$G$12) -> 0
A15: Décembre | B15: =SUMIF(Feuil1!$H$3:$H$12,Résultats!A15,Feuil1!$G$3:$G$12) -> 0
B19: août | C19: =SUMIF(Résultats!H3:H12,Résultats!B19,Feuil1!G3:G12) -> 2
B20: septembre | C20: =SUMIF(Feuil1!H3:H12,Résultats!A12,Feuil1!G3:G12) -> 2
B21: mai | C21: =SUMIF(Résultats!H3:H12,B21,Feuil1!G3:G12) -> 8
