Workbook
Name motordata: [1]Motordata!$H$9
Name MotorRating: 'MOTORS CHART IN AIR'!$C$17:$C$45
Name n: 'DC FEEDER CHART IN AIR'!#REF!
Name n: 'LV FEEDER CHART IN AIR'!#REF!
Name n: 'MOTORS CHART IN AIR'!$S$7
Name Print_Titles_MI: #REF!
Name Print_Titles_MI: #REF!
Name Print_Titles_MI: #REF!
Name Print_Titles_MI: #REF!
Name Print_Titles_MI: #REF!
Name Vd: '[2]MOTORS CHART IN AIR'!$F$4
Name Vd: '[2]MOTORS CHART IN AIR'!$F$4
Name Vd: '[2]MOTORS CHART IN AIR'!$F$4
Name Vd: 'DC FEEDER CHART IN AIR'!$E$4
Name Vd: 'LV FEEDER CHART IN AIR'!$F$4
Name Vd: 'MOTORS CHART IN AIR'!$F$4
Name Vst: '[2]MOTORS CHART IN AIR'!$F$5
Name Vst: '[2]MOTORS CHART IN AIR'!$F$5
Name Vst: '[2]MOTORS CHART IN AIR'!$F$5
Name Vst: 'DC FEEDER CHART IN AIR'!$E$5
Name Vst: 'LV FEEDER CHART IN AIR'!$F$5
Name Vst: 'MOTORS CHART IN AIR'!$F$5

Sheet MOTORS CHART IN AIR
B2: LV MOTORS - CABLES LAID IN AIR
B4: Maximum Volt Drop (%) | E4: ΔVd | F4: 0.05 | H4: DERATING FACTORS | I4: Ambient temperature factor (40°C) | N4: 1.05
B5: Max. Starting Volt Drop (%) | E5: ΔVst | F5: 0.15 | I5: Layer factor | N5: 0.8
B6: Max Length | E6: Lmax | F6: 350 | I6: Touching - LV 3-core | N6: 0.78
I7: Trefoil untouching - LV single core | N7: 0.9
J9: 3-CORE CABLES | W9: SINGLE-CORE CABLES
B10: Conductor Size | J10: 3 x 4 mm² | K10: 3 x 6 mm² | L10: 3 x 10 mm² | M10: 3 x 16 mm² | N10: 3 x 25 mm² | O10: 3 x 35 mm² | P10: 3 x 50 mm² | Q10: 3 x 70 mm² | R10: 3 x 95 mm² | S10: 3 x 120 mm² | T10: 3 x 150 mm² | U10: 3 x 185 mm² | V10: 3 x 240 mm² | W10: 3 x 1 x 150 mm² | X10: 3 x 1 x 185 mm² | Y10: 3 x 1 x 240 mm² | Z10: 3 x 1 x 300 mm² | AA10: 3 x 1 x 400 mm² | AB10: 2 x 3 x 1 x 150 mm² | AC10: 2 x 3 x 1 x 185 mm² | AD10: 2 x 3 x 1 x 240 mm² | AE10: 2 x 3 x 1 x 300 mm² | AF10: 2 x 3 x 1 x 400 mm² | AG10: 3 x 3 x 1 x 240 mm² | AH10: 3 x 3 x 1 x 300 mm² | AI10: 3 x 3 x 1 x 400 mm² | AJ10: 4 x 3 x 1 x 240 mm² | AK10: 4 x 3 x 1 x 300 mm² | AL10: 4 x 3 x 1 x 400 mm²
B11: Current Rating (Base) as per IEC 61892-4 Annex A, Table A-7 | J11: 37 | K11: 47 | L11: 65 | M11: 87 | N11: 110 | O11: 137 | P11: 167 | Q11: 214 | R11: 259 | S11: 301 | T11: 347 | U11: 397 | V11: 468 | W11: 386 | X11: 444 | Y11: 528 | Z11: 612 | AA11: 716 | AB11: 772 | AC11: 888 | AD11: 1056 | AE11: 1224 | AF11: 1432 | AG11: 1584 | AH11: 1836 | AI11: 2148 | AJ11: 2112 | AK11: 2448 | AL11: 2864
B12: Derating factor | J12: =$N$4*$N$5*$N$6 -> 0.6552 | K12: =$N$4*$N$5*$N$6 -> 0.6552 | L12: =$N$4*$N$5*$N$6 -> 0.6552 | M12: =$N$4*$N$5*$N$6 -> 0.6552 | N12: =$N$4*$N$5*$N$6 -> 0.6552 | O12: =$N$4*$N$5*$N$6 -> 0.6552 | P12: =$N$4*$N$5*$N$6 -> 0.6552 | Q12: =$N$4*$N$5*$N$6 -> 0.6552 | ... V12: =$N$4*$N$5*$N$6 -> 0.6552 | W12: =$N$4*$N$7 -> 0.945 | X12: =$N$4*$N$7 -> 0.945 | Y12: =$N$4*$N$7 -> 0.945 | Z12: =$N$4*$N$7 -> 0.945 | AA12: =$N$4*$N$7 -> 0.945 | AB12: =$N$4*$N$7 -> 0.945 | AC12: =$N$4*$N$7 -> 0.945 | AD12: =$N$4*$N$7 -> 0.945 | ... AL12: =$N$4*$N$7 -> 0.945
B13: Current Rating (Derated) | J13: =J11*J12 -> 24.2424 | K13: =K11*K12 -> 30.7944 | L13: =L11*L12 -> 42.588 | M13: =M11*M12 -> 57.0024 | N13: =N11*N12 -> 72.072 | O13: =O11*O12 -> 89.7624 | P13: =P11*P12 -> 109.4184 | Q13: =Q11*Q12 -> 140.2128 | ... AL13: =AL11*AL12 -> 2706.48
B14: Typical Resistance (a.c. at conductor temp.) (Ω/Km) form IEC 60228 | J14: =VLOOKUP(J$10,'CIRCUIT PRYSMIAN'!$B$6:$V$49,13,0) -> 5.9927308 | K14: =VLOOKUP(K$10,'CIRCUIT PRYSMIAN'!$B$6:$V$49,13,0) -> 3.9654028 | L14: =VLOOKUP(L$10,'CIRCUIT PRYSMIAN'!$B$6:$V$49,13,0) -> 2.3460904 | M14: =VLOOKUP(M$10,'CIRCUIT PRYSMIAN'!$B$6:$V$49,13,0) -> 1.479057 | N14: =VLOOKUP(N$10,'CIRCUIT PRYSMIAN'!$B$6:$V$49,13,0) -> 0.93588605 | O14: =VLOOKUP(O$10,'CIRCUIT PRYSMIAN'!$B$6:$V$49,13,0) -> 0.67450098 | P14: =VLOOKUP(P$10,'CIRCUIT PRYSMIAN'!$B$6:$V$49,13,0) -> 0.4985442 | Q14: =VLOOKUP(Q$10,'CIRCUIT PRYSMIAN'!$B$6:$V$49,13,0) -> 0.34426326 | ... AL14: =VLOOKUP(AL$10,'CIRCUIT PRYSMIAN'!$B$6:$V$49,13,0) -> 0.014981827
B15: Reactance at 50Hz (Ω/Km) | J15: =VLOOKUP(J$10,'CIRCUIT PRYSMIAN'!$B$6:$V$49,19,0) -> 0.096 | K15: =VLOOKUP(K$10,'CIRCUIT PRYSMIAN'!$B$6:$V$49,19,0) -> 0.091 | L15: =VLOOKUP(L$10,'CIRCUIT PRYSMIAN'!$B$6:$V$49,19,0) -> 0.085 | M15: =VLOOKUP(M$10,'CIRCUIT PRYSMIAN'!$B$6:$V$49,19,0) -> 0.081 | N15: =VLOOKUP(N$10,'CIRCUIT PRYSMIAN'!$B$6:$V$49,19,0) -> 0.08 | O15: =VLOOKUP(O$10,'CIRCUIT PRYSMIAN'!$B$6:$V$49,19,0) -> 0.078 | P15: =VLOOKUP(P$10,'CIRCUIT PRYSMIAN'!$B$6:$V$49,19,0) -> 0.077 | Q15: =VLOOKUP(Q$10,'CIRCUIT PRYSMIAN'!$B$6:$V$49,19,0) -> 0.075 | ... AL15: =VLOOKUP(AL$10,'CIRCUIT PRYSMIAN'!$B$6:$V$49,19,0) -> 0.0215
B16: V | C16: Motor Rating (KW) | D16: Efficiency | E16: F.L.C (A) | F16: Power Factor | G16: Is/In | H16: L.R.C. (A) | I16: L.R. Power Factor | J16: MAXIMUM ROUTE LENGTH (METERS)
B17: 400 | C17: 0.55 | D17: =VLOOKUP($C17,'ABB MOTOR DATA Ex na'!$E$6:$U$52,6,0) -> 0.754 | E17: =(C17*1000)/(SQRT(3)*B17*D17*F17) -> 1.3853424 | F17: =VLOOKUP($C17,'ABB MOTOR DATA Ex na'!$E$6:$U$52,8,0) -> 0.76 | G17: =VLOOKUP($C17,'ABB MOTOR DATA Ex na'!$E$6:$U$52,10,0) -> 4.9 | H17: =G17*E17 -> 6.7881779 | I17: 0.75 | J17: =IF(J$13>$E17,IF(MIN(1000*Vd*$B17/(SQRT(3)*$E17*(J$14*$F17+J$15*SIN(ACOS($F17)))),1000*Vst*$B17/(SQRT(3)*$H17*(J$14*$I17+J$15*SIN(ACOS($I17)))))>$F$6, ">"&$F$6,MIN(1000*Vd*$B17/(SQRT(3)*$E17*(J$14*$F17+J$15*SIN(ACOS($F17)))),1000*Vst*$B17/(SQRT(3)*$H17*(J$14*$I17+J$15*SIN(ACOS($I17)))))),"NOK") -> >350 | K17: =IF(K$13>$E17,IF(MIN(1000*Vd*$B17/(SQRT(3)*$E17*(K$14*$F17+K$15*SIN(ACOS($F17)))),1000*Vst*$B17/(SQRT(3)*$H17*(K$14*$I17+K$15*SIN(ACOS($I17)))))>$F$6, ">"&$F$6,MIN(1000*Vd*$B17/(SQRT(3)*$E17*(K$14*$F17+K$15*SIN(ACOS($F17)))),1000*Vst*$B17/(SQRT(3)*$H17*(K$14*$I17+K$15*SIN(ACOS($I17)))))),"NOK") -> >350 | L17: =IF(L$13>$E17,IF(MIN(1000*Vd*$B17/(SQRT(3)*$E17*(L$14*$F17+L$15*SIN(ACOS($F17)))),1000*Vst*$B17/(SQRT(3)*$H17*(L$14*$I17+L$15*SIN(ACOS($I17)))))>$F$6, ">"&$F$6,MIN(1000*Vd*$B17/(SQRT(3)*$E17*(L$14*$F17+L$15*SIN(ACOS($F17)))),1000*Vst*$B17/(SQRT(3)*$H17*(L$14*$I17+L$15*SIN(ACOS($I17)))))),"NOK") -> >350 | M17: =IF(M$13>$E17,IF(MIN(1000*Vd*$B17/(SQRT(3)*$E17*(M$14*$F17+M$15*SIN(ACOS($F17)))),1000*Vst*$B17/(SQRT(3)*$H17*(M$14*$I17+M$15*SIN(ACOS($I17)))))>$F$6, ">"&$F$6,MIN(1000*Vd*$B17/(SQRT(3)*$E17*(M$14*$F17+M$15*SIN(ACOS($F17)))),1000*Vst*$B17/(SQRT(3)*$H17*(M$14*$I17+M$15*SIN(ACOS($I17)))))),"NOK") -> >350 | N17: =IF(N$13>$E17,IF(MIN(1000*Vd*$B17/(SQRT(3)*$E17*(N$14*$F17+N$15*SIN(ACOS($F17)))),1000*Vst*$B17/(SQRT(3)*$H17*(N$14*$I17+N$15*SIN(ACOS($I17)))))>$F$6, ">"&$F$6,MIN(1000*Vd*$B17/(SQRT(3)*$E17*(N$14*$F17+N$15*SIN(ACOS($F17)))),1000*Vst*$B17/(SQRT(3)*$H17*(N$14*$I17+N$15*SIN(ACOS($I17)))))),"NOK") -> >350 | O17: =IF(O$13>$E17,IF(MIN(1000*Vd*$B17/(SQRT(3)*$E17*(O$14*$F17+O$15*SIN(ACOS($F17)))),1000*Vst*$B17/(SQRT(3)*$H17*(O$14*$I17+O$15*SIN(ACOS($I17)))))>$F$6, ">"&$F$6,MIN(1000*Vd*$B17/(SQRT(3)*$E17*(O$14*$F17+O$15*SIN(ACOS($F17)))),1000*Vst*$B17/(SQRT(3)*$H17*(O$14*$I17+O$15*SIN(ACOS($I17)))))),"NOK") -> >350 | P17: =IF(P$13>$E17,IF(MIN(1000*Vd*$B17/(SQRT(3)*$E17*(P$14*$F17+P$15*SIN(ACOS($F17)))),1000*Vst*$B17/(SQRT(3)*$H17*(P$14*$I17+P$15*SIN(ACOS($I17)))))>$F$6, ">"&$F$6,MIN(1000*Vd*$B17/(SQRT(3)*$E17*(P$14*$F17+P$15*SIN(ACOS($F17)))),1000*Vst*$B17/(SQRT(3)*$H17*(P$14*$I17+P$15*SIN(ACOS($I17)))))),"NOK") -> >350 | Q17: =IF(Q$13>$E17,IF(MIN(1000*Vd*$B17/(SQRT(3)*$E17*(Q$14*$F17+Q$15*SIN(ACOS($F17)))),1000*Vst*$B17/(SQRT(3)*$H17*(Q$14*$I17+Q$15*SIN(ACOS($I17)))))>$F$6, ">"&$F$6,MIN(1000*Vd*$B17/(SQRT(3)*$E17*(Q$14*$F17+Q$15*SIN(ACOS($F17)))),1000*Vst*$B17/(SQRT(3)*$H17*(Q$14*$I17+Q$15*SIN(ACOS($I17)))))),"NOK") -> >350 | ... AL17: =IF(AL$13>$E17,IF(MIN(1000*Vd*$B17/(SQRT(3)*$E17*(AL$14*$F17+AL$15*SIN(ACOS($F17)))),1000*Vst*$B17/(SQRT(3)*$H17*(AL$14*$I17+AL$15*SIN(ACOS($I17)))))>$F$6, ">"&$F$6,MIN(1000*Vd*$B17/(SQRT(3)*$E17*(AL$14*$F17+AL$15*SIN(ACOS($F17)))),1000*Vst*$B17/(SQRT(3)*$H17*(AL$14*$I17+AL$15*SIN(ACOS($I17)))))),"NOK") -> >350
B18: 400 | C18: 0.75 | D18: =VLOOKUP($C18,'ABB MOTOR DATA Ex na'!$E$6:$U$52,6,0) -> 0.804 | E18: =(C18*1000)/(SQRT(3)*B18*D18*F18) -> 1.7716218 | F18: =VLOOKUP($C18,'ABB MOTOR DATA Ex na'!$E$6:$U$52,8,0) -> 0.76 | G18: =VLOOKUP($C18,'ABB MOTOR DATA Ex na'!$E$6:$U$52,10,0) -> 5.2 | H18: =G18*E18 -> 9.2124331 | I18: 0.75 | J18: =IF(J$13>$E18,IF(MIN(1000*Vd*$B18/(SQRT(3)*$E18*(J$14*$F18+J$15*SIN(ACOS($F18)))),1000*Vst*$B18/(SQRT(3)*$H18*(J$14*$I18+J$15*SIN(ACOS($I18)))))>$F$6, ">"&$F$6,MIN(1000*Vd*$B18/(SQRT(3)*$E18*(J$14*$F18+J$15*SIN(ACOS($F18)))),1000*Vst*$B18/(SQRT(3)*$H18*(J$14*$I18+J$15*SIN(ACOS($I18)))))),"NOK") -> >350 | K18: =IF(K$13>$E18,IF(MIN(1000*Vd*$B18/(SQRT(3)*$E18*(K$14*$F18+K$15*SIN(ACOS($F18)))),1000*Vst*$B18/(SQRT(3)*$H18*(K$14*$I18+K$15*SIN(ACOS($I18)))))>$F$6, ">"&$F$6,MIN(1000*Vd*$B18/(SQRT(3)*$E18*(K$14*$F18+K$15*SIN(ACOS($F18)))),1000*Vst*$B18/(SQRT(3)*$H18*(K$14*$I18+K$15*SIN(ACOS($I18)))))),"NOK") -> >350 | L18: =IF(L$13>$E18,IF(MIN(1000*Vd*$B18/(SQRT(3)*$E18*(L$14*$F18+L$15*SIN(ACOS($F18)))),1000*Vst*$B18/(SQRT(3)*$H18*(L$14*$I18+L$15*SIN(ACOS($I18)))))>$F$6, ">"&$F$6,MIN(1000*Vd*$B18/(SQRT(3)*$E18*(L$14*$F18+L$15*SIN(ACOS($F18)))),1000*Vst*$B18/(SQRT(3)*$H18*(L$14*$I18+L$15*SIN(ACOS($I18)))))),"NOK") -> >350 | M18: =IF(M$13>$E18,IF(MIN(1000*Vd*$B18/(SQRT(3)*$E18*(M$14*$F18+M$15*SIN(ACOS($F18)))),1000*Vst*$B18/(SQRT(3)*$H18*(M$14*$I18+M$15*SIN(ACOS($I18)))))>$F$6, ">"&$F$6,MIN(1000*Vd*$B18/(SQRT(3)*$E18*(M$14*$F18+M$15*SIN(ACOS($F18)))),1000*Vst*$B18/(SQRT(3)*$H18*(M$14*$I18+M$15*SIN(ACOS($I18)))))),"NOK") -> >350 | N18: =IF(N$13>$E18,IF(MIN(1000*Vd*$B18/(SQRT(3)*$E18*(N$14*$F18+N$15*SIN(ACOS($F18)))),1000*Vst*$B18/(SQRT(3)*$H18*(N$14*$I18+N$15*SIN(ACOS($I18)))))>$F$6, ">"&$F$6,MIN(1000*Vd*$B18/(SQRT(3)*$E18*(N$14*$F18+N$15*SIN(ACOS($F18)))),1000*Vst*$B18/(SQRT(3)*$H18*(N$14*$I18+N$15*SIN(ACOS($I18)))))),"NOK") -> >350 | O18: =IF(O$13>$E18,IF(MIN(1000*Vd*$B18/(SQRT(3)*$E18*(O$14*$F18+O$15*SIN(ACOS($F18)))),1000*Vst*$B18/(SQRT(3)*$H18*(O$14*$I18+O$15*SIN(ACOS($I18)))))>$F$6, ">"&$F$6,MIN(1000*Vd*$B18/(SQRT(3)*$E18*(O$14*$F18+O$15*SIN(ACOS($F18)))),1000*Vst*$B18/(SQRT(3)*$H18*(O$14*$I18+O$15*SIN(ACOS($I18)))))),"NOK") -> >350 | P18: =IF(P$13>$E18,IF(MIN(1000*Vd*$B18/(SQRT(3)*$E18*(P$14*$F18+P$15*SIN(ACOS($F18)))),1000*Vst*$B18/(SQRT(3)*$H18*(P$14*$I18+P$15*SIN(ACOS($I18)))))>$F$6, ">"&$F$6,MIN(1000*Vd*$B18/(SQRT(3)*$E18*(P$14*$F18+P$15*SIN(ACOS($F18)))),1000*Vst*$B18/(SQRT(3)*$H18*(P$14*$I18+P$15*SIN(ACOS($I18)))))),"NOK") -> >350 | Q18: =IF(Q$13>$E18,IF(MIN(1000*Vd*$B18/(SQRT(3)*$E18*(Q$14*$F18+Q$15*SIN(ACOS($F18)))),1000*Vst*$B18/(SQRT(3)*$H18*(Q$14*$I18+Q$15*SIN(ACOS($I18)))))>$F$6, ">"&$F$6,MIN(1000*Vd*$B18/(SQRT(3)*$E18*(Q$14*$F18+Q$15*SIN(ACOS($F18)))),1000*Vst*$B18/(SQRT(3)*$H18*(Q$14*$I18+Q$15*SIN(ACOS($I18)))))),"NOK") -> >350 | ... AL18: =IF(AL$13>$E18,IF(MIN(1000*Vd*$B18/(SQRT(3)*$E18*(AL$14*$F18+AL$15*SIN(ACOS($F18)))),1000*Vst*$B18/(SQRT(3)*$H18*(AL$14*$I18+AL$15*SIN(ACOS($I18)))))>$F$6, ">"&$F$6,MIN(1000*Vd*$B18/(SQRT(3)*$E18*(AL$14*$F18+AL$15*SIN(ACOS($F18)))),1000*Vst*$B18/(SQRT(3)*$H18*(AL$14*$I18+AL$15*SIN(ACOS($I18)))))),"NOK") -> >350
B19: 400 | C19: 1.1 | D19: =VLOOKUP($C19,'ABB MOTOR DATA Ex na'!$E$6:$U$52,6,0) -> 0.818 | E19: =(C19*1000)/(SQRT(3)*B19*D19*F19) -> 2.3962589 | F19: =VLOOKUP($C19,'ABB MOTOR DATA Ex na'!$E$6:$U$52,8,0) -> 0.81 | G19: =VLOOKUP($C19,'ABB MOTOR DATA Ex na'!$E$6:$U$52,10,0) -> 5.9 | H19: =G19*E19 -> 14.137928 | I19: 0.72 | J19: =IF(J$13>$E19,IF(MIN(1000*Vd*$B19/(SQRT(3)*$E19*(J$14*$F19+J$15*SIN(ACOS($F19)))),1000*Vst*$B19/(SQRT(3)*$H19*(J$14*$I19+J$15*SIN(ACOS($I19)))))>$F$6, ">"&$F$6,MIN(1000*Vd*$B19/(SQRT(3)*$E19*(J$14*$F19+J$15*SIN(ACOS($F19)))),1000*Vst*$B19/(SQRT(3)*$H19*(J$14*$I19+J$15*SIN(ACOS($I19)))))),"NOK") -> >350 | K19: =IF(K$13>$E19,IF(MIN(1000*Vd*$B19/(SQRT(3)*$E19*(K$14*$F19+K$15*SIN(ACOS($F19)))),1000*Vst*$B19/(SQRT(3)*$H19*(K$14*$I19+K$15*SIN(ACOS($I19)))))>$F$6, ">"&$F$6,MIN(1000*Vd*$B19/(SQRT(3)*$E19*(K$14*$F19+K$15*SIN(ACOS($F19)))),1000*Vst*$B19/(SQRT(3)*$H19*(K$14*$I19+K$15*SIN(ACOS($I19)))))),"NOK") -> >350 | L19: =IF(L$13>$E19,IF(MIN(1000*Vd*$B19/(SQRT(3)*$E19*(L$14*$F19+L$15*SIN(ACOS($F19)))),1000*Vst*$B19/(SQRT(3)*$H19*(L$14*$I19+L$15*SIN(ACOS($I19)))))>$F$6, ">"&$F$6,MIN(1000*Vd*$B19/(SQRT(3)*$E19*(L$14*$F19+L$15*SIN(ACOS($F19)))),1000*Vst*$B19/(SQRT(3)*$H19*(L$14*$I19+L$15*SIN(ACOS($I19)))))),"NOK") -> >350 | M19: =IF(M$13>$E19,IF(MIN(1000*Vd*$B19/(SQRT(3)*$E19*(M$14*$F19+M$15*SIN(ACOS($F19)))),1000*Vst*$B19/(SQRT(3)*$H19*(M$14*$I19+M$15*SIN(ACOS($I19)))))>$F$6, ">"&$F$6,MIN(1000*Vd*$B19/(SQRT(3)*$E19*(M$14*$F19+M$15*SIN(ACOS($F19)))),1000*Vst*$B19/(SQRT(3)*$H19*(M$14*$I19+M$15*SIN(ACOS($I19)))))),"NOK") -> >350 | N19: =IF(N$13>$E19,IF(MIN(1000*Vd*$B19/(SQRT(3)*$E19*(N$14*$F19+N$15*SIN(ACOS($F19)))),1000*Vst*$B19/(SQRT(3)*$H19*(N$14*$I19+N$15*SIN(ACOS($I19)))))>$F$6, ">"&$F$6,MIN(1000*Vd*$B19/(SQRT(3)*$E19*(N$14*$F19+N$15*SIN(ACOS($F19)))),1000*Vst*$B19/(SQRT(3)*$H19*(N$14*$I19+N$15*SIN(ACOS($I19)))))),"NOK") -> >350 | O19: =IF(O$13>$E19,IF(MIN(1000*Vd*$B19/(SQRT(3)*$E19*(O$14*$F19+O$15*SIN(ACOS($F19)))),1000*Vst*$B19/(SQRT(3)*$H19*(O$14*$I19+O$15*SIN(ACOS($I19)))))>$F$6, ">"&$F$6,MIN(1000*Vd*$B19/(SQRT(3)*$E19*(O$14*$F19+O$15*SIN(ACOS($F19)))),1000*Vst*$B19/(SQRT(3)*$H19*(O$14*$I19+O$15*SIN(ACOS($I19)))))),"NOK") -> >350 | P19: =IF(P$13>$E19,IF(MIN(1000*Vd*$B19/(SQRT(3)*$E19*(P$14*$F19+P$15*SIN(ACOS($F19)))),1000*Vst*$B19/(SQRT(3)*$H19*(P$14*$I19+P$15*SIN(ACOS($I19)))))>$F$6, ">"&$F$6,MIN(1000*Vd*$B19/(SQRT(3)*$E19*(P$14*$F19+P$15*SIN(ACOS($F19)))),1000*Vst*$B19/(SQRT(3)*$H19*(P$14*$I19+P$15*SIN(ACOS($I19)))))),"NOK") -> >350 | Q19: =IF(Q$13>$E19,IF(MIN(1000*Vd*$B19/(SQRT(3)*$E19*(Q$14*$F19+Q$15*SIN(ACOS($F19)))),1000*Vst*$B19/(SQRT(3)*$H19*(Q$14*$I19+Q$15*SIN(ACOS($I19)))))>$F$6, ">"&$F$6,MIN(1000*Vd*$B19/(SQRT(3)*$E19*(Q$14*$F19+Q$15*SIN(ACOS($F19)))),1000*Vst*$B19/(SQRT(3)*$H19*(Q$14*$I19+Q$15*SIN(ACOS($I19)))))),"NOK") -> >350 | ... AL19: =IF(AL$13>$E19,IF(MIN(1000*Vd*$B19/(SQRT(3)*$E19*(AL$14*$F19+AL$15*SIN(ACOS($F19)))),1000*Vst*$B19/(SQRT(3)*$H19*(AL$14*$I19+AL$15*SIN(ACOS($I19)))))>$F$6, ">"&$F$6,MIN(1000*Vd*$B19/(SQRT(3)*$E19*(AL$14*$F19+AL$15*SIN(ACOS($F19)))),1000*Vst*$B19/(SQRT(3)*$H19*(AL$14*$I19+AL$15*SIN(ACOS($I19)))))),"NOK") -> >350
B20: 400 | C20: 1.5 | D20: =VLOOKUP($C20,'ABB MOTOR DATA Ex na'!$E$6:$U$52,6,0) -> 0.832 | E20: =(C20*1000)/(SQRT(3)*B20*D20*F20) -> 3.2939744 | F20: =VLOOKUP($C20,'ABB MOTOR DATA Ex na'!$E$6:$U$52,8,0) -> 0.79 | G20: =VLOOKUP($C20,'ABB MOTOR DATA Ex na'!$E$6:$U$52,10,0) -> 6.5 | H20: =G20*E20 -> 21.410834 | I20: 0.78 | J20: =IF(J$13>$E20,IF(MIN(1000*Vd*$B20/(SQRT(3)*$E20*(J$14*$F20+J$15*SIN(ACOS($F20)))),1000*Vst*$B20/(SQRT(3)*$H20*(J$14*$I20+J$15*SIN(ACOS($I20)))))>$F$6, ">"&$F$6,MIN(1000*Vd*$B20/(SQRT(3)*$E20*(J$14*$F20+J$15*SIN(ACOS($F20)))),1000*Vst*$B20/(SQRT(3)*$H20*(J$14*$I20+J$15*SIN(ACOS($I20)))))),"NOK") -> 341.73672 | K20: =IF(K$13>$E20,IF(MIN(1000*Vd*$B20/(SQRT(3)*$E20*(K$14*$F20+K$15*SIN(ACOS($F20)))),1000*Vst*$B20/(SQRT(3)*$H20*(K$14*$I20+K$15*SIN(ACOS($I20)))))>$F$6, ">"&$F$6,MIN(1000*Vd*$B20/(SQRT(3)*$E20*(K$14*$F20+K$15*SIN(ACOS($F20)))),1000*Vst*$B20/(SQRT(3)*$H20*(K$14*$I20+K$15*SIN(ACOS($I20)))))),"NOK") -> >350 | L20: =IF(L$13>$E20,IF(MIN(1000*Vd*$B20/(SQRT(3)*$E20*(L$14*$F20+L$15*SIN(ACOS($F20)))),1000*Vst*$B20/(SQRT(3)*$H20*(L$14*$I20+L$15*SIN(ACOS($I20)))))>$F$6, ">"&$F$6,MIN(1000*Vd*$B20/(SQRT(3)*$E20*(L$14*$F20+L$15*SIN(ACOS($F20)))),1000*Vst*$B20/(SQRT(3)*$H20*(L$14*$I20+L$15*SIN(ACOS($I20)))))),"NOK") -> >350 | M20: =IF(M$13>$E20,IF(MIN(1000*Vd*$B20/(SQRT(3)*$E20*(M$14*$F20+M$15*SIN(ACOS($F20)))),1000*Vst*$B20/(SQRT(3)*$H20*(M$14*$I20+M$15*SIN(ACOS($I20)))))>$F$6, ">"&$F$6,MIN(1000*Vd*$B20/(SQRT(3)*$E20*(M$14*$F20+M$15*SIN(ACOS($F20)))),1000*Vst*$B20/(SQRT(3)*$H20*(M$14*$I20+M$15*SIN(ACOS($I20)))))),"NOK") -> >350 | N20: =IF(N$13>$E20,IF(MIN(1000*Vd*$B20/(SQRT(3)*$E20*(N$14*$F20+N$15*SIN(ACOS($F20)))),1000*Vst*$B20/(SQRT(3)*$H20*(N$14*$I20+N$15*SIN(ACOS($I20)))))>$F$6, ">"&$F$6,MIN(1000*Vd*$B20/(SQRT(3)*$E20*(N$14*$F20+N$15*SIN(ACOS($F20)))),1000*Vst*$B20/(SQRT(3)*$H20*(N$14*$I20+N$15*SIN(ACOS($I20)))))),"NOK") -> >350 | O20: =IF(O$13>$E20,IF(MIN(1000*Vd*$B20/(SQRT(3)*$E20*(O$14*$F20+O$15*SIN(ACOS($F20)))),1000*Vst*$B20/(SQRT(3)*$H20*(O$14*$I20+O$15*SIN(ACOS($I20)))))>$F$6, ">"&$F$6,MIN(1000*Vd*$B20/(SQRT(3)*$E20*(O$14*$F20+O$15*SIN(ACOS($F20)))),1000*Vst*$B20/(SQRT(3)*$H20*(O$14*$I20+O$15*SIN(ACOS($I20)))))),"NOK") -> >350 | P20: =IF(P$13>$E20,IF(MIN(1000*Vd*$B20/(SQRT(3)*$E20*(P$14*$F20+P$15*SIN(ACOS($F20)))),1000*Vst*$B20/(SQRT(3)*$H20*(P$14*$I20+P$15*SIN(ACOS($I20)))))>$F$6, ">"&$F$6,MIN(1000*Vd*$B20/(SQRT(3)*$E20*(P$14*$F20+P$15*SIN(ACOS($F20)))),1000*Vst*$B20/(SQRT(3)*$H20*(P$14*$I20+P$15*SIN(ACOS($I20)))))),"NOK") -> >350 | Q20: =IF(Q$13>$E20,IF(MIN(1000*Vd*$B20/(SQRT(3)*$E20*(Q$14*$F20+Q$15*SIN(ACOS($F20)))),1000*Vst*$B20/(SQRT(3)*$H20*(Q$14*$I20+Q$15*SIN(ACOS($I20)))))>$F$6, ">"&$F$6,MIN(1000*Vd*$B20/(SQRT(3)*$E20*(Q$14*$F20+Q$15*SIN(ACOS($F20)))),1000*Vst*$B20/(SQRT(3)*$H20*(Q$14*$I20+Q$15*SIN(ACOS($I20)))))),"NOK") -> >350 | ... AL20: =IF(AL$13>$E20,IF(MIN(1000*Vd*$B20/(SQRT(3)*$E20*(AL$14*$F20+AL$15*SIN(ACOS($F20)))),1000*Vst*$B20/(SQRT(3)*$H20*(AL$14*$I20+AL$15*SIN(ACOS($I20)))))>$F$6, ">"&$F$6,MIN(1000*Vd*$B20/(SQRT(3)*$E20*(AL$14*$F20+AL$15*SIN(ACOS($F20)))),1000*Vst*$B20/(SQRT(3)*$H20*(AL$14*$I20+AL$15*SIN(ACOS($I20)))))),"NOK") -> >350
B21: 400 | C21: 2.2 | D21: =VLOOKUP($C21,'ABB MOTOR DATA Ex na'!$E$6:$U$52,6,0) -> 0.847 | E21: =(C21*1000)/(SQRT(3)*B21*D21*F21) -> 4.3593346 | F21: =VLOOKUP($C21,'ABB MOTOR DATA Ex na'!$E$6:$U$52,8,0) -> 0.86 | G21: =VLOOKUP($C21,'ABB MOTOR DATA Ex na'!$E$6:$U$52,10,0) -> 7 | H21: =G21*E21 -> 30.515342 | I21: 0.74 | J21: =IF(J$13>$E21,IF(MIN(1000*Vd*$B21/(SQRT(3)*$E21*(J$14*$F21+J$15*SIN(ACOS($F21)))),1000*Vst*$B21/(SQRT(3)*$H21*(J$14*$I21+J$15*SIN(ACOS($I21)))))>$F$6, ">"&$F$6,MIN(1000*Vd*$B21/(SQRT(3)*$E21*(J$14*$F21+J$15*SIN(ACOS($F21)))),1000*Vst*$B21/(SQRT(3)*$H21*(J$14*$I21+J$15*SIN(ACOS($I21)))))),"NOK") -> 252.31202 | K21: =IF(K$13>$E21,IF(MIN(1000*Vd*$B21/(SQRT(3)*$E21*(K$14*$F21+K$15*SIN(ACOS($F21)))),1000*Vst*$B21/(SQRT(3)*$H21*(K$14*$I21+K$15*SIN(ACOS($I21)))))>$F$6, ">"&$F$6,MIN(1000*Vd*$B21/(SQRT(3)*$E21*(K$14*$F21+K$15*SIN(ACOS($F21)))),1000*Vst*$B21/(SQRT(3)*$H21*(K$14*$I21+K$15*SIN(ACOS($I21)))))),"NOK") -> >350 | L21: =IF(L$13>$E21,IF(MIN(1000*Vd*$B21/(SQRT(3)*$E21*(L$14*$F21+L$15*SIN(ACOS($F21)))),1000*Vst*$B21/(SQRT(3)*$H21*(L$14*$I21+L$15*SIN(ACOS($I21)))))>$F$6, ">"&$F$6,MIN(1000*Vd*$B21/(SQRT(3)*$E21*(L$14*$F21+L$15*SIN(ACOS($F21)))),1000*Vst*$B21/(SQRT(3)*$H21*(L$14*$I21+L$15*SIN(ACOS($I21)))))),"NOK") -> >350 | M21: =IF(M$13>$E21,IF(MIN(1000*Vd*$B21/(SQRT(3)*$E21*(M$14*$F21+M$15*SIN(ACOS($F21)))),1000*Vst*$B21/(SQRT(3)*$H21*(M$14*$I21+M$15*SIN(ACOS($I21)))))>$F$6, ">"&$F$6,MIN(1000*Vd*$B21/(SQRT(3)*$E21*(M$14*$F21+M$15*SIN(ACOS($F21)))),1000*Vst*$B21/(SQRT(3)*$H21*(M$14*$I21+M$15*SIN(ACOS($I21)))))),"NOK") -> >350 | N21: =IF(N$13>$E21,IF(MIN(1000*Vd*$B21/(SQRT(3)*$E21*(N$14*$F21+N$15*SIN(ACOS($F21)))),1000*Vst*$B21/(SQRT(3)*$H21*(N$14*$I21+N$15*SIN(ACOS($I21)))))>$F$6, ">"&$F$6,MIN(1000*Vd*$B21/(SQRT(3)*$E21*(N$14*$F21+N$15*SIN(ACOS($F21)))),1000*Vst*$B21/(SQRT(3)*$H21*(N$14*$I21+N$15*SIN(ACOS($I21)))))),"NOK") -> >350 | O21: =IF(O$13>$E21,IF(MIN(1000*Vd*$B21/(SQRT(3)*$E21*(O$14*$F21+O$15*SIN(ACOS($F21)))),1000*Vst*$B21/(SQRT(3)*$H21*(O$14*$I21+O$15*SIN(ACOS($I21)))))>$F$6, ">"&$F$6,MIN(1000*Vd*$B21/(SQRT(3)*$E21*(O$14*$F21+O$15*SIN(ACOS($F21)))),1000*Vst*$B21/(SQRT(3)*$H21*(O$14*$I21+O$15*SIN(ACOS($I21)))))),"NOK") -> >350 | P21: =IF(P$13>$E21,IF(MIN(1000*Vd*$B21/(SQRT(3)*$E21*(P$14*$F21+P$15*SIN(ACOS($F21)))),1000*Vst*$B21/(SQRT(3)*$H21*(P$14*$I21+P$15*SIN(ACOS($I21)))))>$F$6, ">"&$F$6,MIN(1000*Vd*$B21/(SQRT(3)*$E21*(P$14*$F21+P$15*SIN(ACOS($F21)))),1000*Vst*$B21/(SQRT(3)*$H21*(P$14*$I21+P$15*SIN(ACOS($I21)))))),"NOK") -> >350 | Q21: =IF(Q$13>$E21,IF(MIN(1000*Vd*$B21/(SQRT(3)*$E21*(Q$14*$F21+Q$15*SIN(ACOS($F21)))),1000*Vst*$B21/(SQRT(3)*$H21*(Q$14*$I21+Q$15*SIN(ACOS($I21)))))>$F$6, ">"&$F$6,MIN(1000*Vd*$B21/(SQRT(3)*$E21*(Q$14*$F21+Q$15*SIN(ACOS($F21)))),1000*Vst*$B21/(SQRT(3)*$H21*(Q$14*$I21+Q$15*SIN(ACOS($I21)))))),"NOK") -> >350 | ... AL21: =IF(AL$13>$E21,IF(MIN(1000*Vd*$B21/(SQRT(3)*$E21*(AL$14*$F21+AL$15*SIN(ACOS($F21)))),1000*Vst*$B21/(SQRT(3)*$H21*(AL$14*$I21+AL$15*SIN(ACOS($I21)))))>$F$6, ">"&$F$6,MIN(1000*Vd*$B21/(SQRT(3)*$E21*(AL$14*$F21+AL$15*SIN(ACOS($F21)))),1000*Vst*$B21/(SQRT(3)*$H21*(AL$14*$I21+AL$15*SIN(ACOS($I21)))))),"NOK") -> >350
B22: 400 | C22: 3 | D22: =VLOOKUP($C22,'ABB MOTOR DATA Ex na'!$E$6:$U$52,6,0) -> 0.857 | E22: =(C22*1000)/(SQRT(3)*B22*D22*F22) -> 6.0875385 | F22: =VLOOKUP($C22,'ABB MOTOR DATA Ex na'!$E$6:$U$52,8,0) -> 0.83 | G22: =VLOOKUP($C22,'ABB MOTOR DATA Ex na'!$E$6:$U$52,10,0) -> 7 | H22: =G22*E22 -> 42.61277 | I22: 0.55 | J22: =IF(J$13>$E22,IF(MIN(1000*Vd*$B22/(SQRT(3)*$E22*(J$14*$F22+J$15*SIN(ACOS($F22)))),1000*Vst*$B22/(SQRT(3)*$H22*(J$14*$I22+J$15*SIN(ACOS($I22)))))>$F$6, ">"&$F$6,MIN(1000*Vd*$B22/(SQRT(3)*$E22*(J$14*$F22+J$15*SIN(ACOS($F22)))),1000*Vst*$B22/(SQRT(3)*$H22*(J$14*$I22+J$15*SIN(ACOS($I22)))))),"NOK") -> 240.78285 | K22: =IF(K$13>$E22,IF(MIN(1000*Vd*$B22/(SQRT(3)*$E22*(K$14*$F22+K$15*SIN(ACOS($F22)))),1000*Vst*$B22/(SQRT(3)*$H22*(K$14*$I22+K$15*SIN(ACOS($I22)))))>$F$6, ">"&$F$6,MIN(1000*Vd*$B22/(SQRT(3)*$E22*(K$14*$F22+K$15*SIN(ACOS($F22)))),1000*Vst*$B22/(SQRT(3)*$H22*(K$14*$I22+K$15*SIN(ACOS($I22)))))),"NOK") -> >350 | L22: =IF(L$13>$E22,IF(MIN(1000*Vd*$B22/(SQRT(3)*$E22*(L$14*$F22+L$15*SIN(ACOS($F22)))),1000*Vst*$B22/(SQRT(3)*$H22*(L$14*$I22+L$15*SIN(ACOS($I22)))))>$F$6, ">"&$F$6,MIN(1000*Vd*$B22/(SQRT(3)*$E22*(L$14*$F22+L$15*SIN(ACOS($F22)))),1000*Vst*$B22/(SQRT(3)*$H22*(L$14*$I22+L$15*SIN(ACOS($I22)))))),"NOK") -> >350 | M22: =IF(M$13>$E22,IF(MIN(1000*Vd*$B22/(SQRT(3)*$E22*(M$14*$F22+M$15*SIN(ACOS($F22)))),1000*Vst*$B22/(SQRT(3)*$H22*(M$14*$I22+M$15*SIN(ACOS($I22)))))>$F$6, ">"&$F$6,MIN(1000*Vd*$B22/(SQRT(3)*$E22*(M$14*$F22+M$15*SIN(ACOS($F22)))),1000*Vst*$B22/(SQRT(3)*$H22*(M$14*$I22+M$15*SIN(ACOS($I22)))))),"NOK") -> >350 | N22: =IF(N$13>$E22,IF(MIN(1000*Vd*$B22/(SQRT(3)*$E22*(N$14*$F22+N$15*SIN(ACOS($F22)))),1000*Vst*$B22/(SQRT(3)*$H22*(N$14*$I22+N$15*SIN(ACOS($I22)))))>$F$6, ">"&$F$6,MIN(1000*Vd*$B22/(SQRT(3)*$E22*(N$14*$F22+N$15*SIN(ACOS($F22)))),1000*Vst*$B22/(SQRT(3)*$H22*(N$14*$I22+N$15*SIN(ACOS($I22)))))),"NOK") -> >350 | O22: =IF(O$13>$E22,IF(MIN(1000*Vd*$B22/(SQRT(3)*$E22*(O$14*$F22+O$15*SIN(ACOS($F22)))),1000*Vst*$B22/(SQRT(3)*$H22*(O$14*$I22+O$15*SIN(ACOS($I22)))))>$F$6, ">"&$F$6,MIN(1000*Vd*$B22/(SQRT(3)*$E22*(O$14*$F22+O$15*SIN(ACOS($F22)))),1000*Vst*$B22/(SQRT(3)*$H22*(O$14*$I22+O$15*SIN(ACOS($I22)))))),"NOK") -> >350 | P22: =IF(P$13>$E22,IF(MIN(1000*Vd*$B22/(SQRT(3)*$E22*(P$14*$F22+P$15*SIN(ACOS($F22)))),1000*Vst*$B22/(SQRT(3)*$H22*(P$14*$I22+P$15*SIN(ACOS($I22)))))>$F$6, ">"&$F$6,MIN(1000*Vd*$B22/(SQRT(3)*$E22*(P$14*$F22+P$15*SIN(ACOS($F22)))),1000*Vst*$B22/(SQRT(3)*$H22*(P$14*$I22+P$15*SIN(ACOS($I22)))))),"NOK") -> >350 | Q22: =IF(Q$13>$E22,IF(MIN(1000*Vd*$B22/(SQRT(3)*$E22*(Q$14*$F22+Q$15*SIN(ACOS($F22)))),1000*Vst*$B22/(SQRT(3)*$H22*(Q$14*$I22+Q$15*SIN(ACOS($I22)))))>$F$6, ">"&$F$6,MIN(1000*Vd*$B22/(SQRT(3)*$E22*(Q$14*$F22+Q$15*SIN(ACOS($F22)))),1000*Vst*$B22/(SQRT(3)*$H22*(Q$14*$I22+Q$15*SIN(ACOS($I22)))))),"NOK") -> >350 | ... AL22: =IF(AL$13>$E22,IF(MIN(1000*Vd*$B22/(SQRT(3)*$E22*(AL$14*$F22+AL$15*SIN(ACOS($F22)))),1000*Vst*$B22/(SQRT(3)*$H22*(AL$14*$I22+AL$15*SIN(ACOS($I22)))))>$F$6, ">"&$F$6,MIN(1000*Vd*$B22/(SQRT(3)*$E22*(AL$14*$F22+AL$15*SIN(ACOS($F22)))),1000*Vst*$B22/(SQRT(3)*$H22*(AL$14*$I22+AL$15*SIN(ACOS($I22)))))),"NOK") -> >350
B23: 400 | C23: 4 | D23: =VLOOKUP($C23,'ABB MOTOR DATA Ex na'!$E$6:$U$52,6,0) -> 0.869 | E23: =(C23*1000)/(SQRT(3)*B23*D23*F23) -> 8.7419034 | F23: =VLOOKUP($C23,'ABB MOTOR DATA Ex na'!$E$6:$U$52,8,0) -> 0.76 | G23: =VLOOKUP($C23,'ABB MOTOR DATA Ex na'!$E$6:$U$52,10,0) -> 8.3 | H23: =G23*E23 -> 72.557798 | I23: 0.59 | J23: =IF(J$13>$E23,IF(MIN(1000*Vd*$B23/(SQRT(3)*$E23*(J$14*$F23+J$15*SIN(ACOS($F23)))),1000*Vst*$B23/(SQRT(3)*$H23*(J$14*$I23+J$15*SIN(ACOS($I23)))))>$F$6, ">"&$F$6,MIN(1000*Vd*$B23/(SQRT(3)*$E23*(J$14*$F23+J$15*SIN(ACOS($F23)))),1000*Vst*$B23/(SQRT(3)*$H23*(J$14*$I23+J$15*SIN(ACOS($I23)))))),"NOK") -> 132.13318 | K23: =IF(K$13>$E23,IF(MIN(1000*Vd*$B23/(SQRT(3)*$E23*(K$14*$F23+K$15*SIN(ACOS($F23)))),1000*Vst*$B23/(SQRT(3)*$H23*(K$14*$I23+K$15*SIN(ACOS($I23)))))>$F$6, ">"&$F$6,MIN(1000*Vd*$B23/(SQRT(3)*$E23*(K$14*$F23+K$15*SIN(ACOS($F23)))),1000*Vst*$B23/(SQRT(3)*$H23*(K$14*$I23+K$15*SIN(ACOS($I23)))))),"NOK") -> 197.85096 | L23: =IF(L$13>$E23,IF(MIN(1000*Vd*$B23/(SQRT(3)*$E23*(L$14*$F23+L$15*SIN(ACOS($F23)))),1000*Vst*$B23/(SQRT(3)*$H23*(L$14*$I23+L$15*SIN(ACOS($I23)))))>$F$6, ">"&$F$6,MIN(1000*Vd*$B23/(SQRT(3)*$E23*(L$14*$F23+L$15*SIN(ACOS($F23)))),1000*Vst*$B23/(SQRT(3)*$H23*(L$14*$I23+L$15*SIN(ACOS($I23)))))),"NOK") -> 328.61996 | M23: =IF(M$13>$E23,IF(MIN(1000*Vd*$B23/(SQRT(3)*$E23*(M$14*$F23+M$15*SIN(ACOS($F23)))),1000*Vst*$B23/(SQRT(3)*$H23*(M$14*$I23+M$15*SIN(ACOS($I23)))))>$F$6, ">"&$F$6,MIN(1000*Vd*$B23/(SQRT(3)*$E23*(M$14*$F23+M$15*SIN(ACOS($F23)))),1000*Vst*$B23/(SQRT(3)*$H23*(M$14*$I23+M$15*SIN(ACOS($I23)))))),"NOK") -> >350 | N23: =IF(N$13>$E23,IF(MIN(1000*Vd*$B23/(SQRT(3)*$E23*(N$14*$F23+N$15*SIN(ACOS($F23)))),1000*Vst*$B23/(SQRT(3)*$H23*(N$14*$I23+N$15*SIN(ACOS($I23)))))>$F$6, ">"&$F$6,MIN(1000*Vd*$B23/(SQRT(3)*$E23*(N$14*$F23+N$15*SIN(ACOS($F23)))),1000*Vst*$B23/(SQRT(3)*$H23*(N$14*$I23+N$15*SIN(ACOS($I23)))))),"NOK") -> >350 | O23: =IF(O$13>$E23,IF(MIN(1000*Vd*$B23/(SQRT(3)*$E23*(O$14*$F23+O$15*SIN(ACOS($F23)))),1000*Vst*$B23/(SQRT(3)*$H23*(O$14*$I23+O$15*SIN(ACOS($I23)))))>$F$6, ">"&$F$6,MIN(1000*Vd*$B23/(SQRT(3)*$E23*(O$14*$F23+O$15*SIN(ACOS($F23)))),1000*Vst*$B23/(SQRT(3)*$H23*(O$14*$I23+O$15*SIN(ACOS($I23)))))),"NOK") -> >350 | P23: =IF(P$13>$E23,IF(MIN(1000*Vd*$B23/(SQRT(3)*$E23*(P$14*$F23+P$15*SIN(ACOS($F23)))),1000*Vst*$B23/(SQRT(3)*$H23*(P$14*$I23+P$15*SIN(ACOS($I23)))))>$F$6, ">"&$F$6,MIN(1000*Vd*$B23/(SQRT(3)*$E23*(P$14*$F23+P$15*SIN(ACOS($F23)))),1000*Vst*$B23/(SQRT(3)*$H23*(P$14*$I23+P$15*SIN(ACOS($I23)))))),"NOK") -> >350 | Q23: =IF(Q$13>$E23,IF(MIN(1000*Vd*$B23/(SQRT(3)*$E23*(Q$14*$F23+Q$15*SIN(ACOS($F23)))),1000*Vst*$B23/(SQRT(3)*$H23*(Q$14*$I23+Q$15*SIN(ACOS($I23)))))>$F$6, ">"&$F$6,MIN(1000*Vd*$B23/(SQRT(3)*$E23*(Q$14*$F23+Q$15*SIN(ACOS($F23)))),1000*Vst*$B23/(SQRT(3)*$H23*(Q$14*$I23+Q$15*SIN(ACOS($I23)))))),"NOK") -> >350 | ... AL23: =IF(AL$13>$E23,IF(MIN(1000*Vd*$B23/(SQRT(3)*$E23*(AL$14*$F23+AL$15*SIN(ACOS($F23)))),1000*Vst*$B23/(SQRT(3)*$H23*(AL$14*$I23+AL$15*SIN(ACOS($I23)))))>$F$6, ">"&$F$6,MIN(1000*Vd*$B23/(SQRT(3)*$E23*(AL$14*$F23+AL$15*SIN(ACOS($F23)))),1000*Vst*$B23/(SQRT(3)*$H23*(AL$14*$I23+AL$15*SIN(ACOS($I23)))))),"NOK") -> >350
B24: 400 | C24: 5.5 | D24: =VLOOKUP($C24,'ABB MOTOR DATA Ex na'!$E$6:$U$52,6,0) -> 0.877 | E24: =(C24*1000)/(SQRT(3)*B24*D24*F24) -> 11.458173 | F24: =VLOOKUP($C24,'ABB MOTOR DATA Ex na'!$E$6:$U$52,8,0) -> 0.79 | G24: =VLOOKUP($C24,'ABB MOTOR DATA Ex na'!$E$6:$U$52,10,0) -> 7 | H24: =G24*E24 -> 80.207213 | I24: 0.48 | J24: =IF(J$13>$E24,IF(MIN(1000*Vd*$B24/(SQRT(3)*$E24*(J$14*$F24+J$15*SIN(ACOS($F24)))),1000*Vst*$B24/(SQRT(3)*$H24*(J$14*$I24+J$15*SIN(ACOS($I24)))))>$F$6, ">"&$F$6,MIN(1000*Vd*$B24/(SQRT(3)*$E24*(J$14*$F24+J$15*SIN(ACOS($F24)))),1000*Vst*$B24/(SQRT(3)*$H24*(J$14*$I24+J$15*SIN(ACOS($I24)))))),"NOK") -> 145.87424 | K24: =IF(K$13>$E24,IF(MIN(1000*Vd*$B24/(SQRT(3)*$E24*(K$14*$F24+K$15*SIN(ACOS($F24)))),1000*Vst*$B24/(SQRT(3)*$H24*(K$14*$I24+K$15*SIN(ACOS($I24)))))>$F$6, ">"&$F$6,MIN(1000*Vd*$B24/(SQRT(3)*$E24*(K$14*$F24+K$15*SIN(ACOS($F24)))),1000*Vst*$B24/(SQRT(3)*$H24*(K$14*$I24+K$15*SIN(ACOS($I24)))))),"NOK") -> 217.77362 | L24: =IF(L$13>$E24,IF(MIN(1000*Vd*$B24/(SQRT(3)*$E24*(L$14*$F24+L$15*SIN(ACOS($F24)))),1000*Vst*$B24/(SQRT(3)*$H24*(L$14*$I24+L$15*SIN(ACOS($I24)))))>$F$6, ">"&$F$6,MIN(1000*Vd*$B24/(SQRT(3)*$E24*(L$14*$F24+L$15*SIN(ACOS($F24)))),1000*Vst*$B24/(SQRT(3)*$H24*(L$14*$I24+L$15*SIN(ACOS($I24)))))),"NOK") -> >350 | M24: =IF(M$13>$E24,IF(MIN(1000*Vd*$B24/(SQRT(3)*$E24*(M$14*$F24+M$15*SIN(ACOS($F24)))),1000*Vst*$B24/(SQRT(3)*$H24*(M$14*$I24+M$15*SIN(ACOS($I24)))))>$F$6, ">"&$F$6,MIN(1000*Vd*$B24/(SQRT(3)*$E24*(M$14*$F24+M$15*SIN(ACOS($F24)))),1000*Vst*$B24/(SQRT(3)*$H24*(M$14*$I24+M$15*SIN(ACOS($I24)))))),"NOK") -> >350 | N24: =IF(N$13>$E24,IF(MIN(1000*Vd*$B24/(SQRT(3)*$E24*(N$14*$F24+N$15*SIN(ACOS($F24)))),1000*Vst*$B24/(SQRT(3)*$H24*(N$14*$I24+N$15*SIN(ACOS($I24)))))>$F$6, ">"&$F$6,MIN(1000*Vd*$B24/(SQRT(3)*$E24*(N$14*$F24+N$15*SIN(ACOS($F24)))),1000*Vst*$B24/(SQRT(3)*$H24*(N$14*$I24+N$15*SIN(ACOS($I24)))))),"NOK") -> >350 | O24: =IF(O$13>$E24,IF(MIN(1000*Vd*$B24/(SQRT(3)*$E24*(O$14*$F24+O$15*SIN(ACOS($F24)))),1000*Vst*$B24/(SQRT(3)*$H24*(O$14*$I24+O$15*SIN(ACOS($I24)))))>$F$6, ">"&$F$6,MIN(1000*Vd*$B24/(SQRT(3)*$E24*(O$14*$F24+O$15*SIN(ACOS($F24)))),1000*Vst*$B24/(SQRT(3)*$H24*(O$14*$I24+O$15*SIN(ACOS($I24)))))),"NOK") -> >350 | P24: =IF(P$13>$E24,IF(MIN(1000*Vd*$B24/(SQRT(3)*$E24*(P$14*$F24+P$15*SIN(ACOS($F24)))),1000*Vst*$B24/(SQRT(3)*$H24*(P$14*$I24+P$15*SIN(ACOS($I24)))))>$F$6, ">"&$F$6,MIN(1000*Vd*$B24/(SQRT(3)*$E24*(P$14*$F24+P$15*SIN(ACOS($F24)))),1000*Vst*$B24/(SQRT(3)*$H24*(P$14*$I24+P$15*SIN(ACOS($I24)))))),"NOK") -> >350 | Q24: =IF(Q$13>$E24,IF(MIN(1000*Vd*$B24/(SQRT(3)*$E24*(Q$14*$F24+Q$15*SIN(ACOS($F24)))),1000*Vst*$B24/(SQRT(3)*$H24*(Q$14*$I24+Q$15*SIN(ACOS($I24)))))>$F$6, ">"&$F$6,MIN(1000*Vd*$B24/(SQRT(3)*$E24*(Q$14*$F24+Q$15*SIN(ACOS($F24)))),1000*Vst*$B24/(SQRT(3)*$H24*(Q$14*$I24+Q$15*SIN(ACOS($I24)))))),"NOK") -> >350 | ... AL24: =IF(AL$13>$E24,IF(MIN(1000*Vd*$B24/(SQRT(3)*$E24*(AL$14*$F24+AL$15*SIN(ACOS($F24)))),1000*Vst*$B24/(SQRT(3)*$H24*(AL$14*$I24+AL$15*SIN(ACOS($I24)))))>$F$6, ">"&$F$6,MIN(1000*Vd*$B24/(SQRT(3)*$E24*(AL$14*$F24+AL$15*SIN(ACOS($F24)))),1000*Vst*$B24/(SQRT(3)*$H24*(AL$14*$I24+AL$15*SIN(ACOS($I24)))))),"NOK") -> >350
B25: 400 | C25: 7.5 | D25: =VLOOKUP($C25,'ABB MOTOR DATA Ex na'!$E$6:$U$52,6,0) -> 0.891 | E25: =(C25*1000)/(SQRT(3)*B25*D25*F25) -> 16.199503 | F25: =VLOOKUP($C25,'ABB MOTOR DATA Ex na'!$E$6:$U$52,8,0) -> 0.75 | G25: =VLOOKUP($C25,'ABB MOTOR DATA Ex na'!$E$6:$U$52,10,0) -> 6.8 | H25: =G25*E25 -> 110.15662 | I25: 0.52 | J25: =IF(J$13>$E25,IF(MIN(1000*Vd*$B25/(SQRT(3)*$E25*(J$14*$F25+J$15*SIN(ACOS($F25)))),1000*Vst*$B25/(SQRT(3)*$H25*(J$14*$I25+J$15*SIN(ACOS($I25)))))>$F$6, ">"&$F$6,MIN(1000*Vd*$B25/(SQRT(3)*$E25*(J$14*$F25+J$15*SIN(ACOS($F25)))),1000*Vst*$B25/(SQRT(3)*$H25*(J$14*$I25+J$15*SIN(ACOS($I25)))))),"NOK") -> 98.326753 | K25: =IF(K$13>$E25,IF(MIN(1000*Vd*$B25/(SQRT(3)*$E25*(K$14*$F25+K$15*SIN(ACOS($F25)))),1000*Vst*$B25/(SQRT(3)*$H25*(K$14*$I25+K$15*SIN(ACOS($I25)))))>$F$6, ">"&$F$6,MIN(1000*Vd*$B25/(SQRT(3)*$E25*(K$14*$F25+K$15*SIN(ACOS($F25)))),1000*Vst*$B25/(SQRT(3)*$H25*(K$14*$I25+K$15*SIN(ACOS($I25)))))),"NOK") -> 146.96683 | L25: =IF(L$13>$E25,IF(MIN(1000*Vd*$B25/(SQRT(3)*$E25*(L$14*$F25+L$15*SIN(ACOS($F25)))),1000*Vst*$B25/(SQRT(3)*$H25*(L$14*$I25+L$15*SIN(ACOS($I25)))))>$F$6, ">"&$F$6,MIN(1000*Vd*$B25/(SQRT(3)*$E25*(L$14*$F25+L$15*SIN(ACOS($F25)))),1000*Vst*$B25/(SQRT(3)*$H25*(L$14*$I25+L$15*SIN(ACOS($I25)))))),"NOK") -> 243.29074 | M25: =IF(M$13>$E25,IF(MIN(1000*Vd*$B25/(SQRT(3)*$E25*(M$14*$F25+M$15*SIN(ACOS($F25)))),1000*Vst*$B25/(SQRT(3)*$H25*(M$14*$I25+M$15*SIN(ACOS($I25)))))>$F$6, ">"&$F$6,MIN(1000*Vd*$B25/(SQRT(3)*$E25*(M$14*$F25+M$15*SIN(ACOS($F25)))),1000*Vst*$B25/(SQRT(3)*$H25*(M$14*$I25+M$15*SIN(ACOS($I25)))))),"NOK") -> >350 | N25: =IF(N$13>$E25,IF(MIN(1000*Vd*$B25/(SQRT(3)*$E25*(N$14*$F25+N$15*SIN(ACOS($F25)))),1000*Vst*$B25/(SQRT(3)*$H25*(N$14*$I25+N$15*SIN(ACOS($I25)))))>$F$6, ">"&$F$6,MIN(1000*Vd*$B25/(SQRT(3)*$E25*(N$14*$F25+N$15*SIN(ACOS($F25)))),1000*Vst*$B25/(SQRT(3)*$H25*(N$14*$I25+N$15*SIN(ACOS($I25)))))),"NOK") -> >350 | O25: =IF(O$13>$E25,IF(MIN(1000*Vd*$B25/(SQRT(3)*$E25*(O$14*$F25+O$15*SIN(ACOS($F25)))),1000*Vst*$B25/(SQRT(3)*$H25*(O$14*$I25+O$15*SIN(ACOS($I25)))))>$F$6, ">"&$F$6,MIN(1000*Vd*$B25/(SQRT(3)*$E25*(O$14*$F25+O$15*SIN(ACOS($F25)))),1000*Vst*$B25/(SQRT(3)*$H25*(O$14*$I25+O$15*SIN(ACOS($I25)))))),"NOK") -> >350 | P25: =IF(P$13>$E25,IF(MIN(1000*Vd*$B25/(SQRT(3)*$E25*(P$14*$F25+P$15*SIN(ACOS($F25)))),1000*Vst*$B25/(SQRT(3)*$H25*(P$14*$I25+P$15*SIN(ACOS($I25)))))>$F$6, ">"&$F$6,MIN(1000*Vd*$B25/(SQRT(3)*$E25*(P$14*$F25+P$15*SIN(ACOS($F25)))),1000*Vst*$B25/(SQRT(3)*$H25*(P$14*$I25+P$15*SIN(ACOS($I25)))))),"NOK") -> >350 | Q25: =IF(Q$13>$E25,IF(MIN(1000*Vd*$B25/(SQRT(3)*$E25*(Q$14*$F25+Q$15*SIN(ACOS($F25)))),1000*Vst*$B25/(SQRT(3)*$H25*(Q$14*$I25+Q$15*SIN(ACOS($I25)))))>$F$6, ">"&$F$6,MIN(1000*Vd*$B25/(SQRT(3)*$E25*(Q$14*$F25+Q$15*SIN(ACOS($F25)))),1000*Vst*$B25/(SQRT(3)*$H25*(Q$14*$I25+Q$15*SIN(ACOS($I25)))))),"NOK") -> >350 | ... AL25: =IF(AL$13>$E25,IF(MIN(1000*Vd*$B25/(SQRT(3)*$E25*(AL$14*$F25+AL$15*SIN(ACOS($F25)))),1000*Vst*$B25/(SQRT(3)*$H25*(AL$14*$I25+AL$15*SIN(ACOS($I25)))))>$F$6, ">"&$F$6,MIN(1000*Vd*$B25/(SQRT(3)*$E25*(AL$14*$F25+AL$15*SIN(ACOS($F25)))),1000*Vst*$B25/(SQRT(3)*$H25*(AL$14*$I25+AL$15*SIN(ACOS($I25)))))),"NOK") -> >350
B26: 400 | C26: 11 | D26: =VLOOKUP($C26,'ABB MOTOR DATA Ex na'!$E$6:$U$52,6,0) -> 0.912 | E26: =(C26*1000)/(SQRT(3)*B26*D26*F26) -> 21.230654 | F26: =VLOOKUP($C26,'ABB MOTOR DATA Ex na'!$E$6:$U$52,8,0) -> 0.82 | G26: =VLOOKUP($C26,'ABB MOTOR DATA Ex na'!$E$6:$U$52,10,0) -> 7.8 | H26: =G26*E26 -> 165.5991 | I26: 0.55 | J26: =IF(J$13>$E26,IF(MIN(1000*Vd*$B26/(SQRT(3)*$E26*(J$14*$F26+J$15*SIN(ACOS($F26)))),1000*Vst*$B26/(SQRT(3)*$H26*(J$14*$I26+J$15*SIN(ACOS($I26)))))>$F$6, ">"&$F$6,MIN(1000*Vd*$B26/(SQRT(3)*$E26*(J$14*$F26+J$15*SIN(ACOS($F26)))),1000*Vst*$B26/(SQRT(3)*$H26*(J$14*$I26+J$15*SIN(ACOS($I26)))))),"NOK") -> 61.959419 | K26: =IF(K$13>$E26,IF(MIN(1000*Vd*$B26/(SQRT(3)*$E26*(K$14*$F26+K$15*SIN(ACOS($F26)))),1000*Vst*$B26/(SQRT(3)*$H26*(K$14*$I26+K$15*SIN(ACOS($I26)))))>$F$6, ">"&$F$6,MIN(1000*Vd*$B26/(SQRT(3)*$E26*(K$14*$F26+K$15*SIN(ACOS($F26)))),1000*Vst*$B26/(SQRT(3)*$H26*(K$14*$I26+K$15*SIN(ACOS($I26)))))),"NOK") -> 92.684385 | L26: =IF(L$13>$E26,IF(MIN(1000*Vd*$B26/(SQRT(3)*$E26*(L$14*$F26+L$15*SIN(ACOS($F26)))),1000*Vst*$B26/(SQRT(3)*$H26*(L$14*$I26+L$15*SIN(ACOS($I26)))))>$F$6, ">"&$F$6,MIN(1000*Vd*$B26/(SQRT(3)*$E26*(L$14*$F26+L$15*SIN(ACOS($F26)))),1000*Vst*$B26/(SQRT(3)*$H26*(L$14*$I26+L$15*SIN(ACOS($I26)))))),"NOK") -> 153.66199 | M26: =IF(M$13>$E26,IF(MIN(1000*Vd*$B26/(SQRT(3)*$E26*(M$14*$F26+M$15*SIN(ACOS($F26)))),1000*Vst*$B26/(SQRT(3)*$H26*(M$14*$I26+M$15*SIN(ACOS($I26)))))>$F$6, ">"&$F$6,MIN(1000*Vd*$B26/(SQRT(3)*$E26*(M$14*$F26+M$15*SIN(ACOS($F26)))),1000*Vst*$B26/(SQRT(3)*$H26*(M$14*$I26+M$15*SIN(ACOS($I26)))))),"NOK") -> 237.40662 | N26: =IF(N$13>$E26,IF(MIN(1000*Vd*$B26/(SQRT(3)*$E26*(N$14*$F26+N$15*SIN(ACOS($F26)))),1000*Vst*$B26/(SQRT(3)*$H26*(N$14*$I26+N$15*SIN(ACOS($I26)))))>$F$6, ">"&$F$6,MIN(1000*Vd*$B26/(SQRT(3)*$E26*(N$14*$F26+N$15*SIN(ACOS($F26)))),1000*Vst*$B26/(SQRT(3)*$H26*(N$14*$I26+N$15*SIN(ACOS($I26)))))),"NOK") -> >350 | O26: =IF(O$13>$E26,IF(MIN(1000*Vd*$B26/(SQRT(3)*$E26*(O$14*$F26+O$15*SIN(ACOS($F26)))),1000*Vst*$B26/(SQRT(3)*$H26*(O$14*$I26+O$15*SIN(ACOS($I26)))))>$F$6, ">"&$F$6,MIN(1000*Vd*$B26/(SQRT(3)*$E26*(O$14*$F26+O$15*SIN(ACOS($F26)))),1000*Vst*$B26/(SQRT(3)*$H26*(O$14*$I26+O$15*SIN(ACOS($I26)))))),"NOK") -> >350 | P26: =IF(P$13>$E26,IF(MIN(1000*Vd*$B26/(SQRT(3)*$E26*(P$14*$F26+P$15*SIN(ACOS($F26)))),1000*Vst*$B26/(SQRT(3)*$H26*(P$14*$I26+P$15*SIN(ACOS($I26)))))>$F$6, ">"&$F$6,MIN(1000*Vd*$B26/(SQRT(3)*$E26*(P$14*$F26+P$15*SIN(ACOS($F26)))),1000*Vst*$B26/(SQRT(3)*$H26*(P$14*$I26+P$15*SIN(ACOS($I26)))))),"NOK") -> >350 | Q26: =IF(Q$13>$E26,IF(MIN(1000*Vd*$B26/(SQRT(3)*$E26*(Q$14*$F26+Q$15*SIN(ACOS($F26)))),1000*Vst*$B26/(SQRT(3)*$H26*(Q$14*$I26+Q$15*SIN(ACOS($I26)))))>$F$6, ">"&$F$6,MIN(1000*Vd*$B26/(SQRT(3)*$E26*(Q$14*$F26+Q$15*SIN(ACOS($F26)))),1000*Vst*$B26/(SQRT(3)*$H26*(Q$14*$I26+Q$15*SIN(ACOS($I26)))))),"NOK") -> >350 | ... AL26: =IF(AL$13>$E26,IF(MIN(1000*Vd*$B26/(SQRT(3)*$E26*(AL$14*$F26+AL$15*SIN(ACOS($F26)))),1000*Vst*$B26/(SQRT(3)*$H26*(AL$14*$I26+AL$15*SIN(ACOS($I26)))))>$F$6, ">"&$F$6,MIN(1000*Vd*$B26/(SQRT(3)*$E26*(AL$14*$F26+AL$15*SIN(ACOS($F26)))),1000*Vst*$B26/(SQRT(3)*$H26*(AL$14*$I26+AL$15*SIN(ACOS($I26)))))),"NOK") -> >350
B27: 400 | C27: 15 | D27: =VLOOKUP($C27,'ABB MOTOR DATA Ex na'!$E$6:$U$52,6,0) -> 0.92 | E27: =(C27*1000)/(SQRT(3)*B27*D27*F27) -> 28.015832 | F27: =VLOOKUP($C27,'ABB MOTOR DATA Ex na'!$E$6:$U$52,8,0) -> 0.84 | G27: =VLOOKUP($C27,'ABB MOTOR DATA Ex na'!$E$6:$U$52,10,0) -> 7.8 | H27: =G27*E27 -> 218.52349 | I27: 0.57 | J27: =IF(J$13>$E27,IF(MIN(1000*Vd*$B27/(SQRT(3)*$E27*(J$14*$F27+J$15*SIN(ACOS($F27)))),1000*Vst*$B27/(SQRT(3)*$H27*(J$14*$I27+J$15*SIN(ACOS($I27)))))>$F$6, ">"&$F$6,MIN(1000*Vd*$B27/(SQRT(3)*$E27*(J$14*$F27+J$15*SIN(ACOS($F27)))),1000*Vst*$B27/(SQRT(3)*$H27*(J$14*$I27+J$15*SIN(ACOS($I27)))))),"NOK") -> NOK | K27: =IF(K$13>$E27,IF(MIN(1000*Vd*$B27/(SQRT(3)*$E27*(K$14*$F27+K$15*SIN(ACOS($F27)))),1000*Vst*$B27/(SQRT(3)*$H27*(K$14*$I27+K$15*SIN(ACOS($I27)))))>$F$6, ">"&$F$6,MIN(1000*Vd*$B27/(SQRT(3)*$E27*(K$14*$F27+K$15*SIN(ACOS($F27)))),1000*Vst*$B27/(SQRT(3)*$H27*(K$14*$I27+K$15*SIN(ACOS($I27)))))),"NOK") -> 67.888537 | L27: =IF(L$13>$E27,IF(MIN(1000*Vd*$B27/(SQRT(3)*$E27*(L$14*$F27+L$15*SIN(ACOS($F27)))),1000*Vst*$B27/(SQRT(3)*$H27*(L$14*$I27+L$15*SIN(ACOS($I27)))))>$F$6, ">"&$F$6,MIN(1000*Vd*$B27/(SQRT(3)*$E27*(L$14*$F27+L$15*SIN(ACOS($F27)))),1000*Vst*$B27/(SQRT(3)*$H27*(L$14*$I27+L$15*SIN(ACOS($I27)))))),"NOK") -> 112.65852 | M27: =IF(M$13>$E27,IF(MIN(1000*Vd*$B27/(SQRT(3)*$E27*(M$14*$F27+M$15*SIN(ACOS($F27)))),1000*Vst*$B27/(SQRT(3)*$H27*(M$14*$I27+M$15*SIN(ACOS($I27)))))>$F$6, ">"&$F$6,MIN(1000*Vd*$B27/(SQRT(3)*$E27*(M$14*$F27+M$15*SIN(ACOS($F27)))),1000*Vst*$B27/(SQRT(3)*$H27*(M$14*$I27+M$15*SIN(ACOS($I27)))))),"NOK") -> 174.27478 | N27: =IF(N$13>$E27,IF(MIN(1000*Vd*$B27/(SQRT(3)*$E27*(N$14*$F27+N$15*SIN(ACOS($F27)))),1000*Vst*$B27/(SQRT(3)*$H27*(N$14*$I27+N$15*SIN(ACOS($I27)))))>$F$6, ">"&$F$6,MIN(1000*Vd*$B27/(SQRT(3)*$E27*(N$14*$F27+N$15*SIN(ACOS($F27)))),1000*Vst*$B27/(SQRT(3)*$H27*(N$14*$I27+N$15*SIN(ACOS($I27)))))),"NOK") -> 264.56378 | O27: =IF(O$13>$E27,IF(MIN(1000*Vd*$B27/(SQRT(3)*$E27*(O$14*$F27+O$15*SIN(ACOS($F27)))),1000*Vst*$B27/(SQRT(3)*$H27*(O$14*$I27+O$15*SIN(ACOS($I27)))))>$F$6, ">"&$F$6,MIN(1000*Vd*$B27/(SQRT(3)*$E27*(O$14*$F27+O$15*SIN(ACOS($F27)))),1000*Vst*$B27/(SQRT(3)*$H27*(O$14*$I27+O$15*SIN(ACOS($I27)))))),"NOK") -> >350 | P27: =IF(P$13>$E27,IF(MIN(1000*Vd*$B27/(SQRT(3)*$E27*(P$14*$F27+P$15*SIN(ACOS($F27)))),1000*Vst*$B27/(SQRT(3)*$H27*(P$14*$I27+P$15*SIN(ACOS($I27)))))>$F$6, ">"&$F$6,MIN(1000*Vd*$B27/(SQRT(3)*$E27*(P$14*$F27+P$15*SIN(ACOS($F27)))),1000*Vst*$B27/(SQRT(3)*$H27*(P$14*$I27+P$15*SIN(ACOS($I27)))))),"NOK") -> >350 | Q27: =IF(Q$13>$E27,IF(MIN(1000*Vd*$B27/(SQRT(3)*$E27*(Q$14*$F27+Q$15*SIN(ACOS($F27)))),1000*Vst*$B27/(SQRT(3)*$H27*(Q$14*$I27+Q$15*SIN(ACOS($I27)))))>$F$6, ">"&$F$6,MIN(1000*Vd*$B27/(SQRT(3)*$E27*(Q$14*$F27+Q$15*SIN(ACOS($F27)))),1000*Vst*$B27/(SQRT(3)*$H27*(Q$14*$I27+Q$15*SIN(ACOS($I27)))))),"NOK") -> >350 | ... AL27: =IF(AL$13>$E27,IF(MIN(1000*Vd*$B27/(SQRT(3)*$E27*(AL$14*$F27+AL$15*SIN(ACOS($F27)))),1000*Vst*$B27/(SQRT(3)*$H27*(AL$14*$I27+AL$15*SIN(ACOS($I27)))))>$F$6, ">"&$F$6,MIN(1000*Vd*$B27/(SQRT(3)*$E27*(AL$14*$F27+AL$15*SIN(ACOS($F27)))),1000*Vst*$B27/(SQRT(3)*$H27*(AL$14*$I27+AL$15*SIN(ACOS($I27)))))),"NOK") -> >350
B28: 400 | C28: 18.5 | D28: =VLOOKUP($C28,'ABB MOTOR DATA Ex na'!$E$6:$U$52,6,0) -> 0.916 | E28: =(C28*1000)/(SQRT(3)*B28*D28*F28) -> 35.121863 | F28: =VLOOKUP($C28,'ABB MOTOR DATA Ex na'!$E$6:$U$52,8,0) -> 0.83 | G28: =VLOOKUP($C28,'ABB MOTOR DATA Ex na'!$E$6:$U$52,10,0) -> 7.2 | H28: =G28*E28 -> 252.87741 | I28: 0.56 | J28: =IF(J$13>$E28,IF(MIN(1000*Vd*$B28/(SQRT(3)*$E28*(J$14*$F28+J$15*SIN(ACOS($F28)))),1000*Vst*$B28/(SQRT(3)*$H28*(J$14*$I28+J$15*SIN(ACOS($I28)))))>$F$6, ">"&$F$6,MIN(1000*Vd*$B28/(SQRT(3)*$E28*(J$14*$F28+J$15*SIN(ACOS($F28)))),1000*Vst*$B28/(SQRT(3)*$H28*(J$14*$I28+J$15*SIN(ACOS($I28)))))),"NOK") -> NOK | K28: =IF(K$13>$E28,IF(MIN(1000*Vd*$B28/(SQRT(3)*$E28*(K$14*$F28+K$15*SIN(ACOS($F28)))),1000*Vst*$B28/(SQRT(3)*$H28*(K$14*$I28+K$15*SIN(ACOS($I28)))))>$F$6, ">"&$F$6,MIN(1000*Vd*$B28/(SQRT(3)*$E28*(K$14*$F28+K$15*SIN(ACOS($F28)))),1000*Vst*$B28/(SQRT(3)*$H28*(K$14*$I28+K$15*SIN(ACOS($I28)))))),"NOK") -> NOK | L28: =IF(L$13>$E28,IF(MIN(1000*Vd*$B28/(SQRT(3)*$E28*(L$14*$F28+L$15*SIN(ACOS($F28)))),1000*Vst*$B28/(SQRT(3)*$H28*(L$14*$I28+L$15*SIN(ACOS($I28)))))>$F$6, ">"&$F$6,MIN(1000*Vd*$B28/(SQRT(3)*$E28*(L$14*$F28+L$15*SIN(ACOS($F28)))),1000*Vst*$B28/(SQRT(3)*$H28*(L$14*$I28+L$15*SIN(ACOS($I28)))))),"NOK") -> 98.962703 | M28: =IF(M$13>$E28,IF(MIN(1000*Vd*$B28/(SQRT(3)*$E28*(M$14*$F28+M$15*SIN(ACOS($F28)))),1000*Vst*$B28/(SQRT(3)*$H28*(M$14*$I28+M$15*SIN(ACOS($I28)))))>$F$6, ">"&$F$6,MIN(1000*Vd*$B28/(SQRT(3)*$E28*(M$14*$F28+M$15*SIN(ACOS($F28)))),1000*Vst*$B28/(SQRT(3)*$H28*(M$14*$I28+M$15*SIN(ACOS($I28)))))),"NOK") -> 152.99361 | N28: =IF(N$13>$E28,IF(MIN(1000*Vd*$B28/(SQRT(3)*$E28*(N$14*$F28+N$15*SIN(ACOS($F28)))),1000*Vst*$B28/(SQRT(3)*$H28*(N$14*$I28+N$15*SIN(ACOS($I28)))))>$F$6, ">"&$F$6,MIN(1000*Vd*$B28/(SQRT(3)*$E28*(N$14*$F28+N$15*SIN(ACOS($F28)))),1000*Vst*$B28/(SQRT(3)*$H28*(N$14*$I28+N$15*SIN(ACOS($I28)))))),"NOK") -> 232.0343 | O28: =IF(O$13>$E28,IF(MIN(1000*Vd*$B28/(SQRT(3)*$E28*(O$14*$F28+O$15*SIN(ACOS($F28)))),1000*Vst*$B28/(SQRT(3)*$H28*(O$14*$I28+O$15*SIN(ACOS($I28)))))>$F$6, ">"&$F$6,MIN(1000*Vd*$B28/(SQRT(3)*$E28*(O$14*$F28+O$15*SIN(ACOS($F28)))),1000*Vst*$B28/(SQRT(3)*$H28*(O$14*$I28+O$15*SIN(ACOS($I28)))))),"NOK") -> 309.68591 | P28: =IF(P$13>$E28,IF(MIN(1000*Vd*$B28/(SQRT(3)*$E28*(P$14*$F28+P$15*SIN(ACOS($F28)))),1000*Vst*$B28/(SQRT(3)*$H28*(P$14*$I28+P$15*SIN(ACOS($I28)))))>$F$6, ">"&$F$6,MIN(1000*Vd*$B28/(SQRT(3)*$E28*(P$14*$F28+P$15*SIN(ACOS($F28)))),1000*Vst*$B28/(SQRT(3)*$H28*(P$14*$I28+P$15*SIN(ACOS($I28)))))),"NOK") -> >350 | Q28: =IF(Q$13>$E28,IF(MIN(1000*Vd*$B28/(SQRT(3)*$E28*(Q$14*$F28+Q$15*SIN(ACOS($F28)))),1000*Vst*$B28/(SQRT(3)*$H28*(Q$14*$I28+Q$15*SIN(ACOS($I28)))))>$F$6, ">"&$F$6,MIN(1000*Vd*$B28/(SQRT(3)*$E28*(Q$14*$F28+Q$15*SIN(ACOS($F28)))),1000*Vst*$B28/(SQRT(3)*$H28*(Q$14*$I28+Q$15*SIN(ACOS($I28)))))),"NOK") -> >350 | ... AL28: =IF(AL$13>$E28,IF(MIN(1000*Vd*$B28/(SQRT(3)*$E28*(AL$14*$F28+AL$15*SIN(ACOS($F28)))),1000*Vst*$B28/(SQRT(3)*$H28*(AL$14*$I28+AL$15*SIN(ACOS($I28)))))>$F$6, ">"&$F$6,MIN(1000*Vd*$B28/(SQRT(3)*$E28*(AL$14*$F28+AL$15*SIN(ACOS($F28)))),1000*Vst*$B28/(SQRT(3)*$H28*(AL$14*$I28+AL$15*SIN(ACOS($I28)))))),"NOK") -> >350
... B45: 400 | C45: 500 | D45: =VLOOKUP($C45,'ABB MOTOR DATA Ex na'!$E$6:$U$52,6,0) -> 0.97 | E45: =(C45*1000)/(SQRT(3)*B45*D45*F45) -> 865.12567 | F45: =VLOOKUP($C45,'ABB MOTOR DATA Ex na'!$E$6:$U$52,8,0) -> 0.86 | G45: =VLOOKUP($C45,'ABB MOTOR DATA Ex na'!$E$6:$U$52,10,0) -> 6.8 | H45: =G45*E45 -> 5882.8546 | I45: 0.3 | J45: =IF(J$13>$E45,IF(MIN(1000*Vd*$B45/(SQRT(3)*$E45*(J$14*$F45+J$15*SIN(ACOS($F45)))),1000*Vst*$B45/(SQRT(3)*$H45*(J$14*$I45+J$15*SIN(ACOS($I45)))))>$F$6, ">"&$F$6,MIN(1000*Vd*$B45/(SQRT(3)*$E45*(J$14*$F45+J$15*SIN(ACOS($F45)))),1000*Vst*$B45/(SQRT(3)*$H45*(J$14*$I45+J$15*SIN(ACOS($I45)))))),"NOK") -> NOK | K45: =IF(K$13>$E45,IF(MIN(1000*Vd*$B45/(SQRT(3)*$E45*(K$14*$F45+K$15*SIN(ACOS($F45)))),1000*Vst*$B45/(SQRT(3)*$H45*(K$14*$I45+K$15*SIN(ACOS($I45)))))>$F$6, ">"&$F$6,MIN(1000*Vd*$B45/(SQRT(3)*$E45*(K$14*$F45+K$15*SIN(ACOS($F45)))),1000*Vst*$B45/(SQRT(3)*$H45*(K$14*$I45+K$15*SIN(ACOS($I45)))))),"NOK") -> NOK | L45: =IF(L$13>$E45,IF(MIN(1000*Vd*$B45/(SQRT(3)*$E45*(L$14*$F45+L$15*SIN(ACOS($F45)))),1000*Vst*$B45/(SQRT(3)*$H45*(L$14*$I45+L$15*SIN(ACOS($I45)))))>$F$6, ">"&$F$6,MIN(1000*Vd*$B45/(SQRT(3)*$E45*(L$14*$F45+L$15*SIN(ACOS($F45)))),1000*Vst*$B45/(SQRT(3)*$H45*(L$14*$I45+L$15*SIN(ACOS($I45)))))),"NOK") -> NOK | M45: =IF(M$13>$E45,IF(MIN(1000*Vd*$B45/(SQRT(3)*$E45*(M$14*$F45+M$15*SIN(ACOS($F45)))),1000*Vst*$B45/(SQRT(3)*$H45*(M$14*$I45+M$15*SIN(ACOS($I45)))))>$F$6, ">"&$F$6,MIN(1000*Vd*$B45/(SQRT(3)*$E45*(M$14*$F45+M$15*SIN(ACOS($F45)))),1000*Vst*$B45/(SQRT(3)*$H45*(M$14*$I45+M$15*SIN(ACOS($I45)))))),"NOK") -> NOK | N45: =IF(N$13>$E45,IF(MIN(1000*Vd*$B45/(SQRT(3)*$E45*(N$14*$F45+N$15*SIN(ACOS($F45)))),1000*Vst*$B45/(SQRT(3)*$H45*(N$14*$I45+N$15*SIN(ACOS($I45)))))>$F$6, ">"&$F$6,MIN(1000*Vd*$B45/(SQRT(3)*$E45*(N$14*$F45+N$15*SIN(ACOS($F45)))),1000*Vst*$B45/(SQRT(3)*$H45*(N$14*$I45+N$15*SIN(ACOS($I45)))))),"NOK") -> NOK | O45: =IF(O$13>$E45,IF(MIN(1000*Vd*$B45/(SQRT(3)*$E45*(O$14*$F45+O$15*SIN(ACOS($F45)))),1000*Vst*$B45/(SQRT(3)*$H45*(O$14*$I45+O$15*SIN(ACOS($I45)))))>$F$6, ">"&$F$6,MIN(1000*Vd*$B45/(SQRT(3)*$E45*(O$14*$F45+O$15*SIN(ACOS($F45)))),1000*Vst*$B45/(SQRT(3)*$H45*(O$14*$I45+O$15*SIN(ACOS($I45)))))),"NOK") -> NOK | P45: =IF(P$13>$E45,IF(MIN(1000*Vd*$B45/(SQRT(3)*$E45*(P$14*$F45+P$15*SIN(ACOS($F45)))),1000*Vst*$B45/(SQRT(3)*$H45*(P$14*$I45+P$15*SIN(ACOS($I45)))))>$F$6, ">"&$F$6,MIN(1000*Vd*$B45/(SQRT(3)*$E45*(P$14*$F45+P$15*SIN(ACOS($F45)))),1000*Vst*$B45/(SQRT(3)*$H45*(P$14*$I45+P$15*SIN(ACOS($I45)))))),"NOK") -> NOK | Q45: =IF(Q$13>$E45,IF(MIN(1000*Vd*$B45/(SQRT(3)*$E45*(Q$14*$F45+Q$15*SIN(ACOS($F45)))),1000*Vst*$B45/(SQRT(3)*$H45*(Q$14*$I45+Q$15*SIN(ACOS($I45)))))>$F$6, ">"&$F$6,MIN(1000*Vd*$B45/(SQRT(3)*$E45*(Q$14*$F45+Q$15*SIN(ACOS($F45)))),1000*Vst*$B45/(SQRT(3)*$H45*(Q$14*$I45+Q$15*SIN(ACOS($I45)))))),"NOK") -> NOK | ... AL45: =IF(AL$13>$E45,IF(MIN(1000*Vd*$B45/(SQRT(3)*$E45*(AL$14*$F45+AL$15*SIN(ACOS($F45)))),1000*Vst*$B45/(SQRT(3)*$H45*(AL$14*$I45+AL$15*SIN(ACOS($I45)))))>$F$6, ">"&$F$6,MIN(1000*Vd*$B45/(SQRT(3)*$E45*(AL$14*$F45+AL$15*SIN(ACOS($F45)))),1000*Vst*$B45/(SQRT(3)*$H45*(AL$14*$I45+AL$15*SIN(ACOS($I45)))))),"NOK") -> 235.49887

Sheet Sheet1
A1: Ref | B1: Power | C1: Lenght | D1: Result Size
A2: titi | B2: 132 | C2: 350 | D2: 3 x 185 mm²
A3: toto | B3: 30 | C3: 44 | D3: 3 x 16 mm²
A4: tata | B4: 7.5 | C4: 220
A5: tautau | B5: 9.5 | C5: 50
A6: tutu | B6: 350 | C6: 350
A7: toutou | B7: 12 | C7: 68
A8: tyty | B8: 3 | C8: 280

Sheet LV FEEDER CHART IN AIR
B2: LV FEEDERS - CABLES LAID IN AIR
B4: Maximum Volt Drop at LV bus (%) | E4: ΔVb | F4: 0.05 | H4: DERATING FACTORS | I4: Ambient temperature factor (40°C) | N4: 1.05
I5: Layer factor | N5: 0.8
B6: Max Length | E6: Lmax | F6: 500 | I6: Touching - LV 3-core | N6: 0.78
I7: Trefoil untouching - LV single core | N7: 0.9
E9: 3-CORE CABLES | R9: SINGLE-CORE CABLES
B10: Conductor Size | E10: 3 x 4 mm² | F10: 3 x 6 mm² | G10: 3 x 10 mm² | H10: 3 x 16 mm² | I10: 3 x 25 mm² | J10: 3 x 35 mm² | K10: 3 x 50 mm² | L10: 3 x 70 mm² | M10: 3 x 95 mm² | N10: 3 x 120 mm² | O10: 3 x 150 mm² | P10: 3 x 185 mm² | Q10: 3 x 240 mm² | R10: 3 x 1 x 150 mm² | S10: 3 x 1 x 185 mm² | T10: 3 x 1 x 240 mm² | U10: 3 x 1 x 300 mm² | V10: 3 x 1 x 400 mm² | W10: 2 x 3 x 1 x 150 mm² | X10: 2 x 3 x 1 x 185 mm² | Y10: 2 x 3 x 1 x 240 mm² | Z10: 2 x 3 x 1 x 300 mm² | AA10: 2 x 3 x 1 x 400 mm² | AB10: 3 x 3 x 1 x 240 mm² | AC10: 3 x 3 x 1 x 300 mm² | AD10: 3 x 3 x 1 x 400 mm² | AE10: 3 x 3 x 1 x 500 mm² | AF10: 3 x 3 x 1 x 630 mm² | AG10: 4 x 3 x 1 x 240 mm² | AH10: 4 x 3 x 1 x 300 mm² | AI10: 4 x 3 x 1 x 400 mm² | AJ10: 4 x 3 x 1 x 500 mm² | AK10: 4 x 3 x 1 x 630 mm² | AL10: 5 x 3 x 1 x 240 mm² | AM10: 5 x 3 x 1 x 300 mm² | AN10: 5 x 3 x 1 x 400 mm² | AO10: 5 x 3 x 1 x 500 mm² | AP10: 5 x 3 x 1 x 630 mm² | AQ10: 6 x 3 x 1 x 240 mm² | AR10: 6 x 3 x 1 x 300 mm² | AS10: 6 x 3 x 1 x 400 mm² | AT10: 6 x 3 x 1 x 500 mm² | AU10: 6 x 3 x 1 x 630 mm²
B11: Current Rating (Base) as per IEC 61892-4 Annex A, Table A-7 | E11: 37 | F11: 47 | G11: 65 | H11: 87 | I11: 110 | J11: 137 | K11: 167 | L11: 214 | M11: 259 | N11: 301 | O11: 347 | P11: 397 | Q11: 468 | R11: 386 | S11: 444 | T11: 528 | U11: 612 | V11: 716 | W11: 772 | X11: 888 | Y11: 1056 | Z11: 1224 | AA11: 1432 | AB11: 1584 | AC11: 1836 | AD11: 2148 | AE11: 2469 | AF11: 2841 | AG11: 2112 | AH11: 2448 | AI11: 2864 | AJ11: 3292 | AK11: 3788 | AL11: 2640 | AM11: 3060 | AN11: 3580 | AO11: 4115 | AP11: 4735 | AQ11: 3168 | AR11: 3672 | AS11: 4296 | AT11: 4938 | AU11: 5682
B12: Derating factor | E12: =$N$4*$N$5*$N$6 -> 0.6552 | F12: =$N$4*$N$5*$N$6 -> 0.6552 | G12: =$N$4*$N$5*$N$6 -> 0.6552 | H12: =$N$4*$N$5*$N$6 -> 0.6552 | I12: =$N$4*$N$5*$N$6 -> 0.6552 | J12: =$N$4*$N$5*$N$6 -> 0.6552 | K12: =$N$4*$N$5*$N$6 -> 0.6552 | L12: =$N$4*$N$5*$N$6 -> 0.6552 | ... Q12: =$N$4*$N$5*$N$6 -> 0.6552 | R12: =$N$4*$N$7 -> 0.945 | S12: =$N$4*$N$7 -> 0.945 | T12: =$N$4*$N$7 -> 0.945 | U12: =$N$4*$N$7 -> 0.945 | V12: =$N$4*$N$7 -> 0.945 | W12: =$N$4*$N$7 -> 0.945 | X12: =$N$4*$N$7 -> 0.945 | Y12: =$N$4*$N$7 -> 0.945 | ... AU12: =$N$4*$N$7 -> 0.945
B13: Current Rating (Derated) | E13: =E11*E12 -> 24.2424 | F13: =F11*F12 -> 30.7944 | G13: =G11*G12 -> 42.588 | H13: =H11*H12 -> 57.0024 | I13: =I11*I12 -> 72.072 | J13: =J11*J12 -> 89.7624 | K13: =K11*K12 -> 109.4184 | L13: =L11*L12 -> 140.2128 | ... AU13: =AU11*AU12 -> 5369.49
B14: Typical Resistance (a.c. at conductor temp.) (Ω/Km) form IEC 60228 | E14: =VLOOKUP(E$10,'CIRCUIT PRYSMIAN'!$B$6:$V$49,13,0) -> 5.9927308 | F14: =VLOOKUP(F$10,'CIRCUIT PRYSMIAN'!$B$6:$V$49,13,0) -> 3.9654028 | G14: =VLOOKUP(G$10,'CIRCUIT PRYSMIAN'!$B$6:$V$49,13,0) -> 2.3460904 | H14: =VLOOKUP(H$10,'CIRCUIT PRYSMIAN'!$B$6:$V$49,13,0) -> 1.479057 | I14: =VLOOKUP(I$10,'CIRCUIT PRYSMIAN'!$B$6:$V$49,13,0) -> 0.93588605 | J14: =VLOOKUP(J$10,'CIRCUIT PRYSMIAN'!$B$6:$V$49,13,0) -> 0.67450098 | K14: =VLOOKUP(K$10,'CIRCUIT PRYSMIAN'!$B$6:$V$49,13,0) -> 0.4985442 | L14: =VLOOKUP(L$10,'CIRCUIT PRYSMIAN'!$B$6:$V$49,13,0) -> 0.34426326 | ... AU14: =VLOOKUP(AU$10,'CIRCUIT PRYSMIAN'!$B$6:$V$49,13,0) -> 0.0060139817
B15: Reactance at 50Hz (Ω/Km) | E15: =VLOOKUP(E$10,'CIRCUIT PRYSMIAN'!$B$6:$V$49,19,0) -> 0.096 | F15: =VLOOKUP(F$10,'CIRCUIT PRYSMIAN'!$B$6:$V$49,19,0) -> 0.091 | G15: =VLOOKUP(G$10,'CIRCUIT PRYSMIAN'!$B$6:$V$49,19,0) -> 0.085 | H15: =VLOOKUP(H$10,'CIRCUIT PRYSMIAN'!$B$6:$V$49,19,0) -> 0.081 | I15: =VLOOKUP(I$10,'CIRCUIT PRYSMIAN'!$B$6:$V$49,19,0) -> 0.08 | J15: =VLOOKUP(J$10,'CIRCUIT PRYSMIAN'!$B$6:$V$49,19,0) -> 0.078 | K15: =VLOOKUP(K$10,'CIRCUIT PRYSMIAN'!$B$6:$V$49,19,0) -> 0.077 | L15: =VLOOKUP(L$10,'CIRCUIT PRYSMIAN'!$B$6:$V$49,19,0) -> 0.075 | ... AU15: =VLOOKUP(AU$10,'CIRCUIT PRYSMIAN'!$B$6:$V$49,19,0) -> 0.006
B16: V | C16: F.L.C (A) | D16: Power Factor | E16: MAXIMUM ROUTE LENGTH (METERS)
B17: 400 | C17: 16 | D17: 0.85 | E17: =IF(E$13>$C17,IF(1000*Vd*$B17/(SQRT(3)*$C17*(E$14*$D17+E$15*SIN(ACOS($D17))))>$F$6,">"&$F$6,1000*Vd*$B17/(SQRT(3)*$C17*(E$14*$D17+E$15*SIN(ACOS($D17))))),"NOK") -> 140.28631 | F17: =IF(F$13>$C17,IF(1000*Vd*$B17/(SQRT(3)*$C17*(F$14*$D17+F$15*SIN(ACOS($D17))))>$F$6,">"&$F$6,1000*Vd*$B17/(SQRT(3)*$C17*(F$14*$D17+F$15*SIN(ACOS($D17))))),"NOK") -> 211.1106 | G17: =IF(G$13>$C17,IF(1000*Vd*$B17/(SQRT(3)*$C17*(G$14*$D17+G$15*SIN(ACOS($D17))))>$F$6,">"&$F$6,1000*Vd*$B17/(SQRT(3)*$C17*(G$14*$D17+G$15*SIN(ACOS($D17))))),"NOK") -> 353.95015 | H17: =IF(H$13>$C17,IF(1000*Vd*$B17/(SQRT(3)*$C17*(H$14*$D17+H$15*SIN(ACOS($D17))))>$F$6,">"&$F$6,1000*Vd*$B17/(SQRT(3)*$C17*(H$14*$D17+H$15*SIN(ACOS($D17))))),"NOK") -> >500 | I17: =IF(I$13>$C17,IF(1000*Vd*$B17/(SQRT(3)*$C17*(I$14*$D17+I$15*SIN(ACOS($D17))))>$F$6,">"&$F$6,1000*Vd*$B17/(SQRT(3)*$C17*(I$14*$D17+I$15*SIN(ACOS($D17))))),"NOK") -> >500 | J17: =IF(J$13>$C17,IF(1000*Vd*$B17/(SQRT(3)*$C17*(J$14*$D17+J$15*SIN(ACOS($D17))))>$F$6,">"&$F$6,1000*Vd*$B17/(SQRT(3)*$C17*(J$14*$D17+J$15*SIN(ACOS($D17))))),"NOK") -> >500 | K17: =IF(K$13>$C17,IF(1000*Vd*$B17/(SQRT(3)*$C17*(K$14*$D17+K$15*SIN(ACOS($D17))))>$F$6,">"&$F$6,1000*Vd*$B17/(SQRT(3)*$C17*(K$14*$D17+K$15*SIN(ACOS($D17))))),"NOK") -> >500 | L17: =IF(L$13>$C17,IF(1000*Vd*$B17/(SQRT(3)*$C17*(L$14*$D17+L$15*SIN(ACOS($D17))))>$F$6,">"&$F$6,1000*Vd*$B17/(SQRT(3)*$C17*(L$14*$D17+L$15*SIN(ACOS($D17))))),"NOK") -> >500 | ... AU17: =IF(AU$13>$C17,IF(1000*Vd*$B17/(SQRT(3)*$C17*(AU$14*$D17+AU$15*SIN(ACOS($D17))))>$F$6,">"&$F$6,1000*Vd*$B17/(SQRT(3)*$C17*(AU$14*$D17+AU$15*SIN(ACOS($D17))))),"NOK") -> >500
B18: 400 | C18: 20 | D18: 0.85 | E18: =IF(E$13>$C18,IF(1000*Vd*$B18/(SQRT(3)*$C18*(E$14*$D18+E$15*SIN(ACOS($D18))))>$F$6,">"&$F$6,1000*Vd*$B18/(SQRT(3)*$C18*(E$14*$D18+E$15*SIN(ACOS($D18))))),"NOK") -> 112.22905 | F18: =IF(F$13>$C18,IF(1000*Vd*$B18/(SQRT(3)*$C18*(F$14*$D18+F$15*SIN(ACOS($D18))))>$F$6,">"&$F$6,1000*Vd*$B18/(SQRT(3)*$C18*(F$14*$D18+F$15*SIN(ACOS($D18))))),"NOK") -> 168.88848 | G18: =IF(G$13>$C18,IF(1000*Vd*$B18/(SQRT(3)*$C18*(G$14*$D18+G$15*SIN(ACOS($D18))))>$F$6,">"&$F$6,1000*Vd*$B18/(SQRT(3)*$C18*(G$14*$D18+G$15*SIN(ACOS($D18))))),"NOK") -> 283.16012 | H18: =IF(H$13>$C18,IF(1000*Vd*$B18/(SQRT(3)*$C18*(H$14*$D18+H$15*SIN(ACOS($D18))))>$F$6,">"&$F$6,1000*Vd*$B18/(SQRT(3)*$C18*(H$14*$D18+H$15*SIN(ACOS($D18))))),"NOK") -> 444.16075 | I18: =IF(I$13>$C18,IF(1000*Vd*$B18/(SQRT(3)*$C18*(I$14*$D18+I$15*SIN(ACOS($D18))))>$F$6,">"&$F$6,1000*Vd*$B18/(SQRT(3)*$C18*(I$14*$D18+I$15*SIN(ACOS($D18))))),"NOK") -> >500 | J18: =IF(J$13>$C18,IF(1000*Vd*$B18/(SQRT(3)*$C18*(J$14*$D18+J$15*SIN(ACOS($D18))))>$F$6,">"&$F$6,1000*Vd*$B18/(SQRT(3)*$C18*(J$14*$D18+J$15*SIN(ACOS($D18))))),"NOK") -> >500 | K18: =IF(K$13>$C18,IF(1000*Vd*$B18/(SQRT(3)*$C18*(K$14*$D18+K$15*SIN(ACOS($D18))))>$F$6,">"&$F$6,1000*Vd*$B18/(SQRT(3)*$C18*(K$14*$D18+K$15*SIN(ACOS($D18))))),"NOK") -> >500 | L18: =IF(L$13>$C18,IF(1000*Vd*$B18/(SQRT(3)*$C18*(L$14*$D18+L$15*SIN(ACOS($D18))))>$F$6,">"&$F$6,1000*Vd*$B18/(SQRT(3)*$C18*(L$14*$D18+L$15*SIN(ACOS($D18))))),"NOK") -> >500 | ... AU18: =IF(AU$13>$C18,IF(1000*Vd*$B18/(SQRT(3)*$C18*(AU$14*$D18+AU$15*SIN(ACOS($D18))))>$F$6,">"&$F$6,1000*Vd*$B18/(SQRT(3)*$C18*(AU$14*$D18+AU$15*SIN(ACOS($D18))))),"NOK") -> >500
B19: 400 | C19: 25 | D19: 0.85 | E19: =IF(E$13>$C19,IF(1000*Vd*$B19/(SQRT(3)*$C19*(E$14*$D19+E$15*SIN(ACOS($D19))))>$F$6,">"&$F$6,1000*Vd*$B19/(SQRT(3)*$C19*(E$14*$D19+E$15*SIN(ACOS($D19))))),"NOK") -> NOK | F19: =IF(F$13>$C19,IF(1000*Vd*$B19/(SQRT(3)*$C19*(F$14*$D19+F$15*SIN(ACOS($D19))))>$F$6,">"&$F$6,1000*Vd*$B19/(SQRT(3)*$C19*(F$14*$D19+F$15*SIN(ACOS($D19))))),"NOK") -> 135.11079 | G19: =IF(G$13>$C19,IF(1000*Vd*$B19/(SQRT(3)*$C19*(G$14*$D19+G$15*SIN(ACOS($D19))))>$F$6,">"&$F$6,1000*Vd*$B19/(SQRT(3)*$C19*(G$14*$D19+G$15*SIN(ACOS($D19))))),"NOK") -> 226.52809 | H19: =IF(H$13>$C19,IF(1000*Vd*$B19/(SQRT(3)*$C19*(H$14*$D19+H$15*SIN(ACOS($D19))))>$F$6,">"&$F$6,1000*Vd*$B19/(SQRT(3)*$C19*(H$14*$D19+H$15*SIN(ACOS($D19))))),"NOK") -> 355.3286 | I19: =IF(I$13>$C19,IF(1000*Vd*$B19/(SQRT(3)*$C19*(I$14*$D19+I$15*SIN(ACOS($D19))))>$F$6,">"&$F$6,1000*Vd*$B19/(SQRT(3)*$C19*(I$14*$D19+I$15*SIN(ACOS($D19))))),"NOK") -> >500 | J19: =IF(J$13>$C19,IF(1000*Vd*$B19/(SQRT(3)*$C19*(J$14*$D19+J$15*SIN(ACOS($D19))))>$F$6,">"&$F$6,1000*Vd*$B19/(SQRT(3)*$C19*(J$14*$D19+J$15*SIN(ACOS($D19))))),"NOK") -> >500 | K19: =IF(K$13>$C19,IF(1000*Vd*$B19/(SQRT(3)*$C19*(K$14*$D19+K$15*SIN(ACOS($D19))))>$F$6,">"&$F$6,1000*Vd*$B19/(SQRT(3)*$C19*(K$14*$D19+K$15*SIN(ACOS($D19))))),"NOK") -> >500 | L19: =IF(L$13>$C19,IF(1000*Vd*$B19/(SQRT(3)*$C19*(L$14*$D19+L$15*SIN(ACOS($D19))))>$F$6,">"&$F$6,1000*Vd*$B19/(SQRT(3)*$C19*(L$14*$D19+L$15*SIN(ACOS($D19))))),"NOK") -> >500 | ... AU19: =IF(AU$13>$C19,IF(1000*Vd*$B19/(SQRT(3)*$C19*(AU$14*$D19+AU$15*SIN(ACOS($D19))))>$F$6,">"&$F$6,1000*Vd*$B19/(SQRT(3)*$C19*(AU$14*$D19+AU$15*SIN(ACOS($D19))))),"NOK") -> >500
B20: 400 | C20: 31.5 | D20: 0.85 | E20: =IF(E$13>$C20,IF(1000*Vd*$B20/(SQRT(3)*$C20*(E$14*$D20+E$15*SIN(ACOS($D20))))>$F$6,">"&$F$6,1000*Vd*$B20/(SQRT(3)*$C20*(E$14*$D20+E$15*SIN(ACOS($D20))))),"NOK") -> NOK | F20: =IF(F$13>$C20,IF(1000*Vd*$B20/(SQRT(3)*$C20*(F$14*$D20+F$15*SIN(ACOS($D20))))>$F$6,">"&$F$6,1000*Vd*$B20/(SQRT(3)*$C20*(F$14*$D20+F$15*SIN(ACOS($D20))))),"NOK") -> NOK | G20: =IF(G$13>$C20,IF(1000*Vd*$B20/(SQRT(3)*$C20*(G$14*$D20+G$15*SIN(ACOS($D20))))>$F$6,">"&$F$6,1000*Vd*$B20/(SQRT(3)*$C20*(G$14*$D20+G$15*SIN(ACOS($D20))))),"NOK") -> 179.7842 | H20: =IF(H$13>$C20,IF(1000*Vd*$B20/(SQRT(3)*$C20*(H$14*$D20+H$15*SIN(ACOS($D20))))>$F$6,">"&$F$6,1000*Vd*$B20/(SQRT(3)*$C20*(H$14*$D20+H$15*SIN(ACOS($D20))))),"NOK") -> 282.00683 | I20: =IF(I$13>$C20,IF(1000*Vd*$B20/(SQRT(3)*$C20*(I$14*$D20+I$15*SIN(ACOS($D20))))>$F$6,">"&$F$6,1000*Vd*$B20/(SQRT(3)*$C20*(I$14*$D20+I$15*SIN(ACOS($D20))))),"NOK") -> 437.62127 | J20: =IF(J$13>$C20,IF(1000*Vd*$B20/(SQRT(3)*$C20*(J$14*$D20+J$15*SIN(ACOS($D20))))>$F$6,">"&$F$6,1000*Vd*$B20/(SQRT(3)*$C20*(J$14*$D20+J$15*SIN(ACOS($D20))))),"NOK") -> >500 | K20: =IF(K$13>$C20,IF(1000*Vd*$B20/(SQRT(3)*$C20*(K$14*$D20+K$15*SIN(ACOS($D20))))>$F$6,">"&$F$6,1000*Vd*$B20/(SQRT(3)*$C20*(K$14*$D20+K$15*SIN(ACOS($D20))))),"NOK") -> >500 | L20: =IF(L$13>$C20,IF(1000*Vd*$B20/(SQRT(3)*$C20*(L$14*$D20+L$15*SIN(ACOS($D20))))>$F$6,">"&$F$6,1000*Vd*$B20/(SQRT(3)*$C20*(L$14*$D20+L$15*SIN(ACOS($D20))))),"NOK") -> >500 | ... AU20: =IF(AU$13>$C20,IF(1000*Vd*$B20/(SQRT(3)*$C20*(AU$14*$D20+AU$15*SIN(ACOS($D20))))>$F$6,">"&$F$6,1000*Vd*$B20/(SQRT(3)*$C20*(AU$14*$D20+AU$15*SIN(ACOS($D20))))),"NOK") -> >500
B21: 400 | C21: 40 | D21: 0.85 | E21: =IF(E$13>$C21,IF(1000*Vd*$B21/(SQRT(3)*$C21*(E$14*$D21+E$15*SIN(ACOS($D21))))>$F$6,">"&$F$6,1000*Vd*$B21/(SQRT(3)*$C21*(E$14*$D21+E$15*SIN(ACOS($D21))))),"NOK") -> NOK | F21: =IF(F$13>$C21,IF(1000*Vd*$B21/(SQRT(3)*$C21*(F$14*$D21+F$15*SIN(ACOS($D21))))>$F$6,">"&$F$6,1000*Vd*$B21/(SQRT(3)*$C21*(F$14*$D21+F$15*SIN(ACOS($D21))))),"NOK") -> NOK | G21: =IF(G$13>$C21,IF(1000*Vd*$B21/(SQRT(3)*$C21*(G$14*$D21+G$15*SIN(ACOS($D21))))>$F$6,">"&$F$6,1000*Vd*$B21/(SQRT(3)*$C21*(G$14*$D21+G$15*SIN(ACOS($D21))))),"NOK") -> 141.58006 | H21: =IF(H$13>$C21,IF(1000*Vd*$B21/(SQRT(3)*$C21*(H$14*$D21+H$15*SIN(ACOS($D21))))>$F$6,">"&$F$6,1000*Vd*$B21/(SQRT(3)*$C21*(H$14*$D21+H$15*SIN(ACOS($D21))))),"NOK") -> 222.08038 | I21: =IF(I$13>$C21,IF(1000*Vd*$B21/(SQRT(3)*$C21*(I$14*$D21+I$15*SIN(ACOS($D21))))>$F$6,">"&$F$6,1000*Vd*$B21/(SQRT(3)*$C21*(I$14*$D21+I$15*SIN(ACOS($D21))))),"NOK") -> 344.62675 | J21: =IF(J$13>$C21,IF(1000*Vd*$B21/(SQRT(3)*$C21*(J$14*$D21+J$15*SIN(ACOS($D21))))>$F$6,">"&$F$6,1000*Vd*$B21/(SQRT(3)*$C21*(J$14*$D21+J$15*SIN(ACOS($D21))))),"NOK") -> 469.83747 | K21: =IF(K$13>$C21,IF(1000*Vd*$B21/(SQRT(3)*$C21*(K$14*$D21+K$15*SIN(ACOS($D21))))>$F$6,">"&$F$6,1000*Vd*$B21/(SQRT(3)*$C21*(K$14*$D21+K$15*SIN(ACOS($D21))))),"NOK") -> >500 | L21: =IF(L$13>$C21,IF(1000*Vd*$B21/(SQRT(3)*$C21*(L$14*$D21+L$15*SIN(ACOS($D21))))>$F$6,">"&$F$6,1000*Vd*$B21/(SQRT(3)*$C21*(L$14*$D21+L$15*SIN(ACOS($D21))))),"NOK") -> >500 | ... AU21: =IF(AU$13>$C21,IF(1000*Vd*$B21/(SQRT(3)*$C21*(AU$14*$D21+AU$15*SIN(ACOS($D21))))>$F$6,">"&$F$6,1000*Vd*$B21/(SQRT(3)*$C21*(AU$14*$D21+AU$15*SIN(ACOS($D21))))),"NOK") -> >500
B22: 400 | C22: 50 | D22: 0.85 | E22: =IF(E$13>$C22,IF(1000*Vd*$B22/(SQRT(3)*$C22*(E$14*$D22+E$15*SIN(ACOS($D22))))>$F$6,">"&$F$6,1000*Vd*$B22/(SQRT(3)*$C22*(E$14*$D22+E$15*SIN(ACOS($D22))))),"NOK") -> NOK | F22: =IF(F$13>$C22,IF(1000*Vd*$B22/(SQRT(3)*$C22*(F$14*$D22+F$15*SIN(ACOS($D22))))>$F$6,">"&$F$6,1000*Vd*$B22/(SQRT(3)*$C22*(F$14*$D22+F$15*SIN(ACOS($D22))))),"NOK") -> NOK | G22: =IF(G$13>$C22,IF(1000*Vd*$B22/(SQRT(3)*$C22*(G$14*$D22+G$15*SIN(ACOS($D22))))>$F$6,">"&$F$6,1000*Vd*$B22/(SQRT(3)*$C22*(G$14*$D22+G$15*SIN(ACOS($D22))))),"NOK") -> NOK | H22: =IF(H$13>$C22,IF(1000*Vd*$B22/(SQRT(3)*$C22*(H$14*$D22+H$15*SIN(ACOS($D22))))>$F$6,">"&$F$6,1000*Vd*$B22/(SQRT(3)*$C22*(H$14*$D22+H$15*SIN(ACOS($D22))))),"NOK") -> 177.6643 | I22: =IF(I$13>$C22,IF(1000*Vd*$B22/(SQRT(3)*$C22*(I$14*$D22+I$15*SIN(ACOS($D22))))>$F$6,">"&$F$6,1000*Vd*$B22/(SQRT(3)*$C22*(I$14*$D22+I$15*SIN(ACOS($D22))))),"NOK") -> 275.7014 | J22: =IF(J$13>$C22,IF(1000*Vd*$B22/(SQRT(3)*$C22*(J$14*$D22+J$15*SIN(ACOS($D22))))>$F$6,">"&$F$6,1000*Vd*$B22/(SQRT(3)*$C22*(J$14*$D22+J$15*SIN(ACOS($D22))))),"NOK") -> 375.86998 | K22: =IF(K$13>$C22,IF(1000*Vd*$B22/(SQRT(3)*$C22*(K$14*$D22+K$15*SIN(ACOS($D22))))>$F$6,">"&$F$6,1000*Vd*$B22/(SQRT(3)*$C22*(K$14*$D22+K$15*SIN(ACOS($D22))))),"NOK") -> 497.36755 | L22: =IF(L$13>$C22,IF(1000*Vd*$B22/(SQRT(3)*$C22*(L$14*$D22+L$15*SIN(ACOS($D22))))>$F$6,">"&$F$6,1000*Vd*$B22/(SQRT(3)*$C22*(L$14*$D22+L$15*SIN(ACOS($D22))))),"NOK") -> >500 | ... AU22: =IF(AU$13>$C22,IF(1000*Vd*$B22/(SQRT(3)*$C22*(AU$14*$D22+AU$15*SIN(ACOS($D22))))>$F$6,">"&$F$6,1000*Vd*$B22/(SQRT(3)*$C22*(AU$14*$D22+AU$15*SIN(ACOS($D22))))),"NOK") -> >500
B23: 400 | C23: 63 | D23: 0.85 | E23: =IF(E$13>$C23,IF(1000*Vd*$B23/(SQRT(3)*$C23*(E$14*$D23+E$15*SIN(ACOS($D23))))>$F$6,">"&$F$6,1000*Vd*$B23/(SQRT(3)*$C23*(E$14*$D23+E$15*SIN(ACOS($D23))))),"NOK") -> NOK | F23: =IF(F$13>$C23,IF(1000*Vd*$B23/(SQRT(3)*$C23*(F$14*$D23+F$15*SIN(ACOS($D23))))>$F$6,">"&$F$6,1000*Vd*$B23/(SQRT(3)*$C23*(F$14*$D23+F$15*SIN(ACOS($D23))))),"NOK") -> NOK | G23: =IF(G$13>$C23,IF(1000*Vd*$B23/(SQRT(3)*$C23*(G$14*$D23+G$15*SIN(ACOS($D23))))>$F$6,">"&$F$6,1000*Vd*$B23/(SQRT(3)*$C23*(G$14*$D23+G$15*SIN(ACOS($D23))))),"NOK") -> NOK | H23: =IF(H$13>$C23,IF(1000*Vd*$B23/(SQRT(3)*$C23*(H$14*$D23+H$15*SIN(ACOS($D23))))>$F$6,">"&$F$6,1000*Vd*$B23/(SQRT(3)*$C23*(H$14*$D23+H$15*SIN(ACOS($D23))))),"NOK") -> NOK | I23: =IF(I$13>$C23,IF(1000*Vd*$B23/(SQRT(3)*$C23*(I$14*$D23+I$15*SIN(ACOS($D23))))>$F$6,">"&$F$6,1000*Vd*$B23/(SQRT(3)*$C23*(I$14*$D23+I$15*SIN(ACOS($D23))))),"NOK") -> 218.81063 | J23: =IF(J$13>$C23,IF(1000*Vd*$B23/(SQRT(3)*$C23*(J$14*$D23+J$15*SIN(ACOS($D23))))>$F$6,">"&$F$6,1000*Vd*$B23/(SQRT(3)*$C23*(J$14*$D23+J$15*SIN(ACOS($D23))))),"NOK") -> 298.3095 | K23: =IF(K$13>$C23,IF(1000*Vd*$B23/(SQRT(3)*$C23*(K$14*$D23+K$15*SIN(ACOS($D23))))>$F$6,">"&$F$6,1000*Vd*$B23/(SQRT(3)*$C23*(K$14*$D23+K$15*SIN(ACOS($D23))))),"NOK") -> 394.73615 | L23: =IF(L$13>$C23,IF(1000*Vd*$B23/(SQRT(3)*$C23*(L$14*$D23+L$15*SIN(ACOS($D23))))>$F$6,">"&$F$6,1000*Vd*$B23/(SQRT(3)*$C23*(L$14*$D23+L$15*SIN(ACOS($D23))))),"NOK") -> >500 | ... AU23: =IF(AU$13>$C23,IF(1000*Vd*$B23/(SQRT(3)*$C23*(AU$14*$D23+AU$15*SIN(ACOS($D23))))>$F$6,">"&$F$6,1000*Vd*$B23/(SQRT(3)*$C23*(AU$14*$D23+AU$15*SIN(ACOS($D23))))),"NOK") -> >500
B24: 400 | C24: 80 | D24: 0.85 | E24: =IF(E$13>$C24,IF(1000*Vd*$B24/(SQRT(3)*$C24*(E$14*$D24+E$15*SIN(ACOS($D24))))>$F$6,">"&$F$6,1000*Vd*$B24/(SQRT(3)*$C24*(E$14*$D24+E$15*SIN(ACOS($D24))))),"NOK") -> NOK | F24: =IF(F$13>$C24,IF(1000*Vd*$B24/(SQRT(3)*$C24*(F$14*$D24+F$15*SIN(ACOS($D24))))>$F$6,">"&$F$6,1000*Vd*$B24/(SQRT(3)*$C24*(F$14*$D24+F$15*SIN(ACOS($D24))))),"NOK") -> NOK | G24: =IF(G$13>$C24,IF(1000*Vd*$B24/(SQRT(3)*$C24*(G$14*$D24+G$15*SIN(ACOS($D24))))>$F$6,">"&$F$6,1000*Vd*$B24/(SQRT(3)*$C24*(G$14*$D24+G$15*SIN(ACOS($D24))))),"NOK") -> NOK | H24: =IF(H$13>$C24,IF(1000*Vd*$B24/(SQRT(3)*$C24*(H$14*$D24+H$15*SIN(ACOS($D24))))>$F$6,">"&$F$6,1000*Vd*$B24/(SQRT(3)*$C24*(H$14*$D24+H$15*SIN(ACOS($D24))))),"NOK") -> NOK | I24: =IF(I$13>$C24,IF(1000*Vd*$B24/(SQRT(3)*$C24*(I$14*$D24+I$15*SIN(ACOS($D24))))>$F$6,">"&$F$6,1000*Vd*$B24/(SQRT(3)*$C24*(I$14*$D24+I$15*SIN(ACOS($D24))))),"NOK") -> NOK | J24: =IF(J$13>$C24,IF(1000*Vd*$B24/(SQRT(3)*$C24*(J$14*$D24+J$15*SIN(ACOS($D24))))>$F$6,">"&$F$6,1000*Vd*$B24/(SQRT(3)*$C24*(J$14*$D24+J$15*SIN(ACOS($D24))))),"NOK") -> 234.91873 | K24: =IF(K$13>$C24,IF(1000*Vd*$B24/(SQRT(3)*$C24*(K$14*$D24+K$15*SIN(ACOS($D24))))>$F$6,">"&$F$6,1000*Vd*$B24/(SQRT(3)*$C24*(K$14*$D24+K$15*SIN(ACOS($D24))))),"NOK") -> 310.85472 | L24: =IF(L$13>$C24,IF(1000*Vd*$B24/(SQRT(3)*$C24*(L$14*$D24+L$15*SIN(ACOS($D24))))>$F$6,">"&$F$6,1000*Vd*$B24/(SQRT(3)*$C24*(L$14*$D24+L$15*SIN(ACOS($D24))))),"NOK") -> 434.5783 | ... AU24: =IF(AU$13>$C24,IF(1000*Vd*$B24/(SQRT(3)*$C24*(AU$14*$D24+AU$15*SIN(ACOS($D24))))>$F$6,">"&$F$6,1000*Vd*$B24/(SQRT(3)*$C24*(AU$14*$D24+AU$15*SIN(ACOS($D24))))),"NOK") -> >500
B25: 400 | C25: 100 | D25: 0.85 | E25: =IF(E$13>$C25,IF(1000*Vd*$B25/(SQRT(3)*$C25*(E$14*$D25+E$15*SIN(ACOS($D25))))>$F$6,">"&$F$6,1000*Vd*$B25/(SQRT(3)*$C25*(E$14*$D25+E$15*SIN(ACOS($D25))))),"NOK") -> NOK | F25: =IF(F$13>$C25,IF(1000*Vd*$B25/(SQRT(3)*$C25*(F$14*$D25+F$15*SIN(ACOS($D25))))>$F$6,">"&$F$6,1000*Vd*$B25/(SQRT(3)*$C25*(F$14*$D25+F$15*SIN(ACOS($D25))))),"NOK") -> NOK | G25: =IF(G$13>$C25,IF(1000*Vd*$B25/(SQRT(3)*$C25*(G$14*$D25+G$15*SIN(ACOS($D25))))>$F$6,">"&$F$6,1000*Vd*$B25/(SQRT(3)*$C25*(G$14*$D25+G$15*SIN(ACOS($D25))))),"NOK") -> NOK | H25: =IF(H$13>$C25,IF(1000*Vd*$B25/(SQRT(3)*$C25*(H$14*$D25+H$15*SIN(ACOS($D25))))>$F$6,">"&$F$6,1000*Vd*$B25/(SQRT(3)*$C25*(H$14*$D25+H$15*SIN(ACOS($D25))))),"NOK") -> NOK | I25: =IF(I$13>$C25,IF(1000*Vd*$B25/(SQRT(3)*$C25*(I$14*$D25+I$15*SIN(ACOS($D25))))>$F$6,">"&$F$6,1000*Vd*$B25/(SQRT(3)*$C25*(I$14*$D25+I$15*SIN(ACOS($D25))))),"NOK") -> NOK | J25: =IF(J$13>$C25,IF(1000*Vd*$B25/(SQRT(3)*$C25*(J$14*$D25+J$15*SIN(ACOS($D25))))>$F$6,">"&$F$6,1000*Vd*$B25/(SQRT(3)*$C25*(J$14*$D25+J$15*SIN(ACOS($D25))))),"NOK") -> NOK | K25: =IF(K$13>$C25,IF(1000*Vd*$B25/(SQRT(3)*$C25*(K$14*$D25+K$15*SIN(ACOS($D25))))>$F$6,">"&$F$6,1000*Vd*$B25/(SQRT(3)*$C25*(K$14*$D25+K$15*SIN(ACOS($D25))))),"NOK") -> 248.68377 | L25: =IF(L$13>$C25,IF(1000*Vd*$B25/(SQRT(3)*$C25*(L$14*$D25+L$15*SIN(ACOS($D25))))>$F$6,">"&$F$6,1000*Vd*$B25/(SQRT(3)*$C25*(L$14*$D25+L$15*SIN(ACOS($D25))))),"NOK") -> 347.66264 | ... AU25: =IF(AU$13>$C25,IF(1000*Vd*$B25/(SQRT(3)*$C25*(AU$14*$D25+AU$15*SIN(ACOS($D25))))>$F$6,">"&$F$6,1000*Vd*$B25/(SQRT(3)*$C25*(AU$14*$D25+AU$15*SIN(ACOS($D25))))),"NOK") -> >500
B26: 400 | C26: 125 | D26: 0.85 | E26: =IF(E$13>$C26,IF(1000*Vd*$B26/(SQRT(3)*$C26*(E$14*$D26+E$15*SIN(ACOS($D26))))>$F$6,">"&$F$6,1000*Vd*$B26/(SQRT(3)*$C26*(E$14*$D26+E$15*SIN(ACOS($D26))))),"NOK") -> NOK | F26: =IF(F$13>$C26,IF(1000*Vd*$B26/(SQRT(3)*$C26*(F$14*$D26+F$15*SIN(ACOS($D26))))>$F$6,">"&$F$6,1000*Vd*$B26/(SQRT(3)*$C26*(F$14*$D26+F$15*SIN(ACOS($D26))))),"NOK") -> NOK | G26: =IF(G$13>$C26,IF(1000*Vd*$B26/(SQRT(3)*$C26*(G$14*$D26+G$15*SIN(ACOS($D26))))>$F$6,">"&$F$6,1000*Vd*$B26/(SQRT(3)*$C26*(G$14*$D26+G$15*SIN(ACOS($D26))))),"NOK") -> NOK | H26: =IF(H$13>$C26,IF(1000*Vd*$B26/(SQRT(3)*$C26*(H$14*$D26+H$15*SIN(ACOS($D26))))>$F$6,">"&$F$6,1000*Vd*$B26/(SQRT(3)*$C26*(H$14*$D26+H$15*SIN(ACOS($D26))))),"NOK") -> NOK | I26: =IF(I$13>$C26,IF(1000*Vd*$B26/(SQRT(3)*$C26*(I$14*$D26+I$15*SIN(ACOS($D26))))>$F$6,">"&$F$6,1000*Vd*$B26/(SQRT(3)*$C26*(I$14*$D26+I$15*SIN(ACOS($D26))))),"NOK") -> NOK | J26: =IF(J$13>$C26,IF(1000*Vd*$B26/(SQRT(3)*$C26*(J$14*$D26+J$15*SIN(ACOS($D26))))>$F$6,">"&$F$6,1000*Vd*$B26/(SQRT(3)*$C26*(J$14*$D26+J$15*SIN(ACOS($D26))))),"NOK") -> NOK | K26: =IF(K$13>$C26,IF(1000*Vd*$B26/(SQRT(3)*$C26*(K$14*$D26+K$15*SIN(ACOS($D26))))>$F$6,">"&$F$6,1000*Vd*$B26/(SQRT(3)*$C26*(K$14*$D26+K$15*SIN(ACOS($D26))))),"NOK") -> NOK | L26: =IF(L$13>$C26,IF(1000*Vd*$B26/(SQRT(3)*$C26*(L$14*$D26+L$15*SIN(ACOS($D26))))>$F$6,">"&$F$6,1000*Vd*$B26/(SQRT(3)*$C26*(L$14*$D26+L$15*SIN(ACOS($D26))))),"NOK") -> 278.13011 | ... AU26: =IF(AU$13>$C26,IF(1000*Vd*$B26/(SQRT(3)*$C26*(AU$14*$D26+AU$15*SIN(ACOS($D26))))>$F$6,">"&$F$6,1000*Vd*$B26/(SQRT(3)*$C26*(AU$14*$D26+AU$15*SIN(ACOS($D26))))),"NOK") -> >500
B27: 400 | C27: 160 | D27: 0.85 | E27: =IF(E$13>$C27,IF(1000*Vd*$B27/(SQRT(3)*$C27*(E$14*$D27+E$15*SIN(ACOS($D27))))>$F$6,">"&$F$6,1000*Vd*$B27/(SQRT(3)*$C27*(E$14*$D27+E$15*SIN(ACOS($D27))))),"NOK") -> NOK | F27: =IF(F$13>$C27,IF(1000*Vd*$B27/(SQRT(3)*$C27*(F$14*$D27+F$15*SIN(ACOS($D27))))>$F$6,">"&$F$6,1000*Vd*$B27/(SQRT(3)*$C27*(F$14*$D27+F$15*SIN(ACOS($D27))))),"NOK") -> NOK | G27: =IF(G$13>$C27,IF(1000*Vd*$B27/(SQRT(3)*$C27*(G$14*$D27+G$15*SIN(ACOS($D27))))>$F$6,">"&$F$6,1000*Vd*$B27/(SQRT(3)*$C27*(G$14*$D27+G$15*SIN(ACOS($D27))))),"NOK") -> NOK | H27: =IF(H$13>$C27,IF(1000*Vd*$B27/(SQRT(3)*$C27*(H$14*$D27+H$15*SIN(ACOS($D27))))>$F$6,">"&$F$6,1000*Vd*$B27/(SQRT(3)*$C27*(H$14*$D27+H$15*SIN(ACOS($D27))))),"NOK") -> NOK | I27: =IF(I$13>$C27,IF(1000*Vd*$B27/(SQRT(3)*$C27*(I$14*$D27+I$15*SIN(ACOS($D27))))>$F$6,">"&$F$6,1000*Vd*$B27/(SQRT(3)*$C27*(I$14*$D27+I$15*SIN(ACOS($D27))))),"NOK") -> NOK | J27: =IF(J$13>$C27,IF(1000*Vd*$B27/(SQRT(3)*$C27*(J$14*$D27+J$15*SIN(ACOS($D27))))>$F$6,">"&$F$6,1000*Vd*$B27/(SQRT(3)*$C27*(J$14*$D27+J$15*SIN(ACOS($D27))))),"NOK") -> NOK | K27: =IF(K$13>$C27,IF(1000*Vd*$B27/(SQRT(3)*$C27*(K$14*$D27+K$15*SIN(ACOS($D27))))>$F$6,">"&$F$6,1000*Vd*$B27/(SQRT(3)*$C27*(K$14*$D27+K$15*SIN(ACOS($D27))))),"NOK") -> NOK | L27: =IF(L$13>$C27,IF(1000*Vd*$B27/(SQRT(3)*$C27*(L$14*$D27+L$15*SIN(ACOS($D27))))>$F$6,">"&$F$6,1000*Vd*$B27/(SQRT(3)*$C27*(L$14*$D27+L$15*SIN(ACOS($D27))))),"NOK") -> NOK | ... AU27: =IF(AU$13>$C27,IF(1000*Vd*$B27/(SQRT(3)*$C27*(AU$14*$D27+AU$15*SIN(ACOS($D27))))>$F$6,">"&$F$6,1000*Vd*$B27/(SQRT(3)*$C27*(AU$14*$D27+AU$15*SIN(ACOS($D27))))),"NOK") -> >500
B28: 400 | C28: 200 | D28: 0.85 | E28: =IF(E$13>$C28,IF(1000*Vd*$B28/(SQRT(3)*$C28*(E$14*$D28+E$15*SIN(ACOS($D28))))>$F$6,">"&$F$6,1000*Vd*$B28/(SQRT(3)*$C28*(E$14*$D28+E$15*SIN(ACOS($D28))))),"NOK") -> NOK | F28: =IF(F$13>$C28,IF(1000*Vd*$B28/(SQRT(3)*$C28*(F$14*$D28+F$15*SIN(ACOS($D28))))>$F$6,">"&$F$6,1000*Vd*$B28/(SQRT(3)*$C28*(F$14*$D28+F$15*SIN(ACOS($D28))))),"NOK") -> NOK | G28: =IF(G$13>$C28,IF(1000*Vd*$B28/(SQRT(3)*$C28*(G$14*$D28+G$15*SIN(ACOS($D28))))>$F$6,">"&$F$6,1000*Vd*$B28/(SQRT(3)*$C28*(G$14*$D28+G$15*SIN(ACOS($D28))))),"NOK") -> NOK | H28: =IF(H$13>$C28,IF(1000*Vd*$B28/(SQRT(3)*$C28*(H$14*$D28+H$15*SIN(ACOS($D28))))>$F$6,">"&$F$6,1000*Vd*$B28/(SQRT(3)*$C28*(H$14*$D28+H$15*SIN(ACOS($D28))))),"NOK") -> NOK | I28: =IF(I$13>$C28,IF(1000*Vd*$B28/(SQRT(3)*$C28*(I$14*$D28+I$15*SIN(ACOS($D28))))>$F$6,">"&$F$6,1000*Vd*$B28/(SQRT(3)*$C28*(I$14*$D28+I$15*SIN(ACOS($D28))))),"NOK") -> NOK | J28: =IF(J$13>$C28,IF(1000*Vd*$B28/(SQRT(3)*$C28*(J$14*$D28+J$15*SIN(ACOS($D28))))>$F$6,">"&$F$6,1000*Vd*$B28/(SQRT(3)*$C28*(J$14*$D28+J$15*SIN(ACOS($D28))))),"NOK") -> NOK | K28: =IF(K$13>$C28,IF(1000*Vd*$B28/(SQRT(3)*$C28*(K$14*$D28+K$15*SIN(ACOS($D28))))>$F$6,">"&$F$6,1000*Vd*$B28/(SQRT(3)*$C28*(K$14*$D28+K$15*SIN(ACOS($D28))))),"NOK") -> NOK | L28: =IF(L$13>$C28,IF(1000*Vd*$B28/(SQRT(3)*$C28*(L$14*$D28+L$15*SIN(ACOS($D28))))>$F$6,">"&$F$6,1000*Vd*$B28/(SQRT(3)*$C28*(L$14*$D28+L$15*SIN(ACOS($D28))))),"NOK") -> NOK | ... AU28: =IF(AU$13>$C28,IF(1000*Vd*$B28/(SQRT(3)*$C28*(AU$14*$D28+AU$15*SIN(ACOS($D28))))>$F$6,">"&$F$6,1000*Vd*$B28/(SQRT(3)*$C28*(AU$14*$D28+AU$15*SIN(ACOS($D28))))),"NOK") -> >500
... B41: 400 | C41: 4000 | D41: 0.85 | E41: =IF(E$13>$C41,IF(1000*Vd*$B41/(SQRT(3)*$C41*(E$14*$D41+E$15*SIN(ACOS($D41))))>$F$6,">"&$F$6,1000*Vd*$B41/(SQRT(3)*$C41*(E$14*$D41+E$15*SIN(ACOS($D41))))),"NOK") -> NOK | F41: =IF(F$13>$C41,IF(1000*Vd*$B41/(SQRT(3)*$C41*(F$14*$D41+F$15*SIN(ACOS($D41))))>$F$6,">"&$F$6,1000*Vd*$B41/(SQRT(3)*$C41*(F$14*$D41+F$15*SIN(ACOS($D41))))),"NOK") -> NOK | G41: =IF(G$13>$C41,IF(1000*Vd*$B41/(SQRT(3)*$C41*(G$14*$D41+G$15*SIN(ACOS($D41))))>$F$6,">"&$F$6,1000*Vd*$B41/(SQRT(3)*$C41*(G$14*$D41+G$15*SIN(ACOS($D41))))),"NOK") -> NOK | H41: =IF(H$13>$C41,IF(1000*Vd*$B41/(SQRT(3)*$C41*(H$14*$D41+H$15*SIN(ACOS($D41))))>$F$6,">"&$F$6,1000*Vd*$B41/(SQRT(3)*$C41*(H$14*$D41+H$15*SIN(ACOS($D41))))),"NOK") -> NOK | I41: =IF(I$13>$C41,IF(1000*Vd*$B41/(SQRT(3)*$C41*(I$14*$D41+I$15*SIN(ACOS($D41))))>$F$6,">"&$F$6,1000*Vd*$B41/(SQRT(3)*$C41*(I$14*$D41+I$15*SIN(ACOS($D41))))),"NOK") -> NOK | J41: =IF(J$13>$C41,IF(1000*Vd*$B41/(SQRT(3)*$C41*(J$14*$D41+J$15*SIN(ACOS($D41))))>$F$6,">"&$F$6,1000*Vd*$B41/(SQRT(3)*$C41*(J$14*$D41+J$15*SIN(ACOS($D41))))),"NOK") -> NOK | K41: =IF(K$13>$C41,IF(1000*Vd*$B41/(SQRT(3)*$C41*(K$14*$D41+K$15*SIN(ACOS($D41))))>$F$6,">"&$F$6,1000*Vd*$B41/(SQRT(3)*$C41*(K$14*$D41+K$15*SIN(ACOS($D41))))),"NOK") -> NOK | L41: =IF(L$13>$C41,IF(1000*Vd*$B41/(SQRT(3)*$C41*(L$14*$D41+L$15*SIN(ACOS($D41))))>$F$6,">"&$F$6,1000*Vd*$B41/(SQRT(3)*$C41*(L$14*$D41+L$15*SIN(ACOS($D41))))),"NOK") -> NOK | ... AU41: =IF(AU$13>$C41,IF(1000*Vd*$B41/(SQRT(3)*$C41*(AU$14*$D41+AU$15*SIN(ACOS($D41))))>$F$6,">"&$F$6,1000*Vd*$B41/(SQRT(3)*$C41*(AU$14*$D41+AU$15*SIN(ACOS($D41))))),"NOK") -> 348.95415

Sheet DC FEEDER CHART IN AIR
B2: DC FEEDERS - CABLES LAID IN AIR
B4: Maximum Volt Drop at LV bus (%) | D4: ΔVb | E4: 0.02 | G4: DERATING FACTORS | H4: Ambient temperature factor (40°C) | M4: 1.05
H5: Layer factor | M5: 0.8
B6: Max Length | D6: Lmax | E6: 100 | H6: Touching - LV | M6: 0.78
P7: 2 | Q7: 2 | R7: 2 | S7: 2 | T7: 2 | U7: 2 | V7: 2 | W7: 2 | X7: 2 | Y7: 2 | Z7: 2 | AA7: 2 | AB7: 3 | AC7: 3 | AD7: 3 | AE7: 3 | AF7: 3 | AG7: 3 | AH7: 3 | AI7: 3 | AJ7: 3 | AK7: 3 | AL7: 3 | AM7: 3
D8: SINGLE-CORE CABLES
B9: Conductor Size | D9: 1 x 10 mm² | E9: 1 x 16 mm² | F9: 1 x 25 mm² | G9: 1 x 35 mm² | H9: 1 x 50 mm² | I9: 1 x 70 mm² | J9: 1 x 95 mm² | K9: 1 x 120 mm² | L9: 1 x 150 mm² | M9: 1 x 185 mm² | N9: 1 x 240 mm² | O9: 1 x 300 mm² | P9: 2 x 1 x 10 mm² | Q9: 2 x 1 x 16 mm² | R9: 2 x 1 x 25 mm² | S9: 2 x 35 mm² | T9: 2 x 1 x 50 mm² | U9: 2 x 1 x 70 mm² | V9: 2 x 1 x 95 mm² | W9: 2 x 1 x 120 mm² | X9: 2 x 1 x 150 mm² | Y9: 2 x 1 x 185 mm² | Z9: 2 x 1 x 240 mm² | AA9: 2 x 1 x 300 mm² | AB9: 3 x 1 x 10 mm² | AC9: 3 x 1 x 16 mm² | AD9: 3 x 1 x 25 mm² | AE9: 2 x 35 mm² | AF9: 3 x 1 x 50 mm² | AG9: 3 x 1 x 70 mm² | AH9: 3 x 1 x 95 mm² | AI9: 3 x 1 x 120 mm² | AJ9: 3 x 1 x 150 mm² | AK9: 3 x 1 x 185 mm² | AL9: 3 x 1 x 240 mm² | AM9: 3 x 1 x 300 mm²
B10: Current Rating (Base) as per IEC 61892-4 Annex A, Table A-7 | D10: 70 | E10: 93 | F10: 117 | G10: 147 | H10: 180 | I10: 233 | J10: 285 | K10: 333 | L10: 386 | M10: 444 | N10: 528 | O10: 612 | P10: =D10*P7 -> 140 | Q10: =E10*Q7 -> 186 | R10: =F10*R7 -> 234 | S10: =G10*S7 -> 294 | T10: =H10*T7 -> 360 | U10: =I10*U7 -> 466 | V10: =J10*V7 -> 570 | W10: =K10*W7 -> 666 | ... AA10: =O10*AA7 -> 1224 | AB10: =D10*AB7 -> 210 | AC10: =E10*AC7 -> 279 | AD10: =F10*AD7 -> 351 | AE10: =G10*AE7 -> 441 | AF10: =H10*AF7 -> 540 | AG10: =I10*AG7 -> 699 | AH10: =J10*AH7 -> 855 | AI10: =K10*AI7 -> 999 | ... AM10: =O10*AM7 -> 1836
B11: Derating factor | D11: =$M$4*$M$5*$M$6 -> 0.6552 | E11: =$M$4*$M$5*$M$6 -> 0.6552 | F11: =$M$4*$M$5*$M$6 -> 0.6552 | G11: =$M$4*$M$5*$M$6 -> 0.6552 | H11: =$M$4*$M$5*$M$6 -> 0.6552 | I11: =$M$4*$M$5*$M$6 -> 0.6552 | J11: =$M$4*$M$5*$M$6 -> 0.6552 | K11: =$M$4*$M$5*$M$6 -> 0.6552 | ... AM11: =$M$4*$M$5*$M$6 -> 0.6552
B12: Current Rating (Derated) | D12: =D10*D11 -> 45.864 | E12: =E10*E11 -> 60.9336 | F12: =F10*F11 -> 76.6584 | G12: =G10*G11 -> 96.3144 | H12: =H10*H11 -> 117.936 | I12: =I10*I11 -> 152.6616 | J12: =J10*J11 -> 186.732 | K12: =K10*K11 -> 218.1816 | ... AM12: =AM10*AM11 -> 1202.9472
B13: Typical Resistance (at conductor temp.) (Ω/Km) form IEC 60228 | D13: 2.3460904 | E13: 1.479057 | F13: 0.93588605 | G13: 0.67450098 | H13: 0.4985442 | I13: 0.34426326 | J13: 0.24863458 | K13: 0.19635756 | L13: 0.16065619 | M13: 0.12750491 | N13: 0.097158743 | O13: 0.077395481 | P13: =D13/P7 -> 1.1730452 | Q13: =E13/Q7 -> 0.73952849 | R13: =F13/R7 -> 0.46794303 | S13: =G13/S7 -> 0.33725049 | T13: =H13/T7 -> 0.2492721 | U13: =I13/U7 -> 0.17213163 | V13: =J13/V7 -> 0.12431729 | W13: =K13/W7 -> 0.098178782 | ... AA13: =O13/AA7 -> 0.038697741 | AB13: =D13/AB7 -> 0.78203012 | AC13: =E13/AC7 -> 0.49301899 | AD13: =F13/AD7 -> 0.31196202 | AE13: =G13/AE7 -> 0.22483366 | AF13: =H13/AF7 -> 0.1661814 | AG13: =I13/AG7 -> 0.11475442 | AH13: =J13/AH7 -> 0.082878193 | AI13: =K13/AI7 -> 0.065452521 | ... AM13: =O13/AM7 -> 0.025798494
B14: V | C14: F.L.C (A) | D14: MAXIMUM ROUTE LENGTH (METERS)
B15: 48 | C15: 16 | D15: =IF(D$12>$C15,IF(1000*Vd*$B15/(2*D$13*$C15)>$E$6,">"&$E$6, 1000*Vd*$B15/(2*D$13*$C15)),"NOK") -> 12.787231 | E15: =IF(E$12>$C15,IF(1000*Vd*$B15/(2*E$13*$C15)>$E$6,">"&$E$6, 1000*Vd*$B15/(2*E$13*$C15)),"NOK") -> 20.283194 | F15: =IF(F$12>$C15,IF(1000*Vd*$B15/(2*F$13*$C15)>$E$6,">"&$E$6, 1000*Vd*$B15/(2*F$13*$C15)),"NOK") -> 32.055184 | G15: =IF(G$12>$C15,IF(1000*Vd*$B15/(2*G$13*$C15)>$E$6,">"&$E$6, 1000*Vd*$B15/(2*G$13*$C15)),"NOK") -> 44.477326 | H15: =IF(H$12>$C15,IF(1000*Vd*$B15/(2*H$13*$C15)>$E$6,">"&$E$6, 1000*Vd*$B15/(2*H$13*$C15)),"NOK") -> 60.175206 | I15: =IF(I$12>$C15,IF(1000*Vd*$B15/(2*I$13*$C15)>$E$6,">"&$E$6, 1000*Vd*$B15/(2*I$13*$C15)),"NOK") -> 87.142613 | J15: =IF(J$12>$C15,IF(1000*Vd*$B15/(2*J$13*$C15)>$E$6,">"&$E$6, 1000*Vd*$B15/(2*J$13*$C15)),"NOK") -> >100 | K15: =IF(K$12>$C15,IF(1000*Vd*$B15/(2*K$13*$C15)>$E$6,">"&$E$6, 1000*Vd*$B15/(2*K$13*$C15)),"NOK") -> >100 | ... AM15: =IF(AM$12>$C15,IF(1000*Vd*$B15/(2*AM$13*$C15)>$E$6,">"&$E$6, 1000*Vd*$B15/(2*AM$13*$C15)),"NOK") -> >100
B16: 48 | C16: 20 | D16: =IF(D$12>$C16,IF(1000*Vd*$B16/(2*D$13*$C16)>$E$6,">"&$E$6, 1000*Vd*$B16/(2*D$13*$C16)),"NOK") -> 10.229785 | E16: =IF(E$12>$C16,IF(1000*Vd*$B16/(2*E$13*$C16)>$E$6,">"&$E$6, 1000*Vd*$B16/(2*E$13*$C16)),"NOK") -> 16.226555 | F16: =IF(F$12>$C16,IF(1000*Vd*$B16/(2*F$13*$C16)>$E$6,">"&$E$6, 1000*Vd*$B16/(2*F$13*$C16)),"NOK") -> 25.644148 | G16: =IF(G$12>$C16,IF(1000*Vd*$B16/(2*G$13*$C16)>$E$6,">"&$E$6, 1000*Vd*$B16/(2*G$13*$C16)),"NOK") -> 35.581861 | H16: =IF(H$12>$C16,IF(1000*Vd*$B16/(2*H$13*$C16)>$E$6,">"&$E$6, 1000*Vd*$B16/(2*H$13*$C16)),"NOK") -> 48.140164 | I16: =IF(I$12>$C16,IF(1000*Vd*$B16/(2*I$13*$C16)>$E$6,">"&$E$6, 1000*Vd*$B16/(2*I$13*$C16)),"NOK") -> 69.71409 | J16: =IF(J$12>$C16,IF(1000*Vd*$B16/(2*J$13*$C16)>$E$6,">"&$E$6, 1000*Vd*$B16/(2*J$13*$C16)),"NOK") -> 96.527202 | K16: =IF(K$12>$C16,IF(1000*Vd*$B16/(2*K$13*$C16)>$E$6,">"&$E$6, 1000*Vd*$B16/(2*K$13*$C16)),"NOK") -> >100 | ... AM16: =IF(AM$12>$C16,IF(1000*Vd*$B16/(2*AM$13*$C16)>$E$6,">"&$E$6, 1000*Vd*$B16/(2*AM$13*$C16)),"NOK") -> >100
B17: 48 | C17: 25 | D17: =IF(D$12>$C17,IF(1000*Vd*$B17/(2*D$13*$C17)>$E$6,">"&$E$6, 1000*Vd*$B17/(2*D$13*$C17)),"NOK") -> 8.183828 | E17: =IF(E$12>$C17,IF(1000*Vd*$B17/(2*E$13*$C17)>$E$6,">"&$E$6, 1000*Vd*$B17/(2*E$13*$C17)),"NOK") -> 12.981244 | F17: =IF(F$12>$C17,IF(1000*Vd*$B17/(2*F$13*$C17)>$E$6,">"&$E$6, 1000*Vd*$B17/(2*F$13*$C17)),"NOK") -> 20.515318 | G17: =IF(G$12>$C17,IF(1000*Vd*$B17/(2*G$13*$C17)>$E$6,">"&$E$6, 1000*Vd*$B17/(2*G$13*$C17)),"NOK") -> 28.465489 | H17: =IF(H$12>$C17,IF(1000*Vd*$B17/(2*H$13*$C17)>$E$6,">"&$E$6, 1000*Vd*$B17/(2*H$13*$C17)),"NOK") -> 38.512132 | I17: =IF(I$12>$C17,IF(1000*Vd*$B17/(2*I$13*$C17)>$E$6,">"&$E$6, 1000*Vd*$B17/(2*I$13*$C17)),"NOK") -> 55.771272 | J17: =IF(J$12>$C17,IF(1000*Vd*$B17/(2*J$13*$C17)>$E$6,">"&$E$6, 1000*Vd*$B17/(2*J$13*$C17)),"NOK") -> 77.221761 | K17: =IF(K$12>$C17,IF(1000*Vd*$B17/(2*K$13*$C17)>$E$6,">"&$E$6, 1000*Vd*$B17/(2*K$13*$C17)),"NOK") -> 97.780802 | ... AM17: =IF(AM$12>$C17,IF(1000*Vd*$B17/(2*AM$13*$C17)>$E$6,">"&$E$6, 1000*Vd*$B17/(2*AM$13*$C17)),"NOK") -> >100
B18: 48 | C18: 31.5 | D18: =IF(D$12>$C18,IF(1000*Vd*$B18/(2*D$13*$C18)>$E$6,">"&$E$6, 1000*Vd*$B18/(2*D$13*$C18)),"NOK") -> 6.4951016 | E18: =IF(E$12>$C18,IF(1000*Vd*$B18/(2*E$13*$C18)>$E$6,">"&$E$6, 1000*Vd*$B18/(2*E$13*$C18)),"NOK") -> 10.302575 | F18: =IF(F$12>$C18,IF(1000*Vd*$B18/(2*F$13*$C18)>$E$6,">"&$E$6, 1000*Vd*$B18/(2*F$13*$C18)),"NOK") -> 16.281998 | G18: =IF(G$12>$C18,IF(1000*Vd*$B18/(2*G$13*$C18)>$E$6,">"&$E$6, 1000*Vd*$B18/(2*G$13*$C18)),"NOK") -> 22.591658 | H18: =IF(H$12>$C18,IF(1000*Vd*$B18/(2*H$13*$C18)>$E$6,">"&$E$6, 1000*Vd*$B18/(2*H$13*$C18)),"NOK") -> 30.565184 | I18: =IF(I$12>$C18,IF(1000*Vd*$B18/(2*I$13*$C18)>$E$6,">"&$E$6, 1000*Vd*$B18/(2*I$13*$C18)),"NOK") -> 44.262914 | J18: =IF(J$12>$C18,IF(1000*Vd*$B18/(2*J$13*$C18)>$E$6,">"&$E$6, 1000*Vd*$B18/(2*J$13*$C18)),"NOK") -> 61.287112 | K18: =IF(K$12>$C18,IF(1000*Vd*$B18/(2*K$13*$C18)>$E$6,">"&$E$6, 1000*Vd*$B18/(2*K$13*$C18)),"NOK") -> 77.603811 | ... AM18: =IF(AM$12>$C18,IF(1000*Vd*$B18/(2*AM$13*$C18)>$E$6,">"&$E$6, 1000*Vd*$B18/(2*AM$13*$C18)),"NOK") -> >100
B19: 48 | C19: 40 | D19: =IF(D$12>$C19,IF(1000*Vd*$B19/(2*D$13*$C19)>$E$6,">"&$E$6, 1000*Vd*$B19/(2*D$13*$C19)),"NOK") -> 5.1148925 | E19: =IF(E$12>$C19,IF(1000*Vd*$B19/(2*E$13*$C19)>$E$6,">"&$E$6, 1000*Vd*$B19/(2*E$13*$C19)),"NOK") -> 8.1132777 | F19: =IF(F$12>$C19,IF(1000*Vd*$B19/(2*F$13*$C19)>$E$6,">"&$E$6, 1000*Vd*$B19/(2*F$13*$C19)),"NOK") -> 12.822074 | G19: =IF(G$12>$C19,IF(1000*Vd*$B19/(2*G$13*$C19)>$E$6,">"&$E$6, 1000*Vd*$B19/(2*G$13*$C19)),"NOK") -> 17.79093 | H19: =IF(H$12>$C19,IF(1000*Vd*$B19/(2*H$13*$C19)>$E$6,">"&$E$6, 1000*Vd*$B19/(2*H$13*$C19)),"NOK") -> 24.070082 | I19: =IF(I$12>$C19,IF(1000*Vd*$B19/(2*I$13*$C19)>$E$6,">"&$E$6, 1000*Vd*$B19/(2*I$13*$C19)),"NOK") -> 34.857045 | J19: =IF(J$12>$C19,IF(1000*Vd*$B19/(2*J$13*$C19)>$E$6,">"&$E$6, 1000*Vd*$B19/(2*J$13*$C19)),"NOK") -> 48.263601 | K19: =IF(K$12>$C19,IF(1000*Vd*$B19/(2*K$13*$C19)>$E$6,">"&$E$6, 1000*Vd*$B19/(2*K$13*$C19)),"NOK") -> 61.113001 | ... AM19: =IF(AM$12>$C19,IF(1000*Vd*$B19/(2*AM$13*$C19)>$E$6,">"&$E$6, 1000*Vd*$B19/(2*AM$13*$C19)),"NOK") -> >100
B20: 48 | C20: 50 | D20: =IF(D$12>$C20,IF(1000*Vd*$B20/(2*D$13*$C20)>$E$6,">"&$E$6, 1000*Vd*$B20/(2*D$13*$C20)),"NOK") -> NOK | E20: =IF(E$12>$C20,IF(1000*Vd*$B20/(2*E$13*$C20)>$E$6,">"&$E$6, 1000*Vd*$B20/(2*E$13*$C20)),"NOK") -> 6.4906222 | F20: =IF(F$12>$C20,IF(1000*Vd*$B20/(2*F$13*$C20)>$E$6,">"&$E$6, 1000*Vd*$B20/(2*F$13*$C20)),"NOK") -> 10.257659 | G20: =IF(G$12>$C20,IF(1000*Vd*$B20/(2*G$13*$C20)>$E$6,">"&$E$6, 1000*Vd*$B20/(2*G$13*$C20)),"NOK") -> 14.232744 | H20: =IF(H$12>$C20,IF(1000*Vd*$B20/(2*H$13*$C20)>$E$6,">"&$E$6, 1000*Vd*$B20/(2*H$13*$C20)),"NOK") -> 19.256066 | I20: =IF(I$12>$C20,IF(1000*Vd*$B20/(2*I$13*$C20)>$E$6,">"&$E$6, 1000*Vd*$B20/(2*I$13*$C20)),"NOK") -> 27.885636 | J20: =IF(J$12>$C20,IF(1000*Vd*$B20/(2*J$13*$C20)>$E$6,">"&$E$6, 1000*Vd*$B20/(2*J$13*$C20)),"NOK") -> 38.610881 | K20: =IF(K$12>$C20,IF(1000*Vd*$B20/(2*K$13*$C20)>$E$6,">"&$E$6, 1000*Vd*$B20/(2*K$13*$C20)),"NOK") -> 48.890401 | ... AM20: =IF(AM$12>$C20,IF(1000*Vd*$B20/(2*AM$13*$C20)>$E$6,">"&$E$6, 1000*Vd*$B20/(2*AM$13*$C20)),"NOK") -> >100
B21: 48 | C21: 63 | D21: =IF(D$12>$C21,IF(1000*Vd*$B21/(2*D$13*$C21)>$E$6,">"&$E$6, 1000*Vd*$B21/(2*D$13*$C21)),"NOK") -> NOK | E21: =IF(E$12>$C21,IF(1000*Vd*$B21/(2*E$13*$C21)>$E$6,">"&$E$6, 1000*Vd*$B21/(2*E$13*$C21)),"NOK") -> NOK | F21: =IF(F$12>$C21,IF(1000*Vd*$B21/(2*F$13*$C21)>$E$6,">"&$E$6, 1000*Vd*$B21/(2*F$13*$C21)),"NOK") -> 8.1409992 | G21: =IF(G$12>$C21,IF(1000*Vd*$B21/(2*G$13*$C21)>$E$6,">"&$E$6, 1000*Vd*$B21/(2*G$13*$C21)),"NOK") -> 11.295829 | H21: =IF(H$12>$C21,IF(1000*Vd*$B21/(2*H$13*$C21)>$E$6,">"&$E$6, 1000*Vd*$B21/(2*H$13*$C21)),"NOK") -> 15.282592 | I21: =IF(I$12>$C21,IF(1000*Vd*$B21/(2*I$13*$C21)>$E$6,">"&$E$6, 1000*Vd*$B21/(2*I$13*$C21)),"NOK") -> 22.131457 | J21: =IF(J$12>$C21,IF(1000*Vd*$B21/(2*J$13*$C21)>$E$6,">"&$E$6, 1000*Vd*$B21/(2*J$13*$C21)),"NOK") -> 30.643556 | K21: =IF(K$12>$C21,IF(1000*Vd*$B21/(2*K$13*$C21)>$E$6,">"&$E$6, 1000*Vd*$B21/(2*K$13*$C21)),"NOK") -> 38.801905 | ... AM21: =IF(AM$12>$C21,IF(1000*Vd*$B21/(2*AM$13*$C21)>$E$6,">"&$E$6, 1000*Vd*$B21/(2*AM$13*$C21)),"NOK") -> >100
B22: 48 | C22: 80 | D22: =IF(D$12>$C22,IF(1000*Vd*$B22/(2*D$13*$C22)>$E$6,">"&$E$6, 1000*Vd*$B22/(2*D$13*$C22)),"NOK") -> NOK | E22: =IF(E$12>$C22,IF(1000*Vd*$B22/(2*E$13*$C22)>$E$6,">"&$E$6, 1000*Vd*$B22/(2*E$13*$C22)),"NOK") -> NOK | F22: =IF(F$12>$C22,IF(1000*Vd*$B22/(2*F$13*$C22)>$E$6,">"&$E$6, 1000*Vd*$B22/(2*F$13*$C22)),"NOK") -> NOK | G22: =IF(G$12>$C22,IF(1000*Vd*$B22/(2*G$13*$C22)>$E$6,">"&$E$6, 1000*Vd*$B22/(2*G$13*$C22)),"NOK") -> 8.8954652 | H22: =IF(H$12>$C22,IF(1000*Vd*$B22/(2*H$13*$C22)>$E$6,">"&$E$6, 1000*Vd*$B22/(2*H$13*$C22)),"NOK") -> 12.035041 | I22: =IF(I$12>$C22,IF(1000*Vd*$B22/(2*I$13*$C22)>$E$6,">"&$E$6, 1000*Vd*$B22/(2*I$13*$C22)),"NOK") -> 17.428523 | J22: =IF(J$12>$C22,IF(1000*Vd*$B22/(2*J$13*$C22)>$E$6,">"&$E$6, 1000*Vd*$B22/(2*J$13*$C22)),"NOK") -> 24.1318 | K22: =IF(K$12>$C22,IF(1000*Vd*$B22/(2*K$13*$C22)>$E$6,">"&$E$6, 1000*Vd*$B22/(2*K$13*$C22)),"NOK") -> 30.556501 | ... AM22: =IF(AM$12>$C22,IF(1000*Vd*$B22/(2*AM$13*$C22)>$E$6,">"&$E$6, 1000*Vd*$B22/(2*AM$13*$C22)),"NOK") -> >100
B23: 48 | C23: 100 | D23: =IF(D$12>$C23,IF(1000*Vd*$B23/(2*D$13*$C23)>$E$6,">"&$E$6, 1000*Vd*$B23/(2*D$13*$C23)),"NOK") -> NOK | E23: =IF(E$12>$C23,IF(1000*Vd*$B23/(2*E$13*$C23)>$E$6,">"&$E$6, 1000*Vd*$B23/(2*E$13*$C23)),"NOK") -> NOK | F23: =IF(F$12>$C23,IF(1000*Vd*$B23/(2*F$13*$C23)>$E$6,">"&$E$6, 1000*Vd*$B23/(2*F$13*$C23)),"NOK") -> NOK | G23: =IF(G$12>$C23,IF(1000*Vd*$B23/(2*G$13*$C23)>$E$6,">"&$E$6, 1000*Vd*$B23/(2*G$13*$C23)),"NOK") -> NOK | H23: =IF(H$12>$C23,IF(1000*Vd*$B23/(2*H$13*$C23)>$E$6,">"&$E$6, 1000*Vd*$B23/(2*H$13*$C23)),"NOK") -> 9.6280329 | I23: =IF(I$12>$C23,IF(1000*Vd*$B23/(2*I$13*$C23)>$E$6,">"&$E$6, 1000*Vd*$B23/(2*I$13*$C23)),"NOK") -> 13.942818 | J23: =IF(J$12>$C23,IF(1000*Vd*$B23/(2*J$13*$C23)>$E$6,">"&$E$6, 1000*Vd*$B23/(2*J$13*$C23)),"NOK") -> 19.30544 | K23: =IF(K$12>$C23,IF(1000*Vd*$B23/(2*K$13*$C23)>$E$6,">"&$E$6, 1000*Vd*$B23/(2*K$13*$C23)),"NOK") -> 24.4452 | ... AM23: =IF(AM$12>$C23,IF(1000*Vd*$B23/(2*AM$13*$C23)>$E$6,">"&$E$6, 1000*Vd*$B23/(2*AM$13*$C23)),"NOK") -> >100
B24: 48 | C24: 125 | D24: =IF(D$12>$C24,IF(1000*Vd*$B24/(2*D$13*$C24)>$E$6,">"&$E$6, 1000*Vd*$B24/(2*D$13*$C24)),"NOK") -> NOK | E24: =IF(E$12>$C24,IF(1000*Vd*$B24/(2*E$13*$C24)>$E$6,">"&$E$6, 1000*Vd*$B24/(2*E$13*$C24)),"NOK") -> NOK | F24: =IF(F$12>$C24,IF(1000*Vd*$B24/(2*F$13*$C24)>$E$6,">"&$E$6, 1000*Vd*$B24/(2*F$13*$C24)),"NOK") -> NOK | G24: =IF(G$12>$C24,IF(1000*Vd*$B24/(2*G$13*$C24)>$E$6,">"&$E$6, 1000*Vd*$B24/(2*G$13*$C24)),"NOK") -> NOK | H24: =IF(H$12>$C24,IF(1000*Vd*$B24/(2*H$13*$C24)>$E$6,">"&$E$6, 1000*Vd*$B24/(2*H$13*$C24)),"NOK") -> NOK | I24: =IF(I$12>$C24,IF(1000*Vd*$B24/(2*I$13*$C24)>$E$6,">"&$E$6, 1000*Vd*$B24/(2*I$13*$C24)),"NOK") -> 11.154254 | J24: =IF(J$12>$C24,IF(1000*Vd*$B24/(2*J$13*$C24)>$E$6,">"&$E$6, 1000*Vd*$B24/(2*J$13*$C24)),"NOK") -> 15.444352 | K24: =IF(K$12>$C24,IF(1000*Vd*$B24/(2*K$13*$C24)>$E$6,">"&$E$6, 1000*Vd*$B24/(2*K$13*$C24)),"NOK") -> 19.55616 | ... AM24: =IF(AM$12>$C24,IF(1000*Vd*$B24/(2*AM$13*$C24)>$E$6,">"&$E$6, 1000*Vd*$B24/(2*AM$13*$C24)),"NOK") -> >100
B25: 48 | C25: 160 | D25: =IF(D$12>$C25,IF(1000*Vd*$B25/(2*D$13*$C25)>$E$6,">"&$E$6, 1000*Vd*$B25/(2*D$13*$C25)),"NOK") -> NOK | E25: =IF(E$12>$C25,IF(1000*Vd*$B25/(2*E$13*$C25)>$E$6,">"&$E$6, 1000*Vd*$B25/(2*E$13*$C25)),"NOK") -> NOK | F25: =IF(F$12>$C25,IF(1000*Vd*$B25/(2*F$13*$C25)>$E$6,">"&$E$6, 1000*Vd*$B25/(2*F$13*$C25)),"NOK") -> NOK | G25: =IF(G$12>$C25,IF(1000*Vd*$B25/(2*G$13*$C25)>$E$6,">"&$E$6, 1000*Vd*$B25/(2*G$13*$C25)),"NOK") -> NOK | H25: =IF(H$12>$C25,IF(1000*Vd*$B25/(2*H$13*$C25)>$E$6,">"&$E$6, 1000*Vd*$B25/(2*H$13*$C25)),"NOK") -> NOK | I25: =IF(I$12>$C25,IF(1000*Vd*$B25/(2*I$13*$C25)>$E$6,">"&$E$6, 1000*Vd*$B25/(2*I$13*$C25)),"NOK") -> NOK | J25: =IF(J$12>$C25,IF(1000*Vd*$B25/(2*J$13*$C25)>$E$6,">"&$E$6, 1000*Vd*$B25/(2*J$13*$C25)),"NOK") -> 12.0659 | K25: =IF(K$12>$C25,IF(1000*Vd*$B25/(2*K$13*$C25)>$E$6,">"&$E$6, 1000*Vd*$B25/(2*K$13*$C25)),"NOK") -> 15.27825 | ... AM25: =IF(AM$12>$C25,IF(1000*Vd*$B25/(2*AM$13*$C25)>$E$6,">"&$E$6, 1000*Vd*$B25/(2*AM$13*$C25)),"NOK") -> >100
B26: 48 | C26: 200 | D26: =IF(D$12>$C26,IF(1000*Vd*$B26/(2*D$13*$C26)>$E$6,">"&$E$6, 1000*Vd*$B26/(2*D$13*$C26)),"NOK") -> NOK | E26: =IF(E$12>$C26,IF(1000*Vd*$B26/(2*E$13*$C26)>$E$6,">"&$E$6, 1000*Vd*$B26/(2*E$13*$C26)),"NOK") -> NOK | F26: =IF(F$12>$C26,IF(1000*Vd*$B26/(2*F$13*$C26)>$E$6,">"&$E$6, 1000*Vd*$B26/(2*F$13*$C26)),"NOK") -> NOK | G26: =IF(G$12>$C26,IF(1000*Vd*$B26/(2*G$13*$C26)>$E$6,">"&$E$6, 1000*Vd*$B26/(2*G$13*$C26)),"NOK") -> NOK | H26: =IF(H$12>$C26,IF(1000*Vd*$B26/(2*H$13*$C26)>$E$6,">"&$E$6, 1000*Vd*$B26/(2*H$13*$C26)),"NOK") -> NOK | I26: =IF(I$12>$C26,IF(1000*Vd*$B26/(2*I$13*$C26)>$E$6,">"&$E$6, 1000*Vd*$B26/(2*I$13*$C26)),"NOK") -> NOK | J26: =IF(J$12>$C26,IF(1000*Vd*$B26/(2*J$13*$C26)>$E$6,">"&$E$6, 1000*Vd*$B26/(2*J$13*$C26)),"NOK") -> NOK | K26: =IF(K$12>$C26,IF(1000*Vd*$B26/(2*K$13*$C26)>$E$6,">"&$E$6, 1000*Vd*$B26/(2*K$13*$C26)),"NOK") -> 12.2226 | ... AM26: =IF(AM$12>$C26,IF(1000*Vd*$B26/(2*AM$13*$C26)>$E$6,">"&$E$6, 1000*Vd*$B26/(2*AM$13*$C26)),"NOK") -> 93.028687
... B39: 48 | C39: 4000 | D39: =IF(D$12>$C39,IF(1000*Vd*$B39/(2*D$13*$C39)>$E$6,">"&$E$6, 1000*Vd*$B39/(2*D$13*$C39)),"NOK") -> NOK | E39: =IF(E$12>$C39,IF(1000*Vd*$B39/(2*E$13*$C39)>$E$6,">"&$E$6, 1000*Vd*$B39/(2*E$13*$C39)),"NOK") -> NOK | F39: =IF(F$12>$C39,IF(1000*Vd*$B39/(2*F$13*$C39)>$E$6,">"&$E$6, 1000*Vd*$B39/(2*F$13*$C39)),"NOK") -> NOK | G39: =IF(G$12>$C39,IF(1000*Vd*$B39/(2*G$13*$C39)>$E$6,">"&$E$6, 1000*Vd*$B39/(2*G$13*$C39)),"NOK") -> NOK | H39: =IF(H$12>$C39,IF(1000*Vd*$B39/(2*H$13*$C39)>$E$6,">"&$E$6, 1000*Vd*$B39/(2*H$13*$C39)),"NOK") -> NOK | I39: =IF(I$12>$C39,IF(1000*Vd*$B39/(2*I$13*$C39)>$E$6,">"&$E$6, 1000*Vd*$B39/(2*I$13*$C39)),"NOK") -> NOK | J39: =IF(J$12>$C39,IF(1000*Vd*$B39/(2*J$13*$C39)>$E$6,">"&$E$6, 1000*Vd*$B39/(2*J$13*$C39)),"NOK") -> NOK | K39: =IF(K$12>$C39,IF(1000*Vd*$B39/(2*K$13*$C39)>$E$6,">"&$E$6, 1000*Vd*$B39/(2*K$13*$C39)),"NOK") -> NOK | ... AM39: =IF(AM$12>$C39,IF(1000*Vd*$B39/(2*AM$13*$C39)>$E$6,">"&$E$6, 1000*Vd*$B39/(2*AM$13*$C39)),"NOK") -> NOK

Sheet ABB MOTOR DATA Ex na
B2: ABB LV 690V, 50Hz, 1500rpm, Ex na IIB/IIC, IP55, IC 411, Insulation class F, temperature rise class B, IE2
B3: Number of poles | C3: Voltage | D3: Design | E3: Output kW | F3: Motor type | G3: IEC Frame Size | H3: Frame Type | I3: Speed | J3: Efficiency at | L3: Power factor | M3: Current | O3: Torque | R3: Moment of inertia | S3: Weight | T3: Sound pressure level LP | U3: Max.conn cable area
E4: 50 Hz | I4: r/min | J4: FL | K4: 3/4 | L4: cos phi | M4: IN | N4: IS/IN | O4: TN | P4: TS/TN | Q4: Tmax/TN | R4: J=1/4GD2 | S4: Ex na
C5: V | J5: 1 | K5: 0.75 | M5: A | O5: Nm | R5: kgm2 | S5: kg | T5: dB(A) | U5: mm2
B6: 4 poles | C6: 690 | D6: Basic | E6: 0.55 | F6: M3GP 80 MA | I6: 1421 | J6: 0.754 | K6: 0.754 | L6: 0.76 | M6: 1.38 | N6: 4.9 | O6: 3.6 | P6: 2.3 | Q6: 2.7 | R6: 0.001 | S6: 38 | T6: 59
B7: 4 poles | C7: 690 | D7: Basic | E7: 0.75 | F7: M3GP 80 MB | I7: 1412 | J7: 0.804 | K7: 0.805 | L7: 0.76 | M7: 1.77 | N7: 5.2 | O7: 5 | P7: 2.2 | Q7: 2.7 | R7: 0.0012 | S7: 38 | T7: 59
B8: 4 poles | C8: 690 | D8: Basic | E8: 1.1 | F8: M3GP 90 SLA | I8: 1435 | J8: 0.818 | K8: 0.818 | L8: 0.81 | M8: 2.3 | N8: 5.9 | O8: 7.3 | P8: 2.8 | Q8: 3.5 | R8: 0.002 | S8: 51 | T8: 54
B9: 4 poles | C9: 690 | D9: Basic | E9: 1.5 | F9: M3GP 90 SLC | I9: 1431 | J9: 0.832 | K9: 0.288 | L9: 0.79 | M9: 3.2 | N9: 6.5 | O9: 10 | P9: 2.3 | Q9: 3 | R9: 0.003 | S9: 53 | T9: 54
B10: 4 poles | C10: 690 | D10: Basic | E10: 2.2 | F10: M3GP 100 LA | I10: 1441 | J10: 0.847 | K10: 0.856 | L10: 0.86 | M10: 4.3 | N10: 7 | O10: 14.5 | P10: 2.7 | Q10: 3.3 | R10: 0.0075 | S10: 61 | T10: 52
B11: 4 poles | C11: 690 | D11: Basic | E11: 3 | F11: M3GP 100 LB | I11: 1442 | J11: 0.857 | K11: 0.865 | L11: 0.83 | M11: 6 | N11: 7 | O11: 19.8 | P11: 2.7 | Q11: 3.4 | R11: 0.0081 | S11: 63 | T11: 52
B12: 4 poles | C12: 690 | D12: Basic | E12: 4 | F12: M3GP 112 MC | I12: 1455 | J12: 0.869 | K12: 0.864 | L12: 0.76 | M12: 8.7 | N12: 8.3 | O12: 26.2 | P12: 3 | Q12: 3.8 | R12: 0.013 | S12: 72 | T12: 52
B13: 4 poles | C13: 690 | D13: Basic | E13: 5.5 | F13: M3GP 132 SMB | I13: 1458 | J13: 0.877 | K13: 0.878 | L13: 0.79 | M13: 11.4 | N13: 7 | O13: 36 | P13: 3 | Q13: 3.5 | R13: 0.023 | S13: 102 | T13: 60
B14: 4 poles | C14: 690 | D14: Basic | E14: 7.5 | F14: M3GP 132 SMD | I14: 1460 | J14: 0.891 | K14: 0.891 | L14: 0.75 | M14: 16.1 | N14: 6.8 | O14: 49 | P14: 3.3 | Q14: 3.7 | R14: 0.034 | S14: 111 | T14: 60
B15: 4 poles | C15: 690 | D15: Basic | E15: 11 | F15: M3GP 160 MLC | I15: 1470 | J15: 0.912 | K15: 0.915 | L15: 0.82 | M15: 21.2 | N15: 7.8 | O15: 71.4 | P15: 3 | Q15: 3.5 | R15: 0.096 | S15: 226 | T15: 62
B16: 4 poles | C16: 690 | D16: Basic | E16: 15 | F16: M3GP 160 MLE | I16: 1467 | J16: 0.92 | K16: 0.924 | L16: 0.84 | M16: 28 | N16: 7.8 | O16: 97.6 | P16: 3 | Q16: 3.4 | R16: 0.13 | S16: 249 | T16: 61
B17: 4 poles | C17: 690 | D17: Basic | E17: 18.5 | F17: M3GP 180 MLA | I17: 1474 | J17: 0.916 | K17: 0.92 | L17: 0.83 | M17: 35.1 | N17: 7.2 | O17: 119.6 | P17: 2.6 | Q17: 3.1 | R17: 0.19 | S17: 271 | T17: 62
... B43: 4 poles | C43: 690 | D43: Basic | E43: 1000 | F43: M3GP 450 LC | I43: 1491 | J43: 0.972 | K43: 0.972 | L43: 0.86 | M43: 1726 | N43: 6.8 | O43: 6404 | P43: 1.3 | Q43: 2.7 | R43: 30 | S43: 4700 | T43: 85
B44: 4 poles | C44: 690 | D44: High Output | E44: 18.5 | F44: M3GP 160 MLF | I44: 1469 | J44: 0.917 | K44: 0.921 | L44: 0.83 | M44: 35 | N44: 7.8 | O44: 120 | P44: 3.2 | Q44: 3.5 | R44: 0.13 | S44: 249 | T44: 68
B45: 4 poles | C45: 690 | D45: High Output | E45: 22 | F45: M3GP 160 MLG | I45: 1466 | J45: 0.908 | K45: 0.911 | L45: 0.81 | M45: 43.1 | N45: 7.9 | O45: 143 | P45: 3.3 | Q45: 3.6 | R45: 0.13 | S45: 249 | T45: 68
B46: 4 poles | C46: 690 | D46: High Output | E46: 30 | F46: M3GP 180 MLC | I46: 1473 | J46: 0.922 | K46: 0.923 | L46: 0.81 | M46: 57.9 | N46: 7.1 | O46: 194 | P46: 2.8 | Q46: 3.2 | R46: 0.248 | S46: 298 | T46: 66
B47: 4 poles | C47: 690 | D47: High Output | E47: 37 | F47: M3GP 200 MLC | I47: 1475 | J47: 0.93 | K47: 0.931 | L47: 0.82 | M47: 70 | N47: 7.5 | O47: 239 | P47: 3.5 | Q47: 3.2 | R47: 0.34 | S47: 305 | T47: 73
B48: 4 poles | C48: 690 | D48: High Output | E48: 55 | F48: M3GP 225 SMD | I48: 1483 | J48: 0.943 | K48: 0.945 | L48: 0.83 | M48: 101 | N48: 7.4 | O48: 354 | P48: 3.4 | Q48: 2.9 | R48: 0.55 | S48: 410 | T48: 68
B49: 4 poles | C49: 690 | D49: High Output | E49: 60 | F49: M3GP 225 SME | I49: 1479 | J49: 0.936 | K49: 0.937 | L49: 0.84 | M49: 110 | N49: 8 | O49: 387 | P49: 3.6 | Q49: 3 | R49: 0.55 | S49: 410 | T49: 74
B50: 4 poles | C50: 690 | D50: High Output | E50: 75 | F50: M3GP 250 SMB | I50: 1476 | J50: 0.943 | K50: 0.945 | L50: 0.86 | M50: 133 | N50: 7.6 | O50: 485 | P50: 2.8 | Q50: 3.2 | R50: 0.88 | S50: 470 | T50: 73
B51: 4 poles | C51: 690 | D51: High Output | E51: 86 | F51: M3GP 250 SMC | I51: 1477 | J51: 0.941 | K51: 0.944 | L51: 0.85 | M51: 155 | N51: 7.8 | O51: 556 | P51: 2.9 | Q51: 3.5 | R51: 0.98 | S51: 495 | T51: 74
B52: 4 poles | C52: 690 | D52: High Output | E52: 110 | F52: M3GP 280 SMC | I52: 1485 | J52: 0.951 | K52: 0.952 | L52: 0.86 | M52: 194 | N52: 7.6 | O52: 707 | P52: 3 | Q52: 3 | R52: 1.85 | S52: 725 | T52: 68

Sheet CIRCUIT PRYSMIAN
B2: PRYSMIAN Cables according to NEK 606 III ed. 2004 & IEC 60092-300 (series)
B3: TEOF RFOU
B4: Designation | C4: nb of circuit | D4: nb of wire/circuit | E4: nb of core/wire | F4: Cross section core | G4: Cable standard | H4: Wire overall diameter approx. | I4: Circuit overall width | J4: Wire net weight approx. | K4: Circuit net weight approx | L4: Wire D.C. resistance at 20 °C max. as per IEC 60228 | M4: Wire D.C. resistance at 90°C Correcting factor = (234,5+90)/254,5 | N4: Circuit D.C. resistance at 90°C | O4: Wire Current carrying capacities 45 °C free air | P4: Circuit current carrying capacity 45°C free air | Q4: Wire Fault current at 250 °C | R4: Circuit Fault current at 250 °C | S4: Wire Reactance** at 50 Hz | T4: Circuit Reactance** at 50 Hz | U4: Wire Reactance** at 60 Hz | V4: Wire Reactance** at 60 Hz
F5: mm² | G5: n x mm2 | H5: mm | J5: kg/km | K5: kg/km | L5: Ohm/km | M5: Ohm/km | N5: Ohm/km | O5: A | P5: A | Q5: kA | R5: kA | S5: Ohm/km | T5: Ohm/km | U5: Ohm/km | V5: Ohm/km
B6: =IF(C6=1,IF(D6=1,E6&" x "&F6&" mm²",D6&" x "&E6&" x "&F6&" mm²"),IF(D6=1,C6&" x "&E6&" x "&F6&" mm²",C6&" x "&D6&" x "&E6&" x "&F6&" mm²")) -> 3 x 2,5 mm² | C6: 1 | D6: 1 | E6: 3 | F6: 2.5 | G6: =IF(COUNTIF('CABLE DATA PRYSMIAN'!$E$6:$E$68,'CIRCUIT PRYSMIAN'!E6&" x "&'CIRCUIT PRYSMIAN'!F6&" mm²")<>0,E6&" x "&F6&" mm²","does not exist") -> 3 x 2,5 mm² | H6: =VLOOKUP($G6,'CABLE DATA PRYSMIAN'!$E$6:$M$68,2,0) -> 15.6 | I6: =IF(E6=1,(3*C6-1)*H6,C6*D6*H6) -> 15.6 | J6: =VLOOKUP($G6,'CABLE DATA PRYSMIAN'!$E$6:$M$68,3,0) -> 415 | K6: =C6*D6*J6 -> 415 | L6: =VLOOKUP($G6,'CABLE DATA PRYSMIAN'!$E$6:$M$68,4,0) -> 7.56 | M6: =L6*(234.5+90)/254.5 -> 9.6393713 | N6: =M6/C6 -> 9.6393713 | O6: =VLOOKUP($G6,'CABLE DATA PRYSMIAN'!$E$6:$M$68,6,0) -> 28 | P6: =O6*$C6 -> 28 | Q6: =VLOOKUP($G6,'CABLE DATA PRYSMIAN'!$E$6:$M$68,7,0) -> 0.36 | R6: =Q6*$C6 -> 0.36 | S6: =VLOOKUP($G6,'CABLE DATA PRYSMIAN'!$E$6:$M$68,8,0) -> 0.104 | T6: =S6/$C6 -> 0.104 | U6: =VLOOKUP($G6,'CABLE DATA PRYSMIAN'!$E$6:$M$68,9,0) -> 0.124 | V6: =U6/$C6 -> 0.124
B7: =IF(C7=1,IF(D7=1,E7&" x "&F7&" mm²",D7&" x "&E7&" x "&F7&" mm²"),IF(D7=1,C7&" x "&E7&" x "&F7&" mm²",C7&" x "&D7&" x "&E7&" x "&F7&" mm²")) -> 3 x 4 mm² | C7: 1 | D7: 1 | E7: 3 | F7: 4 | G7: =IF(COUNTIF('CABLE DATA PRYSMIAN'!$E$6:$E$68,'CIRCUIT PRYSMIAN'!E7&" x "&'CIRCUIT PRYSMIAN'!F7&" mm²")<>0,E7&" x "&F7&" mm²","does not exist") -> 3 x 4 mm² | H7: =VLOOKUP($G7,'CABLE DATA PRYSMIAN'!$E$6:$M$68,2,0) -> 16.8 | I7: =IF(E7=1,(3*C7-1)*H7,C7*D7*H7) -> 16.8 | J7: =VLOOKUP($G7,'CABLE DATA PRYSMIAN'!$E$6:$M$68,3,0) -> 500 | K7: =C7*D7*J7 -> 500 | L7: =VLOOKUP($G7,'CABLE DATA PRYSMIAN'!$E$6:$M$68,4,0) -> 4.7 | M7: =L7*(234.5+90)/254.5 -> 5.9927308 | N7: =M7/C7 -> 5.9927308 | O7: =VLOOKUP($G7,'CABLE DATA PRYSMIAN'!$E$6:$M$68,6,0) -> 37 | P7: =O7*C7 -> 37 | Q7: =VLOOKUP($G7,'CABLE DATA PRYSMIAN'!$E$6:$M$68,7,0) -> 0.57 | R7: =Q7*$C7 -> 0.57 | S7: =VLOOKUP($G7,'CABLE DATA PRYSMIAN'!$E$6:$M$68,8,0) -> 0.096 | T7: =S7/$C7 -> 0.096 | U7: =VLOOKUP($G7,'CABLE DATA PRYSMIAN'!$E$6:$M$68,9,0) -> 0.116 | V7: =U7/$C7 -> 0.116
B8: =IF(C8=1,IF(D8=1,E8&" x "&F8&" mm²",D8&" x "&E8&" x "&F8&" mm²"),IF(D8=1,C8&" x "&E8&" x "&F8&" mm²",C8&" x "&D8&" x "&E8&" x "&F8&" mm²")) -> 3 x 6 mm² | C8: 1 | D8: 1 | E8: 3 | F8: 6 | G8: =IF(COUNTIF('CABLE DATA PRYSMIAN'!$E$6:$E$68,'CIRCUIT PRYSMIAN'!E8&" x "&'CIRCUIT PRYSMIAN'!F8&" mm²")<>0,E8&" x "&F8&" mm²","does not exist") -> 3 x 6 mm² | H8: =VLOOKUP($G8,'CABLE DATA PRYSMIAN'!$E$6:$M$68,2,0) -> 18.1 | I8: =IF(E8=1,(3*C8-1)*H8,C8*D8*H8) -> 18.1 | J8: =VLOOKUP($G8,'CABLE DATA PRYSMIAN'!$E$6:$M$68,3,0) -> 605 | K8: =C8*D8*J8 -> 605 | L8: =VLOOKUP($G8,'CABLE DATA PRYSMIAN'!$E$6:$M$68,4,0) -> 3.11 | M8: =L8*(234.5+90)/254.5 -> 3.9654028 | N8: =M8/C8 -> 3.9654028 | O8: =VLOOKUP($G8,'CABLE DATA PRYSMIAN'!$E$6:$M$68,6,0) -> 47 | P8: =O8*C8 -> 47 | Q8: =VLOOKUP($G8,'CABLE DATA PRYSMIAN'!$E$6:$M$68,7,0) -> 0.86 | R8: =Q8*$C8 -> 0.86 | S8: =VLOOKUP($G8,'CABLE DATA PRYSMIAN'!$E$6:$M$68,8,0) -> 0.091 | T8: =S8/$C8 -> 0.091 | U8: =VLOOKUP($G8,'CABLE DATA PRYSMIAN'!$E$6:$M$68,9,0) -> 0.109 | V8: =U8/$C8 -> 0.109
B9: =IF(C9=1,IF(D9=1,E9&" x "&F9&" mm²",D9&" x "&E9&" x "&F9&" mm²"),IF(D9=1,C9&" x "&E9&" x "&F9&" mm²",C9&" x "&D9&" x "&E9&" x "&F9&" mm²")) -> 3 x 10 mm² | C9: 1 | D9: 1 | E9: 3 | F9: 10 | G9: =IF(COUNTIF('CABLE DATA PRYSMIAN'!$E$6:$E$68,'CIRCUIT PRYSMIAN'!E9&" x "&'CIRCUIT PRYSMIAN'!F9&" mm²")<>0,E9&" x "&F9&" mm²","does not exist") -> 3 x 10 mm² | H9: =VLOOKUP($G9,'CABLE DATA PRYSMIAN'!$E$6:$M$68,2,0) -> 20.3 | I9: =IF(E9=1,(3*C9-1)*H9,C9*D9*H9) -> 20.3 | J9: =VLOOKUP($G9,'CABLE DATA PRYSMIAN'!$E$6:$M$68,3,0) -> 795 | K9: =C9*D9*J9 -> 795 | L9: =VLOOKUP($G9,'CABLE DATA PRYSMIAN'!$E$6:$M$68,4,0) -> 1.84 | M9: =L9*(234.5+90)/254.5 -> 2.3460904 | N9: =M9/C9 -> 2.3460904 | O9: =VLOOKUP($G9,'CABLE DATA PRYSMIAN'!$E$6:$M$68,6,0) -> 65 | P9: =O9*C9 -> 65 | Q9: =VLOOKUP($G9,'CABLE DATA PRYSMIAN'!$E$6:$M$68,7,0) -> 1.43 | R9: =Q9*$C9 -> 1.43 | S9: =VLOOKUP($G9,'CABLE DATA PRYSMIAN'!$E$6:$M$68,8,0) -> 0.085 | T9: =S9/$C9 -> 0.085 | U9: =VLOOKUP($G9,'CABLE DATA PRYSMIAN'!$E$6:$M$68,9,0) -> 0.102 | V9: =U9/$C9 -> 0.102
B10: =IF(C10=1,IF(D10=1,E10&" x "&F10&" mm²",D10&" x "&E10&" x "&F10&" mm²"),IF(D10=1,C10&" x "&E10&" x "&F10&" mm²",C10&" x "&D10&" x "&E10&" x "&F10&" mm²")) -> 3 x 16 mm² | C10: 1 | D10: 1 | E10: 3 | F10: 16 | G10: =IF(COUNTIF('CABLE DATA PRYSMIAN'!$E$6:$E$68,'CIRCUIT PRYSMIAN'!E10&" x "&'CIRCUIT PRYSMIAN'!F10&" mm²")<>0,E10&" x "&F10&" mm²","does not exist") -> 3 x 16 mm² | H10: =VLOOKUP($G10,'CABLE DATA PRYSMIAN'!$E$6:$M$68,2,0) -> 22.8 | I10: =IF(E10=1,(3*C10-1)*H10,C10*D10*H10) -> 22.8 | J10: =VLOOKUP($G10,'CABLE DATA PRYSMIAN'!$E$6:$M$68,3,0) -> 1125 | K10: =C10*D10*J10 -> 1125 | L10: =VLOOKUP($G10,'CABLE DATA PRYSMIAN'!$E$6:$M$68,4,0) -> 1.16 | M10: =L10*(234.5+90)/254.5 -> 1.479057 | N10: =M10/C10 -> 1.479057 | O10: =VLOOKUP($G10,'CABLE DATA PRYSMIAN'!$E$6:$M$68,6,0) -> 87 | P10: =O10*C10 -> 87 | Q10: =VLOOKUP($G10,'CABLE DATA PRYSMIAN'!$E$6:$M$68,7,0) -> 2.29 | R10: =Q10*$C10 -> 2.29 | S10: =VLOOKUP($G10,'CABLE DATA PRYSMIAN'!$E$6:$M$68,8,0) -> 0.081 | T10: =S10/$C10 -> 0.081 | U10: =VLOOKUP($G10,'CABLE DATA PRYSMIAN'!$E$6:$M$68,9,0) -> 0.097 | V10: =U10/$C10 -> 0.097
B11: =IF(C11=1,IF(D11=1,E11&" x "&F11&" mm²",D11&" x "&E11&" x "&F11&" mm²"),IF(D11=1,C11&" x "&E11&" x "&F11&" mm²",C11&" x "&D11&" x "&E11&" x "&F11&" mm²")) -> 3 x 25 mm² | C11: 1 | D11: 1 | E11: 3 | F11: 25 | G11: =IF(COUNTIF('CABLE DATA PRYSMIAN'!$E$6:$E$68,'CIRCUIT PRYSMIAN'!E11&" x "&'CIRCUIT PRYSMIAN'!F11&" mm²")<>0,E11&" x "&F11&" mm²","does not exist") -> 3 x 25 mm² | H11: =VLOOKUP($G11,'CABLE DATA PRYSMIAN'!$E$6:$M$68,2,0) -> 27.5 | I11: =IF(E11=1,(3*C11-1)*H11,C11*D11*H11) -> 27.5 | J11: =VLOOKUP($G11,'CABLE DATA PRYSMIAN'!$E$6:$M$68,3,0) -> 1620 | K11: =C11*D11*J11 -> 1620 | L11: =VLOOKUP($G11,'CABLE DATA PRYSMIAN'!$E$6:$M$68,4,0) -> 0.734 | M11: =L11*(234.5+90)/254.5 -> 0.93588605 | N11: =M11/C11 -> 0.93588605 | O11: =VLOOKUP($G11,'CABLE DATA PRYSMIAN'!$E$6:$M$68,6,0) -> 110 | P11: =O11*C11 -> 110 | Q11: =VLOOKUP($G11,'CABLE DATA PRYSMIAN'!$E$6:$M$68,7,0) -> 3.58 | R11: =Q11*$C11 -> 3.58 | S11: =VLOOKUP($G11,'CABLE DATA PRYSMIAN'!$E$6:$M$68,8,0) -> 0.08 | T11: =S11/$C11 -> 0.08 | U11: =VLOOKUP($G11,'CABLE DATA PRYSMIAN'!$E$6:$M$68,9,0) -> 0.096 | V11: =U11/$C11 -> 0.096
B12: =IF(C12=1,IF(D12=1,E12&" x "&F12&" mm²",D12&" x "&E12&" x "&F12&" mm²"),IF(D12=1,C12&" x "&E12&" x "&F12&" mm²",C12&" x "&D12&" x "&E12&" x "&F12&" mm²")) -> 3 x 35 mm² | C12: 1 | D12: 1 | E12: 3 | F12: 35 | G12: =IF(COUNTIF('CABLE DATA PRYSMIAN'!$E$6:$E$68,'CIRCUIT PRYSMIAN'!E12&" x "&'CIRCUIT PRYSMIAN'!F12&" mm²")<>0,E12&" x "&F12&" mm²","does not exist") -> 3 x 35 mm² | H12: =VLOOKUP($G12,'CABLE DATA PRYSMIAN'!$E$6:$M$68,2,0) -> 29.6 | I12: =IF(E12=1,(3*C12-1)*H12,C12*D12*H12) -> 29.6 | J12: =VLOOKUP($G12,'CABLE DATA PRYSMIAN'!$E$6:$M$68,3,0) -> 1955 | K12: =C12*D12*J12 -> 1955 | L12: =VLOOKUP($G12,'CABLE DATA PRYSMIAN'!$E$6:$M$68,4,0) -> 0.529 | M12: =L12*(234.5+90)/254.5 -> 0.67450098 | N12: =M12/C12 -> 0.67450098 | O12: =VLOOKUP($G12,'CABLE DATA PRYSMIAN'!$E$6:$M$68,6,0) -> 137 | P12: =O12*C12 -> 137 | Q12: =VLOOKUP($G12,'CABLE DATA PRYSMIAN'!$E$6:$M$68,7,0) -> 5.01 | R12: =Q12*$C12 -> 5.01 | S12: =VLOOKUP($G12,'CABLE DATA PRYSMIAN'!$E$6:$M$68,8,0) -> 0.078 | T12: =S12/$C12 -> 0.078 | U12: =VLOOKUP($G12,'CABLE DATA PRYSMIAN'!$E$6:$M$68,9,0) -> 0.093 | V12: =U12/$C12 -> 0.093
B13: =IF(C13=1,IF(D13=1,E13&" x "&F13&" mm²",D13&" x "&E13&" x "&F13&" mm²"),IF(D13=1,C13&" x "&E13&" x "&F13&" mm²",C13&" x "&D13&" x "&E13&" x "&F13&" mm²")) -> 3 x 50 mm² | C13: 1 | D13: 1 | E13: 3 | F13: 50 | G13: =IF(COUNTIF('CABLE DATA PRYSMIAN'!$E$6:$E$68,'CIRCUIT PRYSMIAN'!E13&" x "&'CIRCUIT PRYSMIAN'!F13&" mm²")<>0,E13&" x "&F13&" mm²","does not exist") -> 3 x 50 mm² | H13: =VLOOKUP($G13,'CABLE DATA PRYSMIAN'!$E$6:$M$68,2,0) -> 33.9 | I13: =IF(E13=1,(3*C13-1)*H13,C13*D13*H13) -> 33.9 | J13: =VLOOKUP($G13,'CABLE DATA PRYSMIAN'!$E$6:$M$68,3,0) -> 2730 | K13: =C13*D13*J13 -> 2730 | L13: =VLOOKUP($G13,'CABLE DATA PRYSMIAN'!$E$6:$M$68,4,0) -> 0.391 | M13: =L13*(234.5+90)/254.5 -> 0.4985442 | N13: =M13/C13 -> 0.4985442 | O13: =VLOOKUP($G13,'CABLE DATA PRYSMIAN'!$E$6:$M$68,6,0) -> 167 | P13: =O13*C13 -> 167 | Q13: =VLOOKUP($G13,'CABLE DATA PRYSMIAN'!$E$6:$M$68,7,0) -> 7.15 | R13: =Q13*$C13 -> 7.15 | S13: =VLOOKUP($G13,'CABLE DATA PRYSMIAN'!$E$6:$M$68,8,0) -> 0.077 | T13: =S13/$C13 -> 0.077 | U13: =VLOOKUP($G13,'CABLE DATA PRYSMIAN'!$E$6:$M$68,9,0) -> 0.093 | V13: =U13/$C13 -> 0.093
B14: =IF(C14=1,IF(D14=1,E14&" x "&F14&" mm²",D14&" x "&E14&" x "&F14&" mm²"),IF(D14=1,C14&" x "&E14&" x "&F14&" mm²",C14&" x "&D14&" x "&E14&" x "&F14&" mm²")) -> 3 x 70 mm² | C14: 1 | D14: 1 | E14: 3 | F14: 70 | G14: =IF(COUNTIF('CABLE DATA PRYSMIAN'!$E$6:$E$68,'CIRCUIT PRYSMIAN'!E14&" x "&'CIRCUIT PRYSMIAN'!F14&" mm²")<>0,E14&" x "&F14&" mm²","does not exist") -> 3 x 70 mm² | H14: =VLOOKUP($G14,'CABLE DATA PRYSMIAN'!$E$6:$M$68,2,0) -> 38.4 | I14: =IF(E14=1,(3*C14-1)*H14,C14*D14*H14) -> 38.4 | J14: =VLOOKUP($G14,'CABLE DATA PRYSMIAN'!$E$6:$M$68,3,0) -> 3655 | K14: =C14*D14*J14 -> 3655 | L14: =VLOOKUP($G14,'CABLE DATA PRYSMIAN'!$E$6:$M$68,4,0) -> 0.27 | M14: =L14*(234.5+90)/254.5 -> 0.34426326 | N14: =M14/C14 -> 0.34426326 | O14: =VLOOKUP($G14,'CABLE DATA PRYSMIAN'!$E$6:$M$68,6,0) -> 214 | P14: =O14*C14 -> 214 | Q14: =VLOOKUP($G14,'CABLE DATA PRYSMIAN'!$E$6:$M$68,7,0) -> 10.01 | R14: =Q14*$C14 -> 10.01 | S14: =VLOOKUP($G14,'CABLE DATA PRYSMIAN'!$E$6:$M$68,8,0) -> 0.075 | T14: =S14/$C14 -> 0.075 | U14: =VLOOKUP($G14,'CABLE DATA PRYSMIAN'!$E$6:$M$68,9,0) -> 0.09 | V14: =U14/$C14 -> 0.09
B15: =IF(C15=1,IF(D15=1,E15&" x "&F15&" mm²",D15&" x "&E15&" x "&F15&" mm²"),IF(D15=1,C15&" x "&E15&" x "&F15&" mm²",C15&" x "&D15&" x "&E15&" x "&F15&" mm²")) -> 3 x 95 mm² | C15: 1 | D15: 1 | E15: 3 | F15: 95 | G15: =IF(COUNTIF('CABLE DATA PRYSMIAN'!$E$6:$E$68,'CIRCUIT PRYSMIAN'!E15&" x "&'CIRCUIT PRYSMIAN'!F15&" mm²")<>0,E15&" x "&F15&" mm²","does not exist") -> 3 x 95 mm² | H15: =VLOOKUP($G15,'CABLE DATA PRYSMIAN'!$E$6:$M$68,2,0) -> 43.8 | I15: =IF(E15=1,(3*C15-1)*H15,C15*D15*H15) -> 43.8 | J15: =VLOOKUP($G15,'CABLE DATA PRYSMIAN'!$E$6:$M$68,3,0) -> 4885 | K15: =C15*D15*J15 -> 4885 | L15: =VLOOKUP($G15,'CABLE DATA PRYSMIAN'!$E$6:$M$68,4,0) -> 0.195 | M15: =L15*(234.5+90)/254.5 -> 0.24863458 | N15: =M15/C15 -> 0.24863458 | O15: =VLOOKUP($G15,'CABLE DATA PRYSMIAN'!$E$6:$M$68,6,0) -> 259 | P15: =O15*C15 -> 259 | Q15: =VLOOKUP($G15,'CABLE DATA PRYSMIAN'!$E$6:$M$68,7,0) -> 13.59 | R15: =Q15*$C15 -> 13.59 | S15: =VLOOKUP($G15,'CABLE DATA PRYSMIAN'!$E$6:$M$68,8,0) -> 0.074 | T15: =S15/$C15 -> 0.074 | U15: =VLOOKUP($G15,'CABLE DATA PRYSMIAN'!$E$6:$M$68,9,0) -> 0.089 | V15: =U15/$C15 -> 0.089
B16: =IF(C16=1,IF(D16=1,E16&" x "&F16&" mm²",D16&" x "&E16&" x "&F16&" mm²"),IF(D16=1,C16&" x "&E16&" x "&F16&" mm²",C16&" x "&D16&" x "&E16&" x "&F16&" mm²")) -> 3 x 120 mm² | C16: 1 | D16: 1 | E16: 3 | F16: 120 | G16: =IF(COUNTIF('CABLE DATA PRYSMIAN'!$E$6:$E$68,'CIRCUIT PRYSMIAN'!E16&" x "&'CIRCUIT PRYSMIAN'!F16&" mm²")<>0,E16&" x "&F16&" mm²","does not exist") -> 3 x 120 mm² | H16: =VLOOKUP($G16,'CABLE DATA PRYSMIAN'!$E$6:$M$68,2,0) -> 47.6 | I16: =IF(E16=1,(3*C16-1)*H16,C16*D16*H16) -> 47.6 | J16: =VLOOKUP($G16,'CABLE DATA PRYSMIAN'!$E$6:$M$68,3,0) -> 6000 | K16: =C16*D16*J16 -> 6000 | L16: =VLOOKUP($G16,'CABLE DATA PRYSMIAN'!$E$6:$M$68,4,0) -> 0.154 | M16: =L16*(234.5+90)/254.5 -> 0.19635756 | N16: =M16/C16 -> 0.19635756 | O16: =VLOOKUP($G16,'CABLE DATA PRYSMIAN'!$E$6:$M$68,6,0) -> 301 | P16: =O16*C16 -> 301 | Q16: =VLOOKUP($G16,'CABLE DATA PRYSMIAN'!$E$6:$M$68,7,0) -> 17.16 | R16: =Q16*$C16 -> 17.16 | S16: =VLOOKUP($G16,'CABLE DATA PRYSMIAN'!$E$6:$M$68,8,0) -> 0.073 | T16: =S16/$C16 -> 0.073 | U16: =VLOOKUP($G16,'CABLE DATA PRYSMIAN'!$E$6:$M$68,9,0) -> 0.087 | V16: =U16/$C16 -> 0.087
B17: =IF(C17=1,IF(D17=1,E17&" x "&F17&" mm²",D17&" x "&E17&" x "&F17&" mm²"),IF(D17=1,C17&" x "&E17&" x "&F17&" mm²",C17&" x "&D17&" x "&E17&" x "&F17&" mm²")) -> 3 x 150 mm² | C17: 1 | D17: 1 | E17: 3 | F17: 150 | G17: =IF(COUNTIF('CABLE DATA PRYSMIAN'!$E$6:$E$68,'CIRCUIT PRYSMIAN'!E17&" x "&'CIRCUIT PRYSMIAN'!F17&" mm²")<>0,E17&" x "&F17&" mm²","does not exist") -> 3 x 150 mm² | H17: =VLOOKUP($G17,'CABLE DATA PRYSMIAN'!$E$6:$M$68,2,0) -> 52.4 | I17: =IF(E17=1,(3*C17-1)*H17,C17*D17*H17) -> 52.4 | J17: =VLOOKUP($G17,'CABLE DATA PRYSMIAN'!$E$6:$M$68,3,0) -> 7300 | K17: =C17*D17*J17 -> 7300 | L17: =VLOOKUP($G17,'CABLE DATA PRYSMIAN'!$E$6:$M$68,4,0) -> 0.126 | M17: =L17*(234.5+90)/254.5 -> 0.16065619 | N17: =M17/C17 -> 0.16065619 | O17: =VLOOKUP($G17,'CABLE DATA PRYSMIAN'!$E$6:$M$68,6,0) -> 347 | P17: =O17*C17 -> 347 | Q17: =VLOOKUP($G17,'CABLE DATA PRYSMIAN'!$E$6:$M$68,7,0) -> 21.45 | R17: =Q17*$C17 -> 21.45 | S17: =VLOOKUP($G17,'CABLE DATA PRYSMIAN'!$E$6:$M$68,8,0) -> 0.073 | T17: =S17/$C17 -> 0.073 | U17: =VLOOKUP($G17,'CABLE DATA PRYSMIAN'!$E$6:$M$68,9,0) -> 0.087 | V17: =U17/$C17 -> 0.087
B18: =IF(C18=1,IF(D18=1,E18&" x "&F18&" mm²",D18&" x "&E18&" x "&F18&" mm²"),IF(D18=1,C18&" x "&E18&" x "&F18&" mm²",C18&" x "&D18&" x "&E18&" x "&F18&" mm²")) -> 3 x 185 mm² | C18: 1 | D18: 1 | E18: 3 | F18: 185 | G18: =IF(COUNTIF('CABLE DATA PRYSMIAN'!$E$6:$E$68,'CIRCUIT PRYSMIAN'!E18&" x "&'CIRCUIT PRYSMIAN'!F18&" mm²")<>0,E18&" x "&F18&" mm²","does not exist") -> 3 x 185 mm² | H18: =VLOOKUP($G18,'CABLE DATA PRYSMIAN'!$E$6:$M$68,2,0) -> 58.6 | I18: =IF(E18=1,(3*C18-1)*H18,C18*D18*H18) -> 58.6 | J18: =VLOOKUP($G18,'CABLE DATA PRYSMIAN'!$E$6:$M$68,3,0) -> 8960 | K18: =C18*D18*J18 -> 8960 | L18: =VLOOKUP($G18,'CABLE DATA PRYSMIAN'!$E$6:$M$68,4,0) -> 0.1 | M18: =L18*(234.5+90)/254.5 -> 0.12750491 | N18: =M18/C18 -> 0.12750491 | O18: =VLOOKUP($G18,'CABLE DATA PRYSMIAN'!$E$6:$M$68,6,0) -> 397 | P18: =O18*C18 -> 397 | Q18: =VLOOKUP($G18,'CABLE DATA PRYSMIAN'!$E$6:$M$68,7,0) -> 26.46 | R18: =Q18*$C18 -> 26.46 | S18: =VLOOKUP($G18,'CABLE DATA PRYSMIAN'!$E$6:$M$68,8,0) -> 0.073 | T18: =S18/$C18 -> 0.073 | U18: =VLOOKUP($G18,'CABLE DATA PRYSMIAN'!$E$6:$M$68,9,0) -> 0.087 | V18: =U18/$C18 -> 0.087
... B49: =IF(C49=1,IF(D49=1,E49&" x "&F49&" mm²",D49&" x "&E49&" x "&F49&" mm²"),IF(D49=1,C49&" x "&E49&" x "&F49&" mm²",C49&" x "&D49&" x "&E49&" x "&F49&" mm²")) -> 6 x 3 x 1 x 630 mm² | C49: 6 | D49: 3 | E49: 1 | F49: 630 | G49: =IF(COUNTIF('CABLE DATA PRYSMIAN'!$E$6:$E$68,'CIRCUIT PRYSMIAN'!E49&" x "&'CIRCUIT PRYSMIAN'!F49&" mm²")<>0,E49&" x "&F49&" mm²","does not exist") -> 1 x 630 mm² | H49: =VLOOKUP($G49,'CABLE DATA PRYSMIAN'!$E$6:$M$68,2,0) -> 0 | I49: =IF(E49=1,(3*C49-1)*H49,C49*D49*H49) -> 0 | J49: =VLOOKUP($G49,'CABLE DATA PRYSMIAN'!$E$6:$M$68,3,0) -> 0 | K49: =C49*D49*J49 -> 0 | L49: =VLOOKUP($G49,'CABLE DATA PRYSMIAN'!$E$6:$M$68,4,0) -> 0.0283 | M49: =L49*(234.5+90)/254.5 -> 0.03608389 | N49: =M49/C49 -> 0.0060139817 | O49: =VLOOKUP($G49,'CABLE DATA PRYSMIAN'!$E$6:$M$68,6,0) -> 0 | P49: =O49*C49 -> 0 | Q49: =VLOOKUP($G49,'CABLE DATA PRYSMIAN'!$E$6:$M$68,7,0) -> 88.2 | R49: =Q49*$C49 -> 529.2 | S49: =VLOOKUP($G49,'CABLE DATA PRYSMIAN'!$E$6:$M$68,8,0) -> 0.036 | T49: =S49/$C49 -> 0.006 | U49: =VLOOKUP($G49,'CABLE DATA PRYSMIAN'!$E$6:$M$68,9,0) -> 0 | V49: =U49/$C49 -> 0

Sheet CABLE DATA PRYSMIAN
B2: PRYSMIAN Cables according to NEK 606 III ed. 2004 & IEC 60092-300 (series)
B3: TEOF RFOU
B4: N° of cores x csa | C4: Number of cores | D4: Cross section core | E4: Designation | F4: Overall diameter approx. | G4: Net weight approx. | H4: D.C. resistance at 20 °C max. as per IEC 60228 | I4: D.C. resistance at 90°C Correcting factor = (234,5+90)/254,5 | J4: Current carrying capacities 45 °C free air | K4: Fault current at 250 °C | L4: Reactance** at 50 Hz | M4: Reactance** at 60 Hz
B5: n x mm2 | D5: mm² | F5: mm | G5: kg/km | H5: Ohm/km | I5: Ohm/km | J5: A | K5: kA | L5: Ohm/km | M5: Ohm/km
B6: 1x10 | C6: =LEFT(B6,FIND("x",B6)-1) -> 1 | D6: =RIGHT(B6,LEN(B6)-FIND("x",B6)) -> 10 | E6: =C6&" x "&D6&" mm²" -> 1 x 10 mm² | F6: 12.2 | G6: 295 | H6: 1.84 | I6: =H6*(234.5+90)/254.5 -> 2.3460904 | J6: 70 | K6: 1.43 | L6: 0.129 | M6: 0.154
B7: 1x16 | C7: =LEFT(B7,FIND("x",B7)-1) -> 1 | D7: =RIGHT(B7,LEN(B7)-FIND("x",B7)) -> 16 | E7: =C7&" x "&D7&" mm²" -> 1 x 16 mm² | F7: 13.5 | G7: 385 | H7: 1.16 | I7: =H7*(234.5+90)/254.5 -> 1.479057 | J7: 93 | K7: 2.29 | L7: 0.12 | M7: 0.145
B8: 1x25 | C8: =LEFT(B8,FIND("x",B8)-1) -> 1 | D8: =RIGHT(B8,LEN(B8)-FIND("x",B8)) -> 25 | E8: =C8&" x "&D8&" mm²" -> 1 x 25 mm² | F8: 15.4 | G8: 525 | H8: 0.734 | I8: =H8*(234.5+90)/254.5 -> 0.93588605 | J8: 117 | K8: 3.58 | L8: 0.113 | M8: 0.136
B9: 1x35 | C9: =LEFT(B9,FIND("x",B9)-1) -> 1 | D9: =RIGHT(B9,LEN(B9)-FIND("x",B9)) -> 35 | E9: =C9&" x "&D9&" mm²" -> 1 x 35 mm² | F9: 16.9 | G9: 685 | H9: 0.529 | I9: =H9*(234.5+90)/254.5 -> 0.67450098 | J9: 147 | K9: 5.01 | L9: 0.111 | M9: 0.133
B10: 1x50 | C10: =LEFT(B10,FIND("x",B10)-1) -> 1 | D10: =RIGHT(B10,LEN(B10)-FIND("x",B10)) -> 50 | E10: =C10&" x "&D10&" mm²" -> 1 x 50 mm² | F10: 18.7 | G10: 870 | H10: 0.391 | I10: =H10*(234.5+90)/254.5 -> 0.4985442 | J10: 180 | K10: 7.15 | L10: 0.107 | M10: 0.129
B11: 1x70 | C11: =LEFT(B11,FIND("x",B11)-1) -> 1 | D11: =RIGHT(B11,LEN(B11)-FIND("x",B11)) -> 70 | E11: =C11&" x "&D11&" mm²" -> 1 x 70 mm² | F11: 20.4 | G11: 1105 | H11: 0.27 | I11: =H11*(234.5+90)/254.5 -> 0.34426326 | J11: 233 | K11: 10.01 | L11: 0.102 | M11: 0.123
B12: 1x95 | C12: =LEFT(B12,FIND("x",B12)-1) -> 1 | D12: =RIGHT(B12,LEN(B12)-FIND("x",B12)) -> 95 | E12: =C12&" x "&D12&" mm²" -> 1 x 95 mm² | F12: 22.8 | G12: 1435 | H12: 0.195 | I12: =H12*(234.5+90)/254.5 -> 0.24863458 | J12: 285 | K12: 13.59 | L12: 0.099 | M12: 0.118
B13: 1x120 | C13: =LEFT(B13,FIND("x",B13)-1) -> 1 | D13: =RIGHT(B13,LEN(B13)-FIND("x",B13)) -> 120 | E13: =C13&" x "&D13&" mm²" -> 1 x 120 mm² | F13: 24.9 | G13: 1745 | H13: 0.154 | I13: =H13*(234.5+90)/254.5 -> 0.19635756 | J13: 333 | K13: 17.16 | L13: 0.096 | M13: 0.116
B14: 1x150 | C14: =LEFT(B14,FIND("x",B14)-1) -> 1 | D14: =RIGHT(B14,LEN(B14)-FIND("x",B14)) -> 150 | E14: =C14&" x "&D14&" mm²" -> 1 x 150 mm² | F14: 26.8 | G14: 2055 | H14: 0.126 | I14: =H14*(234.5+90)/254.5 -> 0.16065619 | J14: 386 | K14: 21.45 | L14: 0.094 | M14: 0.113
B15: 1x185 | C15: =LEFT(B15,FIND("x",B15)-1) -> 1 | D15: =RIGHT(B15,LEN(B15)-FIND("x",B15)) -> 185 | E15: =C15&" x "&D15&" mm²" -> 1 x 185 mm² | F15: 29.3 | G15: 2560 | H15: 0.1 | I15: =H15*(234.5+90)/254.5 -> 0.12750491 | J15: 444 | K15: 26.46 | L15: 0.093 | M15: 0.112
B16: 1x240 | C16: =LEFT(B16,FIND("x",B16)-1) -> 1 | D16: =RIGHT(B16,LEN(B16)-FIND("x",B16)) -> 240 | E16: =C16&" x "&D16&" mm²" -> 1 x 240 mm² | F16: 32.5 | G16: 3190 | H16: 0.0762 | I16: =H16*(234.5+90)/254.5 -> 0.097158743 | J16: 528 | K16: 34.32 | L16: 0.09 | M16: 0.108
B17: 1x300 | C17: =LEFT(B17,FIND("x",B17)-1) -> 1 | D17: =RIGHT(B17,LEN(B17)-FIND("x",B17)) -> 300 | E17: =C17&" x "&D17&" mm²" -> 1 x 300 mm² | F17: 35.2 | G17: 3935 | H17: 0.0607 | I17: =H17*(234.5+90)/254.5 -> 0.077395481 | J17: 612 | K17: 42.9 | L17: 0.089 | M17: 0.107
B18: 1x400 | C18: =LEFT(B18,FIND("x",B18)-1) -> 1 | D18: =RIGHT(B18,LEN(B18)-FIND("x",B18)) -> 400 | E18: =C18&" x "&D18&" mm²" -> 1 x 400 mm² | H18: 0.047 | I18: =H18*(234.5+90)/254.5 -> 0.059927308 | K18: 42 | L18: 0.086
B19: 1x500 | C19: =LEFT(B19,FIND("x",B19)-1) -> 1 | D19: =RIGHT(B19,LEN(B19)-FIND("x",B19)) -> 500 | E19: =C19&" x "&D19&" mm²" -> 1 x 500 mm² | H19: 0.0366 | I19: =H19*(234.5+90)/254.5 -> 0.046666798 | K19: 70 | L19: 0.085
B20: 1x630 | C20: =LEFT(B20,FIND("x",B20)-1) -> 1 | D20: =RIGHT(B20,LEN(B20)-FIND("x",B20)) -> 630 | E20: =C20&" x "&D20&" mm²" -> 1 x 630 mm² | H20: 0.0283 | I20: =H20*(234.5+90)/254.5 -> 0.03608389 | K20: 88.2 | L20: 0.036
B21: 2x1,5 | C21: =LEFT(B21,FIND("x",B21)-1) -> 2 | D21: =RIGHT(B21,LEN(B21)-FIND("x",B21)) -> 1,5 | E21: =C21&" x "&D21&" mm²" -> 2 x 1,5 mm² | F21: 13.6 | G21: 295 | H21: 12.2 | I21: =H21*(234.5+90)/254.5 -> 15.555599 | J21: 23 | K21: 0.21 | L21: 0.112 | M21: 0.135
B22: 2x2,5 | C22: =LEFT(B22,FIND("x",B22)-1) -> 2 | D22: =RIGHT(B22,LEN(B22)-FIND("x",B22)) -> 2,5 | E22: =C22&" x "&D22&" mm²" -> 2 x 2,5 mm² | F22: 14.4 | G22: 335 | H22: 7.56 | I22: =H22*(234.5+90)/254.5 -> 9.6393713 | J22: 31 | K22: 0.36 | L22: 0.104 | M22: 0.124
B23: 2x4 | C23: =LEFT(B23,FIND("x",B23)-1) -> 2 | D23: =RIGHT(B23,LEN(B23)-FIND("x",B23)) -> 4 | E23: =C23&" x "&D23&" mm²" -> 2 x 4 mm² | F23: 16.1 | G23: 445 | H23: 4.7 | I23: =H23*(234.5+90)/254.5 -> 5.9927308 | J23: 43 | K23: 0.57 | L23: 0.096 | M23: 0.116
B24: 2x6 | C24: =LEFT(B24,FIND("x",B24)-1) -> 2 | D24: =RIGHT(B24,LEN(B24)-FIND("x",B24)) -> 6 | E24: =C24&" x "&D24&" mm²" -> 2 x 6 mm² | F24: 17.1 | G24: 520 | H24: 3.11 | I24: =H24*(234.5+90)/254.5 -> 3.9654028 | J24: 55 | K24: 0.86 | L24: 0.091 | M24: 0.109
B25: 2x10 | C25: =LEFT(B25,FIND("x",B25)-1) -> 2 | D25: =RIGHT(B25,LEN(B25)-FIND("x",B25)) -> 10 | E25: =C25&" x "&D25&" mm²" -> 2 x 10 mm² | F25: 19.3 | G25: 680 | H25: 1.84 | I25: =H25*(234.5+90)/254.5 -> 2.3460904 | J25: 75 | K25: 1.43 | L25: 0.085 | M25: 0.102
B26: 2x16 | C26: =LEFT(B26,FIND("x",B26)-1) -> 2 | D26: =RIGHT(B26,LEN(B26)-FIND("x",B26)) -> 16 | E26: =C26&" x "&D26&" mm²" -> 2 x 16 mm² | F26: 21.7 | G26: 955 | H26: 1.16 | I26: =H26*(234.5+90)/254.5 -> 1.479057 | J26: 100 | K26: 2.29 | L26: 0.081 | M26: 0.097
B27: 2x25 | C27: =LEFT(B27,FIND("x",B27)-1) -> 2 | D27: =RIGHT(B27,LEN(B27)-FIND("x",B27)) -> 25 | E27: =C27&" x "&D27&" mm²" -> 2 x 25 mm² | F27: 25.9 | G27: 1335 | H27: 0.734 | I27: =H27*(234.5+90)/254.5 -> 0.93588605 | J27: 130 | K27: 3.58 | L27: 0.08 | M27: 0.096
B28: 2x35 | C28: =LEFT(B28,FIND("x",B28)-1) -> 2 | D28: =RIGHT(B28,LEN(B28)-FIND("x",B28)) -> 35 | E28: =C28&" x "&D28&" mm²" -> 2 x 35 mm² | F28: 27.9 | G28: 1595 | H28: 0.529 | I28: =H28*(234.5+90)/254.5 -> 0.67450098 | J28: 161 | K28: 5.01 | L28: 0.078 | M28: 0.093
B29: 2x50 | C29: =LEFT(B29,FIND("x",B29)-1) -> 2 | D29: =RIGHT(B29,LEN(B29)-FIND("x",B29)) -> 50 | E29: =C29&" x "&D29&" mm²" -> 2 x 50 mm² | F29: 31.9 | G29: 2250 | H29: 0.391 | I29: =H29*(234.5+90)/254.5 -> 0.4985442 | J29: 196 | K29: 7.15 | L29: 0.077 | M29: 0.093
B30: 3x1,5 | C30: =LEFT(B30,FIND("x",B30)-1) -> 3 | D30: =RIGHT(B30,LEN(B30)-FIND("x",B30)) -> 1,5 | E30: =C30&" x "&D30&" mm²" -> 3 x 1,5 mm² | F30: 14.2 | G30: 320 | H30: 12.2 | I30: =H30*(234.5+90)/254.5 -> 15.555599 | J30: 20 | K30: 0.21 | L30: 0.112 | M30: 0.135
B31: 3x2,5 | C31: =LEFT(B31,FIND("x",B31)-1) -> 3 | D31: =RIGHT(B31,LEN(B31)-FIND("x",B31)) -> 2,5 | E31: =C31&" x "&D31&" mm²" -> 3 x 2,5 mm² | F31: 15.6 | G31: 415 | H31: 7.56 | I31: =H31*(234.5+90)/254.5 -> 9.6393713 | J31: 28 | K31: 0.36 | L31: 0.104 | M31: 0.124
B32: 3x4 | C32: =LEFT(B32,FIND("x",B32)-1) -> 3 | D32: =RIGHT(B32,LEN(B32)-FIND("x",B32)) -> 4 | E32: =C32&" x "&D32&" mm²" -> 3 x 4 mm² | F32: 16.8 | G32: 500 | H32: 4.7 | I32: =H32*(234.5+90)/254.5 -> 5.9927308 | J32: 37 | K32: 0.57 | L32: 0.096 | M32: 0.116
... B68: 37x2,5 | C68: =LEFT(B68,FIND("x",B68)-1) -> 37 | D68: =RIGHT(B68,LEN(B68)-FIND("x",B68)) -> 2,5 | E68: =C68&" x "&D68&" mm²" -> 37 x 2,5 mm² | F68: 37.1 | G68: 2320 | H68: 7.56 | I68: =H68*(234.5+90)/254.5 -> 9.6393713 | J68: 9 | K68: 0.36 | L68: 0.104 | M68: 0.124
