Workbook
Name motordata: [1]Motordata!$H$9
Name MotorRating: 'MOTORS CHART IN AIR'!$C$17:$C$45
Name n: 'DC FEEDER CHART IN AIR'!#REF!
Name n: 'LV FEEDER CHART IN AIR'!#REF!
Name n: 'MOTORS CHART IN AIR'!$S$7
Name Print_Titles_MI: #REF!
Name Print_Titles_MI: #REF!
Name Print_Titles_MI: #REF!
Name Print_Titles_MI: #REF!
Name Print_Titles_MI: #REF!
Name Vd: '[2]MOTORS CHART IN AIR'!$F$4
Name Vd: '[2]MOTORS CHART IN AIR'!$F$4
Name Vd: '[2]MOTORS CHART IN AIR'!$F$4
Name Vd: 'DC FEEDER CHART IN AIR'!$E$4
Name Vd: 'LV FEEDER CHART IN AIR'!$F$4
Name Vd: 'MOTORS CHART IN AIR'!$F$4
Name Vst: '[2]MOTORS CHART IN AIR'!$F$5
Name Vst: '[2]MOTORS CHART IN AIR'!$F$5
Name Vst: '[2]MOTORS CHART IN AIR'!$F$5
Name Vst: 'DC FEEDER CHART IN AIR'!$E$5
Name Vst: 'LV FEEDER CHART IN AIR'!$F$5
Name Vst: 'MOTORS CHART IN AIR'!$F$5

Sheet MOTORS CHART IN AIR
B2: LV MOTORS - CABLES LAID IN AIR
B4: Maximum Volt Drop (%) | E4: ΔVd | F4: 0.05 | H4: DERATING FACTORS | I4: Ambient temperature factor (40°C) | N4: 1.05
B5: Max. Starting Volt Drop (%) | E5: ΔVst | F5: 0.15 | I5: Layer factor | N5: 0.8
B6: Max Length | E6: Lmax | F6: 350 | I6: Touching - LV 3-core | N6: 0.78
I7: Trefoil untouching - LV single core | N7: 0.9
J9: 3-CORE CABLES | W9: SINGLE-CORE CABLES
B10: Conductor Size | J10: 3 x 4 mm² | K10: 3 x 6 mm² | L10: 3 x 10 mm² | M10: 3 x 16 mm² | N10: 3 x 25 mm² | O10: 3 x 35 mm² | P10: 3 x 50 mm² | Q10: 3 x 70 mm² | R10: 3 x 95 mm² | S10: 3 x 120 mm² | T10: 3 x 150 mm² | U10: 3 x 185 mm² | V10: 3 x 240 mm² | W10: 3 x 1 x 150 mm² | X10: 3 x 1 x 185 mm² | Y10: 3 x 1 x 240 mm² | Z10: 3 x 1 x 300 mm² | AA10: 3 x 1 x 400 mm² | AB10: 2 x 3 x 1 x 150 mm² | AC10: 2 x 3 x 1 x 185 mm² | AD10: 2 x 3 x 1 x 240 mm² | AE10: 2 x 3 x 1 x 300 mm² | AF10: 2 x 3 x 1 x 400 mm² | AG10: 3 x 3 x 1 x 240 mm² | AH10: 3 x 3 x 1 x 300 mm² | AI10: 3 x 3 x 1 x 400 mm² | AJ10: 4 x 3 x 1 x 240 mm² | AK10: 4 x 3 x 1 x 300 mm² | AL10: 4 x 3 x 1 x 400 mm²
B11: Current Rating (Base) as per IEC 61892-4 Annex A, Table A-7 | J11: 37 | K11: 47 | L11: 65 | M11: 87 | N11: 110 | O11: 137 | P11: 167 | Q11: 214 | R11: 259 | S11: 301 | T11: 347 | U11: 397 | V11: 468 | W11: 386 | X11: 444 | Y11: 528 | Z11: 612 | AA11: 716 | AB11: 772 | AC11: 888 | AD11: 1056 | AE11: 1224 | AF11: 1432 | AG11: 1584 | AH11: 1836 | AI11: 2148 | AJ11: 2112 | AK11: 2448 | AL11: 2864
B12: Derating factor | J12: =$N$4*$N$5*$N$6 -> 0.6552 | K12: =$N$4*$N$5*$N$6 -> 0.6552 | L12: =$N$4*$N$5*$N$6 -> 0.6552 | M12: =$N$4*$N$5*$N$6 -> 0.6552 | N12: =$N$4*$N$5*$N$6 -> 0.6552 | O12: =$N$4*$N$5*$N$6 -> 0.6552 | P12: =$N$4*$N$5*$N$6 -> 0.6552 | Q12: =$N$4*$N$5*$N$6 -> 0.6552 | ... V12: =$N$4*$N$5*$N$6 -> 0.6552 | W12: =$N$4*$N$7 -> 0.945 | X12: =$N$4*$N$7 -> 0.945 | Y12: =$N$4*$N$7 -> 0.945 | Z12: =$N$4*$N$7 -> 0.945 | AA12: =$N$4*$N$7 -> 0.945 | AB12: =$N$4*$N$7 -> 0.945 | AC12: =$N$4*$N$7 -> 0.945 | AD12: =$N$4*$N$7 -> 0.945 | ... AL12: =$N$4*$N$7 -> 0.945
B13: Current Rating (Derated) | J13: =J11*J12 -> 24.2424 | K13: =K11*K12 -> 30.7944 | L13: =L11*L12 -> 42.588 | M13: =M11*M12 -> 57.0024 | N13: =N11*N12 -> 72.072 | O13: =O11*O12 -> 89.7624 | P13: =P11*P12 -> 109.4184 | Q13: =Q11*Q12 -> 140.2128 | ... AL13: =AL11*AL12 -> 2706.48
B14: Typical Resistance (a.c. at conductor temp.) (Ω/Km) form IEC 60228 | J14: =VLOOKUP(J$10,'CIRCUIT PRYSMIAN'!$B$6:$V$49,13,0) -> 5.9927308 | K14: =VLOOKUP(K$10,'CIRCUIT PRYSMIAN'!$B$6:$V$49,13,0) -> 3.9654028 | L14: =VLOOKUP(L$10,'CIRCUIT PRYSMIAN'!$B$6:$V$49,13,0) -> 2.3460904 | M14: =VLOOKUP(M$10,'CIRCUIT PRYSMIAN'!$B$6:$V$49,13,0) -> 1.479057 | N14: =VLOOKUP(N$10,'CIRCUIT PRYSMIAN'!$B$6:$V$49,13,0) -> 0.93588605 | O14: =VLOOKUP(O$10,'CIRCUIT PRYSMIAN'!$B$6:$V$49,13,0) -> 0.67450098 | P14: =VLOOKUP(P$10,'CIRCUIT PRYSMIAN'!$B$6:$V$49,13,0) -> 0.4985442 | Q14: =VLOOKUP(Q$10,'CIRCUIT PRYSMIAN'!$B$6:$V$49,13,0) -> 0.34426326 | ... AL14: =VLOOKUP(AL$10,'CIRCUIT PRYSMIAN'!$B$6:$V$49,13,0) -> 0.014981827
B15: Reactance at 50Hz (Ω/Km) | J15: =VLOOKUP(J$10,'CIRCUIT PRYSMIAN'!$B$6:$V$49,19,0) -> 0.096 | K15: =VLOOKUP(K$10,'CIRCUIT PRYSMIAN'!$B$6:$V$49,19,0) -> 0.091 | L15: =VLOOKUP(L$10,'CIRCUIT PRYSMIAN'!$B$6:$V$49,19,0) -> 0.085 | M15: =VLOOKUP(M$10,'CIRCUIT PRYSMIAN'!$B$6:$V$49,19,0) -> 0.081 | N15: =VLOOKUP(N$10,'CIRCUIT PRYSMIAN'!$B$6:$V$49,19,0) -> 0.08 | O15: =VLOOKUP(O$10,'CIRCUIT PRYSMIAN'!$B$6:$V$49,19,0) -> 0.078 | P15: =VLOOKUP(P$10,'CIRCUIT PRYSMIAN'!$B$6:$V$49,19,0) -> 0.077 | Q15: =VLOOKUP(Q$10,'CIRCUIT PRYSMIAN'!$B$6:$V$49,19,0) -> 0.075 | ... AL15: =VLOOKUP(AL$10,'CIRCUIT PRYSMIAN'!$B$6:$V$49,19,0) -> 0.0215
B16: V | C16: Motor Rating (KW) | D16: Efficiency | E16: F.L.C (A) | F16: Power Factor | G16: Is/In | H16: L.R.C. (A) | I16: L.R. Power Factor | J16: MAXIMUM ROUTE LENGTH (METERS)
B17: 400 | C17: 0.55 | D17: =VLOOKUP($C17,'ABB MOTOR DATA Ex na'!$E$6:$U$52,6,0) -> 0.754 | E17: =(C17*1000)/(SQRT(3)*B17*D17*F17) -> 1.3853424 | F17: =VLOOKUP($C17,'ABB MOTOR DATA Ex na'!$E$6:$U$52,8,0) -> 0.76 | G17: =VLOOKUP($C17,'ABB MOTOR DATA Ex na'!$E$6:$U$52,10,0) -> 4.9 | H17: =G17*E17 -> 6.7881779 | I17: 0.75 | J17: =IF(J$13>$E17,IF(MIN(1000*Vd*$B17/(SQRT(3)*$E17*(J$14*$F17+J$15*SIN(ACOS($F17)))),1000*Vst*$B17/(SQRT(3)*$H17*(J$14*$I17+J$15*SIN(ACOS($I17)))))>$F$6, ">"&$F$6,MIN(1000*Vd*$B17/(SQRT(3)*$E17*(J$14*$F17+J$15*SIN(ACOS($F17)))),1000*Vst*$B17/(SQRT(3)*$H17*(J$14*$I17+J$15*SIN(ACOS($I17)))))),"NOK") -> >350 | K17: =IF(K$13>$E17,IF(MIN(1000*Vd*$B17/(SQRT(3)*$E17*(K$14*$F17+K$15*SIN(ACOS($F17)))),1000*Vst*$B17/(SQRT(3)*$H17*(K$14*$I17+K$15*SIN(ACOS($I17)))))>$F$6, ">"&$F$6,MIN(1000*Vd*$B17/(SQRT(3)*$E17*(K$14*$F17+K$15*SIN(ACOS($F17)))),1000*Vst*$B17/(SQRT(3)*$H17*(K$14*$I17+K$15*SIN(ACOS($I17)))))),"NOK") -> >350 | L17: =IF(L$13>$E17,IF(MIN(1000*Vd*$B17/(SQRT(3)*$E17*(L$14*$F17+L$15*SIN(ACOS($F17)))),1000*Vst*$B17/(SQRT(3)*$H17*(L$14*$I17+L$15*SIN(ACOS($I17)))))>$F$6, ">"&$F$6,MIN(1000*Vd*$B17/(SQRT(3)*$E17*(L$14*$F17+L$15*SIN(ACOS($F17)))),1000*Vst*$B17/(SQRT(3)*$H17*(L$14*$I17+L$15*SIN(ACOS($I17)))))),"NOK") -> >350 | M17: =IF(M$13>$E17,IF(MIN(1000*Vd*$B17/(SQRT(3)*$E17*(M$14*$F17+M$15*SIN(ACOS($F17)))),1000*Vst*$B17/(SQRT(3)*$H17*(M$14*$I17+M$15*SIN(ACOS($I17)))))>$F$6, ">"&$F$6,MIN(1000*Vd*$B17/(SQRT(3)*$E17*(M$14*$F17+M$15*SIN(ACOS($F17)))),1000*Vst*$B17/(SQRT(3)*$H17*(M$14*$I17+M$15*SIN(ACOS($I17)))))),"NOK") -> >350 | N17: =IF(N$13>$E17,IF(MIN(1000*Vd*$B17/(SQRT(3)*$E17*(N$14*$F17+N$15*SIN(ACOS($F17)))),1000*Vst*$B17/(SQRT(3)*$H17*(N$14*$I17+N$15*SIN(ACOS($I17)))))>$F$6, ">"&$F$6,MIN(1000*Vd*$B17/(SQRT(3)*$E17*(N$14*$F17+N$15*SIN(ACOS($F17)))),1000*Vst*$B17/(SQRT(3)*$H17*(N$14*$I17+N$15*SIN(ACOS($I17)))))),"NOK") -> >350 | O17: =IF(O$13>$E17,IF(MIN(1000*Vd*$B17/(SQRT(3)*$E17*(O$14*$F17+O$15*SIN(ACOS($F17)))),1000*Vst*$B17/(SQRT(3)*$H17*(O$14*$I17+O$15*SIN(ACOS($I17)))))>$F$6, ">"&$F$6,MIN(1000*Vd*$B17/(SQRT(3)*$E17*(O$14*$F17+O$15*SIN(ACOS($F17)))),1000*Vst*$B17/(SQRT(3)*$H17*(O$14*$I17+O$15*SIN(ACOS($I17)))))),"NOK") -> >350 | P17: =IF(P$13>$E17,IF(MIN(1000*Vd*$B17/(SQRT(3)*$E17*(P$14*$F17+P$15*SIN(ACOS($F17)))),1000*Vst*$B17/(SQRT(3)*$H17*(P$14*$I17+P$15*SIN(ACOS($I17)))))>$F$6, ">"&$F$6,MIN(1000*Vd*$B17/(SQRT(3)*$E17*(P$14*$F17+P$15*SIN(ACOS($F17)))),1000*Vst*$B17/(SQRT(3)*$H17*(P$14*$I17+P$15*SIN(ACOS($I17)))))),"NOK") -> >350 | Q17: =IF(Q$13>$E17,IF(MIN(1000*Vd*$B17/(SQRT(3)*$E17*(Q$14*$F17+Q$15*SIN(ACOS($F17)))),1000*Vst*$B17/(SQRT(3)*$H17*(Q$14*$I17+Q$15*SIN(ACOS($I17)))))>$F$6, ">"&$F$6,MIN(1000*Vd*$B17/(SQRT(3)*$E17*(Q$14*$F17+Q$15*SIN(ACOS($F17)))),1000*Vst*$B17/(SQRT(3)*$H17*(Q$14*$I17+Q$15*SIN(ACOS($I17)))))),"NOK") -> >350 | ... AL17: =IF(AL$13>$E17,IF(MIN(1000*Vd*$B17/(SQRT(3)*$E17*(AL$14*$F17+AL$15*SIN(ACOS($F17)))),1000*Vst*$B17/(SQRT(3)*$H17*(AL$14*$I17+AL$15*SIN(ACOS($I17)))))>$F$6, ">"&$F$6,MIN(1000*Vd*$B17/(SQRT(3)*$E17*(AL$14*$F17+AL$15*SIN(ACOS($F17)))),1000*Vst*$B17/(SQRT(3)*$H17*(AL$14*$I17+AL$15*SIN(ACOS($I17)))))),"NOK") -> >350
B18: 400 | C18: 0.75 | D18: =VLOOKUP($C18,'ABB MOTOR DATA Ex na'!$E$6:$U$52,6,0) -> 0.804 | E18: =(C18*1000)/(SQRT(3)*B18*D18*F18) -> 1.7716218 | F18: =VLOOKUP($C18,'ABB MOTOR DATA Ex na'!$E$6:$U$52,8,0) -> 0.76 | G18: =VLOOKUP($C18,'ABB MOTOR DATA Ex na'!$E$6:$U$52,10,0) -> 5.2 | H18: =G18*E18 -> 9.2124331 | I18: 0.75 | J18: =IF(J$13>$E18,IF(MIN(1000*Vd*$B18/(SQRT(3)*$E18*(J$14*$F18+J$15*SIN(ACOS($F18)))),1000*Vst*$B18/(SQRT(3)*$H18*(J$14*$I18+J$15*SIN(ACOS($I18)))))>$F$6, ">"&$F$6,MIN(1000*Vd*$B18/(SQRT(3)*$E18*(J$14*$F18+J$15*SIN(ACOS($F18)))),1000*Vst*$B18/(SQRT(3)*$H18*(J$14*$I18+J$15*SIN(ACOS($I18)))))),"NOK") -> >350 | K18: =IF(K$13>$E18,IF(MIN(1000*Vd*$B18/(SQRT(3)*$E18*(K$14*$F18+K$15*SIN(ACOS($F18)))),1000*Vst*$B18/(SQRT(3)*$H18*(K$14*$I18+K$15*SIN(ACOS($I18)))))>$F$6, ">"&$F$6,MIN(1000*Vd*$B18/(SQRT(3)*$E18*(K$14*$F18+K$15*SIN(ACOS($F18)))),1000*Vst*$B18/(SQRT(3)*$H18*(K$14*$I18+K$15*SIN(ACOS($I18)))))),"NOK") -> >350 | L18: =IF(L$13>$E18,IF(MIN(1000*Vd*$B18/(SQRT(3)*$E18*(L$14*$F18+L$15*SIN(ACOS($F18)))),1000*Vst*$B18/(SQRT(3)*$H18*(L$14*$I18+L$15*SIN(ACOS($I18)))))>$F$6, ">"&$F$6,MIN(1000*Vd*$B18/(SQRT(3)*$E18*(L$14*$F18+L$15*SIN(ACOS($F18)))),1000*Vst*$B18/(SQRT(3)*$H18*(L$14*$I18+L$15*SIN(ACOS($I18)))))),"NOK") -> >350 | M18: =IF(M$13>$E18,IF(MIN(1000*Vd*$B18/(SQRT(3)*$E18*(M$14*$F18+M$15*SIN(ACOS($F18)))),1000*Vst*$B18/(SQRT(3)*$H18*(M$14*$I18+M$15*SIN(ACOS($I18)))))>$F$6, ">"&$F$6,MIN(1000*Vd*$B18/(SQRT(3)*$E18*(M$14*$F18+M$15*SIN(ACOS($F18)))),1000*Vst*$B18/(SQRT(3)*$H18*(M$14*$I18+M$15*SIN(ACOS($I18)))))),"NOK") -> >350 | N18: =IF(N$13>$E18,IF(MIN(1000*Vd*$B18/(SQRT(3)*$E18*(N$14*$F18+N$15*SIN(ACOS($F18)))),1000*Vst*$B18/(SQRT(3)*$H18*(N$14*$I18+N$15*SIN(ACOS($I18)))))>$F$6, ">"&$F$6,MIN(1000*Vd*$B18/(SQRT(3)*$E18*(N$14*$F18+N$15*SIN(ACOS($F18)))),1000*Vst*$B18/(SQRT(3)*$H18*(N$14*$I18+N$15*SIN(ACOS($I18)))))),"NOK") -> >350 | O18: =IF(O$13>$E18,IF(MIN(1000*Vd*$B18/(SQRT(3)*$E18*(O$14*$F18+O$15*SIN(ACOS($F18)))),1000*Vst*$B18/(SQRT(3)*$H18*(O$14*$I18+O$15*SIN(ACOS($I18)))))>$F$6, ">"&$F$6,MIN(1000*Vd*$B18/(SQRT(3)*$E18*(O$14*$F18+O$15*SIN(ACOS($F18)))),1000*Vst*$B18/(SQRT(3)*$H18*(O$14*$I18+O$15*SIN(ACOS($I18)))))),"NOK") -> >350 | P18: =IF(P$13>$E18,IF(MIN(1000*Vd*$B18/(SQRT(3)*$E18*(P$14*$F18+P$15*SIN(ACOS($F18)))),1000*Vst*$B18/(SQRT(3)*$H18*(P$14*$I18+P$15*SIN(ACOS($I18)))))>$F$6, ">"&$F$6,MIN(1000*Vd*$B18/(SQRT(3)*$E18*(P$14*$F18+P$15*SIN(ACOS($F18)))),1000*Vst*$B18/(SQRT(3)*$H18*(P$14*$I18+P$15*SIN(ACOS($I18)))))),"NOK") -> >350 | Q18: =IF(Q$13>$E18,IF(MIN(1000*Vd*$B18/(SQRT(3)*$E18*(Q$14*$F18+Q$15*SIN(ACOS($F18)))),1000*Vst*$B18/(SQRT(3)*$H18*(Q$14*$I18+Q$15*SIN(ACOS($I18)))))>$F$6, ">"&$F$6,MIN(1000*Vd*$B18/(SQRT(3)*$E18*(Q$14*$F18+Q$15*SIN(ACOS($F18)))),1000*Vst*$B18/(SQRT(3)*$H18*(Q$14*$I18+Q$15*SIN(ACOS($I18)))))),"NOK") -> >350 | ... AL18: =IF(AL$13>$E18,IF(MIN(1000*Vd*$B18/(SQRT(3)*$E18*(AL$14*$F18+AL$15*SIN(ACOS($F18)))),1000*Vst*$B18/(SQRT(3)*$H18*(AL$14*$I18+AL$15*SIN(ACOS($I18)))))>$F$6, ">"&$F$6,MIN(1000*Vd*$B18/(SQRT(3)*$E18*(AL$14*$F18+AL$15*SIN(ACOS($F18)))),1000*Vst*$B18/(SQRT(3)*$H18*(AL$14*$I18+AL$15*SIN(ACOS($I18)))))),"NOK") -> >350
B19: 400 | C19: 1.1 | D19: =VLOOKUP($C19,'ABB MOTOR DATA Ex na'!$E$6:$U$52,6,0) -> 0.818 | E19: =(C19*1000)/(SQRT(3)*B19*D19*F19) -> 2.3962589 | F19: =VLOOKUP($C19,'ABB MOTOR DATA Ex na'!$E$6:$U$52,8,0) -> 0.81 | G19: =VLOOKUP($C19,'ABB MOTOR DATA Ex na'!$E$6:$U$52,10,0) -> 5.9 | H19: =G19*E19 -> 14.137928 | I19: 0.72 | J19: =IF(J$13>$E19,IF(MIN(1000*Vd*$B19/(SQRT(3)*$E19*(J$14*$F19+J$15*SIN(ACOS($F19)))),1000*Vst*$B19/(SQRT(3)*$H19*(J$14*$I19+J$15*SIN(ACOS($I19)))))>$F$6, ">"&$F$6,MIN(1000*Vd*$B19/(SQRT(3)*$E19*(J$14*$F19+J$15*SIN(ACOS($F19)))),1000*Vst*$B19/(SQRT(3)*$H19*(J$14*$I19+J$15*SIN(ACOS($I19)))))),"NOK") -> >350 | K19: =IF(K$13>$E19,IF(MIN(1000*Vd*$B19/(SQRT(3)*$E19*(K$14*$F19+K$15*SIN(ACOS($F19)))),1000*Vst*$B19/(SQRT(3)*$H19*(K$14*$I19+K$15*SIN(ACOS($I19)))))>$F$6, ">"&$F$6,MIN(1000*Vd*$B19/(SQRT(3)*$E19*(K$14*$F19+K$15*SIN(ACOS($F19)))),1000*Vst*$B19/(SQRT(3)*$H19*(K$14*$I19+K$15*SIN(ACOS($I19)))))),"NOK") -> >350 | L19: =IF(L$13>$E19,IF(MIN(1000*Vd*$B19/(SQRT(3)*$E19*(L$14*$F19+L$15*SIN(ACOS($F19)))),1000*Vst*$B19/(SQRT(3)*$H19*(L$14*$I19+L$15*SIN(ACOS($I19)))))>$F$6, ">"&$F$6,MIN(1000*Vd*$B19/(SQRT(3)*$E19*(L$14*$F19+L$15*SIN(ACOS($F19)))),1000*Vst*$B19/(SQRT(3)*$H19*(L$14*$I19+L$15*SIN(ACOS($I19)))))),"NOK") -> >350 | M19: =IF(M$13>$E19,IF(MIN(1000*Vd*$B19/(SQRT(3)*$E19*(M$14*$F19+M$15*SIN(ACOS($F19)))),1000*Vst*$B19/(SQRT(3)*$H19*(M$14*$I19+M$15*SIN(ACOS($I19)))))>$F$6, ">"&$F$6,MIN(1000*Vd*$B19/(SQRT(3)*$E19*(M$14*$F19+M$15*SIN(ACOS($F19)))),1000*Vst*$B19/(SQRT(3)*$H19*(M$14*$I19+M$15*SIN(ACOS($I19)))))),"NOK") -> >350 | N19: =IF(N$13>$E19,IF(MIN(1000*Vd*$B19/(SQRT(3)*$E19*(N$14*$F19+N$15*SIN(ACOS($F19)))),1000*Vst*$B19/(SQRT(3)*$H19*(N$14*$I19+N$15*SIN(ACOS($I19)))))>$F$6, ">"&$F$6,MIN(1000*Vd*$B19/(SQRT(3)*$E19*(N$14*$F19+N$15*SIN(ACOS($F19)))),1000*Vst*$B19/(SQRT(3)*$H19*(N$14*$I19+N$15*SIN(ACOS($I19)))))),"NOK") -> >350 | O19: =IF(O$13>$E19,IF(MIN(1000*Vd*$B19/(SQRT(3)*$E19*(O$14*$F19+O$15*SIN(ACOS($F19)))),1000*Vst*$B19/(SQRT(3)*$H19*(O$14*$I19+O$15*SIN(ACOS($I19)))))>$F$6, ">"&$F$6,MIN(1000*Vd*$B19/(SQRT(3)*$E19*(O$14*$F19+O$15*SIN(ACOS($F19)))),1000*Vst*$B19/(SQRT(3)*$H19*(O$14*$I19+O$15*SIN(ACOS($I19)))))),"NOK") -> >350 | P19: =IF(P$13>$E19,IF(MIN(1000*Vd*$B19/(SQRT(3)*$E19*(P$14*$F19+P$15*SIN(ACOS($F19)))),1000*Vst*$B19/(SQRT(3)*$H19*(P$14*$I19+P$15*SIN(ACOS($I19)))))>$F$6, ">"&$F$6,MIN(1000*Vd*$B19/(SQRT(3)*$E19*(P$14*$F19+P$15*SIN(ACOS($F19)))),1000*Vst*$B19/(SQRT(3)*$H19*(P$14*$I19+P$15*SIN(ACOS($I19)))))),"NOK") -> >350 | Q19: =IF(Q$13>$E19,IF(MIN(1000*Vd*$B19/(SQRT(3)*$E19*(Q$14*$F19+Q$15*SIN(ACOS($F19)))),1000*Vst*$B19/(SQRT(3)*$H19*(Q$14*$I19+Q$15*SIN(ACOS($I19)))))>$F$6, ">"&$F$6,MIN(1000*Vd*$B19/(SQRT(3)*$E19*(Q$14*$F19+Q$15*SIN(ACOS($F19)))),1000*Vst*$B19/(SQRT(3)*$H19*(Q$14*$I19+Q$15*SIN(ACOS($I19)))))),"NOK") -> >350 | ... AL19: =IF(AL$13>$E19,IF(MIN(1000*Vd*$B19/(SQRT(3)*$E19*(AL$14*$F19+AL$15*SIN(ACOS($F19)))),1000*Vst*$B19/(SQRT(3)*$H19*(AL$14*$I19+AL$15*SIN(ACOS($I19)))))>$F$6, ">"&$F$6,MIN(1000*Vd*$B19/(SQRT(3)*$E19*(AL$14*$F19+AL$15*SIN(ACOS($F19)))),1000*Vst*$B19/(SQRT(3)*$H19*(AL$14*$I19+AL$15*SIN(ACOS($I19)))))),"NOK") -> >350
B20: 400 | C20: 1.5 | D20: =VLOOKUP($C20,'ABB MOTOR DATA Ex na'!$E$6:$U$52,6,0) -> 0.832 | E20: =(C20*1000)/(SQRT(3)*B20*D20*F20) -> 3.2939744 | F20: =VLOOKUP($C20,'ABB MOTOR DATA Ex na'!$E$6:$U$52,8,0) -> 0.79 | G20: =VLOOKUP($C20,'ABB MOTOR DATA Ex na'!$E$6:$U$52,10,0) -> 6.5 | H20: =G20*E20 -> 21.410834 | I20: 0.78 | J20: =IF(J$13>$E20,IF(MIN(1000*Vd*$B20/(SQRT(3)*$E20*(J$14*$F20+J$15*SIN(ACOS($F20)))),1000*Vst*$B20/(SQRT(3)*$H20*(J$14*$I20+J$15*SIN(ACOS($I20)))))>$F$6, ">"&$F$6,MIN(1000*Vd*$B20/(SQRT(3)*$E20*(J$14*$F20+J$15*SIN(ACOS($F20)))),1000*Vst*$B20/(SQRT(3)*$H20*(J$14*$I20+J$15*SIN(ACOS($I20)))))),"NOK") -> 341.73672 | K20: =IF(K$13>$E20,IF(MIN(1000*Vd*$B20/(SQRT(3)*$E20*(K$14*$F20+K$15*SIN(ACOS($F20)))),1000*Vst*$B20/(SQRT(3)*$H20*(K$14*$I20+K$15*SIN(ACOS($I20)))))>$F$6, ">"&$F$6,MIN(1000*Vd*$B20/(SQRT(3)*$E20*(K$14*$F20+K$15*SIN(ACOS($F20)))),1000*Vst*$B20/(SQRT(3)*$H20*(K$14*$I20+K$15*SIN(ACOS($I20)))))),"NOK") -> >350 | L20: =IF(L$13>$E20,IF(MIN(1000*Vd*$B20/(SQRT(3)*$E20*(L$14*$F20+L$15*SIN(ACOS($F20)))),1000*Vst*$B20/(SQRT(3)*$H20*(L$14*$I20+L$15*SIN(ACOS($I20)))))>$F$6, ">"&$F$6,MIN(1000*Vd*$B20/(SQRT(3)*$E20*(L$14*$F20+L$15*SIN(ACOS($F20)))),1000*Vst*$B20/(SQRT(3)*$H20*(L$14*$I20+L$15*SIN(ACOS($I20)))))),"NOK") -> >350 | M20: =IF(M$13>$E20,IF(MIN(1000*Vd*$B20/(SQRT(3)*$E20*(M$14*$F20+M$15*SIN(ACOS($F20)))),1000*Vst*$B20/(SQRT(3)*$H20*(M$14*$I20+M$15*SIN(ACOS($I20)))))>$F$6, ">"&$F$6,MIN(1000*Vd*$B20/(SQRT(3)*$E20*(M$14*$F20+M$15*SIN(ACOS($F20)))),1000*Vst*$B20/(SQRT(3)*$H20*(M$14*$I20+M$15*SIN(ACOS($I20)))))),"NOK") -> >350 | N20: =IF(N$13>$E20,IF(MIN(1000*Vd*$B20/(SQRT(3)*$E20*(N$14*$F20+N$15*SIN(ACOS($F20)))),1000*Vst*$B20/(SQRT(3)*$H20*(N$14*$I20+N$15*SIN(ACOS($I20)))))>$F$6, ">"&$F$6,MIN(1000*Vd*$B20/(SQRT(3)*$E20*(N$14*$F20+N$15*SIN(ACOS($F20)))),1000*Vst*$B20/(SQRT(3)*$H20*(N$14*$I20+N$15*SIN(ACOS($I20)))))),"NOK") -> >350 | O20: =IF(O$13>$E20,IF(MIN(1000*Vd*$B20/(SQRT(3)*$E20*(O$14*$F20+O$15*SIN(ACOS($F20)))),1000*Vst*$B20/(SQRT(3)*$H20*(O$14*$I20+O$15*SIN(ACOS($I20)))))>$F$6, ">"&$F$6,MIN(1000*Vd*$B20/(SQRT(3)*$E20*(O$14*$F20+O$15*SIN(ACOS($F20)))),1000*Vst*$B20/(SQRT(3)*$H20*(O$14*$I20+O$15*SIN(ACOS($I20)))))),"NOK") -> >350 | P20: =IF(P$13>$E20,IF(MIN(1000*Vd*$B20/(SQRT(3)*$E20*(P$14*$F20+P$15*SIN(ACOS($F20)))),1000*Vst*$B20/(SQRT(3)*$H20*(P$14*$I20+P$15*SIN(ACOS($I20)))))>$F$6, ">"&$F$6,MIN(1000*Vd*$B20/(SQRT(3)*$E20*(P$14*$F20+P$15*SIN(ACOS($F20)))),1000*Vst*$B20/(SQRT(3)*$H20*(P$14*$I20+P$15*SIN(ACOS($I20)))))),"NOK") -> >350 | Q20: =IF(Q$13>$E20,IF(MIN(1000*Vd*$B20/(SQRT(3)*$E20*(Q$14*$F20+Q$15*SIN(ACOS($F20)))),1000*Vst*$B20/(SQRT(3)*$H20*(Q$14*$I20+Q$15*SIN(ACOS($I20)))))>$F$6, ">"&$F$6,MIN(1000*Vd*$B20/(SQRT(3)*$E20*(Q$14*$F20+Q$15*SIN(ACOS($F20)))),1000*Vst*$B20/(SQRT(3)*$H20*(Q$14*$I20+Q$15*SIN(ACOS($I20)))))),"NOK") -> >350 | ... AL20: =IF(AL$13>$E20,IF(MIN(1000*Vd*$B20/(SQRT(3)*$E20*(AL$14*$F20+AL$15*SIN(ACOS($F20)))),1000*Vst*$B20/(SQRT(3)*$H20*(AL$14*$I20+AL$15*SIN(ACOS($I20)))))>$F$6, ">"&$F$6,MIN(1000*Vd*$B20/(SQRT(3)*$E20*(AL$14*$F20+AL$15*SIN(ACOS($F20)))),1000*Vst*$B20/(SQRT(3)*$H20*(AL$14*$I20+AL$15*SIN(ACOS($I20)))))),"NOK") -> >350
B21: 400 | C21: 2.2 | D21: =VLOOKUP($C21,'ABB MOTOR DATA Ex na'!$E$6:$U$52,6,0) -> 0.847 | E21: =(C21*1000)/(SQRT(3)*B21*D21*F21) -> 4.3593346 | F21: =VLOOKUP($C21,'ABB MOTOR DATA Ex na'!$E$6:$U$52,8,0) -> 0.86 | G21: =VLOOKUP($C21,'ABB MOTOR DATA Ex na'!$E$6:$U$52,10,0) -> 7 | H21: =G21*E21 -> 30.515342 | I21: 0.74 | J21: =IF(J$13>$E21,IF(MIN(1000*Vd*$B21/(SQRT(3)*$E21*(J$14*$F21+J$15*SIN(ACOS($F21)))),1000*Vst*$B21/(SQRT(3)*$H21*(J$14*$I21+J$15*SIN(ACOS($I21)))))>$F$6, ">"&$F$6,MIN(1000*Vd*$B21/(SQRT(3)*$E21*(J$14*$F21+J$15*SIN(ACOS($F21)))),1000*Vst*$B21/(SQRT(3)*$H21*(J$14*$I21+J$15*SIN(ACOS($I21)))))),"NOK") -> 252.31202 | K21: =IF(K$13>$E21,IF(MIN(1000*Vd*$B21/(SQRT(3)*$E21*(K$14*$F21+K$15*SIN(ACOS($F21)))),1000*Vst*$B21/(SQRT(3)*$H21*(K$14*$I21+K$15*SIN(ACOS($I21)))))>$F$6, ">"&$F$6,MIN(1000*Vd*$B21/(SQRT(3)*$E21*(K$14*$F21+K$15*SIN(ACOS($F21)))),1000*Vst*$B21/(SQRT(3)*$H21*(K$14*$I21+K$15*SIN(ACOS($I21)))))),"NOK") -> >350 | L21: =IF(L$13>$E21,IF(MIN(1000*Vd*$B21/(SQRT(3)*$E21*(L$14*$F21+L$15*SIN(ACOS($F21)))),1000*Vst*$B21/(SQRT(3)*$H21*(L$14*$I21+L$15*SIN(ACOS($I21)))))>$F$6, ">"&$F$6,MIN(1000*Vd*$B21/(SQRT(3)*$E21*(L$14*$F21+L$15*SIN(ACOS($F21)))),1000*Vst*$B21/(SQRT(3)*$H21*(L$14*$I21+L$15*SIN(ACOS($I21)))))),"NOK") -> >350 | M21: =IF(M$13>$E21,IF(MIN(1000*Vd*$B21/(SQRT(3)*$E21*(M$14*$F21+M$15*SIN(ACOS($F21)))),1000*Vst*$B21/(SQRT(3)*$H21*(M$14*$I21+M$15*SIN(ACOS($I21)))))>$F$6, ">"&$F$6,MIN(1000*Vd*$B21/(SQRT(3)*$E21*(M$14*$F21+M$15*SIN(ACOS($F21)))),1000*Vst*$B21/(SQRT(3)*$H21*(M$14*$I21+M$15*SIN(ACOS($I21)))))),"NOK") -> >350 | N21: =IF(N$13>$E21,IF(MIN(1000*Vd*$B21/(SQRT(3)*$E21*(N$14*$F21+N$15*SIN(ACOS($F21)))),1000*Vst*$B21/(SQRT(3)*$H21*(N$14*$I21+N$15*SIN(ACOS($I21)))))>$F$6, ">"&$F$6,MIN(1000*Vd*$B21/(SQRT(3)*$E21*(N$14*$F21+N$15*SIN(ACOS($F21)))),1000*Vst*$B21/(SQRT(3)*$H21*(N$14*$I21+N$15*SIN(ACOS($I21)))))),"NOK") -> >350 | O21: =IF(O$13>$E21,IF(MIN(1000*Vd*$B21/(SQRT(3)*$E21*(O$14*$F21+O$15*SIN(ACOS($F21)))),1000*Vst*$B21/(SQRT(3)*$H21*(O$14*$I21+O$15*SIN(ACOS($I21)))))>$F$6, ">"&$F$6,MIN(1000*Vd*$B21/(SQRT(3)*$E21*(O$14*$F21+O$15*SIN(ACOS($F21)))),1000*Vst*$B21/(SQRT(3)*$H21*(O$14*$I21+O$15*SIN(ACOS($I21)))))),"NOK") -> >350 | P21: =IF(P$13>$E21,IF(MIN(1000*Vd*$B21/(SQRT(3)*$E21*(P$14*$F21+P$15*SIN(ACOS($F21)))),1000*Vst*$B21/(SQRT(3)*$H21*(P$14*$I21+P$15*SIN(ACOS($I21)))))>$F$6, ">"&$F$6,MIN(1000*Vd*$B21/(SQRT(3)*$E21*(P$14*$F21+P$15*SIN(ACOS($F21)))),1000*Vst*$B21/(SQRT(3)*$H21*(P$14*$I21+P$15*SIN(ACOS($I21)))))),"NOK") -> >350 | Q21: =IF(Q$13>$E21,IF(MIN(1000*Vd*$B21/(SQRT(3)*$E21*(Q$14*$F21+Q$15*SIN(ACOS($F21)))),1000*Vst*$B21/(SQRT(3)*$H21*(Q$14*$I21+Q$15*SIN(ACOS($I21)))))>$F$6, ">"&$F$6,MIN(1000*Vd*$B21/(SQRT(3)*$E21*(Q$14*$F21+Q$15*SIN(ACOS($F21)))),1000*Vst*$B21/(SQRT(3)*$H21*(Q$14*$I21+Q$15*SIN(ACOS($I21)))))),"NOK") -> >350 | ... AL21: =IF(AL$13>$E21,IF(MIN(1000*Vd*$B21/(SQRT(3)*$E21*(AL$14*$F21+AL$15*SIN(ACOS($F21)))),1000*Vst*$B21/(SQRT(3)*$H21*(AL$14*$I21+AL$15*SIN(ACOS($I21)))))>$F$6, ">"&$F$6,MIN(1000*Vd*$B21/(SQRT(3)*$E21*(AL$14*$F21+AL$15*SIN(ACOS($F21)))),1000*Vst*$B21/(SQRT(3)*$H21*(AL$14*$I21+AL$15*SIN(ACOS($I21)))))),"NOK") -> >350
B22: 400 | C22: 3 | D22: =VLOOKUP($C22,'ABB MOTOR DATA Ex na'!$E$6:$U$52,6,0) -> 0.857 | E22: =(C22*1000)/(SQRT(3)*B22*D22*F22) -> 6.0875385 | F22: =VLOOKUP($C22,'ABB MOTOR DATA Ex na'!$E$6:$U$52,8,0) -> 0.83 | G22: =VLOOKUP($C22,'ABB MOTOR DATA Ex na'!$E$6:$U$52,10,0) -> 7 | H22: =G22*E22 -> 42.61277 | I22: 0.55 | J22: =IF(J$13>$E22,IF(MIN(1000*Vd*$B22/(SQRT(3)*$E22*(J$14*$F22+J$15*SIN(ACOS($F22)))),1000*Vst*$B22/(SQRT(3)*$H22*(J$14*$I22+J$15*SIN(ACOS($I22)))))>$F$6, ">"&$F$6,MIN(1000*Vd*$B22/(SQRT(3)*$E22*(J$14*$F22+J$15*SIN(ACOS($F22)))),1000*Vst*$B22/(SQRT(3)*$H22*(J$14*$I22+J$15*SIN(ACOS($I22)))))),"NOK") -> 240.78285 | K22: =IF(K$13>$E22,IF(MIN(1000*Vd*$B22/(SQRT(3)*$E22*(K$14*$F22+K$15*SIN(ACOS($F22)))),1000*Vst*$B22/(SQRT(3)*$H22*(K$14*$I22+K$15*SIN(ACOS($I22)))))>$F$6, ">"&$F$6,MIN(1000*Vd*$B22/(SQRT(3)*$E22*(K$14*$F22+K$15*SIN(ACOS($F22)))),1000*Vst*$B22/(SQRT(3)*$H22*(K$14*$I22+K$15*SIN(ACOS($I22)))))),"NOK") -> >350 | L22: =IF(L$13>$E22,IF(MIN(1000*Vd*$B22/(SQRT(3)*$E22*(L$14*$F22+L$15*SIN(ACOS($F22)))),1000*Vst*$B22/(SQRT(3)*$H22*(L$14*$I22+L$15*SIN(ACOS($I22)))))>$F$6, ">"&$F$6,MIN(1000*Vd*$B22/(SQRT(3)*$E22*(L$14*$F22+L$15*SIN(ACOS($F22)))),1000*Vst*$B22/(SQRT(3)*$H22*(L$14*$I22+L$15*SIN(ACOS($I22)))))),"NOK") -> >350 | M22: =IF(M$13>$E22,IF(MIN(1000*Vd*$B22/(SQRT(3)*$E22*(M$14*$F22+M$15*SIN(ACOS($F22)))),1000*Vst*$B22/(SQRT(3)*$H22*(M$14*$I22+M$15*SIN(ACOS($I22)))))>$F$6, ">"&$F$6,MIN(1000*Vd*$B22/(SQRT(3)*$E22*(M$14*$F22+M$15*SIN(ACOS($F22)))),1000*Vst*$B22/(SQRT(3)*$H22*(M$14*$I22+M$15*SIN(ACOS($I22)))))),"NOK") -> >350 | N22: =IF(N$13>$E22,IF(MIN(1000*Vd*$B22/(SQRT(3)*$E22*(N$14*$F22+N$15*SIN(ACOS($F22)))),1000*Vst*$B22/(SQRT(3)*$H22*(N$14*$I22+N$15*SIN(ACOS($I22)))))>$F$6, ">"&$F$6,MIN(1000*Vd*$B22/(SQRT(3)*$E22*(N$14*$F22+N$15*SIN(ACOS($F22)))),1000*Vst*$B22/(SQRT(3)*$H22*(N$14*$I22+N$15*SIN(ACOS($I22)))))),"NOK") -> >350 | O22: =IF(O$13>$E22,IF(MIN(1000*Vd*$B22/(SQRT(3)*$E22*(O$14*$F22+O$15*SIN(ACOS($F22)))),1000*Vst*$B22/(SQRT(3)*$H22*(O$14*$I22+O$15*SIN(ACOS($I22)))))>$F$6, ">"&$F$6,MIN(1000*Vd*$B22/(SQRT(3)*$E22*(O$14*$F22+O$15*SIN(ACOS($F22)))),1000*Vst*$B22/(SQRT(3)*$H22*(O$14*$I22+O$15*SIN(ACOS($I22)))))),"NOK") -> >350 | P22: =IF(P$13>$E22,IF(MIN(1000*Vd*$B22/(SQRT(3)*$E22*(P$14*$F22+P$15*SIN(ACOS($F22)))),1000*Vst*$B22/(SQRT(3)*$H22*(P$14*$I22+P$15*SIN(ACOS($I22)))))>$F$6, ">"&$F$6,MIN(1000*Vd*$B22/(SQRT(3)*$E22*(P$14*$F22+P$15*SIN(ACOS($F22)))),1000*Vst*$B22/(SQRT(3)*$H22*(P$14*$I22+P$15*SIN(ACOS($I22)))))),"NOK") -> >350 | Q22: =IF(Q$13>$E22,IF(MIN(1000*Vd*$B22/(SQRT(3)*$E22*(Q$14*$F22+Q$15*SIN(ACOS($F22)))),1000*Vst*$B22/(SQRT(3)*$H22*(Q$14*$I22+Q$15*SIN(ACOS($I22)))))>$F$6, ">"&$F$6,MIN(1000*Vd*$B22/(SQRT(3)*$E22*(Q$14*$F22+Q$15*SIN(ACOS($F22)))),1000*Vst*$B22/(SQRT(3)*$H22*(Q$14*$I22+Q$15*SIN(ACOS($I22)))))),"NOK") -> >350 | ... AL22: =IF(AL$13>$E22,IF(MIN(1000*Vd*$B22/(SQRT(3)*$E22*(AL$14*$F22+AL$15*SIN(ACOS($F22)))),1000*Vst*$B22/(SQRT(3)*$H22*(AL$14*$I22+AL$15*SIN(ACOS($I22)))))>$F$6, ">"&$F$6,MIN(1000*Vd*$B22/(SQRT(3)*$E22*(AL$14*$F22+AL$15*SIN(ACOS($F22)))),1000*Vst*$B22/(SQRT(3)*$H22*(AL$14*$I22+AL$15*SIN(ACOS($I22)))))),"NOK") -> >350
B23: 400 | C23: 4 | D23: =VLOOKUP($C23,'ABB MOTOR DATA Ex na'!$E$6:$U$52,6,0) -> 0.869 | E23: =(C23*1000)/(SQRT(3)*B23*D23*F23) -> 8.7419034 | F23: =VLOOKUP($C23,'ABB MOTOR DATA Ex na'!$E$6:$U$52,8,0) -> 0.76 | G23: =VLOOKUP($C23,'ABB MOTOR DATA Ex na'!$E$6:$U$52,10,0) -> 8.3 | H23: =G23*E23 -> 72.557798 | I23: 0.59 | J23: =IF(J$13>$E23,IF(MIN(1000*Vd*$B23/(SQRT(3)*$E23*(J$14*$F23+J$15*SIN(ACOS($F23)))),1000*Vst*$B23/(SQRT(3)*$H23*(J$14*$I23+J$15*SIN(ACOS($I23)))))>$F$6, ">"&$F$6,MIN(1000*Vd*$B23/(SQRT(3)*$E23*(J$14*$F23+J$15*SIN(ACOS($F23)))),1000*Vst*$B23/(SQRT(3)*$H23*(J$14*$I23+J$15*SIN(ACOS($I23)))))),"NOK") -> 132.13318 | K23: =IF(K$13>$E23,IF(MIN(1000*Vd*$B23/(SQRT(3)*$E23*(K$14*$F23+K$15*SIN(ACOS($F23)))),1000*Vst*$B23/(SQRT(3)*$H23*(K$14*$I23+K$15*SIN(ACOS($I23)))))>$F$6, ">"&$F$6,MIN(1000*Vd*$B23/(SQRT(3)*$E23*(K$14*$F23+K$15*SIN(ACOS($F23)))),1000*Vst*$B23/(SQRT(3)*$H23*(K$14*$I23+K$15*SIN(ACOS($I23)))))),"NOK") -> 197.85096 | L23: =IF(L$13>$E23,IF(MIN(1000*Vd*$B23/(SQRT(3)*$E23*(L$14*$F23+L$15*SIN(ACOS($F23)))),1000*Vst*$B23/(SQRT(3)*$H23*(L$14*$I23+L$15*SIN(ACOS($I23)))))>$F$6, ">"&$F$6,MIN(1000*Vd*$B23/(SQRT(3)*$E23*(L$14*$F23+L$15*SIN(ACOS($F23)))),1000*Vst*$B23/(SQRT(3)*$H23*(L$14*$I23+L$15*SIN(ACOS($I23)))))),"NOK") -> 328.61996 | M23: =IF(M$13>$E23,IF(MIN(1000*Vd*$B23/(SQRT(3)*$E23*(M$14*$F23+M$15*SIN(ACOS($F23)))),1000*Vst*$B23/(SQRT(3)*$H23*(M$14*$I23+M$15*SIN(ACOS($I23)))))>$F$6, ">"&$F$6,MIN(1000*Vd*$B23/(SQRT(3)*$E23*(M$14*$F23+M$15*SIN(ACOS($F23)))),1000*Vst*$B23/(SQRT(3)*$H23*(M$14*$I23+M$15*SIN(ACOS($I23)))))),"NOK") -> >350 | N23: =IF(N$13>$E23,IF(MIN(1000*Vd*$B23/(SQRT(3)*$E23*(N$14*$F23+N$15*SIN(ACOS($F23)))),1000*Vst*$B23/(SQRT(3)*$H23*(N$14*$I23+N$15*SIN(ACOS($I23)))))>$F$6, ">"&$F$6,MIN(1000*Vd*$B23/(SQRT(3)*$E23*(N$14*$F23+N$15*SIN(ACOS($F23)))),1000*Vst*$B23/(SQRT(3)*$H23*(N$14*$I23+N$15*SIN(ACOS($I23)))))),"NOK") -> >350 | O23: =IF(O$13>$E23,IF(MIN(1000*Vd*$B23/(SQRT(3)*$E23*(O$14*$F23+O$15*SIN(ACOS($F23)))),1000*Vst*$B23/(SQRT(3)*$H23*(O$14*$I23+O$15*SIN(ACOS($I23)))))>$F$6, ">"&$F$6,MIN(1000*Vd*$B23/(SQRT(3)*$E23*(O$14*$F23+O$15*SIN(ACOS($F23)))),1000*Vst*$B23/(SQRT(3)*$H23*(O$14*$I23+O$15*SIN(ACOS($I23)))))),"NOK") -> >350 | P23: =IF(P$13>$E23,IF(MIN(1000*Vd*$B23/(SQRT(3)*$E23*(P$14*$F23+P$15*SIN(ACOS($F23)))),1000*Vst*$B23/(SQRT(3)*$H23*(P$14*$I23+P$15*SIN(ACOS($I23)))))>$F$6, ">"&$F$6,MIN(1000*Vd*$B23/(SQRT(3)*$E23*(P$14*$F23+P$15*SIN(ACOS($F23)))),1000*Vst*$B23/(SQRT(3)*$H23*(P$14*$I23+P$15*SIN(ACOS($I23)))))),"NOK") -> >350 | Q23: =IF(Q$13>$E23,IF(MIN(1000*Vd*$B23/(SQRT(3)*$E23*(Q$14*$F23+Q$15*SIN(ACOS($F23)))),1000*Vst*$B23/(SQRT(3)*$H23*(Q$14*$I23+Q$15*SIN(ACOS($I23)))))>$F$6, ">"&$F$6,MIN(1000*Vd*$B23/(SQRT(3)*$E23*(Q$14*$F23+Q$15*SIN(ACOS($F23)))),1000*Vst*$B23/(SQRT(3)*$H23*(Q$14*$I23+Q$15*SIN(ACOS($I23)))))),"NOK") -> >350 | ... AL23: =IF(AL$13>$E23,IF(MIN(1000*Vd*$B23/(SQRT(3)*$E23*(AL$14*$F23+AL$15*SIN(ACOS($F23)))),1000*Vst*$B23/(SQRT(3)*$H23*(AL$14*$I23+AL$15*SIN(ACOS($I23)))))>$F$6, ">"&$F$6,MIN(1000*Vd*$B23/(SQRT(3)*$E23*(AL$14*$F23+AL$15*SIN(ACOS($F23)))),1000*Vst*$B23/(SQRT(3)*$H23*(AL$14*$I23+AL$15*SIN(ACOS($I23)))))),"NOK") -> >350
B24: 400 | C24: 5.5 | D24: =VLOOKUP($C24,'ABB MOTOR DATA Ex na'!$E$6:$U$52,6,0) -> 0.877 | E24: =(C24*1000)/(SQRT(3)*B24*D24*F24) -> 11.458173 | F24: =VLOOKUP($C24,'ABB MOTOR DATA Ex na'!$E$6:$U$52,8,0) -> 0.79 | G24: =VLOOKUP($C24,'ABB MOTOR DATA Ex na'!$E$6:$U$52,10,0) -> 7 | H24: =G24*E24 -> 80.207213 | I24: 0.48 | J24: =IF(J$13>$E24,IF(MIN(1000*Vd*$B24/(SQRT(3)*$E24*(J$14*$F24+J$15*SIN(ACOS($F24)))),1000*Vst*$B24/(SQRT(3)*$H24*(J$14*$I24+J$15*SIN(ACOS($I24)))))>$F$6, ">"&$F$6,MIN(1000*Vd*$B24/(SQRT(3)*$E24*(J$14*$F24+J$15*SIN(ACOS($F24)))),1000*Vst*$B24/(SQRT(3)*$H24*(J$14*$I24+J$15*SIN(ACOS($I24)))))),"NOK") -> 145.87424 | K24: =IF(K$13>$E24,IF(MIN(1000*Vd*$B24/(SQRT(3)*$E24*(K$14*$F24+K$15*SIN(ACOS($F24)))),1000*Vst*$B24/(SQRT(3)*$H24*(K$14*$I24+K$15*SIN(ACOS($I24)))))>$F$6, ">"&$F$6,MIN(1000*Vd*$B24/(SQRT(3)*$E24*(K$14*$F24+K$15*SIN(ACOS($F24)))),1000*Vst*$B24/(SQRT(3)*$H24*(K$14*$I24+K$15*SIN(ACOS($I24)))))),"NOK") -> 217.77362 | L24: =IF(L$13>$E24,IF(MIN(1000*Vd*$B24/(SQRT(3)*$E24*(L$14*$F24+L$15*SIN(ACOS($F24)))),1000*Vst*$B24/(SQRT(3)*$H24*(L$14*$I24+L$15*SIN(ACOS($I24)))))>$F$6, ">"&$F$6,MIN(1000*Vd*$B24/(SQRT(3)*$E24*(L$14*$F24+L$15*SIN(ACOS($F24)))),1000*Vst*$B24/(SQRT(3)*$H24*(L$14*$I24+L$15*SIN(ACOS($I24)))))),"NOK") -> >350 | M24: =IF(M$13>$E24,IF(MIN(1000*Vd*$B24/(SQRT(3)*$E24*(M$14*$F24+M$15*SIN(ACOS($F24)))),1000*Vst*$B24/(SQRT(3)*$H24*(M$14*$I24+M$15*SIN(ACOS($I24)))))>$F$6, ">"&$F$6,MIN(1000*Vd*$B24/(SQRT(3)*$E24*(M$14*$F24+M$15*SIN(ACOS($F24)))),1000*Vst*$B24/(SQRT(3)*$H24*(M$14*$I24+M$15*SIN(ACOS($I24)))))),"NOK") -> >350 | N24: =IF(N$13>$E24,IF(MIN(1000*Vd*$B24/(SQRT(3)*$E24*(N$14*$F24+N$15*SIN(ACOS($F24)))),1000*Vst*$B24/(SQRT(3)*$H24*(N$14*$I24+N$15*SIN(ACOS($I24)))))>$F$6, ">"&$F$6,MIN(1000*Vd*$B24/(SQRT(3)*$E24*(N$14*$F24+N$15*SIN(ACOS($F24)))),1000*Vst*$B24/(SQRT(3)*$H24*(N$14*$I24+N$15*SIN(ACOS($I24)))))),"NOK") -> >350 | O24: =IF(O$13>$E24,IF(MIN(1000*Vd*$B24/(SQRT(3)*$E24*(O$14*$F24+O$15*SIN(ACOS($F24)))),1000*Vst*$B24/(SQRT(3)*$H24*(O$14*$I24+O$15*SIN(ACOS($I24)))))>$F$6, ">"&$F$6,MIN(1000*Vd*$B24/(SQRT(3)*$E24*(O$14*$F24+O$15*SIN(ACOS($F24)))),1000*Vst*$B24/(SQRT(3)*$H24*(O$14*$I24+O$15*SIN(ACOS($I24)))))),"NOK") -> >350 | P24: =IF(P$13>$E24,IF(MIN(1000*Vd*$B24/(SQRT(3)*$E24*(P$14*$F24+P$15*SIN(ACOS($F24)))),1000*Vst*$B24/(SQRT(3)*$H24*(P$14*$I24+P$15*SIN(ACOS($I24)))))>$F$6, ">"&$F$6,MIN(1000*Vd*$B24/(SQRT(3)*$E24*(P$14*$F24+P$15*SIN(ACOS($F24)))),1000*Vst*$B24/(SQRT(3)*$H24*(P$14*$I24+P$15*SIN(ACOS($I24)))))),"NOK") -> >350 | Q24: =IF(Q$13>$E24,IF(MIN(1000*Vd*$B24/(SQRT(3)*$E24*(Q$14*$F24+Q$15*SIN(ACOS($F24)))),1000*Vst*$B24/(SQRT(3)*$H24*(Q$14*$I24+Q$15*SIN(ACOS($I24)))))>$F$6, ">"&$F$6,MIN(1000*Vd*$B24/(SQRT(3)*$E24*(Q$14*$F24+Q$15*SIN(ACOS($F24)))),1000*Vst*$B24/(SQRT(3)*$H24*(Q$14*$I24+Q$15*SIN(ACOS($I24)))))),"NOK") -> >350 | ... AL24: =IF(AL$13>$E24,IF(MIN(1000*Vd*$B24/(SQRT(3)*$E24*(AL$14*$F24+AL$15*SIN(ACOS($F24)))),1000*Vst*$B24/(SQRT(3)*$H24*(AL$14*$I24+AL$15*SIN(ACOS($I24)))))>$F$6, ">"&$F$6,MIN(1000*Vd*$B24/(SQRT(3)*$E24*(AL$14*$F24+AL$15*SIN(ACOS($F24)))),1000*Vst*$B24/(SQRT(3)*$H24*(AL$14*$I24+AL$15*SIN(ACOS($I24)))))),"NOK") -> >350
B25: 400 | C25: 7.5 | D25: =VLOOKUP($C25,'ABB MOTOR DATA Ex na'!$E$6:$U$52,6,0) -> 0.891 | E25: =(C25*1000)/(SQRT(3)*B25*D25*F25) -> 16.199503 | F25: =VLOOKUP($C25,'ABB MOTOR DATA Ex na'!$E$6:$U$52,8,0) -> 0.75 | G25: =VLOOKUP($C25,'ABB MOTOR DATA Ex na'!$E$6:$U$52,10,0) -> 6.8 | H25: =G25*E25 -> 110.15662 | I25: 0.52 | J25: =IF(J$13>$E25,IF(MIN(1000*Vd*$B25/(SQRT(3)*$E25*(J$14*$F25+J$15*SIN(ACOS($F25)))),1000*Vst*$B25/(SQRT(3)*$H25*(J$14*$I25+J$15*SIN(ACOS($I25)))))>$F$6, ">"&$F$6,MIN(1000*Vd*$B25/(SQRT(3)*$E25*(J$14*$F25+J$15*SIN(ACOS($F25)))),1000*Vst*$B25/(SQRT(3)*$H25*(J$14*$I25+J$15*SIN(ACOS($I25)))))),"NOK") -> 98.326753 | K25: =IF(K$13>$E25,IF(MIN(1000*Vd*$B25/(SQRT(3)*$E25*(K$14*$F25+K$15*SIN(ACOS($F25)))),1000*Vst*$B25/(SQRT(3)*$H25*(K$14*$I25+K$15*SIN(ACOS($I25)))))>$F$6, ">"&$F$6,MIN(1000*Vd*$B25/(SQRT(3)*$E25*(K$14*$F25+K$15*SIN(ACOS($F25)))),1000*Vst*$B25/(SQRT(3)*$H25*(K$14*$I25+K$15*SIN(ACOS($I25)))))),"NOK") -> 146.96683 | L25: =IF(L$13>$E25,IF(MIN(1000*Vd*$B25/(SQRT(3)*$E25*(L$14*$F25+L$15*SIN(ACOS($F25)))),1000*Vst*$B25/(SQRT(3)*$H25*(L$14*$I25+L$15*SIN(ACOS($I25)))))>$F$6, ">"&$F$6,MIN(1000*Vd*$B25/(SQRT(3)*$E25*(L$14*$F25+L$15*SIN(ACOS($F25)))),1000*Vst*$B25/(SQRT(3)*$H25*(L$14*$I25+L$15*SIN(ACOS($I25)))))),"NOK") -> 243.29074 | M25: =IF(M$13>$E25,IF(MIN(1000*Vd*$B25/(SQRT(3)*$E25*(M$14*$F25+M$15*SIN(ACOS($F25)))),1000*Vst*$B25/(SQRT(3)*$H25*(M$14*$I25+M$15*SIN(ACOS($I25)))))>$F$6, ">"&$F$6,MIN(1000*Vd*$B25/(SQRT(3)*$E25*(M$14*$F25+M$15*SIN(ACOS($F25)))),1000*Vst*$B25/(SQRT(3)*$H25*(M$14*$I25+M$15*SIN(ACOS($I25)))))),"NOK") -> >350 | N25: =IF(N$13>$E25,IF(MIN(1000*Vd*$B25/(SQRT(3)*$E25*(N$14*$F25+N$15*SIN(ACOS($F25)))),1000*Vst*$B25/(SQRT(3)*$H25*(N$14*$I25+N$15*SIN(ACOS($I25)))))>$F$6, ">"&$F$6,MIN(1000*Vd*$B25/(SQRT(3)*$E25*(N$14*$F25+N$15*SIN(ACOS($F25)))),1000*Vst*$B25/(SQRT(3)*$H25*(N$14*$I25+N$15*SIN(ACOS($I25)))))),"NOK") -> >350 | O25: =IF(O$13>$E25,IF(MIN(1000*Vd*$B25/(SQRT(3)*$E25*(O$14*$F25+O$15*SIN(ACOS($F25)))),1000*Vst*$B25/(SQRT(3)*$H25*(O$14*$I25+O$15*SIN(ACOS($I25)))))>$F$6, ">"&$F$6,MIN(1000*Vd*$B25/(SQRT(3)*$E25*(O$14*$F25+O$15*SIN(ACOS($F25)))),1000*Vst*$B25/(SQRT(3)*$H25*(O$14*$I25+O$15*SIN(ACOS($I25)))))),"NOK") -> >350 | P25: =IF(P$13>$E25,IF(MIN(1000*Vd*$B25/(SQRT(3)*$E25*(P$14*$F25+P$15*SIN(ACOS($F25)))),1000*Vst*$B25/(SQRT(3)*$H25*(P$14*$I25+P$15*SIN(ACOS($I25)))))>$F$6, ">"&$F$6,MIN(1000*Vd*$B25/(SQRT(3)*$E25*(P$14*$F25+P$15*SIN(ACOS($F25)))),1000*Vst*$B25/(SQRT(3)*$H25*(P$14*$I25+P$15*SIN(ACOS($I25)))))),"NOK") -> >350 | Q25: =IF(Q$13>$E25,IF(MIN(1000*Vd*$B25/(SQRT(3)*$E25*(Q$14*$F25+Q$15*SIN(ACOS($F25)))),1000*Vst*$B25/(SQRT(3)*$H25*(Q$14*$I25+Q$15*SIN(ACOS($I25)))))>$F$6, ">"&$F$6,MIN(1000*Vd*$B25/(SQRT(3)*$E25*(Q$14*$F25+Q$15*SIN(ACOS($F25)))),1000*Vst*$B25/(SQRT(3)*$H25*(Q$14*$I25+Q$15*SIN(ACOS($I25)))))),"NOK") -> >350 | ... AL25: =IF(AL$13>$E25,IF(MIN(1000*Vd*$B25/(SQRT(3)*$E25*(AL$14*$F25+AL$15*SIN(ACOS($F25)))),1000*Vst*$B25/(SQRT(3)*$H25*(AL$14*$I25+AL$15*SIN(ACOS($I25)))))>$F$6, ">"&$F$6,MIN(1000*Vd*$B25/(SQRT(3)*$E25*(AL$14*$F25+AL$15*SIN(ACOS($F25)))),1000*Vst*$B25/(SQRT(3)*$H25*(AL$14*$I25+AL$15*SIN(ACOS($I25)))))),"NOK") -> >350
B26: 400 | C26: 11 | D26: =VLOOKUP($C26,'ABB MOTOR DATA Ex na'!$E$6:$U$52,6,0) -> 0.912 | E26: =(C26*1000)/(SQRT(3)*B26*D26*F26) -> 21.230654 | F26: =VLOOKUP($C26,'ABB MOTOR DATA Ex na'!$E$6:$U$52,8,0) -> 0.82 | G26: =VLOOKUP($C26,'ABB MOTOR DATA Ex na'!$E$6:$U$52,10,0) -> 7.8 | H26: =G26*E26 -> 165.5991 | I26: 0.55 | J26: =IF(J$13>$E26,IF(MIN(1000*Vd*$B26/(SQRT(3)*$E26*(J$14*$F26+J$15*SIN(ACOS($F26)))),1000*Vst*$B26/(SQRT(3)*$H26*(J$14*$I26+J$15*SIN(ACOS($I26)))))>$F$6, ">"&$F$6,MIN(1000*Vd*$B26/(SQRT(3)*$E26*(J$14*$F26+J$15*SIN(ACOS($F26)))),1000*Vst*$B26/(SQRT(3)*$H26*(J$14*$I26+J$15*SIN(ACOS($I26)))))),"NOK") -> 61.959419 | K26: =IF(K$13>$E26,IF(MIN(1000*Vd*$B26/(SQRT(3)*$E26*(K$14*$F26+K$15*SIN(ACOS($F26)))),1000*Vst*$B26/(SQRT(3)*$H26*(K$14*$I26+K$15*SIN(ACOS($I26)))))>$F$6, ">"&$F$6,MIN(1000*Vd*$B26/(SQRT(3)*$E26*(K$14*$F26+K$15*SIN(ACOS($F26)))),1000*Vst*$B26/(SQRT(3)*$H26*(K$14*$I26+K$15*SIN(ACOS($I26)))))),"NOK") -> 92.684385 | L26: =IF(L$13>$E26,IF(MIN(1000*Vd*$B26/(SQRT(3)*$E26*(L$14*$F26+L$15*SIN(ACOS($F26)))),1000*Vst*$B26/(SQRT(3)*$H26*(L$14*$I26+L$15*SIN(ACOS($I26)))))>$F$6, ">"&$F$6,MIN(1000*Vd*$B26/(SQRT(3)*$E26*(L$14*$F26+L$15*SIN(ACOS($F26)))),1000*Vst*$B26/(SQRT(3)*$H26*(L$14*$I26+L$15*SIN(ACOS($I26)))))),"NOK") -> 153.66199 | M26: =IF(M$13>$E26,IF(MIN(1000*Vd*$B26/(SQRT(3)*$E26*(M$14*$F26+M$15*SIN(ACOS($F26)))),1000*Vst*$B26/(SQRT(3)*$H26*(M$14*$I26+M$15*SIN(ACOS($I26)))))>$F$6, ">"&$F$6,MIN(1000*Vd*$B26/(SQRT(3)*$E26*(M$14*$F26+M$15*SIN(ACOS($F26)))),1000*Vst*$B26/(SQRT(3)*$H26*(M$14*$I26+M$15*SIN(ACOS($I26)))))),"NOK") -> 237.40662 | N26: =IF(N$13>$E26,IF(MIN(1000*Vd*$B26/(SQRT(3)*$E26*(N$14*$F26+N$15*SIN(ACOS($F26)))),1000*Vst*$B26/(SQRT(3)*$H26*(N$14*$I26+N$15*SIN(ACOS($I26)))))>$F$6, ">"&$F$6,MIN(1000*Vd*$B26/(SQRT(3)*$E26*(N$14*$F26+N$15*SIN(ACOS($F26)))),1000*Vst*$B26/(SQRT(3)*$H26*(N$14*$I26+N$15*SIN(ACOS($I26)))))),"NOK") -> >350 | O26: =IF(O$13>$E26,IF(MIN(1000*Vd*$B26/(SQRT(3)*$E26*(O$14*$F26+O$15*SIN(ACOS($F26)))),1000*Vst*$B26/(SQRT(3)*$H26*(O$14*$I26+O$15*SIN(ACOS($I26)))))>$F$6, ">"&$F$6,MIN(1000*Vd*$B26/(SQRT(3)*$E26*(O$14*$F26+O$15*SIN(ACOS($F26)))),1000*Vst*$B26/(SQRT(3)*$H26*(O$14*$I26+O$15*SIN(ACOS($I26)))))),"NOK") -> >350 | P26: =IF(P$13>$E26,IF(MIN(1000*Vd*$B26/(SQRT(3)*$E26*(P$14*$F26+P$15*SIN(ACOS($F26)))),1000*Vst*$B26/(SQRT(3)*$H26*(P$14*$I26+P$15*SIN(ACOS($I26)))))>$F$6, ">"&$F$6,MIN(1000*Vd*$B26/(SQRT(3)*$E26*(P$14*$F26+P$15*SIN(ACOS($F26)))),1000*Vst*$B26/(SQRT(3)*$H26*(P$14*$I26+P$15*SIN(ACOS($I26)))))),"NOK") -> >350 | Q26: =IF(Q$13>$E26,IF(MIN(1000*Vd*$B26/(SQRT(3)*$E26*(Q$14*$F26+Q$15*SIN(ACOS($F26)))),1000*Vst*$B26/(SQRT(3)*$H26*(Q$14*$I26+Q$15*SIN(ACOS($I26)))))>$F$6, ">"&$F$6,MIN(1000*Vd*$B26/(SQRT(3)*$E26*(Q$14*$F26+Q$15*SIN(ACOS($F26)))),1000*Vst*$B26/(SQRT(3)*$H26*(Q$14*$I26+Q$15*SIN(ACOS($I26)))))),"NOK") -> >350 | ... AL26: =IF(AL$13>$E26,IF(MIN(1000*Vd*$B26/(SQRT(3)*$E26*(AL$14*$F26+AL$15*SIN(ACOS($F26)))),1000*Vst*$B26/(SQRT(3)*$H26*(AL$14*$I26+AL$15*SIN(ACOS($I26)))))>$F$6, ">"&$F$6,MIN(1000*Vd*$B26/(SQRT(3)*$E26*(AL$14*$F26+AL$15*SIN(ACOS($F26)))),1000*Vst*$B26/(SQRT(3)*$H26*(AL$14*$I26+AL$15*SIN(ACOS($I26)))))),"NOK") -> >350
B27: 400 | C27: 15 | D27: =VLOOKUP($C27,'ABB MOTOR DATA Ex na'!$E$6:$U$52,6,0) -> 0.92 | E27: =(C27*1000)/(SQRT(3)*B27*D27*F27) -> 28.015832 | F27: =VLOOKUP($C27,'ABB MOTOR DATA Ex na'!$E$6:$U$52,8,0) -> 0.84 | G27: =VLOOKUP($C27,'ABB MOTOR DATA Ex na'!$E$6:$U$52,10,0) -> 7.8 | H27: =G27*E27 -> 218.52349 | I27: 0.57 | J27: =IF(J$13>$E27,IF(MIN(1000*Vd*$B27/(SQRT(3)*$E27*(J$14*$F27+J$15*SIN(ACOS($F27)))),1000*Vst*$B27/(SQRT(3)*$H27*(J$14*$I27+J$15*SIN(ACOS($I27)))))>$F$6, ">"&$F$6,MIN(1000*Vd*$B27/(SQRT(3)*$E27*(J$14*$F27+J$15*SIN(ACOS($F27)))),1000*Vst*$B27/(SQRT(3)*$H27*(J$14*$I27+J$15*SIN(ACOS($I27)))))),"NOK") -> NOK | K27: =IF(K$13>$E27,IF(MIN(1000*Vd*$B27/(SQRT(3)*$E27*(K$14*$F27+K$15*SIN(ACOS($F27)))),1000*Vst*$B27/(SQRT(3)*$H27*(K$14*$I27+K$15*SIN(ACOS($I27)))))>$F$6, ">"&$F$6,MIN(1000*Vd*$B27/(SQRT(3)*$E27*(K$14*$F27+K$15*SIN(ACOS($F27)))),1000*Vst*$B27/(SQRT(3)*$H27*(K$14*$I27+K$15*SIN(ACOS($I27)))))),"NOK") -> 67.888537 | L27: =IF(L$13>$E27,IF(MIN(1000*Vd*$B27/(SQRT(3)*$E27*(L$14*$F27+L$15*SIN(ACOS($F27)))),1000*Vst*$B27/(SQRT(3)*$H27*(L$14*$I27+L$15*SIN(ACOS($I27)))))>$F$6, ">"&$F$6,MIN(1000*Vd*$B27/(SQRT(3)*$E27*(L$14*$F27+L$15*SIN(ACOS($F27)))),1000*Vst*$B27/(SQRT(3)*$H27*(L$14*$I27+L$15*SIN(ACOS($I27)))))),"NOK") -> 112.65852 | M27: =IF(M$13>$E27,IF(MIN(1000*Vd*$B27/(SQRT(3)*$E27*(M$14*$F27+M$15*SIN(ACOS($F27)))),1000*Vst*$B27/(SQRT(3)*$H27*(M$14*$I27+M$15*SIN(ACOS($I27)))))>$F$6, ">"&$F$6,MIN(1000*Vd*$B27/(SQRT(3)*$E27*(M$14*$F27+M$15*SIN(ACOS($F27)))),1000*Vst*$B27/(SQRT(3)*$H27*(M$14*$I27+M$15*SIN(ACOS($I27)))))),"NOK") -> 174.27478 | N27: =IF(N$13>$E27,IF(MIN(1000*Vd*$B27/(SQRT(3)*$E27*(N$14*$F27+N$15*SIN(ACOS($F27)))),1000*Vst*$B27/(SQRT(3)*$H27*(N$14*$I27+N$15*SIN(ACOS($I27)))))>$F$6, ">"&$F$6,MIN(1000*Vd*$B27/(SQRT(3)*$E27*(N$14*$F27+N$15*SIN(ACOS($F27)))),1000*Vst*$B27/(SQRT(3)*$H27*(N$14*$I27+N$15*SIN(ACOS($I27)))))),"NOK") -> 264.56378 | O27: =IF(O$13>$E27,IF(MIN(1000*Vd*$B27/(SQRT(3)*$E27*(O$14*$F27+O$15*SIN(ACOS($F27)))),1000*Vst*$B27/(SQRT(3)*$H27*(O$14*$I27+O$15*SIN(ACOS($I27)))))>$F$6, ">"&$F$6,MIN(1000*Vd*$B27/(SQRT(3)*$E27*(O$14*$F27+O$15*SIN(ACOS($F27)))),1000*Vst*$B27/(SQRT(3)*$H27*(O$14*$I27+O$15*SIN(ACOS($I27)))))),"NOK") -> >350 | P27: =IF(P$13>$E27,IF(MIN(1000*Vd*$B27/(SQRT(3)*$E27*(P$14*$F27+P$15*SIN(ACOS($F27)))),1000*Vst*$B27/(SQRT(3)*$H27*(P$14*$I27+P$15*SIN(ACOS($I27)))))>$F$6, ">"&$F$6,MIN(1000*Vd*$B27/(SQRT(3)*$E27*(P$14*$F27+P$15*SIN(ACOS($F27)))),1000*Vst*$B27/(SQRT(3)*$H27*(P$14*$I27+P$15*SIN(ACOS($I27)))))),"NOK") -> >350 | Q27: =IF(Q$13>$E27,IF(MIN(1000*Vd*$B27/(SQRT(3)*$E27*(Q$14*$F27+Q$15*SIN(ACOS($F27)))),1000*Vst*$B27/(SQRT(3)*$H27*(Q$14*$I27+Q$15*SIN(ACOS($I27)))))>$F$6, ">"&$F$6,MIN(1000*Vd*$B27/(SQRT(3)*$E27*(Q$14*$F27+Q$15*SIN(ACOS($F27)))),1000*Vst*$B27/(SQRT(3)*$H27*(Q$14*$I27+Q$15*SIN(ACOS($I27)))))),"NOK") -> >350 | ... AL27: =IF(AL$13>$E27,IF(MIN(1000*Vd*$B27/(SQRT(3)*$E27*(AL$14*$F27+AL$15*SIN(ACOS($F27)))),1000*Vst*$B27/(SQRT(3)*$H27*(AL$14*$I27+AL$15*SIN(ACOS($I27)))))>$F$6, ">"&$F$6,MIN(1000*Vd*$B27/(SQRT(3)*$E27*(AL$14*$F27+AL$15*SIN(ACOS($F27)))),1000*Vst*$B27/(SQRT(3)*$H27*(AL$14*$I27+AL$15*SIN(ACOS($I27)))))),"NOK") -> >350
B28: 400 | C28: 18.5 | D28: =VLOOKUP($C28,'ABB MOTOR DATA Ex na'!$E$6:$U$52,6,0) -> 0.916 | E28: =(C28*1000)/(SQRT(3)*B28*D28*F28) -> 35.121863 | F28: =VLOOKUP($C28,'ABB MOTOR DATA Ex na'!$E$6:$U$52,8,0) -> 0.83 | G28: =VLOOKUP($C28,'ABB MOTOR DATA Ex na'!$E$6:$U$52,10,0) -> 7.2 | H28: =G28*E28 -> 252.87741 | I28: 0.56 | J28: =IF(J$13>$E28,IF(MIN(1000*Vd*$B28/(SQRT(3)*$E28*(J$14*$F28+J$15*SIN(ACOS($F28)))),1000*Vst*$B28/(SQRT(3)*$H28*(J$14*$I28+J$15*SIN(ACOS($I28)))))>$F$6, ">"&$F$6,MIN(1000*Vd*$B28/(SQRT(3)*$E28*(J$14*$F28+J$15*SIN(ACOS($F28)))),1000*Vst*$B28/(SQRT(3)*$H28*(J$14*$I28+J$15*SIN(ACOS($I28)))))),"NOK") -> NOK | K28: =IF(K$13>$E28,IF(MIN(1000*Vd*$B28/(SQRT(3)*$E28*(K$14*$F28+K$15*SIN(ACOS($F28)))),1000*Vst*$B28/(SQRT(3)*$H28*(K$14*$I28+K$15*SIN(ACOS($I28)))))>$F$6, ">"&$F$6,MIN(1000*Vd*$B28/(SQRT(3)*$E28*(K$14*$F28+K$15*SIN(ACOS($F28)))),1000*Vst*$B28/(SQRT(3)*$H28*(K$14*$I28+K$15*SIN(ACOS($I28)))))),"NOK") -> NOK | L28: =IF(L$13>$E28,IF(MIN(1000*Vd*$B28/(SQRT(3)*$E28*(L$14*$F28+L$15*SIN(ACOS($F28)))),1000*Vst*$B28/(SQRT(3)*$H28*(L$14*$I28+L$15*SIN(ACOS($I28)))))>$F$6, ">"&$F$6,MIN(1000*Vd*$B28/(SQRT(3)*$E28*(L$14*$F28+L$15*SIN(ACOS($F28)))),1000*Vst*$B28/(SQRT(3)*$H28*(L$14*$I28+L$15*SIN(ACOS($I28)))))),"NOK") -> 98.962703 | M28: =IF(M$13>$E28,IF(MIN(1000*Vd*$B28/(SQRT(3)*$E28*(M$14*$F28+M$15*SIN(ACOS($F28)))),1000*Vst*$B28/(SQRT(3)*$H28*(M$14*$I28+M$15*SIN(ACOS($I28)))))>$F$6, ">"&$F$6,MIN(1000*Vd*$B28/(SQRT(3)*$E28*(M$14*$F28+M$15*SIN(ACOS($F28)))),1000*Vst*$B28/(SQRT(3)*$H28*(M$14*$I28+M$15*SIN(ACOS($I28)))))),"NOK") -> 152.99361 | N28: =IF(N$13>$E28,IF(MIN(1000*Vd*$B28/(SQRT(3)*$E28*(N$14*$F28+N$15*SIN(ACOS($F28)))),1000*Vst*$B28/(SQRT(3)*$H28*(N$14*$I28+N$15*SIN(ACOS($I28)))))>$F$6, ">"&$F$6,MIN(1000*Vd*$B28/(SQRT(3)*$E28*(N$14*$F28+N$15*SIN(ACOS($F28)))),1000*Vst*$B28/(SQRT(3)*$H28*(N$14*$I28+N$15*SIN(ACOS($I28)))))),"NOK") -> 232.0343 | O28: =IF(O$13>$E28,IF(MIN(1000*Vd*$B28/(SQRT(3)*$E28*(O$14*$F28+O$15*SIN(ACOS($F28)))),1000*Vst*$B28/(SQRT(3)*$H28*(O$14*$I28+O$15*SIN(ACOS($I28)))))>$F$6, ">"&$F$6,MIN(1000*Vd*$B28/(SQRT(3)*$E28*(O$14*$F28+O$15*SIN(ACOS($F28)))),1000*Vst*$B28/(SQRT(3)*$H28*(O$14*$I28+O$15*SIN(ACOS($I28)))))),"NOK") -> 309.68591 | P28: =IF(P$13>$E28,IF(MIN(1000*Vd*$B28/(SQRT(3)*$E28*(P$14*$F28+P$15*SIN(ACOS($F28)))),1000*Vst*$B28/(SQRT(3)*$H28*(P$14*$I28+P$15*SIN(ACOS($I28)))))>$F$6, ">"&$F$6,MIN(1000*Vd*$B28/(SQRT(3)*$E28*(P$14*$F28+P$15*SIN(ACOS($F28)))),1000*Vst*$B28/(SQRT(3)*$H28*(P$14*$I28+P$15*SIN(ACOS($I28)))))),"NOK") -> >350 | Q28: =IF(Q$13>$E28,IF(MIN(1000*Vd*$B28/(SQRT(3)*$E28*(Q$14*$F28+Q$15*SIN(ACOS($F28)))),1000*Vst*$B28/(SQRT(3)*$H28*(Q$14*$I28+Q$15*SIN(ACOS($I28)))))>$F$6, ">"&$F$6,MIN(1000*Vd*$B28/(SQRT(3)*$E28*(Q$14*$F28+Q$15*SIN(ACOS($F28)))),1000*Vst*$B28/(SQRT(3)*$H28*(Q$14*$I28+Q$15*SIN(ACOS($I28)))))),"NOK") -> >350 | ... AL28: =IF(AL$13>$E28,IF(MIN(1000*Vd*$B28/(SQRT(3)*$E28*(AL$14*$F28+AL$15*SIN(ACOS($F28)))),1000*Vst*$B28/(SQRT(3)*$H28*(AL$14*$I28+AL$15*SIN(ACOS($I28)))))>$F$6, ">"&$F$6,MIN(1000*Vd*$B28/(SQRT(3)*$E28*(AL$14*$F28+AL$15*SIN(ACOS($F28)))),1000*Vst*$B28/(SQRT(3)*$H28*(AL$14*$I28+AL$15*SIN(ACOS($I28)))))),"NOK") -> >350
... B45: 400 | C45: 500 | D45: =VLOOKUP($C45,'ABB MOTOR DATA Ex na'!$E$6:$U$52,6,0) -> 0.97 | E45: =(C45*1000)/(SQRT(3)*B45*D45*F45) -> 865.12567 | F45: =VLOOKUP($C45,'ABB MOTOR DATA Ex na'!$E$6:$U$52,8,0) -> 0.86 | G45: =VLOOKUP($C45,'ABB MOTOR DATA Ex na'!$E$6:$U$52,10,0) -> 6.8 | H45: =G45*E45 -> 5882.8546 | I45: 0.3 | J45: =IF(J$13>$E45,IF(MIN(1000*Vd*$B45/(SQRT(3)*$E45*(J$14*$F45+J$15*SIN(ACOS($F45)))),1000*Vst*$B45/(SQRT(3)*$H45*(J$14*$I45+J$15*SIN(ACOS($I45)))))>$F$6, ">"&$F$6,MIN(1000*Vd*$B45/(SQRT(3)*$E45*(J$14*$F45+J$15*SIN(ACOS($F45)))),1000*Vst*$B45/(SQRT(3)*$H45*(J$14*$I45+J$15*SIN(ACOS($I45)))))),"NOK") -> NOK | K45: =IF(K$13>$E45,IF(MIN(1000*Vd*$B45/(SQRT(3)*$E45*(K$14*$F45+K$15*SIN(ACOS($F45)))),1000*Vst*$B45/(SQRT(3)*$H45*(K$14*$I45+K$15*SIN(ACOS($I45)))))>$F$6, ">"&$F$6,MIN(1000*Vd*$B45/(SQRT(3)*$E45*(K$14*$F45+K$15*SIN(ACOS($F45)))),1000*Vst*$B45/(SQRT(3)*$H45*(K$14*$I45+K$15*SIN(ACOS($I45)))))),"NOK") -> NOK | L45: =IF(L$13>$E45,IF(MIN(1000*Vd*$B45/(SQRT(3)*$E45*(L$14*$F45+L$15*SIN(ACOS($F45)))),1000*Vst*$B45/(SQRT(3)*$H45*(L$14*$I45+L$15*SIN(ACOS($I45)))))>$F$6, ">"&$F$6,MIN(1000*Vd*$B45/(SQRT(3)*$E45*(L$14*$F45+L$15*SIN(ACOS($F45)))),1000*Vst*$B45/(SQRT(3)*$H45*(L$14*$I45+L$15*SIN(ACOS($I45)))))),"NOK") -> NOK | M45: =IF(M$13>$E45,IF(MIN(1000*Vd*$B45/(SQRT(3)*$E45*(M$14*$F45+M$15*SIN(ACOS($F45)))),1000*Vst*$B45/(SQRT(3)*$H45*(M$14*$I45+M$15*SIN(ACOS($I45)))))>$F$6, ">"&$F$6,MIN(1000*Vd*$B45/(SQRT(3)*$E45*(M$14*$F45+M$15*SIN(ACOS($F45)))),1000*Vst*$B45/(SQRT(3)*$H45*(M$14*$I45+M$15*SIN(ACOS($I45)))))),"NOK") -> NOK | N45: =IF(N$13>$E45,IF(MIN(1000*Vd*$B45/(SQRT(3)*$E45*(N$14*$F45+N$15*SIN(ACOS($F45)))),1000*Vst*$B45/(SQRT(3)*$H45*(N$14*$I45+N$15*SIN(ACOS($I45)))))>$F$6, ">"&$F$6,MIN(1000*Vd*$B45/(SQRT(3)*$E45*(N$14*$F45+N$15*SIN(ACOS($F45)))),1000*Vst*$B45/(SQRT(3)*$H45*(N$14*$I45+N$15*SIN(ACOS($I45)))))),"NOK") -> NOK | O45: =IF(O$13>$E45,IF(MIN(1000*Vd*$B45/(SQRT(3)*$E45*(O$14*$F45+O$15*SIN(ACOS($F45)))),1000*Vst*$B45/(SQRT(3)*$H45*(O$14*$I45+O$15*SIN(ACOS($I45)))))>$F$6, ">"&$F$6,MIN(1000*Vd*$B45/(SQRT(3)*$E45*(O$14*$F45+O$15*SIN(ACOS($F45)))),1000*Vst*$B45/(SQRT(3)*$H45*(O$14*$I45+O$15*SIN(ACOS($I45)))))),"NOK") -> NOK | P45: =IF(P$13>$E45,IF(MIN(1000*Vd*$B45/(SQRT(3)*$E45*(P$14*$F45+P$15*SIN(ACOS($F45)))),1000*Vst*$B45/(SQRT(3)*$H45*(P$14*$I45+P$15*SIN(ACOS($I45)))))>$F$6, ">"&$F$6,MIN(1000*Vd*$B45/(SQRT(3)*$E45*(P$14*$F45+P$15*SIN(ACOS($F45)))),1000*Vst*$B45/(SQRT(3)*$H45*(P$14*$I45+P$15*SIN(ACOS($I45)))))),"NOK") -> NOK | Q45: =IF(Q$13>$E45,IF(MIN(1000*Vd*$B45/(SQRT(3)*$E45*(Q$14*$F45+Q$15*SIN(ACOS($F45)))),1000*Vst*$B45/(SQRT(3)*$H45*(Q$14*$I45+Q$15*SIN(ACOS($I45)))))>$F$6, ">"&$F$6,MIN(1000*Vd*$B45/(SQRT(3)*$E45*(Q$14*$F45+Q$15*SIN(ACOS($F45)))),1000*Vst*$B45/(SQRT(3)*$H45*(Q$14*$I45+Q$15*SIN(ACOS($I45)))))),"NOK") -> NOK | ... AL45: =IF(AL$13>$E45,IF(MIN(1000*Vd*$B45/(SQRT(3)*$E45*(AL$14*$F45+AL$15*SIN(ACOS($F45)))),1000*Vst*$B45/(SQRT(3)*$H45*(AL$14*$I45+AL$15*SIN(ACOS($I45)))))>$F$6, ">"&$F$6,MIN(1000*Vd*$B45/(SQRT(3)*$E45*(AL$14*$F45+AL$15*SIN(ACOS($F45)))),1000*Vst*$B45/(SQRT(3)*$H45*(AL$14*$I45+AL$15*SIN(ACOS($I45)))))),"NOK") -> 235.49887

Sheet Sheet1
A1: Ref | B1: Power | C1: Lenght | D1: Result Size
A2: titi | B2: 132 | C2: 350 | D2: 3 x 185 mm²
A3: toto | B3: 30 | C3: 44 | D3: 3 x 16 mm²
A4: tata | B4: 7.5 | C4: 220
A5: tautau | B5: 9.5 | C5: 50
A6: tutu | B6: 350 | C6: 350
A7: toutou | B7: 12 | C7: 68
A8: tyty | B8: 3 | C8: 280

Sheet LV FEEDER CHART IN AIR
B2: LV FEEDERS - CABLES LAID IN AIR
B4: Maximum Volt Drop at LV bus (%) | E4: ΔVb | F4: 0.05 | H4: DERATING FACTORS | I4: Ambient temperature factor (40°C) | N4: 1.05
I5: Layer factor | N5: 0.8
B6: Max Length | E6: Lmax | F6: 500 | I6: Touching - LV 3-core | N6: 0.78
I7: Trefoil untouching - LV single core | N7: 0.9
E9: 3-CORE CABLES | R9: SINGLE-CORE CABLES
B10: Conductor Size | E10: 3 x 4 mm² | F10: 3 x 6 mm² | G10: 3 x 10 mm² | H10: 3 x 16 mm² | I10: 3 x 25 mm² | J10: 3 x 35 mm² | K10: 3 x 50 mm² | L10: 3 x 70 mm² | M10: 3 x 95 mm² | N10: 3 x 120 mm² | O10: 3 x 150 mm² | P10: 3 x 185 mm² | Q10: 3 x 240 mm² | R10: 3 x 1 x 150 mm² | S10: 3 x 1 x 185 mm² | T10: 3 x 1 x 240 mm² | U10: 3 x 1 x 300 mm² | V10: 3 x 1 x 400 mm² | W10: 2 x 3 x 1 x 150 mm² | X10: 2 x 3 x 1 x 185 mm² | Y10: 2 x 3 x 1 x 240 mm² | Z10: 2 x 3 x 1 x 300 mm² | AA10: 2 x 3 x 1 x 400 mm² | AB10: 3 x 3 x 1 x 240 mm² | AC10: 3 x 3 x 1 x 300 mm² | AD10: 3 x 3 x 1 x 400 mm² | AE10: 3 x 3 x 1 x 500 mm² | AF10: 3 x 3 x 1 x 630 mm² | AG10: 4 x 3 x 1 x 240 mm² | AH10: 4 x 3 x 1 x 300 mm² | AI10: 4 x 3 x 1 x 400 mm² | AJ10: 4 x 3 x 1 x 500 mm² | AK10: 4 x 3 x 1 x 630 mm² | AL10: 5 x 3 x 1 x 240 mm² | AM10: 5 x 3 x 1 x 300 mm² | AN10: 5 x 3 x 1 x 400 mm² | AO10: 5 x 3 x 1 x 500 mm² | AP10: 5 x 3 x 1 x 630 mm² | AQ10: 6 x 3 x 1 x 240 mm² | AR10: 6 x 3 x 1 x 300 mm² | AS10: 6 x 3 x 1 x 400 mm² | AT10: 6 x 3 x 1 x 500 mm² | AU10: 6 x 3 x 1 x 630 mm²
B11: Current Rating (Base) as per IEC 61892-4 Annex A, Table A-7 | E11: 37 | F11: 47 | G11: 65 | H11: 87 | I11: 110 | J11: 137 | K11: 167 | L11: 214 | M11: 259 | N11: 301 | O11: 347 | P11: 397 | Q11: 468 | R11: 386 | S11: 444 | T11: 528 | U11: 612 | V11: 716 | W11: 772 | X11: 888 | Y11: 1056 | Z11: 1224 | AA11: 1432 | AB11: 1584 | AC11: 1836 | AD11: 2148 | AE11: 2469 | AF11: 2841 | AG11: 2112 | AH11: 2448 | AI11: 2864 | AJ11: 3292 | AK11: 3788 | AL11: 2640 | AM11: 3060 | AN11: 3580 | AO11: 4115 | AP11: 4735 | AQ11: 3168 | AR11: 3672 | AS11: 4296 | AT11: 4938 | AU11: 5682
B12: Derating factor | E12: =$N$4*$N$5*$N$6 -> 0.6552 | F12: =$N$4*$N$5*$N$6 -> 0.6552 | G12: =$N$4*$N$5*$N$6 -> 0.6552 | H12: =$N$4*$N$5*$N$6 -> 0.6552 | I12: =$N$4*$N$5*$N$6 -> 0.6552 | J12: =$N$4*$N$5*$N$6 -> 0.6552 | K12: =$N$4*$N$5*$N$6 -> 0.6552 | L12: =$N$4*$N$5*$N$6 -> 0.6552 | ... Q12: =$N$4*$N$5*$N$6 -> 0.6552 | R12: =$N$4*$N$7 -> 0.945 | S12: =$N$4*$N$7 -> 0.945 | T12: =$N$4*$N$7 -> 0.945 | U12: =$N$4*$N$7 -> 0.945 | V12: =$N$4*$N$7 -> 0.945 | W12: =$N$4*$N$7 -> 0.945 | X12: =$N$4*$N$7 -> 0.945 | Y12: =$N$4*$N$7 -> 0.945 | ... AU12: =$N$4*$N$7 -> 0.945
B13: Current Rating (Derated) | E13: =E11*E12 -> 24.2424 | F13: =F11*F12 -> 30.7944 | G13: =G11*G12 -> 42.588 | H13: =H11*H12 -> 57.0024 | I13: =I11*I12 -> 72.072 | J13: =J11*J12 -> 89.7624 | K13: =K11*K12 -> 109.4184 | L13: =L11*L12 -> 140.2128 | ... AU13: =AU11*AU12 -> 5369.49
B14: Typical Resistance (a.c. at conductor temp.) (Ω/Km) form IEC 60228 | E14: =VLOOKUP(E$10,'CIRCUIT PRYSMIAN'!$B$6:$V$49,13,0) -> 5.9927308 | F14: =VLOOKUP(F$10,'CIRCUIT PRYSMIAN'!$B$6:$V$49,13,0) -> 3.9654028 | G14: =VLOOKUP(G$10,'CIRCUIT PRYSMIAN'!$B$6:$V$49,13,0) -> 2.3460904 | H14: =VLOOKUP(H$10,'CIRCUIT PRYSMIAN'!$B$6:$V$49,13,0) -> 1.479057 | I14: =VLOOKUP(I$10,'CIRCUIT PRYSMIAN'!$B$6:$V$49,13,0) -> 0.93588605 | J14: =VLOOKUP(J$10,'CIRCUIT PRYSMIAN'!$B$6:$V$49,13,0) -> 0.67450098 | K14: =VLOOKUP(K$10,'CIRCUIT PRYSMIAN'!$B$6:$V$49,13,0) -> 0.4985442 | L14: =VLOOKUP(L$10,'CIRCUIT PRYSMIAN'!$B$6:$V$49,13,0) -> 0.34426326 | ... AU14: =VLOOKUP(AU$10,'CIRCUIT PRYSMIAN'!$B$6:$V$49,13,0) -> 0.0060139817
B15: Reactance at 50Hz (Ω/Km) | E15: =VLOOKUP(E$10,'CIRCUIT PRYSMIAN'!$B$6:$V$49,19,0) -> 0.096 | F15: =VLOOKUP(F$10,'CIRCUIT PRYSMIAN'!$B$6:$V$49,19,0) -> 0.091 | G15: =VLOOKUP(G$10,'CIRCUIT PRYSMIAN'!$B$6:$V$49,19,0) -> 0.085 | H15: =VLOOKUP(H$10,'CIRCUIT PRYSMIAN'!$B$6:$V$49,19,0) -> 0.081 | I15: =VLOOKUP(I$10,'CIRCUIT PRYSMIAN'!$B$6:$V$49,19,0) -> 0.08 | J15: =VLOOKUP(J$10,'CIRCUIT PRYSMIAN'!$B$6:$V$49,19,0) -> 0.078 | K15: =VLOOKUP(K$10,'CIRCUIT PRYSMIAN'!$B$6:$V$49,19,0) -> 0.077 | L15: =VLOOKUP(L$10,'CIRCUIT PRYSMIAN'!$B$6:$V$49,19,0) -> 0.075 | ... AU15: =VLOOKUP(AU$10,'CIRCUIT PRYSMIAN'!$B$6:$V$49,19,0) -> 0.006
B16: V | C16: F.L.C (A) | D16: Power Factor | E16: MAXIMUM ROUTE LENGTH (METERS)
B17: 400 | C17: 16 | D17: 0.85 | E17: =IF(E$13>$C17,IF(1000*Vd*$B17/(SQRT(3)*$C17*(E$14*$D17+E$15*SIN(ACOS($D17))))>$F$6,">"&$F$6,1000*Vd*$B17/(SQRT(3)*$C17*(E$14*$D17+E$15*SIN(ACOS($D17))))),"NOK") -> 140.28631 | F17: =IF(F$13>$C17,IF(1000*Vd*$B17/(SQRT(3)*$C17*(F$14*$D17+F$15*SIN(ACOS($D17))))>$F$6,">"&$F$6,1000*Vd*$B17/(SQRT(3)*$C17*(F$14*$D17+F$15*SIN(ACOS($D17))))),"NOK") -> 211.1106 | G17: =IF(G$13>$C17,IF(1000*Vd*$B17/(SQRT(3)*$C17*(G$14*$D17+G$15*SIN(ACOS($D17))))>$F$6,">"&$F$6,1000*Vd*$B17/(SQRT(3)*$C17*(G$14*$D17+G$15*SIN(ACOS($D17))))),"NOK") -> 353.95015 | H17: =IF(H$13>$C17,IF(1000*Vd*$B17/(SQRT(3)*$C17*(H$14*$D17+H$15*SIN(ACOS($D17))))>$F$6,">"&$F$6,1000*Vd*$B17/(SQRT(3)*$C17*(H$14*$D17+H$15*SIN(ACOS($D17))))),"NOK") -> >500 | I17: =IF(I$13>$C17,IF(1000*Vd*$B17/(SQRT(3)*$C17*(I$14*$D17+I$15*SIN(ACOS($D17))))>$F$6,">"&$F$6,1000*Vd*$B17/(SQRT(3)*$C17*(I$14*$D17+I$15*SIN(ACOS($D17))))),"NOK") -> >500 | J17: =IF(J$13>$C17,IF(1000*Vd*$B17/(SQRT(3)*$C17*(J$14*$D17+J$15*SIN(ACOS($D17))))>$F$6,">"&$F$6,1000*Vd*$B17/(SQRT(3)*$C17*(J$14*$D17+J$15*SIN(ACOS($D17))))),"NOK") -> >500 | K17: =IF(K$13>$C17,IF(1000*Vd*$B17/(SQRT(3)*$C17*(K$14*$D17+K$15*SIN(ACOS($D17))))>$F$6,">"&$F$6,1000*Vd*$B17/(SQRT(3)*$C17*(K$14*$D17+K$15*SIN(ACOS($D17))))),"NOK") -> >500 | L17: =IF(L$13>$C17,IF(1000*Vd*$B17/(SQRT(3)*$C17*(L$14*$D17+L$15*SIN(ACOS($D17))))>$F$6,">"&$F$6,1000*Vd*$B17/(SQRT(3)*$C17*(L$14*$D17+L$15*SIN(ACOS($D17))))),"NOK") -> >500 | ... AU17: =IF(AU$13>$C17,IF(1000*Vd*$B17/(SQRT(3)*$C17*(AU$14*$D17+AU$15*SIN(ACOS($D17))))>$F$6,">"&$F$6,1000*Vd*$B17/(SQRT(3)*$C17*(AU$14*$D17+AU$15*SIN(ACOS($D17))))),"NOK") -> >500
B18: 400 | C18: 20 | D18: 0.85 | E18: =IF(E$13>$C18,IF(1000*Vd*$B18/(SQRT(3)*$C18*(E$14*$D18+E$15*SIN(ACOS($D18))))>$F$6,">"&$F$6,1000*Vd*$B18/(SQRT(3)*$C18*(E$14*$D18+E$15*SIN(ACOS($D18))))),"NOK") -> 112.22905 | F18: =IF(F$13>$C18,IF(1000*Vd*$B18/(SQRT(3)*$C18*(F$14*$D18+F$15*SIN(ACOS($D18))))>$F$6,">"&$F$6,1000*Vd*$B18/(SQRT(3)*$C18*(F$14*$D18+F$15*SIN(ACOS($D18))))),"NOK") -> 168.88848 | G18: =IF(G$13>$C18,IF(1000*Vd*$B18/(SQRT(3)*$C18*(G$14*$D18+G$15*SIN(ACOS($D18))))>$F$6,">"&$F$6,1000*Vd*$B18/(SQRT(3)*$C18*(G$14*$D18+G$15*SIN(ACOS($D18))))),"NOK") -> 283.16012 | H18: =IF(H$13>$C18,IF(1000*Vd*$B18/(SQRT(3)*$C18*(H$14*$D18+H$15*SIN(ACOS($D18))))>$F$6,">"&$F$6,1000*Vd*$B18/(SQRT(3)*$C18*(H$14*$D18+H$15*SIN(ACOS($D18))))),"NOK") -> 444.16075 | I18: =IF(I$13>$C18,IF(1000*Vd*$B18/(SQRT(3)*$C18*(I$14*$D18+I$15*SIN(ACOS($D18))))>$F$6,">"&$F$6,1000*Vd*$B18/(SQRT(3)*$C18*(I$14*$D18+I$15*SIN(ACOS($D18))))),"NOK") -> >500 | J18: =IF(J$13>$C18,IF(1000*Vd*$B18/(SQRT(3)*$C18*(J$14*$D18+J$15*SIN(ACOS($D18))))>$F$6,">"&$F$6,1000*Vd*$B18/(SQRT(3)*$C18*(J$14*$D18+J$15*SIN(ACOS($D18))))),"NOK") -> >500 | K18: =IF(K$13>$C18,IF(1000*Vd*$B18/(SQRT(3)*$C18*(K$14*$D18+K$15*SIN(ACOS($D18))))>$F$6,">"&$F$6,1000*Vd*$B18/(SQRT(3)*$C18*(K$14*$D18+K$15*SIN(ACOS($D18))))),"NOK") -> >500 | L18: =IF(L$13>$C18,IF(1000*Vd*$B18/(SQRT(3)*$C18*(L$14*$D18+L$15*SIN(ACOS($D18))))>$F$6,">"&$F$6,1000*Vd*$B18/(SQRT(3)*$C18*(L$14*$D18+L$15*SIN(ACOS($D18))))),"NOK") -> >500 | ... AU18: =IF(AU$13>$C18,IF(1000*Vd*$B18/(SQRT(3)*$C18*(AU$14*$D18+AU$15*SIN(ACOS($D18))))>$F$6,">"&$F$6,1000*Vd*$B18/(SQRT(3)*$C18*(AU$14*$D18+AU$15*SIN(ACOS($D18))))),"NOK") -> >500
B19: 400 | C19: 25 | D19: 0.85 | E19: =IF(E$13>$C19,IF(1000*Vd*$B19/(SQRT(3)*$C19*(E$14*$D19+E$15*SIN(ACOS($D19))))>$F$6,">"&$F$6,1000*Vd*$B19/(SQRT(3)*$C19*(E$14*$D19+E$15*SIN(ACOS($D19))))),"NOK") -> NOK | F19: =IF(F$13>$C19,IF(1000*Vd*$B19/(SQRT(3)*$C19*(F$14*$D19+F$15*SIN(ACOS($D19))))>$F$6,">"&$F$6,1000*Vd*$B19/(SQRT(3)*$C19*(F$14*$D19+F$15*SIN(ACOS($D19))))),"NOK") -> 135.11079 | G19: =IF(G$13>$C19,IF(1000*Vd*$B19/(SQRT(3)*$C19*(G$14*$D19+G$15*SIN(ACOS($D19))))>$F$6,">"&$F$6,1000*Vd*$B19/(SQRT(3)*$C19*(G$14*$D19+G$15*SIN(ACOS($D19))))),"NOK") -> 226.52809 | H19: =IF(H$13>$C19,IF(1000*Vd*$B19/(SQRT(3)*$C19*(H$14*$D19+H$15*SIN(ACOS($D19))))>$F$6,">"&$F$6,1000*Vd*$B19/(SQRT(3)*$C19*(H$14*$D19+H$15*SIN(ACOS($D19))))),"NOK") -> 355.3286 | I19: =IF(I$13>$C19,IF(1000*Vd*$B19/(SQRT(3)*$C19*(I$14*$D19+I$15*SIN(ACOS($D19))))>$F$6,">"&$F$6,1000*Vd*$B19/(SQRT(3)*$C19*(I$14*$D19+I$15*SIN(ACOS($D19))))),"NOK") -> >500 | J19: =IF(J$13>$C19,IF(1000*Vd*$B19/(SQRT(3)*$C19*(J$14*$D19+J$15*SIN(ACOS($D19))))>$F$6,">"&$F$6,1000*Vd*$B19/(SQRT(3)*$C19*(J$14*$D19+J$15*SIN(ACOS($D19))))),"NOK") -> >500 | K19: =IF(K$13>$C19,IF(1000*Vd*$B19/(SQRT(3)*$C19*(K$14*$D19+K$15*SIN(ACOS($D19))))>$F$6,">"&$F$6,1000*Vd*$B19/(SQRT(3)*$C19*(K$14*$D19+K$15*SIN(ACOS($D19))))),"NOK") -> >500 | L19: =IF(L$13>$C19,IF(1000*Vd*$B19/(SQRT(3)*$C19*(L$14*$D19+L$15*SIN(ACOS($D19))))>$F$6,">"&$F$6,1000*Vd*$B19/(SQRT(3)*$C19*(L$14*$D19+L$15*SIN(ACOS($D19))))),"NOK") -> >500 | ... AU19: =IF(AU$13>$C19,IF(1000*Vd*$B19/(SQRT(3)*$C19*(AU$14*$D19+AU$15*SIN(ACOS($D19))))>$F$6,">"&$F$6,1000*Vd*$B19/(SQRT(3)*$C19*(AU$14*$D19+AU$15*SIN(ACOS($D19))))),"NOK") -> >500
B20: 400 | C20: 31.5 | D20: 0.85 | E20: =IF(E$13>$C20,IF(1000*Vd*$B20/(SQRT(3)*$C20*(E$14*$D20+E$15*SIN(ACOS($D20))))>$F$6,">"&$F$6,1000*Vd*$B20/(SQRT(3)*$C20*(E$14*$D20+E$15*SIN(ACOS($D20))))),"NOK") -> NOK | F20: =IF(F$13>$C20,IF(1000*Vd*$B20/(SQRT(3)*$C20*(F$14*$D20+F$15*SIN(ACOS($D20))))>$F$6,">"&$F$6,1000*Vd*$B20/(SQRT(3)*$C20*(F$14*$D20+F$15*SIN(ACOS($D20))))),"NOK") -> NOK | G20: =IF(G$13>$C20,IF(1000*Vd*$B20/(SQRT(3)*$C20*(G$14*$D20+G$15*SIN(ACOS($D20))))>$F$6,">"&$F$6,1000*Vd*$B20/(SQRT(3)*$C20*(G$14*$D20+G$15*SIN(ACOS($D20))))),"NOK") -> 179.7842 | H20: =IF(H$13>$C20,IF(1000*Vd*$B20/(SQRT(3)*$C20*(H$14*$D20+H$15*SIN(ACOS($D20))))>$F$6,">"&$F$6,1000*Vd*$B20/(SQRT(3)*$C20*(H$14*$D20+H$15*SIN(ACOS($D20))))),"NOK") -> 282.00683 | I20: =IF(I$13>$C20,IF(1000*Vd*$B20/(SQRT(3)*$C20*(I$14*$D20+I$15*SIN(ACOS($D20))))>$F$6,">"&$F$6,1000*Vd*$B20/(SQRT(3)*$C20*(I$14*$D20+I$15*SIN(ACOS($D20))))),"NOK") -> 437.62127 | J20: =IF(J$13>$C20,IF(1000*Vd*$B20/(SQRT(3)*$C20*(J$14*$D20+J$15*SIN(ACOS($D20))))>$F$6,">"&$F$6,1000*Vd*$B20/(SQRT(3)*$C20*(J$14*$D20+J$15*SIN(ACOS($D20))))),"NOK") -> >500 | K20: =IF(K$13>$C20,IF(1000*Vd*$B20/(SQRT(3)*$C20*(K$14*$D20+K$15*SIN(ACOS($D20))))>$F$6,">"&$F$6,1000*Vd*$B20/(SQRT(3)*$C20*(K$14*$D20+K$15*SIN(ACOS($D20))))),"NOK") -> >500 | L20: =IF(L$13>$C20,IF(1000*Vd*$B20/(SQRT(3)*$C20*(L$14*$D20+L$15*SIN(ACOS($D20))))>$F$6,">"&$F$6,1000*Vd*$B20/(SQRT(3)*$C20*(L$14*$D20+L$15*SIN(ACOS($D20))))),"NOK") -> >500 | ... AU20: =IF(AU$13>$C20,IF(1000*Vd*$B20/(SQRT(3)*$C20*(AU$14*$D20+AU$15*SIN(ACOS($D20))))>$F$6,">"&$F$6,1000*Vd*$B20/(SQRT(3)*$C20*(AU$14*$D20+AU$15*SIN(ACOS($D20))))),"NOK") -> >500
B21: 400 | C21: 40 | D21: 0.85 | E21: =IF(E$13>$C21,IF(1000*Vd*$B21/(SQRT(3)*$C21*(E$14*$D21+E$15*SIN(ACOS($D21))))>$F$6,">"&$F$6,1000*Vd*$B21/(SQRT(3)*$C21*(E$14*$D21+E$15*SIN(ACOS($D21))))),"NOK") -> NOK | F21: =IF(F$13>$C21,IF(1000*Vd*$B21/(SQRT(3)*$C21*(F$14*$D21+F$15*SIN(ACOS($D21))))>$F$6,">"&$F$6,1000*Vd*$B21/(SQRT(3)*$C21*(F$14*$D21+F$15*SIN(ACOS($D21))))),"NOK") -> NOK | G21: =IF(G$13>$C21,IF(1000*Vd*$B21/(SQRT(3)*$C21*(G$14*$D21+G$15*SIN(ACOS($D21))))>$F$6,">"&$F$6,1000*Vd*$B21/(SQRT(3)*$C21*(G$14*$D21+G$15*SIN(ACOS($D21))))),"NOK") -> 141.58006 | H21: =IF(H$13>$C21,IF(1000*Vd*$B21/(SQRT(3)*$C21*(H$14*$D21+H$15*SIN(ACOS($D21))))>$F$6,">"&$F$6,1000*Vd*$B21/(SQRT(3)*$C21*(H$14*$D21+H$15*SIN(ACOS($D21))))),"NOK") -> 222.08038 | I21: =IF(I$13>$C21,IF(1000*Vd*$B21/(SQRT(3)*$C21*(I$14*$D21+I$15*SIN(ACOS($D21))))>$F$6,">"&$F$6,1000*Vd*$B21/(SQRT(3)*$C21*(I$14*$D21+I$15*SIN(ACOS($D21))))),"NOK") -> 344.62675 | J21: =IF(J$13>$C21,IF(1000*Vd*$B21/(SQRT(3)*$C21*(J$14*$D21+J$15*SIN(ACOS($D21))))>$F$6,">"&$F$6,1000*Vd*$B21/(SQRT(3)*$C21*(J$14*$D21+J$15*SIN(ACOS($D21))))),"NOK") -> 469.83747 | K21: =IF(K$13>$C21,IF(1000*Vd*$B21/(SQRT(3)*$C21*(K$14*$D21+K$15*SIN(ACOS($D21))))>$F$6,">"&$F$6,1000*Vd*$B21/(SQRT(3)*$C21*(K$14*$D21+K$15*SIN(ACOS($D21))))),"NOK") -> >500 | L21: =IF(L$13>$C21,IF(1000*Vd*$B21/(SQRT(3)*$C21*(L$14*$D21+L$15*SIN(ACOS($D21))))>$F$6,">"&$F$6,1000*Vd*$B21/(SQRT(3)*$C21*(L$14*$D21+L$15*SIN(ACOS($D21))))),"NOK") -> >500 | ... AU21: =IF(AU$13>$C21,IF(1000*Vd*$B21/(SQRT(3)*$C21*(AU$14*$D21+AU$15*SIN(ACOS($D21))))>$F$6,">"&$F$6,1000*Vd*$B21/(SQRT(3)*$C21*(AU$14*$D21+AU$15*SIN(ACOS($D21))))),"NOK") -> >500
B22: 400 | C22: 50 | D22: 0.85 | E22: =IF(E$13>$C22,IF(1000*Vd*$B22/(SQRT(3)*$C22*(E$14*$D22+E$15*SIN(ACOS($D22))))>$F$6,">"&$F$6,1000*Vd*$B22/(SQRT(3)*$C22*(E$14*$D22+E$15*SIN(ACOS($D22))))),"NOK") -> NOK | F22: =IF(F$13>$C22,IF(1000*Vd*$B22/(SQRT(3)*$C22*(F$14*$D22+F$15*SIN(ACOS($D22))))>$F$6,">"&$F$6,1000*Vd*$B22/(SQRT(3)*$C22*(F$14*$D22+F$15*SIN(ACOS($D22))))),"NOK") -> NOK | G22: =IF(G$13>$C22,IF(1000*Vd*$B22/(SQRT(3)*$C22*(G$14*$D22+G$15*SIN(ACOS($D22))))>$F$6,">"&$F$6,1000*Vd*$B22/(SQRT(3)*$C22*(G$14*$D22+G$15*SIN(ACOS($D22))))),"NOK") -> NOK | H22: =IF(H$13>$C22,IF(1000*Vd*$B22/(SQRT(3)*$C22*(H$14*$D22+H$15*SIN(ACOS($D22))))>$F$6,">"&$F$6,1000*Vd*$B22/(SQRT(3)*$C22*(H$14*$D22+H$15*SIN(ACOS($D22))))),"NOK") -> 177.6643 | I22: =IF(I$13>$C22,IF(1000*Vd*$B22/(SQRT(3)*$C22*(I$14*$D22+I$15*SIN(ACOS($D22))))>$F$6,">"&$F$6,1000*Vd*$B22/(SQRT(3)*$C22*(I$14*$D22+I$15*SIN(ACOS($D22))))),"NOK") -> 275.7014 | J22: =IF(J$13>$C22,IF(1000*Vd*$B22/(SQRT(3)*$C22*(J$14*$D22+J$15*SIN(ACOS($D22))))>$F$6,">"&$F$6,1000*Vd*$B22/(SQRT(3)*$C22*(J$14*$D22+J$15*SIN(ACOS($D22))))),"NOK") -> 375.86998 | K22: =IF(K$13>$C22,IF(1000*Vd*$B22/(SQRT(3)*$C22*(K$14*$D22+K$15*SIN(ACOS($D22))))>$F$6,">"&$F$6,1000*Vd*$B22/(SQRT(3)*$C22*(K$14*$D22+K$15*SIN(ACOS($D22))))),"NOK") -> 497.36755 | L22: =IF(L$13>$C22,IF(1000*Vd*$B22/(SQRT(3)*$C22*(L$14*$D22+L$15*SIN(ACOS($D22))))>$F$6,">"&$F$6,1000*Vd*$B22/(SQRT(3)*$C22*(L$14*$D22+L$15*SIN(ACOS($D22))))),"NOK") -> >500 | ... AU22: =IF(AU$13>$C22,IF(1000*Vd*$B22/(SQRT(3)*$C22*(AU$14*$D22+AU$15*SIN(ACOS($D22))))>$F$6,">"&$F$6,1000*Vd*$B22/(SQRT(3)*$C22*(AU$14*$D22+AU$15*SIN(ACOS($D22))))),"NOK") -> >500
