Workbook

Sheet Feuil3
A3: Étiquettes de lignes | B3: Somme de score
A4: caen | B4: 110
A5: lens | B5: 430
A6: lille | B6: 47
A7: Total général | B7: 587

Sheet results
A1: ville | B1: score
A2: lens | B2: 10
A3: lens | B3: 20
A4: lens | B4: 50
A5: lens | B5: 40
A6: lens | B6: 50
A7: lens | B7: 150
A8: lens | B8: 45
A9: lens | B9: 50
A10: lille | B10: 1
A11: lille | B11: 10
A12: lille | B12: 1
A13: lille | B13: 10
... A34: caen | B34: 4

Sheet Totaux
A1: Ville | B1: Total | C1: 6 meilleurs | D1: 1 | E1: 2 | F1: 3 | G1: 4 | H1: 5 | I1: 6 | J1: TOTAUX 6 MEILLEURS
A2: Caen | B2: =SUMIFS(results!B:B,results!A:A,A2) -> 106 | D2: {=LARGE(IF(results!$A:$A=Totaux!$A2,results!$B:$B,""),$D$1)} -> 15 | E2: {=LARGE(IF(results!$A:$A=Totaux!$A2,results!$B:$B,""),$E$1)} -> 15 | F2: {=LARGE(IF(results!$A:$A=Totaux!$A2,results!$B:$B,""),$F$1)} -> 12 | G2: {=LARGE(IF(results!$A:$A=Totaux!$A2,results!$B:$B,""),$G$1)} -> 12 | H2: {=LARGE(IF(results!$A:$A=Totaux!$A2,results!$B:$B,""),$H$1)} -> 11 | I2: {=LARGE(IF(results!$A:$A=Totaux!$A2,results!$B:$B,""),$I$1)} -> 9 | J2: =+SUM(D2:I2) -> 74
A3: Lille | B3: =SUMIFS(results!B:B,results!A:A,A3) -> 47 | D3: {=LARGE(IF(results!$A:$A=Totaux!$A3,results!$B:$B,""),$D$1)} -> 10 | E3: {=LARGE(IF(results!$A:$A=Totaux!$A3,results!$B:$B,""),$E$1)} -> 10 | F3: {=LARGE(IF(results!$A:$A=Totaux!$A3,results!$B:$B,""),$F$1)} -> 10 | G3: {=LARGE(IF(results!$A:$A=Totaux!$A3,results!$B:$B,""),$G$1)} -> 5 | H3: {=LARGE(IF(results!$A:$A=Totaux!$A3,results!$B:$B,""),$H$1)} -> 2 | I3: {=LARGE(IF(results!$A:$A=Totaux!$A3,results!$B:$B,""),$I$1)} -> 2 | J3: =+SUM(D3:I3) -> 39
A4: lens | B4: =SUMIFS(results!B:B,results!A:A,A4) -> 415 | D4: {=LARGE(IF(results!$A:$A=Totaux!$A4,results!$B:$B,""),$D$1)} -> 150 | E4: {=LARGE(IF(results!$A:$A=Totaux!$A4,results!$B:$B,""),$E$1)} -> 50 | F4: {=LARGE(IF(results!$A:$A=Totaux!$A4,results!$B:$B,""),$F$1)} -> 50 | G4: {=LARGE(IF(results!$A:$A=Totaux!$A4,results!$B:$B,""),$G$1)} -> 50 | H4: {=LARGE(IF(results!$A:$A=Totaux!$A4,results!$B:$B,""),$H$1)} -> 45 | I4: {=LARGE(IF(results!$A:$A=Totaux!$A4,results!$B:$B,""),$I$1)} -> 40 | J4: =+SUM(D4:I4) -> 385
