Workbook

Sheet ACCUEIL
A1: =SUIVI!A1 -> CLASSE | B1: ELEVE | C1: NOTE | D1: MALUS | E1: Discipline | F1: Livre | G1: Matériel | H1: BONUS | I1: Travail | J1: Participation | K1: Cours | L1: 41698
A2: =SUIVI!A2 -> TBPCS | B2: Pierre | C2: =ROUND(10-D2+H8,0) -> 9 | D2: =SUMPRODUCT(COUNTIF(L2:HS2,{"*d*";"*l*";"*m*"})) -> 1 | H2: =SUMPRODUCT(COUNTIF(L2:HS2,{"*t*";"*p*";"*c*"})) -> 2 | L2: dtc
A3: =SUIVI!A3 -> TBPCS | B3: Louis | C3: =ROUND(10-D3+H9,0) -> 10 | D3: =SUM(E3:G3) -> 0 | H3: =SUM(I3:K3) -> 0
A4: =SUIVI!A4 -> TBPCS | B4: Lucie | C4: =ROUND(10-D4+H10,0) -> 10 | D4: =SUM(E4:G4) -> 0 | H4: =SUM(I4:K4) -> 0
A5: =SUIVI!A5 -> TES | B5: Jean | C5: =ROUND(10-D5+H11,0) -> 10 | D5: =SUM(E5:G5) -> 0 | H5: =SUM(I5:K5) -> 0
A6: =SUIVI!A6 -> TES | B6: Marc | C6: =ROUND(10-D6+H12,0) -> 10 | D6: =SUM(E6:G6) -> 0 | H6: =SUM(I6:K6) -> 0
A7: =SUIVI!A7 -> 2DE4 | B7: Camille | C7: =ROUND(10-D7+H13,0) -> 10 | D7: =SUM(E7:G7) -> 0 | H7: =SUM(I7:K7) -> 0
A8: =SUIVI!A8 -> 2NDE4 | B8: Léa | C8: =ROUND(10-D8+H14,0) -> 10 | D8: =SUM(E8:G8) -> 0 | H8: =SUM(I8:K8) -> 0
A9: =SUIVI!A9 -> 0 | C9: =ROUND(10-D9+H15,0) -> 10 | D9: =SUM(E9:G9) -> 0 | H9: =SUM(I9:K9) -> 0
A10: =SUIVI!A10 -> 0 | C10: =ROUND(10-D10+H16,0) -> 10 | D10: =SUM(E10:G10) -> 0 | H10: =SUM(I10:K10) -> 0
A11: =SUIVI!A11 -> 0 | C11: =ROUND(10-D11+H17,0) -> 10 | D11: =SUM(E11:G11) -> 0 | H11: =SUM(I11:K11) -> 0
A12: =SUIVI!A12 -> 0 | C12: =ROUND(10-D12+H18,0) -> 10 | D12: =SUM(E12:G12) -> 0 | H12: =SUM(I12:K12) -> 0
A13: =SUIVI!A13 -> 0 | C13: =ROUND(10-D13+H19,0) -> 10 | D13: =SUM(E13:G13) -> 0 | H13: =SUM(I13:K13) -> 0
A14: =SUIVI!A14 -> 0 | C14: =ROUND(10-D14+H20,0) -> 10 | D14: =SUM(E14:G14) -> 0 | H14: =SUM(I14:K14) -> 0
A15: =SUIVI!A15 -> 0 | C15: =ROUND(10-D15+H21,0) -> 10 | D15: =SUM(E15:G15) -> 0 | H15: =SUM(I15:K15) -> 0
A16: =SUIVI!A16 -> 0 | C16: =ROUND(10-D16+H22,0) -> 10 | D16: =SUM(E16:G16) -> 0 | H16: =SUM(I16:K16) -> 0
A17: =SUIVI!A17 -> 0 | C17: =ROUND(10-D17+H23,0) -> 10 | D17: =SUM(E17:G17) -> 0 | H17: =SUM(I17:K17) -> 0
A18: =SUIVI!A18 -> 0 | C18: =ROUND(10-D18+H24,0) -> 10 | D18: =SUM(E18:G18) -> 0 | H18: =SUM(I18:K18) -> 0
A19: =SUIVI!A19 -> 0 | C19: =ROUND(10-D19+H25,0) -> 10 | D19: =SUM(E19:G19) -> 0 | H19: =SUM(I19:K19) -> 0
A20: =SUIVI!A20 -> 0 | C20: =ROUND(10-D20+H26,0) -> 10 | D20: =SUM(E20:G20) -> 0 | H20: =SUM(I20:K20) -> 0
... A199: =SUIVI!A199 -> 0 | C199: =ROUND(10-D199+H205,0) -> 10 | D199: =SUM(E199:G199) -> 0 | H199: =SUM(I199:K199) -> 0

Sheet SUIVI
A1: CLASSE | B1: ELEVE | C1: NOTE | D1: MALUS | E1: Discipline | F1: Livre | G1: Matériel | H1: BONUS | I1: Travail | J1: Participation | K1: Cours | L1: 41519 | M1: 41520 | N1: 41521 | O1: 41522 | P1: 41523 | Q1: 41526 | R1: 41527 | S1: 41528 | T1: 41529 | U1: 41530 | V1: 41533 | W1: 41534 | X1: 41535 | Y1: 41536 | Z1: 41537 | AA1: 41540 | AB1: 41541 | AC1: 41542 | AD1: 41543 | AE1: 41544 | AF1: 41547 | AG1: 41548 | AH1: 41549 | AI1: 41550 | AJ1: 41551 | AK1: 41554 | AL1: 41555 | AM1: 41556 | AN1: 41557 | AO1: 41558 | AP1: 41561 | AQ1: 41562 | AR1: 41563 | AS1: 41564 | AT1: 41565 | AU1: 41568 | AV1: 41569 | AW1: 41570 | AX1: 41571 | AY1: 41572 | AZ1: 41575 | BA1: 41576 | BB1: 41577 | BC1: 41578 | BD1: 41579 | BE1: 41582 | BF1: 41583 | BG1: 41584 | BH1: 41585 | BI1: 41586 | BJ1: 41589 | BK1: 41590 | BL1: 41591 | BM1: 41592 | BN1: 41593 | BO1: 41596 | BP1: 41597 | BQ1: 41598 | BR1: 41599 | BS1: 41600 | BT1: 41603 | BU1: 41604 | BV1: 41605 | BW1: 41606 | BX1: 41607 | BY1: 41610 | BZ1: 41611 | CA1: 41612 | CB1: 41613 | CC1: 41614 | CD1: 41617 | CE1: 41618 | CF1: 41619 | CG1: 41620 | CH1: 41621 | CI1: 41624 | CJ1: 41625 | CK1: 41626 | CL1: 41627 | CM1: 41628 | CN1: 41631 | CO1: 41632 | CP1: 41633 | CQ1: 41634 | CR1: 41635 | CS1: 41638 | CT1: 41639 | CU1: 41640 | CV1: 41641 | CW1: 41642 | CX1: 41645 | CY1: 41646 | CZ1: 41647 | DA1: 41648 | DB1: 41649 | DC1: 41652 | DD1: 41653 | DE1: 41654 | DF1: 41655 | DG1: 41656 | DH1: 41659 | DI1: 41660 | DJ1: 41661 | DK1: 41662 | DL1: 41663 | DM1: 41666 | DN1: 41667 | DO1: 41668 | DP1: 41669 | DQ1: 41670 | DR1: 41673 | DS1: 41674 | DT1: 41675 | DU1: 41676 | DV1: 41677 | DW1: 41680 | DX1: 41681 | DY1: 41682 | DZ1: 41683 | EA1: 41684 | EB1: 41687 | EC1: 41688 | ED1: 41689 | EE1: 41690 | EF1: 41691 | EG1: 41694 | EH1: 41695 | EI1: 41696 | EJ1: 41697 | EK1: 41698 | EL1: 41701 | EM1: 41702 | EN1: 41703 | EO1: 41704 | EP1: 41705 | EQ1: 41708 | ER1: 41709 | ES1: 41710 | ET1: 41711 | EU1: 41712 | EV1: 41715 | EW1: 41716 | EX1: 41717 | EY1: 41718 | EZ1: 41719 | FA1: 41722 | FB1: 41723 | FC1: 41724 | FD1: 41725 | FE1: 41726 | FF1: 41729 | FG1: 41730 | FH1: 41731 | FI1: 41732 | FJ1: 41733 | FK1: 41736 | FL1: 41737 | FM1: 41738 | FN1: 41739 | FO1: 41740 | FP1: 41743 | FQ1: 41744 | FR1: 41745 | FS1: 41746 | FT1: 41747 | FU1: 41750 | FV1: 41751 | FW1: 41752 | FX1: 41753 | FY1: 41754 | FZ1: 41757 | GA1: 41758 | GB1: 41759 | GC1: 41760 | GD1: 41761 | GE1: 41764 | GF1: 41765 | GG1: 41766 | GH1: 41767 | GI1: 41768 | GJ1: 41771 | GK1: 41772 | GL1: 41773 | GM1: 41774 | GN1: 41775 | GO1: 41778 | GP1: 41779 | GQ1: 41780 | GR1: 41781 | GS1: 41782 | GT1: 41785 | GU1: 41786 | GV1: 41787 | GW1: 41788 | GX1: 41789 | GY1: 41792 | GZ1: 41793 | HA1: 41794 | HB1: 41795 | HC1: 41796 | HD1: 41799 | HE1: 41800 | HF1: 41801 | HG1: 41802 | HH1: 41803 | HI1: 41806 | HJ1: 41807 | HK1: 41808 | HL1: 41809 | HM1: 41810 | HN1: 41813 | HO1: 41814 | HP1: 41815 | HQ1: 41816 | HR1: 41817 | HS1: 41820
A2: TBPCS | B2: Pierre | C2: =ROUND(10-D2+H8,0) -> 10 | D2: =SUMPRODUCT(COUNTIF(L2:HS2,{"*d*";"*l*";"*m*"})) -> 0 | H2: =SUMPRODUCT(COUNTIF(L2:HS2,{"*t*";"*p*";"*c*"})) -> 0
A3: TBPCS | B3: Louis | C3: =ROUND(10-D3+H9,0) -> 10 | D3: =SUM(E3:G3) -> 0 | H3: =SUM(I3:K3) -> 0
A4: TBPCS | B4: Lucie | C4: =ROUND(10-D4+H10,0) -> 10 | D4: =SUM(E4:G4) -> 0 | H4: =SUM(I4:K4) -> 0
A5: TES | B5: Jean | C5: =ROUND(10-D5+H11,0) -> 10 | D5: =SUM(E5:G5) -> 0 | H5: =SUM(I5:K5) -> 0
A6: TES | B6: Marc | C6: =ROUND(10-D6+H12,0) -> 10 | D6: =SUM(E6:G6) -> 0 | H6: =SUM(I6:K6) -> 0
A7: 2DE4 | B7: Camille | C7: =ROUND(10-D7+H13,0) -> 10 | D7: =SUM(E7:G7) -> 0 | H7: =SUM(I7:K7) -> 0
A8: 2NDE4 | B8: Léa | C8: =ROUND(10-D8+H14,0) -> 10 | D8: =SUM(E8:G8) -> 0 | H8: =SUM(I8:K8) -> 0
C9: =ROUND(10-D9+H15,0) -> 10 | D9: =SUM(E9:G9) -> 0 | H9: =SUM(I9:K9) -> 0
C10: =ROUND(10-D10+H16,0) -> 10 | D10: =SUM(E10:G10) -> 0 | H10: =SUM(I10:K10) -> 0
C11: =ROUND(10-D11+H17,0) -> 10 | D11: =SUM(E11:G11) -> 0 | H11: =SUM(I11:K11) -> 0
C12: =ROUND(10-D12+H18,0) -> 10 | D12: =SUM(E12:G12) -> 0 | H12: =SUM(I12:K12) -> 0
C13: =ROUND(10-D13+H19,0) -> 10 | D13: =SUM(E13:G13) -> 0 | H13: =SUM(I13:K13) -> 0
C14: =ROUND(10-D14+H20,0) -> 10 | D14: =SUM(E14:G14) -> 0 | H14: =SUM(I14:K14) -> 0
C15: =ROUND(10-D15+H21,0) -> 10 | D15: =SUM(E15:G15) -> 0 | H15: =SUM(I15:K15) -> 0
C16: =ROUND(10-D16+H22,0) -> 10 | D16: =SUM(E16:G16) -> 0 | H16: =SUM(I16:K16) -> 0
C17: =ROUND(10-D17+H23,0) -> 10 | D17: =SUM(E17:G17) -> 0 | H17: =SUM(I17:K17) -> 0
C18: =ROUND(10-D18+H24,0) -> 10 | D18: =SUM(E18:G18) -> 0 | H18: =SUM(I18:K18) -> 0
C19: =ROUND(10-D19+H25,0) -> 10 | D19: =SUM(E19:G19) -> 0 | H19: =SUM(I19:K19) -> 0
C20: =ROUND(10-D20+H26,0) -> 10 | D20: =SUM(E20:G20) -> 0 | H20: =SUM(I20:K20) -> 0
... C199: =ROUND(10-D199+H205,0) -> 10 | D199: =SUM(E199:G199) -> 0 | H199: =SUM(I199:K199) -> 0
