Workbook

Sheet COMMENTAIRES
B1: MOIS EN COURS Valeurs unitaires | C1: Mois en cours | E1: 2 | F1: COMMENTAIRES DU SUPERVISEUR DE FILIALE
C2: TOTAL CUMULE | D2: BUDGET OPERATIONNEL | E2: DIFF.
A4: Nombre de techniciens | B4: =IFERROR(VLOOKUP(A4,#REF!,(COMMENTAIRES!$E$1)+1,FALSE),"") | F4: =IF(VLOOKUP(A4,'COMMENTAIRES EXTRACT'!A:M,(COMMENTAIRES!$E$1)+1,FALSE)="","",VLOOKUP(A4,'COMMENTAIRES EXTRACT'!B:M,COMMENTAIRES!$E$1+1,FALSE))
B5: =IFERROR(VLOOKUP(A5,#REF!,(COMMENTAIRES!$E$1)+1,FALSE),"")
A6: Heures payées travaillées | F6: =IF(VLOOKUP(A6,'COMMENTAIRES EXTRACT'!A:M,(COMMENTAIRES!$E$1)+1,FALSE)="","",VLOOKUP(A6,'COMMENTAIRES EXTRACT'!B:M,COMMENTAIRES!$E$1+1,FALSE))
A7: Heures ouvrées (35H) | B7: =IFERROR(VLOOKUP(A7,#REF!,(COMMENTAIRES!$E$1)+1,FALSE),"") | F7: =IF(VLOOKUP(A7,'COMMENTAIRES EXTRACT'!A:M,(COMMENTAIRES!$E$1)+1,FALSE)="","",VLOOKUP(A7,'COMMENTAIRES EXTRACT'!B:M,COMMENTAIRES!$E$1+1,FALSE))
A8: + Heures supplémentaires | B8: =IFERROR(VLOOKUP(A8,#REF!,(COMMENTAIRES!$E$1)+1,FALSE),"") | F8: =IF(VLOOKUP(A8,'COMMENTAIRES EXTRACT'!A:M,(COMMENTAIRES!$E$1)+1,FALSE)="","",VLOOKUP(A8,'COMMENTAIRES EXTRACT'!B:M,COMMENTAIRES!$E$1+1,FALSE))
A9: = Heures Payées | B9: =IFERROR(VLOOKUP(A9,#REF!,(COMMENTAIRES!$E$1)+1,FALSE),"") | F9: =IF(VLOOKUP(A9,'COMMENTAIRES EXTRACT'!A:M,(COMMENTAIRES!$E$1)+1,FALSE)="","",VLOOKUP(A9,'COMMENTAIRES EXTRACT'!B:M,COMMENTAIRES!$E$1+1,FALSE))
A10: Ratio HS budget | B10: =IFERROR(VLOOKUP(A10,#REF!,(COMMENTAIRES!$E$1)+1,FALSE),"") | F10: =IF(VLOOKUP(A10,'COMMENTAIRES EXTRACT'!A:M,(COMMENTAIRES!$E$1)+1,FALSE)="","",VLOOKUP(A10,'COMMENTAIRES EXTRACT'!B:M,COMMENTAIRES!$E$1+1,FALSE)) -> #N/A
B11: =IFERROR(VLOOKUP(A11,#REF!,(COMMENTAIRES!$E$1)+1,FALSE),"")
A12: Heures payées absentes | F12: =IF(VLOOKUP(A12,'COMMENTAIRES EXTRACT'!A:M,(COMMENTAIRES!$E$1)+1,FALSE)="","",VLOOKUP(A12,'COMMENTAIRES EXTRACT'!B:M,COMMENTAIRES!$E$1+1,FALSE))
A13: Congés payés | B13: =IFERROR(VLOOKUP(A13,#REF!,(COMMENTAIRES!$E$1)+1,FALSE),"") | F13: =IF(VLOOKUP(A13,'COMMENTAIRES EXTRACT'!A:M,(COMMENTAIRES!$E$1)+1,FALSE)="","",VLOOKUP(A13,'COMMENTAIRES EXTRACT'!B:M,COMMENTAIRES!$E$1+1,FALSE))
A14: CET | B14: =IFERROR(VLOOKUP(A14,#REF!,(COMMENTAIRES!$E$1)+1,FALSE),"") | F14: =IF(VLOOKUP(A14,'COMMENTAIRES EXTRACT'!A:M,(COMMENTAIRES!$E$1)+1,FALSE)="","",VLOOKUP(A14,'COMMENTAIRES EXTRACT'!B:M,COMMENTAIRES!$E$1+1,FALSE))
A15: Repos compensateurs | B15: =IFERROR(VLOOKUP(A15,#REF!,(COMMENTAIRES!$E$1)+1,FALSE),"") | F15: =IF(VLOOKUP(A15,'COMMENTAIRES EXTRACT'!A:M,(COMMENTAIRES!$E$1)+1,FALSE)="","",VLOOKUP(A15,'COMMENTAIRES EXTRACT'!B:M,COMMENTAIRES!$E$1+1,FALSE))
A16: Récup d'astreinte | B16: =IFERROR(VLOOKUP(A16,#REF!,(COMMENTAIRES!$E$1)+1,FALSE),"") | F16: =IF(VLOOKUP(A16,'COMMENTAIRES EXTRACT'!A:M,(COMMENTAIRES!$E$1)+1,FALSE)="","",VLOOKUP(A16,'COMMENTAIRES EXTRACT'!B:M,COMMENTAIRES!$E$1+1,FALSE))
A17: Congés exeptionnels | B17: =IFERROR(VLOOKUP(A17,#REF!,(COMMENTAIRES!$E$1)+1,FALSE),"") | F17: =IF(VLOOKUP(A17,'COMMENTAIRES EXTRACT'!A:M,(COMMENTAIRES!$E$1)+1,FALSE)="","",VLOOKUP(A17,'COMMENTAIRES EXTRACT'!B:M,COMMENTAIRES!$E$1+1,FALSE))
A18: Maladie | B18: =IFERROR(VLOOKUP(A18,#REF!,(COMMENTAIRES!$E$1)+1,FALSE),"") | F18: =IF(VLOOKUP(A18,'COMMENTAIRES EXTRACT'!A:M,(COMMENTAIRES!$E$1)+1,FALSE)="","",VLOOKUP(A18,'COMMENTAIRES EXTRACT'!B:M,COMMENTAIRES!$E$1+1,FALSE))
A19: Accident de travail | B19: =IFERROR(VLOOKUP(A19,#REF!,(COMMENTAIRES!$E$1)+1,FALSE),"") | F19: =IF(VLOOKUP(A19,'COMMENTAIRES EXTRACT'!A:M,(COMMENTAIRES!$E$1)+1,FALSE)="","",VLOOKUP(A19,'COMMENTAIRES EXTRACT'!B:M,COMMENTAIRES!$E$1+1,FALSE))
A20: Jours Fériés | B20: =IFERROR(VLOOKUP(A20,#REF!,(COMMENTAIRES!$E$1)+1,FALSE),"") | F20: =IF(VLOOKUP(A20,'COMMENTAIRES EXTRACT'!A:M,(COMMENTAIRES!$E$1)+1,FALSE)="","",VLOOKUP(A20,'COMMENTAIRES EXTRACT'!B:M,COMMENTAIRES!$E$1+1,FALSE))
A21: Congés sans solde | B21: =IFERROR(VLOOKUP(A21,#REF!,(COMMENTAIRES!$E$1)+1,FALSE),"") | F21: =IF(VLOOKUP(A21,'COMMENTAIRES EXTRACT'!A:M,(COMMENTAIRES!$E$1)+1,FALSE)="","",VLOOKUP(A21,'COMMENTAIRES EXTRACT'!B:M,COMMENTAIRES!$E$1+1,FALSE))
A22: = Heures absences | B22: =IFERROR(VLOOKUP(A22,#REF!,(COMMENTAIRES!$E$1)+1,FALSE),"") | F22: =IF(VLOOKUP(A22,'COMMENTAIRES EXTRACT'!A:M,(COMMENTAIRES!$E$1)+1,FALSE)="","",VLOOKUP(A22,'COMMENTAIRES EXTRACT'!B:M,COMMENTAIRES!$E$1+1,FALSE))
A23: Ratio H Abs. / H. payées | B23: =IFERROR(VLOOKUP(A23,#REF!,(COMMENTAIRES!$E$1)+1,FALSE),"") | F23: =IF(VLOOKUP(A23,'COMMENTAIRES EXTRACT'!A:M,(COMMENTAIRES!$E$1)+1,FALSE)="","",VLOOKUP(A23,'COMMENTAIRES EXTRACT'!B:M,COMMENTAIRES!$E$1+1,FALSE)) -> #N/A
B24: =IFERROR(VLOOKUP(A24,#REF!,(COMMENTAIRES!$E$1)+1,FALSE),"")
A25: Présence réelle (H payées - H. abs) | B25: =IFERROR(VLOOKUP(A25,#REF!,(COMMENTAIRES!$E$1)+1,FALSE),"") | F25: =IF(VLOOKUP(A25,'COMMENTAIRES EXTRACT'!A:M,(COMMENTAIRES!$E$1)+1,FALSE)="","",VLOOKUP(A25,'COMMENTAIRES EXTRACT'!B:M,COMMENTAIRES!$E$1+1,FALSE))
B26: =IFERROR(VLOOKUP(A26,#REF!,(COMMENTAIRES!$E$1)+1,FALSE),"")
A27: Détail Présence réelle | F27: =IF(VLOOKUP(A27,'COMMENTAIRES EXTRACT'!A:M,(COMMENTAIRES!$E$1)+1,FALSE)="","",VLOOKUP(A27,'COMMENTAIRES EXTRACT'!B:M,COMMENTAIRES!$E$1+1,FALSE))
A28: Entretien auto/ outils | B28: =IFERROR(VLOOKUP(A28,#REF!,(COMMENTAIRES!$E$1)+1,FALSE),"") | F28: =IF(VLOOKUP(A28,'COMMENTAIRES EXTRACT'!A:M,(COMMENTAIRES!$E$1)+1,FALSE)="","",VLOOKUP(A28,'COMMENTAIRES EXTRACT'!B:M,COMMENTAIRES!$E$1+1,FALSE))
A29: Comité d'entreprise | B29: =IFERROR(VLOOKUP(A29,#REF!,(COMMENTAIRES!$E$1)+1,FALSE),"") | F29: =IF(VLOOKUP(A29,'COMMENTAIRES EXTRACT'!A:M,(COMMENTAIRES!$E$1)+1,FALSE)="","",VLOOKUP(A29,'COMMENTAIRES EXTRACT'!B:M,COMMENTAIRES!$E$1+1,FALSE))
A30: Entretien/réunion | B30: =IFERROR(VLOOKUP(A30,#REF!,(COMMENTAIRES!$E$1)+1,FALSE),"") | F30: =IF(VLOOKUP(A30,'COMMENTAIRES EXTRACT'!A:M,(COMMENTAIRES!$E$1)+1,FALSE)="","",VLOOKUP(A30,'COMMENTAIRES EXTRACT'!B:M,COMMENTAIRES!$E$1+1,FALSE))
A31: Inventaire Entrepôt/auto | B31: =IFERROR(VLOOKUP(A31,#REF!,(COMMENTAIRES!$E$1)+1,FALSE),"") | F31: =IF(VLOOKUP(A31,'COMMENTAIRES EXTRACT'!A:M,(COMMENTAIRES!$E$1)+1,FALSE)="","",VLOOKUP(A31,'COMMENTAIRES EXTRACT'!B:M,COMMENTAIRES!$E$1+1,FALSE))
A32: Magasin/travail chaîne | B32: =IFERROR(VLOOKUP(A32,#REF!,(COMMENTAIRES!$E$1)+1,FALSE),"") | F32: =IF(VLOOKUP(A32,'COMMENTAIRES EXTRACT'!A:M,(COMMENTAIRES!$E$1)+1,FALSE)="","",VLOOKUP(A32,'COMMENTAIRES EXTRACT'!B:M,COMMENTAIRES!$E$1+1,FALSE))
A33: Particip. formation/donné | B33: =IFERROR(VLOOKUP(A33,#REF!,(COMMENTAIRES!$E$1)+1,FALSE),"") | F33: =IF(VLOOKUP(A33,'COMMENTAIRES EXTRACT'!A:M,(COMMENTAIRES!$E$1)+1,FALSE)="","",VLOOKUP(A33,'COMMENTAIRES EXTRACT'!B:M,COMMENTAIRES!$E$1+1,FALSE)) -> #N/A
A34: Prép.service/plan interv | B34: =IFERROR(VLOOKUP(A34,#REF!,(COMMENTAIRES!$E$1)+1,FALSE),"") | F34: =IF(VLOOKUP(A34,'COMMENTAIRES EXTRACT'!A:M,(COMMENTAIRES!$E$1)+1,FALSE)="","",VLOOKUP(A34,'COMMENTAIRES EXTRACT'!B:M,COMMENTAIRES!$E$1+1,FALSE))
A35: Travaux bureau service | B35: =IFERROR(VLOOKUP(A35,#REF!,(COMMENTAIRES!$E$1)+1,FALSE),"") | F35: =IF(VLOOKUP(A35,'COMMENTAIRES EXTRACT'!A:M,(COMMENTAIRES!$E$1)+1,FALSE)="","",VLOOKUP(A35,'COMMENTAIRES EXTRACT'!B:M,COMMENTAIRES!$E$1+1,FALSE))
A36: Heures Improductives Non Trajet | B36: =IFERROR(VLOOKUP(A36,#REF!,(COMMENTAIRES!$E$1)+1,FALSE),"") | F36: =IF(VLOOKUP(A36,'COMMENTAIRES EXTRACT'!A:M,(COMMENTAIRES!$E$1)+1,FALSE)="","",VLOOKUP(A36,'COMMENTAIRES EXTRACT'!B:M,COMMENTAIRES!$E$1+1,FALSE))
A37: Autres trajets | B37: =IFERROR(VLOOKUP(A37,#REF!,(COMMENTAIRES!$E$1)+1,FALSE),"") | F37: =IF(VLOOKUP(A37,'COMMENTAIRES EXTRACT'!A:M,(COMMENTAIRES!$E$1)+1,FALSE)="","",VLOOKUP(A37,'COMMENTAIRES EXTRACT'!B:M,COMMENTAIRES!$E$1+1,FALSE))
A38: Départ / arrivée | B38: =IFERROR(VLOOKUP(A38,#REF!,(COMMENTAIRES!$E$1)+1,FALSE),"") | F38: =IF(VLOOKUP(A38,'COMMENTAIRES EXTRACT'!A:M,(COMMENTAIRES!$E$1)+1,FALSE)="","",VLOOKUP(A38,'COMMENTAIRES EXTRACT'!B:M,COMMENTAIRES!$E$1+1,FALSE))
A39: Trajet hôtel<->service | B39: =IFERROR(VLOOKUP(A39,#REF!,(COMMENTAIRES!$E$1)+1,FALSE),"") | F39: =IF(VLOOKUP(A39,'COMMENTAIRES EXTRACT'!A:M,(COMMENTAIRES!$E$1)+1,FALSE)="","",VLOOKUP(A39,'COMMENTAIRES EXTRACT'!B:M,COMMENTAIRES!$E$1+1,FALSE))
... A42: Ratio improd / présence réelle | B42: =IFERROR(VLOOKUP(A42,#REF!,(COMMENTAIRES!$E$1)+1,FALSE),"") | F42: =IF(VLOOKUP(A42,'COMMENTAIRES EXTRACT'!A:M,(COMMENTAIRES!$E$1)+1,FALSE)="","",VLOOKUP(A42,'COMMENTAIRES EXTRACT'!B:M,COMMENTAIRES!$E$1+1,FALSE)) -> #N/A
B43: =IFERROR(VLOOKUP(A43,#REF!,(COMMENTAIRES!$E$1)+1,FALSE),"")
A44: Heures Trajet LHSVDR | B44: =IFERROR(VLOOKUP(A44,#REF!,(COMMENTAIRES!$E$1)+1,FALSE),"") | F44: =IF(VLOOKUP(A44,'COMMENTAIRES EXTRACT'!A:M,(COMMENTAIRES!$E$1)+1,FALSE)="","",VLOOKUP(A44,'COMMENTAIRES EXTRACT'!B:M,COMMENTAIRES!$E$1+1,FALSE))
A45: Heures Opérationnelles LHSVOP | B45: =IFERROR(VLOOKUP(A45,#REF!,(COMMENTAIRES!$E$1)+1,FALSE),"") | F45: =IF(VLOOKUP(A45,'COMMENTAIRES EXTRACT'!A:M,(COMMENTAIRES!$E$1)+1,FALSE)="","",VLOOKUP(A45,'COMMENTAIRES EXTRACT'!B:M,COMMENTAIRES!$E$1+1,FALSE))
A46: Temps attente inévitable | B46: =IFERROR(VLOOKUP(A46,#REF!,(COMMENTAIRES!$E$1)+1,FALSE),"") | F46: =IF(VLOOKUP(A46,'COMMENTAIRES EXTRACT'!A:M,(COMMENTAIRES!$E$1)+1,FALSE)="","",VLOOKUP(A46,'COMMENTAIRES EXTRACT'!B:M,COMMENTAIRES!$E$1+1,FALSE)) -> #N/A
A47: Temps attente vent fort | B47: =IFERROR(VLOOKUP(A47,#REF!,(COMMENTAIRES!$E$1)+1,FALSE),"") | F47: =IF(VLOOKUP(A47,'COMMENTAIRES EXTRACT'!A:M,(COMMENTAIRES!$E$1)+1,FALSE)="","",VLOOKUP(A47,'COMMENTAIRES EXTRACT'!B:M,COMMENTAIRES!$E$1+1,FALSE))
A48: Temps attente abs.outils | B48: =IFERROR(VLOOKUP(A48,#REF!,(COMMENTAIRES!$E$1)+1,FALSE),"") | F48: =IF(VLOOKUP(A48,'COMMENTAIRES EXTRACT'!A:M,(COMMENTAIRES!$E$1)+1,FALSE)="","",VLOOKUP(A48,'COMMENTAIRES EXTRACT'!B:M,COMMENTAIRES!$E$1+1,FALSE))
A49: Temps attente abs.matér. | B49: =IFERROR(VLOOKUP(A49,#REF!,(COMMENTAIRES!$E$1)+1,FALSE),"") | F49: =IF(VLOOKUP(A49,'COMMENTAIRES EXTRACT'!A:M,(COMMENTAIRES!$E$1)+1,FALSE)="","",VLOOKUP(A49,'COMMENTAIRES EXTRACT'!B:M,COMMENTAIRES!$E$1+1,FALSE))
A50: Heures Waiting Time (WT) | B50: =IFERROR(VLOOKUP(A50,#REF!,(COMMENTAIRES!$E$1)+1,FALSE),"") | F50: =IF(VLOOKUP(A50,'COMMENTAIRES EXTRACT'!A:M,(COMMENTAIRES!$E$1)+1,FALSE)="","",VLOOKUP(A50,'COMMENTAIRES EXTRACT'!B:M,COMMENTAIRES!$E$1+1,FALSE))
A51: = Heures Productives Vendues | B51: =IFERROR(VLOOKUP(A51,#REF!,(COMMENTAIRES!$E$1)+1,FALSE),"") | F51: =IF(VLOOKUP(A51,'COMMENTAIRES EXTRACT'!A:M,(COMMENTAIRES!$E$1)+1,FALSE)="","",VLOOKUP(A51,'COMMENTAIRES EXTRACT'!B:M,COMMENTAIRES!$E$1+1,FALSE)) -> #N/A
A52: Ratio LHSVOP / H. prod. | B52: =IFERROR(VLOOKUP(A52,#REF!,(COMMENTAIRES!$E$1)+1,FALSE),"") | F52: =IF(VLOOKUP(A52,'COMMENTAIRES EXTRACT'!A:M,(COMMENTAIRES!$E$1)+1,FALSE)="","",VLOOKUP(A52,'COMMENTAIRES EXTRACT'!B:M,COMMENTAIRES!$E$1+1,FALSE)) -> #N/A
A53: Ratio LHSVDR / H. prod. | B53: =IFERROR(VLOOKUP(A53,#REF!,(COMMENTAIRES!$E$1)+1,FALSE),"") | F53: =IF(VLOOKUP(A53,'COMMENTAIRES EXTRACT'!A:M,(COMMENTAIRES!$E$1)+1,FALSE)="","",VLOOKUP(A53,'COMMENTAIRES EXTRACT'!B:M,COMMENTAIRES!$E$1+1,FALSE)) -> #N/A
A54: Ratio WT / H. prod. | B54: =IFERROR(VLOOKUP(A54,#REF!,(COMMENTAIRES!$E$1)+1,FALSE),"") | F54: =IF(VLOOKUP(A54,'COMMENTAIRES EXTRACT'!A:M,(COMMENTAIRES!$E$1)+1,FALSE)="","",VLOOKUP(A54,'COMMENTAIRES EXTRACT'!B:M,COMMENTAIRES!$E$1+1,FALSE))
A56: Autres indicateurs | F56: =IF(VLOOKUP(A56,'COMMENTAIRES EXTRACT'!A:M,(COMMENTAIRES!$E$1)+1,FALSE)="","",VLOOKUP(A56,'COMMENTAIRES EXTRACT'!B:M,COMMENTAIRES!$E$1+1,FALSE))
A57: H. opérationnelles / présence réelle | B57: =IFERROR(VLOOKUP(A57,#REF!,(COMMENTAIRES!$E$1)+1,FALSE),"") | F57: =IF(VLOOKUP(A57,'COMMENTAIRES EXTRACT'!A:M,(COMMENTAIRES!$E$1)+1,FALSE)="","",VLOOKUP(A57,'COMMENTAIRES EXTRACT'!B:M,COMMENTAIRES!$E$1+1,FALSE)) -> #N/A
A58: H. opérationnelles / Heures payées | B58: =IFERROR(VLOOKUP(A58,#REF!,(COMMENTAIRES!$E$1)+1,FALSE),"") | F58: =IF(VLOOKUP(A58,'COMMENTAIRES EXTRACT'!A:M,(COMMENTAIRES!$E$1)+1,FALSE)="","",VLOOKUP(A58,'COMMENTAIRES EXTRACT'!B:M,COMMENTAIRES!$E$1+1,FALSE))
A59: H. opérationnelles + WT / présence réelle | B59: =IFERROR(VLOOKUP(A59,#REF!,(COMMENTAIRES!$E$1)+1,FALSE),"") | F59: =IF(VLOOKUP(A59,'COMMENTAIRES EXTRACT'!A:M,(COMMENTAIRES!$E$1)+1,FALSE)="","",VLOOKUP(A59,'COMMENTAIRES EXTRACT'!B:M,COMMENTAIRES!$E$1+1,FALSE))
A60: H. opérationnelles + WT / Heures payées | B60: =IFERROR(VLOOKUP(A60,#REF!,(COMMENTAIRES!$E$1)+1,FALSE),"") | F60: =IF(VLOOKUP(A60,'COMMENTAIRES EXTRACT'!A:M,(COMMENTAIRES!$E$1)+1,FALSE)="","",VLOOKUP(A60,'COMMENTAIRES EXTRACT'!B:M,COMMENTAIRES!$E$1+1,FALSE))
A62: Indicateurs Balanced Score Card | F62: =IF(VLOOKUP(A62,'COMMENTAIRES EXTRACT'!A:M,(COMMENTAIRES!$E$1)+1,FALSE)="","",VLOOKUP(A62,'COMMENTAIRES EXTRACT'!B:M,COMMENTAIRES!$E$1+1,FALSE))
A63: 7.12 Productive and unproductive journey time to total hours | B63: =IFERROR(VLOOKUP(A63,#REF!,(COMMENTAIRES!$E$1)+1,FALSE),"") | F63: =IF(VLOOKUP(A63,'COMMENTAIRES EXTRACT'!A:M,(COMMENTAIRES!$E$1)+1,FALSE)="","",VLOOKUP(A63,'COMMENTAIRES EXTRACT'!B:M,COMMENTAIRES!$E$1+1,FALSE))
A64: 7.13 Unproductive hours to total hours (excluding journey time) | B64: =IFERROR(VLOOKUP(A64,#REF!,(COMMENTAIRES!$E$1)+1,FALSE),"") | F64: =IF(VLOOKUP(A64,'COMMENTAIRES EXTRACT'!A:M,(COMMENTAIRES!$E$1)+1,FALSE)="","",VLOOKUP(A64,'COMMENTAIRES EXTRACT'!B:M,COMMENTAIRES!$E$1+1,FALSE))
A67: Vérif (si différent de 0 = problème)

Sheet COMMENTAIRES EXTRACT
B1: 1 | C1: 2 | D1: 3 | E1: 4 | F1: 5 | G1: 6 | H1: 7 | I1: 8 | J1: 9 | K1: 10 | L1: 11 | M1: 12
A5: Nombre de techniciens | B5: =IF([2]COMMENTAIRES!$F4="","",[2]COMMENTAIRES!$F4) | C5: =IF([1]COMMENTAIRES!$F4="","",[1]COMMENTAIRES!$F4) | D5: =IF([3]COMMENTAIRES!$F4="","",[3]COMMENTAIRES!$F4) | E5: =IF([4]COMMENTAIRES!$F4="","",[4]COMMENTAIRES!$F4) | F5: =IF([5]COMMENTAIRES!$F4="","",[5]COMMENTAIRES!$F4) | G5: =IF([6]COMMENTAIRES!$F4="","",[6]COMMENTAIRES!$F4) | H5: =IF([7]COMMENTAIRES!$F4="","",[7]COMMENTAIRES!$F4) | I5: =IF([8]COMMENTAIRES!$F4="","",[8]COMMENTAIRES!$F4) | J5: =IF([9]COMMENTAIRES!$F4="","",[9]COMMENTAIRES!$F4) | K5: =IF([10]COMMENTAIRES!$F4="","",[10]COMMENTAIRES!$F4) | L5: =IF([11]COMMENTAIRES!$F4="","",[11]COMMENTAIRES!$F4) | M5: =IF([12]COMMENTAIRES!$F4="","",[12]COMMENTAIRES!$F4)
B6: =IF([2]COMMENTAIRES!$F5="","",[2]COMMENTAIRES!$F5) | C6: =IF([1]COMMENTAIRES!$F5="","",[1]COMMENTAIRES!$F5) | D6: =IF([3]COMMENTAIRES!$F5="","",[3]COMMENTAIRES!$F5) | E6: =IF([4]COMMENTAIRES!$F5="","",[4]COMMENTAIRES!$F5) | F6: =IF([5]COMMENTAIRES!$F5="","",[5]COMMENTAIRES!$F5) | G6: =IF([6]COMMENTAIRES!$F5="","",[6]COMMENTAIRES!$F5) | H6: =IF([7]COMMENTAIRES!$F5="","",[7]COMMENTAIRES!$F5) | I6: =IF([8]COMMENTAIRES!$F5="","",[8]COMMENTAIRES!$F5) | J6: =IF([9]COMMENTAIRES!$F5="","",[9]COMMENTAIRES!$F5) | K6: =IF([10]COMMENTAIRES!$F5="","",[10]COMMENTAIRES!$F5) | L6: =IF([11]COMMENTAIRES!$F5="","",[11]COMMENTAIRES!$F5) | M6: =IF([12]COMMENTAIRES!$F5="","",[12]COMMENTAIRES!$F5)
A7: Heures payées travaillées | B7: =IF([2]COMMENTAIRES!$F6="","",[2]COMMENTAIRES!$F6) | C7: =IF([1]COMMENTAIRES!$F6="","",[1]COMMENTAIRES!$F6) | D7: =IF([3]COMMENTAIRES!$F6="","",[3]COMMENTAIRES!$F6) | E7: =IF([4]COMMENTAIRES!$F6="","",[4]COMMENTAIRES!$F6) | F7: =IF([5]COMMENTAIRES!$F6="","",[5]COMMENTAIRES!$F6) | G7: =IF([6]COMMENTAIRES!$F6="","",[6]COMMENTAIRES!$F6) | H7: =IF([7]COMMENTAIRES!$F6="","",[7]COMMENTAIRES!$F6) | I7: =IF([8]COMMENTAIRES!$F6="","",[8]COMMENTAIRES!$F6) | J7: =IF([9]COMMENTAIRES!$F6="","",[9]COMMENTAIRES!$F6) | K7: =IF([10]COMMENTAIRES!$F6="","",[10]COMMENTAIRES!$F6) | L7: =IF([11]COMMENTAIRES!$F6="","",[11]COMMENTAIRES!$F6) | M7: =IF([12]COMMENTAIRES!$F6="","",[12]COMMENTAIRES!$F6)
A8: Heures ouvrées (35H) | B8: =IF([2]COMMENTAIRES!$F7="","",[2]COMMENTAIRES!$F7) | C8: =IF([1]COMMENTAIRES!$F7="","",[1]COMMENTAIRES!$F7) | D8: =IF([3]COMMENTAIRES!$F7="","",[3]COMMENTAIRES!$F7) | E8: =IF([4]COMMENTAIRES!$F7="","",[4]COMMENTAIRES!$F7) | F8: =IF([5]COMMENTAIRES!$F7="","",[5]COMMENTAIRES!$F7) | G8: =IF([6]COMMENTAIRES!$F7="","",[6]COMMENTAIRES!$F7) | H8: =IF([7]COMMENTAIRES!$F7="","",[7]COMMENTAIRES!$F7) | I8: =IF([8]COMMENTAIRES!$F7="","",[8]COMMENTAIRES!$F7) | J8: =IF([9]COMMENTAIRES!$F7="","",[9]COMMENTAIRES!$F7) | K8: =IF([10]COMMENTAIRES!$F7="","",[10]COMMENTAIRES!$F7) | L8: =IF([11]COMMENTAIRES!$F7="","",[11]COMMENTAIRES!$F7) | M8: =IF([12]COMMENTAIRES!$F7="","",[12]COMMENTAIRES!$F7)
A9: + Heures supplémentaires | B9: =IF([2]COMMENTAIRES!$F8="","",[2]COMMENTAIRES!$F8) | C9: =IF([1]COMMENTAIRES!$F8="","",[1]COMMENTAIRES!$F8) | D9: =IF([3]COMMENTAIRES!$F8="","",[3]COMMENTAIRES!$F8) | E9: =IF([4]COMMENTAIRES!$F8="","",[4]COMMENTAIRES!$F8) | F9: =IF([5]COMMENTAIRES!$F8="","",[5]COMMENTAIRES!$F8) | G9: =IF([6]COMMENTAIRES!$F8="","",[6]COMMENTAIRES!$F8) | H9: =IF([7]COMMENTAIRES!$F8="","",[7]COMMENTAIRES!$F8) | I9: =IF([8]COMMENTAIRES!$F8="","",[8]COMMENTAIRES!$F8) | J9: =IF([9]COMMENTAIRES!$F8="","",[9]COMMENTAIRES!$F8) | K9: =IF([10]COMMENTAIRES!$F8="","",[10]COMMENTAIRES!$F8) | L9: =IF([11]COMMENTAIRES!$F8="","",[11]COMMENTAIRES!$F8) | M9: =IF([12]COMMENTAIRES!$F8="","",[12]COMMENTAIRES!$F8)
A10: = Heures Payées | B10: =IF([2]COMMENTAIRES!$F9="","",[2]COMMENTAIRES!$F9) | C10: =IF([1]COMMENTAIRES!$F9="","",[1]COMMENTAIRES!$F9) | D10: =IF([3]COMMENTAIRES!$F9="","",[3]COMMENTAIRES!$F9) | E10: =IF([4]COMMENTAIRES!$F9="","",[4]COMMENTAIRES!$F9) | F10: =IF([5]COMMENTAIRES!$F9="","",[5]COMMENTAIRES!$F9) | G10: =IF([6]COMMENTAIRES!$F9="","",[6]COMMENTAIRES!$F9) | H10: =IF([7]COMMENTAIRES!$F9="","",[7]COMMENTAIRES!$F9) | I10: =IF([8]COMMENTAIRES!$F9="","",[8]COMMENTAIRES!$F9) | J10: =IF([9]COMMENTAIRES!$F9="","",[9]COMMENTAIRES!$F9) | K10: =IF([10]COMMENTAIRES!$F9="","",[10]COMMENTAIRES!$F9) | L10: =IF([11]COMMENTAIRES!$F9="","",[11]COMMENTAIRES!$F9) | M10: =IF([12]COMMENTAIRES!$F9="","",[12]COMMENTAIRES!$F9)
A11: Ratio HS budget | B11: =IF([2]COMMENTAIRES!$F10="","",[2]COMMENTAIRES!$F10) | C11: =IF([1]COMMENTAIRES!$F10="","",[1]COMMENTAIRES!$F10) -> Maintenant que nous avons les relevés on devrait le tenir! | D11: =IF([3]COMMENTAIRES!$F10="","",[3]COMMENTAIRES!$F10) | E11: =IF([4]COMMENTAIRES!$F10="","",[4]COMMENTAIRES!$F10) | F11: =IF([5]COMMENTAIRES!$F10="","",[5]COMMENTAIRES!$F10) | G11: =IF([6]COMMENTAIRES!$F10="","",[6]COMMENTAIRES!$F10) | H11: =IF([7]COMMENTAIRES!$F10="","",[7]COMMENTAIRES!$F10) | I11: =IF([8]COMMENTAIRES!$F10="","",[8]COMMENTAIRES!$F10) | J11: =IF([9]COMMENTAIRES!$F10="","",[9]COMMENTAIRES!$F10) | K11: =IF([10]COMMENTAIRES!$F10="","",[10]COMMENTAIRES!$F10) | L11: =IF([11]COMMENTAIRES!$F10="","",[11]COMMENTAIRES!$F10) | M11: =IF([12]COMMENTAIRES!$F10="","",[12]COMMENTAIRES!$F10)
B12: =IF([2]COMMENTAIRES!$F11="","",[2]COMMENTAIRES!$F11) | C12: =IF([1]COMMENTAIRES!$F11="","",[1]COMMENTAIRES!$F11) | D12: =IF([3]COMMENTAIRES!$F11="","",[3]COMMENTAIRES!$F11) | E12: =IF([4]COMMENTAIRES!$F11="","",[4]COMMENTAIRES!$F11) | F12: =IF([5]COMMENTAIRES!$F11="","",[5]COMMENTAIRES!$F11) | G12: =IF([6]COMMENTAIRES!$F11="","",[6]COMMENTAIRES!$F11) | H12: =IF([7]COMMENTAIRES!$F11="","",[7]COMMENTAIRES!$F11) | I12: =IF([8]COMMENTAIRES!$F11="","",[8]COMMENTAIRES!$F11) | J12: =IF([9]COMMENTAIRES!$F11="","",[9]COMMENTAIRES!$F11) | K12: =IF([10]COMMENTAIRES!$F11="","",[10]COMMENTAIRES!$F11) | L12: =IF([11]COMMENTAIRES!$F11="","",[11]COMMENTAIRES!$F11) | M12: =IF([12]COMMENTAIRES!$F11="","",[12]COMMENTAIRES!$F11)
A13: Heures payées absentes | B13: =IF([2]COMMENTAIRES!$F12="","",[2]COMMENTAIRES!$F12) | C13: =IF([1]COMMENTAIRES!$F12="","",[1]COMMENTAIRES!$F12) | D13: =IF([3]COMMENTAIRES!$F12="","",[3]COMMENTAIRES!$F12) | E13: =IF([4]COMMENTAIRES!$F12="","",[4]COMMENTAIRES!$F12) | F13: =IF([5]COMMENTAIRES!$F12="","",[5]COMMENTAIRES!$F12) | G13: =IF([6]COMMENTAIRES!$F12="","",[6]COMMENTAIRES!$F12) | H13: =IF([7]COMMENTAIRES!$F12="","",[7]COMMENTAIRES!$F12) | I13: =IF([8]COMMENTAIRES!$F12="","",[8]COMMENTAIRES!$F12) | J13: =IF([9]COMMENTAIRES!$F12="","",[9]COMMENTAIRES!$F12) | K13: =IF([10]COMMENTAIRES!$F12="","",[10]COMMENTAIRES!$F12) | L13: =IF([11]COMMENTAIRES!$F12="","",[11]COMMENTAIRES!$F12) | M13: =IF([12]COMMENTAIRES!$F12="","",[12]COMMENTAIRES!$F12)
A14: Congés payés | B14: =IF([2]COMMENTAIRES!$F13="","",[2]COMMENTAIRES!$F13) | C14: =IF([1]COMMENTAIRES!$F13="","",[1]COMMENTAIRES!$F13) | D14: =IF([3]COMMENTAIRES!$F13="","",[3]COMMENTAIRES!$F13) | E14: =IF([4]COMMENTAIRES!$F13="","",[4]COMMENTAIRES!$F13) | F14: =IF([5]COMMENTAIRES!$F13="","",[5]COMMENTAIRES!$F13) | G14: =IF([6]COMMENTAIRES!$F13="","",[6]COMMENTAIRES!$F13) | H14: =IF([7]COMMENTAIRES!$F13="","",[7]COMMENTAIRES!$F13) | I14: =IF([8]COMMENTAIRES!$F13="","",[8]COMMENTAIRES!$F13) | J14: =IF([9]COMMENTAIRES!$F13="","",[9]COMMENTAIRES!$F13) | K14: =IF([10]COMMENTAIRES!$F13="","",[10]COMMENTAIRES!$F13) | L14: =IF([11]COMMENTAIRES!$F13="","",[11]COMMENTAIRES!$F13) | M14: =IF([12]COMMENTAIRES!$F13="","",[12]COMMENTAIRES!$F13)
A15: CET | B15: =IF([2]COMMENTAIRES!$F14="","",[2]COMMENTAIRES!$F14) | C15: =IF([1]COMMENTAIRES!$F14="","",[1]COMMENTAIRES!$F14) | D15: =IF([3]COMMENTAIRES!$F14="","",[3]COMMENTAIRES!$F14) | E15: =IF([4]COMMENTAIRES!$F14="","",[4]COMMENTAIRES!$F14) | F15: =IF([5]COMMENTAIRES!$F14="","",[5]COMMENTAIRES!$F14) | G15: =IF([6]COMMENTAIRES!$F14="","",[6]COMMENTAIRES!$F14) | H15: =IF([7]COMMENTAIRES!$F14="","",[7]COMMENTAIRES!$F14) | I15: =IF([8]COMMENTAIRES!$F14="","",[8]COMMENTAIRES!$F14) | J15: =IF([9]COMMENTAIRES!$F14="","",[9]COMMENTAIRES!$F14) | K15: =IF([10]COMMENTAIRES!$F14="","",[10]COMMENTAIRES!$F14) | L15: =IF([11]COMMENTAIRES!$F14="","",[11]COMMENTAIRES!$F14) | M15: =IF([12]COMMENTAIRES!$F14="","",[12]COMMENTAIRES!$F14)
A16: Repos compensateurs | B16: =IF([2]COMMENTAIRES!$F15="","",[2]COMMENTAIRES!$F15) | C16: =IF([1]COMMENTAIRES!$F15="","",[1]COMMENTAIRES!$F15) | D16: =IF([3]COMMENTAIRES!$F15="","",[3]COMMENTAIRES!$F15) | E16: =IF([4]COMMENTAIRES!$F15="","",[4]COMMENTAIRES!$F15) | F16: =IF([5]COMMENTAIRES!$F15="","",[5]COMMENTAIRES!$F15) | G16: =IF([6]COMMENTAIRES!$F15="","",[6]COMMENTAIRES!$F15) | H16: =IF([7]COMMENTAIRES!$F15="","",[7]COMMENTAIRES!$F15) | I16: =IF([8]COMMENTAIRES!$F15="","",[8]COMMENTAIRES!$F15) | J16: =IF([9]COMMENTAIRES!$F15="","",[9]COMMENTAIRES!$F15) | K16: =IF([10]COMMENTAIRES!$F15="","",[10]COMMENTAIRES!$F15) | L16: =IF([11]COMMENTAIRES!$F15="","",[11]COMMENTAIRES!$F15) | M16: =IF([12]COMMENTAIRES!$F15="","",[12]COMMENTAIRES!$F15)
A17: Récup d'astreinte | B17: =IF([2]COMMENTAIRES!$F16="","",[2]COMMENTAIRES!$F16) | C17: =IF([1]COMMENTAIRES!$F16="","",[1]COMMENTAIRES!$F16) | D17: =IF([3]COMMENTAIRES!$F16="","",[3]COMMENTAIRES!$F16) | E17: =IF([4]COMMENTAIRES!$F16="","",[4]COMMENTAIRES!$F16) | F17: =IF([5]COMMENTAIRES!$F16="","",[5]COMMENTAIRES!$F16) | G17: =IF([6]COMMENTAIRES!$F16="","",[6]COMMENTAIRES!$F16) | H17: =IF([7]COMMENTAIRES!$F16="","",[7]COMMENTAIRES!$F16) | I17: =IF([8]COMMENTAIRES!$F16="","",[8]COMMENTAIRES!$F16) | J17: =IF([9]COMMENTAIRES!$F16="","",[9]COMMENTAIRES!$F16) | K17: =IF([10]COMMENTAIRES!$F16="","",[10]COMMENTAIRES!$F16) | L17: =IF([11]COMMENTAIRES!$F16="","",[11]COMMENTAIRES!$F16) | M17: =IF([12]COMMENTAIRES!$F16="","",[12]COMMENTAIRES!$F16)
A18: Congés exeptionnels | B18: =IF([2]COMMENTAIRES!$F17="","",[2]COMMENTAIRES!$F17) | C18: =IF([1]COMMENTAIRES!$F17="","",[1]COMMENTAIRES!$F17) | D18: =IF([3]COMMENTAIRES!$F17="","",[3]COMMENTAIRES!$F17) | E18: =IF([4]COMMENTAIRES!$F17="","",[4]COMMENTAIRES!$F17) | F18: =IF([5]COMMENTAIRES!$F17="","",[5]COMMENTAIRES!$F17) | G18: =IF([6]COMMENTAIRES!$F17="","",[6]COMMENTAIRES!$F17) | H18: =IF([7]COMMENTAIRES!$F17="","",[7]COMMENTAIRES!$F17) | I18: =IF([8]COMMENTAIRES!$F17="","",[8]COMMENTAIRES!$F17) | J18: =IF([9]COMMENTAIRES!$F17="","",[9]COMMENTAIRES!$F17) | K18: =IF([10]COMMENTAIRES!$F17="","",[10]COMMENTAIRES!$F17) | L18: =IF([11]COMMENTAIRES!$F17="","",[11]COMMENTAIRES!$F17) | M18: =IF([12]COMMENTAIRES!$F17="","",[12]COMMENTAIRES!$F17)
A19: Maladie | B19: =IF([2]COMMENTAIRES!$F18="","",[2]COMMENTAIRES!$F18) | C19: =IF([1]COMMENTAIRES!$F18="","",[1]COMMENTAIRES!$F18) | D19: =IF([3]COMMENTAIRES!$F18="","",[3]COMMENTAIRES!$F18) | E19: =IF([4]COMMENTAIRES!$F18="","",[4]COMMENTAIRES!$F18) | F19: =IF([5]COMMENTAIRES!$F18="","",[5]COMMENTAIRES!$F18) | G19: =IF([6]COMMENTAIRES!$F18="","",[6]COMMENTAIRES!$F18) | H19: =IF([7]COMMENTAIRES!$F18="","",[7]COMMENTAIRES!$F18) | I19: =IF([8]COMMENTAIRES!$F18="","",[8]COMMENTAIRES!$F18) | J19: =IF([9]COMMENTAIRES!$F18="","",[9]COMMENTAIRES!$F18) | K19: =IF([10]COMMENTAIRES!$F18="","",[10]COMMENTAIRES!$F18) | L19: =IF([11]COMMENTAIRES!$F18="","",[11]COMMENTAIRES!$F18) | M19: =IF([12]COMMENTAIRES!$F18="","",[12]COMMENTAIRES!$F18)
A20: Accident de travail | B20: =IF([2]COMMENTAIRES!$F19="","",[2]COMMENTAIRES!$F19) | C20: =IF([1]COMMENTAIRES!$F19="","",[1]COMMENTAIRES!$F19) | D20: =IF([3]COMMENTAIRES!$F19="","",[3]COMMENTAIRES!$F19) | E20: =IF([4]COMMENTAIRES!$F19="","",[4]COMMENTAIRES!$F19) | F20: =IF([5]COMMENTAIRES!$F19="","",[5]COMMENTAIRES!$F19) | G20: =IF([6]COMMENTAIRES!$F19="","",[6]COMMENTAIRES!$F19) | H20: =IF([7]COMMENTAIRES!$F19="","",[7]COMMENTAIRES!$F19) | I20: =IF([8]COMMENTAIRES!$F19="","",[8]COMMENTAIRES!$F19) | J20: =IF([9]COMMENTAIRES!$F19="","",[9]COMMENTAIRES!$F19) | K20: =IF([10]COMMENTAIRES!$F19="","",[10]COMMENTAIRES!$F19) | L20: =IF([11]COMMENTAIRES!$F19="","",[11]COMMENTAIRES!$F19) | M20: =IF([12]COMMENTAIRES!$F19="","",[12]COMMENTAIRES!$F19)
A21: Jours Fériés | B21: =IF([2]COMMENTAIRES!$F20="","",[2]COMMENTAIRES!$F20) | C21: =IF([1]COMMENTAIRES!$F20="","",[1]COMMENTAIRES!$F20) | D21: =IF([3]COMMENTAIRES!$F20="","",[3]COMMENTAIRES!$F20) | E21: =IF([4]COMMENTAIRES!$F20="","",[4]COMMENTAIRES!$F20) | F21: =IF([5]COMMENTAIRES!$F20="","",[5]COMMENTAIRES!$F20) | G21: =IF([6]COMMENTAIRES!$F20="","",[6]COMMENTAIRES!$F20) | H21: =IF([7]COMMENTAIRES!$F20="","",[7]COMMENTAIRES!$F20) | I21: =IF([8]COMMENTAIRES!$F20="","",[8]COMMENTAIRES!$F20) | J21: =IF([9]COMMENTAIRES!$F20="","",[9]COMMENTAIRES!$F20) | K21: =IF([10]COMMENTAIRES!$F20="","",[10]COMMENTAIRES!$F20) | L21: =IF([11]COMMENTAIRES!$F20="","",[11]COMMENTAIRES!$F20) | M21: =IF([12]COMMENTAIRES!$F20="","",[12]COMMENTAIRES!$F20)
A22: Congés sans solde | B22: =IF([2]COMMENTAIRES!$F21="","",[2]COMMENTAIRES!$F21) | C22: =IF([1]COMMENTAIRES!$F21="","",[1]COMMENTAIRES!$F21) | D22: =IF([3]COMMENTAIRES!$F21="","",[3]COMMENTAIRES!$F21) | E22: =IF([4]COMMENTAIRES!$F21="","",[4]COMMENTAIRES!$F21) | F22: =IF([5]COMMENTAIRES!$F21="","",[5]COMMENTAIRES!$F21) | G22: =IF([6]COMMENTAIRES!$F21="","",[6]COMMENTAIRES!$F21) | H22: =IF([7]COMMENTAIRES!$F21="","",[7]COMMENTAIRES!$F21) | I22: =IF([8]COMMENTAIRES!$F21="","",[8]COMMENTAIRES!$F21) | J22: =IF([9]COMMENTAIRES!$F21="","",[9]COMMENTAIRES!$F21) | K22: =IF([10]COMMENTAIRES!$F21="","",[10]COMMENTAIRES!$F21) | L22: =IF([11]COMMENTAIRES!$F21="","",[11]COMMENTAIRES!$F21) | M22: =IF([12]COMMENTAIRES!$F21="","",[12]COMMENTAIRES!$F21)
A23: = Heures absences | B23: =IF([2]COMMENTAIRES!$F22="","",[2]COMMENTAIRES!$F22) | C23: =IF([1]COMMENTAIRES!$F22="","",[1]COMMENTAIRES!$F22) | D23: =IF([3]COMMENTAIRES!$F22="","",[3]COMMENTAIRES!$F22) | E23: =IF([4]COMMENTAIRES!$F22="","",[4]COMMENTAIRES!$F22) | F23: =IF([5]COMMENTAIRES!$F22="","",[5]COMMENTAIRES!$F22) | G23: =IF([6]COMMENTAIRES!$F22="","",[6]COMMENTAIRES!$F22) | H23: =IF([7]COMMENTAIRES!$F22="","",[7]COMMENTAIRES!$F22) | I23: =IF([8]COMMENTAIRES!$F22="","",[8]COMMENTAIRES!$F22) | J23: =IF([9]COMMENTAIRES!$F22="","",[9]COMMENTAIRES!$F22) | K23: =IF([10]COMMENTAIRES!$F22="","",[10]COMMENTAIRES!$F22) | L23: =IF([11]COMMENTAIRES!$F22="","",[11]COMMENTAIRES!$F22) | M23: =IF([12]COMMENTAIRES!$F22="","",[12]COMMENTAIRES!$F22)
A24: Ratio H Abs. / H. payées | B24: =IF([2]COMMENTAIRES!$F23="","",[2]COMMENTAIRES!$F23) | C24: =IF([1]COMMENTAIRES!$F23="","",[1]COMMENTAIRES!$F23) -> A suivre de prés enormément de maladie l'an passé | D24: =IF([3]COMMENTAIRES!$F23="","",[3]COMMENTAIRES!$F23) | E24: =IF([4]COMMENTAIRES!$F23="","",[4]COMMENTAIRES!$F23) | F24: =IF([5]COMMENTAIRES!$F23="","",[5]COMMENTAIRES!$F23) | G24: =IF([6]COMMENTAIRES!$F23="","",[6]COMMENTAIRES!$F23) | H24: =IF([7]COMMENTAIRES!$F23="","",[7]COMMENTAIRES!$F23) | I24: =IF([8]COMMENTAIRES!$F23="","",[8]COMMENTAIRES!$F23) | J24: =IF([9]COMMENTAIRES!$F23="","",[9]COMMENTAIRES!$F23) | K24: =IF([10]COMMENTAIRES!$F23="","",[10]COMMENTAIRES!$F23) | L24: =IF([11]COMMENTAIRES!$F23="","",[11]COMMENTAIRES!$F23) | M24: =IF([12]COMMENTAIRES!$F23="","",[12]COMMENTAIRES!$F23)
B25: =IF([2]COMMENTAIRES!$F24="","",[2]COMMENTAIRES!$F24) | C25: =IF([1]COMMENTAIRES!$F24="","",[1]COMMENTAIRES!$F24) | D25: =IF([3]COMMENTAIRES!$F24="","",[3]COMMENTAIRES!$F24) | E25: =IF([4]COMMENTAIRES!$F24="","",[4]COMMENTAIRES!$F24) | F25: =IF([5]COMMENTAIRES!$F24="","",[5]COMMENTAIRES!$F24) | G25: =IF([6]COMMENTAIRES!$F24="","",[6]COMMENTAIRES!$F24) | H25: =IF([7]COMMENTAIRES!$F24="","",[7]COMMENTAIRES!$F24) | I25: =IF([8]COMMENTAIRES!$F24="","",[8]COMMENTAIRES!$F24) | J25: =IF([9]COMMENTAIRES!$F24="","",[9]COMMENTAIRES!$F24) | K25: =IF([10]COMMENTAIRES!$F24="","",[10]COMMENTAIRES!$F24) | L25: =IF([11]COMMENTAIRES!$F24="","",[11]COMMENTAIRES!$F24) | M25: =IF([12]COMMENTAIRES!$F24="","",[12]COMMENTAIRES!$F24)
A26: Présence réelle (H payées - H. abs) | B26: =IF([2]COMMENTAIRES!$F25="","",[2]COMMENTAIRES!$F25) | C26: =IF([1]COMMENTAIRES!$F25="","",[1]COMMENTAIRES!$F25) | D26: =IF([3]COMMENTAIRES!$F25="","",[3]COMMENTAIRES!$F25) | E26: =IF([4]COMMENTAIRES!$F25="","",[4]COMMENTAIRES!$F25) | F26: =IF([5]COMMENTAIRES!$F25="","",[5]COMMENTAIRES!$F25) | G26: =IF([6]COMMENTAIRES!$F25="","",[6]COMMENTAIRES!$F25) | H26: =IF([7]COMMENTAIRES!$F25="","",[7]COMMENTAIRES!$F25) | I26: =IF([8]COMMENTAIRES!$F25="","",[8]COMMENTAIRES!$F25) | J26: =IF([9]COMMENTAIRES!$F25="","",[9]COMMENTAIRES!$F25) | K26: =IF([10]COMMENTAIRES!$F25="","",[10]COMMENTAIRES!$F25) | L26: =IF([11]COMMENTAIRES!$F25="","",[11]COMMENTAIRES!$F25) | M26: =IF([12]COMMENTAIRES!$F25="","",[12]COMMENTAIRES!$F25)
B27: =IF([2]COMMENTAIRES!$F26="","",[2]COMMENTAIRES!$F26) | C27: =IF([1]COMMENTAIRES!$F26="","",[1]COMMENTAIRES!$F26) | D27: =IF([3]COMMENTAIRES!$F26="","",[3]COMMENTAIRES!$F26) | E27: =IF([4]COMMENTAIRES!$F26="","",[4]COMMENTAIRES!$F26) | F27: =IF([5]COMMENTAIRES!$F26="","",[5]COMMENTAIRES!$F26) | G27: =IF([6]COMMENTAIRES!$F26="","",[6]COMMENTAIRES!$F26) | H27: =IF([7]COMMENTAIRES!$F26="","",[7]COMMENTAIRES!$F26) | I27: =IF([8]COMMENTAIRES!$F26="","",[8]COMMENTAIRES!$F26) | J27: =IF([9]COMMENTAIRES!$F26="","",[9]COMMENTAIRES!$F26) | K27: =IF([10]COMMENTAIRES!$F26="","",[10]COMMENTAIRES!$F26) | L27: =IF([11]COMMENTAIRES!$F26="","",[11]COMMENTAIRES!$F26) | M27: =IF([12]COMMENTAIRES!$F26="","",[12]COMMENTAIRES!$F26)
A28: Détail Présence réelle | B28: =IF([2]COMMENTAIRES!$F27="","",[2]COMMENTAIRES!$F27) | C28: =IF([1]COMMENTAIRES!$F27="","",[1]COMMENTAIRES!$F27) | D28: =IF([3]COMMENTAIRES!$F27="","",[3]COMMENTAIRES!$F27) | E28: =IF([4]COMMENTAIRES!$F27="","",[4]COMMENTAIRES!$F27) | F28: =IF([5]COMMENTAIRES!$F27="","",[5]COMMENTAIRES!$F27) | G28: =IF([6]COMMENTAIRES!$F27="","",[6]COMMENTAIRES!$F27) | H28: =IF([7]COMMENTAIRES!$F27="","",[7]COMMENTAIRES!$F27) | I28: =IF([8]COMMENTAIRES!$F27="","",[8]COMMENTAIRES!$F27) | J28: =IF([9]COMMENTAIRES!$F27="","",[9]COMMENTAIRES!$F27) | K28: =IF([10]COMMENTAIRES!$F27="","",[10]COMMENTAIRES!$F27) | L28: =IF([11]COMMENTAIRES!$F27="","",[11]COMMENTAIRES!$F27) | M28: =IF([12]COMMENTAIRES!$F27="","",[12]COMMENTAIRES!$F27)
A29: Entretien auto/ outils | B29: =IF([2]COMMENTAIRES!$F28="","",[2]COMMENTAIRES!$F28) | C29: =IF([1]COMMENTAIRES!$F28="","",[1]COMMENTAIRES!$F28) | D29: =IF([3]COMMENTAIRES!$F28="","",[3]COMMENTAIRES!$F28) | E29: =IF([4]COMMENTAIRES!$F28="","",[4]COMMENTAIRES!$F28) | F29: =IF([5]COMMENTAIRES!$F28="","",[5]COMMENTAIRES!$F28) | G29: =IF([6]COMMENTAIRES!$F28="","",[6]COMMENTAIRES!$F28) | H29: =IF([7]COMMENTAIRES!$F28="","",[7]COMMENTAIRES!$F28) | I29: =IF([8]COMMENTAIRES!$F28="","",[8]COMMENTAIRES!$F28) | J29: =IF([9]COMMENTAIRES!$F28="","",[9]COMMENTAIRES!$F28) | K29: =IF([10]COMMENTAIRES!$F28="","",[10]COMMENTAIRES!$F28) | L29: =IF([11]COMMENTAIRES!$F28="","",[11]COMMENTAIRES!$F28) | M29: =IF([12]COMMENTAIRES!$F28="","",[12]COMMENTAIRES!$F28)
A30: Comité d'entreprise | B30: =IF([2]COMMENTAIRES!$F29="","",[2]COMMENTAIRES!$F29) | C30: =IF([1]COMMENTAIRES!$F29="","",[1]COMMENTAIRES!$F29) | D30: =IF([3]COMMENTAIRES!$F29="","",[3]COMMENTAIRES!$F29) | E30: =IF([4]COMMENTAIRES!$F29="","",[4]COMMENTAIRES!$F29) | F30: =IF([5]COMMENTAIRES!$F29="","",[5]COMMENTAIRES!$F29) | G30: =IF([6]COMMENTAIRES!$F29="","",[6]COMMENTAIRES!$F29) | H30: =IF([7]COMMENTAIRES!$F29="","",[7]COMMENTAIRES!$F29) | I30: =IF([8]COMMENTAIRES!$F29="","",[8]COMMENTAIRES!$F29) | J30: =IF([9]COMMENTAIRES!$F29="","",[9]COMMENTAIRES!$F29) | K30: =IF([10]COMMENTAIRES!$F29="","",[10]COMMENTAIRES!$F29) | L30: =IF([11]COMMENTAIRES!$F29="","",[11]COMMENTAIRES!$F29) | M30: =IF([12]COMMENTAIRES!$F29="","",[12]COMMENTAIRES!$F29)
A31: Entretien/réunion | B31: =IF([2]COMMENTAIRES!$F30="","",[2]COMMENTAIRES!$F30) | C31: =IF([1]COMMENTAIRES!$F30="","",[1]COMMENTAIRES!$F30) | D31: =IF([3]COMMENTAIRES!$F30="","",[3]COMMENTAIRES!$F30) | E31: =IF([4]COMMENTAIRES!$F30="","",[4]COMMENTAIRES!$F30) | F31: =IF([5]COMMENTAIRES!$F30="","",[5]COMMENTAIRES!$F30) | G31: =IF([6]COMMENTAIRES!$F30="","",[6]COMMENTAIRES!$F30) | H31: =IF([7]COMMENTAIRES!$F30="","",[7]COMMENTAIRES!$F30) | I31: =IF([8]COMMENTAIRES!$F30="","",[8]COMMENTAIRES!$F30) | J31: =IF([9]COMMENTAIRES!$F30="","",[9]COMMENTAIRES!$F30) | K31: =IF([10]COMMENTAIRES!$F30="","",[10]COMMENTAIRES!$F30) | L31: =IF([11]COMMENTAIRES!$F30="","",[11]COMMENTAIRES!$F30) | M31: =IF([12]COMMENTAIRES!$F30="","",[12]COMMENTAIRES!$F30)
A32: Inventaire Entrepôt/auto | B32: =IF([2]COMMENTAIRES!$F31="","",[2]COMMENTAIRES!$F31) | C32: =IF([1]COMMENTAIRES!$F31="","",[1]COMMENTAIRES!$F31) | D32: =IF([3]COMMENTAIRES!$F31="","",[3]COMMENTAIRES!$F31) | E32: =IF([4]COMMENTAIRES!$F31="","",[4]COMMENTAIRES!$F31) | F32: =IF([5]COMMENTAIRES!$F31="","",[5]COMMENTAIRES!$F31) | G32: =IF([6]COMMENTAIRES!$F31="","",[6]COMMENTAIRES!$F31) | H32: =IF([7]COMMENTAIRES!$F31="","",[7]COMMENTAIRES!$F31) | I32: =IF([8]COMMENTAIRES!$F31="","",[8]COMMENTAIRES!$F31) | J32: =IF([9]COMMENTAIRES!$F31="","",[9]COMMENTAIRES!$F31) | K32: =IF([10]COMMENTAIRES!$F31="","",[10]COMMENTAIRES!$F31) | L32: =IF([11]COMMENTAIRES!$F31="","",[11]COMMENTAIRES!$F31) | M32: =IF([12]COMMENTAIRES!$F31="","",[12]COMMENTAIRES!$F31)
A33: Magasin/travail chaîne | B33: =IF([2]COMMENTAIRES!$F32="","",[2]COMMENTAIRES!$F32) | C33: =IF([1]COMMENTAIRES!$F32="","",[1]COMMENTAIRES!$F32) | D33: =IF([3]COMMENTAIRES!$F32="","",[3]COMMENTAIRES!$F32) | E33: =IF([4]COMMENTAIRES!$F32="","",[4]COMMENTAIRES!$F32) | F33: =IF([5]COMMENTAIRES!$F32="","",[5]COMMENTAIRES!$F32) | G33: =IF([6]COMMENTAIRES!$F32="","",[6]COMMENTAIRES!$F32) | H33: =IF([7]COMMENTAIRES!$F32="","",[7]COMMENTAIRES!$F32) | I33: =IF([8]COMMENTAIRES!$F32="","",[8]COMMENTAIRES!$F32) | J33: =IF([9]COMMENTAIRES!$F32="","",[9]COMMENTAIRES!$F32) | K33: =IF([10]COMMENTAIRES!$F32="","",[10]COMMENTAIRES!$F32) | L33: =IF([11]COMMENTAIRES!$F32="","",[11]COMMENTAIRES!$F32) | M33: =IF([12]COMMENTAIRES!$F32="","",[12]COMMENTAIRES!$F32)
A34: Particip. formation/donné | B34: =IF([2]COMMENTAIRES!$F33="","",[2]COMMENTAIRES!$F33) | C34: =IF([1]COMMENTAIRES!$F33="","",[1]COMMENTAIRES!$F33) -> Les blocs de formations ont commencé + Formation SST | D34: =IF([3]COMMENTAIRES!$F33="","",[3]COMMENTAIRES!$F33) | E34: =IF([4]COMMENTAIRES!$F33="","",[4]COMMENTAIRES!$F33) | F34: =IF([5]COMMENTAIRES!$F33="","",[5]COMMENTAIRES!$F33) | G34: =IF([6]COMMENTAIRES!$F33="","",[6]COMMENTAIRES!$F33) | H34: =IF([7]COMMENTAIRES!$F33="","",[7]COMMENTAIRES!$F33) | I34: =IF([8]COMMENTAIRES!$F33="","",[8]COMMENTAIRES!$F33) | J34: =IF([9]COMMENTAIRES!$F33="","",[9]COMMENTAIRES!$F33) | K34: =IF([10]COMMENTAIRES!$F33="","",[10]COMMENTAIRES!$F33) | L34: =IF([11]COMMENTAIRES!$F33="","",[11]COMMENTAIRES!$F33) | M34: =IF([12]COMMENTAIRES!$F33="","",[12]COMMENTAIRES!$F33)
A35: Prép.service/plan interv | B35: =IF([2]COMMENTAIRES!$F34="","",[2]COMMENTAIRES!$F34) | C35: =IF([1]COMMENTAIRES!$F34="","",[1]COMMENTAIRES!$F34) | D35: =IF([3]COMMENTAIRES!$F34="","",[3]COMMENTAIRES!$F34) | E35: =IF([4]COMMENTAIRES!$F34="","",[4]COMMENTAIRES!$F34) | F35: =IF([5]COMMENTAIRES!$F34="","",[5]COMMENTAIRES!$F34) | G35: =IF([6]COMMENTAIRES!$F34="","",[6]COMMENTAIRES!$F34) | H35: =IF([7]COMMENTAIRES!$F34="","",[7]COMMENTAIRES!$F34) | I35: =IF([8]COMMENTAIRES!$F34="","",[8]COMMENTAIRES!$F34) | J35: =IF([9]COMMENTAIRES!$F34="","",[9]COMMENTAIRES!$F34) | K35: =IF([10]COMMENTAIRES!$F34="","",[10]COMMENTAIRES!$F34) | L35: =IF([11]COMMENTAIRES!$F34="","",[11]COMMENTAIRES!$F34) | M35: =IF([12]COMMENTAIRES!$F34="","",[12]COMMENTAIRES!$F34)
A36: Travaux bureau service | B36: =IF([2]COMMENTAIRES!$F35="","",[2]COMMENTAIRES!$F35) | C36: =IF([1]COMMENTAIRES!$F35="","",[1]COMMENTAIRES!$F35) | D36: =IF([3]COMMENTAIRES!$F35="","",[3]COMMENTAIRES!$F35) | E36: =IF([4]COMMENTAIRES!$F35="","",[4]COMMENTAIRES!$F35) | F36: =IF([5]COMMENTAIRES!$F35="","",[5]COMMENTAIRES!$F35) | G36: =IF([6]COMMENTAIRES!$F35="","",[6]COMMENTAIRES!$F35) | H36: =IF([7]COMMENTAIRES!$F35="","",[7]COMMENTAIRES!$F35) | I36: =IF([8]COMMENTAIRES!$F35="","",[8]COMMENTAIRES!$F35) | J36: =IF([9]COMMENTAIRES!$F35="","",[9]COMMENTAIRES!$F35) | K36: =IF([10]COMMENTAIRES!$F35="","",[10]COMMENTAIRES!$F35) | L36: =IF([11]COMMENTAIRES!$F35="","",[11]COMMENTAIRES!$F35) | M36: =IF([12]COMMENTAIRES!$F35="","",[12]COMMENTAIRES!$F35)
A37: Heures Improductives Non Trajet | B37: =IF([2]COMMENTAIRES!$F36="","",[2]COMMENTAIRES!$F36) | C37: =IF([1]COMMENTAIRES!$F36="","",[1]COMMENTAIRES!$F36) | D37: =IF([3]COMMENTAIRES!$F36="","",[3]COMMENTAIRES!$F36) | E37: =IF([4]COMMENTAIRES!$F36="","",[4]COMMENTAIRES!$F36) | F37: =IF([5]COMMENTAIRES!$F36="","",[5]COMMENTAIRES!$F36) | G37: =IF([6]COMMENTAIRES!$F36="","",[6]COMMENTAIRES!$F36) | H37: =IF([7]COMMENTAIRES!$F36="","",[7]COMMENTAIRES!$F36) | I37: =IF([8]COMMENTAIRES!$F36="","",[8]COMMENTAIRES!$F36) | J37: =IF([9]COMMENTAIRES!$F36="","",[9]COMMENTAIRES!$F36) | K37: =IF([10]COMMENTAIRES!$F36="","",[10]COMMENTAIRES!$F36) | L37: =IF([11]COMMENTAIRES!$F36="","",[11]COMMENTAIRES!$F36) | M37: =IF([12]COMMENTAIRES!$F36="","",[12]COMMENTAIRES!$F36)
A38: Autres trajets | B38: =IF([2]COMMENTAIRES!$F37="","",[2]COMMENTAIRES!$F37) | C38: =IF([1]COMMENTAIRES!$F37="","",[1]COMMENTAIRES!$F37) | D38: =IF([3]COMMENTAIRES!$F37="","",[3]COMMENTAIRES!$F37) | E38: =IF([4]COMMENTAIRES!$F37="","",[4]COMMENTAIRES!$F37) | F38: =IF([5]COMMENTAIRES!$F37="","",[5]COMMENTAIRES!$F37) | G38: =IF([6]COMMENTAIRES!$F37="","",[6]COMMENTAIRES!$F37) | H38: =IF([7]COMMENTAIRES!$F37="","",[7]COMMENTAIRES!$F37) | I38: =IF([8]COMMENTAIRES!$F37="","",[8]COMMENTAIRES!$F37) | J38: =IF([9]COMMENTAIRES!$F37="","",[9]COMMENTAIRES!$F37) | K38: =IF([10]COMMENTAIRES!$F37="","",[10]COMMENTAIRES!$F37) | L38: =IF([11]COMMENTAIRES!$F37="","",[11]COMMENTAIRES!$F37) | M38: =IF([12]COMMENTAIRES!$F37="","",[12]COMMENTAIRES!$F37)
A39: Départ / arrivée | B39: =IF([2]COMMENTAIRES!$F38="","",[2]COMMENTAIRES!$F38) | C39: =IF([1]COMMENTAIRES!$F38="","",[1]COMMENTAIRES!$F38) | D39: =IF([3]COMMENTAIRES!$F38="","",[3]COMMENTAIRES!$F38) | E39: =IF([4]COMMENTAIRES!$F38="","",[4]COMMENTAIRES!$F38) | F39: =IF([5]COMMENTAIRES!$F38="","",[5]COMMENTAIRES!$F38) | G39: =IF([6]COMMENTAIRES!$F38="","",[6]COMMENTAIRES!$F38) | H39: =IF([7]COMMENTAIRES!$F38="","",[7]COMMENTAIRES!$F38) | I39: =IF([8]COMMENTAIRES!$F38="","",[8]COMMENTAIRES!$F38) | J39: =IF([9]COMMENTAIRES!$F38="","",[9]COMMENTAIRES!$F38) | K39: =IF([10]COMMENTAIRES!$F38="","",[10]COMMENTAIRES!$F38) | L39: =IF([11]COMMENTAIRES!$F38="","",[11]COMMENTAIRES!$F38) | M39: =IF([12]COMMENTAIRES!$F38="","",[12]COMMENTAIRES!$F38)
... A43: Ratio improd / présence réelle | B43: =IF([2]COMMENTAIRES!$F42="","",[2]COMMENTAIRES!$F42) | C43: =IF([1]COMMENTAIRES!$F42="","",[1]COMMENTAIRES!$F42) -> OK | D43: =IF([3]COMMENTAIRES!$F42="","",[3]COMMENTAIRES!$F42) | E43: =IF([4]COMMENTAIRES!$F42="","",[4]COMMENTAIRES!$F42) | F43: =IF([5]COMMENTAIRES!$F42="","",[5]COMMENTAIRES!$F42) | G43: =IF([6]COMMENTAIRES!$F42="","",[6]COMMENTAIRES!$F42) | H43: =IF([7]COMMENTAIRES!$F42="","",[7]COMMENTAIRES!$F42) | I43: =IF([8]COMMENTAIRES!$F42="","",[8]COMMENTAIRES!$F42) | J43: =IF([9]COMMENTAIRES!$F42="","",[9]COMMENTAIRES!$F42) | K43: =IF([10]COMMENTAIRES!$F42="","",[10]COMMENTAIRES!$F42) | L43: =IF([11]COMMENTAIRES!$F42="","",[11]COMMENTAIRES!$F42) | M43: =IF([12]COMMENTAIRES!$F42="","",[12]COMMENTAIRES!$F42)
B44: =IF([2]COMMENTAIRES!$F43="","",[2]COMMENTAIRES!$F43) | C44: =IF([1]COMMENTAIRES!$F43="","",[1]COMMENTAIRES!$F43) | D44: =IF([3]COMMENTAIRES!$F43="","",[3]COMMENTAIRES!$F43) | E44: =IF([4]COMMENTAIRES!$F43="","",[4]COMMENTAIRES!$F43) | F44: =IF([5]COMMENTAIRES!$F43="","",[5]COMMENTAIRES!$F43) | G44: =IF([6]COMMENTAIRES!$F43="","",[6]COMMENTAIRES!$F43) | H44: =IF([7]COMMENTAIRES!$F43="","",[7]COMMENTAIRES!$F43) | I44: =IF([8]COMMENTAIRES!$F43="","",[8]COMMENTAIRES!$F43) | J44: =IF([9]COMMENTAIRES!$F43="","",[9]COMMENTAIRES!$F43) | K44: =IF([10]COMMENTAIRES!$F43="","",[10]COMMENTAIRES!$F43) | L44: =IF([11]COMMENTAIRES!$F43="","",[11]COMMENTAIRES!$F43) | M44: =IF([12]COMMENTAIRES!$F43="","",[12]COMMENTAIRES!$F43)
A45: Heures Trajet LHSVDR | B45: =IF([2]COMMENTAIRES!$F44="","",[2]COMMENTAIRES!$F44) | C45: =IF([1]COMMENTAIRES!$F44="","",[1]COMMENTAIRES!$F44) | D45: =IF([3]COMMENTAIRES!$F44="","",[3]COMMENTAIRES!$F44) | E45: =IF([4]COMMENTAIRES!$F44="","",[4]COMMENTAIRES!$F44) | F45: =IF([5]COMMENTAIRES!$F44="","",[5]COMMENTAIRES!$F44) | G45: =IF([6]COMMENTAIRES!$F44="","",[6]COMMENTAIRES!$F44) | H45: =IF([7]COMMENTAIRES!$F44="","",[7]COMMENTAIRES!$F44) | I45: =IF([8]COMMENTAIRES!$F44="","",[8]COMMENTAIRES!$F44) | J45: =IF([9]COMMENTAIRES!$F44="","",[9]COMMENTAIRES!$F44) | K45: =IF([10]COMMENTAIRES!$F44="","",[10]COMMENTAIRES!$F44) | L45: =IF([11]COMMENTAIRES!$F44="","",[11]COMMENTAIRES!$F44) | M45: =IF([12]COMMENTAIRES!$F44="","",[12]COMMENTAIRES!$F44)
A46: Heures Opérationnelles LHSVOP | B46: =IF([2]COMMENTAIRES!$F45="","",[2]COMMENTAIRES!$F45) | C46: =IF([1]COMMENTAIRES!$F45="","",[1]COMMENTAIRES!$F45) | D46: =IF([3]COMMENTAIRES!$F45="","",[3]COMMENTAIRES!$F45) | E46: =IF([4]COMMENTAIRES!$F45="","",[4]COMMENTAIRES!$F45) | F46: =IF([5]COMMENTAIRES!$F45="","",[5]COMMENTAIRES!$F45) | G46: =IF([6]COMMENTAIRES!$F45="","",[6]COMMENTAIRES!$F45) | H46: =IF([7]COMMENTAIRES!$F45="","",[7]COMMENTAIRES!$F45) | I46: =IF([8]COMMENTAIRES!$F45="","",[8]COMMENTAIRES!$F45) | J46: =IF([9]COMMENTAIRES!$F45="","",[9]COMMENTAIRES!$F45) | K46: =IF([10]COMMENTAIRES!$F45="","",[10]COMMENTAIRES!$F45) | L46: =IF([11]COMMENTAIRES!$F45="","",[11]COMMENTAIRES!$F45) | M46: =IF([12]COMMENTAIRES!$F45="","",[12]COMMENTAIRES!$F45)
A47: Temps attente inévitable | B47: =IF([2]COMMENTAIRES!$F46="","",[2]COMMENTAIRES!$F46) | C47: =IF([1]COMMENTAIRES!$F46="","",[1]COMMENTAIRES!$F46) -> Des erreurs de clef avant la communication | D47: =IF([3]COMMENTAIRES!$F46="","",[3]COMMENTAIRES!$F46) | E47: =IF([4]COMMENTAIRES!$F46="","",[4]COMMENTAIRES!$F46) | F47: =IF([5]COMMENTAIRES!$F46="","",[5]COMMENTAIRES!$F46) | G47: =IF([6]COMMENTAIRES!$F46="","",[6]COMMENTAIRES!$F46) | H47: =IF([7]COMMENTAIRES!$F46="","",[7]COMMENTAIRES!$F46) | I47: =IF([8]COMMENTAIRES!$F46="","",[8]COMMENTAIRES!$F46) | J47: =IF([9]COMMENTAIRES!$F46="","",[9]COMMENTAIRES!$F46) | K47: =IF([10]COMMENTAIRES!$F46="","",[10]COMMENTAIRES!$F46) | L47: =IF([11]COMMENTAIRES!$F46="","",[11]COMMENTAIRES!$F46) | M47: =IF([12]COMMENTAIRES!$F46="","",[12]COMMENTAIRES!$F46)
A48: Temps attente vent fort | B48: =IF([2]COMMENTAIRES!$F47="","",[2]COMMENTAIRES!$F47) | C48: =IF([1]COMMENTAIRES!$F47="","",[1]COMMENTAIRES!$F47) | D48: =IF([3]COMMENTAIRES!$F47="","",[3]COMMENTAIRES!$F47) | E48: =IF([4]COMMENTAIRES!$F47="","",[4]COMMENTAIRES!$F47) | F48: =IF([5]COMMENTAIRES!$F47="","",[5]COMMENTAIRES!$F47) | G48: =IF([6]COMMENTAIRES!$F47="","",[6]COMMENTAIRES!$F47) | H48: =IF([7]COMMENTAIRES!$F47="","",[7]COMMENTAIRES!$F47) | I48: =IF([8]COMMENTAIRES!$F47="","",[8]COMMENTAIRES!$F47) | J48: =IF([9]COMMENTAIRES!$F47="","",[9]COMMENTAIRES!$F47) | K48: =IF([10]COMMENTAIRES!$F47="","",[10]COMMENTAIRES!$F47) | L48: =IF([11]COMMENTAIRES!$F47="","",[11]COMMENTAIRES!$F47) | M48: =IF([12]COMMENTAIRES!$F47="","",[12]COMMENTAIRES!$F47)
A49: Temps attente abs.outils | B49: =IF([2]COMMENTAIRES!$F48="","",[2]COMMENTAIRES!$F48) | C49: =IF([1]COMMENTAIRES!$F48="","",[1]COMMENTAIRES!$F48) | D49: =IF([3]COMMENTAIRES!$F48="","",[3]COMMENTAIRES!$F48) | E49: =IF([4]COMMENTAIRES!$F48="","",[4]COMMENTAIRES!$F48) | F49: =IF([5]COMMENTAIRES!$F48="","",[5]COMMENTAIRES!$F48) | G49: =IF([6]COMMENTAIRES!$F48="","",[6]COMMENTAIRES!$F48) | H49: =IF([7]COMMENTAIRES!$F48="","",[7]COMMENTAIRES!$F48) | I49: =IF([8]COMMENTAIRES!$F48="","",[8]COMMENTAIRES!$F48) | J49: =IF([9]COMMENTAIRES!$F48="","",[9]COMMENTAIRES!$F48) | K49: =IF([10]COMMENTAIRES!$F48="","",[10]COMMENTAIRES!$F48) | L49: =IF([11]COMMENTAIRES!$F48="","",[11]COMMENTAIRES!$F48) | M49: =IF([12]COMMENTAIRES!$F48="","",[12]COMMENTAIRES!$F48)
A50: Temps attente abs.matér. | B50: =IF([2]COMMENTAIRES!$F49="","",[2]COMMENTAIRES!$F49) | C50: =IF([1]COMMENTAIRES!$F49="","",[1]COMMENTAIRES!$F49) | D50: =IF([3]COMMENTAIRES!$F49="","",[3]COMMENTAIRES!$F49) | E50: =IF([4]COMMENTAIRES!$F49="","",[4]COMMENTAIRES!$F49) | F50: =IF([5]COMMENTAIRES!$F49="","",[5]COMMENTAIRES!$F49) | G50: =IF([6]COMMENTAIRES!$F49="","",[6]COMMENTAIRES!$F49) | H50: =IF([7]COMMENTAIRES!$F49="","",[7]COMMENTAIRES!$F49) | I50: =IF([8]COMMENTAIRES!$F49="","",[8]COMMENTAIRES!$F49) | J50: =IF([9]COMMENTAIRES!$F49="","",[9]COMMENTAIRES!$F49) | K50: =IF([10]COMMENTAIRES!$F49="","",[10]COMMENTAIRES!$F49) | L50: =IF([11]COMMENTAIRES!$F49="","",[11]COMMENTAIRES!$F49) | M50: =IF([12]COMMENTAIRES!$F49="","",[12]COMMENTAIRES!$F49)
A51: Heures Waiting Time (WT) | B51: =IF([2]COMMENTAIRES!$F50="","",[2]COMMENTAIRES!$F50) | C51: =IF([1]COMMENTAIRES!$F50="","",[1]COMMENTAIRES!$F50) | D51: =IF([3]COMMENTAIRES!$F50="","",[3]COMMENTAIRES!$F50) | E51: =IF([4]COMMENTAIRES!$F50="","",[4]COMMENTAIRES!$F50) | F51: =IF([5]COMMENTAIRES!$F50="","",[5]COMMENTAIRES!$F50) | G51: =IF([6]COMMENTAIRES!$F50="","",[6]COMMENTAIRES!$F50) | H51: =IF([7]COMMENTAIRES!$F50="","",[7]COMMENTAIRES!$F50) | I51: =IF([8]COMMENTAIRES!$F50="","",[8]COMMENTAIRES!$F50) | J51: =IF([9]COMMENTAIRES!$F50="","",[9]COMMENTAIRES!$F50) | K51: =IF([10]COMMENTAIRES!$F50="","",[10]COMMENTAIRES!$F50) | L51: =IF([11]COMMENTAIRES!$F50="","",[11]COMMENTAIRES!$F50) | M51: =IF([12]COMMENTAIRES!$F50="","",[12]COMMENTAIRES!$F50)
A52: = Heures Productives Vendues | B52: =IF([2]COMMENTAIRES!$F51="","",[2]COMMENTAIRES!$F51) | C52: =IF([1]COMMENTAIRES!$F51="","",[1]COMMENTAIRES!$F51) -> impact de la formation ??? | D52: =IF([3]COMMENTAIRES!$F51="","",[3]COMMENTAIRES!$F51) | E52: =IF([4]COMMENTAIRES!$F51="","",[4]COMMENTAIRES!$F51) | F52: =IF([5]COMMENTAIRES!$F51="","",[5]COMMENTAIRES!$F51) | G52: =IF([6]COMMENTAIRES!$F51="","",[6]COMMENTAIRES!$F51) | H52: =IF([7]COMMENTAIRES!$F51="","",[7]COMMENTAIRES!$F51) | I52: =IF([8]COMMENTAIRES!$F51="","",[8]COMMENTAIRES!$F51) | J52: =IF([9]COMMENTAIRES!$F51="","",[9]COMMENTAIRES!$F51) | K52: =IF([10]COMMENTAIRES!$F51="","",[10]COMMENTAIRES!$F51) | L52: =IF([11]COMMENTAIRES!$F51="","",[11]COMMENTAIRES!$F51) | M52: =IF([12]COMMENTAIRES!$F51="","",[12]COMMENTAIRES!$F51)
A53: Ratio LHSVOP / H. prod. | B53: =IF([2]COMMENTAIRES!$F52="","",[2]COMMENTAIRES!$F52) | C53: =IF([1]COMMENTAIRES!$F52="","",[1]COMMENTAIRES!$F52) -> Impact de la neige sur le puy en velay | D53: =IF([3]COMMENTAIRES!$F52="","",[3]COMMENTAIRES!$F52) | E53: =IF([4]COMMENTAIRES!$F52="","",[4]COMMENTAIRES!$F52) | F53: =IF([5]COMMENTAIRES!$F52="","",[5]COMMENTAIRES!$F52) | G53: =IF([6]COMMENTAIRES!$F52="","",[6]COMMENTAIRES!$F52) | H53: =IF([7]COMMENTAIRES!$F52="","",[7]COMMENTAIRES!$F52) | I53: =IF([8]COMMENTAIRES!$F52="","",[8]COMMENTAIRES!$F52) | J53: =IF([9]COMMENTAIRES!$F52="","",[9]COMMENTAIRES!$F52) | K53: =IF([10]COMMENTAIRES!$F52="","",[10]COMMENTAIRES!$F52) | L53: =IF([11]COMMENTAIRES!$F52="","",[11]COMMENTAIRES!$F52) | M53: =IF([12]COMMENTAIRES!$F52="","",[12]COMMENTAIRES!$F52)
A54: Ratio LHSVDR / H. prod. | B54: =IF([2]COMMENTAIRES!$F53="","",[2]COMMENTAIRES!$F53) | C54: =IF([1]COMMENTAIRES!$F53="","",[1]COMMENTAIRES!$F53) -> Impact de la neige sur le puy en velay | D54: =IF([3]COMMENTAIRES!$F53="","",[3]COMMENTAIRES!$F53) | E54: =IF([4]COMMENTAIRES!$F53="","",[4]COMMENTAIRES!$F53) | F54: =IF([5]COMMENTAIRES!$F53="","",[5]COMMENTAIRES!$F53) | G54: =IF([6]COMMENTAIRES!$F53="","",[6]COMMENTAIRES!$F53) | H54: =IF([7]COMMENTAIRES!$F53="","",[7]COMMENTAIRES!$F53) | I54: =IF([8]COMMENTAIRES!$F53="","",[8]COMMENTAIRES!$F53) | J54: =IF([9]COMMENTAIRES!$F53="","",[9]COMMENTAIRES!$F53) | K54: =IF([10]COMMENTAIRES!$F53="","",[10]COMMENTAIRES!$F53) | L54: =IF([11]COMMENTAIRES!$F53="","",[11]COMMENTAIRES!$F53) | M54: =IF([12]COMMENTAIRES!$F53="","",[12]COMMENTAIRES!$F53)
A55: Ratio WT / H. prod. | B55: =IF([2]COMMENTAIRES!$F54="","",[2]COMMENTAIRES!$F54) | C55: =IF([1]COMMENTAIRES!$F54="","",[1]COMMENTAIRES!$F54) | D55: =IF([3]COMMENTAIRES!$F54="","",[3]COMMENTAIRES!$F54) | E55: =IF([4]COMMENTAIRES!$F54="","",[4]COMMENTAIRES!$F54) | F55: =IF([5]COMMENTAIRES!$F54="","",[5]COMMENTAIRES!$F54) | G55: =IF([6]COMMENTAIRES!$F54="","",[6]COMMENTAIRES!$F54) | H55: =IF([7]COMMENTAIRES!$F54="","",[7]COMMENTAIRES!$F54) | I55: =IF([8]COMMENTAIRES!$F54="","",[8]COMMENTAIRES!$F54) | J55: =IF([9]COMMENTAIRES!$F54="","",[9]COMMENTAIRES!$F54) | K55: =IF([10]COMMENTAIRES!$F54="","",[10]COMMENTAIRES!$F54) | L55: =IF([11]COMMENTAIRES!$F54="","",[11]COMMENTAIRES!$F54) | M55: =IF([12]COMMENTAIRES!$F54="","",[12]COMMENTAIRES!$F54)
B56: =IF([2]COMMENTAIRES!$F55="","",[2]COMMENTAIRES!$F55) | C56: =IF([1]COMMENTAIRES!$F55="","",[1]COMMENTAIRES!$F55) | D56: =IF([3]COMMENTAIRES!$F55="","",[3]COMMENTAIRES!$F55) | E56: =IF([4]COMMENTAIRES!$F55="","",[4]COMMENTAIRES!$F55) | F56: =IF([5]COMMENTAIRES!$F55="","",[5]COMMENTAIRES!$F55) | G56: =IF([6]COMMENTAIRES!$F55="","",[6]COMMENTAIRES!$F55) | H56: =IF([7]COMMENTAIRES!$F55="","",[7]COMMENTAIRES!$F55) | I56: =IF([8]COMMENTAIRES!$F55="","",[8]COMMENTAIRES!$F55) | J56: =IF([9]COMMENTAIRES!$F55="","",[9]COMMENTAIRES!$F55) | K56: =IF([10]COMMENTAIRES!$F55="","",[10]COMMENTAIRES!$F55) | L56: =IF([11]COMMENTAIRES!$F55="","",[11]COMMENTAIRES!$F55) | M56: =IF([12]COMMENTAIRES!$F55="","",[12]COMMENTAIRES!$F55)
A57: Autres indicateurs | B57: =IF([2]COMMENTAIRES!$F56="","",[2]COMMENTAIRES!$F56) | C57: =IF([1]COMMENTAIRES!$F56="","",[1]COMMENTAIRES!$F56) | D57: =IF([3]COMMENTAIRES!$F56="","",[3]COMMENTAIRES!$F56) | E57: =IF([4]COMMENTAIRES!$F56="","",[4]COMMENTAIRES!$F56) | F57: =IF([5]COMMENTAIRES!$F56="","",[5]COMMENTAIRES!$F56) | G57: =IF([6]COMMENTAIRES!$F56="","",[6]COMMENTAIRES!$F56) | H57: =IF([7]COMMENTAIRES!$F56="","",[7]COMMENTAIRES!$F56) | I57: =IF([8]COMMENTAIRES!$F56="","",[8]COMMENTAIRES!$F56) | J57: =IF([9]COMMENTAIRES!$F56="","",[9]COMMENTAIRES!$F56) | K57: =IF([10]COMMENTAIRES!$F56="","",[10]COMMENTAIRES!$F56) | L57: =IF([11]COMMENTAIRES!$F56="","",[11]COMMENTAIRES!$F56) | M57: =IF([12]COMMENTAIRES!$F56="","",[12]COMMENTAIRES!$F56)
A58: H. opérationnelles / présence réelle | B58: =IF([2]COMMENTAIRES!$F57="","",[2]COMMENTAIRES!$F57) | C58: =IF([1]COMMENTAIRES!$F57="","",[1]COMMENTAIRES!$F57) -> impact de la formation ??? | D58: =IF([3]COMMENTAIRES!$F57="","",[3]COMMENTAIRES!$F57) | E58: =IF([4]COMMENTAIRES!$F57="","",[4]COMMENTAIRES!$F57) | F58: =IF([5]COMMENTAIRES!$F57="","",[5]COMMENTAIRES!$F57) | G58: =IF([6]COMMENTAIRES!$F57="","",[6]COMMENTAIRES!$F57) | H58: =IF([7]COMMENTAIRES!$F57="","",[7]COMMENTAIRES!$F57) | I58: =IF([8]COMMENTAIRES!$F57="","",[8]COMMENTAIRES!$F57) | J58: =IF([9]COMMENTAIRES!$F57="","",[9]COMMENTAIRES!$F57) | K58: =IF([10]COMMENTAIRES!$F57="","",[10]COMMENTAIRES!$F57) | L58: =IF([11]COMMENTAIRES!$F57="","",[11]COMMENTAIRES!$F57) | M58: =IF([12]COMMENTAIRES!$F57="","",[12]COMMENTAIRES!$F57)
A59: H. opérationnelles / Heures payées | B59: =IF([2]COMMENTAIRES!$F58="","",[2]COMMENTAIRES!$F58) | C59: =IF([1]COMMENTAIRES!$F58="","",[1]COMMENTAIRES!$F58) | D59: =IF([3]COMMENTAIRES!$F58="","",[3]COMMENTAIRES!$F58) | E59: =IF([4]COMMENTAIRES!$F58="","",[4]COMMENTAIRES!$F58) | F59: =IF([5]COMMENTAIRES!$F58="","",[5]COMMENTAIRES!$F58) | G59: =IF([6]COMMENTAIRES!$F58="","",[6]COMMENTAIRES!$F58) | H59: =IF([7]COMMENTAIRES!$F58="","",[7]COMMENTAIRES!$F58) | I59: =IF([8]COMMENTAIRES!$F58="","",[8]COMMENTAIRES!$F58) | J59: =IF([9]COMMENTAIRES!$F58="","",[9]COMMENTAIRES!$F58) | K59: =IF([10]COMMENTAIRES!$F58="","",[10]COMMENTAIRES!$F58) | L59: =IF([11]COMMENTAIRES!$F58="","",[11]COMMENTAIRES!$F58) | M59: =IF([12]COMMENTAIRES!$F58="","",[12]COMMENTAIRES!$F58)
A60: H. opérationnelles + WT / présence réelle | B60: =IF([2]COMMENTAIRES!$F59="","",[2]COMMENTAIRES!$F59) | C60: =IF([1]COMMENTAIRES!$F59="","",[1]COMMENTAIRES!$F59) | D60: =IF([3]COMMENTAIRES!$F59="","",[3]COMMENTAIRES!$F59) | E60: =IF([4]COMMENTAIRES!$F59="","",[4]COMMENTAIRES!$F59) | F60: =IF([5]COMMENTAIRES!$F59="","",[5]COMMENTAIRES!$F59) | G60: =IF([6]COMMENTAIRES!$F59="","",[6]COMMENTAIRES!$F59) | H60: =IF([7]COMMENTAIRES!$F59="","",[7]COMMENTAIRES!$F59) | I60: =IF([8]COMMENTAIRES!$F59="","",[8]COMMENTAIRES!$F59) | J60: =IF([9]COMMENTAIRES!$F59="","",[9]COMMENTAIRES!$F59) | K60: =IF([10]COMMENTAIRES!$F59="","",[10]COMMENTAIRES!$F59) | L60: =IF([11]COMMENTAIRES!$F59="","",[11]COMMENTAIRES!$F59) | M60: =IF([12]COMMENTAIRES!$F59="","",[12]COMMENTAIRES!$F59)
A61: H. opérationnelles + WT / Heures payées | B61: =IF([2]COMMENTAIRES!$F60="","",[2]COMMENTAIRES!$F60) | C61: =IF([1]COMMENTAIRES!$F60="","",[1]COMMENTAIRES!$F60) | D61: =IF([3]COMMENTAIRES!$F60="","",[3]COMMENTAIRES!$F60) | E61: =IF([4]COMMENTAIRES!$F60="","",[4]COMMENTAIRES!$F60) | F61: =IF([5]COMMENTAIRES!$F60="","",[5]COMMENTAIRES!$F60) | G61: =IF([6]COMMENTAIRES!$F60="","",[6]COMMENTAIRES!$F60) | H61: =IF([7]COMMENTAIRES!$F60="","",[7]COMMENTAIRES!$F60) | I61: =IF([8]COMMENTAIRES!$F60="","",[8]COMMENTAIRES!$F60) | J61: =IF([9]COMMENTAIRES!$F60="","",[9]COMMENTAIRES!$F60) | K61: =IF([10]COMMENTAIRES!$F60="","",[10]COMMENTAIRES!$F60) | L61: =IF([11]COMMENTAIRES!$F60="","",[11]COMMENTAIRES!$F60) | M61: =IF([12]COMMENTAIRES!$F60="","",[12]COMMENTAIRES!$F60)
B62: =IF([2]COMMENTAIRES!$F61="","",[2]COMMENTAIRES!$F61) | C62: =IF([1]COMMENTAIRES!$F61="","",[1]COMMENTAIRES!$F61) | D62: =IF([3]COMMENTAIRES!$F61="","",[3]COMMENTAIRES!$F61) | E62: =IF([4]COMMENTAIRES!$F61="","",[4]COMMENTAIRES!$F61) | F62: =IF([5]COMMENTAIRES!$F61="","",[5]COMMENTAIRES!$F61) | G62: =IF([6]COMMENTAIRES!$F61="","",[6]COMMENTAIRES!$F61) | H62: =IF([7]COMMENTAIRES!$F61="","",[7]COMMENTAIRES!$F61) | I62: =IF([8]COMMENTAIRES!$F61="","",[8]COMMENTAIRES!$F61) | J62: =IF([9]COMMENTAIRES!$F61="","",[9]COMMENTAIRES!$F61) | K62: =IF([10]COMMENTAIRES!$F61="","",[10]COMMENTAIRES!$F61) | L62: =IF([11]COMMENTAIRES!$F61="","",[11]COMMENTAIRES!$F61) | M62: =IF([12]COMMENTAIRES!$F61="","",[12]COMMENTAIRES!$F61)
A63: Indicateurs Balanced Score Card | B63: =IF([2]COMMENTAIRES!$F62="","",[2]COMMENTAIRES!$F62) | C63: =IF([1]COMMENTAIRES!$F62="","",[1]COMMENTAIRES!$F62) | D63: =IF([3]COMMENTAIRES!$F62="","",[3]COMMENTAIRES!$F62) | E63: =IF([4]COMMENTAIRES!$F62="","",[4]COMMENTAIRES!$F62) | F63: =IF([5]COMMENTAIRES!$F62="","",[5]COMMENTAIRES!$F62) | G63: =IF([6]COMMENTAIRES!$F62="","",[6]COMMENTAIRES!$F62) | H63: =IF([7]COMMENTAIRES!$F62="","",[7]COMMENTAIRES!$F62) | I63: =IF([8]COMMENTAIRES!$F62="","",[8]COMMENTAIRES!$F62) | J63: =IF([9]COMMENTAIRES!$F62="","",[9]COMMENTAIRES!$F62) | K63: =IF([10]COMMENTAIRES!$F62="","",[10]COMMENTAIRES!$F62) | L63: =IF([11]COMMENTAIRES!$F62="","",[11]COMMENTAIRES!$F62) | M63: =IF([12]COMMENTAIRES!$F62="","",[12]COMMENTAIRES!$F62)
A64: 7.12 Productive and unproductive journey time to total hours | B64: =IF([2]COMMENTAIRES!$F63="","",[2]COMMENTAIRES!$F63) | C64: =IF([1]COMMENTAIRES!$F63="","",[1]COMMENTAIRES!$F63) | D64: =IF([3]COMMENTAIRES!$F63="","",[3]COMMENTAIRES!$F63) | E64: =IF([4]COMMENTAIRES!$F63="","",[4]COMMENTAIRES!$F63) | F64: =IF([5]COMMENTAIRES!$F63="","",[5]COMMENTAIRES!$F63) | G64: =IF([6]COMMENTAIRES!$F63="","",[6]COMMENTAIRES!$F63) | H64: =IF([7]COMMENTAIRES!$F63="","",[7]COMMENTAIRES!$F63) | I64: =IF([8]COMMENTAIRES!$F63="","",[8]COMMENTAIRES!$F63) | J64: =IF([9]COMMENTAIRES!$F63="","",[9]COMMENTAIRES!$F63) | K64: =IF([10]COMMENTAIRES!$F63="","",[10]COMMENTAIRES!$F63) | L64: =IF([11]COMMENTAIRES!$F63="","",[11]COMMENTAIRES!$F63) | M64: =IF([12]COMMENTAIRES!$F63="","",[12]COMMENTAIRES!$F63)
A65: 7.13 Unproductive hours to total hours (excluding journey time) | B65: =IF([2]COMMENTAIRES!$F64="","",[2]COMMENTAIRES!$F64) | C65: =IF([1]COMMENTAIRES!$F64="","",[1]COMMENTAIRES!$F64) | D65: =IF([3]COMMENTAIRES!$F64="","",[3]COMMENTAIRES!$F64) | E65: =IF([4]COMMENTAIRES!$F64="","",[4]COMMENTAIRES!$F64) | F65: =IF([5]COMMENTAIRES!$F64="","",[5]COMMENTAIRES!$F64) | G65: =IF([6]COMMENTAIRES!$F64="","",[6]COMMENTAIRES!$F64) | H65: =IF([7]COMMENTAIRES!$F64="","",[7]COMMENTAIRES!$F64) | I65: =IF([8]COMMENTAIRES!$F64="","",[8]COMMENTAIRES!$F64) | J65: =IF([9]COMMENTAIRES!$F64="","",[9]COMMENTAIRES!$F64) | K65: =IF([10]COMMENTAIRES!$F64="","",[10]COMMENTAIRES!$F64) | L65: =IF([11]COMMENTAIRES!$F64="","",[11]COMMENTAIRES!$F64) | M65: =IF([12]COMMENTAIRES!$F64="","",[12]COMMENTAIRES!$F64)
